{"text_format":"3","workbook":"xlsx","n_sheets":401,"sheets":["Recap Sheet","Chicken","Beef","Turkey","Pork","Fish","Pizza","Pizza ","Sheet19","Sheet21","Sheet22","Sheet23","Sheet24","Sheet25","Sheet26","Sheet27","Sheet111","Sheet112","Sheet113","Sheet114","Sheet115","Sheet116","Sheet117","Sheet125","Sheet126","Sheet127","Sheet128","Sheet129","Sheet130","Sheet131","Sheet132","Sheet133","Sheet134","Sheet135","Sheet136","Sheet137","Sheet138","Sheet139","Sheet140","Sheet141","Sheet142","Sheet143","Sheet144","Sheet145","Sheet146","Sheet147","Sheet148","Sheet149","Sheet150","Sheet151","Sheet152","Sheet153","Sheet154","Sheet155","Sheet156","Sheet157","Sheet158","Sheet159","Sheet160","Sheet161","Sheet162","Sheet163","Sheet164","Sheet165","Sheet166","Sheet167","Sheet168","Sheet169","Sheet170","Sheet171","Sheet172","Sheet173","Sheet174","Sheet175","Sheet176","Sheet177","Sheet178","Sheet179","Sheet180","Sheet181","Sheet182","Sheet183","Sheet184","Sheet185","Sheet186","Sheet187","Sheet188","Sheet189","Sheet190","Sheet191","Sheet192","Sheet193","Sheet194","Sheet195","Sheet196","Sheet197","Sheet198","Sheet199","Sheet200","Sheet201","Sheet202","Sheet203","Sheet204","Sheet205","Sheet206","Sheet207","Sheet208","Sheet209","Sheet210","Sheet211","Sheet212","Sheet213","Sheet214","Sheet215","Sheet216","Sheet217","Sheet218","Sheet219","Sheet220","Sheet221","Sheet222","Sheet223","Sheet224","Sheet225","Sheet226","Sheet227","Sheet228","Sheet229","Sheet230","Sheet231","Sheet232","Sheet233","Sheet234","Sheet235","Sheet236","Sheet237","Sheet238","Sheet239","Sheet240","Sheet241","Sheet242","Sheet243","Sheet244","Sheet245","Sheet246","Sheet247","Sheet248","Sheet249","Sheet250","Sheet251","Sheet252","Sheet253","Sheet254","Sheet255","Sheet256","Sheet257","Sheet258","Sheet259","Sheet260","Sheet261","Sheet262","Sheet263","Sheet264","Sheet265","Sheet266","Sheet267","Sheet268","Sheet269","Sheet270","Sheet271","Sheet272","Sheet273","Sheet274","Sheet275","Sheet276","Sheet277","Sheet278","Sheet279","Sheet280","Sheet281","Sheet282","Sheet283","Sheet284","Sheet285","Sheet286","Sheet287","Sheet288","Sheet289","Sheet290","Sheet291","Sheet292","Sheet293","Sheet294","Sheet295","Sheet296","Sheet297","Sheet298","Sheet299","Sheet300","Sheet301","Sheet302","Sheet303","Sheet304","Sheet305","Sheet306","Sheet307","Sheet308","Sheet309","Sheet310","Sheet311","Sheet312","Sheet313","Sheet314","Sheet315","Sheet316","Sheet317","Sheet318","Sheet319","Sheet320","Sheet321","Sheet322","Sheet323","Sheet324","Sheet325","Sheet326","Sheet327","Sheet328","Sheet329","Sheet330","Sheet331","Sheet332","Sheet333","Sheet334","Sheet335","Sheet336","Sheet337","Sheet338","Sheet339","Sheet340","Sheet341","Sheet342","Sheet343","Sheet344","Sheet345","Sheet346","Sheet347","Sheet348","Sheet349","Sheet350","Sheet351","Sheet352","Sheet353","Sheet354","Sheet355","Sheet356","Sheet357","Sheet358","Sheet359","Sheet360","Sheet361","Sheet362","Sheet363","Sheet364","Sheet365","Sheet366","Sheet367","Sheet368","Sheet369","Sheet370","Sheet371","Sheet372","Sheet373","Sheet374","Sheet375","Sheet376","Sheet377","Sheet378","Sheet379","Sheet380","Sheet381","Sheet382","Sheet383","Sheet384","Sheet385","Sheet386","Sheet387","Sheet388","Sheet28","Sheet29","Sheet30","Sheet31","Sheet32","Sheet33","Sheet34","Sheet35","Sheet36","Sheet37","Sheet389","Sheet38","Sheet39","Sheet40","Sheet41","Sheet42","Sheet43","Sheet44","Sheet45","Sheet46","Sheet47","Sheet48","Sheet49","Sheet50","Sheet51","Sheet52","Sheet53","Sheet54","Sheet55","Sheet56","Sheet57","Frozen Entrees","Franks & Corn Dogs","Dairy & Egg","Frozen Potato ","Sheet58","Sheet59","Sheet60","Sheet61","Sheet62","Sheet63","Sheet64","Sheet65","Sheet66","Sheet67","Sheet68","Sheet69","Sheet70","Sheet71","Sheet72","Sheet73","Sheet74","Sheet75","Sheet76","Sheet77","Sheet78","Sheet79","Sheet80","Sheet81","Sheet82","Sheet83","Sheet84","Sheet85","Sheet86","Sheet87","Sheet88","Sheet89","Sheet90","Sheet91","Sheet92","Sheet93","Sheet94","Sheet95","Sheet96","Sheet97","Sheet98","Sheet99","Sheet100","Sheet101","Sheet102","Sheet103","Sheet104","Sheet105","Sheet106","Sheet107","Sheet108","Sheet9","Sheet10","Sheet11","Sheet12","Sheet7","Sheet8","Sheet2","Sheet3","Sheet4","Sheet5","Sheet6","Frozen Fruit & Juice","Shelf-stable Fruit& Juice","Frozen Vegetables","Breakfast Products","Sheet109","Shelf-stable Vegetables","Groceries","Beverages","Spices- Flavorings","Condiments Portion Control","Smart Snacks","Bread Products, Frozen","Special Diet Foods","Disposables","Chemicals","Sheet110","Sheet1"],"not_rendered":{"defined_names":27,"comments":1},"read":"whole","date_system":"1900"}

{"sheet":"Recap Sheet","index":0,"n_rows":31,"n_cols":2,"rows_kept":31,"merged":[[4,0,4,1]]}
["South Carolina School Food Service Purchasing Alliance, Inc"]
["School Food Authority:","WILLIAMSBURG COUNTY SCHOOLS"]
["Offeror Name:"]
["Firm Fixed Fee",{"v":0,"d":"$0.00"}]
["Bid Recap"]
["Categories","Subtotals"]
["Beef",{"$f":"Beef!L100","v":{"v":30144.53,"d":"$30,144.53"}}]
["Chicken",{"$f":"Chicken!L255","v":{"v":34398.47,"d":"$34,398.47"}}]
["Turkey",{"$f":"Turkey!L60","v":{"v":11008.199999999999,"d":"$11,008.20"}}]
["Pork",{"$f":"Pork!L50","v":{"v":21587.32,"d":"$21,587.32"}}]
["Fish",{"$f":"Fish!L49","v":{"v":4790.8,"d":"$4,790.80"}}]
["Pizza",{"$f":"'Pizza '!L163","v":{"v":14265.26,"d":"$14,265.26"}}]
["Frozen Entrees",{"$f":"'Frozen Entrees'!L105","v":0}]
["Franks & Corn Dogs",{"$f":"'Franks & Corn Dogs'!L55","v":{"v":15330.1,"d":"$15,330.10"}}]
["Dairy & Egg",{"$f":"'Dairy & Egg'!L151","v":{"v":15063.639999999998,"d":"$15,063.64"}}]
["Frozen Potato ",{"$f":"'Frozen Potato '!L94","v":{"v":26082.08,"d":"$26,082.08"}}]
["Frozen Fruit & Juice",{"$f":"'Frozen Fruit & Juice'!L110","v":{"v":33810.380000000005,"d":"$33,810.38"}}]
["Shelf-stable Fruit& Juice",{"$f":"'Shelf-stable Fruit& Juice'!L104","v":{"v":567,"d":"$567.00"}}]
["Frozen Vegetables",{"$f":"'Frozen Vegetables'!L67","v":0}]
["Shelf-stable Vegetables",{"$f":"'Shelf-stable Vegetables'!L120","v":{"v":10125.399999999998,"d":"$10,125.40"}}]
["Breakfast Products",{"$f":"'Breakfast Products'!L271","v":{"v":2070.8,"d":"$2,070.80"}}]
["Groceries",{"$f":"Groceries!L224","v":0}]
["Beverages",{"$f":"Beverages!L64","v":0}]
["Spices- Flavorings",{"$f":"'Spices- Flavorings'!L144","v":0}]
["Condiments Portion Control",{"$f":"'Condiments Portion Control'!L130","v":0}]
["Smart Snacks",{"$f":"'Smart Snacks'!L141","v":0}]
["Special Diet Foods",{"$f":"'Special Diet Foods'!L61","v":0}]
["Bread Products, Frozen",{"$f":"'Bread Products, Frozen'!L30","v":0}]
["Chemicals",{"$f":"Chemicals!L15","v":0}]
["Disposables",{"$f":"Disposables!L221","v":0}]
["Lot A Total",{"$f":"SUM(B7:B30)","v":{"v":219243.97999999995,"d":"$219,243.98"}}]

{"sheet":"Chicken","index":1,"n_rows":255,"n_cols":20,"rows_kept":255,"merged":[[0,4,0,12],[1,4,1,12],[2,5,2,9]]}
[null,{"$f":"'Recap Sheet'!A2","v":"School Food Authority:"},null,null,{"$f":"'Recap Sheet'!A3","v":"Offeror Name:"}]
[null,{"$f":"'Recap Sheet'!B2","v":"WILLIAMSBURG COUNTY SCHOOLS"},"Return to Recap Sheet",null,{"$f":"'Recap Sheet'!B3","v":{"v":0,"d":"0 "}},{"$nulls":9}," ","Commodity"]
["Item","Description","Approved Brand Name / Manuf ID # ",null,null,"Firm Fixed Fee",{"$nulls":4},{"$f":"'Recap Sheet'!B4","v":{"v":0,"d":"$0.00"}},"o provide ",null,"Processing","Commodity","Pounds of",null,"NOI ","Net NOI","Total Cost"]
["#",null,null,"Distributor","Vendor","Svgs","Est.","Bid ","Bid","Unit","Unit Price","Total ","Cost per","Fee for","Value Per","DF Needed","Commodity","Net","Cost Per","Price Fee"]
[{"$nulls":3},"Code","Pack","per unit","Bid Qty","Qty","Unit","Price","plus Fee","Price","Unit","Service","Pound","Per Case","Value ","Price","Serving","For Service"]
[null," Chicken, Whole Muscle (Muscle Intact)",{"$nulls":12},"Chicken, Large 100103 "]
[1,"Chicken Fillet, Breaded, chicken breast meat only.                ","Gold Kist 7516",null,"120/4.0z",120,0,{"$f":"ROUND(G7*F7/F7,2)","v":0},"Cs",{"v":89.83,"d":"$89.83"},{"$f":"IF(OR(ISBLANK(J7),G7=0,ISBLANK(G7)),,ROUND(J7+$K$3,2))","v":0},{"$f":"ROUND(H7*K7,2)","v":0},{"$f":"ROUND(K7/F7,2)","v":0},{"v":67.65,"d":"$67.65"},{"v":0.8957,"d":"$0.8957"},24.76,{"$f":"ROUND(O7*P7,2)","v":{"v":22.18,"d":"$22.18"}},{"$f":"K7-Q7","v":{"v":-22.18,"d":"$(22.18)"}},{"$f":"R7/F7","v":{"v":-0.18483333333333332,"d":"$(0.18)"}},{"$f":"N7/F7","v":{"v":0.5637500000000001,"d":"$0.56"}}]
[null,"Solid Whole muscle meat; fully cooked, IQF.   Each portion must provide a",{"$nulls":17}," "]
[null,"minimum to meet 2 M/MA and 1 OEG.  Breading must meet Whole Grain Rich",{"$nulls":17}," "]
[null,"requirements. Batter / breading not to exceed 30% of the weight of the finished",{"$nulls":17}," "]
[null,"product. Sodium must not exceed 580mg per serving. No Egg, No Alternate",{"$nulls":17}," "]
[null,"Protein Product. Domestic birds only.  No bag included."]
[null,"Possible Allergens:  None Listed",{"$nulls":17}," "]
[2,"Chicken Fillet, Breaded, Spicy, chicken breast meat only,                  ","Gold Kist 7517",null,"120/4.0z",120,0,{"$f":"ROUND(G14*F14/F14,2)","v":0},"Cs",{"v":89.83,"d":"$89.83"},{"$f":"IF(OR(ISBLANK(J14),G14=0,ISBLANK(G14)),,ROUND(J14+$K$3,2))","v":0},{"$f":"ROUND(H14*K14,2)","v":0},{"$f":"ROUND(K14/F14,2)","v":0},{"v":67.65,"d":"$67.65"},{"v":0.8957,"d":"$0.8957"},24.76,{"$f":"ROUND(O14*P14,2)","v":{"v":22.18,"d":"$22.18"}},{"$f":"K14-Q14","v":{"v":-22.18,"d":"$(22.18)"}},{"$f":"R14/F14","v":{"v":-0.18483333333333332,"d":"$(0.18)"}},{"$f":"N14/F14","v":{"v":0.5637500000000001,"d":"$0.56"}}]
[null,"Solid Whole muscle meat, fully cooked, IQF.  Each portion must provide a ",{"$nulls":17}," "]
[null,"minimum to meet 2 M/MA and 1 OEG.  Breading must meet Whole Grain Rich ",{"$nulls":17}," "]
[null,"requirements. Batter / breading not to exceed 30% of the weight of the finished ",{"$nulls":17}," "]
[null,"product. Sodium must not exceed 580mg per serving.  No Egg, No Alternate",{"$nulls":17}," "]
[null,"Protein Product.  Domestic Birds only."]
[null,"Possible Allergens: None Listed ",{"$nulls":17}," "]
[3,"Chicken Chunks, breaded, chicken breast with rib meat only;              ","Gold Kist 7518",null,"30 lbs",128,0,{"$f":"ROUND(G21*F21/F21,2)","v":0},"Cs",{"v":89.83,"d":"$89.83"},{"$f":"IF(OR(ISBLANK(J21),G21=0,ISBLANK(G21)),,ROUND(J21+$K$3,2))","v":0},{"$f":"ROUND(H21*K21,2)","v":0},{"$f":"ROUND(K21/F21,2)","v":0},{"v":67.65,"d":"$67.65"},{"v":0.8957,"d":"$0.8957"},24.76,{"$f":"ROUND(O21*P21,2)","v":{"v":22.18,"d":"$22.18"}},{"$f":"K21-Q21","v":{"v":-22.18,"d":"$(22.18)"}},{"$f":"R21/F21","v":{"v":-0.17328125,"d":"$(0.17)"}},{"v":0.528515625,"d":"$0.53"}]
[null,"Solid Whole muscle meat, fully cooked, IQF. Each portion must provide a ",{"$nulls":17}," "]
[null,"minimum to meet 2 M/MA and 1 OEG.  Breading must meet Whole Grain Rich",{"$nulls":17}," "]
[null,"requirements. Batter / breading not to exceed 30% of weightof the finished product. ",{"$nulls":17}," "]
[null,"Sodium must not exceed 580mg per serving. No Egg, No Alternate Protein ",{"$nulls":17}," "]
[null,"Product. Domestic birds only."]
[null,"Possible Allergens:  None Listed",{"$nulls":17}," "]
[4,"Chicken Fillet, Breaded, chicken breast meat only, with bag              ","Gold Kist 7505",null,"10 lbs",40,0,{"$f":"ROUND(G28*F28/F28,2)","v":0},"Cs",{"v":39.5,"d":"$39.50"},{"$f":"IF(OR(ISBLANK(J28),G28=0,ISBLANK(G28)),,ROUND(J28+$K$3,2))","v":0},{"$f":"ROUND(H28*K28,2)","v":0},{"$f":"ROUND(K28/F28,2)","v":0},0,{"v":0,"d":"$0.0000"},0,{"$f":"ROUND(O28*P28,2)","v":{"v":0,"d":"$0.00"}},{"$f":"K28-Q28","v":0},{"$f":"R28/F28","v":0},{"$f":"N28/F28","v":0}]
[null,"Solid Whole muscle meat; fully cooked, IQF.   Each portion must provide a",{"$nulls":17}," "]
[null,"minimum to meet 2 M/MA and 1 OEG.  Breading must meet Whole Grain Rich ",{"$nulls":17}," "]
[null,"requirements. Batter / breading not to exceed 30% of the weight of the finished ",{"$nulls":17}," "]
[null,"product. Sodium must not exceed 580mg per serving. No Egg, No Alternate Protein",{"$nulls":17}," "]
[null,"Product. Domestic birds only.  Foil lined bags included."]
[null,"Possible Allergens:  None Listed",{"$nulls":17}," "]
[5,"Chicken Tenders, Breaded, Chicken Breast Meat Only","Gold Kist/Pilgrims 7572 ",null,"106/4.35z",106,12,{"$f":"ROUND(G35*F35/F35,2)","v":12},"Cs",{"v":72.38,"d":"$72.38"},{"$f":"IF(OR(ISBLANK(J35),G35=0,ISBLANK(G35)),,ROUND(J35+$K$3,2))","v":{"v":72.38,"d":"$72.38"}},{"$f":"ROUND(H35*K35,2)","v":{"v":868.56,"d":"$868.56"}},{"$f":"ROUND(K35/F35,2)","v":{"v":0.68,"d":"$0.68"}},{"v":49.05,"d":"$49.05"},{"v":0.8957,"d":"$0.8957"},26.05,{"$f":"ROUND(O35*P35,2)","v":{"v":23.33,"d":"$23.33"}},{"$f":"K35-Q35","v":{"v":49.05,"d":"$49.05"}},{"$f":"R35/F35","v":{"v":0.46273584905660375,"d":"$0.46"}},{"$f":"N35/F35","v":{"v":0.46273584905660375,"d":"$0.46"}}]
[null,"Solid Whole muscle meat; fully cooked, IQF.   Each portion must provide a","Proview 41-2017",null,"64/4.90z",64,null,{"$f":"ROUND(G35*F35/F36,2)","v":19.88},"Cs"," "," "," "," ",0,{"v":0,"d":"$0.0000"},0,{"$f":"ROUND(O36*P36,2)","v":{"v":0,"d":"$0.00"}},{"$f":"K36-Q36","v":{"$error":"#VALUE!"}},{"$f":"R36/F36","v":{"$error":"#VALUE!"}},{"$f":"N36/F36","v":0}]
[null,"minimum to meet 2 M/MA and 1 OEG.  Breading must meet Whole Grain Rich ",{"$nulls":17}," "]
[null,"requirements. Batter / breading not to exceed 30% of the weight of the finished ",{"$nulls":17}," "]
[null,"product. Sodium must not exceed 580mg per serving. No Egg, No Alternate Protein",{"$nulls":17}," "]
[null,"Product. Domestic birds only"]
[null,"Possible Allergens:  None Listed"]
[6,"Chicken Chunks, Breaded Buffalo Style","Proview 64230WG",null,"20 lbs",75,10,{"$f":"ROUND(G42*F42/F42,2)","v":10},"Cs",{"v":52,"d":"$52.00"},{"$f":"IF(OR(ISBLANK(J42),G42=0,ISBLANK(G42)),,ROUND(J42+$K$3,2))","v":{"v":52,"d":"$52.00"}},{"$f":"ROUND(H42*K42,2)","v":{"v":520,"d":"$520.00"}},{"$f":"ROUND(K42/F42,2)","v":{"v":0.69,"d":"$0.69"}},{"v":0.8722,"d":"$0.8722"},{"v":0.8722,"d":"$0.8722"},33.74,{"$f":"ROUND(O42*P42,2)","v":{"v":29.43,"d":"$29.43"}},{"$f":"K42-Q42","v":{"v":22.57,"d":"$22.57"}},{"$f":"R42/F42","v":{"v":0.30093333333333333,"d":"$0.30"}},{"$f":"S42/G42","v":{"v":0.030093333333333333,"d":"$0.03"}}]
[null,"Fully Cooked, chicken breast with rib meat, APP and egg allowed, in compliance with ",{"$nulls":17}," "]
[null,"Apendix A of 7 CFR Part 210 CN label to provide 2 oz. M/MA and 1.25 OEG, Breading",{"$nulls":17}," "]
[null,"must meet Whole Grain Rich requirements. Batter or breading not to exceed 30%",{"$nulls":17}," "]
[null,"of the weight of the product.  Sodium not to exceed 750mg.",{"$nulls":17}," "]
[null," ",{"$nulls":17}," "]
[]
[7,"Chicken Fillet, Breakfast, Breaded (Savory Flavor with Bags)","Proview 60416WG",null,"20 lbs",211,0,{"$f":"ROUND(G49*F49/F49,2)","v":0},"Cs",{"v":59.8,"d":"$59.80"},{"$f":"IF(OR(ISBLANK(J49),G49=0,ISBLANK(G49)),,ROUND(J49+$K$3,2))","v":0},{"$f":"ROUND(H49*K49,2)","v":0},{"$f":"ROUND(K49/F49,2)","v":0},0,{"v":0,"d":"$0.0000"},0,{"$f":"ROUND(O49*P49,2)","v":{"v":0,"d":"$0.00"}},{"$f":"K49-Q49","v":0},{"$f":"R49/F49","v":0},0]
[null,"Fully cooked, chicken breast with rib meat only, APP an Egg Allowed in compliance",{"$nulls":17}," "]
[null,"with Apendix A of 7 CFR 210 CN label to provide 1.0 oz. M/MA and .5 OEG, Breading",{"$nulls":17}," "]
[null,"must meet Whole Grain Rich requirements. Batter or breading not to exceed 30%",{"$nulls":17}," "]
[null,"product. Sodium must not exceed 300 mg per serving. ",{"$nulls":17}," "]
[null,"Possible Allergens:  Wheat, Milk and Soy"]
[null,"Chicken, Made with whole muscle white meat pieces, "]
[8,"Chicken Patty","Tyson 70302-928",null,"132/3.75z",132,0,{"$f":"ROUND(G56*F56/F56,2)","v":0},"Cs",{"v":89.01,"d":"$89.01"},{"$f":"IF(OR(ISBLANK(J56),G56=0,ISBLANK(G56)),,ROUND(J56+$K$3,2))","v":0},{"$f":"ROUND(H56*K56,2)","v":0},{"$f":"ROUND(K56/F56,2)","v":0},{"v":58.79,"d":"$58.79"},{"v":0.8957,"d":"$0.8957"},33.74,{"$f":"ROUND(O56*P56,2)","v":{"v":30.22,"d":"$30.22"}},{"$f":"K56-Q56","v":{"v":-30.22,"d":"$(30.22)"}},{"$f":"R56/F56","v":{"v":-0.22893939393939394,"d":"$(0.23)"}},{"v":0.4453787878787879,"d":"$0.45"}]
[null,"Fully Cooked, portioned, CN Labeled. Product is made with whole muscle white ",{"$nulls":17}," "]
[null,"meat chicken pieces. No ground Chicken. Each portion must provide a minimum to",{"$nulls":17}," "]
[null,"meet 2 M/MA and 1 OEG. No ground Chicken. Each portion must provide a ",{"$nulls":17}," "]
[null,"minimum to meet 2 M/MA and 1 OEG. Breading must meet Whole Grain Rich  ",{"$nulls":17}," "]
[null,"requirements. Batter / breading not to exceed 30% of weight of the finished product.",{"$nulls":17},"  "]
[null,"Sodium must not exceed 400mg per serving.  Domestic Birds only",{"$nulls":17}," "]
[9,"Chicken Tender","Proview 63230WG",null,"4/5 lbs",59,0,{"$f":"ROUND(G63*F63/F63,2)","v":0},"Cs",{"v":53,"d":"$53.00"},{"$f":"IF(OR(ISBLANK(J63),G63=0,ISBLANK(G63)),,ROUND(J63+$K$3,2))","v":0},{"$f":"ROUND(H63*K63,2)","v":0},{"$f":"ROUND(K63/F63,2)","v":0},{"v":0.8722,"d":"$0.8722"},{"v":0.8722,"d":"$0.8722"},33.74,{"$f":"ROUND(O63*P63,2)","v":{"v":29.43,"d":"$29.43"}},{"$f":"K63-Q63","v":{"v":-29.43,"d":"$(29.43)"}},{"$f":"R63/F63","v":{"v":-0.4988135593220339,"d":"$(0.50)"}},{"$f":"S63/G63","v":{"$error":"#DIV/0!"}}]
[null,"Fully Cooked, portioned, CN Labeled. Product is made with whole muscle white",{"$nulls":17}," "]
[null,"meat chicken pieces. No ground Chicken. Each portion must provide a minimum",{"$nulls":17}," "]
[null,"to meet 2 M/MA and 1 OEG. Breading must meet Whole Grain Rich requirements",{"$nulls":17}," "]
[null,"Batter / breading not to exceed 30% of weight of the finished product.",{"$nulls":17}," "]
[null,"Sodium must not exceed 400mg per serving.  Domestic Birds only (3 tenders=1 serving)",{"$nulls":17}," "]
[10,"Chicken Bite","Tyson 70362-928",null,"121/3.95z",121,0,{"$f":"ROUND(G69*F69/F69,2)","v":0},"Cs",{"v":86.33,"d":"$86.33"},{"$f":"IF(OR(ISBLANK(J69),G69=0,ISBLANK(G69)),,ROUND(J69+$K$3,2))","v":0},{"$f":"ROUND(H69*K69,2)","v":0},{"$f":"ROUND(K69/F69,2)","v":0},{"v":57,"d":"$57.00"},{"v":0.8957,"d":"$0.8957"},32.74,{"$f":"ROUND(O69*P69,2)","v":{"v":29.33,"d":"$29.33"}},{"$f":"K69-Q69","v":{"v":-29.33,"d":"$(29.33)"}},{"$f":"R69/F69","v":{"v":-0.24239669421487603,"d":"$(0.24)"}},{"$f":"N69/F69","v":{"v":0.47107438016528924,"d":"$0.47"}}]
[null,"Fully Cooked, portioned, CN Labeled. Product is made with whole muscle white",{"$nulls":17}," "]
[null,"meat chicken pieces. No ground Chicken. Each portion must provide a minimum to",{"$nulls":17}," "]
[null,"meet 2 M/MA and 1 OEG. Breading must meet Whole Grain Rich requirements.",{"$nulls":17}," "]
[null,"Batter / breading not to exceed 30% of weightof the finished product.",{"$nulls":17}," "]
[null,"Sodium must not exceed 400mg per serving.  Domestic Birds only",{"$nulls":17}," "]
[null,"Chicken, chopped and formed"]
[11,"Chicken Patty, Breakfast, Breaded.                                                   ","Gold Kist   633100",null,"20Lb",192,80,{"$f":"ROUND(G76*F76/F76,2)","v":80},"Cs"," "," "," "," ",0,{"v":0,"d":"$0.0000"},0,{"$f":"ROUND(O76*P76,2)","v":{"v":0,"d":"$0.00"}},{"$f":"K76-Q76","v":{"$error":"#VALUE!"}},{"$f":"R76/F76","v":{"$error":"#VALUE!"}},0]
[null,"Fully cooked. Chicken breast with rib meat only; chopped and formed; alternate","King's Delight  66206",null,"20Lb",213,null,{"$f":"ROUND(G76*F76/F77,2)","v":72.11},"Cs",{"v":35,"d":"$35.00"},{"$f":"IF(OR(ISBLANK(J77),G76=0,ISBLANK(G76)),,ROUND(J77+$K$3,2))","v":{"v":35,"d":"$35.00"}},{"$f":"ROUND(H77*K77,2)","v":{"v":2523.85,"d":"$2,523.85"}},{"$f":"ROUND(K77/F77,2)","v":{"v":0.16,"d":"$0.16"}},{"v":0.8722,"d":"$0.8722"},{"v":0.8722,"d":"$0.8722"},32.74,{"$f":"ROUND(O77*P77,2)","v":{"v":28.56,"d":"$28.56"}},{"$f":"K77-Q77","v":{"v":6.440000000000001,"d":"$6.44"}},{"$f":"R77/F77","v":{"v":0.030234741784037563,"d":"$0.03"}},{"$error":"#DIV/0!"}]
[null,"protein product and egg allowed, in compliance with Appendix A of 7 CFR","Rich Chicks 54411",null,"20Lb",214,null,{"$f":"ROUND(G76*F76/F78,2)","v":71.78},"Cs"," "," "," "," ",{"v":40.73,"d":"$40.73"},{"v":0.8957,"d":"$0.8957"},14.59,{"v":13.07,"d":"$13.07"},{"v":40.73,"d":"$40.73"},{"$f":"R78/F78","v":{"v":0.1903271028037383,"d":"$0.19"}},{"v":0.1903271028037383,"d":"$0.19"}]
[null,"Part 210.  CN label to provide 1 oz M/MA, and no more than 1 OEG. Breading","Rich Chicks Commodity#54411",{"$nulls":16}," "]
[null,"must meet Whole Grain Rich requirements. Batter or breading not to exceed 30%",{"$nulls":17}," "]
[null,"of the weight of the product.  Sodium not to exceed 200mg.",{"$nulls":17},"  "]
[null,"The label must specify the minimum number of pieces or portions per case.",{"$nulls":17}," "]
[12,"Chicken Patty, Breaded     ","(16-17) Gold Kist 663100",null,"20 Lb",104,300,null,"Cs",{"v":32.1,"d":"$32.10"},{"$f":"IF(OR(ISBLANK(J83),G83=0,ISBLANK(G83)),,ROUND(J83+$K$3,2))","v":{"v":32.1,"d":"$32.10"}},{"$f":"ROUND(H83*K83,2)","v":0},{"$f":"ROUND(K83/F83,2)","v":{"v":0.31,"d":"$0.31"}},0,{"v":0,"d":"$0.0000"},0,{"$f":"ROUND(O83*P83,2)","v":{"v":0,"d":"$0.00"}},{"$f":"K83-Q83","v":{"v":32.1,"d":"$32.10"}},{"$f":"R83/F83","v":{"v":0.30865384615384617,"d":"$0.31"}},0]
[null,"Fully cooked, Chicken breast with rib meat only; chopped and formed; alternate",{"$nulls":17},"  "]
[null,"protein product and egg allowed, in compliance with Appendix A of 7 CFR Part 210.",{"$nulls":17}," "]
[null,"CN label to provide 2 oz M/MA and a not more than 1 OEG. Breading must meet",{"$nulls":17}," "]
[null,"Whole Grain Rich requirements. One serving to contain no more  than 60% of total",{"$nulls":17}," "]
[null,"calories from fat; saturated fat  not to exceed 15% of calories from saturated fat per",{"$nulls":17}," "]
[null,"serving. Batter or breading not to exceed 30% of the weight of the finished product. ",{"$nulls":17}," "]
[null,"Sodium not to exceed 400 mg.",{"$nulls":17}," "]
[null,"The label must specify the minimum number of pieces or portions per case.  ",{"$nulls":17}," "]
[13,"Chicken Patty, Breaded, Spicy","Tyson  70312-928",null,"132/3.75z",132,15,{"$f":"ROUND(G92*F92/F92,2)","v":15},"Cs"," "," "," "," ",{"v":61.8,"d":"$61.80"},{"v":0.8957,"d":"$0.8957"},33.74,{"$f":"ROUND(O92*P92,2)","v":{"v":30.22,"d":"$30.22"}},{"v":61.8,"d":"$61.80"},{"$f":"R92/F92","v":{"v":0.46818181818181814,"d":"$0.47"}},{"v":0.46818181818181814,"d":"$0.47"}]
[null,"Fully cooked, Chicken breast with rib meat only; chopped and formed; alternate","King's Delight 66214",null,"20Lb",114,null,{"$f":"ROUND(G92*F92/F93,2)","v":17.37},"Cs",{"v":33.8,"d":"$33.80"},{"$f":"IF(OR(ISBLANK(J93),G92=0,ISBLANK(G92)),,ROUND(J93+$K$3,2))","v":{"v":33.8,"d":"$33.80"}},{"$f":"ROUND(H93*K93,2)","v":{"v":587.11,"d":"$587.11"}},{"$f":"ROUND(K93/F93,2)","v":{"v":0.3,"d":"$0.30"}}]
[null,"protein product and egg allowed, in compliance with Appendix A of 7 CFR Part 210.",{"$nulls":17}," "]
[null,"CN label to provide 2 oz M/MA and a not more than 1 OEG. (Spicy) Breading must",{"$nulls":17},"  "]
[null,"meet Whole Grain Rich requirements. One serving to contain no more  than 60% of",{"$nulls":17}," "]
[null,"total calories from fat; saturated fat  not to exceed 15% of calories from saturated fat",{"$nulls":17},"  "]
[null,"per serving. Batter or breading not to exceed 30% of the weight of the finished",{"$nulls":17}," "]
[null,"product. Sodium not to exceed 480mg.",{"$nulls":17},"  "]
[null,"The label must specify the minimum number of pieces or portions per case. ",{"$nulls":17}," "]
[14,"Chicken Patty, Grilled,  ","Advance Pierre 9989",null,"100/2.8z",100,40,{"$f":"ROUND(G101*F101/F101,2)","v":40},"Cs"," "," "," "," "," "," "," ","  "," "," "," "]
[null,"Fully cooked. Unbreaded, breast with rib meat,chopped and formed; no alternate"," Proview  55000",null,"64/2.5z",64,null,{"$f":"ROUND(G101*F101/F102,2)","v":62.5},"Cs",{"v":22,"d":"$22.00"},{"$f":"IF(OR(ISBLANK(J102),G101=0,ISBLANK(G101)),,ROUND(J102+$K$3,2))","v":{"v":22,"d":"$22.00"}},{"$f":"ROUND(H102*K102,2)","v":{"v":1375,"d":"$1,375.00"}},{"$f":"ROUND(K102/F102,2)","v":{"v":0.34,"d":"$0.34"}}," "," "," ","  "," "," "," "]
[null,"proteins.  One serving to equal at least 2 oz M/MA for the Child Nutrition Meal",{"$nulls":17}," "]
[null,"Pattern Requirements. Sodium not to exceed 480 mg.   1 serving to contain no ",{"$nulls":17}," "]
[null,"more than  30% of the calories from total fat, >10% total calories from saturated fat.",{"$nulls":17}," "]
[15,"Chicken Nugget, Breaded            ","Gold Kist  613100",null,"20lb",104,155,{"$f":"ROUND(G106*F106/F106,2)","v":155},"Cs",null," ","  "," ",null,{"v":0,"d":"$0.0000"},0,{"$f":"ROUND(O106*P106,2)","v":{"v":0,"d":"$0.00"}},{"$f":"K106-Q106","v":{"$error":"#VALUE!"}},{"$f":"R106/F106","v":{"$error":"#VALUE!"}},{"$f":"N106/F106","v":0}]
[null,"Fully Cooked.  Chopped and formed; chicken breast with rib meat only;  alternate","Proview 40015-WG",null,"20Lb",106,null,{"$f":"ROUND(G106*F106/F107,2)","v":152.08},"Cs",{"v":28.2,"d":"$28.20"},{"$f":"IF(OR(ISBLANK(J107),G106=0,ISBLANK(G106)),,ROUND(J107+$K$3,2))","v":{"v":28.2,"d":"$28.20"}},{"$f":"ROUND(H107*K107,2)","v":{"v":4288.66,"d":"$4,288.66"}},{"$f":"ROUND(K107/F107,2)","v":{"v":0.27,"d":"$0.27"}},0,{"v":0.8722,"d":"$0.8722"},29.43,{"$f":"ROUND(O107*P107,2)","v":{"v":25.67,"d":"$25.67"}},{"$f":"K107-Q107","v":{"v":2.5299999999999976,"d":"$2.53"}},{"$f":"R107/F107","v":{"v":0.023867924528301863,"d":"$0.02"}},0]
[null,"protein product and egg allowed, in compliance with Appendix A of 7 CFR Part 210.  ","Rich Chicks 54410",null,"20Lb",107,null,{"$f":"ROUND(G106*F106/F108,2)","v":150.65},"Cs",null," "," "," ",{"v":40.73,"d":"$40.73"},{"v":0.8957,"d":"$0.8957"},14.59,{"$f":"ROUND(O108*P108,2)","v":{"v":13.07,"d":"$13.07"}},{"v":40.73,"d":"$40.73"},{"$f":"R108/F108","v":{"v":0.3806542056074766,"d":"$0.38"}},{"v":0.3806542056074766,"d":"$0.38"}]
[null,"One serving to contain no more than 54% of total calories from fat; saturated fat not","Commodity #54410 ",{"$nulls":16}," "]
[null," to exceed 15% of calories per serving. Sodium not to exceed 480 mg per serving.",{"$nulls":17}," "]
[null,"Batter or breading not to exceed 30% of the weight of the finished product.  ",{"$nulls":17}," "]
[null,"The label must specify the minimum number of pieces to meet the portion size",{"$nulls":17}," "]
[{"$nulls":19}," "]
[16,"Chicken Rings, Breaded                 ","Gold Kist  499180",null,"30Lb",136,30,{"$f":"ROUND(G114*F114/F114,2)","v":30},"Cs"," "," "," "," ",{"v":39.15,"d":"$39.15"},{"v":0.8957,"d":"$0.8957"},29.46,{"$f":"ROUND(O114*P114,2)","v":{"v":26.39,"d":"$26.39"}},{"v":39.15,"d":"$39.15"},{"$f":"R114/F114","v":{"v":0.2878676470588235,"d":"$0.29"}},{"v":0.2878676470588235,"d":"$0.29"}]
[null,"Fully Cooked. Chicken breast with rib meat only, chopped and formed; alternate","King's Delight 66205",null,"20Lb",106,null,{"$f":"ROUND(G114*F114/F115,2)","v":38.49},"Cs",{"v":41,"d":"$41.00"},{"$f":"IF(OR(ISBLANK(J115),G114=0,ISBLANK(G114)),,ROUND(J115+$K$3,2))","v":{"v":41,"d":"$41.00"}},{"$f":"ROUND(H115*K115,2)","v":{"v":1578.09,"d":"$1,578.09"}},{"$f":"ROUND(K115/F115,2)","v":{"v":0.39,"d":"$0.39"}},{"v":0.8722,"d":"$0.8722"},{"v":0.8722,"d":"$0.8722"},29.43," ",{"$f":"K115-Q115","v":{"$error":"#VALUE!"}},{"$f":"R115/F115","v":{"$error":"#VALUE!"}},{"$f":"S115/G115","v":{"$error":"#VALUE!"}}]
[null,"protein product and egg allowed,in compliance with Appendix A of 7 CFR Part 210.",null,null," "," ",null," "," "," "," "," "," ",null," "," ","  "," "," "," "]
[null,"CN label to provide 2 oz M/MA and not more than 1.0 OEG. Breading must meet whole ",{"$nulls":17}," "]
[null,"grain rich requirements.  Batter or breading not to exceed 30% of the weight of the product",{"$nulls":17}," "]
[null,"Sodium not to exceed 480 mg.  The label must specify number of portions per case"," ",{"$nulls":16}," "]
[null," ",{"$nulls":17}," "]
[17,"Chicken Tenders, Breaded                 ","King's Delight 66203",null,"20Lb",106,140,{"$f":"ROUND(G121*F121/F121,2)","v":140},"Cs"," "," "," "," ",{"v":0.8722,"d":"$0.8722"},{"v":0.8722,"d":"$0.8722"},29.46," ",{"$f":"K121-Q121","v":{"$error":"#VALUE!"}},{"$f":"R121/F121","v":{"$error":"#VALUE!"}},{"$f":"S121/G121","v":{"$error":"#VALUE!"}}]
[null,"Fully cooked, chicken breast with rib meat only, chopped and formed, APP and egg ","Proview 46015WG",null,"20Lb",106," ",{"$f":"ROUND(G121*F121/F122,2)","v":140},"Cs",{"v":30.4,"d":"$30.40"},{"$f":"IF(OR(ISBLANK(J122),G121=0,ISBLANK(G121)),,ROUND(J122+$K$3,2))","v":{"v":30.4,"d":"$30.40"}},{"$f":"ROUND(H122*K122,2)","v":{"v":4256,"d":"$4,256.00"}},{"$f":"ROUND(K122/F122,2)","v":{"v":0.29,"d":"$0.29"}},{"v":0.8722,"d":"$0.8722"},{"v":0.8722,"d":"$0.8722"},29.46," ",{"$f":"K122-Q122","v":{"$error":"#VALUE!"}},{"$f":"R122/F122","v":{"$error":"#VALUE!"}},{"$f":"S122/G122","v":{"$error":"#VALUE!"}}]
[null,"allowed, in compliance with Apendix A of 7 CFR Part 210 CN label to provide 1 oz. ",{"$nulls":12}," "," ","  "," "," "," "]
[null,"M/MA and 1 OEG, Batter or breading not to exceed 30% of the weight of the product",{"$nulls":17}," "]
[null,"Sodium not ot exceed 480 mg.",{"$nulls":17}," "]
[18,"Chicken, Popcorn Chicken, Breaded ","Proview 43015-WG",null,"20Lb",106,50,{"$f":"ROUND(G126*F126/F126,2)","v":50},"Cs",{"v":30.4,"d":"$30.40"},{"$f":"IF(OR(ISBLANK(J126),G126=0,ISBLANK(G126)),,ROUND(J126+$K$3,2))","v":{"v":30.4,"d":"$30.40"}},{"$f":"ROUND(H126*K126,2)","v":{"v":1520,"d":"$1,520.00"}},{"$f":"ROUND(K126/F126,2)","v":{"v":0.29,"d":"$0.29"}},{"v":0.8722,"d":"$0.8722"},{"v":0.8722,"d":"$0.8722"},29.46,{"$f":"ROUND(O126*P126,2)","v":{"v":25.7,"d":"$25.70"}},{"$f":"K126-Q126","v":{"v":4.699999999999999,"d":"$4.70"}},{"$f":"R126/F126","v":{"v":0.044339622641509424,"d":"$0.04"}},{"$f":"S126/G126","v":{"v":8.8679245283018846E-4,"d":"$0.00"}}]
[null,"Frozen, Fully Cooked; chicken breast with rib meat only chopped and formed; ","Gold Kist 698100",null,"20Lb",103,null,{"$f":"ROUND(G126*F126/F127,2)","v":51.46},"Cs",null," "," "," ",null," "," "," "," "," ",0]
[null,"alternate protein product allowed in compliance with Appendix A of 7 CFR Part 210. CN label to provide 2 oz M/MA and not more than 1 OEG.","Kings Delight 66209",null,"20Lb",112,null,{"$f":"ROUND(G126*F126/F128,2)","v":47.32},"Cs",null,"  "," "," ",{"v":0.8722,"d":"$0.8722"}," "," ","  "," "," ",{"$f":"S128/G128","v":{"$error":"#VALUE!"}}]
[null,"One  serving to contain no more than 3g saturated fat and not more than 400mg sodium.",{"$nulls":17}," "]
[null,"The label must specify the minimum number of pieces or portions per case.",{"$nulls":17}," "]
[null," ",{"$nulls":17}," "]
[null,"Chicken Leg, 100113 Chicken, Dark Meat, Asian Entrée"]
[19,"Teriyaki Chicken, ","Minh's 69018",null,"240/2.80z",240,0,{"$f":"ROUND(G133*F133/F133,2)","v":0},"Cs",{"v":129.65,"d":"$129.65"},{"$f":"IF(OR(ISBLANK(J133),G133=0,ISBLANK(G133)),,ROUND(J133+$K$3,2))","v":0},{"$f":"ROUND(H133*K133,2)","v":0},{"$f":"ROUND(K133/F133,2)","v":0},0,{"v":0.4757,"d":"$0.4757"},43.11,{"$f":"ROUND(O133*P133,2)","v":{"v":20.51,"d":"$20.51"}},{"$f":"K133-Q133","v":{"v":-20.51,"d":"$(20.51)"}},{"$f":"R133/F133","v":{"v":-0.08545833333333334,"d":"$(0.09)"}},0]
[null,"Frozen. Unbreaded, Cooked chicken leg meat, boneless, with Teriyaki sauce. ",{"$nulls":12}," "," "," "," "," "," "]
[null,"No MSG. No Trans Fat. 100-200 calories with no more than 2g ",{"$nulls":12}," "," ","  "," "," "," "]
[null,"saturated fat and 450 mg sodium per serving. One portion to provide min. 2 M/MA. ",{"$nulls":17}," "]
[null,"Possible Allergens:  Soy, Wheat",{"$nulls":4}," ",{"$nulls":12}," "]
[20,"Spicy Chicken, WG","Yang's 15556-2",null,"240/2.40z",240,0,{"$f":"ROUND(G138*F138/F138,2)","v":0},"Cs",{"v":102.8,"d":"$102.80"},{"$f":"IF(OR(ISBLANK(J138),G138=0,ISBLANK(G138)),,ROUND(J138+$K$3,2))","v":0},{"$f":"ROUND(H138*K138,2)","v":0},{"$f":"ROUND(K138/F138,2)","v":0},{"v":80.96,"d":"$80.96"},{"v":0.4757,"d":"$0.4757"},45.92,{"$f":"ROUND(O138*P138,2)","v":{"v":21.84,"d":"$21.84"}},{"$f":"K138-Q138","v":{"v":-21.84,"d":"$(21.84)"}},{"$f":"R138/F138","v":{"v":-0.091,"d":"$(0.09)"}},{"v":0.3373333333333333,"d":"$0.34"}]
[null,"Frozen. Unbreaded dark meat chicken strips in spicy sauce. ",{"$nulls":12}," "," "," "," "," "," "]
[null,"No MSG. No Trans Fat. 100-200 calories with no more than 2 g",{"$nulls":12}," "," ","  "," "," "," "]
[null,"saturated fat and 450 mg sodium per serving. One portion to provide min. 2 M/MA. "]
[null,"Possible Allergens:  Soy, Wheat, and Citrus",{"$nulls":17}," "]
[21,"Citrus Chicken, WG","Yang's 15552-4",null,"192/3.60z",192,0,{"$f":"ROUND(G143*F143/F143,2)","v":0},"Cs",{"v":111.44,"d":"$111.44"},{"$f":"IF(OR(ISBLANK(J143),G143=0,ISBLANK(G143)),,ROUND(J143+$K$3,2))","v":0},{"$f":"ROUND(H143*K143,2)","v":0},{"$f":"ROUND(K143/F143,2)","v":0},{"v":93.34,"d":"$93.34"},{"v":0.4757,"d":"$0.4757"},38.05,{"$f":"ROUND(O143*P143,2)","v":{"v":18.1,"d":"$18.10"}},{"$f":"K143-Q143","v":{"v":-18.1,"d":"$(18.10)"}},{"$f":"R143/F143","v":{"v":-0.09427083333333335,"d":"$(0.09)"}},{"$f":"N143/F143","v":{"v":0.48614583333333333,"d":"$0.49"}}]
[null,"Frozen. Lightly battered or breaded boneless dark meat chicken chunks tossed with",{"$nulls":12}," "," "," "," "," "," "]
[null,"citrus flavored sauce. No MSG. No Trans Fat. 150-250 ",{"$nulls":12}," "," ","  "," "," "," "]
[null,"calories with no more than 2 g saturated fat and 450 mg sodium ",{"$nulls":17}," "]
[null,"per serving. One portion to provide min. 2 M/MA. ",{"$nulls":17}," "]
[null,"Possible Allergens:  Egg, Soy, Wheat, and Citrus",{"$nulls":17}," "]
[22,"Cherry Blossom/Sweet and Sour Chicken, WG","Asian Solutions 72005",null,"42.9 lbs",176,0,{"$f":"ROUND(G149*F149/F149,2)","v":0},"Cs",{"$nulls":4},0,{"v":0.4757,"d":"$0.4757"},34.65,{"$f":"ROUND(O149*P149,2)","v":{"v":16.48,"d":"$16.48"}},0,0,{"$f":"N149/F149","v":0}]
[null,"Frozen. Lightly battered or breaded boneless dark meat chicken chunks tossed with","Chef's Corner  CMDTYWG0116",null,"42 lbs",171,null,{"$f":"ROUND(G149*F149/F150,2)","v":0},"Cs",{"$nulls":4},{"v":80,"d":"$80.00"},{"v":0.4757,"d":"$0.4757"},39.08,{"$f":"ROUND(O150*P150,2)","v":{"v":18.59,"d":"$18.59"}},{"v":80,"d":"$80.00"},{"$f":"R150/F150","v":{"v":0.4678362573099415,"d":"$0.47"}},{"$f":"N150/F150","v":{"v":0.4678362573099415,"d":"$0.47"}}]
[null,"sweet and sour sauce. No MSG. No Trans Fat. 140-250 calories with no more than 2g ","Yang's 155551-7",null,"192/3.60z",192,null,{"$f":"ROUND(G149*F149/F151,2)","v":0},"Cs",{"$nulls":4},0,{"v":0.4757,"d":"$0.4757"},38.05,{"v":18.1,"d":"$18.10"},0,0,0]
[null,"saturated fat and 400 mg sodium per serving.  One serving to provide min. 2.0 oz M/MA","Schwann's 69016",null,"240/2.80z",240,null,{"$f":"ROUND(G149*F149/F152,2)","v":0},"Cs",{"v":136.7,"d":"$136.70"},{"$f":"IF(OR(ISBLANK(J152),G149=0,ISBLANK(G149)),,ROUND(J152+$K$3,2))","v":0},{"$f":"ROUND(H152*K152,2)","v":0},{"$f":"ROUND(K152/F152,2)","v":0},0,{"v":0.4757,"d":"$0.4757"},42.81,{"v":20.36,"d":"$20.36"}," "," ",0]
[null," ",{"$nulls":17}," "]
[null,"Possible Allergens:  Egg, Soy, Wheat, Fish/Anchovy, & Citrus",{"$nulls":17}," "]
[23,"General Tso's Chicken, Breaded, WG","Yang's 15563-0",null,"43.5 lbs",192,20,{"$f":"ROUND(G155*F155/F155,2)","v":20},"Cs",{"v":111.44,"d":"$111.44"},{"$f":"IF(OR(ISBLANK(J155),G155=0,ISBLANK(G155)),,ROUND(J155+$K$3,2))","v":{"v":111.44,"d":"$111.44"}},{"$f":"ROUND(H155*K155,2)","v":{"v":2228.8,"d":"$2,228.80"}},{"$f":"ROUND(K155/F155,2)","v":{"v":0.58,"d":"$0.58"}},{"v":93.34,"d":"$93.34"},{"v":0.4757,"d":"$0.4757"},38.05,{"$f":"ROUND(O155*P155,2)","v":{"v":18.1,"d":"$18.10"}},{"$f":"K155-Q155","v":{"v":93.34,"d":"$93.34"}},{"$f":"R155/F155","v":{"v":0.48614583333333333,"d":"$0.49"}},{"$f":"N155/F155","v":{"v":0.48614583333333333,"d":"$0.49"}}]
[null,"Frozen, Breaded chicken chunks in spicy sauce, NO MSG, 100-200 calories with no ",{"$nulls":12}," "," "," "," "," "," "]
[null,"more than 2 g saturated fat and 450 mg of sodium per serving.  One portion to provide",{"$nulls":12}," "," ","  "," "," "," "]
[null,"2.0 oz. M/MA",{"$nulls":17}," "]
[null," ",{"$nulls":17}," "]
[null,"Possible Allergens:  Egg, Soy, Wheat, and Citrus",{"$nulls":17}," "]
[24,"Thai Sweet Chili Chicken, Unbreaded","Asian Solutions 73004",null,"42.9 lbs",240,0,{"$f":"ROUND(G161*F161/F161,2)","v":0},"Cs",{"v":120.35,"d":"$120.35"},{"$f":"IF(OR(ISBLANK(J161),G161=0,ISBLANK(G161)),,ROUND(J161+$K$3,2))","v":0},{"$f":"ROUND(H161*K161,2)","v":0},{"$f":"ROUND(K161/F161,2)","v":0},{"v":98.48,"d":"$98.48"},{"v":0.4757,"d":"$0.4757"},45.98,{"$f":"ROUND(O161*P161,2)","v":{"v":21.87,"d":"$21.87"}},{"$f":"K161-Q161","v":{"v":-21.87,"d":"$(21.87)"}},{"$f":"R161/F161","v":{"v":-0.091125,"d":"$(0.09)"}},{"$f":"N161/F161","v":{"v":0.4103333333333333,"d":"$0.41"}}]
[null,"Frozen, breaded chicken chunks in sweet and spicy chili sauce, NO MSG, No Trans Fat ",{"$nulls":12}," "," "," "," "," "," "]
[null,"100-200 calories with no more than 2 g saturated fat and 350 mg sodium per serving",{"$nulls":12}," "," ","  "," "," "," "]
[null,"One 2.85 oz. portion to provide 2.0 oz. M/MA ",{"$nulls":17}," "]
[null," ",{"$nulls":17}," "]
[null,"Possible Allergens:  Soy, Wheat",{"$nulls":17}," "]
[25,"Chicken, BBQ Teriyaki","Yang's 15554-8",null,"42 lbs",240,0,{"$f":"ROUND(G167*F167/F167,2)","v":0},"Cs",{"v":102.8,"d":"$102.80"},{"$f":"IF(OR(ISBLANK(J167),G167=0,ISBLANK(G167)),,ROUND(J167+$K$3,2))","v":0},{"$f":"ROUND(H167*K167,2)","v":0},{"$f":"ROUND(K167/F167,2)","v":0},{"v":80.96,"d":"$80.96"},{"v":0.4757,"d":"$0.4757"},45.92,{"$f":"ROUND(O167*P167,2)","v":{"v":21.84,"d":"$21.84"}},{"$f":"K167-Q167","v":{"v":-21.84,"d":"$(21.84)"}},{"$f":"R167/F167","v":{"v":-0.091,"d":"$(0.09)"}},{"v":0.3373333333333333,"d":"$0.34"}]
[null,"Frozen, chicken in sweet teriyaki sauce. No MSG No Trans fat 100-200 calories with no",{"$nulls":12}," "," "," "," "," "," "]
[null,"more than 2 g saturated fat and 500 mg of sodium per serving.  One portion to provide",{"$nulls":12}," "," ","  "," "," "," "]
[null,"min. 2.0 oz. M/MA ",{"$nulls":17}," "]
[null," ",{"$nulls":17}," "]
[null,"Possible Allergens:  Soy, Wheat, and Citrus",{"$nulls":17}," "]
[" ","Other Poultry Products"]
[26,"Chicken Fajita Strips, Breast Meat w/ Grill marks","King's Delight 66196",null,"20Lb",53,0,{"$f":"ROUND(G174*F174/F174,2)","v":0},"Cs",{"v":62.6,"d":"$62.60"},{"$f":"IF(OR(ISBLANK(J174),G174=0,ISBLANK(G174)),,ROUND(J174+$K$3,2))","v":0},{"$f":"ROUND(H174*K174,2)","v":0},{"$f":"ROUND(K174/F174,2)","v":0}]
[null,"Breast with Rib meat.  Fully cooked. ",{"$nulls":17}," "]
[null,"3.02oz serving provides 2oz meat/meat alternate.",{"$nulls":17}," "]
[27,"Chicken Fajita Strips, Unbreaded Dark Meat","Tyson 004621-0928",null,"160/3.0z",160,0,{"$f":"ROUND(G177*F177/F177,2)","v":0},"Cs",{"v":90.26,"d":"$90.26"},{"$f":"IF(OR(ISBLANK(J177),G177=0,ISBLANK(G177)),,ROUND(J177+$K$3,2))","v":0},{"$f":"ROUND(H177*K177,2)","v":0},{"$f":"ROUND(K177/F177,2)","v":0},{"v":49.2,"d":"$49.20"},{"v":0.8957,"d":"$0.8957"},45.84,{"$f":"ROUND(O177*P177,2)","v":{"v":41.06,"d":"$41.06"}},{"$f":"K177-Q177","v":{"v":-41.06,"d":"$(41.06)"}},{"$f":"R177/F177","v":{"v":-0.256625,"d":"$(0.26)"}},{"v":0.3075,"d":"$0.31"}]
[null,"Fully cooked, One serving must provide 2.0 oz M/MA",{"$nulls":17}," "]
[null,"Possible Allergens:  Wheat, Soy, Egg",{"$nulls":17}," "]
[28,"Chicken Fajita Strips, Unbreaded Dark Meat","Gold Kist/Pilgrims 1250",null,"195/2.46z",195,0,{"$f":"ROUND(G180*F180/F180,2)","v":0},"Cs",{"v":81,"d":"$81.00"},{"$f":"IF(OR(ISBLANK(J180),G180=0,ISBLANK(G180)),,ROUND(J180+$K$3,2))","v":0},{"$f":"ROUND(H180*K180,2)","v":0},{"$f":"ROUND(K180/F180,2)","v":0},{"v":48.75,"d":"$48.75"},{"v":0.8957,"d":"$0.8957"},36,{"$f":"ROUND(O180*P180,2)","v":{"v":32.25,"d":"$32.25"}},{"$f":"K180-Q180","v":{"v":-32.25,"d":"$(32.25)"}},{"$f":"R180/F180","v":{"v":-0.16538461538461538,"d":"$(0.17)"}},{"$f":"N180/F180","v":{"v":0.25,"d":"$0.25"}}]
[null,"Fully cooked, One serving must provide 2.0 oz M/MA",{"$nulls":17}," "]
[null,"Possible Allergens:  Wheat, Soy, Egg",{"$nulls":17}," "]
[29,"Chicken Drumsticks, Sous Vous","Perdue 51273",null,"96/2.0z",96,0,{"$f":"ROUND(G183*F183/F183,2)","v":0},"Cs",{"v":67.2,"d":"$67.20"},{"$f":"IF(OR(ISBLANK(J183),G183=0,ISBLANK(G183)),,ROUND(J183+$K$3,2))","v":0},{"$f":"ROUND(H183*K183,2)","v":0},{"$f":"ROUND(K183/F183,2)","v":0}]
[null,"100-200 calories with no more than 3 g saturated fat and 400 mg sodium per serving"," ",{"$nulls":4}," "," "," "," "," "," "," "," ",{"$nulls":4}," "]
[null,"One portion to provide 2.0 oz. M/MA per serving"]
[null,"Possible Allergens:  None Listed",{"$nulls":17}," "]
[30,"Chicken, Drumsticks, Raw","Tyson 990CN",null,"53/4.50 oz.",53,35,{"$f":"ROUND(G187*F187/F187,2)","v":35},"Cs",{"v":25.2,"d":"$25.20"},{"$f":"IF(OR(ISBLANK(J187),G187=0,ISBLANK(G187)),,ROUND(J187+$K$3,2))","v":{"v":25.2,"d":"$25.20"}},{"$f":"ROUND(H187*K187,2)","v":{"v":882,"d":"$882.00"}},{"$f":"ROUND(K187/F187,2)","v":{"v":0.48,"d":"$0.48"}}]
[null,"Must yield 1.5 oz. cooked meat, USDA inspected, Grade A, IQF"," "," ",{"$nulls":3}," "," "," "," "," "," "," ",{"$nulls":5}," "]
[null,"Possible Allergens:  None Listed",{"$nulls":17}," "]
[31,"Chicken Thighs, Raw","Tyson 3783CN",null,"96/4.50z",96,20,{"$f":"ROUND(G190*F190/F190,2)","v":20},"Cs",{"v":29.52,"d":"$29.52"},{"$f":"IF(OR(ISBLANK(J190),G190=0,ISBLANK(G190)),,ROUND(J190+$K$3,2))","v":{"v":29.52,"d":"$29.52"}},{"$f":"ROUND(H190*K190,2)","v":{"v":590.4,"d":"$590.40"}},{"$f":"ROUND(K190/F190,2)","v":{"v":0.31,"d":"$0.31"}}]
[null,"Minimum 4.9 oz must provide a minimum or 2 oz cooked"," ",{"$nulls":4}," "," "," "," "," ","  ",{"$nulls":6}," "]
[null,"meat. USDA inspected.  Grade A, fryer parts, IQF"]
[null,"Possible Allergens:  None Listed",{"$nulls":17}," "]
[32,"Chicken, Eight Cut, Raw","Tyson 3882",null,"96/4.50z",96,180,{"$f":"ROUND(G194*F194/F194,2)","v":180},"Cs",{"v":52.8,"d":"$52.80"},{"$f":"IF(OR(ISBLANK(J194),G194=0,ISBLANK(G194)),,ROUND(J194+$K$3,2))","v":{"v":52.8,"d":"$52.80"}},{"$f":"ROUND(H194*K194,2)","v":{"v":9504,"d":"$9,504.00"}},{"$f":"ROUND(K194/F194,2)","v":{"v":0.55,"d":"$0.55"}}]
[null,"USDA inspected, Grade A fryer parts"," ",{"$nulls":4},"  "," "," "," "," "," ",{"$nulls":6}," "]
[null,"Equal parts of breast, leg, thigh and wings,",{"$nulls":17}," "]
[null,"Minimum 4 oz breast and thigh to meet 2 oz cooked",{"$nulls":17},"  "]
[null,"meat, IQF"]
[null,"Possible Allergens: None Listed",{"$nulls":17}," "]
[33,"Chicken Wings, Buffalo Style","King's Delight 85501",null,"10 lbs",19,{"v":72,"d":"72 "},{"$f":"ROUND(G200*F200/F200,2)","v":72},"Cs"," "," "," "," "]
[null,"Frozen, Fully cooked, First and second wing joint, Marinated and seasoned 275-600 ","Tyson 5210-0928",null,"10 lbs",30,null,{"$f":"ROUND(G200*F200/F201,2)","v":45.6},"Cs",{"v":35,"d":"$35.00"},{"$f":"IF(OR(ISBLANK(J201),G200=0,ISBLANK(G200)),,ROUND(J201+$K$3,2))","v":{"v":35,"d":"$35.00"}},{"$f":"ROUND(H201*K201,2)","v":{"v":1596,"d":"$1,596.00"}},{"$f":"ROUND(K201/F201,2)","v":{"v":1.17,"d":"$1.17"}}]
[null,"calories with no more than 9 g saturated fat and 1450 mg sodium per serving ",{"$nulls":12}," "," ","  "," "," "," "]
[null,"Possible Allergens:  Wheat, Soy",{"$nulls":17}," "]
[34,"Chicken, Pulled, Unseasoned Bnls Skinless, ","Tyson 25560-928",null,"73/2.20z",73,{"v":0,"d":"0 "},{"$f":"ROUND(G204*F204/F204,2)","v":0},"Cs",{"v":28.83,"d":"$28.83"},{"$f":"IF(OR(ISBLANK(J204),G204=0,ISBLANK(G204)),,ROUND(J204+$K$3,2))","v":0},{"$f":"ROUND(H204*K204,2)","v":0},{"$f":"ROUND(K204/F204,2)","v":0},{"v":16.1,"d":"$16.10"},{"v":0.8957,"d":"$0.8957"},14.21,{"$f":"ROUND(O204*P204,2)","v":{"v":12.73,"d":"$12.73"}},{"$f":"K204-Q204","v":{"v":-12.73,"d":"$(12.73)"}},{"$f":"R204/F204","v":{"v":-0.17438356164383562,"d":"$(0.17)"}},{"v":0.22054794520547946,"d":"$0.22"}]
[null,"Chicken breast with rib meat and dark meat, fully cooked, No more than 160 calories ",{"$nulls":12}," "," "," "," "," "," "]
[null,"per serving & no more than 3 g sodium per 3.0 oz. serving,  Must provide 2.0 oz. M/MA",{"$nulls":12}," "," ","  "," "," "," "]
[null,"Possible Allergens:  None Listed",{"$nulls":17}," "]
[35,"Chicken, Breaded, Popcorn (Dark Meat)","Gold Kist/Pilgrims 110458",null,"108/4.30z",108,0,{"$f":"ROUND(G208*F208/F208,2)","v":0},"Cs",{"v":77.56,"d":"$77.56"},{"$f":"IF(OR(ISBLANK(J208),G208=0,ISBLANK(G208)),,ROUND(J208+$K$3,2))","v":0},{"$f":"ROUND(H208*K208,2)","v":0},{"$f":"ROUND(K208/F208,2)","v":0},{"v":41.25,"d":"$41.25"},{"v":0.8957,"d":"$0.8957"},40.541,{"$f":"ROUND(O208*P208,2)","v":{"v":36.31,"d":"$36.31"}},{"$f":"K208-Q208","v":{"v":-36.31,"d":"$(36.31)"}},{"$f":"R208/F208","v":{"v":-0.3362037037037037,"d":"$(0.34)"}},{"v":0.3819444444444444,"d":"$0.38"}]
[null,"Whole Grain, fully cooked, frozen, must provide 2.0 oz. M/MA Consists of"," ",null," "," ",null," "," ",null," "," "," ",null," "," "," "," "," "," "]
[null,"mixed white and datrk meat 5 gr of sat fat or less & 600 mg of sodium or less"," ",null," "," ",null," "," ",null," "," "," ",null," "," ","  "," "," "," "]
[null,"Possible Allergens:  Wheat, Soy, Egg , Milk",{"$nulls":17}," "]
[36,"Chicken, Breaded, Popcorn (Dark Meat)","Tyson 24450-928",null,"160/3.0z",160,0,{"$f":"ROUND(G212*F212/F212,2)","v":0},"Cs",{"v":89.77,"d":"$89.77"},{"$f":"IF(OR(ISBLANK(J212),G212=0,ISBLANK(G212)),,ROUND(J212+$K$3,2))","v":0},{"$f":"ROUND(H212*K212,2)","v":0},{"$f":"ROUND(K212/F212,2)","v":0},{"v":47.95,"d":"$47.95"},{"v":0.8957,"d":"$0.8957"},46.69,{"$f":"ROUND(O212*P212,2)","v":{"v":41.82,"d":"$41.82"}},{"$f":"K212-Q212","v":{"v":-41.82,"d":"$(41.82)"}},{"$f":"R212/F212","v":{"v":-0.261375,"d":"$(0.26)"}},{"v":0.2996875,"d":"$0.30"}]
[null,"Whole Grain, fully cooked, frozen, must provide 2.0 oz. M/MA Consists of",{"$nulls":12}," "," "," "," "," "," "]
[null,"mixed white and datrk meat 5 gr of sat fat or less & 600 mg of sodium or less",{"$nulls":12}," "," ","  "," "," "," "]
[null,"Possible Allergens:  Wheat, Soy, Egg , Milk",{"$nulls":17}," "]
[37,"Chicken Sandwich, Mini Twin Teriyaki Chicken","Smart Picks 68086",null,"80/5.20z",80,0,{"$f":"ROUND(G216*F216/F216,2)","v":0},"Cs",{"v":57.12,"d":"$57.12"},{"$f":"IF(OR(ISBLANK(J216),G216=0,ISBLANK(G216)),,ROUND(J216+$K$3,2))","v":0},{"$f":"ROUND(H216*K216,2)","v":0},{"$f":"ROUND(K216/F216,2)","v":0},0,{"v":0,"d":"$0.0000"},0,{"$f":"ROUND(O216*P216,2)","v":{"v":0,"d":"$0.00"}},{"$f":"K216-Q216","v":0},{"$f":"R216/F216","v":0},{"$f":"N216/F216","v":0}]
[null,"Whole grain, Two mini sandwiches in one package"," ",{"$nulls":11}," "," "," "," "," "," "]
[null,"Provides 2.0 oz. M/MA and 2.0 EOG",{"$nulls":12}," "," ","  "," "," "," "]
[null,"Possible Allergens:  None Listed",{"$nulls":17}," "]
[38,"Sausage Patty, Chicken"," Gold Kist 6390",null,"350/1.37z",350,0,{"$f":"ROUND(G220*F220/F220,2)","v":0},"Cs",{"v":97.01,"d":"$97.01"},{"$f":"IF(OR(ISBLANK(J220),G220=0,ISBLANK(G220)),,ROUND(J220+$K$3,2))","v":0},{"$f":"ROUND(H220*K220,2)","v":0},{"$f":"ROUND(K220/F220,2)","v":0},{"v":45,"d":"$45.00"},{"v":0.8957,"d":"$0.8957"},58.0645,{"$f":"ROUND(O220*P220,2)","v":{"v":52.01,"d":"$52.01"}},{"$f":"K220-Q220","v":{"v":-52.01,"d":"$(52.01)"}},{"$f":"R220/F220","v":{"v":-0.14859999999999998,"d":"$(0.15)"}},{"v":0.12857142857142856,"d":"$0.13"}]
[null,"Dark Meat, Chicken sausage patty Fully cooked lightly seasined "," ",{"$nulls":11}," "," "," "," "," "," "]
[null,"1.30 oz. provides 1 M/MA No trans fats, No more than 300 mg sodium",{"$nulls":12}," "," ","  "," "," "," "]
[null,"Possible Allergens:  None Listed",{"$nulls":17}," "]
[39,"Egg Roll, Chicken, WG","Minh 69461",null,"60/3.0z",60,0,{"$f":"ROUND(G224*F224/F224,2)","v":0},"Cs",{"v":30.5,"d":"$30.50"},{"$f":"IF(OR(ISBLANK(J224),G224=0,ISBLANK(G224)),,ROUND(J224+$K$3,2))","v":0},{"$f":"ROUND(H224*K224,2)","v":0},{"$f":"ROUND(K224/F224,2)","v":0},0,{"v":0,"d":"$0.0000"},0,{"$f":"ROUND(O224*P224,2)","v":{"v":0,"d":"$0.00"}},{"$f":"K224-Q224","v":0},{"$f":"R224/F224","v":0},{"$f":"N224/F224","v":0}]
[null,"Frozen, chicken with vegetables in WG egg roll wrapper.  150-250 calories with no more"," ",{"$nulls":11}," "," "," "," "," "," "]
[null,"than 2 g saturated fat and 450 mg sodium per serving.  CN labeled for one portion to "]
[null,"provide min 1 M/MA and 2 OEG"]
[null,"Possible Allergens:  Milk, Wheat, Soy and Egg",{"$nulls":12}," "," ","  "," "," "," "]
[40,"Chicken, Diced, 1/2\" Natual Proportion White Meat","Dutch Quality 3024",null,"10 lbs",176,80,{"$f":"ROUND(G229*F229/F229,2)","v":80},"Cs",{"v":26,"d":"$26.00"},{"$f":"IF(OR(ISBLANK(J229),G229=0,ISBLANK(G229)),,ROUND(J229+$K$3,2))","v":{"v":26,"d":"$26.00"}},{"$f":"ROUND(H229*K229,2)","v":{"v":2080,"d":"$2,080.00"}},{"$f":"ROUND(K229/F229,2)","v":{"v":0.15,"d":"$0.15"}},0,{"v":0,"d":"$0.0000"},0,{"$f":"ROUND(O229*P229,2)","v":{"v":0,"d":"$0.00"}},{"$f":"K229-Q229","v":{"v":26,"d":"$26.00"}},{"$f":"R229/F229","v":{"v":0.14772727272727273,"d":"$0.15"}},{"$f":"N229/F229","v":0}]
[null,"Frozen, fully cooked, oven roasted, white chicken meat, free of bones and skin, thaw and"," ",{"$nulls":11}," "," "," "," "," "," "]
[null,"serve.  No VPP 50-150 calories with no more than 2 g saturated fat and 410 mg sodium"]
[null,"per 2 M/MA serving.  No CN Label "]
[null,"Possible Allergens: None Listed",{"$nulls":12}," "," ","  "," "," "," "]
[41,"Chicken, Diced, 1/2\" Natual Proportion with Dark Meat","Gold Kist/Pilgrims 1230",null,"30 lbs",176,null,{"$f":"ROUND(G234*F234/F234,2)","v":0},"Cs",{"v":81,"d":"$81.00"},{"$f":"IF(OR(ISBLANK(J234),G234=0,ISBLANK(G234)),,ROUND(J234+$K$3,2))","v":0},{"$f":"ROUND(H234*K234,2)","v":0},{"$f":"ROUND(K234/F234,2)","v":0},{"v":48.75,"d":"$48.75"},{"v":0.8957,"d":"$0.8957"},36,{"$f":"ROUND(O234*P234,2)","v":{"v":32.25,"d":"$32.25"}},{"$f":"K234-Q234","v":{"v":-32.25,"d":"$(32.25)"}},{"$f":"R234/F234","v":{"v":-0.18323863636363635,"d":"$(0.18)"}},{"$f":"N234/F234","v":{"v":0.27698863636363635,"d":"$0.28"}}]
[null,"Frozen, fully cooked, oven roasted, natural proportion with dark chicken meat, free of "," ",{"$nulls":11}," "," "," "," "," "," "]
[null,"bones and skin, thaw and serve, No VPP, 50-150 calories with no more than 2 g "]
[null,"saturated fat and 200 mg of sodium per 2 M/MA serving No CN Label"]
[null,"Possible Allergens:  None Listed",{"$nulls":12}," "," ","  "," "," "," "]
[{"$nulls":14},"Chicken, Small 100100"]
[42,"Chicken, Roasted 4 cut, WG","Gold Kist/Pilgrims 88013",null,"30 lbs",82,0,{"$f":"ROUND(G240*F240/F240,2)","v":0},"Cs",{"v":88.86,"d":"$88.86"},{"$f":"IF(OR(ISBLANK(J240),G240=0,ISBLANK(G240)),,ROUND(J240+$K$3,2))","v":0},{"$f":"ROUND(H240*K240,2)","v":0},{"$f":"ROUND(K240/F240,2)","v":0},{"v":50.55,"d":"$50.55"},{"v":0.8555,"d":"$0.8555"},44.776,{"$f":"ROUND(O240*P240,2)","v":{"v":38.31,"d":"$38.31"}},{"$f":"K240-Q240","v":{"v":-38.31,"d":"$(38.31)"}},{"$f":"R240/F240","v":{"v":-0.46719512195121954,"d":"$(0.47)"}},{"v":0.6164634146341463,"d":"$0.62"}]
[null,"Frozen, Fully cooked, chicken parts, 4 pc cut, marinated, Must be sealed in plastic"," ",{"$nulls":11}," "," "," "," "," "," "]
[null,"bags, 150-250 calories with no more than 4 gr sat fat and 200 mg sodium per svg",{"$nulls":12}," "," ","  "," "," "," "]
[null,"1 breast,  1 thigh,  or  drumstick/wing to provide 2 oz. M/MA",{"$nulls":17}," "]
[null,"Possible Allergen:  Soy, Milk",{"$nulls":17}," "]
[43,"Chicken, Roasted 8 cut, WG","Gold Kist/Pilgrims 7812",null,"30 lbs",70,0,{"$f":"ROUND(G245*F245/F245,2)","v":0},"Cs",{"v":83.31,"d":"$83.31"},{"$f":"IF(OR(ISBLANK(J245),G245=0,ISBLANK(G245)),,ROUND(J245+$K$3,2))","v":0},{"$f":"ROUND(H245*K245,2)","v":0},{"$f":"ROUND(K245/F245,2)","v":0},{"v":53.38,"d":"$53.38"},{"v":0.8555,"d":"$0.8555"},34.985,{"$f":"ROUND(O245*P245,2)","v":{"v":29.93,"d":"$29.93"}},{"$f":"K245-Q245","v":{"v":-29.93,"d":"$(29.93)"}},{"$f":"R245/F245","v":{"v":-0.42757142857142855,"d":"$(0.43)"}},{"v":0.7625714285714286,"d":"$0.76"}]
[null,"Frozen, IQF, Fully cooked, oven prep, WGR, 200-300 calories with no more than"," ",{"$nulls":11}," "," "," "," "," "," "]
[null,"4 gr sat fat and 600 mg sodium per 3.0 oz. edible portion",{"$nulls":12}," "," ","  "," "," "," "]
[null,"1 breast,  1 thigh,  or  drumstick/wing to provide 2 oz. M/MA and 1 OEG",{"$nulls":17}," "]
[null,"Possible Allergen:  Wheat, Egg",{"$nulls":17}," "]
[44,"Chicken, Roasted 8 cut, ","Gold Kist/Pligrims 8820",null,"30 lbs",88,0,{"$f":"ROUND(G250*F250/F250,2)","v":0},"Cs",{"v":84.06,"d":"$84.06"},{"$f":"IF(OR(ISBLANK(J250),G250=0,ISBLANK(G250)),,ROUND(J250+$K$3,2))","v":0},{"$f":"ROUND(H250*K250,2)","v":0},{"$f":"ROUND(K250/F250,2)","v":0},{"v":45.75,"d":"$45.75"},{"v":0.8555,"d":"$0.8555"},44.776,{"$f":"ROUND(O250*P250,2)","v":{"v":38.31,"d":"$38.31"}},{"$f":"K250-Q250","v":{"v":-38.31,"d":"$(38.31)"}},{"$f":"R250/F250","v":{"v":-0.4353409090909091,"d":"$(0.44)"}},{"v":0.5198863636363636,"d":"$0.52"}]
[null,"Frozen, Fully cooked, chicken parts, 8 pc cut, marinated, Must be sealed in plastic"," ",{"$nulls":11}," "," "," "," "," "," "]
[null,"bags, 150-250 calories with no more than 4 gr sat fat and 200 mg sodium per svg",{"$nulls":12}," "," ","  "," "," "," "]
[null,"1 breast, 1 thigh, or 1 drumstick/wing to provide 2 oz. M/MA",{"$nulls":17},"  "]
[null,"Possible Allergens:  Soy, Milk",{"$nulls":17}," "]
[{"$nulls":8},"Page Total",null,null,{"$f":"SUMIF(L7:L252,\">0\")","v":{"v":34398.47,"d":"$34,398.47"}}]

{"sheet":"Beef","index":2,"n_rows":100,"n_cols":20,"rows_kept":100,"merged":[[0,4,0,12],[1,4,1,12],[2,5,2,9]]}
[null,{"$f":"'Recap Sheet'!A2","v":"School Food Authority:"},null,null,{"$f":"'Recap Sheet'!A3","v":"Offeror Name:"}]
[null,{"$f":"'Recap Sheet'!B2","v":"WILLIAMSBURG COUNTY SCHOOLS"},"Return to Recap Sheet",null,{"$f":"'Recap Sheet'!B3","v":0},{"$nulls":9}," ","Commodity"]
["Item","Description","Approved Brand Name / Manuf ID # ",null,null,"Firm Fixed Fee",{"$nulls":4},{"$f":"'Recap Sheet'!B4","v":{"v":0,"d":"$0.00"}},null,null,"Processing","Commodity","Pounds of",null,"NOI ","Net NOI ","Total Cost"]
["#",null,null,"Distributor","Vendor","Svgs","Est.","Bid ","Bid","Unit","Unit Price","Total ","Cost per","Fee  for","Value Per","DF Needed","Commodity","Net","Cost Per","Processing Fee"]
[{"$nulls":3},"Code","Pack","per unit","Bid Qty","Qty","Unit","Price","plus Fee","Price","Serving","Service","Pound","Per Case","Value ","Price","Serving","for Service"]
[null,"Category: Beef  ",{"$nulls":12},"Beef Course Ground Frozen CTN 60 Lb 100154"]
[1,"Beef Patte, Flame or Charbroiled","Advance 3-155-525-0 (COM 1-155-525-20)",null,"200/2.5z",200,375,{"$f":"ROUND(G7*F7/F7,2)","v":375},"Cs"," "," "," "," ",0,{"v":2.3181,"d":"$2.3181"},25.44,{"$f":"ROUND(O7*P7,2)","v":{"v":58.97,"d":"$58.97"}}," "," ",{"$f":"N7/F7","v":0}]
[null,"Frozen, IQF, Fully cooked ground beef no more than 20% fat)","Don Lee Farms 202503CN (COM CNQ212503)",null,"200/2.5z",200,null,{"$f":"ROUND(G7*F7/F8,2)","v":375},"Cs",{"v":54.15,"d":"$54.15"},{"$f":"IF(OR(ISBLANK(J8),G7=0,ISBLANK(G7)),,ROUND(J8+$K$3,2))","v":{"v":54.15,"d":"$54.15"}},{"$f":"ROUND(H8*K8,2)","v":{"v":20306.25,"d":"$20,306.25"}},{"$f":"ROUND(K8/F8,2)","v":{"v":0.27,"d":"$0.27"}},{"v":21.88,"d":"$21.88"},{"v":2.3181,"d":"$2.3181"},23.17,{"$f":"ROUND(O8*P8,2)","v":{"v":53.71,"d":"$53.71"}}," "," ",{"$f":"N8/F8","v":{"v":0.1094,"d":"$0.11"}}]
[null,"Alternate protein products must meet the requirements in Apendix A of 7 CFR 210. ","Maid Rite 75156-03427",null,"213/2.25z",213,null,{"$f":"ROUND($G$7*$F$7/F9,2)","v":352.11},"Cs"," ","  "," "," ",0,{"v":2.3181,"d":"$2.3181"},35.06,{"$f":"ROUND(O9*P9,2)","v":{"v":81.27,"d":"$81.27"}}," "," ",{"$f":"N9/F9","v":0}]
[null,"Sodium content is no more than 250 mg per serving. Product to provides 2 oz. M/MA",{"$nulls":17}," "]
[null,"Possible Allergens:  Soy",{"$nulls":17}," "]
[2,"Beef Patties, Raw, 100% Beef IQF,  USDA inspected beef.","Distributor Choice",null,"50/3.2z",50,0,{"$f":"ROUND($G$12*$F$12/F12,2)","v":0},"Cs"]
[null,"One patty to meet 2 oz meat/meat alternate. ","Fillable txt box ",null,null,0,null,{"$f":"ROUND(G12*F12/F13,2)","v":{"$error":"#DIV/0!"}},"Cs",0,{"$f":"IF(OR(ISBLANK(G12),G12=0,ISBLANK(F13)),,ROUND(J13+$K$3,2))","v":0},{"$f":"ROUND(H12*K13,2)","v":0},{"$f":"ROUND(K13/F13,2)","v":{"$error":"#DIV/0!"}}]
[null,"Possible Allergens:  None Listed "," ",{"$nulls":4}," "," "," "," "," "," ",{"$nulls":6}," "]
[3,"Beef Patties, No TVP","Integrated N3200B-30NF",null,"160/3.0z",160,0,{"$f":"ROUND(G15*F15/F15,2)","v":0},"Cs",{"v":102.3,"d":"$102.30"},{"$f":"IF(OR(ISBLANK(J15),G15=0,ISBLANK(G15)),,ROUND(J15+$K$3,2))","v":0},{"$f":"ROUND(H15*K15,2)","v":0},{"$f":"ROUND(K15/F15,2)","v":0},{"v":42.6,"d":"$42.60"},{"v":2.3181,"d":"$2.3181"},40.14,{"$f":"ROUND(O15*P15,2)","v":{"v":93.05,"d":"$93.05"}},0,0,{"$f":"N15/F15","v":{"v":0.26625,"d":"$0.27"}}]
[null,"Frozen, IQF, Fully cooked ground beef, Not more than 20% fat Sodium cannot","COM #: C32300B-30NF",{"$nulls":16}," "]
[null,"exceed 275 mg sodiium per serving Must provide 2.0 oz. M/MA ",{"$nulls":17}," "]
[null,"Possible Allergens:  None Listed ",{"$nulls":17}," "]
[4,"Beef Steak Patties, Breaded","Adv-Pierre, 68035     ",null,"85/3.80z",85,0,{"$f":"ROUND(G19*F19/F19,2)","v":0},"Cs",{"v":58.65,"d":"$58.65"},{"$f":"IF(OR(ISBLANK(J19),G19=0,ISBLANK(G19)),,ROUND(J19+$K$3,2))","v":0},{"$f":"ROUND(H19*K19,2)","v":0},{"$f":"ROUND(K19/F19,2)","v":0},{"v":24.47,"d":"$24.47"},{"v":2.3181,"d":"$2.3181"},15.71,{"$f":"ROUND(O19*P19,2)","v":{"v":36.42,"d":"$36.42"}},0,0,{"v":0.2878823529411765,"d":"$0.29"}]
[null,"Fully cooked ground beef (no more than 20% fat) Contains no APP, pre-cooked","COM #: 69035",{"$nulls":16}," "]
[null,"CN Labeled, One serving provides 2 oz. M/MA and 1 oz. OEG",{"$nulls":17}," "]
[null," Possible Allergens:  Wheat, Soy, Milk",{"$nulls":17}," "]
[5,"Beef, Frozen Ground","Distributor Choice",null,"10Lb",10,500,{"$f":"ROUND($G$23*$F$23/F23,2)","v":500},"Cs",{"$nulls":4}," "]
[null,"USDA inspected bulk, raw fine ground, (no more than 20% fat)","Fillable txt box ",{"$nulls":4},{"$f":"ROUND(G23*F23/F24,2)","v":{"$error":"#DIV/0!"}},"Cs",null,{"$f":"IF(OR(ISBLANK(G23),G23=0,ISBLANK(F24)),,ROUND(J24+$K$3,2))","v":0},{"$f":"ROUND(H24*K24,2)","v":{"$error":"#DIV/0!"}},{"$f":"ROUND(K24/F24,2)","v":{"$error":"#DIV/0!"}}]
[null,"MPS #136 Label statement required, \"Domestic Beef Only\"",{"$nulls":17}," "]
[null,"Possible Allergens:  None Listed ",{"$nulls":4},1,{"$nulls":12}," "]
[6,"Meatloaf with Ketchup","(03-04) Pierre 9300 CN",null,"100/3.0z",100,0,{"$f":"ROUND(G27*F27/F27,2)","v":0},"Cs",{"v":43.3,"d":"$43.30"},{"$f":"IF(OR(ISBLANK(J27),G27=0,ISBLANK(G27)),,ROUND(J27+$K$3,2))","v":0},{"$f":"ROUND(H27*K27,2)","v":0},{"$f":"ROUND(K27/F27,2)","v":0},0,{"v":2.3181,"d":"$2.3181"},{"v":29.5,"d":"29.50"},{"$f":"ROUND(O27*P27,2)","v":{"v":68.38,"d":"$68.38"}},0,0,0]
[null,"Made from ground beef (no more than 30% fat) Fully cooked, may contain VPP","Com #:  9302",null,"100/3.0z",210,{"$nulls":7},{"v":49.98,"d":"$49.98"},{"v":2.3181,"d":"$2.3181"},{"v":29.5,"d":"29.50"},{"$f":"ROUND(O28*P28,2)","v":{"v":68.38,"d":"$68.38"}},0,0,{"$f":"N28/F28","v":{"v":0.238,"d":"$0.24"}}]
[null,"Possible Allergens:  Soy",{"$nulls":17}," "]
[7,"Steak Nugget      ","Adv-Pierre 68036 CN                      ",null,"100/3.85z",100,30,{"$f":"ROUND(G30*F30/F30,2)","v":30},"Cs",{"v":72.79,"d":"$72.79"},{"$f":"IF(OR(ISBLANK(J30),G30=0,ISBLANK(G30)),,ROUND(J30+$K$3,2))","v":{"v":72.79,"d":"$72.79"}},{"$f":"ROUND(H30*K30,2)","v":{"v":2183.7,"d":"$2,183.70"}},{"$f":"ROUND(K30/F30,2)","v":{"v":0.73,"d":"$0.73"}},{"v":34.29,"d":"$34.29"},{"v":2.3181,"d":"$2.3181"},19.25,{"$f":"ROUND(O30*P30,2)","v":{"v":44.62,"d":"$44.62"}},0,0,{"v":0.3429,"d":"$0.34"}]
[null,"WGR, Fully cooked, chopped and form, frozen, One serving provides 2 oz. M/MA and ","Com #: 69036",{"$nulls":16}," "]
[null,"1 oz. OEG"]
[null,"Possible Allergens:  Soy",{"$nulls":17}," "]
[8,"Beef, Meatball","Adv. Pierre 3-17-505-0 Com #: 1-17-305-0",null,"960/.5z",192,0,{"$f":"ROUND(G34*F34/F34,2)","v":0},"Cs",{"v":59.33,"d":"$59.33"},{"$f":"IF(OR(ISBLANK(J34),G34=0,ISBLANK(G34)),,ROUND(J34+$K$3,2))","v":0},{"$f":"ROUND(H34*K34,2)","v":0},{"$f":"ROUND(K34/F34,2)","v":0},{"v":18.25,"d":"$18.25"},{"v":2.3181,"d":"$2.3181"},{"v":23.4,"d":"23.40"},{"$f":"ROUND(O34*P34,2)","v":{"v":54.24,"d":"$54.24"}},0,{"$f":"R34/F34","v":0},{"v":0.09505208333333333,"d":"$0.10"}]
[null,"Frozen, IQF, Fully cooked ground beef (no more than 30% fat)","Maid Rite 75156-04105 Com #: 75156-94105",null,"960/.5z",192,null,{"$f":"ROUND(G34*F34/F35,2)","v":0},"Cs",{"$nulls":4},0,{"v":2.3181,"d":"$2.3181"},{"v":24.935,"d":"24.94"},{"$f":"ROUND(O35*P35,2)","v":{"v":57.8,"d":"$57.80"}},0,0,0]
[null,"100-200 calories with no more than 6 g saturated fat and 300 mg sodium per serving","Integrated N22050B Com #: C22050B",null,"1280/.5z",256,null,{"$f":"ROUND(G34*F34/F36,2)","v":0},"Cs",{"$nulls":4},0,{"v":2.3181,"d":"$2.3181"},34.34,{"v":79.6,"d":"$79.60"},0,{"$f":"R36/F36","v":0},0]
[null,"CN labeled for 5 meatballs to provide 2.0 oz. M/MA ","JTM 5030CE Com #: CP505030",null,"171.2.80z",171,null,{"$f":"ROUND(G34*F34/F37,2)","v":0},"Cs",{"$nulls":4},0,{"v":2.3181,"d":"$2.3181"},23.78,{"v":55.12,"d":"$55.12"},0,0,0]
[null,null,"Rich Products 55668",null,"2/5 lb",64,null,{"$f":"ROUND(G34*F34/F38,2)","v":0},"Cs",{"$nulls":4}," "]
[null,null,"Don Lee Farms CN28053VS Com #: CNQ28053VS",null,"240/2.0z",240,null,{"$f":"ROUND(G34*F34/F39,2)","v":0},"Cs",{"$nulls":4},0,{"v":2.3181,"d":"$2.3181"},28.63,{"v":66.37,"d":"$66.37"},0,{"$f":"R39/F39","v":0},0]
[null,"Possible Allergens: Wheat, Soy and Milk","AFG 290854"," ","192/2.50z",192,null,{"$f":"ROUND(G34*F34/F40,2)","v":0},"Cs",{"$nulls":4}," "]
[9,"Beef Meatballs, Allergen Free","JTM 5049CE Com #: CP5049",null,"960/.5z",192,0,{"$f":"ROUND(G41*F41/F41,2)","v":0},"Cs",{"v":100.04,"d":"$100.04"},{"$f":"IF(OR(ISBLANK(J41),G41=0,ISBLANK(G41)),,ROUND(J41+$K$3,2))","v":0},{"$f":"ROUND(H41*K41,2)","v":0},{"$f":"ROUND(K41/F41,2)","v":0},{"v":22,"d":"$22.00"},{"v":2.3181,"d":"$2.3181"},{"v":35,"d":"35.00"},{"$f":"ROUND(O41*P41,2)","v":{"v":81.13,"d":"$81.13"}},0,0,{"v":0.11458333333333333,"d":"$0.11"}]
[null,"Frozen, IQF, Fully cooked grouind beef (no more than 20% fat) 100-200 calories with",{"$nulls":17}," "]
[null,"no more than 5g saturated fat and 350 mg sodium per serving CN labeled for 5 meatballs ",{"$nulls":17}," "]
[null,"to provide 2.0 M/MA",{"$nulls":17}," "]
[null,"Possible Allergens:  None Listed Gluten Free",{"$nulls":17}," "]
[10,"Beef Nugget, Teriyaki","Don Lee Farms CNTDO753 Com #: CNQTDO753",null,"160/3.0z",160,115,{"$f":"ROUND(G46*F46/F46,2)","v":115},"Cs"," "," "," "," ",{"v":24,"d":"$24.00"},{"v":2.3181,"d":"$2.3181"},{"v":26.7,"d":"26.70"},{"$f":"ROUND(O46*P46,2)","v":{"v":61.89,"d":"$61.89"}},0,0,{"$f":"N46/F46","v":{"v":0.15,"d":"$0.15"}}]
[null,"Frozen, IQF, Fully cooked ground beef (no more than 30% fat)","AFG 290872 ",null,"200/2.4z",200,null,{"$f":"ROUND(G46*F46/F47,2)","v":92},"Cs",null," "," "," "," "]
[null,"100-200 calories with no more than 4g saturated fat and 450 mg sodium per serving","Adv. Pierre 3840 Com#: 3740",null,"143/2.80z 143",143,null,{"$f":"ROUND(G46*F46/F48,2)","v":128.67},"Cs",{"v":59.49,"d":"$59.49"},{"$f":"IF(OR(ISBLANK(J48),G46=0,ISBLANK(G46)),,ROUND(J48+$K$3,2))","v":{"v":59.49,"d":"$59.49"}},{"$f":"ROUND(H48*K48,2)","v":{"v":7654.58,"d":"$7,654.58"}},{"$f":"ROUND(K48/F48,2)","v":{"v":0.42,"d":"$0.42"}},0,{"v":2.3181,"d":"$2.3181"},22.85,{"$f":"ROUND(O48*P48,2)","v":{"v":52.97,"d":"$52.97"}},0,0,0]
[]
[null,"Possible Allergens:  Wheat, Soy",{"$nulls":17}," "]
[11,"Beef and Bean Burger","(16-17) Advance Pierre 68103",null,"110/3.5z",110,0,{"$f":"ROUND(G51*F51/F51,2)","v":0},"Cs",{"v":65.25,"d":"$65.25"},{"$f":"IF(OR(ISBLANK(J51),G51=0,ISBLANK(G51)),,ROUND(J51+$K$3,2))","v":0},{"$f":"ROUND(H51*K51,2)","v":0},{"$f":"ROUND(K51/F51,2)","v":0},{"v":28.71,"d":"$28.71"},{"v":2.3181,"d":"$2.3181"},20.22,{"$f":"ROUND(O51*P51,2)","v":{"v":46.87,"d":"$46.87"}},0,0,{"v":0.261,"d":"$0.26"}]
[null,"Beef patty with beans, Frozen, fully cooked, 3.5 oz. patty provides 2.0 oz. M/MA","Comm. #: 69103",{"$nulls":16}," "]
[null,"and not to exceed 200 calories and 190 mg of sodium per serving",{"$nulls":17}," "]
[null,"Possible Allergens: ",{"$nulls":17}," "]
[12,"Beef, Taco Filling Meat, Reduced Fat and Sodium","JTM 5250CE ",null,"6/5 lb",151,0,{"$f":"ROUND(G55*F55/F55,2)","v":0},"Cs",{"v":67.49,"d":"$67.49"},{"$f":"IF(OR(ISBLANK(J55),G55=0,ISBLANK(G55)),,ROUND(J55+$K$3,2))","v":0},{"$f":"ROUND(H55*K55,2)","v":0},{"$f":"ROUND(K55/F55,2)","v":0},{"v":26.6,"d":"$26.60"},{"v":2.3181,"d":"$2.3181"},16.79,{"$f":"ROUND(O55*P55,2)","v":{"v":38.92,"d":"$38.92"}},0,0,{"v":0.176158940397351,"d":"$0.18"}]
[null,"Frozen, fully cooked ground beef, no more than 20% fat, Boilable bags, 100-200 ","Com #: CP5250",{"$nulls":16}," "]
[null,"calories with no more than 2 g sat fat and 300 mg sodium per svg. ",{"$nulls":17}," "]
[null,"CN labeled with serving size to provide min. 2.0 oz. M/MA and 1/8 c Red/Orange Veg"]
[null,"Possible Allergens: Soy",{"$nulls":17}," "]
[13,"Cheeseburger Meatloaf","Advanced Pierre 68190",null,"100/2.90z",100,0,{"$f":"ROUND(G60*F60/F60,2)","v":0},"Cs",{"v":62.42,"d":"$62.42"},{"$f":"IF(OR(ISBLANK(J60),G60=0,ISBLANK(G60)),,ROUND(J60+$K$3,2))","v":0},{"$f":"ROUND(H60*K60,2)","v":0},{"$f":"ROUND(K60/F60,2)","v":0},{"v":36.42,"d":"$36.42"},{"v":2.3181,"d":"$2.3181"},15.62,{"$f":"ROUND(O60*P60,2)","v":{"v":36.21,"d":"$36.21"}},0,{"$f":"R60/F60","v":0},{"v":0.3642,"d":"$0.36"}]
[null,"Fully cooked, All beef with cheese One serving to meet 2.0 oz. M/MA","Com#: 69190",{"$nulls":16}," "]
[null," ",{"$nulls":17}," "]
[null,"Possible Allergens: ",{"$nulls":17}," "]
[14,"Beef Crumbles, Unseasoned","JTM 5872CE Com#: CP5872",null,"240/2.0z",240,0,{"$f":"ROUND(G64*F64/F64,2)","v":0},"Cs",{"$nulls":4},{"v":17,"d":"$17.00"},{"v":2.3181,"d":"$2.3181"},51.51,{"$f":"ROUND(O64*P64,2)","v":{"v":119.41,"d":"$119.41"}},0,{"$f":"R64/F64","v":0},{"v":0.07083333333333333,"d":"$0.07"}]
[null,"Frozen, fully cooked ground beef, no more than 20% fat, CN labeled with serving","Adv. Pierre 320410-9 Com# 1-3201410-9",null,"240/2.0z",240,null,{"$f":"ROUND(G64*F64/F65,2)","v":0},"Cs",{"$nulls":4},0,{"v":2.3181,"d":"$2.3181"},47.72,{"$f":"ROUND(O65*P65,2)","v":{"v":110.62,"d":"$110.62"}},0,{"$f":"R65/F65","v":0},0]
[null,"Must provide 2 oz. M/MA, 100-150 calories and no more than 250 mg sodium and ","Integrated N32000B Com# C32000B",null,"316/2.02z",316,null,{"$f":"ROUND(G64*F64/F66,2)","v":0},"Cs",{"$nulls":4},0,{"v":2.3181,"d":"$2.3181"},53.52,{"v":124.06,"d":"$124.06"},0,0,0]
[null,"4 g saturated fat","Don Lee Farms CN1540L Com #: CNQ15401",null,"4/10 lb",320,null,{"$f":"ROUND(G64*F64/F67,2)","v":0},"Cs",{"v":111.6,"d":"$111.60"},{"$f":"IF(OR(ISBLANK(J67),G64=0,ISBLANK(G64)),,ROUND(J67+$K$3,2))","v":0},{"$f":"ROUND(H67*K67,2)","v":0},{"$f":"ROUND(K67/F67,2)","v":0},0,{"v":2.3181,"d":"$2.3181"},66.67,{"$f":"ROUND(O67*P67,2)","v":{"v":154.55,"d":"$154.55"}},0,0,{"$f":"N67/F67","v":0}]
[null,"Possible Allergens: None Listed",{"$nulls":17}," "]
[15,"Burrito, WG, Beef and Bean                  ","Fernando's 9036",null,"96/4.5z",96,0,{"$f":"ROUND(G69*F69/F69,2)","v":0},"Cs",{"v":44.79,"d":"$44.79"},{"$f":"IF(OR(ISBLANK(J69),G69=0,ISBLANK(G69)),,ROUND(J69+$K$3,2))","v":0},{"$f":"ROUND(H69*K69,2)","v":0},{"$f":"ROUND(K69/F69,2)","v":0},0]
[null,"Frozen, Provides 2.0 M/Ma 2.0 OEG; Whole Grain Tortila    Bulk pack SMART SNACK","      Beef Bean RedChili",{"$nulls":16}," "]
[null,"Possible Allergens: "," "," ",{"$nulls":15}," "]
[16,"Beef Chili (for Hot Dogs)","Chandler 65-464",null,"4/5 lbs",160,0,{"$f":"ROUND(G72*F72/F72,2)","v":0},"Cs",{"v":31.6,"d":"$31.60"},{"$f":"IF(OR(ISBLANK(J72),G72=0,ISBLANK(G72)),,ROUND(J72+$K$3,2))","v":0},{"$f":"ROUND(H72*K72,2)","v":0},{"$f":"ROUND(K72/F72,2)","v":0},0]
[null,"Frozen, fully cooked, No beans, 40-80 calories with no more than 1 g saturated fat and ","JTM 5320CE Com #: CP5320",null,"6/5 lbs",240,null,{"$f":"ROUND(G72*F72/F73,2)","v":0},"Cs"," "," "," "," ",{"v":25.4,"d":"$25.40"},{"v":2.3181,"d":"$2.3181"},9.12,{"$f":"ROUND(O73*P73,2)","v":{"v":21.14,"d":"$21.14"}}," "," ",{"$f":"N73/F73","v":{"v":0.10583333333333332,"d":"$0.11"}}]
[null,"250 mg sodium per 2.0 oz. serving",{"$nulls":17}," "]
[null,"Possible Allergens: Soy, Wheat",{"$nulls":17}," "]
[17,"Beef Pattie, Rib Shaped with BBQ Sauce","Advanced Pierre 3816",null,"100/3.25z",100,0,{"$f":"ROUND(G76*F76/F76,2)","v":0},"Cs",{"v":46.42,"d":"$46.42"},{"$f":"IF(OR(ISBLANK(J76),G76=0,ISBLANK(G76)),,ROUND(J76+$K$3,2))","v":0},{"$f":"ROUND(H76*K76,2)","v":0},{"$f":"ROUND(K76/F76,2)","v":0},{"v":28.44,"d":"$28.44"},{"v":2.3181,"d":"$2.3181"},9.31,{"$f":"ROUND(O76*P76,2)","v":{"v":21.58,"d":"$21.58"}},0,{"$f":"R76/F76","v":0},{"$f":"N76/F76","v":{"v":0.2844,"d":"$0.28"}}]
[null,"Frozen, fully cooked ground beef (no more than 20% fat) Alternate protein products must","Com#: 3716",{"$nulls":16}," "]
[null,"meet the requirements in Appendix 7 CFR 210.  Sodium content is not more than 250 mg",{"$nulls":17}," "]
[null,"per serving,  Product provides 2.0 oz. M/MA per serving"]
[null,"Possible Allergens:  Wheat, Soy, Milk",{"$nulls":17}," "]
[18,"Beef Pattie, Salisbury Steak","Advanced Pierre 3-16-530-0 Com #: 1-16-530-0",null,"170/3.0z",170,0,{"$f":"ROUND(G81*F81/F81,2)","v":0},"Cs",{"v":57.93,"d":"$57.93"},{"$f":"IF(OR(ISBLANK(J81),G81=0,ISBLANK(G81)),,ROUND(J81+$K$3,2))","v":0},{"$f":"ROUND(H81*K81,2)","v":0},{"$f":"ROUND(K81/F81,2)","v":0},0,{"v":2.3181,"d":"$2.3181"},24.25,{"$f":"ROUND(O81*P81,2)","v":{"v":56.21,"d":"$56.21"}},0,{"$f":"R81/F81","v":0},{"$f":"N81/F81","v":0}]
[null,"Frozen, fully cooked ground beef (no more than 30% fat) 100-200 calories with no more ","JTM 5632CE Com #: CP5632",null,"173/2.78z",173,null,{"$f":"ROUND(G81*F81/F82,2)","v":0},"Cs",{"$nulls":4},0,{"v":2.3181,"d":"$2.3181"},25.38,{"$f":"ROUND(O82*P82,2)","v":{"v":58.83,"d":"$58.83"}},0,{"$f":"R82/F82","v":0},{"$f":"N82/F82","v":0}]
[null,"than 6 g sat fat and 450 mg sodium per serving.  CN labeled for one portion to provide","Don Lee Farms CN752253 ",null,"240/2.25z",240,null,{"$f":"ROUND(G81*F81/F83,2)","v":0},"Cs",{"$nulls":4},0,{"v":2.3181,"d":"$2.3181"},{"v":33.2,"d":"33.20"},{"v":76.96,"d":"$76.96"},0,0,0]
[null,"min. 2.0 oz. M/MA.  VPP Allowed","Don Lee Farms Com#:  CNQ752503",null,"200/2.50z",200,null,{"$f":"ROUND(G81*F81/F84,2)","v":0},"Cs",{"$nulls":4},{"v":21.88,"d":"$21.88"},{"v":2.3181,"d":"$2.3181"},{"v":33.2,"d":"33.20"},{"$f":"ROUND(O84*P84,2)","v":{"v":76.96,"d":"$76.96"}},0,0,{"$f":"N84/F84","v":{"v":0.1094,"d":"$0.11"}}]
[null,"Possible Allergens: Wheat, Soy, Milk","AFG 290852",null,"208/2.30z",208,null,{"$f":"ROUND(G81*F81/F85,2)","v":0},"Cs",{"$nulls":4},0]
[19,"Beef Spaghetti Sauce","JTM 5578CE Com #: CP5578",null,"6/5 lbs",86,0,{"$f":"ROUND(G86*F86/F86,2)","v":0},"Cs",{"v":65.93,"d":"$65.93"},{"$f":"IF(OR(ISBLANK(J86),G86=0,ISBLANK(G86)),,ROUND(J86+$K$3,2))","v":0},{"$f":"ROUND(H86*K86,2)","v":0},{"$f":"ROUND(K86/F86,2)","v":0},{"v":28.16,"d":"$28.16"},{"v":2.3181,"d":"$2.3181"},14.94,{"$f":"ROUND(O86*P86,2)","v":{"v":34.63,"d":"$34.63"}},0,0,{"$f":"N86/F86","v":{"v":0.3274418604651163,"d":"$0.33"}}]
[null,"Frozen, fully cooked Boilable bags, 150-250 calories with no more than 3 g saturated fat"," ",{"$nulls":16}," "]
[null,"and 300 mg sodium per serving. CN labeled with serving size to provide 2.0 oz. M/MA",{"$nulls":17}," "]
[null,"and 1/2 c Red/Orange Vegetable No VPP"]
[null,"Possible Allergens:  None listed",{"$nulls":17}," "]
[20,"Beef Steak, Breaded for Biscuits, WG","Advanced Pierre 68033 Com #: 69033",null,"250/1.97z",250,0,{"$f":"ROUND(G91*F91/F91,2)","v":0},"Cs",{"$nulls":4},0,{"v":2.3181,"d":"$2.3181"},22.29,{"$f":"ROUND(O91*P91,2)","v":{"v":51.67,"d":"$51.67"}},{"$f":"K91-Q91","v":{"v":-51.67,"d":"$(51.67)"}},{"$f":"R91/F91","v":{"v":-0.20668,"d":"$(0.21)"}},{"$f":"N91/F91","v":0}]
[null,"Frozen, IQF, Fully cooked ground beef (no more than 30% fat) 150-250 calories with no ","Don Lee Farms CN621603 Com #: CNQ621603",null,"300/1.60z",300,null,{"$f":"ROUND(G91*F91/F92,2)","v":0},"Cs",{"v":80.7,"d":"$80.70"},{"$f":"IF(OR(ISBLANK(J92),G91=0,ISBLANK(G91)),,ROUND(J92+$K$3,2))","v":0},{"$f":"ROUND(H92*K92,2)","v":0},{"$f":"ROUND(K92/F92,2)","v":0},0,{"v":2.3181,"d":"$2.3181"},{"v":33.5,"d":"33.50"},{"$f":"ROUND(O92*P92,2)","v":{"v":77.66,"d":"$77.66"}},{"$f":"K92-Q92","v":{"v":-77.66,"d":"$(77.66)"}},{"$f":"R92/F92","v":{"v":-0.25886666666666663,"d":"$(0.26)"}},{"$f":"N92/F92","v":0}]
[null,"more than 5 g of saturated fat and 400 mg sodium per serving. CN labeled for one portion",{"$nulls":17}," "]
[null,"to provide min. 1.0 oz. M/MA and .75 OEG No VPP"]
[null,"Possible Allergens: Wheat, Soy, Milk",{"$nulls":17}," "]
[21,"Beef Brisket with BBQ Sauce","Brookwood Farms 11125",null,"2/5 lbs",44,0,{"$f":"ROUND(G96*F96/F96,2)","v":0},"Cs",{"v":44.4,"d":"$44.40"},{"$f":"IF(OR(ISBLANK(J96),G96=0,ISBLANK(G96)),,ROUND(J96+$K$3,2))","v":0},{"$f":"ROUND(H96*K96,2)","v":0},{"$f":"ROUND(K96/F96,2)","v":0},0]
[null,"Frozen, fully cooked, sodium must not exceed 300 mg and 350 calories per 2.0 oz. "," ",{"$nulls":16}," "]
[null,"serving.  Must provide 2 oz. M/MA ",{"$nulls":17}," "]
[null,"Possible Allergens: ",{"$nulls":17}," "]
[{"$nulls":6},0,null,"Page Total",null,null,{"$f":"SUMIF(L7:L99,\">0\")","v":{"v":30144.53,"d":"$30,144.53"}}]

{"sheet":"Turkey","index":3,"n_rows":60,"n_cols":21,"rows_kept":60,"merged":[[0,4,0,12],[1,4,1,12],[2,5,2,9]]}
[null,{"$f":"'Recap Sheet'!A2","v":"School Food Authority:"},null,null,{"$f":"'Recap Sheet'!A3","v":"Offeror Name:"}]
[null,{"$f":"'Recap Sheet'!B2","v":"WILLIAMSBURG COUNTY SCHOOLS"},"Return to Recap Sheet",null,{"$f":"'Recap Sheet'!B3","v":{"v":0,"d":"0 "}},{"$nulls":9}," ","Commodity"]
["Item","Description","Approved Brand Name / Manuf ID # ",null,null,"Firm Fixed Fee",{"$nulls":4},{"$f":"'Recap Sheet'!B4","v":{"v":0,"d":"$0.00"}},null,null,"Processing","Commodity","Pounds of","Commodity","NOI ","Net NOI","Total Cost"]
["#",null,null,"Distributor","Vendor","Svgs","Est.","Bid ","Bid","Unit","Unit Price","Total ","Cost per","Fee for","Value Per","DF Needed","Value  Per","Net","Cost Per","Processing Fee"]
[{"$nulls":3},"Code","Pack","per unit","Bid Qty","Qty","Unit","Price","plus Fee","Price","Unit","Service","Pound","Per Case","Case","Price","Serving","For Service"]
[null,"Category: Turkey ",{"$nulls":11},"Turkey 100124"]
[1,"Turkey Breast, Deli Sliced, Frozen (1/2 oz. slices) ","Jennie O 2099",null,"64/3.0z",64,15,{"$f":"ROUND(G7*F7/F7,2)","v":15},"Cs",{"v":40.8,"d":"$40.80"},{"$f":"IF(OR(ISBLANK(J7),G7=0,ISBLANK(G7)),,ROUND(J7+$K$3,2))","v":{"v":40.8,"d":"$40.80"}},{"$f":"ROUND(H7*K7,2)","v":{"v":612,"d":"$612.00"}},{"$f":"ROUND(K7/F7,2)","v":{"v":0.64,"d":"$0.64"}},{"v":22.08,"d":"$22.08"},{"v":1.1772,"d":"$1.1772"},10.71,{"$f":"ROUND(O7*P7,2)","v":{"v":12.61,"d":"$12.61"}}," "," ",{"$f":"N7/F7","v":{"v":0.345,"d":"$0.35"}}]
[null,"Frozen, fully cooked, Oven roasted, Round Shape 50-150 calories with not more ","Harvest Provisions 700168",null,"122/3.93z",122,null,{"$f":"ROUND(G7*F7/F8,2)","v":7.87},"Cs",{"$nulls":4},0,{"v":1.1772,"d":"$1.1772"},27.74,{"$f":"ROUND(O8*P8,2)","v":{"v":32.66,"d":"$32.66"}}," "," ",{"$f":"N8/F8","v":0}]
[null,"than 2 g saturated fat and  400 mg sodium per serving, CN labeled portion to "," ",null," "," ",null," "," "," "," "," "," "," "," "," "," "," "," "," "]
[null,"provide 2 M/MA "]
[null,"Possible Allegens:  None Listed Gluten Free"]
[2,"Turkey Ham, Sliced, (1/2 oz. slices)","Jennie O 2565",null,"12/1 lb",62,5,{"$f":"ROUND(G12*F12/F12,2)","v":5},"Cs",{"v":39.96,"d":"$39.96"},{"$f":"IF(OR(ISBLANK(J12),G12=0,ISBLANK(G12)),,ROUND(J12+$K$3,2))","v":{"v":39.96,"d":"$39.96"}},{"$f":"ROUND(H12*K12,2)","v":{"v":199.8,"d":"$199.80"}},{"$f":"ROUND(K12/F12,2)","v":{"v":0.64,"d":"$0.64"}},{"v":22.68,"d":"$22.68"},{"v":1.1772,"d":"$1.1772"},13.26,{"$f":"ROUND(O12*P12,2)","v":{"v":15.61,"d":"$15.61"}},0,{"$f":"R12/F12","v":0},{"$f":"N12/F12","v":{"v":0.3658064516129032,"d":"$0.37"}}]
[null,"Frozen, fully cooked, No more than 10% water added 95% fat-free by weight "," ",null," "," ",null," "," ",null," "," "," ",null," "," "," ","  "," "," "]
[null,"50-150 calories with no more than  2 g sat fat and 550 mg sodium per 2 oz. serving"," "," "," "," ",null," "," ",null," "," "," ",null," "," "," "," "," "," "]
[null,"Possible Allergens:  None Listed Gluten Free"]
[3,"Turkey, Combo Frozen","Jennie O 2095",null,"4/3/1 lbs",71,290,{"$f":"ROUND(G16*F16/F16,2)","v":290},"Cs",{"v":35.16,"d":"$35.16"},{"$f":"IF(OR(ISBLANK(J16),G16=0,ISBLANK(G16)),,ROUND(J16+$K$3,2))","v":{"v":35.16,"d":"$35.16"}},{"$f":"ROUND(H16*K16,2)","v":{"v":10196.4,"d":"$10,196.40"}},{"$f":"ROUND(K16/F16,2)","v":{"v":0.5,"d":"$0.50"}},{"v":22.68,"d":"$22.68"},{"v":1.1772,"d":"$1.1772"},10.53,{"$f":"ROUND(O16*P16,2)","v":{"v":12.4,"d":"$12.40"}},0,0,{"$f":"N16/F16","v":{"v":0.31943661971830983,"d":"$0.32"}}]
[null,"Frozen, fully cooked, All turkey equal parts bologna, ham, and salami.  Each flavor "," ",null," "," ",null," "," ",null," "," "," ",null," "," "," ","  "," "," "]
[null,"packed separately, 1/2 oz. slices.  May contain sodium nitrite"," "," "," "," ",null," "," ",null," "," "," ",null," "," "," "," "," "," "]
[null,"Possible Allergens:  None Listed Gluten Free"]
[4,"Turkey, Roast Light and Dark Meat Frozen","Jennie O 3170-04",null,"4/9 lbs",209,0,{"$f":"ROUND(G20*F20/F20,2)","v":0},"Cs",{"v":110.88,"d":"$110.88"},{"$f":"IF(OR(ISBLANK(J20),G20=0,ISBLANK(G20)),,ROUND(J20+$K$3,2))","v":0},{"$f":"ROUND(H20*K20,2)","v":0},{"$f":"ROUND(K20/F20,2)","v":0},{"v":65.52,"d":"$65.52"},{"v":1.1772,"d":"$1.1772"},41.31,{"$f":"ROUND(O20*P20,2)","v":{"v":48.63,"d":"$48.63"}},0,{"$f":"R20/F20","v":0},{"$f":"N20/F20","v":{"v":0.31349282296650716,"d":"$0.31"}}]
[null,"Frozen, fully cooked, Whole muscle breast and thigh roast, Packed in ovenable Mylar "," ",null," "," ",null," "," "," "," ",null," "," "," "," "," "," "," "," "]
[null,"bags, natural skin on, 50-150 calories with no more than 2 g sat fat and 480 mg sodium"," "]
[null,"per 2 M/MA serving.  CN Labeled"]
[null,"Possible Allergens:  None Listed Gluten Free","Catch Weight per Pound ",{"v":3.08,"d":"$3.08"}]
[5,"Turkey, Roast Light and Dark Meat Frozen","Harvest Provisions 8700131",null,"97/3.13z",97,0,{"$f":"ROUND(G25*F25/F25,2)","v":0},"Cs",{"v":53.02,"d":"$53.02"},{"$f":"IF(OR(ISBLANK(J25),G25=0,ISBLANK(G25)),,ROUND(J25+$K$3,2))","v":0},{"$f":"ROUND(H25*K25,2)","v":0},{"$f":"ROUND(K25/F25,2)","v":0},{"v":29.26,"d":"$29.26"},{"v":1.1772,"d":"$1.1772"},20.18,{"$f":"ROUND(O25*P25,2)","v":{"v":23.76,"d":"$23.76"}},{"$f":"K25-Q25","v":{"v":-23.76,"d":"$(23.76)"}},{"$f":"R25/F25","v":{"v":-0.24494845360824744,"d":"$(0.24)"}},{"$f":"N25/F25","v":{"v":0.3016494845360825,"d":"$0.30"}}]
[null,"60% White/40% Dark, boned and netted seasoned  breast & thigh roast. Ready to",null,null," "," ",null," "," "," "," "," "," "," "," "," "," "," "," "," "]
[null,"cook, Frozen, NO MSG, 2 oz. raw provides 1.25 oz M/MA Catch weight"]
[null,"Possible Allergens:  None Listed Gluten Free","Catch Weight per Pound ",{"v":3.18,"d":"$3.18"}]
[6,"Turkey Pot Roast, Light and Dark Meat","Harvest Provisions 700267",null,"135/3.55z",135,0,{"$f":"ROUND(G29*F29/F29,2)","v":0},"Cs",{"v":95.29,"d":"$95.29"},{"$f":"IF(OR(ISBLANK(J29),G29=0,ISBLANK(G29)),,ROUND(J29+$K$3,2))","v":0},{"$f":"ROUND(H29*K29,2)","v":0},{"$f":"ROUND(K29/F29,2)","v":0},{"v":53.42,"d":"$53.42"},{"v":1.1772,"d":"$1.1772"},35.57,{"$f":"ROUND(O29*P29,2)","v":{"v":41.87,"d":"$41.87"}},{"$f":"K29-Q29","v":{"v":-41.87,"d":"$(41.87)"}},{"$f":"R29/F29","v":{"v":-0.3101481481481481,"d":"$(0.31)"}},{"$f":"N29/F29","v":{"v":0.3957037037037037,"d":"$0.40"}}]
[null,"Frozen, Fully cooked. Made of breast and thigh meat, seasoned, "," ",null," "," ",null," "," "," "," "," "," "," "," "," "," "," "," "," "," "]
[null,"Possible Allergens:  None Listed Gluten Free","Catch Weight per Pound ",{"v":3.18,"d":"$3.18"}]
[7,"Turkey Sausage Patty ","Jimmy Dean 14106 CN",null,"106/1.50z",106,0,{"$f":"ROUND(G32*F32/F32,2)","v":0},"Cs",{"v":17.4,"d":"$17.40"},{"$f":"IF(OR(ISBLANK(J32),G32=0,ISBLANK(G32)),,ROUND(J32+$K$3,2))","v":0},{"$f":"ROUND(H32*K32,2)","v":0},{"$f":"ROUND(K32/F32,2)","v":0},13.23,13.23,13.23,{"$f":"ROUND(O32*P32,2)","v":{"v":175.03,"d":"$175.03"}},{"$f":"K32-Q32","v":{"v":-175.03,"d":"$(175.03)"}},{"$f":"R32/F32","v":{"v":-1.6512264150943397,"d":"$(1.65)"}},{"$f":"S32/G32","v":{"$error":"#DIV/0!"}}]
[null,"Frozen, Fully cooked, No VPP, 50-100 cals per svg no more than 3 g sat fat  ",{"$nulls":12}," "," "," ","  "," "," "]
[null,"and 320 mg sodium CN labeld to provide 1 M/MA"]
[null,"Possible Allergens:  None Listed "]
[8,"Turkey Sausage Patty Lower Sodium","Jennie O 6132",null,"160/1.03z",160,0,{"$f":"ROUND(G36*F36/F36,2)","v":0},"Cs",{"v":36.49,"d":"$36.49"},{"$f":"IF(OR(ISBLANK(J36),G36=0,ISBLANK(G36)),,ROUND(J36+$K$3,2))","v":0},{"$f":"ROUND(H36*K36,2)","v":0},{"$f":"ROUND(K36/F36,2)","v":0},{"v":23.06,"d":"$23.06"},{"v":1.1772,"d":"$1.1772"},9.97,{"$f":"ROUND(O36*P36,2)","v":{"v":11.74,"d":"$11.74"}},0,0,{"$f":"N36/F36","v":{"v":0.144125,"d":"$0.14"}}]
[null,"Frozen, fully cooked, No VPP, 50-100 cals per svg no more than 2 g sat fat and 150 mg "]
[null,"sodium per 1 M/MA serving Certified to provide 1 M/MA"]
[null,"Possible Allergens:  None Listed Gluten Free"]
[9,"Turkey, Shredded with Gravy","Jennie O 2847-28",null,"4/7 lbs",112,0,{"$f":"ROUND(G40*F40/F40,2)","v":0},"Cs",{"v":71.68,"d":"$71.68"},{"$f":"IF(OR(ISBLANK(J40),G40=0,ISBLANK(G40)),,ROUND(J40+$K$3,2))","v":0},{"$f":"ROUND(H40*K40,2)","v":0},{"$f":"ROUND(K40/F40,2)","v":0},{"v":46.48,"d":"$46.48"},{"v":1.1772,"d":"$1.1772"},21.01,{"$f":"ROUND(O40*P40,2)","v":{"v":24.73,"d":"$24.73"}},0,{"$f":"R40/F40","v":0},{"$f":"N40/F40","v":{"v":0.415,"d":"$0.42"}}]
[null,"Frozen, fully cooked, white and dark meat, packed in boil-in-bag, 100-200 calories with"," ",{"$nulls":11}," "," "," ","  "," "," "]
[null,"no more than 3 g saturated fat and 480 mg sodium per 2 M/MA serving.  CN Labeled"," "]
[null,"Possible Allergens:  Soy, Gluten Free "]
[10,"Turkey Taco Filling","Jennie O 2856-28",null,"4/7 lbs",147,0,{"$f":"ROUND(G44*F44/F44,2)","v":0},"Cs",{"v":72.24,"d":"$72.24"},{"$f":"IF(OR(ISBLANK(J44),G44=0,ISBLANK(G44)),,ROUND(J44+$K$3,2))","v":0},{"$f":"ROUND(H44*K44,2)","v":0},{"$f":"ROUND(K44/F44,2)","v":0},{"v":37.52,"d":"$37.52"},{"v":1.1772,"d":"$1.1772"},29.26,{"$f":"ROUND(O44*P44,2)","v":{"v":34.44,"d":"$34.44"}},0,{"$f":"R44/F44","v":0},{"$f":"N44/F44","v":{"v":0.25523809523809526,"d":"$0.26"}}]
[null,"Frozen, fully cooked, dark/white meat, pre-seasoned, 100-200 calories with no more than "," ",{"$nulls":11}," "," "," ","  "," "," "]
[null,"400 mg sodium per 2 M/MA serving, boil or steam in bag, CN Labeled"," "]
[null,"Possible Allergens:  None Listed "]
[11,"Turkey Breast Beef Steak","Jennie O 2303-24",null,"140/2.82z",140,0,{"$f":"ROUND(G48*F48/F48,2)","v":0},"Cs",{"v":104.89,"d":"$104.89"},{"$f":"IF(OR(ISBLANK(J48),G48=0,ISBLANK(G48)),,ROUND(J48+$K$3,2))","v":0},{"$f":"ROUND(H48*K48,2)","v":0},{"$f":"ROUND(K48/F48,2)","v":0},{"v":65.65,"d":"$65.65"},{"v":1.1772,"d":"$1.1772"},25.51,{"$f":"ROUND(O48*P48,2)","v":{"v":30.03,"d":"$30.03"}},0,{"$f":"R48/F48","v":0},{"$f":"N48/F48","v":{"v":0.4689285714285715,"d":"$0.47"}}]
[null,"Frozen, fully cooked, 50-150 calories with no more than 2 g sat fat and 400 mg"," ",{"$nulls":11}," "," "," ","  "," "," "]
[null,"sodium per 2 oz. serving"," "]
[null,"Possible Allergens:  None Listed "]
[12,"Turkey Bacon","Jennie O 2711-06",null,"120/1.0z",120,0,{"$f":"ROUND(G52*F52/F52,2)","v":0},"Cs",{"v":81.45,"d":"$81.45"},{"$f":"IF(OR(ISBLANK(J52),G52=0,ISBLANK(G52)),,ROUND(J52+$K$3,2))","v":0},{"$f":"ROUND(H52*K52,2)","v":0},{"$f":"ROUND(K52/F52,2)","v":0},{"v":72.53,"d":"$72.53"},{"v":1.1772,"d":"$1.1772"},6.64,{"$f":"ROUND(O52*P52,2)","v":{"v":7.82,"d":"$7.82"}},0,{"$f":"R52/F52","v":0},{"$f":"N52/F52","v":{"v":0.6044166666666667,"d":"$0.60"}}]
[null,"Frozen, pre-cooked and pre-crisped, One slice contains .179 of cooked M/MA Contains"," ",{"$nulls":11}," "," "," ","  "," "," "]
[null,"both light and dark meat"," "]
[null,"Possible Allergens:  None Listed "]
[13,"Turkey Sliced All Natural Turkey Breast","Jennie O 2318-18",null,"96/3.0z",96,0,{"$f":"ROUND(G56*F56/F56,2)","v":0},"Cs",{"v":77.4,"d":"$77.40"},{"$f":"IF(OR(ISBLANK(J56),G56=0,ISBLANK(G56)),,ROUND(J56+$K$3,2))","v":0},{"$f":"ROUND(H56*K56,2)","v":0},{"$f":"ROUND(K56/F56,2)","v":0},{"v":46.8,"d":"$46.80"},{"v":1.1772,"d":"$1.1772"},18.21,{"$f":"ROUND(O56*P56,2)","v":{"v":21.44,"d":"$21.44"}},0,{"$f":"R56/F56","v":0},{"$f":"N56/F56","v":{"v":0.4875,"d":"$0.49"}}]
[null,"Frozen, fully cooked, oven roasted, round shaped, 50-150 calories with no more than "," ",{"$nulls":11}," "," "," ","  "," "," "]
[null,"1 g sat fat and 450 mg sodium per serving, CN Labeled"," "]
[null,"Possible Allergens:  None Listed, Gluten Free "]
[{"$nulls":8},"Page Total",null,null,{"$f":"SUMIF(L7:L59,\">0\")","v":{"v":11008.199999999999,"d":"$11,008.20"}}]

{"sheet":"Pork","index":4,"n_rows":50,"n_cols":20,"rows_kept":50,"merged":[[0,4,0,12],[1,4,1,12],[2,5,2,9]]}
[null,{"$f":"'Recap Sheet'!A2","v":"School Food Authority:"},null,null,{"$f":"'Recap Sheet'!A3","v":"Offeror Name:"}]
[null,{"$f":"'Recap Sheet'!B2","v":"WILLIAMSBURG COUNTY SCHOOLS"},"Return to Recap Sheet",null,{"$f":"'Recap Sheet'!B3","v":{"v":0,"d":"0 "}},{"$nulls":9}," ","Commodity"]
["Item","Description","Approved Brand Name / Manuf ID # ",null,null,"Firm Fixed Fee",{"$nulls":4},{"$f":"'Recap Sheet'!B4","v":{"v":0,"d":"$0.00"}},null,null,"Processing ","Commodity","Pounds of",null,null,"NOI ","Net "]
["#",null,null,"Distributor","Vendor","Svgs","Est.","Bid ","Bid","Unit","Unit Price","Total ","Cost per","Fee for","Value Per","DF Needed","Commodity","NOI ","Price/","Cost Per"]
[{"$nulls":3},"Code","Pack","per unit","Bid Qty","Qty","Unit","Price","plus Fee","Price","Unit","Service","Pound","Per Case","Value ","Price","Serving","Serving"]
[null,"Pork Products",{"$nulls":12},"Pork 1000193"]
[1,"Pork Barbecue, Tomato Sauce","Chandler 16-550 CN ",null,"4/5 lbs",92,85,{"$f":"ROUND(G7*F7/F7,2)","v":85},"Cs",{"v":51.8,"d":"$51.80"},{"$f":"IF(OR(ISBLANK(J7),G7=0,ISBLANK(G7)),,ROUND(J7+$K$3,2))","v":{"v":51.8,"d":"$51.80"}},{"$f":"ROUND(H7*K7,2)","v":{"v":4403,"d":"$4,403.00"}},{"$f":"ROUND(K7/F7,2)","v":{"v":0.56,"d":"$0.56"}}," ",{"v":1.3372,"d":"$1.3372"},10.71," ",{"$f":"K7-Q7","v":{"$error":"#VALUE!"}},{"$f":"R7/F7","v":{"$error":"#VALUE!"}},{"$f":"N7/F7","v":{"$error":"#VALUE!"}}]
[null,"Frozen, fully cooked.  Chopped. Products shall contain no more than ","Brookwood 13017",null,"4/5 lbs",98,null,{"$f":"ROUND(G7*F7/F8,2)","v":79.8},"Cs",{"$nulls":4}," ",{"v":1.3372,"d":"$1.3372"},10.71," ",{"$f":"K8-Q8","v":{"$error":"#VALUE!"}},{"$f":"R8/F8","v":{"$error":"#VALUE!"}},{"$f":"N8/F8","v":{"$error":"#VALUE!"}}]
[null,"5% textured vegetable protein.  USDA inspected pork.  ","Castleberry 7046CN",null,"4/5 lbs",103,null,{"$f":"ROUND(G7*F7/F9,2)","v":75.92},"Cs",{"$nulls":4}," ",{"v":1.3372,"d":"$1.3372"},10.71," ",{"$f":"K9-Q9","v":{"$error":"#VALUE!"}},{"$f":"R9/F9","v":{"$error":"#VALUE!"}},{"$error":"#VALUE!"}]
[null,"Possible Allergens:  Soy, Wheat"," ",null," "," ",null," "," "," "," "," "," ",null," "," "," "," "," ",{"$error":"#VALUE!"}]
[2,"Pork Barbecue, Lower Sodium Texas Western Sauce","Brookwood 12013 ",null,"2/5 lbs",40,0,{"$f":"ROUND($G$11*$F$11/F11,2)","v":0},"Cs",{"v":35.4,"d":"$35.40"},{"$f":"IF(OR(ISBLANK(J11),G11=0,ISBLANK(G11)),,ROUND(J11+$K$3,2))","v":0},0,0,0,{"v":1.1119,"d":"$1.1119"},22.8,{"$f":"ROUND(O11*P11,2)","v":{"v":25.35,"d":"$25.35"}}," "," ",0]
[null,"Frozen, fully cooked, 150-300 calories with no more than 7g sat fat and 275 mg","Brookwood Comm # 12307",null,"4/5 lbs",80,null," "," ",null," "," "," ",{"v":31,"d":"$31.00"},{"v":1.1119,"d":"$1.1119"},22.8,{"$f":"ROUND(O12*P12,2)","v":{"v":25.35,"d":"$25.35"}}," "," ",{"$f":"N12/F12","v":{"v":0.3875,"d":"$0.39"}}]
[null,"sodium per serving.  Must provide 2 oz. M/MA 0 trans fat"," "," "," ","  ",null," "," ",null," "," "," ",null," "," "," "," "," "," "]
[null,"Possible Allergens:  Soy"," ",null," "," ",null," "," ",null," "," "," ",null," "," "," "," "," "," "]
[3,"Pork, Barbecue, Vinegar Marinate/Semi Dry","Brookwood 12105 ",null,"2/5 lbs",64,0,{"$f":"ROUND($G$15*$F$15/F15,2)","v":0},"Cs",{"v":39.1,"d":"$39.10"},{"$f":"IF(OR(ISBLANK(J15),G15=0,ISBLANK(G15)),,ROUND(J15+$K$3,2))","v":0},{"$f":"ROUND(H15*K15,2)","v":0},{"$f":"ROUND(K15/F15,2)","v":0},0,{"v":1.1119,"d":"$1.1119"},64,{"$f":"ROUND(O15*P15,2)","v":{"v":71.16,"d":"$71.16"}},0,{"$f":"R15/F15","v":0},0]
[null,"Frozen, fully cooked 200-300  calories with no more than 7g sat fat and 275 mg ","Brookwood Comm # 12302",null,"8/5 lbs",256,null," "," ",null," "," "," ",{"v":76.4,"d":"$76.40"},{"v":1.1119,"d":"$1.1119"},64,{"$f":"ROUND(O16*P16,2)","v":{"v":71.16,"d":"$71.16"}}," "," ",{"v":0.2984375,"d":"$0.30"}]
[null,"sodium per serving.  Must provide 2 oz. M/MA 0 trans fat"," "," "," ","  ",null," "," ",null," "," "," ",null," "," "," "," "," "," "]
[null,"Possible Allergens:  Soy",{"$nulls":12}," "," "," "," "," "," "]
[4,"Ham, Buffet","John Morrell 70100-04268",null,"2/10-12 lb",22,5,{"$f":"ROUND(G19*F19/F19,2)","v":5},"Cs",{"v":37.4,"d":"$37.40"},{"$f":"IF(OR(ISBLANK(J19),G19=0,ISBLANK(G19)),,ROUND(J19+$K$3,2))","v":{"v":37.4,"d":"$37.40"}},{"$f":"ROUND(H19*K19,2)","v":{"v":187,"d":"$187.00"}},{"$f":"ROUND(K19/F19,2)","v":{"v":1.7,"d":"$1.70"}},null,{"v":0,"d":"$0.0000"},0,{"$f":"ROUND(O19*P19,2)","v":{"v":0,"d":"$0.00"}},{"$f":"K19-Q19","v":{"v":37.4,"d":"$37.40"}},{"$f":"R19/F19","v":{"v":1.7,"d":"$1.70"}},0]
[null,"Fully cooked, water added, boneless, smoked","Farmland 190450",null,"2/9-10 lb",20,null,{"$f":"ROUND(G19*F19/F20,2)","v":5.5},"Cs",null,{"$f":"IF(OR(ISBLANK(J20),G18=0,ISBLANK(G18)),,ROUND(J20+$K$3,2))","v":0},0,0,null," "," "," "," "," ",0]
[null,null,"John Morrell 70100-04799",null,"2/10 lb",20,null,{"$f":"ROUND(G19*F19/F21,2)","v":5.5},"Cs",null,{"$f":"IF(OR(ISBLANK(J21),G19=0,ISBLANK(G19)),,ROUND(J21+$K$3,2))","v":0},{"$f":"ROUND(H21*K21,2)","v":0},{"$f":"ROUND(K21/F21,2)","v":0},null," "," "," "," "," ",0]
[null,null,"Carolina Pride 2328",null,"2/10 lb",18,null,{"$f":"ROUND(G19*F19/F22,2)","v":6.11},"Cs",null,{"$f":"IF(OR(ISBLANK(J22),G20=0,ISBLANK(G20)),,ROUND(J22+$K$3,2))","v":0},{"$f":"ROUND(H22*K22,2)","v":0},{"$f":"ROUND(K22/F22,2)","v":0},null," "," "," "," "," ",0]
[null,"Possible Allergens: None Listed",{"$nulls":12}," "," "," "," "," "," "]
[5,"Ham, Pre-Sliced","Distributor Choice",null,"6/2#",12,5,{"$f":"ROUND($G$24*$F$24/F24,2)","v":5},"Cs",{"$nulls":4}," "]
[null,"Water added, .5 oz. slices, 2.0 oz. serving provides .75 oz. M/MA f","Fillable txt box ",{"$nulls":4},{"$f":"ROUND(G24*F24/F25,2)","v":{"$error":"#DIV/0!"}},"Cs",0,{"$f":"IF(OR(ISBLANK(G24),G24=0,ISBLANK(F25)),,ROUND(J25+$K$3,2))","v":0},{"$f":"ROUND(H25*K25,2)","v":{"$error":"#DIV/0!"}},{"$f":"ROUND(K25/F25,2)","v":{"$error":"#DIV/0!"}}]
[null,"Possible Allergens:  None",{"$nulls":12}," "," "," "," "," "," "]
[6,"Sausage Link with APP","Briar Street Market 19331CN",null,"137/1.16z",137,220,{"$f":"ROUND(G27*F27/F27,2)","v":220},"Cs",{"v":18.5,"d":"$18.50"},{"$f":"IF(OR(ISBLANK(J27),G27=0,ISBLANK(G27)),,ROUND(J27+$K$3,2))","v":{"v":18.5,"d":"$18.50"}},{"$f":"ROUND(H27*K27,2)","v":{"v":4070,"d":"$4,070.00"}},{"$f":"ROUND(K27/F27,2)","v":{"v":0.14,"d":"$0.14"}}," "," "," "," "," "," ",{"$error":"#VALUE!"}]
[null,"Fully cooked, 1.16 ounce to yield 1 M/MA ",{"$nulls":12}," "," "," "," "," "," "]
[null,"Possible Allergens:  Soy"," ",{"$nulls":11}," "," "," "," "," "," "]
[7,"Sausage Patty, No APP","Swaggerty 60010 CN ",null,"160/1.0z",160,175,{"$f":"ROUND($G$30*$F$30/F30,2)","v":175},"Cs",{"v":17.5,"d":"$17.50"},{"$f":"IF(OR(ISBLANK(J30),G30=0,ISBLANK(G30)),,ROUND(J30+$K$3,2))","v":{"v":17.5,"d":"$17.50"}},{"$f":"ROUND(H30*K30,2)","v":{"v":3062.5,"d":"$3,062.50"}},{"$f":"ROUND(K30/F30,2)","v":{"v":0.11,"d":"$0.11"}}," "," "," "," "," "," ",{"$error":"#VALUE!"}]
[null,"Frozen, fully cooked, No alternate protein product must provide 1 oz. M/MA","Ember Farms 25468111007",null,"10 lb",79,null,{"$f":"ROUND($G$30*$F$30/F31,2)","v":354.43},"Cs",{"$nulls":4}," "," "," "," "," "," ",{"$error":"#VALUE!"}]
[null,"Possible Allergens:  Soy"," JTM 5649CE Com#: CP5649",null,"361/1.33z",361,null,{"$f":"ROUND($G$30*$F$30/F32,2)","v":77.56},"Cs",null,{"$f":"IF(OR(ISBLANK(J32),G30=0,ISBLANK(G30)),,ROUND(J32+$K$3,2))","v":0},{"$f":"ROUND(H32*K32,2)","v":0},{"$f":"ROUND(K32/F32,2)","v":0},{"v":35,"d":"$35.00"},{"v":1.1119,"d":"$1.1119"},26.41,{"$f":"ROUND(O32*P32,2)","v":{"v":29.37,"d":"$29.37"}}," "," ",{"v":0.09695290858725762,"d":"$0.10"}]
[8,"Sausage Patty with APP","Advanced Pierre 3850 Com #: 3750",null,"250/1.20z",250,80,{"$f":"ROUND(G33*F33/F33,2)","v":80},"Cs",null,{"$f":"IF(OR(ISBLANK(J33),G33=0,ISBLANK(G33)),,ROUND(J33+$K$3,2))","v":0},{"$f":"ROUND(H33*K33,2)","v":0},{"$f":"ROUND(K33/F33,2)","v":0},0,{"v":1.1119,"d":"$1.1119"},22.45,{"$f":"ROUND(O33*P33,2)","v":{"v":24.96,"d":"$24.96"}}," "," ",{"$f":"N33/F33","v":0}]
[null,"Frozen, fully cooked, 50-150 calories with no more than 4 g saturated fat and 275 mg","Briar Street Market 29667CN",null,"153/1.25z",153,null,{"$f":"ROUND($G$33*$F$33/F34,2)","v":{"v":130.72,"d":"131"}},"Cs",null,{"$f":"IF(OR(ISBLANK(J34),G33=0,ISBLANK(G33)),,ROUND(J34+$K$3,2))","v":0},{"$f":"ROUND(K34*H34,2)","v":0},0," "," "," "," "," "," ",{"$error":"#VALUE!"}]
[null,"sodium per serving.  ","Maid Rite 75156-07112 Com #: 75156-97112",null,"400/1.20z",400,null,{"$f":"ROUND($G$33*$F$33/F35,2)","v":50},"Cs",null,{"$f":"IF(OR(ISBLANK(J35),G33=0,ISBLANK(G33)),,ROUND(J35+$K$3,2))","v":0},0,0,0,{"v":1.1119,"d":"$1.1119"},34.841,{"$f":"ROUND(O35*P35,2)","v":{"v":38.74,"d":"$38.74"}}," "," ",{"$f":"N35/F35","v":0}]
[null,null,"Don Lee Farms CN791203L Com #: CNQ791203P",null,"400/1.20z",400,null,{"$f":"ROUND($G$33*$F$33/F36,2)","v":50},"Cs",null,{"$f":"IF(OR(ISBLANK(J36),G34=0,ISBLANK(G34)),,ROUND(J36+$K$3,2))","v":0},{"$f":"ROUND(K36*H36,2)","v":0},{"$f":"ROUND(K36/F36,2)","v":0},{"v":21.3,"d":"$21.30"},{"v":1.1119,"d":"$1.1119"},40,{"$f":"ROUND(O36*P36,2)","v":{"v":44.48,"d":"$44.48"}}," "," ",{"v":0.05325,"d":"$0.05"}]
[null,null,"Tennesee Pride 342CN",null,"128/1.50z",128,null,{"$f":"ROUND($G$33*$F$33/F37,2)","v":{"v":156.25,"d":"156"}},"Cs",null,0,0,0," "," "," "," "," "," ",{"$f":"N37/F37","v":{"$error":"#VALUE!"}}]
[null,"Possible Allergens:  Soy","Swaggerty 60125    ",null,"256/1.25z",256,null,{"$f":"ROUND($G$33*$F$33/F38,2)","v":{"v":78.13,"d":"78"}},"Cs",{"v":31.5,"d":"$31.50"},{"$f":"IF(OR(ISBLANK(J38),G33=0,ISBLANK(G33)),,ROUND(J38+$K$3,2))","v":{"v":31.5,"d":"$31.50"}},{"v":2461.1,"d":"$2,461.10"},{"v":0.12,"d":"$0.12"}," "," "," "," "," "," ",{"$error":"#VALUE!"}]
[10,"Pork Chop Pattie, Breaded, WG","Advanced Pierre 68019 Com #: 69019",null,"100/3.10 z",100,0,{"$f":"ROUND(G39*F39/F39,2)","v":0},"Cs",{"v":35.37,"d":"$35.37"},{"$f":"IF(OR(ISBLANK(J39),G39=0,ISBLANK(G39)),,ROUND(J39+$K$3,2))","v":0},{"$f":"ROUND(K39*H39,2)","v":0},{"$f":"ROUND(K39/F39,2)","v":0},0,{"v":1.1119,"d":"$1.1119"},9.51,{"$f":"ROUND(O39*P39,2)","v":{"v":10.57,"d":"$10.57"}}," "," ",{"$f":"N39/F39","v":0}]
[null,"Frozen, fully cooked, 250-350 calories with no more than 6 g saturated fat and 500 mg","JTM 5694CE Com #: CP5694",null,"138/3.35z",138,null,{"$f":"ROUND($G$39*$F$39/F40,2)","v":0},"Cs",null,{"$f":"IF(OR(ISBLANK(J40),G39=0,ISBLANK(G39)),,ROUND(J40+$K$3,2))","v":0},0,0,{"v":35.6,"d":"$35.60"},{"v":1.1119,"d":"$1.1119"},20.59,{"v":22.89,"d":"$22.89"}," "," ",{"v":0.2579710144927536,"d":"$0.26"}]
[null,"sodium per serving, CN labeled for one portion to provide min. 2 M/MA and .5 OEG"]
[null,"Possible Allergens:  Egg, Milk, Soy and Wheat"]
[11,"Pork Rib Pattie, Barbecue Flavored","Advanced Pierre 44-531-0 Com #: 3787",null,"100/2.50z",100,240,{"$f":"ROUND(G43*F43/F43,2)","v":240},"Cs",{"v":28.37,"d":"$28.37"},{"$f":"IF(OR(ISBLANK(J43),G43=0,ISBLANK(G43)),,ROUND(J43+$K$3,2))","v":{"v":28.37,"d":"$28.37"}},{"$f":"ROUND(K43*H43,2)","v":{"v":6808.8,"d":"$6,808.80"}},{"$f":"ROUND(K43/F43,2)","v":{"v":0.28,"d":"$0.28"}},{"v":16.9,"d":"$16.90"},{"v":1.1119,"d":"$1.1119"},14.89,{"$f":"ROUND(O43*P43,2)","v":{"v":16.56,"d":"$16.56"}}," "," ",{"$f":"N43/F43","v":{"v":0.16899999999999998,"d":"$0.17"}}]
[null,"Frozen, fully cooked, 100-200 calories with no more  than 4 g saturated fat and 400 mg","Maid Rite 75156-05324 Com #: 75156-95324",null,"208/2.40z",208,null,{"$f":"ROUND($G$43*$F$43/F44,2)","v":{"v":115.38,"d":"115"}},"Cs",0,{"$f":"IF(OR(ISBLANK(J44),G43=0,ISBLANK(G43)),,ROUND(J44+$K$3,2))","v":0},0,0,0,{"v":1.1119,"d":"$1.1119"},26.963,{"v":29.98,"d":"$29.98"}," "," ",0]
[null,"sodium per serving.  CN labeled for one portion to provide 2 M/MA ","Don Lee Farms CN582253 Com #: CNQ582253P",null,"216/2.25z",216,null,216,"Cs",0,0,0,0,0,{"v":1.1119,"d":"$1.1119"},38.06,{"$f":"ROUND(O45*P45,2)","v":{"v":42.32,"d":"$42.32"}}," "," ",{"$f":"N45/F45","v":0}]
[null,"Possible Allergens:  Milk, Soy, and Wheat"]
[12,"Sausage, Smoked","Bryan 23258 ",null,"10Lb",80,35,{"$f":"ROUND(G47*F47/F47,2)","v":35},"Cs",0,{"$f":"IF(OR(ISBLANK(J47),G47=0,ISBLANK(G47)),,ROUND(J47+$K$3,2))","v":0},0,0," "," "," "," "," "," ",{"$error":"#VALUE!"}]
[null,"Made with pork and beef ","Swaggerty 21057",null,"15Lb",120,null,{"$f":"ROUND($G$47*$F$47/F48,2)","v":{"v":23.33,"d":"23"}},"Cs",{"v":25.5,"d":"$25.50"},{"$f":"IF(OR(ISBLANK(J48),G47=0,ISBLANK(G47)),,ROUND(J48+$K$3,2))","v":{"v":25.5,"d":"$25.50"}},{"v":594.92,"d":"$594.92"},{"v":0.21,"d":"$0.21"}," "," "," "," "," "," ",{"$error":"#VALUE!"}]
[]
[{"$nulls":8},"Page Total",null,null,{"$f":"SUMIF(L7:L48,\">0\")","v":{"v":21587.32,"d":"$21,587.32"}}]

{"sheet":"Fish","index":5,"n_rows":49,"n_cols":20,"rows_kept":49,"merged":[[1,4,1,12],[2,5,2,9]]}
[null,{"$f":"'Recap Sheet'!A2","v":"School Food Authority:"},null,null,{"$f":"'Recap Sheet'!A3","v":"Offeror Name:"}]
[null,{"$f":"'Recap Sheet'!B2","v":"WILLIAMSBURG COUNTY SCHOOLS"},"Return to Recap Sheet",null,{"$f":"'Recap Sheet'!B3","v":{"v":0,"d":"0 "}},{"$nulls":9}," ","Commodity"]
["Item","Description","Approved Brand Name / Manuf ID # ",null,null,"Firm Fixed Fee",{"$nulls":4},{"$f":"'Recap Sheet'!B4","v":{"v":0,"d":"$0.00"}},null,null,"Processing","Commodity","Pounds of",null,"Net","Net NOI ","Total Cost"]
["#",null,null,"Distributor","Vendor","Svgs","Est.","Bid ","Bid","Unit","Unit Price","Total ","Cost per","Fee for","Value Per","DF Needed","Commodity","NOI ","Cost Per","Processing Fee "]
[{"$nulls":3},"Code","Pack","per unit","Bid Qty","Qty","Unit","Price","plus Fee","Price","Unit","Service","Pound","Per Case","Value ","Price","Serving","Per Serving"]
[null,"Fish Products",{"$nulls":12},"Fish 110601"]
[1,"Fish Portion, Pollock, WG             ","Trident Seafood 418302CN",null,"44/3.64z",44,0,{"$f":"ROUND($G$7*$F$7/F7,2)","v":0},"Cs",null," "," "," ",0,{"v":1.1105,"d":"$1.1105"},6.99,{"$f":"ROUND(O7*P7,2)","v":{"v":7.76,"d":"$7.76"}},0,{"$f":"R7/F7","v":0},{"$f":"N7/F7","v":0}]
[null,"Frozen, Min. 71% Alaskan Pollock, whole grain rich breading, pre-cooked, Grade A ","High Liner Foods 1089869",null,"80/3.60z",80,null,{"$f":"ROUND($G$7*$F$7/F8,2)","v":0},"Cs",{"v":34.3,"d":"$34.30"},{"$f":"IF(OR(ISBLANK(J8),G7=0,ISBLANK(G7)),,ROUND(J8+$K$3,2))","v":0},{"$f":"ROUND(H8*K8,2)","v":0},{"$f":"ROUND(K8/F8,2)","v":0},{"v":20.04,"d":"$20.04"},{"v":1.1105,"d":"$1.1105"},12.84,{"v":14.26,"d":"$14.26"},{"$f":"K8-Q8","v":{"v":-14.26,"d":"$(14.26)"}},{"v":-0.17825,"d":"$(0.18)"},{"v":0.2505,"d":"$0.25"}]
[null,"PUFI approved, 150-250 calories with no more than 2 g saturated fat and 400 mg sodium "," ",null," "," ",null," "," "," "," "," "," "," "," "," "," "," "," "," "]
[null,"per serving, CN labeled to provide min. 2 M/MA and 1 OEG"," ",null," "," ",null," "," "," "," "," "," "," "," "," "," "," "," "," "]
[null,"Possible Allergens:  Fish, Wheat",{"$nulls":17}," "]
[2,"Fish Portion, Pollock, Wedge, Potato Breading WG","High Liner - Viking 06533C",null,"46/3.60z",46,60,{"$f":"ROUND(G12*F12/F12,2)","v":60},"Cs",{"v":22.68,"d":"$22.68"},{"$f":"IF(OR(ISBLANK(J12),G12=0,ISBLANK(G12)),,ROUND(J12+$K$3,2))","v":{"v":22.68,"d":"$22.68"}},{"$f":"ROUND(H12*K12,2)","v":{"v":1360.8,"d":"$1,360.80"}},{"$f":"ROUND(K12/F12,2)","v":{"v":0.49,"d":"$0.49"}},{"v":14.46,"d":"$14.46"},{"v":1.1105,"d":"$1.1105"},7.4,{"$f":"ROUND(O12*P12,2)","v":{"v":8.22,"d":"$8.22"}},{"$f":"K12-Q12","v":{"v":14.459999999999999,"d":"$14.46"}},{"$f":"R12/F12","v":{"v":0.3143478260869565,"d":"$0.31"}},{"$f":"N12/F12","v":{"v":0.31434782608695655,"d":"$0.31"}}]
[null,"Frozen, Min. 71% Alaskan Pollock, whole grain rich breading, pre-cooked, Grade A ","Trident Seafood 422072",null,"44/3.60z",44,null,{"$f":"ROUND(G12*F12/F13,2)","v":62.73},"Cs",{"$nulls":4},0,{"v":1.1105,"d":"$1.1105"},6.99,{"v":7.76,"d":"$7.76"},0,0,0]
[null,"PUFI approved, 150-250 calories with no more than 2 g saturated fat and 300 mg sodium "]
[null,"per serving, CN labeled to provide min. 2 M/MA and .5 OEG"]
[null,"Possible Allergens:  Fish, Wheat, Egg, Soy and Milk",{"$nulls":17}," "]
[3,"Fish Portion, Pollock, Reduced Fat, WG","High Liner/APS 53267",null,"44/3.60z",44,0,{"$f":"ROUND(G17*F17/F17,2)","v":0},"Cs",{"v":21.2,"d":"$21.20"},{"$f":"IF(OR(ISBLANK(J17),G17=0,ISBLANK(G17)),,ROUND(J17+$K$3,2))","v":0},{"$f":"ROUND(H17*K17,2)","v":0},{"$f":"ROUND(K17/F17,2)","v":0},null," "," "," "," "," ",{"$f":"N17/F17","v":0}]
[null,"Frozen, Min. 64% Alaskan Pollock, whole grain rich breading, pre-cooked, Grade A ",{"$nulls":12}," "," "," "," "," "," "]
[null,"PUFI approved, 150-250 calories with no more than 1 g saturated fat and 350 mg sodium "]
[null,"per serving, CN labeled to provide min. 2 M/MA and 1 OEG"]
[null,"Possible Allergens:  Fish, Wheat",{"$nulls":17}," "]
[4,"Fish Nuggets, Natural Cod                                    ","High Liner/Viking 51067CN",null,"160/1.0z",160,100,{"$f":"ROUND(G22*F22/F22,2)","v":100},"Cs",{"v":23,"d":"$23.00"},{"$f":"IF(OR(ISBLANK(J22),G22=0,ISBLANK(G22)),,ROUND(J22+$K$3,2))","v":{"v":23,"d":"$23.00"}},{"v":2300,"d":"$2,300.00"},{"v":0.14,"d":"$0.14"},null," "," "," "," "," ",{"$f":"N22/F22","v":0}]
[null,"Natural Cod, chunks pre-breaded, oven ready.   PUFI approved.",{"$nulls":12}," "," "," "," "," "," "]
[null,"One serving will provide 2 oz meat/meat alternate and 1z OEG "]
[null,"Possible Allergens:  Fish, Wheat, Egg  ",{"$nulls":11}," "," "," "," "," ","  "," "]
[5,"Fish Sticks, Pollock             ","High Liner/APS 53167",null,"160/1.0z",40,50,{"$f":"ROUND(G26*F26/F26,2)","v":50},"Cs",{"v":22.6,"d":"$22.60"},{"$f":"IF(OR(ISBLANK(J26),G26=0,ISBLANK(G26)),,ROUND(J26+$K$3,2))","v":{"v":22.6,"d":"$22.60"}},{"$f":"ROUND(H26*K26,2)","v":{"v":1130,"d":"$1,130.00"}},{"$f":"ROUND(K26/F26,2)","v":{"v":0.57,"d":"$0.57"}},null," "," "," "," "," ",{"$f":"N26/F26","v":0}]
[null,"Frozen, min. 64%  Alaskan Pollock, breaded, oven ready, PUFI approved, 200-300 ","Slade Gordon 25152",null,"160/1.0z",40,null,{"$f":"ROUND($G$41*$F$41/F27,2)","v":0},"Cs",{"$nulls":5}," "," "," "," "," ",0]
[null,"calories with no more than 2 g sat fat and 350 mg sodium per serving, CN labeled for 4","Trident Seafood 418308",null,"160/1.0z",40,null,{"$f":"ROUND($G$41*$F$41/F28,2)","v":0},"Cs",{"$nulls":5}," "," "," "," "," ",0]
[null,"sticks to provide min. 2 M/MA and 1 OEG",{"$nulls":17}," "]
[null,"Possible Allergens: Fish, Wheat, Soy",{"$nulls":17}," "]
[6,"Fish Stick, Nacho Breaded, WG","High Liner Foods 38118",null,"320/1.0z",80,0,{"$f":"ROUND(G31*F31/F31,2)","v":0},"Cs",{"v":36.14,"d":"$36.14"},{"$f":"IF(OR(ISBLANK(J31),G31=0,ISBLANK(G31)),,ROUND(J31+$K$3,2))","v":0},{"$f":"ROUND(H31*K31,2)","v":0},{"$f":"ROUND(K31/F31,2)","v":0},{"v":21.7,"d":"$21.70"},{"v":1.1105,"d":"$1.1105"},13,{"$f":"ROUND(O31*P31,2)","v":{"v":14.44,"d":"$14.44"}},{"$f":"K31-Q31","v":{"v":-14.44,"d":"$(14.44)"}},{"$f":"R31/F31","v":{"v":-0.1805,"d":"$(0.18)"}},{"$f":"N31/F31","v":{"v":0.27125,"d":"$0.27"}}]
[null,"Frozen, min. 64% Alaskan Pollock, breaded, oven ready, PUFI approved, 200-300 "," ",null," "," ",null," "," "," "," "," "," "]
[null,"calories with no more than 2 g sat fat and 350 mg sodium per serving, CN labeled for 4"," ",null," "," ",null," "," "," "," "," "," "]
[null,"sticks to provide min. 2 M/MA and 1 OEG"]
[null,"Possible Allergens:  Fish, Wheat, Soy",{"$nulls":17}," "]
[7,"Fish Sticks, Pollock, Potato Coated, WG","Trident Seafood 422071",null,"160/1.0z",40,0,{"$f":"ROUND(G36*F36/F36,2)","v":0},"Cs",{"v":24.3,"d":"$24.30"},{"$f":"IF(OR(ISBLANK(J36),G36=0,ISBLANK(G36)),,ROUND(J36+$K$3,2))","v":0},{"$f":"ROUND(H36*K36,2)","v":0},{"$f":"ROUND(K36/F36,2)","v":0},{"v":17.23,"d":"$17.23"},{"v":1.1105,"d":"$1.1105"},6.37,{"$f":"ROUND(O36*P36,2)","v":{"v":7.07,"d":"$7.07"}},{"$f":"K36-Q36","v":{"v":-7.07,"d":"$(7.07)"}},{"$f":"R36/F36","v":{"v":-0.17675000000000002,"d":"$(0.18)"}},{"$f":"N36/F36","v":{"v":0.43075,"d":"$0.43"}}]
[null,"Frozen, min. 64% Alaskan Pollock, breaded, oven ready, PUFI approved, 200-300 "," ",null," "," ",null," "," "," "," "," "," ",{"$nulls":6}," "]
[null,"calories with no more than 2 g sat fat and 350 mg sodium per serving, CN labeled for 4"," ",null," "," ",null," "," "," "," "," "," ",{"$nulls":6}," "]
[null,"sticks to provide min. 2 M/MA and .75 OEG",{"$nulls":17}," "]
[null,"Possible Allergens:  Fish, Wheat, Soy",{"$nulls":17}," "]
[8,"Shrimp, Popcorn Style, WG","Sea Pak 47039",null,"5/2 lbs",53,0,53,"Cs",{"$nulls":5}," "," "," "," "," ",0]
[null,"Frozen, made from minced shrimp, whole grain rich breading, 150-250 calories with no","Tampa Maid 100220",null,"12/2 lbs",128,null,128,"Cs",{"v":48.24,"d":"$48.24"},{"$f":"IF(OR(ISBLANK(J42),G41=0,ISBLANK(G41)),,ROUND(J42+$K$3,2))","v":0},{"$f":"ROUND(H42*K42,2)","v":0},{"$f":"ROUND(K42/F42,2)","v":0},null," "," "," "," "," ",{"$f":"N42/F42","v":0}]
[null,"more than 2 g saturated fat and 500 mg sodium per serving, CN labeled to provide min."," ",null," "," ",null," "," "," "," "," "," ",{"$nulls":6}," "]
[null,"1 M/MA and 1.25 OEG per 3 ounce serving",{"$nulls":17}," "]
[null,"Possible Allergens:  Shrimp, Wheat, Milk, Soy",{"$nulls":17}," "]
[9,"Tuna, Chunk Light, Low Sodium","Star-Kist 514540",null,"6/43 z.",6,0,{"$f":"ROUND(G46*F46/F46,2)","v":0},"Cs",{"v":44,"d":"$44.00"},{"$f":"IF(OR(ISBLANK(J46),G46=0,ISBLANK(G46)),,ROUND(J46+$K$3,2))","v":0},{"$f":"ROUND(H46*K46,2)","v":0},{"$f":"ROUND(K46/F46,2)","v":0},null," "," "," "," "," "," "]
[null,"Pouch, water packed, No soy, Made in America ",{"$nulls":17}," "]
[null,"Possible Allergens:  Fish, Wheat"]
[{"$nulls":6},0,null,"Page Total",null,null,{"$f":"SUMIF(L7:L46,\">0\")","v":{"v":4790.8,"d":"$4,790.80"}}]

{"sheet":"Pizza","index":6,"n_rows":109,"n_cols":13,"rows_kept":109,"hidden":true,"merged":[[0,4,0,12],[1,4,1,12],[2,5,2,9]]}
[null,{"$f":"'Recap Sheet'!A2","v":"School Food Authority:"},null,null,{"$f":"'Recap Sheet'!A3","v":"Offeror Name:"}]
[null,{"$f":"'Recap Sheet'!B2","v":"WILLIAMSBURG COUNTY SCHOOLS"},"Return to Recap Sheet",null,{"$f":"'Recap Sheet'!B3","v":{"v":0,"d":"0 "}}]
["Item","Description","Approved Brand Name / Manuf ID # ",null,null,"Firm Fixed Fee",{"$nulls":4},{"$f":"'Recap Sheet'!B4","v":{"v":0,"d":"$0.00"}}]
["#",null,null,"Distributor","Vendor","Svgs","Est.","Bid ","Bid","Unit","Unit Price","Total ","Cost per"]
[{"$nulls":3},"Code","Pack","per unit","Bid Qty","Qty","Unit","Price","plus Fee","Price","Unit"]
[null,"Pizza Products"]
[1,"Pizza Sticks, Pizza Style Crust, 50/50 Blend                                   WGR","The Max Stix 77387-12439 CN ",null,"192/1.93z",192,4500,{"$f":"ROUND($G$7*$F$7/F7,2)","v":4500},"Cs",null,{"$f":"IF(OR(ISBLANK(J7),G7=0,ISBLANK(G7)),,ROUND(J7+$K$3,2))","v":0},{"$f":"ROUND(H7*K7,2)","v":0},{"$f":"ROUND(K7/F7,2)","v":0}]
[null,"Stuffed with Mozzarella cheese, frozen, fully cooked pre-baked pizza sticks ","Bosco Sticks 702011-1120",null,"144/2.06z",144,null,{"$f":"ROUND($G$7*$F$7/F8,2)","v":6000},"Cs",null,{"$f":"IF(OR(ISBLANK(J8),G7=0,ISBLANK(G7)),,ROUND(J8+$K$3,2))","v":0},{"$f":"ROUND(H8*K8,2)","v":0},{"$f":"ROUND(K8/F8,2)","v":0}]
[null,"stuffed with low moisture, part skim mozzarella cheese. One pizza breadstick "]
[null,"must provide 1 oz meat/meat alternate and at least 1 oz equivalent grain."]
[2,"Pizza Strips, 100% Mozzarella Cheese, Individually Wrapped,            WGR","Tony's 78379 CN, WG  ",null,"48/3.1z",48,6000,{"$f":"ROUND(G11*F11/F11,2)","v":6000},"Cs",null,{"$f":"IF(OR(ISBLANK(J11),G11=0,ISBLANK(G11)),,ROUND(J11+$K$3,2))","v":0},{"$f":"ROUND(H11*K11,2)","v":0},{"$f":"ROUND(K11/F11,2)","v":0}]
[null,"30% or less of calories from fat, 0 trans fat.  One serving to "]
[null,"equal  at least 2 oz grain equivalent  servings and 1oz meat/meat alternate."]
[3,"Pizza, Breakfast, 50/50 Blend,                               WGR  No SOY added.","Nardone Brothers 80WSA100",null,"80/3.2z",80,3500,{"$f":"ROUND(G14*F14/F14,2)","v":3500},"Cs",null,{"$f":"IF(OR(ISBLANK(J14),G14=0,ISBLANK(G14)),,ROUND(J14+$K$3,2))","v":0},{"$f":"ROUND(H14*K14,2)","v":0},{"$f":"ROUND(K14/F14,2)","v":0}]
[null,"Made of crust, sausage, pork patty crumble and cheese. One serving provides "]
[null,"1 oz meat/meat alternate , 1.5 oz equivalent grain, may also provide 1/8 cup "]
[null,"vegetable."]
[4,"Pizza, Breakfast, 50/50 Blend,                                                      WGR","The Max 77387-12708 CN ",null,"192/2.66z",192,14000,{"$f":"ROUND($G$18*$F$18/F18,2)","v":14000},"Cs",null,{"$f":"IF(OR(ISBLANK(J18),G18=0,ISBLANK(G18)),,ROUND(J18+$K$3,2))","v":0},{"$f":"ROUND(H18*K18,2)","v":0},{"$f":"ROUND(K18/F18,2)","v":0}]
[null,"Made of crust, turkey sausage, and cheese. ","Tony's   63912 CN WG    ",null,"128/3.31z",128,null,{"$f":"ROUND($G$18*$F$18/F19,2)","v":21000},"Cs",null,{"$f":"IF(OR(ISBLANK(J19),G18=0,ISBLANK(G18)),,ROUND(J19+$K$3,2))","v":0},0,0]
[null,"One serving provides 1 oz meat/meat alternate and 1.5oz equivalent grain.","(15-16) Nardone Brothers 80WBTSA100",null,"80/3.63z",80,null,{"$f":"ROUND($G$18*$F$18/F20,2)","v":33600},"Cs",null,{"$f":"IF(OR(ISBLANK(J20),G18=0,ISBLANK(G18)),,ROUND(J20+$K$3,2))","v":0},0,0]
[]
[5,"Pizza, Breakfast, Sausage Bagel, IW                                                WGR","(15-16) Nardone Brothers M96WBTS1",null,"96/3.10z",96,6000,{"$f":"ROUND(G22*F22/F22,2)","v":6000},"Cs",null,{"$f":"IF(OR(ISBLANK(J22),G22=0,ISBLANK(G22)),,ROUND(J22+$K$3,2))","v":0},{"$f":"ROUND(H22*K22,2)","v":0},{"$f":"ROUND(K22/F22,2)","v":0}]
[null,"50/50 blend cheese with alternate protein product, pizza sauce"]
[null,"One serving = 1 oz meat/meat alternate and 1 oz equivalent grain."]
[6,"Pizza, Cheese, 4x6, 50/50 Blend.                                                    WGR","Tony's Smart Pizza 78673 CN WG  ",null,"96/4.6z",96,15000,{"$f":"ROUND(G25*F25/F25,2)","v":15000},"Cs",null,{"$f":"IF(OR(ISBLANK(J25),G25=0,ISBLANK(G25)),,ROUND(J25+$K$3,2))","v":0},{"$f":"ROUND(H25*K25,2)","v":0},{"$f":"ROUND(K25/F25,2)","v":0}]
[null,"Made of crust, sauce, cheese-Mozzarella and blend other cheese.  ","(15-16)  Nardone 961SWCMA2",null,"96/4.9z",96,null,{"$f":"ROUND(G25*F25/F26,2)","v":15000},"Cs",null,{"$f":"IF(OR(ISBLANK(J26),G25=0,ISBLANK(G25)),,ROUND(J26+$K$3,2))","v":0},0,0]
[null,"CN Label = 2 oz meat/meat alternate and 2 oz equivalent grains, 1/8c Veg optional.  "]
[7,"Pizza, Cheese, 4x6, 50/50 Blend.                          WGR      No SOY added.","Nardone Brothers 96WWA2 4 X 6",null,"96/5.0z",96,2500,{"$f":"ROUND(G28*F28/F28,2)","v":2500},"Cs",null,{"$f":"IF(OR(ISBLANK(J28),G28=0,ISBLANK(G28)),,ROUND(J28+$K$3,2))","v":0},{"$f":"ROUND(H28*K28,2)","v":0},{"$f":"ROUND(K28/F28,2)","v":0}]
[null,"Made of crust, sauce, cheese-Mozzarella and blend other cheese.  "]
[null,"CN Label = 2 oz meat/meat alternate and 2 oz equivalent grains, 1/8c Veg optional."]
[null,"  "]
[8,"Pizza, Cheese, Wedge-shaped, 50/50 Blend       No SOY added        WGR","Nardone Brothers 72RWWEDA2",null,"72/5.0z",72,1000,{"$f":"ROUND(G32*F32/F32,2)","v":1000},"Cs",null,{"$f":"IF(OR(ISBLANK(J32),G32=0,ISBLANK(G32)),,ROUND(J32+$K$3,2))","v":0},{"$f":"ROUND(H32*K32,2)","v":0},{"$f":"ROUND(K32/F32,2)","v":0}]
[null," Product must provide 2 oz meat/meat "]
[null,"alternate, 2 oz equivalent grain, and 1/8 cup vegetable  . "]
[9,"Pizza, Cheese, wedge-shaped, 50/50 Blend                                      WGR","(06-07) The Max Real Slice 77387-12680 CN WG",null,"96/4.67z",96,7000,{"$f":"ROUND($G$35*$F$35/F35,2)","v":7000},"Cs",null,{"$f":"IF(OR(ISBLANK(J35),G35=0,ISBLANK(G35)),,ROUND(J35+$K$3,2))","v":0},{"$f":"ROUND(H35*K35,2)","v":0},{"$f":"ROUND(K35/F35,2)","v":0}]
[null,"One serving  not to exceed 35% of its calories from fat.  0 transfat.  ","(14-15) Nardone 96SWWEDA2",null,"96/4.90z",96,null,{"$f":"ROUND($G$35*$F$35/F36,2)","v":7000},"Cs",null,{"$f":"IF(OR(ISBLANK(J36),G35=0,ISBLANK(G35)),,ROUND(J36+$K$3,2))","v":0},0,0]
[null,"One serving to provide 2 oz meat/meat alternate, 2 oz equivalent grain,"]
[null,"and at least 1/8 cup vegetable."]
[10,"Pizza, Pepperoni, 50/50 Blend                                                         WGR","Tony's 72560 CN  WG   ",null,"96/4.68z",96,11000,{"$f":"ROUND($G$39*$F$39/F39,2)","v":11000},"Cs",null,{"$f":"IF(OR(ISBLANK(J39),G39=0,ISBLANK(G39)),,ROUND(J39+$K$3,2))","v":0},{"$f":"ROUND(H39*K39,2)","v":0},{"$f":"ROUND(K39/F39,2)","v":0}]
[null,"Triangular shaped, made of crust, sauce, cheese, pepperoni. ","(15-16) Nardone Brothers 96SWWEDPA2",null,"96/4.95z",96,null,{"$f":"ROUND($G$39*$F$39/F40,2)","v":11000},"Cs",null,{"$f":"IF(OR(ISBLANK(J40),G39=0,ISBLANK(G39)),,ROUND(J40+$K$3,2))","v":0},0,0]
[null,"CN Label = 2 oz meat/meat alternate, 2oz equivalent grain, 1/8 c veg.","(15-16) The Max 77387-12656",null,"96/4.56z",96,null,{"$f":"ROUND($G$39*$F$39/F41,2)","v":11000},"Cs",null,{"$f":"IF(OR(ISBLANK(J41),G39=0,ISBLANK(G39)),,ROUND(J41+$K$3,2))","v":0},0,0]
[11,"Pizza, Pepperoni, 50/50 Blend     No SOY added                              WGR","Nardone Brothers 96WWEDPA2",null,"96/5.0z",96,4500,{"$f":"ROUND(G42*F42/F42,2)","v":4500},"Cs",null,{"$f":"IF(OR(ISBLANK(J42),G42=0,ISBLANK(G42)),,ROUND(J42+$K$3,2))","v":0},0,0]
[null,"Triangular shaped, made of crust, sauce, cheese, pepperoni. "]
[null,"CN Label = 2 oz meat/meat alternate, 2oz equivalent grain, 1/8 c veg."]
[12,"Pizza, Low Fat Pepperoni, Wedge Shaped, 50/50 Blend                       WGR","(06-07) The Max Real Slice 77387-12681 CN WG",null,"96/4.67z",96,14000,{"$f":"ROUND(G45*F45/F45,2)","v":14000},"Cs",null,{"$f":"IF(OR(ISBLANK(J45),G45=0,ISBLANK(G45)),,ROUND(J45+$K$3,2))","v":0},{"$f":"ROUND(H45*K45,2)","v":0},{"$f":"ROUND(K45/F45,2)","v":0}]
[null,"One serving not to exceed 35% of its calories from fat .  0 transfat.  ","(15-16) Nardone Brothers C96SWWEDPA",null,"96/4.95z",96,null,{"$f":"ROUND(G45*F45/F46,2)","v":14000},"Cs",null,{"$f":"IF(OR(ISBLANK(J46),G45=0,ISBLANK(G45)),,ROUND(J46+$K$3,2))","v":0},{"$f":"ROUND(H46*K46,2)","v":0},{"$f":"ROUND(K46/F46,2)","v":0}]
[null,"One serving to provide 2 oz meat/meat alternate, 2 oz equivalent grain "]
[null,"and at least 1/8 cup vegetable.  "]
[13,"Pizza, self-rising, stuffed crust pizza slice, 100% Mozzarella cheese.    WGR  ","(14-15) Gilardi"]
[null,"One portion provides 2oz equivalent grains and 2oz Meat/ meat alternate.","     16272-20113 Cheese ",null,"96/4.5z",96,2500,{"$f":"ROUND($G$50*$F$50/F50,2)","v":2500},"Cs",null,{"$f":"IF(OR(ISBLANK(J50),G50=0,ISBLANK(G50)),,ROUND(J50+$K$3,2))","v":0},{"$f":"ROUND(H50*K50,2)","v":0},{"$f":"ROUND(K50/F50,2)","v":0}]
[null,"CN labeled. Includes branded serving trays in case.","     16272-20114 Turkey Pepperoni",null,"96/4.5z",96,2500,{"$f":"ROUND($G$51*$F$51/F51,2)","v":2500},"Cs",null,{"$f":"IF(OR(ISBLANK(J51),G51=0,ISBLANK(G51)),,ROUND(J51+$K$3,2))","v":0},0,0]
[]
[14,"Pizza, Sausage, 50/50 Blend, Turkey                                            WGR","Tony's Smart Pizza 78771 CN, WG ",null,"96/4.69z",96,5000,{"$f":"ROUND(G53*F53/F53,2)","v":5000},"Cs",null,{"$f":"IF(OR(ISBLANK(J53),G53=0,ISBLANK(G53)),,ROUND(J53+$K$3,2))","v":0},{"$f":"ROUND(H53*K53,2)","v":0},{"$f":"ROUND(K53/F53,2)","v":0}]
[null,"Made of crust, sauce, turkey sausage 35%  or less calories from fat"]
[null,"1 serving  = 2 oz meat/meat alternate and 2 oz equivalent grain,and 1/8 cup"]
[null,"Vegetable serving"]
[15,"Pizza, Stuff Crust, Cheese 50/50 Blend, Wedge       No SOY added      WGR ","Nardone Brothers 72WWSCMA2",null,"70/5.65z",70,1500,{"$f":"ROUND(G57*F57/F57,2)","v":1500},"Cs",null,{"$f":"IF(OR(ISBLANK(J57),G57=0,ISBLANK(G57)),,ROUND(J57+$K$3,2))","v":0},{"$f":"ROUND(H57*K57,2)","v":0},{"$f":"ROUND(K57/F57,2)","v":0}]
[null,"Provides 2 oz meat/meat alternate and 2 oz equivalent grain,"]
[null," and 1/8 cup vegetable. "]
[16,"Pizza, WW Stuff Crust  Pepperoni                            No SOY added      WGR","Nardones 72WWSCMP2  4x6",null,"70/4.95z",70,2500,{"$f":"ROUND($G$60*$F$60/F60,2)","v":2500},"Cs",null,{"$f":"IF(OR(ISBLANK(J60),G60=0,ISBLANK(G60)),,ROUND(J60+$K$3,2))","v":0},{"$f":"ROUND(H60*K60,2)","v":0},{"$f":"ROUND(K60/F60,2)","v":0}]
[null,"w/ Part Skim Mozz Cheese, Rectangular shaped.      One serving provides"," "]
[null," 2 oz meat/meat alternate, 2 oz equivalent grain, and 1/8 c vegetable serving. "]
[17,"Pizza, Stuffed Crust,  Wedge                                                             WGR","(14-15) Tony's 78650",null,"96/5.42z",96,1000,{"$f":"ROUND($G$63*$F$63/F63,2)","v":1000},"Cs",null,{"$f":"IF(OR(ISBLANK(J63),G63=0,ISBLANK(G63)),,ROUND(J63+$K$3,2))","v":0},{"$f":"ROUND(H63*K63,2)","v":0},{"$f":"ROUND(K63/F63,2)","v":0}]
[null,"Made with Turkey and Beef Pepperoni.  One serving provides 2 oz meat","(15-16) The Max 77387-12717",null,"72/4.8z",72,null,{"$f":"ROUND($G$63*$F$63/F64,2)","v":1333.33},"Cs",null,{"$f":"IF(OR(ISBLANK(J64),G63=0,ISBLANK(G63)),,ROUND(J64+$K$3,2))","v":0},0,0]
[null,"/meat alternate, 2 oz equivalent grain, and 1/8 c Red-orange Veg.","(15-16) Nardone Brothers 72WWSCMTP2",null,"70/4.95z",70,null,{"$f":"ROUND($G$63*$F$63/F65,2)","v":1371.43},"Cs",null,{"$f":"IF(OR(ISBLANK(J65),G63=0,ISBLANK(G63)),,ROUND(J65+$K$3,2))","v":0},0,0]
[18,"Pizza, WW 16\" Pre-Sliced Pizzeria Style Pepperoni Pizza, IQF                WGR","Nardones 64WPSP2",null,"64/5.08z",64,1000,{"$f":"ROUND(G66*F66/F66,2)","v":1000},"Cs",null,{"$f":"IF(OR(ISBLANK(J66),G66=0,ISBLANK(G66)),,ROUND(J66+$K$3,2))","v":0},0,0]
[null,"No SOY added. CN Provides 2 oz meat/meat alt. and 2 oz equivalent grain,"]
[null,"and 1/8 c Veg"]
[19,"Pizza, WG, Cheese/Cheese Substitute","(15-16)  Con Agra The Max",null,"60/5.0z",60,500,{"$f":"ROUND($G$69*$F$69/F69,2)","v":500},"Cs",null,{"$f":"IF(OR(ISBLANK(J69),G69=0,ISBLANK(G69)),,ROUND(J69+$K$3,2))","v":0},{"$f":"ROUND(H69*K69,2)","v":0},{"$f":"ROUND(K69/F69,2)","v":0}]
[null,"Frozen, 5\" round,  reduced-fat Mozzarella cheese ","          77387-12724 Lunch a Round Cheese"]
[null,"One portion meets 2M/MA 2 OEG 1/8c Veg","(15-16) Tony's ",null,"60/5.03",60,null,{"$f":"ROUND($G$69*$F$71/F71,2)","v":500},"Cs",null,{"$f":"IF(OR(ISBLANK(J71),G69=0,ISBLANK(G69)),,ROUND(J71+$K$3,2))","v":0},{"$f":"ROUND(H71*K71,2)","v":0},{"$f":"ROUND(K71/F71,2)","v":0}]
[null,"Possible Allergens: Wheat, Soy, Milk","      72580 WG Pizza LS Cheese     "]
[null,"Smart Snack Compliant"]
[20,"Pizza, Cheese/Cheese Substitute","(15-16)  Nardone Bros. ",null,"60/5.4z",60,500,{"$f":"ROUND(G74*F74/F74,2)","v":500},"Cs",null,{"$f":"IF(OR(ISBLANK(J74),G74=0,ISBLANK(G74)),,ROUND(J74+$K$3,2))","v":0},{"$f":"ROUND(H74*K74,2)","v":0},{"$f":"ROUND(K74/F74,2)","v":0}]
[null,"Frozen, 6\" round, Low-moisture/part-skim Mozzarella, Mozzarella Cheese substitute.","     625SWMA"]
[null,"One portion meets 2M/MA 2.0 OEG, 1/8c Veg"]
[null,"Possible Allergens:  Wheat, Soy, Milk"]
[null,"Smart Snack Compliant"]
[21,"Pizza, Cheese slice, ","(15-16)  Nardone Bros",null,"72/4.90z",72,500,{"$f":"ROUND(G79*F79/F79,2)","v":500},"Cs",null,{"$f":"IF(OR(ISBLANK(J79),G79=0,ISBLANK(G79)),,ROUND(J79+$K$3,2))","v":0},{"$f":"ROUND(H79*K79,2)","v":0},{"$f":"ROUND(K79/F79,2)","v":0}]
[null,"Low moisture Part-skim Mozzarella Cheese, Cheese Substitute ","     72SRWWEDA2 Rolled edge wedge cheese"]
[null,"Frozen, wedge slice,.  Meets 2.0 M/MA 2.0 OEG, 1/8 c Veg"]
[null,"Possible Allergens:  Wheat, Milk, Soy"]
[null,"Smart Snack Compliant"]
[22,"Pizza, Sausage/Cheese/Cheese Substitute","(15-16)  Nardone Bros",null,"96/4.95Z",96,500,{"$f":"ROUND(G84*F84/F84,2)","v":500},"Cs",null,{"$f":"IF(OR(ISBLANK(J84),G84=0,ISBLANK(G84)),,ROUND(J84+$K$3,2))","v":0},{"$f":"ROUND(H84*K84,2)","v":0},{"$f":"ROUND(K84/F84,2)","v":0}]
[null,"Frozen, Wedge slice, made from Pork sausage, low-moisture part skim Mozzarella","     96SWWEDSA2  Sausage/ Cheese"]
[null,"cheese, Mozzarella Cheese substitute."]
[null,"One portion provides 2M/MA 2.0 OEG, 1/8 c Veg"]
[null,"Possible Allergens:  Wheat, Milk, Soy"]
[null,"Smart Snack Compliant"]
[23,"Pizza, Veggie with Red and Green Peppers, Onion, Cheese","(15-16)  Con Agra The Max",null,"60/5.34z",60,null,{"$f":"ROUND(G90*F90/F90,2)","v":0},"Cs",null,{"$f":"IF(OR(ISBLANK(J90),G90=0,ISBLANK(G90)),,ROUND(J90+$K$3,2))","v":0},{"$f":"ROUND(H90*K90,2)","v":0},{"$f":"ROUND(K90/F90,2)","v":0}]
[null,"Frozen, 5\" round,  reduced -fat Mozzarella cheese and ","     77387-12726  Lunch Around Veggie"]
[null,"substitute cheese. One portion meets 2M/MA 2 OEG 1/8c Veg","Item Discontinued by Conagra 07/01/16"]
[null,"Possible Allergens: Wheat, Soy, Milk"]
[null,"Smart Snack Compliant"]
[24,"Pizza, 4 x 6, Cheese/ Cheese Substitute","(15-16)  Nardone Bros",null,"96/4.90z",96,500,{"$f":"ROUND(G95*F95/F95,2)","v":500},"Cs",null,{"$f":"IF(OR(ISBLANK(J95),G95=0,ISBLANK(G95)),,ROUND(J95+$K$3,2))","v":0},{"$f":"ROUND(H95*K95,2)","v":0},{"$f":"ROUND(K95/F95,2)","v":0}]
[null,"Frozen, made from low-moisture/part skim Mozzarella Cheese and Mozzarella Cheese","     961SWCMA2"]
[null,"Substitute.  One portion meets 2 M/MA 2.0 OEG, 1/8 c Veg"]
[null,"Possible Allergens: Wheat, Soy, Milk"]
[null,"Smart Snack Compliant"]
[25,"Pizza, 4 x 6, Turkey Pepperoni","(15-16)  Nardone Bros.",null,"96/4.90z",96,500,{"$f":"ROUND(G100*F100/F100,2)","v":500},"Cs",null,{"$f":"IF(OR(ISBLANK(J100),G100=0,ISBLANK(G100)),,ROUND(J100+$K$3,2))","v":0},{"$f":"ROUND(H100*K100,2)","v":0},{"$f":"ROUND(K100/F100,2)","v":0}]
[null,"Frozen, made from low-moisture/part skim Mozzarella Cheese and Mozzarella Cheese","     961SWTPA2"]
[null,"Substitute; Turkey.  One portion meets 2 M/MA 2.0 OEG, 1/8 c Veg"]
[null,"Possible Allergens: Wheat, Soy, Milk"]
[null,"Smart Snack Compliant"]
[26,"Pizza, WG, Turkey and Beef Pepperoni, 5\" Round","(15-16)  Tony's",null,"60/4.88z",60,500,{"$f":"ROUND(G105*F105/F105,2)","v":500},"Cs",null,{"$f":"IF(OR(ISBLANK(J105),G105=0,ISBLANK(G105)),,ROUND(J105+$K$3,2))","v":0},{"$f":"ROUND(H105*K105,2)","v":0},{"$f":"ROUND(K105/F105,2)","v":0}]
[null," One portion meets 2 M/MA 2.0 OEG, 1/8 c Veg","      72581  Turkey Pepperoni LS"]
[null,"Smart Snack Compliant"]
[]
[{"$nulls":8},"Page Total",null,null,{"$f":"SUMIF(L6:L107,\">0\")","v":0}]

{"sheet":"Pizza ","index":7,"n_rows":163,"n_cols":21,"rows_kept":163,"merged":[[0,4,0,12],[0,14,0,19],[1,4,1,12],[2,5,2,9]]}
[null,{"$f":"'Recap Sheet'!A2","v":"School Food Authority:"},null,null,{"$f":"'Recap Sheet'!A3","v":"Offeror Name:"},{"$nulls":9},"Commodity"]
[null,{"$f":"'Recap Sheet'!B2","v":"WILLIAMSBURG COUNTY SCHOOLS"},"Return to Recap Sheet",null,{"$f":"'Recap Sheet'!B3","v":{"v":0,"d":"0 "}}]
["Item","Description","Approved Brand Name / Manuf ID # ",null,null,"Firm Fixed Fee",{"$nulls":4},{"$f":"'Recap Sheet'!B4","v":{"v":0,"d":"$0.00"}},null,null,"Processing","Commodity","Pounds of",null,"NOI","Net NOI","Total Cost"]
["#",null,null,"Distributor","Vendor","Svgs","Est.","Bid ","Bid","Unit","Unit Price","Total ","Cost per","Fee For","Value Per","DF Needed","Commodity","Net ","Cost Per ","Processing Fee "]
[{"$nulls":3},"Code","Pack","per unit","Bid Qty","Qty","Unit","Price","plus Fee","Price","Unit","Service","Pound","Per Case","Value ","Price","Serving","For Serving"]
[" ","Pizza",{"$nulls":12},"Commodity LM PT Skim UNIFZ 110244"]
[]
[1,"Bread Stick","Tyson 702011",null,"144/2.14z",144,0,{"$f":"ROUND($G$8*$F$8/F8,2)","v":0},"Cs",{"v":46.74,"d":"$46.74"},{"$f":"IF(OR(ISBLANK(J8),G8=0,ISBLANK(G8)),,ROUND(J8+$K$3,2))","v":0},{"$f":"ROUND(H8*K8,2)","v":0},{"$f":"ROUND(K8/F8,2)","v":0},{"v":32.08,"d":"$32.08"},{"v":1.6291,"d":"$1.6291"},9,{"$f":"ROUND(O8*P8,2)","v":{"v":14.66,"d":"$14.66"}},{"$f":"K8-Q8","v":{"v":-14.66,"d":"-$14.66"}},{"$f":"R8/F8","v":{"v":-0.10180555555555555,"d":"$(0.10)"}},{"$f":"N8/F8","v":{"v":0.22277777777777777,"d":"$0.22"}}]
[null,"Dough filled with 100% mozzarella, WG"," ",null," "," ",null," "," "," "," "," "," ",null," "," "," ",null," "," "]
[null,"Frozen, WGR One stick must provide 1 M/MA and 1 EOG"," ",null," "," ",null," "," ",null," "," "," ",null," "," "," ",null," "," "]
[null,"Possible Allergens:  Wheat, Milk, Soy"]
[2,"Bread Stick, w/Serving Bags","Tyson 702011",null,"144/2.14z",144,0,{"$f":"ROUND($G$12*$F$12/F12,2)","v":0},"Cs",{"v":46.74,"d":"$46.74"},{"$f":"IF(OR(ISBLANK(J12),G12=0,ISBLANK(G12)),,ROUND(J12+$K$3,2))","v":0},{"$f":"ROUND(H12*K12,2)","v":0},{"$f":"ROUND(K12/F12,2)","v":0},{"v":32.08,"d":"$32.08"},{"v":1.6291,"d":"$1.6291"},9,{"$f":"ROUND(O12*P12,2)","v":{"v":14.66,"d":"$14.66"}},{"$f":"K12-Q12","v":{"v":-14.66,"d":"-$14.66"}},{"$f":"R12/F12","v":{"v":-0.10180555555555555,"d":"$(0.10)"}},{"$f":"N12/F12","v":{"v":0.22277777777777777,"d":"$0.22"}}]
[null,"Dough filled with 100% mozzarella, WG"]
[null,"Frozen, WGR One stick must provide 1 M/MA and 1 EOG",{"$nulls":12}," "]
[null,"Possible Allergens:  Wheat, Milk, Soy"]
[3,"Pizzasticks, Filled with 100% Mozzarella and Pizza Sauce Wg","Schwann's 78378",null,"48/3.10z",48,0,{"$f":"ROUND(G16*F16/F16,2)","v":0},"Cs",{"v":21.55,"d":"$21.55"},{"$f":"IF(OR(ISBLANK(J16),G16=0,ISBLANK(G16)),,ROUND(J16+$K$3,2))","v":0},{"$f":"ROUND(H16*K16,2)","v":0},{"$f":"ROUND(K16/F16,2)","v":0},null,{"v":1.6291,"d":"$1.6291"},1.32,{"$f":"ROUND(O16*P16,2)","v":{"v":2.15,"d":"$2.15"}},{"$f":"K16-Q16","v":{"v":-2.15,"d":"-$2.15"}},{"$f":"R16/F16","v":{"v":-0.04479166666666667,"d":"$(0.04)"}},{"$f":"N16/F16","v":0}]
[null,"Frozen, Low moisture part skim mozzarella cheese stick with whole grain rich breading. Pizza sauce inside.","Rich Products 65225",null,"72/5.48z",72,null,{"$f":"ROUND(G16*F16/F17,2)","v":0},"Cs",{"$nulls":5},{"v":1.6291,"d":"$1.6291"},8.83," "," "," ",0]
[null,"200-400 calories with no more than  20 g saturated fat  and 850 mg of sodium per serving.  CN Labeled for 4 stick"]
[null,"to provide min. 2 M/MA and 2 OEG"]
[null,"Possible Allergens:  Wheat, Milk, Soy"]
[4,"Pizza, 100% Mozzarella, 4x6, WG","Schwann's 78697",null,"96/4.50z",96,156,{"$f":"ROUND(G21*$F$37/F21,2)","v":113.75},"Cs",{"v":33.11,"d":"$33.11"},{"$f":"IF(OR(ISBLANK(J21),G21=0,ISBLANK(G21)),,ROUND(J21+$K$3,2))","v":{"v":33.11,"d":"$33.11"}},{"$f":"ROUND(H21*K21,2)","v":{"v":3766.26,"d":"$3,766.26"}},{"$f":"ROUND(K21/F21,2)","v":{"v":0.34,"d":"$0.34"}},null,{"v":1.6291,"d":"$1.6291"},8.4,{"$f":"ROUND(O21*P21,2)","v":{"v":13.68,"d":"$13.68"}},{"$f":"K21-Q21","v":{"v":19.43,"d":"$19.43"}},{"$f":"R21/F21","v":{"v":0.20239583333333333,"d":"$0.20"}},{"$f":"N21/F21","v":0}]
[null,"Frozen, Whole grain rich 250-350 calories with no more than 7 g saturated fat and 750 mg sodium per ","Conagra 12584",null,"96/4.65z",96,null,{"$f":"ROUND(G21*F21/F22,2)","v":156},"Cs",{"$nulls":5},{"v":1.6291,"d":"$1.6291"},7.5," "," "," ",0]
[null,"svg, CN Labeled for one portion to provide 2 M/MA, 2 OEG, and 1/8 c Red/Orange Veg","Nardones 961SWCM2",null,"96/4.90z",96,null,{"$f":"ROUND(G21*F21/F23,2)","v":156},"Cs",{"$nulls":5},{"v":1.6291,"d":"$1.6291"},7.5," ","  "," ",0]
[null,"Possible Allergens:  Wheat, Milk, Soy"]
[5,"Pizza, 100% Mozz, Stuffed Crust, Wedge Shaped, WG","Schwann's 78649",null,"96/5.34z",96,0,{"$f":"ROUND(G25*$F$37/F25,2)","v":0},"Cs",{"v":56.08,"d":"$56.08"},{"$f":"IF(OR(ISBLANK(J25),G25=0,ISBLANK(G25)),,ROUND(J25+$K$3,2))","v":0},{"$f":"ROUND(H25*K25,2)","v":0},{"$f":"ROUND(K25/F25,2)","v":0},null,{"v":1.6291,"d":"$1.6291"},12.3,{"$f":"ROUND(O25*P25,2)","v":{"v":20.04,"d":"$20.04"}},{"$f":"K25-Q25","v":{"v":-20.04,"d":"-$20.04"}},{"$f":"R25/F25","v":{"v":-0.20875,"d":"$(0.21)"}},{"$f":"N25/F25","v":0}]
[null,"Frozen, Whole grain rich 300-400 calories with no more than 8 g saturated fat and 600 mg sodium per "," ",null," "," "," "," "," ",null," "," "," ",null," "," "," "," "," "," "]
[null,"svg, CN Labeled for one portion to provide 2 M/MA, 2 OEG, and 1/8 c Red/Orange Veg"," ",null," "," ",null," "," ",null," "," "," ",null," "," "," ","  "," "," "]
[null,"Possible Allergens:  Wheat, Milk, Soy"]
[6,"Pizza, 100% Mozzarella, Pork Pepperoni , 4 x 6, WG","Conagra Max 12585",null,"96/4.65z",96,200,{"$f":"ROUND(G29*$F$29/F29,2)","v":200},"Cs"," "," "," "," ",null,{"v":1.6291,"d":"$1.6291"},6,{"$f":"ROUND(O29*P29,2)","v":{"v":9.77,"d":"$9.77"}},{"v":0,"d":"$0.00"}," "," "]
[null,"Frozen, Whole grain rich 250-350 calories with no more than 8 g saturated fat and 810 mg sodium per ","Schwanns 78698",null,"96/4.48z",96,null,{"$f":"ROUND(G29*$F$29/F30,2)","v":200},"Cs",{"$nulls":5},{"v":1.6291,"d":"$1.6291"},6.66,{"v":10.85,"d":"$10.85"},{"v":0,"d":"$0.00"}," "," "]
[null,"svg, CN Labeled for one portion to provide 2 M/MA, 2 OEG, and 1/8 c Red/Orange Veg","Nardones 961SWCMP2",null,"96/4.95z",96,null,{"$f":"ROUND(G29*$F$29/F31,2)","v":200},"Cs",{"v":34,"d":"$34.00"},{"$f":"IF(OR(ISBLANK(J31),G29=0,ISBLANK(G29)),,ROUND(J31+$K$3,2))","v":{"v":34,"d":"$34.00"}},{"$f":"ROUND(H31*K31,2)","v":{"v":6800,"d":"$6,800.00"}},{"$f":"ROUND(K31/F31,2)","v":{"v":0.35,"d":"$0.35"}},{"v":24.23,"d":"$24.23"},{"v":1.6291,"d":"$1.6291"},6,{"v":9.77,"d":"$9.77"},{"$f":"K31-Q31","v":{"v":24.23,"d":"$24.23"}},{"$f":"R31/F31","v":{"v":0.2523958333333333,"d":"$0.25"}},{"$f":"N31/F31","v":{"v":0.2523958333333333,"d":"$0.25"}}]
[null,"Possible Allergens:  Wheat, Milk, Soy"]
[7,"Pizza, 100% Mozzarella, Pork Pepperoni, Rtg. Ang. Wedge, WG","Nardones 96SWWEDP2",null,"96/4.95z",96,0,{"$f":"ROUND(G33*$F$37/F33,2)","v":0},"Cs",{"v":34,"d":"$34.00"},{"$f":"IF(OR(ISBLANK(J33),G33=0,ISBLANK(G33)),,ROUND(J33+$K$3,2))","v":0},{"$f":"ROUND(H33*K33,2)","v":0},{"$f":"ROUND(K33/F33,2)","v":0},{"v":24.23,"d":"$24.23"},{"v":1.6291,"d":"$1.6291"},6,{"$f":"ROUND(O33*P33,2)","v":{"v":9.77,"d":"$9.77"}},{"$f":"K33-Q33","v":{"v":-9.77,"d":"-$9.77"}},{"$f":"R33/F33","v":{"v":-0.10177083333333332,"d":"$(0.10)"}},{"$f":"N33/F33","v":{"v":0.2523958333333333,"d":"$0.25"}}]
[null,"Frozen, Whole grain rich 250-350 calories with no more than 6 g saturated fat and 810 mg sodium per ","Conagra Max 12686",null,"96/4.67z",96,null,{"$f":"ROUND(G33*$F$33/F34,2)","v":0},"Cs",{"$nulls":5},{"v":1.6291,"d":"$1.6291"},6.96," "," "," ",0]
[null,"svg, CN Labeled for one portion to provide 2 M/MA, 2 OEG, and 1/8 c Red/Orange Veg"," "]
[null,"Possible Allergens:  Wheat, Milk, Soy"]
[8,"Pizza, 100% Mozz. Pork Pepperoni Stuffed Crust, Wedge WG","Nardone 72WWSCMP2",null,"70/4.95z",70,0,{"$f":"ROUND(G37*$F$37/F37,2)","v":0},"Cs",{"v":38.95,"d":"$38.95"},{"$f":"IF(OR(ISBLANK(J37),G37=0,ISBLANK(G37)),,ROUND(J37+$K$3,2))","v":0},{"$f":"ROUND(H37*K37,2)","v":0},{"$f":"ROUND(K37/F37,2)","v":0},null,{"v":1.6291,"d":"$1.6291"},6.56,{"$f":"ROUND(O37*P37,2)","v":{"v":10.69,"d":"$10.69"}}," "," ",{"$f":"N37/F37","v":0}]
[null,"Frozen, Whole grain rich 300-400 calories with no more than 9 g saturated fat and 820 mg sodium per ","Conagra Max 12615",null,"72/5.00z",72,null,{"$f":"ROUND(G37*$F$37/F38,2)","v":0},"Cs",{"$nulls":4},{"v":27.74,"d":"$27.74"},{"v":1.6291,"d":"$1.6291"},8.14,{"v":13.26,"d":"$13.26"},{"v":27.74,"d":"$27.74"},{"$f":"R38/F38","v":{"v":0.3852777777777778,"d":"$0.39"}},{"v":0.3852777777777778,"d":"$0.39"}]
[null,"svg, CN Labeled for one portion to provide 2 M/MA, 2 OEG, and 1/8 c Red/Orange Veg","Schwanns 78650",null,"96/5.32z",96,null,{"$f":"ROUND(G37*$F$37/F39,2)","v":0},"Cs",{"$nulls":5},{"v":1.6291,"d":"$1.6291"},10.74,{"v":17.5,"d":"$17.50"}," "," ",0]
[null,"Possible Allergens:  Wheat, Milk, Soy"]
[9,"Pizza, Turkey Pepperoni 4 x 6","Nardones 961SWTP2",null,"96/4.90z",96,35,{"$f":"ROUND(G41*F41/F41,2)","v":35},"Cs",{"v":38.5,"d":"$38.50"},{"$f":"IF(OR(ISBLANK(J41),G41=0,ISBLANK(G41)),,ROUND(J41+$K$3,2))","v":{"v":38.5,"d":"$38.50"}},{"$f":"ROUND(H41*K41,2)","v":{"v":1347.5,"d":"$1,347.50"}},{"$f":"ROUND(K41/F41,2)","v":{"v":0.4,"d":"$0.40"}},{"v":30.19,"d":"$30.19"},{"v":1.6291,"d":"$1.6291"},5.1,{"$f":"ROUND(O41*P41,2)","v":{"v":8.31,"d":"$8.31"}},{"$f":"K41-Q41","v":{"v":30.189999999999998,"d":"$30.19"}},{"$f":"R41/F41","v":{"v":0.31447916666666664,"d":"$0.31"}},{"$f":"N41/F41","v":{"v":0.3144791666666667,"d":"$0.31"}}]
[null,"Frozen, Whole Grain 100% mozzarella One serving must provide 2 M/MA, 2 EOG, & 1/8 cup Red/Orange"]
[null,"Possible Allergens:  Wheat, Milk, Soy"]
[10,"Pizza, Beef Fiestada, WG","UNO HTWGCN16",null,"96/4.88z",96,0,{"$f":"ROUND(G44*F44/F44,2)","v":0},"Cs",{"$nulls":5},{"v":1.6291,"d":"$1.6291"},7.3,{"$f":"ROUND(O44*P44,2)","v":{"v":11.89,"d":"$11.89"}}," "," ",{"$f":"N44/F44","v":0}]
[null,"Frozen Whole grain rich Blend of cheddar, mozz/mozz sub 300-400 calories with no more than 7 g sat fat and ","Alpha Foods SP167RW",null,"72/7.23z",72,null,{"$f":"ROUND(G44*F44/F45,2)","v":0},"Cs",{"$nulls":5},{"v":1.6291,"d":"$1.6291"},8.44,{"v":13.75,"d":"$13.75"},"  "," ",0]
[null,"900 mg sodium per serving.  CN Labeled for one portion to provide min. 2 M/MA, 2 OEG, and 1/8 c Red/Orange","Giorgio 9196",null,"72/4.5z",72,null,{"$f":"ROUND(G44*F44/F46,2)","v":0},"Cs",{"$nulls":5},{"v":1.6291,"d":"$1.6291"},5.63,{"$f":"ROUND(O46*P46,2)","v":{"v":9.17,"d":"$9.17"}}," "," ",0]
[null,"Vegetable ","Nardones 96WWMEX2",null,"96/5.20z",96,null,{"$f":"ROUND(G44*F44/F47,2)","v":0},"Cs",{"v":48.5,"d":"$48.50"},{"$f":"IF(OR(ISBLANK(J47),$G$44=0,ISBLANK($G$44)),,ROUND(J47+$K$3,2))","v":0},{"$f":"ROUND(H47*K47,2)","v":0},{"$f":"ROUND(K47/F47,2)","v":0},{"v":45.57,"d":"$45.57"},{"v":1.6291,"d":"$1.6291"},1.8,{"v":2.93,"d":"$2.93"},{"$f":"K47-Q47","v":{"v":-2.93,"d":"-$2.93"}},{"$f":"R47/F47","v":{"v":-0.030520833333333334,"d":"$(0.03)"}},{"v":0.4746875,"d":"$0.47"}]
[null,"Possible Allergens:  Wheat, Milk, Soy","Schwan's 68523",null,"72/5.44z",72,null,{"$f":"ROUND(G44*F44/F48,2)","v":0},"Cs",{"$nulls":5},{"v":1.6291,"d":"$1.6291"},3.42,{"$f":"ROUND(O48*P48,2)","v":{"v":5.57,"d":"$5.57"}},{"v":0,"d":"$0.00"},0,0]
[11,"Pizza, Quesadilla, Chicken, 50/50 Blend Cheese, WG","Conagra Max 12700",null,"96/5.0z",96,0,{"$f":"ROUND($G$49*$F$49/F49,2)","v":0},"Cs",{"v":50.7,"d":"$50.70"},{"$f":"IF(OR(ISBLANK(J49),G49=0,ISBLANK(G49)),,ROUND(J49+$K$3,2))","v":0},{"$f":"ROUND(H49*K49,2)","v":0},{"$f":"ROUND(K49/F49,2)","v":0},{"v":47.57,"d":"$47.57"},{"v":1.6291,"d":"$1.6291"},1.92,{"$f":"ROUND(O49*P49,2)","v":{"v":3.13,"d":"$3.13"}},{"v":-3.13,"d":"-$3.13"},{"v":-0.03260416666666666,"d":"$(0.03)"},{"v":0.49552083333333335,"d":"$0.50"}]
[null,"Frozen, Whole grain rich, wedge shaped quesadilla dough with Mozz/Mozz Sub, seasoned chicken and southwest"," ",null," "," ",null," "," ",null," "," "," ",null," "," "," ",null," "," "]
[null,"flavored tomato sauce 250-350 calories with no more than 3g sat fat and 800 mg sodium per serving CN labeled"]
[null,"for one portion to provide min. 2 M/MA, 2 OEG and 1/8 cup Red/Orange Vegetable"]
[null," "," ",null," "," ",null," "," ",null," "," "," ",null," "," "," ",null," "," "]
[null,"Possible Allergens:  Wheat, Milk, Soy"]
[12,"Pizza, French Bread Multi Cheese Garlic","Nardone's 60WGUMA2",null,"60/4.50z",60,0,{"$f":"ROUND($G$55*$F$55/F55,2)","v":0},"Cs",{"$nulls":4},{"v":37.04,"d":"$37.04"},{"v":1.6291,"d":"$1.6291"},3.75,{"v":6.11,"d":"$6.11"},{"v":37.04,"d":"$37.04"},{"v":0.62,"d":"$0.62"},{"v":0.62,"d":"$0.62"}]
[null,"Frozen, 6\" whole grain rich french bread, blend of provolone, mozz/sub mozz 250-400 calories with no more than ","Schwann's 78359",null,"60/4.29z",60,null,{"$f":"ROUND($G$55*$F$55/F56,2)","v":0},"Cs",{"v":40.25,"d":"$40.25"},{"$f":"IF(OR(ISBLANK(J55),G55=0,ISBLANK(G55)),,ROUND(J56+$K$3,2))","v":0},{"$f":"ROUND(H56*K56,2)","v":0},{"$f":"ROUND(K56/F56,2)","v":0},0,{"v":1.6291,"d":"$1.6291"},1.75,{"$f":"ROUND(O56*P56,2)","v":{"v":2.85,"d":"$2.85"}}," "," ",{"$f":"N56/F56","v":0}]
[null,"7 g saturated fat and 710 mg sodium per serving.  CN Labeled for one portion to provide min. 2 M/M and 2 OEG"]
[null,"Possible Allergens:  Wheat, Milk, Soy"]
[13,"Pizza, 100% Mozz. Turkey Meateaters 6\" Round, WG","Nardone's 625WTME2",null,"60/5.57z",60,0,{"$f":"ROUND($G$59*$F$59/F59,2)","v":0},"Cs",{"v":45,"d":"$45.00"},{"$f":"IF(OR(ISBLANK(J59),G59=0,ISBLANK(G59)),,ROUND(J59+$K$3,2))","v":0},{"$f":"ROUND(H59*K59,2)","v":0},{"$f":"ROUND(K59/F59,2)","v":0},{"v":36.35,"d":"$36.35"},{"v":1.6291,"d":"$1.6291"},5.31,{"$f":"ROUND(O59*P59,2)","v":{"v":8.65,"d":"$8.65"}},{"$f":"K59-Q59","v":{"v":-8.65,"d":"-$8.65"}},{"$f":"R59/F59","v":{"v":-0.14416666666666667,"d":"$(0.14)"}},{"$f":"N59/F59","v":{"v":0.6058333333333333,"d":"$0.61"}}]
[null,"Frozen, 6\" whole grain rich, 100% mozzarella, 300-400 calories with no more than 6 g sat fat and 600 mg sodium"," ",null," "," "," "," "," "," "," "," "," ",null," "," "," "," "," "," "," "]
[null,"One portion must provide 2 M/MA. 2 EOG, and 1/8 cup Red/Orange Vegetable"," ",null," "," ",null," "," "," "," "," "," ",null," "," "," ",null," "," "]
[null,"Possible Allergens:  Wheat, Milk, Soy"]
[14,"Pizza, Cheese, 5-6\" Round","Schwan's 78368",null,"60/4.98z",60,0,{"$f":"ROUND(G63*F63/F63,2)","v":0},"Cs",{"v":36.54,"d":"$36.54"},{"$f":"IF(OR(ISBLANK(J63),G63=0,ISBLANK(G63)),,ROUND(J63+$K$3,2))","v":0},{"$f":"ROUND(H63*K63,2)","v":0},{"$f":"ROUND(K63/F63,2)","v":0},null,{"v":1.6291,"d":"$1.6291"},5.92,{"$f":"J63-P63","v":{"v":30.619999999999997,"d":"$30.62"}}," "," ",{"$f":"N63/F63","v":0}]
[null,"Frozen, 6\" whole grain rich, 100% mozzarella, 250-400 calories with no more than 7 g sat fat and 700 mg sodium","S.A Piazza 80550",null,"80/5.49z",80,null,{"$f":"ROUND(G63*F63/F64,2)","v":0},"Cs",{"$nulls":5},{"v":1.6291,"d":"$1.6291"},10.08,{"v":-10.08,"d":"-$10.08"}," "," ",0]
[null,"per serving.  CN Labeled for one portion to provide min. 2 M/MA, 2 OEG and 1/8 Red/Orange Veg","Nardones 625WRM2",null,"60/5.40z",60,null,{"$f":"ROUND(G63*F63/F65,2)","v":0},"Cs",{"$nulls":4},{"v":25.83,"d":"$25.83"},{"v":1.6291,"d":"$1.6291"},7.5,{"v":12.22,"d":"$12.22"},{"v":25.83,"d":"$25.83"},{"v":0.43,"d":"$0.43"},{"v":0.4305,"d":"$0.43"}]
[null,"Possible Allergens:  Wheat, Milk, Soy"," ",null,null," ",null," "," "," "," "," "," ",null," "," "," "," "," "," "," "]
[15,"Pizza, Cheese, Turkey Pepperoni, 5-6\" Round","Schwan's 78369",null,"60/4.98z",60,0,{"$f":"ROUND(G67*F67/F67,2)","v":0},"Cs",{"v":37.72,"d":"$37.72"},{"$f":"IF(OR(ISBLANK(J67),G67=0,ISBLANK(G67)),,ROUND(J67+$K$3,2))","v":0},0,0,null,{"v":1.6291,"d":"$1.6291"},4.8,{"v":32.92,"d":"$32.92"}," "," "," "]
[null,"Frozen, Whole Grain 100% mozzarella 250-400 calories with no more than 7 g sat fat and 700 mg sodium per svg","Nardone's 625WRMTP3",null,"60/5.40z",60,null,{"$f":"ROUND(G67*F67/F68,2)","v":0},"Cs",{"$nulls":4},{"v":29.46,"d":"$29.46"},{"v":1.6291,"d":"$1.6291"},6,{"v":-6,"d":"-$6.00"},{"$f":"K68-Q68","v":{"v":6,"d":"$6.00"}},{"v":0.49,"d":"$0.49"},{"$f":"N68/F68","v":{"v":0.491,"d":"$0.49"}}]
[null,"One portion must provide 2 M/MA. 2 EOG, and 1/8 cup Red/Orange Vegetable","Conagra 12445",null,"60/5.05z",60,null,{"$f":"ROUND(G67*F67/F69,2)","v":0},"Cs",{"$nulls":5},{"v":1.6291,"d":"$1.6291"},4.5,{"v":-4.5,"d":"-$4.50"},{"v":0,"d":"$0.00"},0,0]
[null,"Possible Allergens:  Wheat, Milk, Soy"," ",null," "," ",null," "," ",null," "," "," ",null," "," "," "," "," "," "]
[16,"Pizza, Cheese, Pepperoni, 5-6\" Round","Alpha Foods AS64W",null,"60/5.36z",60,0,{"$f":"ROUND(G71*F71/F71,2)","v":0},"Cs",{"v":51.8,"d":"$51.80"},{"$f":"IF(OR(ISBLANK(J71),G71=0,ISBLANK(G71)),,ROUND(J71+$K$3,2))","v":0},0,0,{"v":40.43,"d":"$40.43"},{"v":1.6291,"d":"$1.6291"},6.98,{"$f":"ROUND(O71*P71,2)","v":{"v":11.37,"d":"$11.37"}},{"$f":"K71-Q71","v":{"v":-11.37,"d":"-$11.37"}},{"$f":"R71/F71","v":{"v":-0.18949999999999997,"d":"$(0.19)"}},{"$f":"N71/F71","v":{"v":0.6738333333333333,"d":"$0.67"}}]
[null,"Frozen, Whole Grain 100% mozzarella "," ",null," "," ",null," "," "," "," "," "," ",null," "," "," "," "," "," "]
[null,"One portion must provide 2 M/MA. 2 EOG, and 1/8 cup Red/Orange Vegetable"," ",null," "," ",null," "," ",null," "," "," ",null," "," "," ",null," "," "]
[null,"Possible Allergens:  Wheat, Milk, Soy"]
[17,"Pizza, Cheese, Supreme, 5-6\" Round","Nardone's 625WSUP2",null,"60/6.35z",60,0,{"$f":"ROUND(G75*F75/F75,2)","v":0},"Cs",{"v":45,"d":"$45.00"},{"$f":"IF(OR(ISBLANK(J75),G75=0,ISBLANK(G75)),,ROUND(J75+$K$3,2))","v":0},{"$f":"ROUND(H75*K75,2)","v":0},{"$f":"ROUND(K75/F75,2)","v":0},{"v":37.36,"d":"$37.36"},{"v":1.6291,"d":"$1.6291"},4.69,{"$f":"ROUND(O75*P75,2)","v":{"v":7.64,"d":"$7.64"}},{"$f":"K75-Q75","v":{"v":-7.64,"d":"-$7.64"}},{"$f":"R75/F75","v":{"v":-0.12733333333333333,"d":"$(0.13)"}},{"$f":"N75/F75","v":{"v":0.6226666666666667,"d":"$0.62"}}]
[null,"Frozen, Whole Grain 100% mozzarella "," ",null," "," ",null," "," ",null," "," "," ",null," "," ","  ",null," "," "]
[null,"One portion must provide 2 M/MA. 2 EOG, and 1/8 cup Red/Orange Vegetable"," ",null," "," ",null," "," ",null," "," ","  ",null," "," "," ",null," "," "]
[null,"Possible Allergens:  Wheat, Milk, Soy"]
[18,"Pizza, Whole, 15-16\", Self Rising, Pepperoni","UNO MVPPCN16",null,"96/5.50z",96,0,{"$f":"ROUND(G79*F79/F79,2)","v":0},"Cs",{"$nulls":5},{"v":1.6291,"d":"$1.6291"},10.5,{"$f":"ROUND(O79*P79,2)","v":{"v":17.11,"d":"$17.11"}}," "," "," "]
[null,"Frozen, \"Pizza Pie Shape\" cut into slices or cutter provided, 100% mozzarella, Whole grain","Alpha Foods SP164RW",null,"72/6.75z",72,null,{"$f":"ROUND(G79*F79/F80,2)","v":0},"Cs",{"v":52.59,"d":"$52.59"},{"$f":"IF(OR(ISBLANK(J80),G79=0,ISBLANK(G79)),,ROUND(J80+$K$3,2))","v":0},{"$f":"ROUND(H80*K80,2)","v":0},{"$f":"ROUND(K80/F80,2)","v":0},{"v":39.75,"d":"$39.75"},{"v":1.6291,"d":"$1.6291"},7.88,{"$f":"ROUND(O80*P80,2)","v":{"v":12.84,"d":"$12.84"}},{"$f":"K80-Q80","v":{"v":-12.84,"d":"-$12.84"}},{"$f":"R80/F80","v":{"v":-0.17833333333333334,"d":"$(0.18)"}},{"$f":"N80/F80","v":{"v":0.5520833333333334,"d":"$0.55"}}]
[null,"One portion must provide 2 M/MA. 2 EOG, and 1/8 cup Red/Orange Vegetable","Nardone's 16WRSRMP1",null,"64/6.9z",64,null,{"$f":"ROUND(G79*F79/F81,2)","v":0},"Cs",{"$nulls":5},{"v":1.6291,"d":"$1.6291"},5.92,{"$f":"ROUND(O81*P81,2)","v":{"v":9.64,"d":"$9.64"}}," "," "," "]
[null,"Possible Allergens:  Wheat, Milk, Soy"]
[19,"Pizza, Whole, 15-16\", Self Rising, Turkey/Beef Pepperoni","UNO SLMVPPCN16",null,"96/5.50z",96,0,{"$f":"ROUND($G$83*$F$83/F83,2)","v":0},"Cs",{"$nulls":5},{"v":1.6291,"d":"$1.6291"},10.5,{"$f":"ROUND(O83*P83,2)","v":{"v":17.11,"d":"$17.11"}},{"v":0,"d":"$0.00"},{"$f":"R83/F83","v":0},{"$f":"N83/F83","v":0}]
[null,"Frozen, \"Pizza Pie Shape\" cut into slices or cutter provided, 100% mozzarella, Whole grain","Nardone's 16WRSRMTP2",null,"64/6.90z",64,null,{"$f":"ROUND($G$83*$F$83/F84,2)","v":0},"Cs",{"v":49.9,"d":"$49.90"},{"$f":"IF(OR(ISBLANK(J84),G83=0,ISBLANK(G83)),,ROUND(J84+$K$3,2))","v":0},{"$f":"ROUND(H84*K84,2)","v":0},{"$f":"ROUND(K84/F84,2)","v":0},{"v":40,"d":"$40.00"},{"v":1.6291,"d":"$1.6291"},6.08,{"$f":"ROUND(O84*P84,2)","v":{"v":9.9,"d":"$9.90"}},{"$f":"K84-Q84","v":{"v":-9.9,"d":"-$9.90"}},{"v":-0.1546875,"d":"$(0.15)"},{"v":0.625,"d":"$0.63"}]
[null,"One portion must provide 2 M/MA. 2 EOG, and 1/8 cup Red/Orange Vegetable"," ",null," "," "," "," "," "," "," "," "," ",null,"  "," "," ",null," "," "]
[null,"Possible Allergens:  Wheat, Milk, Soy"]
[20,"Pizza, Whole, 15-16\", Self Rising, Buffalo Chicken","Schwann's 78639",null,"72/5.21z",72,0,{"$f":"ROUND($G$87*$F$87/F87,2)","v":0},"Cs",{"v":60.91,"d":"$60.91"},{"$f":"IF(OR(ISBLANK(J87),G87=0,ISBLANK(G87)),,ROUND(J87+$K$3,2))","v":0},{"$f":"ROUND(H87*K87,2)","v":0},{"$f":"ROUND(K87/F87,2)","v":0},null,{"v":1.6291,"d":"$1.6291"},7.59,{"$f":"ROUND(O87*P87,2)","v":{"v":12.36,"d":"$12.36"}},{"$f":"K87-Q87","v":{"v":-12.36,"d":"-$12.36"}},{"$f":"R87/F87","v":{"v":-0.17166666666666666,"d":"$(0.17)"}},{"$f":"N87/F87","v":0}]
[null,"Frozen, \"Pizza Pie Shape\" Chicken Buffalo cut into slices or cutter provided, 100% mozzarella, Whole grain"," ",null," "," ",null," "," ",null," "," "," ",null,"  "," "," ",null,"  "," "]
[null,"One portion must provide 2 M/MA. 2 EOG, and 1/8 cup Red/Orange Vegetable"," ",null," "," ",null," "," ",null," "," "," ",null," "," "," ",null," "," "]
[null,"Possible Allergens:  Wheat, Milk, Soy"]
[21,"Pizza, Whole, 15-16\", Self Rising, Supreme","Alpha Foods SP1668RW",null,"72/7.19z",72,0,{"$f":"ROUND($G$91*$F$91/F91,2)","v":0},"Cs",{"$nulls":4},{"v":45.68,"d":"$45.68"},{"v":1.6291,"d":"$1.6291"},9,{"$f":"ROUND(O91*P91,2)","v":{"v":14.66,"d":"$14.66"}},{"v":45.68,"d":"$45.68"},{"$f":"R91/F91","v":{"v":0.6344444444444445,"d":"$0.63"}},{"$f":"N91/F91","v":{"v":0.6344444444444445,"d":"$0.63"}}]
[null,"Frozen, \"Pizza Pie Shape\" cut into slices or cutter provided, 100% mozzarella, Whole grain","Nardone's 16WSRSUP",null,"64/7.43z",64,null,{"$f":"ROUND($G$91*$F$91/F92,2)","v":0},"Cs",{"v":52,"d":"$52.00"},{"$f":"IF(OR(ISBLANK(J92),G91=0,ISBLANK(G91)),,ROUND(J92+$K$3,2))","v":0},{"$f":"ROUND(H92*K92,2)","v":0},{"$f":"ROUND(K92/F92,2)","v":0},null,{"v":1.6291,"d":"$1.6291"},5.75,{"$f":"ROUND(O92*P92,2)","v":{"v":9.37,"d":"$9.37"}},{"v":0,"d":"$0.00"},0,0]
[null,"One portion must provide 2 M/MA. 2 EOG, and 1/8 cup Red/Orange Vegetable"," ",null," "," "," "," "," "," "," "," "," ",null,"  "," "," ",null," "," "]
[null,"Possible Allergens:  Wheat, Milk, Soy",{"$nulls":17}," "]
[22,"Pizza, Whole, 15-16\" Self Rising, Four Cheese","Alpha Foods SP1622RW",null,"72/6.56z",72,0,{"$f":"ROUND($G$95*$F$95/F95,2)","v":0},"Cs",{"v":53.35,"d":"$53.35"},{"$f":"IF(OR(ISBLANK(J95),G95=0,ISBLANK(G95)),,ROUND(J95+$K$3,2))","v":0},{"$f":"ROUND(H95*K95,2)","v":0},{"$f":"ROUND(K95/F95,2)","v":0},{"v":39.6,"d":"$39.60"},{"v":1.6291,"d":"$1.6291"},8.44,{"$f":"ROUND(O95*P95,2)","v":{"v":13.75,"d":"$13.75"}},{"v":39.6,"d":"$39.60"},{"$f":"R95/F95","v":{"v":0.55,"d":"$0.55"}},{"$f":"N95/F95","v":{"v":0.55,"d":"$0.55"}}]
[null,"Frozen, \"Pizza Pie Shaped\" cut into slices or cutter provided 100% mozzarella, Whole Grain","Nardone's 16WSRFC",null,"64/5.13z",64,null,{"$f":"ROUND($G$95*$F$95/F96,2)","v":0},"Cs",{"$nulls":5},{"v":1.6291,"d":"$1.6291"},8,{"$f":"ROUND(O96*P96,2)","v":{"v":13.03,"d":"$13.03"}},{"$f":"K96-R96","v":{"v":0,"d":"$0.00"}},{"$f":"S96/F96","v":0},0]
[null,"One portion must provide 2 M/MA. 2 EOG, and 1/8 cup Red/Orange Vegetable","Schwann's 78637",null,"72/5.18z",72,null,{"$f":"ROUND($G$95*$F$95/F97,2)","v":0},"Cs",{"$nulls":5},{"v":1.6291,"d":"$1.6291"},9,{"$f":"ROUND(O97*P97,2)","v":{"v":14.66,"d":"$14.66"}},{"$f":"K97-R97","v":{"v":0,"d":"$0.00"}},{"$f":"S97/F97","v":0},0]
[null,"Possible Allergens:  Wheat, Milk, Soy"]
[23,"Pizza, Presliced, 15-16\", Parbaked, Turkey or Beef Pepperoni","Nardone's 64WPSTP3",null,"64/5.0z",64,0,{"$f":"ROUND($G$99*$F$99/F99,2)","v":0},"Cs",{"v":51,"d":"$51.00"},{"$f":"IF(OR(ISBLANK(J99),G99=0,ISBLANK(G99)),,ROUND(J99+$K$3,2))","v":0},{"$f":"ROUND(H99*K99,2)","v":0},{"$f":"ROUND(K99/F99,2)","v":0},{"v":39.92,"d":"$39.92"},{"v":1.6291,"d":"$1.6291"},6.8,{"$f":"ROUND(O99*P99,2)","v":{"v":11.08,"d":"$11.08"}},{"$f":"K99-Q99","v":{"v":-11.08,"d":"-$11.08"}},{"$f":"R99/F99","v":{"v":-0.173125,"d":"$(0.17)"}},{"$f":"N99/F99","v":{"v":0.62375,"d":"$0.62"}}]
[null,"Frozen, \"Pizza Pie Shaped cut into slices, 100% mozzarella"," ",null," "," "," "," "," ",null," "," "," ",null,"  "," "," ",null," "," "]
[null,"One portion must provide 2 M/MA. 2 EOG, and 1/8 cup Red/Orange Vegetable"," ",null," "," "," "," "," "," "," "," "," ",null,"  "," "," ",null," "," "]
[null,"Possible Allergens:  Wheat, Milk, Soy",{"$nulls":17}," "]
[24,"Pizza, Presliced, 15-16\", Parbaked, Buffalo Chicken","Nardone's 64WPSBC",null,"64/4.60z",64,0,{"$f":"ROUND($G$103*$F$103/F103,2)","v":0},"Cs",{"v":51,"d":"$51.00"},{"$f":"IF(OR(ISBLANK(J103),G103=0,ISBLANK(G103)),,ROUND(J103+$K$3,2))","v":0},{"$f":"ROUND(H103*K103,2)","v":0},{"$f":"ROUND(K103/F103,2)","v":0},{"v":41.23,"d":"$41.23"},{"v":1.6291,"d":"$1.6291"},6,{"$f":"ROUND(O103*P103,2)","v":{"v":9.77,"d":"$9.77"}},{"$f":"K103-Q103","v":{"v":-9.77,"d":"-$9.77"}},{"$f":"R103/F103","v":{"v":-0.15265625,"d":"$(0.15)"}},{"$f":"N103/F103","v":{"v":0.64421875,"d":"$0.64"}}]
[null,"Frozen, \"Pizza Pie Shaped cut into slices, 100% mozzarella"," ",null," "," ",null,null," ",null," "," "," ",null," "," "," ",null," "," "]
[null,"One portion must provide 2 M/MA. 2 EOG, and 1/8 cup Red/Orange Vegetable"," ",null," "," "," "," "," "," "," "," "," ",null,"  "," "," ",null," "," "]
[null,"Possible Allergens:  Wheat, Milk, Soy",{"$nulls":17}," "]
[25,"Pizza, Presliced, 15-16\", Parbaked, Supreme","Nardone's 64WSUP2",null,"64/5.75z",64,0,{"$f":"ROUND($G$107*$F$107/F107,2)","v":0},"Cs",{"v":51,"d":"$51.00"},{"$f":"IF(OR(ISBLANK(J107),G107=0,ISBLANK(G107)),,ROUND(J107+$K$3,2))","v":0},{"$f":"ROUND(H107*K107,2)","v":0},{"$f":"ROUND(K107/F107,2)","v":0},{"v":42.85,"d":"$42.85"},{"v":1.6291,"d":"$1.6291"},5,{"$f":"ROUND(O107*P107,2)","v":{"v":8.15,"d":"$8.15"}},{"$f":"K107-Q107","v":{"v":-8.15,"d":"-$8.15"}},{"$f":"R107/F107","v":{"v":-0.12734375,"d":"$(0.13)"}},{"$f":"N107/F107","v":{"v":0.66953125,"d":"$0.67"}}]
[null,"Frozen, \"Pizza Pie Shaped cut into slices, 100% mozzarella"," ",null," "," "," "," "," "," "," "," "," ",null,"  "," "," ",null,"  "," "]
[null,"One portion must provide 2 M/MA. 2 EOG, and 1/8 cup Red/Orange Vegetable"," ",null," "," "," "," "," "," "," "," "," ",null,"  "," "," ",null," "," "]
[null,"Possible Allergens:  Wheat, Milk, Soy",{"$nulls":17}," "]
[26,"Pizza, Whole, 15-16\", 100% Mozz. Turkey Pepperoni, Four Cheese, WG","Schwann's 78638",null,"72/5.18z",72,0,{"$f":"ROUND($G$111*$F$111/F111,2)","v":0},"Cs",{"v":61.55,"d":"$61.55"},{"$f":"IF(OR(ISBLANK(J111),G111=0,ISBLANK(G111)),,ROUND(J111+$K$3,2))","v":0},{"$f":"ROUND(H111*K111,2)","v":0},{"$f":"ROUND(K111/F111,2)","v":0},null,{"v":1.6291,"d":"$1.6291"},7.2,{"$f":"ROUND(O111*P111,2)","v":{"v":11.73,"d":"$11.73"}},{"$f":"K111-Q111","v":{"v":-11.73,"d":"-$11.73"}},{"$f":"R111/F111","v":{"v":-0.16291666666666668,"d":"$(0.16)"}},{"$f":"N111/F111","v":0}]
[null,"Frozen, whole grain rich. Topped with beef, ham, sausage and pepperoni 300-400 calories with no more than "," ",null," "," ",null," "," ",null," "," "," ",null," "," "," ",null," "," "]
[null,"8 g saturated fat and 660 mg sodium per serving.  CN labeled for one 1/8 pizza to provide min. 2 M/MA, 2 OEG,"]
[null,"and 1/8 cup red/orange vegetable"]
[null," "," ",null," "," "," "," "," "," "," "," "," ",null,"  "," "," ",null," "," "]
[null,"Possible Allergens:  Wheat, Milk, Soy",{"$nulls":17}," "]
[27,"Pizza, Whole, 15-16\", 100% Mozz, Four Meat, WG Self Rising","Schwann's 78640",null,"72/5.30z",72,0,{"$f":"ROUND($G$117*$F$117/F117,2)","v":0},"Cs",{"v":63.13,"d":"$63.13"},{"$f":"IF(OR(ISBLANK(J117),G117=0,ISBLANK(G117)),,ROUND(J117+$K$3,2))","v":0},{"$f":"ROUND(H117*K117,2)","v":0},{"$f":"ROUND(K117/F117,2)","v":0},0,{"v":1.6291,"d":"$1.6291"},6.46,{"$f":"ROUND(O117*P117,2)","v":{"v":10.52,"d":"$10.52"}},{"$f":"K117-Q117","v":{"v":-10.52,"d":"-$10.52"}},{"$f":"R117/F117","v":{"v":-0.1461111111111111,"d":"$(0.15)"}},{"$f":"N117/F117","v":0}]
[null,"Frozen, whole grain rich. 100% mozz, Topped with ham, sausage and pepperoni 300-400 calories with no more"," ",null," "," ",null," "," ",null," "," "," ",null," "," "," ",null," "," "]
[null,"than 8 g sat fat and 660 mg sodium per serving. CN labeled for one 1/8 pizza to provide min. 2 M/MA, 2 OEG and"]
[null,"1/8 cup red/orange vegetable, "]
[null,"Possible Allergens:  Wheat, Milk, Soy",{"$nulls":17}," "]
[28,"Pizza, Whole, 15-16\", 100% Mozz, Four Cheese, Pork Pepperoni, 10 Cut  Par Baked","SA Piazza 20210",null,"90/5.50z",90,0,{"$f":"ROUND($G$122*$F$122/F122,2)","v":0},"Cs",{"v":68.27,"d":"$68.27"},{"$f":"IF(OR(ISBLANK(J122),G122=0,ISBLANK(G122)),,ROUND(J122+$K$3,2))","v":0},{"$f":"ROUND(H122*K122,2)","v":0},{"$f":"ROUND(K122/F122,2)","v":0},{"v":52.06,"d":"$52.06"},{"v":1.6291,"d":"$1.6291"},9.95,{"$f":"ROUND(O122*P122,2)","v":{"v":16.21,"d":"$16.21"}},{"$f":"K122-Q122","v":{"v":-16.21,"d":"-$16.21"}},{"$f":"R122/F122","v":{"v":-0.1801111111111111,"d":"$(0.18)"}},{"$f":"N122/F122","v":{"v":0.5784444444444444,"d":"$0.58"}}]
[null,"Frozen, whole grain rich. 100% mozz, 300-400 calories with not nore than 10g sat fat and 600 mg sodium per  "," ",null," "," ",null," "," ",null," "," "," ",null," "," "," ",null," "," "]
[null,"serving, CN labeled for one portion to provide min. 2 M/MA, 2 OEG, and 1/8 c red/orange vegetables"]
[null," "]
[null,"Possible Allergens:  Wheat, Milk, Soy",{"$nulls":17}," "]
[29,"Pizza, Whole, 15-16\", 100% Mozz, Four Cheese, Parbaked WG","Schwann's 68591",null,"72/5.13z",72,0,{"$f":"ROUND($G$127*$F$127/F127,2)","v":0},"Cs",{"v":55.69,"d":"$55.69"},{"$f":"IF(OR(ISBLANK(J127),G127=0,ISBLANK(G127)),,ROUND(J127+$K$3,2))","v":0},{"$f":"ROUND(H127*K127,2)","v":0},{"$f":"ROUND(K127/F127,2)","v":0},null,{"v":1.6291,"d":"$1.6291"},8.93,{"$f":"ROUND(O127*P127,2)","v":{"v":14.55,"d":"$14.55"}},{"$f":"K127-Q127","v":{"v":-14.55,"d":"-$14.55"}},{"$f":"R127/F127","v":{"v":-0.20208333333333334,"d":"$(0.20)"}},{"$f":"N127/F127","v":0}]
[null,"Frozen, whole grain rich. Made with mozzarella, provolone, self rising cheddar and parmesian 300-400 calories with "," ",null," "," ",null," "," ",null," "," "," ",null," "," "," ",null," "," "]
[null,"no more then 8 g sat fat and 500 mg sodium per serving.  CN labeled for one 1/8 pizza to provide min. 2 M/MA, "]
[null,"2 OEG , and 1/8 cup red/orange vegetable"]
[null," "," ",null," "," "," "," "," "," "," "," "," ",null,"  "," "," ",null," "," "]
[null,"Possible Allergens:  Wheat, Milk, Soy",{"$nulls":17}," "]
[30,"Breakfast Bagel, 100% Mozz. Turkey Sausage, WG, IW","Nardone's M96WBTS1",null,"96/3.10z",96,0,{"$f":"ROUND($G$133*$F$133/F133,2)","v":0},"Cs",{"v":51,"d":"$51.00"},{"$f":"IF(OR(ISBLANK(J133),G133=0,ISBLANK(G133)),,ROUND(J133+$K$3,2))","v":0},{"$f":"ROUND(H133*K133,2)","v":0},{"$f":"ROUND(K133/F133,2)","v":0},{"v":44.16,"d":"$44.16"},{"v":1.6291,"d":"$1.6291"},4.2,{"$f":"ROUND(O133*P133,2)","v":{"v":6.84,"d":"$6.84"}},{"$f":"K133-Q133","v":{"v":-6.84,"d":"-$6.84"}},{"$f":"R133/F133","v":{"v":-0.07125,"d":"$(0.07)"}},{"$f":"N133/F133","v":{"v":0.45999999999999996,"d":"$0.46"}}]
[null,"Frozen, whole grain rich, pizza sauce topping, 150-250 calories with no more than 3 g sat fat and 400 mg sodium"]
[null,"per serving.  CN labeled for one serving to provide min. 1 M/MA, 1/8 c red/orange vegetable, 1 OEG,"]
[null,"Individual ovenable wrap"," ",null," "," ",null," "," ",null," "," "," ",null," "," "," ",null," "," "]
[null," "," ",null," "," "," "," "," "," "," "," "," ",null,"  "," "," ",null," "," "]
[null,"Possible Allergens:  Wheat, Milk, Soy",{"$nulls":17}," "]
[31,"Breakfast Pizza, Egg and Turkey Sausage (BULK)","Nardone's 80WTSA100",null,"80/2.85z",80,0,{"$f":"ROUND($G$139*$F$139/F139,2)","v":0},"Cs",{"v":27,"d":"$27.00"},{"$f":"IF(OR(ISBLANK(J139),G139=0,ISBLANK(G139)),,ROUND(J139+$K$3,2))","v":0},{"$f":"ROUND(H139*K139,2)","v":0},{"$f":"ROUND(K139/F139,2)","v":0},{"v":24.36,"d":"$24.36"},{"v":1.6162,"d":"$1.6162"},1.62,{"$f":"ROUND(O139*P139,2)","v":{"v":2.62,"d":"$2.62"}},{"$f":"K139-Q139","v":{"v":-2.62,"d":"-$2.62"}},{"$f":"R139/F139","v":{"v":-0.03275,"d":"$(0.03)"}},{"$f":"N139/F139","v":{"v":0.3045,"d":"$0.30"}}]
[null,"Frozen, 3\" x 5\" with pizza sauce"," ",null," "," ",null," "," ",null," "," "," ",null," "," "," ",null," "," "]
[null,"One serving must provide 1 M/MA and 1 EOG Whole grain"," ",null," "," "," "," "," "," "," "," "," ",null,"  "," "," ",null," "," "]
[null,"Possible Allergens:  Wheat, Milk, Soy",{"$nulls":17}," "]
[32,"Breakfast Pizza, 100% Mozz. Pork Sausage, WG","Nardone's 80WS100",null,"80/3.30z",80,0,{"$f":"ROUND($G$143*$F$143/F143,2)","v":0},"Cs",{"v":27,"d":"$27.00"},{"$f":"IF(OR(ISBLANK(J143),G143=0,ISBLANK(G143)),,ROUND(J143+$K$3,2))","v":0},{"$f":"ROUND(H143*K143,2)","v":0},{"$f":"ROUND(K143/F143,2)","v":0},{"v":20.89,"d":"$20.89"},{"v":1.6291,"d":"$1.6291"},3.75,{"$f":"ROUND(O143*P143,2)","v":{"v":6.11,"d":"$6.11"}},{"$f":"K143-Q143","v":{"v":-6.11,"d":"-$6.11"}},{"$f":"R143/F143","v":{"v":-0.076375,"d":"$(0.08)"}},{"$f":"N143/F143","v":{"v":0.261125,"d":"$0.26"}}]
[null,"Frozen, whole grain rich, 3\" x 5\" biscuit style crust with pizza sauce.  150-250 calories with no more than"]
[null,"4 g sat fat and 350 mg sodium per serving,  CN labeled for one portion to provide min. 1 M/MA, 1.5 OEG"]
[null,"1/8 cup red/orange vegetable, "," "," "," "," ",null," ","  "," "," "," "," ",null," "," "," "," "," "," "]
[null,"Possible Allergens:  Wheat, Milk",{"$nulls":17}," "]
[33,"Breakfast Pizza, Egg and Turkey Sausage, WG, IW","Conagra Max 12468",null,"96/3.21z",96,0,{"$f":"ROUND($G$148*$F$148/F148,2)","v":0},"Cs",{"v":48.5,"d":"$48.50"},{"$f":"IF(OR(ISBLANK(J148),G148=0,ISBLANK(G148)),,ROUND(J148+$K$3,2))","v":0},{"$f":"ROUND(H148*K148,2)","v":0},{"$f":"ROUND(K148/F148,2)","v":0},{"v":47.02,"d":"$47.02"},{"v":1.6291,"d":"$1.6291"},0.91,{"$f":"ROUND(O148*P148,2)","v":{"v":1.48,"d":"$1.48"}},{"$f":"K148-Q148","v":{"v":-1.48,"d":"-$1.48"}},{"$f":"R148/F148","v":{"v":-0.015416666666666667,"d":"$(0.02)"}},{"$f":"N148/F148","v":{"v":0.4897916666666667,"d":"$0.49"}}]
[null,"Frozen, whole grain rich, turkey sausage, 150-250 calories with no more than 2 g sat fat and 350 mg sodium per"]
[null,"serving. CN labeled for one serving to provide 1 M/MA and 1.5 OEG"]
[null," "," "," "," "," ",null," ","  "," "," "," "," ",null," "," "," "," "," "," "]
[null,"Possible Allergens:  Soy, Milk and Eggs",{"$nulls":17}," "]
[34,"Breakfast Pizza, 100% Mozz. Beef, Red Sauce, WG IW","SA Piazza 90502",null,"160/2.80z",160,0,{"$f":"ROUND($G$153*$F$153/F153,2)","v":0},"Cs",{"v":73.77,"d":"$73.77"},{"$f":"IF(OR(ISBLANK(J153),G153=0,ISBLANK(G153)),,ROUND(J153+$K$3,2))","v":0},{"$f":"ROUND(H153*K153,2)","v":0},{"$f":"ROUND(K153/F153,2)","v":0},{"v":62.06,"d":"$62.06"},{"v":1.6291,"d":"$1.6291"},7.19,{"$f":"ROUND(O153*P153,2)","v":{"v":11.71,"d":"$11.71"}},{"$f":"K153-Q153","v":{"v":-11.71,"d":"-$11.71"}},{"$f":"R153/F153","v":{"v":-0.0731875,"d":"$(0.07)"}},{"$f":"N153/F153","v":{"v":0.387875,"d":"$0.39"}}]
[null,"Frozen, whole grain rich, beef topping, 150-250 calories with no more than 4 g sat fat and 300 mg sodium per"]
[null,"serving. CN labeled for one serving to provide 1 M/MA and 1 OEG"]
[null," "," "," "," "," ",null," ","  "," "," "," "," ",null," "," "," "," "," "," "]
[null,"Possible Allergens:  Soy, Milk and Wheat",{"$nulls":17}," "]
[35,"Breakfast Bagel, Turkey Sausage","Tasty Brands 55202",null,"120/2.72z",120,50,{"$f":"ROUND($G$158*$F$158/F158,2)","v":50},"Cs",{"v":47.03,"d":"$47.03"},{"$f":"IF(OR(ISBLANK(J158),G158=0,ISBLANK(G158)),,ROUND(J158+$K$3,2))","v":{"v":47.03,"d":"$47.03"}},{"$f":"ROUND(H158*K158,2)","v":{"v":2351.5,"d":"$2,351.50"}},{"$f":"ROUND(K158/F158,2)","v":{"v":0.39,"d":"$0.39"}},{"v":43.88,"d":"$43.88"},{"v":1.6291,"d":"$1.6291"},1.9,{"$f":"ROUND(O158*P158,2)","v":{"v":3.1,"d":"$3.10"}},{"$f":"K158-Q158","v":{"v":43.93,"d":"$43.93"}},{"$f":"R158/F158","v":{"v":0.3660833333333333,"d":"$0.37"}},{"$f":"N158/F158","v":{"v":0.3656666666666667,"d":"$0.37"}}]
[null,"Frozen, Cream style gravy topping","Nardone's M96WBTSG",null,"96/2.65z",96,null,{"$f":"ROUND($G$158*$F$158/F159,2)","v":62.5},"Cs",{"$nulls":5},{"v":1.6291,"d":"$1.6291"},4.2,{"$f":"ROUND(O159*P159,2)","v":{"v":6.84,"d":"$6.84"}}," "," "," "]
[null,"One serving must provide 1 M/MA and 1 EOG Whole grain"," ",null," "," "," "," "," "," "," "," "," ",null,"  "," "," ",null," "," "]
[null,"Possible Allergens:  Wheat, Milk, Soy",{"$nulls":17}," "]
[]
[{"$nulls":6},0,null,"Page Total",null,null,{"$f":"SUMIF(L8:L161,\">0\")","v":{"v":14265.26,"d":"$14,265.26"}}]

{"sheet":"Sheet19","index":8,"n_rows":0,"n_cols":0,"rows_kept":0}

{"sheet":"Sheet21","index":9,"n_rows":0,"n_cols":0,"rows_kept":0}

{"sheet":"Sheet22","index":10,"n_rows":0,"n_cols":0,"rows_kept":0}

{"sheet":"Sheet23","index":11,"n_rows":0,"n_cols":0,"rows_kept":0}

{"sheet":"Sheet24","index":12,"n_rows":0,"n_cols":0,"rows_kept":0}

{"sheet":"Sheet25","index":13,"n_rows":0,"n_cols":0,"rows_kept":0}

{"sheet":"Sheet26","index":14,"n_rows":0,"n_cols":0,"rows_kept":0}

{"sheet":"Sheet27","index":15,"n_rows":0,"n_cols":0,"rows_kept":0}

{"sheet":"Sheet111","index":16,"n_rows":0,"n_cols":0,"rows_kept":0}

{"sheet":"Sheet112","index":17,"n_rows":0,"n_cols":0,"rows_kept":0}

{"sheet":"Sheet113","index":18,"n_rows":0,"n_cols":0,"rows_kept":0}

{"sheet":"Sheet114","index":19,"n_rows":0,"n_cols":0,"rows_kept":0}

{"sheet":"Sheet115","index":20,"n_rows":0,"n_cols":0,"rows_kept":0}

{"sheet":"Sheet116","index":21,"n_rows":0,"n_cols":0,"rows_kept":0}

{"sheet":"Sheet117","index":22,"n_rows":0,"n_cols":0,"rows_kept":0}

{"sheet":"Sheet125","index":23,"n_rows":0,"n_cols":0,"rows_kept":0}

{"sheet":"Sheet126","index":24,"n_rows":0,"n_cols":0,"rows_kept":0}

{"sheet":"Sheet127","index":25,"n_rows":0,"n_cols":0,"rows_kept":0}

{"sheet":"Sheet128","index":26,"n_rows":0,"n_cols":0,"rows_kept":0}

{"sheet":"Sheet129","index":27,"n_rows":0,"n_cols":0,"rows_kept":0}

{"sheet":"Sheet130","index":28,"n_rows":0,"n_cols":0,"rows_kept":0}

{"sheet":"Sheet131","index":29,"n_rows":0,"n_cols":0,"rows_kept":0}

{"sheet":"Sheet132","index":30,"n_rows":0,"n_cols":0,"rows_kept":0}

{"sheet":"Sheet133","index":31,"n_rows":0,"n_cols":0,"rows_kept":0}

{"sheet":"Sheet134","index":32,"n_rows":0,"n_cols":0,"rows_kept":0}

{"sheet":"Sheet135","index":33,"n_rows":0,"n_cols":0,"rows_kept":0}

{"sheet":"Sheet136","index":34,"n_rows":0,"n_cols":0,"rows_kept":0}

{"sheet":"Sheet137","index":35,"n_rows":0,"n_cols":0,"rows_kept":0}

{"sheet":"Sheet138","index":36,"n_rows":0,"n_cols":0,"rows_kept":0}

{"sheet":"Sheet139","index":37,"n_rows":0,"n_cols":0,"rows_kept":0}

{"sheet":"Sheet140","index":38,"n_rows":0,"n_cols":0,"rows_kept":0}

{"sheet":"Sheet141","index":39,"n_rows":0,"n_cols":0,"rows_kept":0}

{"sheet":"Sheet142","index":40,"n_rows":0,"n_cols":0,"rows_kept":0}

{"sheet":"Sheet143","index":41,"n_rows":0,"n_cols":0,"rows_kept":0}

{"sheet":"Sheet144","index":42,"n_rows":0,"n_cols":0,"rows_kept":0}

{"sheet":"Sheet145","index":43,"n_rows":0,"n_cols":0,"rows_kept":0}

{"sheet":"Sheet146","index":44,"n_rows":0,"n_cols":0,"rows_kept":0}

{"sheet":"Sheet147","index":45,"n_rows":0,"n_cols":0,"rows_kept":0}

{"sheet":"Sheet148","index":46,"n_rows":0,"n_cols":0,"rows_kept":0}

{"sheet":"Sheet149","index":47,"n_rows":0,"n_cols":0,"rows_kept":0}

{"sheet":"Sheet150","index":48,"n_rows":0,"n_cols":0,"rows_kept":0}

{"sheet":"Sheet151","index":49,"n_rows":0,"n_cols":0,"rows_kept":0}

{"sheet":"Sheet152","index":50,"n_rows":0,"n_cols":0,"rows_kept":0}

{"sheet":"Sheet153","index":51,"n_rows":0,"n_cols":0,"rows_kept":0}

{"sheet":"Sheet154","index":52,"n_rows":0,"n_cols":0,"rows_kept":0}

{"sheet":"Sheet155","index":53,"n_rows":0,"n_cols":0,"rows_kept":0}

{"sheet":"Sheet156","index":54,"n_rows":0,"n_cols":0,"rows_kept":0}

{"sheet":"Sheet157","index":55,"n_rows":0,"n_cols":0,"rows_kept":0}

{"sheet":"Sheet158","index":56,"n_rows":0,"n_cols":0,"rows_kept":0}

{"sheet":"Sheet159","index":57,"n_rows":0,"n_cols":0,"rows_kept":0}

{"sheet":"Sheet160","index":58,"n_rows":0,"n_cols":0,"rows_kept":0}

{"sheet":"Sheet161","index":59,"n_rows":0,"n_cols":0,"rows_kept":0}

{"sheet":"Sheet162","index":60,"n_rows":0,"n_cols":0,"rows_kept":0}

{"sheet":"Sheet163","index":61,"n_rows":0,"n_cols":0,"rows_kept":0}

{"sheet":"Sheet164","index":62,"n_rows":0,"n_cols":0,"rows_kept":0}

{"sheet":"Sheet165","index":63,"n_rows":0,"n_cols":0,"rows_kept":0}

{"sheet":"Sheet166","index":64,"n_rows":0,"n_cols":0,"rows_kept":0}

{"sheet":"Sheet167","index":65,"n_rows":0,"n_cols":0,"rows_kept":0}

{"sheet":"Sheet168","index":66,"n_rows":0,"n_cols":0,"rows_kept":0}

{"sheet":"Sheet169","index":67,"n_rows":0,"n_cols":0,"rows_kept":0}

{"sheet":"Sheet170","index":68,"n_rows":0,"n_cols":0,"rows_kept":0}

{"sheet":"Sheet171","index":69,"n_rows":0,"n_cols":0,"rows_kept":0}

{"sheet":"Sheet172","index":70,"n_rows":0,"n_cols":0,"rows_kept":0}

{"sheet":"Sheet173","index":71,"n_rows":0,"n_cols":0,"rows_kept":0}

{"sheet":"Sheet174","index":72,"n_rows":0,"n_cols":0,"rows_kept":0}

{"sheet":"Sheet175","index":73,"n_rows":0,"n_cols":0,"rows_kept":0}

{"sheet":"Sheet176","index":74,"n_rows":0,"n_cols":0,"rows_kept":0}

{"sheet":"Sheet177","index":75,"n_rows":0,"n_cols":0,"rows_kept":0}

{"sheet":"Sheet178","index":76,"n_rows":0,"n_cols":0,"rows_kept":0}

{"sheet":"Sheet179","index":77,"n_rows":0,"n_cols":0,"rows_kept":0}

{"sheet":"Sheet180","index":78,"n_rows":0,"n_cols":0,"rows_kept":0}

{"sheet":"Sheet181","index":79,"n_rows":0,"n_cols":0,"rows_kept":0}

{"sheet":"Sheet182","index":80,"n_rows":0,"n_cols":0,"rows_kept":0}

{"sheet":"Sheet183","index":81,"n_rows":0,"n_cols":0,"rows_kept":0}

{"sheet":"Sheet184","index":82,"n_rows":0,"n_cols":0,"rows_kept":0}

{"sheet":"Sheet185","index":83,"n_rows":0,"n_cols":0,"rows_kept":0}

{"sheet":"Sheet186","index":84,"n_rows":0,"n_cols":0,"rows_kept":0}

{"sheet":"Sheet187","index":85,"n_rows":0,"n_cols":0,"rows_kept":0}

{"sheet":"Sheet188","index":86,"n_rows":0,"n_cols":0,"rows_kept":0}

{"sheet":"Sheet189","index":87,"n_rows":0,"n_cols":0,"rows_kept":0}

{"sheet":"Sheet190","index":88,"n_rows":0,"n_cols":0,"rows_kept":0}

{"sheet":"Sheet191","index":89,"n_rows":0,"n_cols":0,"rows_kept":0}

{"sheet":"Sheet192","index":90,"n_rows":0,"n_cols":0,"rows_kept":0}

{"sheet":"Sheet193","index":91,"n_rows":0,"n_cols":0,"rows_kept":0}

{"sheet":"Sheet194","index":92,"n_rows":0,"n_cols":0,"rows_kept":0}

{"sheet":"Sheet195","index":93,"n_rows":0,"n_cols":0,"rows_kept":0}

{"sheet":"Sheet196","index":94,"n_rows":0,"n_cols":0,"rows_kept":0}

{"sheet":"Sheet197","index":95,"n_rows":0,"n_cols":0,"rows_kept":0}

{"sheet":"Sheet198","index":96,"n_rows":0,"n_cols":0,"rows_kept":0}

{"sheet":"Sheet199","index":97,"n_rows":0,"n_cols":0,"rows_kept":0}

{"sheet":"Sheet200","index":98,"n_rows":0,"n_cols":0,"rows_kept":0}

{"sheet":"Sheet201","index":99,"n_rows":0,"n_cols":0,"rows_kept":0}

{"sheet":"Sheet202","index":100,"n_rows":0,"n_cols":0,"rows_kept":0}

{"sheet":"Sheet203","index":101,"n_rows":0,"n_cols":0,"rows_kept":0}

{"sheet":"Sheet204","index":102,"n_rows":0,"n_cols":0,"rows_kept":0}

{"sheet":"Sheet205","index":103,"n_rows":0,"n_cols":0,"rows_kept":0}

{"sheet":"Sheet206","index":104,"n_rows":0,"n_cols":0,"rows_kept":0}

{"sheet":"Sheet207","index":105,"n_rows":0,"n_cols":0,"rows_kept":0}

{"sheet":"Sheet208","index":106,"n_rows":0,"n_cols":0,"rows_kept":0}

{"sheet":"Sheet209","index":107,"n_rows":0,"n_cols":0,"rows_kept":0}

{"sheet":"Sheet210","index":108,"n_rows":0,"n_cols":0,"rows_kept":0}

{"sheet":"Sheet211","index":109,"n_rows":0,"n_cols":0,"rows_kept":0}

{"sheet":"Sheet212","index":110,"n_rows":0,"n_cols":0,"rows_kept":0}

{"sheet":"Sheet213","index":111,"n_rows":0,"n_cols":0,"rows_kept":0}

{"sheet":"Sheet214","index":112,"n_rows":0,"n_cols":0,"rows_kept":0}

{"sheet":"Sheet215","index":113,"n_rows":0,"n_cols":0,"rows_kept":0}

{"sheet":"Sheet216","index":114,"n_rows":0,"n_cols":0,"rows_kept":0}

{"sheet":"Sheet217","index":115,"n_rows":0,"n_cols":0,"rows_kept":0}

{"sheet":"Sheet218","index":116,"n_rows":0,"n_cols":0,"rows_kept":0}

{"sheet":"Sheet219","index":117,"n_rows":0,"n_cols":0,"rows_kept":0}

{"sheet":"Sheet220","index":118,"n_rows":0,"n_cols":0,"rows_kept":0}

{"sheet":"Sheet221","index":119,"n_rows":0,"n_cols":0,"rows_kept":0}

{"sheet":"Sheet222","index":120,"n_rows":0,"n_cols":0,"rows_kept":0}

{"sheet":"Sheet223","index":121,"n_rows":0,"n_cols":0,"rows_kept":0}

{"sheet":"Sheet224","index":122,"n_rows":0,"n_cols":0,"rows_kept":0}

{"sheet":"Sheet225","index":123,"n_rows":0,"n_cols":0,"rows_kept":0}

{"sheet":"Sheet226","index":124,"n_rows":0,"n_cols":0,"rows_kept":0}

{"sheet":"Sheet227","index":125,"n_rows":0,"n_cols":0,"rows_kept":0}

{"sheet":"Sheet228","index":126,"n_rows":0,"n_cols":0,"rows_kept":0}

{"sheet":"Sheet229","index":127,"n_rows":0,"n_cols":0,"rows_kept":0}

{"sheet":"Sheet230","index":128,"n_rows":0,"n_cols":0,"rows_kept":0}

{"sheet":"Sheet231","index":129,"n_rows":0,"n_cols":0,"rows_kept":0}

{"sheet":"Sheet232","index":130,"n_rows":0,"n_cols":0,"rows_kept":0}

{"sheet":"Sheet233","index":131,"n_rows":0,"n_cols":0,"rows_kept":0}

{"sheet":"Sheet234","index":132,"n_rows":0,"n_cols":0,"rows_kept":0}

{"sheet":"Sheet235","index":133,"n_rows":0,"n_cols":0,"rows_kept":0}

{"sheet":"Sheet236","index":134,"n_rows":0,"n_cols":0,"rows_kept":0}

{"sheet":"Sheet237","index":135,"n_rows":0,"n_cols":0,"rows_kept":0}

{"sheet":"Sheet238","index":136,"n_rows":0,"n_cols":0,"rows_kept":0}

{"sheet":"Sheet239","index":137,"n_rows":0,"n_cols":0,"rows_kept":0}

{"sheet":"Sheet240","index":138,"n_rows":0,"n_cols":0,"rows_kept":0}

{"sheet":"Sheet241","index":139,"n_rows":0,"n_cols":0,"rows_kept":0}

{"sheet":"Sheet242","index":140,"n_rows":0,"n_cols":0,"rows_kept":0}

{"sheet":"Sheet243","index":141,"n_rows":0,"n_cols":0,"rows_kept":0}

{"sheet":"Sheet244","index":142,"n_rows":0,"n_cols":0,"rows_kept":0}

{"sheet":"Sheet245","index":143,"n_rows":0,"n_cols":0,"rows_kept":0}

{"sheet":"Sheet246","index":144,"n_rows":0,"n_cols":0,"rows_kept":0}

{"sheet":"Sheet247","index":145,"n_rows":0,"n_cols":0,"rows_kept":0}

{"sheet":"Sheet248","index":146,"n_rows":0,"n_cols":0,"rows_kept":0}

{"sheet":"Sheet249","index":147,"n_rows":0,"n_cols":0,"rows_kept":0}

{"sheet":"Sheet250","index":148,"n_rows":0,"n_cols":0,"rows_kept":0}

{"sheet":"Sheet251","index":149,"n_rows":0,"n_cols":0,"rows_kept":0}

{"sheet":"Sheet252","index":150,"n_rows":0,"n_cols":0,"rows_kept":0}

{"sheet":"Sheet253","index":151,"n_rows":0,"n_cols":0,"rows_kept":0}

{"sheet":"Sheet254","index":152,"n_rows":0,"n_cols":0,"rows_kept":0}

{"sheet":"Sheet255","index":153,"n_rows":0,"n_cols":0,"rows_kept":0}

{"sheet":"Sheet256","index":154,"n_rows":0,"n_cols":0,"rows_kept":0}

{"sheet":"Sheet257","index":155,"n_rows":0,"n_cols":0,"rows_kept":0}

{"sheet":"Sheet258","index":156,"n_rows":0,"n_cols":0,"rows_kept":0}

{"sheet":"Sheet259","index":157,"n_rows":0,"n_cols":0,"rows_kept":0}

{"sheet":"Sheet260","index":158,"n_rows":0,"n_cols":0,"rows_kept":0}

{"sheet":"Sheet261","index":159,"n_rows":0,"n_cols":0,"rows_kept":0}

{"sheet":"Sheet262","index":160,"n_rows":0,"n_cols":0,"rows_kept":0}

{"sheet":"Sheet263","index":161,"n_rows":0,"n_cols":0,"rows_kept":0}

{"sheet":"Sheet264","index":162,"n_rows":0,"n_cols":0,"rows_kept":0}

{"sheet":"Sheet265","index":163,"n_rows":0,"n_cols":0,"rows_kept":0}

{"sheet":"Sheet266","index":164,"n_rows":0,"n_cols":0,"rows_kept":0}

{"sheet":"Sheet267","index":165,"n_rows":0,"n_cols":0,"rows_kept":0}

{"sheet":"Sheet268","index":166,"n_rows":0,"n_cols":0,"rows_kept":0}

{"sheet":"Sheet269","index":167,"n_rows":0,"n_cols":0,"rows_kept":0}

{"sheet":"Sheet270","index":168,"n_rows":0,"n_cols":0,"rows_kept":0}

{"sheet":"Sheet271","index":169,"n_rows":0,"n_cols":0,"rows_kept":0}

{"sheet":"Sheet272","index":170,"n_rows":0,"n_cols":0,"rows_kept":0}

{"sheet":"Sheet273","index":171,"n_rows":0,"n_cols":0,"rows_kept":0}

{"sheet":"Sheet274","index":172,"n_rows":0,"n_cols":0,"rows_kept":0}

{"sheet":"Sheet275","index":173,"n_rows":0,"n_cols":0,"rows_kept":0}

{"sheet":"Sheet276","index":174,"n_rows":0,"n_cols":0,"rows_kept":0}

{"sheet":"Sheet277","index":175,"n_rows":0,"n_cols":0,"rows_kept":0}

{"sheet":"Sheet278","index":176,"n_rows":0,"n_cols":0,"rows_kept":0}

{"sheet":"Sheet279","index":177,"n_rows":0,"n_cols":0,"rows_kept":0}

{"sheet":"Sheet280","index":178,"n_rows":0,"n_cols":0,"rows_kept":0}

{"sheet":"Sheet281","index":179,"n_rows":0,"n_cols":0,"rows_kept":0}

{"sheet":"Sheet282","index":180,"n_rows":0,"n_cols":0,"rows_kept":0}

{"sheet":"Sheet283","index":181,"n_rows":0,"n_cols":0,"rows_kept":0}

{"sheet":"Sheet284","index":182,"n_rows":0,"n_cols":0,"rows_kept":0}

{"sheet":"Sheet285","index":183,"n_rows":0,"n_cols":0,"rows_kept":0}

{"sheet":"Sheet286","index":184,"n_rows":0,"n_cols":0,"rows_kept":0}

{"sheet":"Sheet287","index":185,"n_rows":0,"n_cols":0,"rows_kept":0}

{"sheet":"Sheet288","index":186,"n_rows":0,"n_cols":0,"rows_kept":0}

{"sheet":"Sheet289","index":187,"n_rows":0,"n_cols":0,"rows_kept":0}

{"sheet":"Sheet290","index":188,"n_rows":0,"n_cols":0,"rows_kept":0}

{"sheet":"Sheet291","index":189,"n_rows":0,"n_cols":0,"rows_kept":0}

{"sheet":"Sheet292","index":190,"n_rows":0,"n_cols":0,"rows_kept":0}

{"sheet":"Sheet293","index":191,"n_rows":0,"n_cols":0,"rows_kept":0}

{"sheet":"Sheet294","index":192,"n_rows":0,"n_cols":0,"rows_kept":0}

{"sheet":"Sheet295","index":193,"n_rows":0,"n_cols":0,"rows_kept":0}

{"sheet":"Sheet296","index":194,"n_rows":0,"n_cols":0,"rows_kept":0}

{"sheet":"Sheet297","index":195,"n_rows":0,"n_cols":0,"rows_kept":0}

{"sheet":"Sheet298","index":196,"n_rows":0,"n_cols":0,"rows_kept":0}

{"sheet":"Sheet299","index":197,"n_rows":0,"n_cols":0,"rows_kept":0}

{"sheet":"Sheet300","index":198,"n_rows":0,"n_cols":0,"rows_kept":0}

{"sheet":"Sheet301","index":199,"n_rows":0,"n_cols":0,"rows_kept":0}

{"sheet":"Sheet302","index":200,"n_rows":0,"n_cols":0,"rows_kept":0}

{"sheet":"Sheet303","index":201,"n_rows":0,"n_cols":0,"rows_kept":0}

{"sheet":"Sheet304","index":202,"n_rows":0,"n_cols":0,"rows_kept":0}

{"sheet":"Sheet305","index":203,"n_rows":0,"n_cols":0,"rows_kept":0}

{"sheet":"Sheet306","index":204,"n_rows":0,"n_cols":0,"rows_kept":0}

{"sheet":"Sheet307","index":205,"n_rows":0,"n_cols":0,"rows_kept":0}

{"sheet":"Sheet308","index":206,"n_rows":0,"n_cols":0,"rows_kept":0}

{"sheet":"Sheet309","index":207,"n_rows":0,"n_cols":0,"rows_kept":0}

{"sheet":"Sheet310","index":208,"n_rows":0,"n_cols":0,"rows_kept":0}

{"sheet":"Sheet311","index":209,"n_rows":0,"n_cols":0,"rows_kept":0}

{"sheet":"Sheet312","index":210,"n_rows":0,"n_cols":0,"rows_kept":0}

{"sheet":"Sheet313","index":211,"n_rows":0,"n_cols":0,"rows_kept":0}

{"sheet":"Sheet314","index":212,"n_rows":0,"n_cols":0,"rows_kept":0}

{"sheet":"Sheet315","index":213,"n_rows":0,"n_cols":0,"rows_kept":0}

{"sheet":"Sheet316","index":214,"n_rows":0,"n_cols":0,"rows_kept":0}

{"sheet":"Sheet317","index":215,"n_rows":0,"n_cols":0,"rows_kept":0}

{"sheet":"Sheet318","index":216,"n_rows":0,"n_cols":0,"rows_kept":0}

{"sheet":"Sheet319","index":217,"n_rows":0,"n_cols":0,"rows_kept":0}

{"sheet":"Sheet320","index":218,"n_rows":0,"n_cols":0,"rows_kept":0}

{"sheet":"Sheet321","index":219,"n_rows":0,"n_cols":0,"rows_kept":0}

{"sheet":"Sheet322","index":220,"n_rows":0,"n_cols":0,"rows_kept":0}

{"sheet":"Sheet323","index":221,"n_rows":0,"n_cols":0,"rows_kept":0}

{"sheet":"Sheet324","index":222,"n_rows":0,"n_cols":0,"rows_kept":0}

{"sheet":"Sheet325","index":223,"n_rows":0,"n_cols":0,"rows_kept":0}

{"sheet":"Sheet326","index":224,"n_rows":0,"n_cols":0,"rows_kept":0}

{"sheet":"Sheet327","index":225,"n_rows":0,"n_cols":0,"rows_kept":0}

{"sheet":"Sheet328","index":226,"n_rows":0,"n_cols":0,"rows_kept":0}

{"sheet":"Sheet329","index":227,"n_rows":0,"n_cols":0,"rows_kept":0}

{"sheet":"Sheet330","index":228,"n_rows":0,"n_cols":0,"rows_kept":0}

{"sheet":"Sheet331","index":229,"n_rows":0,"n_cols":0,"rows_kept":0}

{"sheet":"Sheet332","index":230,"n_rows":0,"n_cols":0,"rows_kept":0}

{"sheet":"Sheet333","index":231,"n_rows":0,"n_cols":0,"rows_kept":0}

{"sheet":"Sheet334","index":232,"n_rows":0,"n_cols":0,"rows_kept":0}

{"sheet":"Sheet335","index":233,"n_rows":0,"n_cols":0,"rows_kept":0}

{"sheet":"Sheet336","index":234,"n_rows":0,"n_cols":0,"rows_kept":0}

{"sheet":"Sheet337","index":235,"n_rows":0,"n_cols":0,"rows_kept":0}

{"sheet":"Sheet338","index":236,"n_rows":0,"n_cols":0,"rows_kept":0}

{"sheet":"Sheet339","index":237,"n_rows":0,"n_cols":0,"rows_kept":0}

{"sheet":"Sheet340","index":238,"n_rows":0,"n_cols":0,"rows_kept":0}

{"sheet":"Sheet341","index":239,"n_rows":0,"n_cols":0,"rows_kept":0}

{"sheet":"Sheet342","index":240,"n_rows":0,"n_cols":0,"rows_kept":0}

{"sheet":"Sheet343","index":241,"n_rows":0,"n_cols":0,"rows_kept":0}

{"sheet":"Sheet344","index":242,"n_rows":0,"n_cols":0,"rows_kept":0}

{"sheet":"Sheet345","index":243,"n_rows":0,"n_cols":0,"rows_kept":0}

{"sheet":"Sheet346","index":244,"n_rows":0,"n_cols":0,"rows_kept":0}

{"sheet":"Sheet347","index":245,"n_rows":0,"n_cols":0,"rows_kept":0}

{"sheet":"Sheet348","index":246,"n_rows":0,"n_cols":0,"rows_kept":0}

{"sheet":"Sheet349","index":247,"n_rows":0,"n_cols":0,"rows_kept":0}

{"sheet":"Sheet350","index":248,"n_rows":0,"n_cols":0,"rows_kept":0}

{"sheet":"Sheet351","index":249,"n_rows":0,"n_cols":0,"rows_kept":0}

{"sheet":"Sheet352","index":250,"n_rows":0,"n_cols":0,"rows_kept":0}

{"sheet":"Sheet353","index":251,"n_rows":0,"n_cols":0,"rows_kept":0}

{"sheet":"Sheet354","index":252,"n_rows":0,"n_cols":0,"rows_kept":0}

{"sheet":"Sheet355","index":253,"n_rows":0,"n_cols":0,"rows_kept":0}

{"sheet":"Sheet356","index":254,"n_rows":0,"n_cols":0,"rows_kept":0}

{"sheet":"Sheet357","index":255,"n_rows":0,"n_cols":0,"rows_kept":0}

{"sheet":"Sheet358","index":256,"n_rows":0,"n_cols":0,"rows_kept":0}

{"sheet":"Sheet359","index":257,"n_rows":0,"n_cols":0,"rows_kept":0}

{"sheet":"Sheet360","index":258,"n_rows":0,"n_cols":0,"rows_kept":0}

{"sheet":"Sheet361","index":259,"n_rows":0,"n_cols":0,"rows_kept":0}

{"sheet":"Sheet362","index":260,"n_rows":0,"n_cols":0,"rows_kept":0}

{"sheet":"Sheet363","index":261,"n_rows":0,"n_cols":0,"rows_kept":0}

{"sheet":"Sheet364","index":262,"n_rows":0,"n_cols":0,"rows_kept":0}

{"sheet":"Sheet365","index":263,"n_rows":0,"n_cols":0,"rows_kept":0}

{"sheet":"Sheet366","index":264,"n_rows":0,"n_cols":0,"rows_kept":0}

{"sheet":"Sheet367","index":265,"n_rows":0,"n_cols":0,"rows_kept":0}

{"sheet":"Sheet368","index":266,"n_rows":0,"n_cols":0,"rows_kept":0}

{"sheet":"Sheet369","index":267,"n_rows":0,"n_cols":0,"rows_kept":0}

{"sheet":"Sheet370","index":268,"n_rows":0,"n_cols":0,"rows_kept":0}

{"sheet":"Sheet371","index":269,"n_rows":0,"n_cols":0,"rows_kept":0}

{"sheet":"Sheet372","index":270,"n_rows":0,"n_cols":0,"rows_kept":0}

{"sheet":"Sheet373","index":271,"n_rows":0,"n_cols":0,"rows_kept":0}

{"sheet":"Sheet374","index":272,"n_rows":0,"n_cols":0,"rows_kept":0}

{"sheet":"Sheet375","index":273,"n_rows":0,"n_cols":0,"rows_kept":0}

{"sheet":"Sheet376","index":274,"n_rows":0,"n_cols":0,"rows_kept":0}

{"sheet":"Sheet377","index":275,"n_rows":0,"n_cols":0,"rows_kept":0}

{"sheet":"Sheet378","index":276,"n_rows":0,"n_cols":0,"rows_kept":0}

{"sheet":"Sheet379","index":277,"n_rows":0,"n_cols":0,"rows_kept":0}

{"sheet":"Sheet380","index":278,"n_rows":0,"n_cols":0,"rows_kept":0}

{"sheet":"Sheet381","index":279,"n_rows":0,"n_cols":0,"rows_kept":0}

{"sheet":"Sheet382","index":280,"n_rows":0,"n_cols":0,"rows_kept":0}

{"sheet":"Sheet383","index":281,"n_rows":0,"n_cols":0,"rows_kept":0}

{"sheet":"Sheet384","index":282,"n_rows":0,"n_cols":0,"rows_kept":0}

{"sheet":"Sheet385","index":283,"n_rows":0,"n_cols":0,"rows_kept":0}

{"sheet":"Sheet386","index":284,"n_rows":0,"n_cols":0,"rows_kept":0}

{"sheet":"Sheet387","index":285,"n_rows":0,"n_cols":0,"rows_kept":0}

{"sheet":"Sheet388","index":286,"n_rows":0,"n_cols":0,"rows_kept":0}

{"sheet":"Sheet28","index":287,"n_rows":0,"n_cols":0,"rows_kept":0}

{"sheet":"Sheet29","index":288,"n_rows":0,"n_cols":0,"rows_kept":0}

{"sheet":"Sheet30","index":289,"n_rows":0,"n_cols":0,"rows_kept":0}

{"sheet":"Sheet31","index":290,"n_rows":0,"n_cols":0,"rows_kept":0}

{"sheet":"Sheet32","index":291,"n_rows":0,"n_cols":0,"rows_kept":0}

{"sheet":"Sheet33","index":292,"n_rows":0,"n_cols":0,"rows_kept":0}

{"sheet":"Sheet34","index":293,"n_rows":0,"n_cols":0,"rows_kept":0}

{"sheet":"Sheet35","index":294,"n_rows":0,"n_cols":0,"rows_kept":0}

{"sheet":"Sheet36","index":295,"n_rows":0,"n_cols":0,"rows_kept":0}

{"sheet":"Sheet37","index":296,"n_rows":0,"n_cols":0,"rows_kept":0}

{"sheet":"Sheet389","index":297,"n_rows":0,"n_cols":0,"rows_kept":0}

{"sheet":"Sheet38","index":298,"n_rows":0,"n_cols":0,"rows_kept":0}

{"sheet":"Sheet39","index":299,"n_rows":0,"n_cols":0,"rows_kept":0}

{"sheet":"Sheet40","index":300,"n_rows":0,"n_cols":0,"rows_kept":0}

{"sheet":"Sheet41","index":301,"n_rows":0,"n_cols":0,"rows_kept":0}

{"sheet":"Sheet42","index":302,"n_rows":0,"n_cols":0,"rows_kept":0}

{"sheet":"Sheet43","index":303,"n_rows":0,"n_cols":0,"rows_kept":0}

{"sheet":"Sheet44","index":304,"n_rows":0,"n_cols":0,"rows_kept":0}

{"sheet":"Sheet45","index":305,"n_rows":0,"n_cols":0,"rows_kept":0}

{"sheet":"Sheet46","index":306,"n_rows":0,"n_cols":0,"rows_kept":0}

{"sheet":"Sheet47","index":307,"n_rows":0,"n_cols":0,"rows_kept":0}

{"sheet":"Sheet48","index":308,"n_rows":0,"n_cols":0,"rows_kept":0}

{"sheet":"Sheet49","index":309,"n_rows":0,"n_cols":0,"rows_kept":0}

{"sheet":"Sheet50","index":310,"n_rows":0,"n_cols":0,"rows_kept":0}

{"sheet":"Sheet51","index":311,"n_rows":0,"n_cols":0,"rows_kept":0}

{"sheet":"Sheet52","index":312,"n_rows":0,"n_cols":0,"rows_kept":0}

{"sheet":"Sheet53","index":313,"n_rows":0,"n_cols":0,"rows_kept":0}

{"sheet":"Sheet54","index":314,"n_rows":0,"n_cols":0,"rows_kept":0}

{"sheet":"Sheet55","index":315,"n_rows":0,"n_cols":0,"rows_kept":0}

{"sheet":"Sheet56","index":316,"n_rows":0,"n_cols":0,"rows_kept":0}

{"sheet":"Sheet57","index":317,"n_rows":0,"n_cols":0,"rows_kept":0}

{"sheet":"Frozen Entrees","index":318,"n_rows":105,"n_cols":20,"rows_kept":105,"merged":[[0,4,0,12],[0,14,0,19],[1,4,1,12],[2,5,2,9]]}
[null,{"$f":"'Recap Sheet'!A2","v":"School Food Authority:"},null,null,{"$f":"'Recap Sheet'!A3","v":"Offeror Name:"},{"$nulls":9},"Commodity"]
[null,{"$f":"'Recap Sheet'!B2","v":"WILLIAMSBURG COUNTY SCHOOLS"},"Return to Recap Sheet",null,{"$f":"'Recap Sheet'!B3","v":{"v":0,"d":"0 "}}]
["Item","Description","Approved Brand Name / Manuf ID # ",null,null,"Firm Fixed Fee",{"$nulls":4},{"$f":"'Recap Sheet'!B4","v":{"v":0,"d":"$0.00"}},null,null,"Processing","Commodity","Pounds of",null,"NOI ","Net NOI","Total Cost"]
["#",null,null,"Distributor","Vendor","Svgs","Est.","Bid ","Bid","Unit","Unit Price","Total ","Cost per","Fee For","Value Per","DF Needed","Commodity","Net ","Cost Per","Processing Fee"]
[{"$nulls":3},"Code","Pack","per unit","Bid Qty","Qty","Unit","Price","plus Fee","Price","Unit","Service","Pound","Per Case","Value ","Price","Serving","Per Serving"]
[null,"Frozen Entrees",{"$nulls":12},"Commodity #'s 110244 and 110242"]
[]
[1,"Calzone, 100% Mozz. w/Pizza Sauce and Pepperoni, WG","Albie's 813",null,"48/4.50z",48,0,{"$f":"ROUND($G$8*$F$8/F8,2)","v":0},"Cs",{"v":33.12,"d":"$33.12"},{"$f":"IF(OR(ISBLANK(J8),G8=0,ISBLANK(G8)),,ROUND(J8+$K$3,2))","v":0},{"$f":"ROUND(H8*K8,2)","v":0},{"$f":"ROUND(K8/F8,2)","v":0},{"v":25.85,"d":"$25.85"},{"v":1.6291,"d":"$1.6291"},4.46,{"$f":"ROUND(O8*P8,2)","v":{"v":7.27,"d":"$7.27"}},{"$f":"K8-Q8","v":{"v":-7.27,"d":"-$7.27"}},{"$f":"R8/F8","v":{"v":-0.15145833333333333,"d":"$(0.15)"}},{"$f":"N8/F8","v":{"v":0.5385416666666667,"d":"$0.54"}}]
[null,"Frozen, 250-350 calories with no more than 6 g sat fat and 500 mg sodium per serving.  One portion to provide"," ",null," "]
[null,"min. 2 M/MA and 2 OEG"," ",null," "]
[null,"Possible Allergens:  Wheat, Soy, Milk"]
[2,"Calzone, 3 Cheese w/Pizza Sauce, WG","Gilardi 20120",null,"60/4.69z",60,0,{"$f":"ROUND($G$12*$F$12/F12,2)","v":0},"Cs",{"v":41.7,"d":"$41.70"},{"$f":"IF(OR(ISBLANK(J12),G12=0,ISBLANK(G12)),,ROUND(J12+$K$3,2))","v":0},{"$f":"ROUND(H12*K12,2)","v":0},{"$f":"ROUND(K12/F12,2)","v":0},{"v":31.81,"d":"$31.81"},{"v":1.6291,"d":"$1.6291"},6.07,{"$f":"ROUND(O12*P12,2)","v":{"v":9.89,"d":"$9.89"}},{"$f":"K12-Q12","v":{"v":-9.89,"d":"-$9.89"}},{"$f":"R12/F12","v":{"v":-0.16483333333333333,"d":"$(0.16)"}},{"$f":"N12/F12","v":{"v":0.5301666666666667,"d":"$0.53"}}]
[null,"Frozen, 200-300 calories with no more than 3 g sat fat and 500 mg sodium per serving.  One portion to provide"]
[null,"min. 2 M/MA and 2 OEG 1/8 cup red/orange vegetable"]
[null,"Possible Allergens:  Wheat, Soy, Milk"]
[3,"Cheese Sticks, Breaded Mozzarella, Red Sodium, WG","High Liner Foods G1041DF",null,"83/4.2z",83,0,{"$f":"ROUND(G16*F16/F16,2)","v":0},"Cs",{"v":40.1,"d":"$40.10"},{"$f":"IF(OR(ISBLANK(J16),G16=0,ISBLANK(G16)),,ROUND(J16+$K$3,2))","v":0},{"$f":"ROUND(H16*K16,2)","v":0},{"$f":"ROUND(K16/F16,2)","v":0},{"v":23.08,"d":"$23.08"},{"v":1.6291,"d":"$1.6291"},10.45,{"$f":"ROUND(O16*P16,2)","v":{"v":17.02,"d":"$17.02"}},{"$f":"K16-Q16","v":{"v":-17.02,"d":"-$17.02"}},{"$f":"R16/F16","v":{"v":-0.20506024096385542,"d":"$(0.21)"}},{"$f":"N16/F16","v":{"v":0.27807228915662646,"d":"$0.28"}}]
[null,"Frozen, low moisture part skim mozzarella cheese stick with whole grain rich breading, may be prepared in oven"," ",null," "," ",null," ","  "," "," "," "," ",null," "," "," "," "," "," "]
[null,"or fryer, 300-400 cal with no more than 8 g sat fat and 400 mg sodium per serving.  CN labeled for 5 stick portion "," ",null," "," ",null," "," "," "," ","  "," ",null," "," "," "," "," "," "]
[null,"to provide 2 M/MA and 1.5 OEG"]
[null,"Possible Allergens: Wheat, Milk"]
[4,"Cheese Sticks, Mozzarella Filled Twisted Topped","Tasty Brands 62002",null,"90/3.10z",90,0,{"$f":"ROUND(G21*F21/F21,2)","v":0},"Cs",{"v":38.51,"d":"$38.51"},{"$f":"IF(OR(ISBLANK(J21),G21=0,ISBLANK(G21)),,ROUND(J21+$K$3,2))","v":0},{"$f":"ROUND(H21*K21,2)","v":0},{"$f":"ROUND(K21/F21,2)","v":0},{"v":29.2,"d":"$29.20"},{"v":1.6551,"d":"$1.6551"},5.625,{"$f":"ROUND(O21*P21,2)","v":{"v":9.31,"d":"$9.31"}},{"$f":"K21-Q21","v":{"v":-9.31,"d":"-$9.31"}},{"$f":"R21/F21","v":{"v":-0.10344444444444445,"d":"$(0.10)"}},{"$f":"N21/F21","v":{"v":0.3244444444444444,"d":"$0.32"}}]
[null,"Frozen, low moisture, 200-300 calories with no more  than 8 g sat fat and 400 mg of sodium per serving, "," "]
[null,"0 trans fats, One serving to provide 1 M/MA and 2 OEG"]
[null," "]
[null,"Possible Allergens: Wheat, Milk, Soy"]
[5,"Cheese Sticks, Breaded Mozzarella, Italian Style WG","High Liner Foods G1042DF",null,"83/4.20z",83,0,{"$f":"ROUND(G26*F26/F26,2)","v":0},"Cs",{"v":40.1,"d":"$40.10"},{"$f":"IF(OR(ISBLANK(J26),G26=0,ISBLANK(G26)),,ROUND(J26+$K$3,2))","v":0},{"$f":"ROUND(H26*K26,2)","v":0},{"$f":"ROUND(K26/F26,2)","v":0},{"v":23.08,"d":"$23.08"},{"v":1.6291,"d":"$1.6291"},10.45,{"$f":"ROUND(O26*P26,2)","v":{"v":17.02,"d":"$17.02"}},{"$f":"K26-Q26","v":{"v":-17.02,"d":"-$17.02"}},{"$f":"R26/F26","v":{"v":-0.20506024096385542,"d":"$(0.21)"}},{"$f":"N26/F26","v":{"v":0.27807228915662646,"d":"$0.28"}}]
[null,"Frozen, low moisture part skim mozzarella cheese stick with whole grain rich breading, may be prepared in oven"]
[null,"or fryer, 200-300 cal with no more than 8 g sat fat and 400 mg sodium per serving.  CN labeled for 5 stick portion "]
[null,"to provide 2 M/MA and 1.5 OEG"]
[null,"Possible Allergens: Wheat, Milk"]
[6,"Egg Roll, Chicken, WG","Minh 69461",null,"60/3.oz",60,0,{"$f":"ROUND(G31*F31/F31,2)","v":0},"Cs",{"v":30.8,"d":"$30.80"},{"$f":"IF(OR(ISBLANK(J31),G31=0,ISBLANK(G31)),,ROUND(J31+$K$3,2))","v":0},{"$f":"ROUND(H31*K31,2)","v":0},{"$f":"ROUND(K31/F31,2)","v":0},{"v":21.45,"d":"$21.45"},{"v":0.1049,"d":"$0.1049"},18.75,{"$f":"ROUND(O31*P31,2)","v":{"v":1.97,"d":"$1.97"}},{"$f":"K31-Q31","v":{"v":-1.97,"d":"-$1.97"}},{"$f":"R31/F31","v":{"v":-0.03283333333333333,"d":"$(0.03)"}},{"$f":"N31/F31","v":{"v":0.3575,"d":"$0.36"}}]
[null,"Frozen, chicken with vegetables in WG egg roll wrapper, 150-250 calories with no more than 2 g sat fat and 450 mg"]
[null,"sodium per serving, CN labeled for one portion to provide min. 1 M/MA, 1 OEG and 1/4 cup vegetable"]
[null,"Possible Allergens: Milk, Wheat, Soy and Egg"]
[7,"Enchilada, Beef, WG","Fernandos/Foster Farm 5279",null,"112/2.5z",112,0,{"$f":"ROUND(G35*F35/F35,2)","v":0},"Cs",{"v":34.39,"d":"$34.39"},{"$f":"IF(OR(ISBLANK(J35),G35=0,ISBLANK(G35)),,ROUND(J35+$K$3,2))","v":0},{"$f":"ROUND(H35*K35,2)","v":0},{"$f":"ROUND(K35/F35,2)","v":0},{"v":21.45,"d":"$21.45"},{"v":0.1049,"d":"$0.1049"},18.75,{"$f":"ROUND(O35*P35,2)","v":{"v":1.97,"d":"$1.97"}},{"$f":"K35-Q35","v":{"v":-1.97,"d":"-$1.97"}},{"$f":"R35/F35","v":{"v":-0.017589285714285714,"d":"$(0.02)"}},{"$f":"N35/F35","v":{"v":0.19151785714285713,"d":"$0.19"}}]
[null,"Frozen, 100-200 calories with no more than  3 g sat fat and 300 mg sodium per serving, CN labeled for one "]
[null,"portion to provide 1 M/MA and 1 OEG"]
[null,"Possible Allergens: Soy"]
[8,"Lasagna Rollup, Cheese, WG","Tasty Brands 00801WG",null,"110/4.3oz",110,0,{"$f":"ROUND(G39*F39/F39,2)","v":0},"Cs",{"v":65.96,"d":"$65.96"},{"$f":"IF(OR(ISBLANK(J39),G39=0,ISBLANK(G39)),,ROUND(J39+$K$3,2))","v":0},{"$f":"ROUND(H39*K39,2)","v":0},{"$f":"ROUND(K39/F39,2)","v":0},{"v":47.28,"d":"$47.28"},{"v":1.6551,"d":"$1.6551"},11.28,{"$f":"ROUND(O39*P39,2)","v":{"v":18.67,"d":"$18.67"}},{"$f":"K39-Q39","v":{"v":-18.67,"d":"-$18.67"}},{"$f":"R39/F39","v":{"v":-0.16972727272727275,"d":"$(0.17)"}},{"$f":"N39/F39","v":{"v":0.4298181818181818,"d":"$0.43"}}]
[null,"Frozen, whole grain pasta,  filled with mozzarella and ricotta cheese, 150-250 calories with no more than 4 g sat   "]
[null,"fat and 400 mg sodium per serving, One portion provides 2 M/MA and 1 OEG"]
[null,"Possible Allergens: Wheat, Milk "]
[9,"Macaroni and Cheese, Reduced Fat, WG","Land O Lakes 43277",null,"6/5 lbs",80,0,{"$f":"ROUND(G43*F43/F43,2)","v":0},"Cs",{"v":54.59,"d":"$54.59"},{"$f":"IF(OR(ISBLANK(J43),G43=0,ISBLANK(G43)),,ROUND(J43+$K$3,2))","v":0},{"$f":"ROUND(H43*K43,2)","v":0},{"$f":"ROUND(K43/F43,2)","v":0},{"v":44.25,"d":"$44.25"},{"v":1.6551,"d":"$1.6551"},6.25,{"$f":"ROUND(O43*P43,2)","v":{"v":10.34,"d":"$10.34"}},{"$f":"K43-Q43","v":{"v":-10.34,"d":"-$10.34"}},{"$f":"R43/F43","v":{"v":-0.12925,"d":"$(0.13)"}},{"$f":"N43/F43","v":{"v":0.553125,"d":"$0.55"}}]
[null,"Frozen, processed American cheese in boil or steam pouch, 250-350 calories with no more than 6 g sat fat and ",{"$nulls":17}," "]
[null,"1000 mg sodium per serving. One portion to provide 2 M/MA and 1 OEG",{"$nulls":17}," "]
[null,"Possible Allergens: Milk, Wheat, Egg"]
[10,"Ravioli, Mini Cheese, WG","Tasty Brands 00834WG",null,"221/2.17z",221,0,{"$f":"ROUND(G47*F47/F47,2)","v":0},"Cs",{"v":66.81,"d":"$66.81"},{"$f":"IF(OR(ISBLANK(J47),G47=0,ISBLANK(G47)),,ROUND(J47+$K$3,2))","v":0},{"$f":"ROUND(H47*K47,2)","v":0},{"$f":"ROUND(K47/F47,2)","v":0},{"v":58.17,"d":"$58.17"},{"v":1.6551,"d":"$1.6551"},5.22,{"$f":"ROUND(O47*P47,2)","v":{"v":8.64,"d":"$8.64"}},{"$f":"K47-Q47","v":{"v":-8.64,"d":"-$8.64"}},{"$f":"R47/F47","v":{"v":-0.03909502262443439,"d":"$(0.04)"}},{"$f":"N47/F47","v":{"v":0.2632126696832579,"d":"$0.26"}}]
[null,"Frozen, whole grain pasta,  filled with mozzarella and ricotta cheese, 100-200 calories with no more than 2 g sat   "]
[null,"fat and 300 mg sodium per serving, One portion provides 1 M/MA and .5 OEG"]
[null,"Possible Allergens: Wheat, Milk, Egg"]
[11,"Sandwich, Turkey, Ham and Cheese on Hawaiian Bun, WG","Integrated 130018",null,"100/3.10z",100,0,{"$f":"ROUND(G51*F51/F51,2)","v":0},"Cs",0,{"$f":"IF(OR(ISBLANK(J51),G51=0,ISBLANK(G51)),,ROUND(J51+$K$3,2))","v":0},{"$f":"ROUND(H51*K51,2)","v":0},{"$f":"ROUND(K51/F51,2)","v":0},null,{"v":1.6551,"d":"$1.6551"},2.5,{"$f":"ROUND(O51*P51,2)","v":{"v":4.14,"d":"$4.14"}},{"$f":"K51-Q51","v":{"v":-4.14,"d":"-$4.14"}},{"$f":"R51/F51","v":{"v":-0.0414,"d":"$(0.04)"}},{"$f":"N51/F51","v":0}]
[null,"Frozen, 150-250 calories with no more than 2 g sat fat and 650 mg sodium per serving. One portion to provide "," ",null,"  "," ",null," "," "," "," "," "," "," "," "," "," "," "," "," "]
[null,"min. 1 M/MA and 2 OEG"]
[null,"Possible Allergens:  Wheat, Soy, Milk and Eggs"]
[12,"Tornados, Steak and Cheese, WG","Ruiz Foods 86249",null,"24/2.79z",24,0,{"$f":"ROUND(G55*F55/F55,2)","v":0},"Cs",{"v":12.5,"d":"$12.50"},{"$f":"IF(OR(ISBLANK(J55),G55=0,ISBLANK(G55)),,ROUND(J55+$K$3,2))","v":0},{"$f":"ROUND(H55*K55,2)","v":0},{"$f":"ROUND(K55/F55,2)","v":0},{"v":19.4,"d":"$19.40"},{"v":0.1049,"d":"$0.1049"},43.64,{"$f":"ROUND(O55*P55,2)","v":{"v":4.58,"d":"$4.58"}},{"$f":"K55-Q55","v":{"v":-4.58,"d":"-$4.58"}},{"$f":"R55/F55","v":{"v":-0.19083333333333333,"d":"$(0.19)"}},{"$f":"N55/F55","v":{"v":0.8083333333333332,"d":"$0.81"}}]
[null,"Frozen, thaw and serve, 100-200 calories with no more than 2 g sat fat and 400 mg sodium per serving."]
[null,"One portion to provide min. .5 M/MA and 1.25 OEG"]
[null,"Possible Allergens:  Wheat, Soy, Milk "]
[13,"Wraps, Cheese, Turkey Sausage and Egg Tortilla including Wrap","Fernandos 5264 ",null,"108/2.81z",108,0,{"$f":"ROUND(G59*F59/F59,2)","v":0},"Cs",{"v":43.29,"d":"$43.29"},{"$f":"IF(OR(ISBLANK(J59),G59=0,ISBLANK(G59)),,ROUND(J59+$K$3,2))","v":0},{"$f":"ROUND(H59*K59,2)","v":0},{"$f":"ROUND(K59/F59,2)","v":0},{"v":19.4,"d":"$19.40"},{"v":0.1049,"d":"$0.1049"},43.64,{"$f":"ROUND(O59*P59,2)","v":{"v":4.58,"d":"$4.58"}},{"$f":"K59-Q59","v":{"v":-4.58,"d":"-$4.58"}},{"$f":"R59/F59","v":{"v":-0.04240740740740741,"d":"$(0.04)"}},{"$f":"N59/F59","v":{"v":0.1796296296296296,"d":"$0.18"}}]
[null,"Frozen, thaw and serve, 150-250 calories with no more than 5 g saturated fat and 375 mg sodium per serving ","Ruiz Foods 41525",null,"50/2.50z",50,null,500,"Cs",0,{"$f":"IF(OR(ISBLANK(J60),G60=0,ISBLANK(G60)),,ROUND(J60+$K$3,2))","v":0},{"$f":"ROUND(H60*K60,2)","v":0},{"$f":"ROUND(K60/F60,2)","v":0},{"v":19.4,"d":"$19.40"},{"v":0.1049,"d":"$0.1049"},43.64,{"v":4.58,"d":"$4.58"},{"v":-4.58,"d":"-$4.58"},{"v":-0.0916,"d":"$(0.09)"},{"v":0.38799999999999996,"d":"$0.39"}]
[null,"Each wrap provides 1 oz. M/MA and 1 OEG"]
[null,"Possible Allergens:  Wheat, Milk, Egg and Soy"]
[14,"Sandwich, Turkey Bacon, Egg, and Cheese Croissant, WG","Bakecrafters 4708",null,"48/3.40z",48,0,{"$f":"ROUND(G63*F63/F63,2)","v":0},"Cs",{"v":42,"d":"$42.00"},{"$f":"IF(OR(ISBLANK(J63),G63=0,ISBLANK(G63)),,ROUND(J63+$K$3,2))","v":0},{"$f":"ROUND(H63*K63,2)","v":0},{"$f":"ROUND(K63/F63,2)","v":0},{"v":40.21,"d":"$40.21"},{"v":1.6551,"d":"$1.6551"},1.08,{"$f":"ROUND(O63*P63,2)","v":{"v":1.79,"d":"$1.79"}},{"$f":"K63-Q63","v":{"v":-1.79,"d":"-$1.79"}},{"$f":"R63/F63","v":{"v":-0.03729166666666667,"d":"$(0.04)"}},{"$f":"N63/F63","v":{"v":0.8377083333333334,"d":"$0.84"}}]
[null,"Frozen, thaw and serve, 200-350 calories, no more than 4 g sat fat and 750 mg sodium per serving. One portion"," "]
[null,"provides 1 M/MA and 2 OEG"]
[null,"Possible Allergens:  Wheat, Soy, Milk and Egg"]
[{"$nulls":14},"Commodity Peanuts, Raw Shelled 110700"]
[15,"Peanut Butter & Grape Jelly, No HFCS, Crustless, WG, IW","Smuckers 5150006960",null,"72/2.6z",72,0,{"$f":"ROUND(G68*F68/F68,2)","v":0},"Cs",{"v":35.33,"d":"$35.33"},{"$f":"IF(OR(ISBLANK(J68),G68=0,ISBLANK(G68)),,ROUND(J68+$K$3,2))","v":0},{"$f":"ROUND(H68*K68,2)","v":0},{"$f":"ROUND(K68/F68,2)","v":0},{"v":31.54,"d":"$31.54"},{"v":0.5398,"d":"$0.5398"},4.48,{"$f":"ROUND(O68*P68,2)","v":{"v":2.42,"d":"$2.42"}},{"$f":"K68-Q68","v":{"v":-2.42,"d":"-$2.42"}},{"$f":"R68/F68","v":{"v":-0.03361111111111111,"d":"$(0.03)"}},{"$f":"N68/F68","v":{"v":0.43805555555555553,"d":"$0.44"}}]
[null,"Frozen, smooth peanut butter and grape jelly, crustless, whole grain bread, crimped edges, 250-350 calories with "]
[null,"no more than 4 g sat fat and 350 mg sodium per serving. One portion to provide min. 1 M/MA and 1 OEG"]
[null,"Individually wrapped"]
[null,"Possible Allergens:  Wheat, Peanuts"]
[16,"Peanut Butter & Grape Jelly, No HFCS, Crustless, WG, IW","Smuckers 5150021027",null,"72/5.30z",72,0,{"$f":"ROUND(G73*F73/F73,2)","v":0},"Cs",{"v":64.1,"d":"$64.10"},{"$f":"IF(OR(ISBLANK(J73),G73=0,ISBLANK(G73)),,ROUND(J73+$K$3,2))","v":0},{"$f":"ROUND(H73*K73,2)","v":0},{"$f":"ROUND(K73/F73,2)","v":0},{"v":57.57,"d":"$57.57"},{"v":0.5398,"d":"$0.5398"},8.94,{"$f":"ROUND(O73*P73,2)","v":{"v":4.83,"d":"$4.83"}},{"$f":"K73-Q73","v":{"v":-4.83,"d":"-$4.83"}},{"$f":"R73/F73","v":{"v":-0.06708333333333333,"d":"$(0.07)"}},{"$f":"N73/F73","v":{"v":0.7995833333333333,"d":"$0.80"}}]
[null,"Frozen, smooth peanut butter and grape jelly, crustless, whole grain bread, crimped edges, 550-650 calories with "]
[null,"no more than 7 g sat fat and 650 mg sodium per serving. One portion to provide min. 2 M/MA and 2 OEG"]
[null,"Individually wrapped"]
[null,"Possible Allergens:  Wheat, Peanuts"]
[17,"Peanut Butter & Strawberry Jelly, No HFCS, Crustless, WG, IW","Smuckers 5150006961",null,"72/2.60z",72,0,{"$f":"ROUND(G78*F78/F78,2)","v":0},"Cs",{"v":36.89,"d":"$36.89"},{"$f":"IF(OR(ISBLANK(J78),G78=0,ISBLANK(G78)),,ROUND(J78+$K$3,2))","v":0},{"$f":"ROUND(H78*K78,2)","v":0},{"$f":"ROUND(K78/F78,2)","v":0},{"v":33.1,"d":"$33.10"},{"v":0.5398,"d":"$0.5398"},4.48,{"$f":"ROUND(O78*P78,2)","v":{"v":2.42,"d":"$2.42"}},{"$f":"K78-Q78","v":{"v":-2.42,"d":"-$2.42"}},{"$f":"R78/F78","v":{"v":-0.03361111111111111,"d":"$(0.03)"}},{"$f":"N78/F78","v":{"v":0.45972222222222225,"d":"$0.46"}}]
[null,"Frozen, smooth peanut butter and strawberry jelly, crustless, whole grain bread, crimped edges, 250-350 calories "]
[null,"with no more than 3 g sat fat and 350 mg sodium per serving. One portion to provide min. 1 M/MA and 1 OEG"]
[null,"Individually wrapped"]
[null,"Possible Allergens:  Wheat, Peanuts"]
[18,"Peanut Butter Cups, Creamy, IW","Smucker-JIF 5150092100",null,"120/1.0z",120,0,{"$f":"ROUND(G83*F83/F83,2)","v":0},"Cs",{"v":31.2,"d":"$31.20"},{"$f":"IF(OR(ISBLANK(J83),G83=0,ISBLANK(G83)),,ROUND(J83+$K$3,2))","v":0},{"$f":"ROUND(H83*K83,2)","v":0},{"$f":"ROUND(K83/F83,2)","v":0},{"v":21.6,"d":"$21.60"},{"v":0.5398,"d":"$0.5398"},7.4,{"$f":"ROUND(O83*P83,2)","v":{"v":3.99,"d":"$3.99"}},{"$f":"K83-Q83","v":{"v":-3.99,"d":"-$3.99"}},{"$f":"R83/F83","v":{"v":-0.03325,"d":"$(0.03)"}},{"$f":"N83/F83","v":{"v":0.18000000000000002,"d":"$0.18"}}]
[null,"Shelf stable, smooth peanut butter, 100-200 calories with no more than 3 g sat fat and 150 mg sodium per serving"]
[null,"One portion to  provide min. 1 M/MA"," "]
[null,"Individually wrapped"]
[null,"Possible Allergens:  Peanuts"]
[{"$nulls":9},"Category:  Peanut Butter Drum 100397"]
[19,"Peanut Butter & Grape Jelly, No HFCS, Crustless, WG, IW","Advanced Pierre 92123",null,"72/2.80z",72,0,{"$f":"ROUND(G89*F89/F89,2)","v":0},"Cs",{"v":30.52,"d":"$30.52"},{"$f":"IF(OR(ISBLANK(J89),G89=0,ISBLANK(G89)),,ROUND(J89+$K$3,2))","v":0},{"$f":"ROUND(H89*K89,2)","v":0},{"$f":"ROUND(K89/F89,2)","v":0},{"v":25.81,"d":"$25.81"},{"v":0.9524,"d":"$0.9524"},4.71,{"$f":"ROUND(O89*P89,2)","v":{"v":4.49,"d":"$4.49"}},{"$f":"K89-Q89","v":{"v":-4.49,"d":"-$4.49"}},{"$f":"R89/F89","v":{"v":-0.06236111111111112,"d":"$(0.06)"}},{"$f":"N89/F89","v":{"v":0.3584722222222222,"d":"$0.36"}}]
[null,"Frozen, smooth peanut butter and grape jelly, crustless, whole grain bread, crimped edges, 250-350 calories with "]
[null,"no more than 3 g sat fat and 300 mg sodium per serving. One portion to provide min. 1 M/MA and 1 OEG"]
[null,"Individually wrapped"]
[null,"Possible Allergens:  Wheat, Peanuts, Soy"]
[20,"Peanut Butter & Banana, No HFCS, Crustless, WG, IW","Advanced Pierre A1312",null,"72/2.80z",72,0,{"$f":"ROUND(G94*F94/F94,2)","v":0},"Cs",{"v":37,"d":"$37.00"},{"$f":"IF(OR(ISBLANK(J94),G94=0,ISBLANK(G94)),,ROUND(J94+$K$3,2))","v":0},{"$f":"ROUND(H94*K94,2)","v":0},{"$f":"ROUND(K94/F94,2)","v":0},{"v":32.29,"d":"$32.29"},{"v":0.9524,"d":"$0.9524"},4.95,{"$f":"ROUND(O94*P94,2)","v":{"v":4.71,"d":"$4.71"}},{"$f":"K94-Q94","v":{"v":-4.71,"d":"-$4.71"}},{"$f":"R94/F94","v":{"v":-0.06541666666666666,"d":"$(0.07)"}},{"$f":"N94/F94","v":{"v":0.4484722222222222,"d":"$0.45"}}]
[null,"Frozen, smooth peanut butter with  banana spread, crustless, whole wheat bread, crimped edges, 250-350 calories  "," "," "," "," ",null," "," "," "," "," "," ",null," "," "," ",null," "," "]
[null,"with no more than 3 g sat fat and 300 mg sodium per serving. One portion to provide min. 1 M/MA and 1 OEG"]
[null,"Individually wrapped"]
[null,"Possible Allergens:  Wheat, Peanuts, Soy"]
[21,"Peanut Butter & Strawberry Jelly, No HFCS, Crustless, WG, Twin Pack","Advanced Pierre A1004",null,"36/5.60z",36,0,{"$f":"ROUND(G99*F99/F99,2)","v":0},"Cs",{"v":31.12,"d":"$31.12"},{"$f":"IF(OR(ISBLANK(J99),G99=0,ISBLANK(G99)),,ROUND(J99+$K$3,2))","v":0},{"$f":"ROUND(H99*K99,2)","v":0},{"$f":"ROUND(K99/F99,2)","v":0},{"v":26.41,"d":"$26.41"},{"v":0.9524,"d":"$0.9524"},4.95,{"$f":"ROUND(O99*P99,2)","v":{"v":4.71,"d":"$4.71"}},{"$f":"K99-Q99","v":{"v":-4.71,"d":"-$4.71"}},{"$f":"R99/F99","v":{"v":-0.13083333333333333,"d":"$(0.13)"}},{"$f":"N99/F99","v":{"v":0.7336111111111111,"d":"$0.73"}}]
[null,"Frozen, smooth peanut butter and grape jelly, crustless, whole grain bread, crimped edges, 550-650 calories "," ",null," "," ",null," "," "," "," "," "," ",null," "," "," ",null," "," "]
[null,"with no more than 5 g sat fat and 650 mg sodium per serving. One portion to provide min. 2 M/MA and 2 OEG"]
[null,"Individually wrapped"]
[null,"Possible Allergens:  Wheat, Peanuts, Soy"]
[]
[{"$nulls":8},"Page Total",null,null,{"$f":"SUMIF(L6:L103,\">0\")","v":0}]

{"sheet":"Franks & Corn Dogs","index":319,"n_rows":55,"n_cols":13,"rows_kept":55,"merged":[[0,4,0,12],[1,4,1,12],[2,5,2,9]]}
[null,{"$f":"'Recap Sheet'!A2","v":"School Food Authority:"},null,null,{"$f":"'Recap Sheet'!A3","v":"Offeror Name:"}]
[null,{"$f":"'Recap Sheet'!B2","v":"WILLIAMSBURG COUNTY SCHOOLS"},null,null,{"$f":"'Recap Sheet'!B3","v":{"v":0,"d":"0 "}}]
["Item","Description","Approved Brand Name / Manuf ID # ",null,null,"Firm Fixed Fee",{"$nulls":4},{"$f":"'Recap Sheet'!B4","v":{"v":0,"d":"$0.00"}}]
["#",null,null,"Distributor","Vendor","Svgs","Est.","Bid ","Bid","Unit","Unit Price","Total ","Cost per"]
[{"$nulls":3},"Code","Pack","per unit","Bid Qty","Qty","Unit","Price","plus Fee","Price","Unit"]
[null,"Franks & Corn Dogs"]
[1,"Hot Dog, Beef/Pork","Kent 429 CN  ",null,"160/2.0z",160,0,{"$f":"ROUND($G$7*$F$7/F7,2)","v":0},"Cs",{"v":40,"d":"$40.00"},{"$f":"IF(OR(ISBLANK(J7),G7=0,ISBLANK(G7)),,ROUND(J7+$K$3,2))","v":0},{"$f":"ROUND(H7*K7,2)","v":0},{"$f":"ROUND(K7/F7,2)","v":0}]
[null,"All beef and pork, Formula B, natural color, no offals.  IMPS #800."," ",null," "," ",null," "," "," "," "," "," "]
[null,"Made from all skeletal cuts.  8 ct. Skinless  No artificial color. Must provide 2 oz"]
[null," cooked meat/meat alternate for Child Nutrition Meal Pattern Requirements."]
[null,"One 2 oz serving contains no more  than  85% of calories from fat."]
[null," Possible Allergens:  None Listed"]
[2,"Hot Dog, All Meat     ","Ball Park 16720CN  ",null,"80/2.0z",80,0,{"$f":"ROUND($G$18*$F$18/F13,2)","v":4},"Cs"]
[null,"Frozen, fully cooked, made from skeletal cuts, IMPS #800, No artificial color, 8 per lbs, ","Kent 304320 ",null,"160/2.0z",160,null,{"$f":"ROUND($G$18*$F$18/F14,2)","v":2},"Cs",{"v":26,"d":"$26.00"},{"$f":"IF(OR(ISBLANK(J14),G13=0,ISBLANK(G13)),,ROUND(J14+$K$3,2))","v":0},{"$f":"ROUND(H14*K14,2)","v":0},{"$f":"ROUND(K14/F14,2)","v":0}]
[null,"150-250 calories with no more than 7 g sat fat and 800 mg sodium per serving, One portion","Bryan 16668CN",null,"80/2.0z",80,null,{"$f":"ROUND($G$18*$F$18/F15,2)","v":4},"Cs"]
[null,"provides 2 M/MA.  May contain sodium nitrite","Carolina Pride 3140CN",null,"80/2.0z",80,null,4,"Cs"]
[null," Possible Allergens:  None Listed","Farmland/Smithfield 811527CN",null,"80/2.0z",80,null,4,"Cs"]
[3,"Hot Dog, Beef","Bryan 16787CN",null,"2/5 lbs",80,4,{"$f":"ROUND($G$18*$F$18/F18,2)","v":4},"Cs"]
[null,"Frozen, fully cooked, all beef, Formula B, natural color, made from skeletal cuts, IMPS #800","Carolina Pride 3143",null,"2/5 lbs",80,null,{"$f":"ROUND($G$18*$F$18/F19,2)","v":4},"Cs"]
[null,"150-250 calories with no more than 8 g sat fat and 700 mg sodium per serving, One portion","Harvestland/Perdue 56655",null,"2/5 lbs",80,null,{"$f":"ROUND($G$18*$F$18/F20,2)","v":4},"Cs"]
[null,"provides 2 M/MA.  May contain sodium nitrite","Farmland/Smithfield 810967",null,"10 lbs",80,null,4,"Cs"]
[null," Possible Allergens:  None Listed","Kent 437",null,"20 lbs",160,null,2,"Cs",{"v":32.8,"d":"$32.80"},{"$f":"IF(OR(ISBLANK(J22),G18=0,ISBLANK(G18)),,ROUND(J22+$K$3,2))","v":{"v":32.8,"d":"$32.80"}},{"$f":"ROUND(H22*K22,2)","v":{"v":65.6,"d":"$65.60"}},{"$f":"ROUND(K22/F22,2)","v":{"v":0.21,"d":"$0.21"}}]
[4,"Hot Dog, Turkey","Briar Street SL16751",null,"10Lb",80,300,{"$f":"ROUND($G$23*$F$23/F23,2)","v":300},"Cs"]
[null,"Frozen, made form mechanically separated turkey meat blended with natural flavor/coloring","Butterball 2265-61886",null,"2/5Lb",80,null,{"$f":"ROUND($G$23*$F$23/F24,2)","v":300},"Cs",{"v":9.9,"d":"$9.90"},{"$f":"IF(OR(ISBLANK(J24),G23=0,ISBLANK(G23)),,ROUND(J24+$K$3,2))","v":{"v":9.9,"d":"$9.90"}},{"$f":"ROUND(H24*K24,2)","v":{"v":2970,"d":"$2,970.00"}},{"$f":"ROUND(K24/F24,2)","v":{"v":0.12,"d":"$0.12"}}]
[null,"and spices, 8 per lbs, 100-150 calories with no more than 5 g sat fat and 750 mg sodium per","Perdue 65669",null,"2/5Lb",80,null,{"$f":"ROUND($G$23*$F$23/F25,2)","v":300},"Cs"]
[null,"serving, One portion to provide 2 M/MA May contain sodium nitrites "]
[null,"Possible Allergens: None Listed"]
[5,"Corn Dog, Chicken, WG","Foster Farms 95150 CN",null,"72/4.0z",72,450,{"$f":"ROUND(G28*F28/F28,2)","v":450},"Cs",{"v":26.28,"d":"$26.28"},{"$f":"IF(OR(ISBLANK(J28),G28=0,ISBLANK(G28)),,ROUND(J28+$K$3,2))","v":{"v":26.28,"d":"$26.28"}},{"$f":"ROUND(H28*K28,2)","v":{"v":11826,"d":"$11,826.00"}},{"$f":"ROUND(K28/F28,2)","v":{"v":0.37,"d":"$0.37"}}]
[null,"Frozen, fully cooked, sweet batter dipped frankfurter, whole wheat flour and cornmeal"]
[null,"200-300 calories with no more than 3 g sat fat and 400 mg sodium per serving, one "]
[null,"portion to provide 2 M/MA and 2 OEG May contain sodium nitrite"]
[null,"Possible Allergens: Wheat, Soy ,Eggs, Gluten"]
[6,"Corn Dog, Turkey, WG","State Fair  SL28322",null,"48/4.0z",48,25,{"$f":"ROUND($G$33*$F$33/F33,2)","v":25},"Cs",{"v":15.24,"d":"$15.24"},{"$f":"IF(OR(ISBLANK(J33),G33=0,ISBLANK(G33)),,ROUND(J33+$K$3,2))","v":{"v":15.24,"d":"$15.24"}},{"$f":"ROUND(H33*K33,2)","v":{"v":381,"d":"$381.00"}},{"$f":"ROUND(K33/F33,2)","v":{"v":0.32,"d":"$0.32"}}]
[null,"Frozen, oven ready, sweet batter dipped frankfurter, whole wheat flour and cornmeal w/stick","Don Lee Farms CN84072WG",null,"72/4.0z",48,null,{"$f":"ROUND($G$33*$F$33/F34,2)","v":25},"Cs"]
[null,"200-300 calories with no more than 4 g sat fat and 850 mg sodium per serving, one "]
[null,"portion to provide 2 M/MA and 2 OEG May contain sodium nitrite"]
[null,"Possible Allergens: Wheat, Soy, Eggs, Milk"," ",null," "," "," "," "," "," "," "," "," "]
[7,"Corn Dog, Turkey, WG Reduced Fat","State Fair SL09988",null,"72/4z",72,0,{"$f":"ROUND(G38*F38/F38,2)","v":0},"Cs",{"v":27,"d":"$27.00"},{"$f":"IF(OR(ISBLANK(J38),G38=0,ISBLANK(G38)),,ROUND(J38+$K$3,2))","v":0},0,0]
[null,"Frozen, oven ready, sweet batter dipped frankfurter, whole wheat flour and cornmeal w/stick"]
[null,"200-300 calories with no more than 1.5 g sat fat and 850 mg sodium per serving, one "]
[null,"portion to provide 2 M/MA and 2 OEG May contain sodium nitrite"]
[null,"Possible Allergens: Wheat, Soy, Eggs, Milk"]
[7,"Corndog Nuggets, Chicken                             "," House of Raeford 20452  ",null,"2/5 lbs",40,0,{"$f":"ROUND($G$43*$F$43/F43,2)","v":0},"Cs",{"v":17.3,"d":"$17.30"},{"$f":"IF(OR(ISBLANK(J43),G43=0,ISBLANK(G43)),,ROUND(J43+$K$3,2))","v":0},{"$f":"ROUND(H43*K43,2)","v":0},{"$f":"ROUND(K43/F43,2)","v":0}]
[null,"Frozen, Oven Ready, sweet batter dipped frankfurter of mechanically separated chicken meat","Foster Farms 96086",null,"2/5 lbs",40,null,{"$f":"ROUND($G$43*$F$43/F44,2)","v":0},"Cs"]
[null,"with whole grain flour and cornmeal, 200-300 calories with no more than 4 g sat fat"]
[null,"and 450 mg sodium per serving, CN labeled for 6 to provide 2 M/MA and 2 OEG "]
[null,"May contain sodium nitrite"]
[null,"Possible Allergens:  Wheat, Soy, Eggs, and Milk "]
[8,"Corndog Nuggets, Turkey                                   ","House of Raeford 20420",null,"240/.667z",40,5,{"$f":"ROUND($G$49*$F$49/F49,2)","v":5},"Cs",{"v":17.5,"d":"$17.50"},{"$f":"IF(OR(ISBLANK(J49),G49=0,ISBLANK(G49)),,ROUND(J49+$K$3,2))","v":{"v":17.5,"d":"$17.50"}},{"$f":"ROUND(H49*K49,2)","v":{"v":87.5,"d":"$87.50"}},{"$f":"ROUND(K49/F49,2)","v":{"v":0.44,"d":"$0.44"}}]
[null,"Frozen, Oven Ready, sweet batter dipped frankfurter of mechanically separated turkey meat"]
[null,"with whole grain flour and cornmeal, 150-250 calories with no more than 2 g sat fat"]
[null,"and 450 mg sodium per serving, CN labeled for 6 to provide 2 M/MA and 2 OEG "]
[null,"May contain sodium nitrite"]
[null,"Possible Allergens:  Wheat, Soy, Eggs, and Milk "]
[{"$nulls":8},"Page Total",null,null,{"$f":"SUMIF(L7:L49,\">0\")","v":{"v":15330.1,"d":"$15,330.10"}}]

{"sheet":"Dairy & Egg","index":320,"n_rows":151,"n_cols":20,"rows_kept":151,"merged":[[0,4,0,12],[1,4,1,12],[2,5,2,9]]}
[null,{"$f":"'Recap Sheet'!A2","v":"School Food Authority:"},null,null,{"$f":"'Recap Sheet'!A3","v":"Offeror Name:"}]
[null,{"$f":"'Recap Sheet'!B2","v":"WILLIAMSBURG COUNTY SCHOOLS"},"Return to Recap Sheet",null,{"$f":"'Recap Sheet'!B3","v":0},{"$nulls":9}," ","Commodity"]
["Item","Description","Approved Brand Name / Manuf ID # ",null,null,"Firm Fixed Fee",{"$nulls":4},{"$f":"'Recap Sheet'!B4","v":{"v":0,"d":"$0.00"}},null,null,"Processing ","Commodity","Pounds of",null,"NOI ","Net NOI","Total Cost"]
["#",null,null,"Distributor","Vendor","Svgs","Est.","Bid ","Bid","Unit","Unit Price","Total ","Cost per","Fee For","Value Per","DF Needed","Commodity","Net ","Cost Per","Processing Fee"]
[{"$nulls":3},"Code","Pack","per unit","Bid Qty","Qty","Unit","Price","plus Fee","Price","Unit","Service","Pound","Per Case","Value ","Price","Serving","Per Serving"]
[null,"Dairy and Eggs",{"$nulls":12},"Cheese, 110242 NAT AMER FBD BARREL"]
[1,"Cheese, Mozzarella, Shredded, 100% Mozzarella","Land O Lakes 41698",null,"4/5 lbs",640,17,{"$f":"ROUND($G$7*$F$7/F7,2)","v":17},"Cs",{"v":42.2,"d":"$42.20"},{"$f":"IF(OR(ISBLANK(J7),G7=0,ISBLANK(G7)),,ROUND(J7+$K$3,2))","v":{"v":42.2,"d":"$42.20"}},{"$f":"ROUND(H7*K7,2)","v":{"v":717.4,"d":"$717.40"}},{"$f":"ROUND(K7/F7,2)","v":{"v":0.07,"d":"$0.07"}},{"v":9.1,"d":"$9.10"},{"v":1.6551,"d":"$1.6551"},20,{"$f":"ROUND(O7*P7,2)","v":{"v":33.1,"d":"$33.10"}},{"$f":"J7-Q7","v":{"v":9.100000000000001,"d":"$9.10"}},{"$f":"R7/F7","v":{"v":0.014218750000000002,"d":"$0.01"}},{"$f":"N7/F8","v":{"v":0.014218749999999999,"d":"$0.01"}}]
[null,"Refrigerated, Low moisture part skim 45-50% moisture 1/2 oz. serving","Bongard's 75507",null,"4/5 lbs",640," ",{"$f":"ROUND($G$7*$F$7/F8,2)","v":17},"Cs",null,{"$f":"IF(OR(ISBLANK(J8),G7=0,ISBLANK(G7)),,ROUND(J8+$K$3,2))","v":0},{"$f":"ROUND(H8*K8,2)","v":0},{"$f":"ROUND(K8/F8,2)","v":0},null,{"v":1.6551,"d":"$1.6551"},20,{"$f":"ROUND(O8*P8,2)","v":{"v":33.1,"d":"$33.10"}}," "," "," "]
[null,"Possible Allergens:  Milk",{"$nulls":3}," ",null," "," ",null," "," "," ",null," "," "," "," ",null," "]
[2,"Cheese, American, Reduced Fat, Shredded","Land O Lakes 41728",null,"4/5 lbs",640,0,{"$f":"ROUND($G$10*$F$10/F10,2)","v":0},"Cs",{"v":48.19,"d":"$48.19"},{"$f":"IF(OR(ISBLANK(J10),G10=0,ISBLANK(G10)),,ROUND(J10+$K$3,2))","v":0},{"$f":"ROUND(H10*K10,2)","v":0},{"$f":"ROUND(K10/F10,2)","v":0},{"v":22.8,"d":"$22.80"},{"v":1.6551,"d":"$1.6551"},15.34,{"$f":"ROUND(O10*P10,2)","v":{"v":25.39,"d":"$25.39"}},{"$f":"J10-Q10","v":{"v":22.799999999999997,"d":"$22.80"}},{"$f":"R10/F10","v":{"v":0.035625,"d":"$0.04"}},{"$f":"N10/F10","v":{"v":0.035625000000000004,"d":"$0.04"}}]
[null,"Refregerated, 1/2 oz. serving"," ",null," "," ",null," "," ",null," "," "," ",null," "," "," "," ",null," "]
[null,"Possible Allergens:  Milk"," ",null," "," ",null," "," ",null," "," "," ",null," "," "," "," ",null," "]
[3,"Cheese, Cheddar Mild, Shredded","Land O Lakes 41749",null,"4/5 lbs",640,110,{"$f":"ROUND($G$13*$F$13/F13,2)","v":110},"Cs",{"v":42.4,"d":"$42.40"},{"$f":"IF(OR(ISBLANK(J13),G13=0,ISBLANK(G13)),,ROUND(J13+$K$3,2))","v":{"v":42.4,"d":"$42.40"}},{"$f":"ROUND(H13*K13,2)","v":{"v":4664,"d":"$4,664.00"}},{"$f":"ROUND(K13/F13,2)","v":{"v":0.07,"d":"$0.07"}},{"v":9.3,"d":"$9.30"},{"v":1.6551,"d":"$1.6551"},20,{"$f":"ROUND(O13*P13,2)","v":{"v":33.1,"d":"$33.10"}},{"$f":"J13-Q13","v":{"v":9.299999999999997,"d":"$9.30"}},{"$f":"R13/F13","v":{"v":0.014531249999999996,"d":"$0.01"}},{"$f":"N13/F13","v":{"v":0.01453125,"d":"$0.01"}}]
[null,"Refrigerated, 1/2 oz. serving"," ",null," "," ",null," "," ",null," "," "," ",null," "," "," "," ",null," "]
[null,"Possible Allergens:  Milk"," ",null," "," ",null," "," ",null," "," "," ",null," "," "," "," ",null," "]
[4,"Cheese, Mild Cheddar, Indv. Portions, Reduced Fat","Land O Lakes 44881",null,"168/1 oz.",168,10,{"$f":"ROUND($G$16*$F$16/F16,2)","v":10},"Cs",{"v":34.81,"d":"$34.81"},{"$f":"IF(OR(ISBLANK(J16),G16=0,ISBLANK(G16)),,ROUND(J16+$K$3,2))","v":{"v":34.81,"d":"$34.81"}},{"$f":"ROUND(H16*K16,2)","v":{"v":348.1,"d":"$348.10"}},{"$f":"ROUND(K16/F16,2)","v":{"v":0.21,"d":"$0.21"}},{"v":17.43,"d":"$17.43"},{"v":1.6551,"d":"$1.6551"},10.5,{"$f":"ROUND(O16*P16,2)","v":{"v":17.38,"d":"$17.38"}},{"$f":"J16-Q16","v":{"v":17.430000000000003,"d":"$17.43"}},{"$f":"R16/F16","v":{"v":0.10375000000000002,"d":"$0.10"}},{"$f":"N16/F16","v":{"v":0.10375,"d":"$0.10"}}]
[null,"Refrigerated, Natural mild cheddar, 1 0z. Portions"," ",null," "," ",null," "," ",null," "," "," ",null," "," "," "," ",null," "]
[null,"Possible Allergens:  Milk"," ",null," "," ",null," "," ",null," "," "," ",null," "," "," "," ",null," "]
[5,"Cheese, Mild Cheddar, Red, Fat Cube Portions","Land O Lakes 44113",null,"200/1.0z",200,5,{"$f":"ROUND($G$19*$F$19/F19,2)","v":5},"Cs",{"v":54.06,"d":"$54.06"},{"$f":"IF(OR(ISBLANK(J19),G19=0,ISBLANK(G19)),,ROUND(J19+$K$3,2))","v":{"v":54.06,"d":"$54.06"}},{"$f":"ROUND(H19*K19,2)","v":{"v":270.3,"d":"$270.30"}},{"$f":"ROUND(K19/F19,2)","v":{"v":0.27,"d":"$0.27"}},{"v":33.37,"d":"$33.37"},{"v":1.6551,"d":"$1.6551"},12.5,{"$f":"ROUND(O19*P19,2)","v":{"v":20.69,"d":"$20.69"}},{"$f":"J19-Q19","v":{"v":33.370000000000005,"d":"$33.37"}},{"$f":"R19/F19","v":{"v":0.16685000000000003,"d":"$0.17"}},{"$f":"N19/F19","v":{"v":0.16685,"d":"$0.17"}}]
[null,"Refrigerated Natural mild cheddar 1 0z. Portions"," ",null," "," ",null," "," ",null," "," "," ",null," "," "," "," ",null," "]
[null,"Possible Allergens:  Milk"," ",null," "," ",null," "," ",null," "," "," ",null," "," "," "," ",null," "]
[6,"Cheese, American 50% Red Fat, 50% Red Sodium, Sliced","Land O Lakes 46288",null,"6/5 lbs.",960,150,{"$f":"ROUND($G$22*$F$22/F22,2)","v":150},"Cs",{"$nulls":5},{"v":1.6551,"d":"$1.6551"},23.04,{"$f":"ROUND(O22*P22,2)","v":{"v":38.13,"d":"$38.13"}}," ","  "," "]
[null,"Refrigerated, No more than 2 g sar fat and 125 mg sodium per 1/2 oz. serving","Bongard's 10054",null,"4/5 lbs.",640,null,{"$f":"ROUND($G$22*$F$22/F23,2)","v":225},"Cs",{"v":36.17,"d":"$36.17"},{"$f":"IF(OR(ISBLANK(J23),G22=0,ISBLANK(G22)),,ROUND(J23+$K$3,2))","v":{"v":36.17,"d":"$36.17"}},{"$f":"ROUND(H23*K23,2)","v":{"v":8138.25,"d":"$8,138.25"}},{"$f":"ROUND(K23/F23,2)","v":{"v":0.06,"d":"$0.06"}},{"v":12.2,"d":"$12.20"},{"v":1.6551,"d":"$1.6551"},14.48,{"$f":"ROUND(O23*P23,2)","v":{"v":23.97,"d":"$23.97"}},{"$f":"J23-Q23","v":{"v":12.200000000000003,"d":"$12.20"}},{"$f":"R23/F23","v":{"v":0.019062500000000003,"d":"$0.02"}},{"$f":"N23/F23","v":{"v":0.0190625,"d":"$0.02"}}]
[null,"Possible Allergens:  Milk, Soy"," ",null," "," ",null," "," ",null," "," "," ",null," "," "," "," ",null," "]
[7,"Sauce, Cheese, Prepared, Pouch, Reduced Sodium","Land O Lakes 39940",null,"6/106z",212,0,{"$f":"ROUND($G$25*$F$25/F25,2)","v":0},"Cs",{"v":61.49,"d":"$61.49"},{"$f":"IF(OR(ISBLANK(J25),G25=0,ISBLANK(G25)),,ROUND(J25+$K$3,2))","v":0},{"$f":"ROUND(H25*K25,2)","v":0},{"$f":"ROUND(K25/F25,2)","v":0},{"v":39.15,"d":"$39.15"},{"v":1.6551,"d":"$1.6551"},13.5,{"$f":"ROUND(O25*P25,2)","v":{"v":22.34,"d":"$22.34"}},{"$f":"J25-Q25","v":{"v":39.150000000000006,"d":"$39.15"}},{"$f":"R25/F25","v":{"v":0.18466981132075475,"d":"$0.18"}},{"$f":"N25/F25","v":{"v":0.18466981132075472,"d":"$0.18"}}]
[null,"Shelf Stable, Aseptically produced, perservative-free, packaged 3oz.=1 M/MA"," ",null," "," ",null," "," ",null," "," "," ",null," "," "," "," ",null," "]
[null,"Possible Allergens:  Milk, Soy"," ",null," "," ",null," "," ",null," "," "," ",null," "," "," "," ",null," "]
[8,"Cheese, American, Red Fat, Red Sod., Sliced","Land O Lakes 46288",null,"200/1.0z",200,0,{"$f":"ROUND($G$28*$F$28/F28,2)","v":0},"Cs",{"$nulls":5},{"v":1.6929,"d":"$1.6929"},10.5,{"$f":"ROUND(O28*P28,2)","v":{"v":17.78,"d":"$17.78"}},{"$f":"J28-Q28","v":{"v":-17.78,"d":"$(17.78)"}},{"$f":"Q29/F29","v":{"v":0.02778125,"d":"$0.03"}},{"$f":"M29/F29","v":0}]
[null,"Refrigerated, Red fat & sodium, no more than 2 g sat  fat and 140 mg sodium per 1/2 cup","Bongards 10054-1",null,"4/5 lbs",640,null,{"$f":"ROUND($G$28*$F$28/F29,2)","v":0},"Cs",{"v":36.17,"d":"$36.17"},{"$f":"IF(OR(ISBLANK(J29),G28=0,ISBLANK(G28)),,ROUND(J29+$K$3,2))","v":0},{"$f":"ROUND(H29*K29,2)","v":0},{"$f":"ROUND(K29/F29,2)","v":0},null,{"v":1.6929,"d":"$1.6929"},10.5,{"$f":"ROUND(O29*P29,2)","v":{"v":17.78,"d":"$17.78"}},{"$f":"J29-Q29","v":{"v":18.39,"d":"$18.39"}},{"$f":"Q30/F30","v":{"$error":"#DIV/0!"}},{"$f":"M30/F30","v":{"$error":"#DIV/0!"}}]
[null,"serving.  One slice provides 1/2 M/MA"]
[null,"Possible Allergens:  Milk and Soy"," ",null," "," ",null," "," ",null," "," "," ",null," "," "," "," ",null," "]
[9,"Cheese, Mozzarella, String Cheese, Light, IW","Land O Lakes 59703",null,"168/1.0z",168,0,{"$f":"ROUND($G$32*$F$32/F32,2)","v":0},"Cs",{"$nulls":5},{"v":1.6929,"d":"$1.6929"},10.5,{"$f":"ROUND(O32*P32,2)","v":{"v":17.78,"d":"$17.78"}}," "," "," "]
[null,"Refrig., Part skim mozz., 50% red sodium, No more than 2g sat fat and 220 sodium ","Bongard's 40299-1",null,"168/1.0z",168,null,{"$f":"ROUND($G$32*$F$32/F33,2)","v":0},"Cs",{"v":29.14,"d":"$29.14"},{"$f":"IF(OR(ISBLANK(J33),G32=0,ISBLANK(G32)),,ROUND(J33+$K$3,2))","v":0},{"$f":"ROUND(H33*K33,2)","v":0},{"$f":"ROUND(K33/F33,2)","v":0},{"v":11.76,"d":"$11.76"},{"v":1.6929,"d":"$1.6929"},10.5,{"$f":"ROUND(O33*P33,2)","v":{"v":17.78,"d":"$17.78"}},{"$f":"J33-Q33","v":{"v":11.36,"d":"$11.36"}},{"$f":"R33/F33","v":{"v":0.06761904761904762,"d":"$0.07"}},{"$f":"N33/F33","v":{"v":0.06999999999999999,"d":"$0.07"}}]
[null,"Possible Allergens:  Milk"," ",null," "," ",null," "," ",null," "," "," ",null," "," "," "," ",null," "]
[10,"Cheese, Mozzarella, String Cheese, IW","Land O Lakes 59701",null,"168/1.0z",168,17,{"$f":"ROUND($G$46*$F$46/F35,2)","v":0},"Cs",{"v":28.56,"d":"$28.56"},{"$f":"IF(OR(ISBLANK(J35),G35=0,ISBLANK(G35)),,ROUND(J35+$K$3,2))","v":{"v":28.56,"d":"$28.56"}},{"$f":"ROUND(H35*K35,2)","v":0},{"$f":"ROUND(K35/F35,2)","v":{"v":0.17,"d":"$0.17"}},{"v":11.18,"d":"$11.18"},{"v":1.6551,"d":"$1.6551"},10.5,{"$f":"ROUND(O35*P35,2)","v":{"v":17.38,"d":"$17.38"}},{"$f":"J35-Q35","v":{"v":11.18,"d":"$11.18"}},{"$f":"R35/F35","v":{"v":0.06654761904761905,"d":"$0.07"}},{"$f":"N35/F35","v":{"v":0.06654761904761905,"d":"$0.07"}}]
[null,"Refrigerated, Part skim mozzarella, 1 oz. portions","Bongard's 40295",null,"168/1.0z",168," ",{"$f":"ROUND($G$46*$F$46/F36,2)","v":0},"Cs",{"$nulls":5},{"v":1.6551,"d":"$1.6551"},10.5,{"$f":"ROUND(O36*P36,2)","v":{"v":17.38,"d":"$17.38"}}," "," "," "]
[null,null,"Pauley 232901376",null,"160/1.0z",160," ",{"$f":"ROUND($G$46*$F$46/F37,2)","v":0},"Cs",{"$nulls":4},{"v":1.6929,"d":"$1.6929"},78,{"$f":"ROUND(N37*O37,2)","v":{"v":132.05,"d":"$132.05"}},{"$f":"J37-P37","v":{"v":-132.05,"d":"$(132.05)"}},null,{"$f":"Q37/E37","v":{"$error":"#VALUE!"}},{"$f":"R37/F37","v":0}]
[null,"Possible Allergens:  Milk","Schrieber 25616",null,"168/1.0z",168," ",{"$f":"ROUND($G$46*$F$46/F38,2)","v":0},"Cs",{"$nulls":4},{"v":1.6929,"d":"$1.6929"},20,{"v":33.86,"d":"$33.86"},{"$f":"J38-P38","v":{"v":-33.86,"d":"$(33.86)"}},null,{"$f":"Q38/E38","v":{"$error":"#VALUE!"}},{"$f":"R38/F38","v":0}]
[11,"Cheese, Sauce, Ultimate White Blend","Land O Lakes 39944",null,"6/106 oz",212,0,{"$f":"ROUND($G$39*$F$39/F39,2)","v":0},"Cs",{"v":66.66,"d":"$66.66"},{"$f":"IF(OR(ISBLANK(J39),G39=0,ISBLANK(G39)),,ROUND(J39+$K$3,2))","v":0},0,0,{"v":42.53,"d":"$42.53"},{"v":1.6551,"d":"$1.6551"},14.58,{"$f":"ROUND(O39*P39,2)","v":{"v":24.13,"d":"$24.13"}},{"$f":"J39-Q39","v":{"v":42.53,"d":"$42.53"}},{"$f":"R39/F39","v":{"v":0.20061320754716983,"d":"$0.20"}},{"$f":"N39/F39","v":{"v":0.20061320754716983,"d":"$0.20"}}]
[null,"Shefl Stable, Aseptically produced, preservative-free, packaged in pouch"]
[null,"3 oz = 1 M/MA "]
[null,"Possible Allergens:  Milk"]
[12,"Cheese, Cheddar Cups","Land O Lakes 39911",null,"140/3.0z",140,5,{"$f":"ROUND($G$43*$F$43/F43,2)","v":5},"Cs",{"v":65.43,"d":"$65.43"},{"$f":"IF(OR(ISBLANK(J43),G43=0,ISBLANK(G43)),,ROUND(J43+$K$3,2))","v":{"v":65.43,"d":"$65.43"}},{"v":327.15,"d":"$327.15"},{"v":0.47,"d":"$0.47"},{"v":50.67,"d":"$50.67"},{"v":1.6551,"d":"$1.6551"},8.92,{"$f":"ROUND(O43*P43,2)","v":{"v":14.76,"d":"$14.76"}},{"$f":"J43-Q43","v":{"v":50.67000000000001,"d":"$50.67"}},{"$f":"R43/F43","v":{"v":0.3619285714285715,"d":"$0.36"}},{"$f":"N43/F43","v":{"v":0.36192857142857143,"d":"$0.36"}}]
[null,"Shelf Stable, Portion Pack, 3 oz. cup = 1 M/MA"," ",null," "," "," "," "," "," "," "," "," ",null," "," "," "," "," "," "]
[null,"Possbile Allergens:  Milk "," ",null," "," "," "," "," ",null,"  "," "," "]
[13,"Cheese, Cheddar Cups, Jalepeno","Land O Lakes 39912",null,"140/3.0z",140,0,{"$f":"ROUND($G$46*$F$46/F46,2)","v":0},"Cs",{"v":65.43,"d":"$65.43"},{"$f":"IF(OR(ISBLANK(J46),G46=0,ISBLANK(G46)),,ROUND(J46+$K$3,2))","v":0},{"$f":"ROUND(H46*K46,2)","v":0},{"$f":"ROUND(K46/F46,2)","v":0},{"v":50.67,"d":"$50.67"},{"v":1.6551,"d":"$1.6551"},8.92,{"$f":"ROUND(O46*P46,2)","v":{"v":14.76,"d":"$14.76"}},{"$f":"J46-Q46","v":{"v":50.67000000000001,"d":"$50.67"}},{"$f":"R46/F46","v":{"v":0.3619285714285715,"d":"$0.36"}},{"$f":"N46/F46","v":{"v":0.36192857142857143,"d":"$0.36"}}]
[null,"Shelf Stable, Portion Pack, 3 oz. cup = 1 M/MA"," ",null," "," "," "," "," "," "," "," "," ",null," "," "," "," "," "," "]
[null,"Possible Allergens: Milk","  ",null," "," "," "," "," ",null," "," "," "]
[14,"Margarine Reddies","Distributor Choice",null,"720/.5 gm",720,5,{"$nulls":6},{"v":1.6929,"d":"$1.6929"},78,{"$f":"ROUND(N49*O49,2)","v":{"v":132.05,"d":"$132.05"}},{"$f":"J49-P49","v":{"v":-132.05,"d":"$(132.05)"}},null,{"$f":"Q49/E49","v":{"$error":"#VALUE!"}},0]
[null,"Pure Vegetable.  Contains 0 Trans fat. ","Fillable txt box ",{"$nulls":4},{"$f":"ROUND(G49*F49/F50,2)","v":{"$error":"#DIV/0!"}},"Cs",null,{"$f":"IF(OR(ISBLANK(G49),G49=0,ISBLANK(F50)),,ROUND(J50+$K$3,2))","v":0},{"$f":"ROUND(H50*K50,2)","v":{"$error":"#DIV/0!"}},{"$f":"ROUND(K50/F50,2)","v":{"$error":"#DIV/0!"}},{"v":1.6929,"d":"$1.6929"},20,{"v":33.86,"d":"$33.86"},{"$f":"J50-P50","v":{"v":-33.86,"d":"$(33.86)"}},null,{"$error":"#DIV/0!"},{"$error":"#DIV/0!"}]
[15,"Margarine Solids","Distributor Choice",null,"30Lb",30,150,{"$nulls":6},{"v":1.6929,"d":"$1.6929"},78,{"v":132.05,"d":"$132.05"},{"$f":"J51-P51","v":{"v":-132.05,"d":"$(132.05)"}},null,{"$error":"#VALUE!"},0]
[null,"Pure Vegetable. Contains 0 Trans fat.","Fillable txt box ",{"$nulls":4},{"$f":"ROUND(G51*F51/F52,2)","v":{"$error":"#DIV/0!"}},"Cs",null,{"$f":"IF(OR(ISBLANK(G51),G51=0,ISBLANK(F52)),,ROUND(J52+$K$3,2))","v":0},{"$f":"ROUND(H52*K52,2)","v":{"$error":"#DIV/0!"}},{"$f":"ROUND(K52/F52,2)","v":{"$error":"#DIV/0!"}},{"v":1.6929,"d":"$1.6929"},20,{"v":33.86,"d":"$33.86"},{"$f":"J52-P52","v":{"v":-33.86,"d":"$(33.86)"}},null,{"$error":"#DIV/0!"},{"$error":"#DIV/0!"}]
[16,"Yogurt, Low Fat, 4 oz, Gluten Free   ","Yoplait/Trix (General Mills)",null,"48/4.0z",48,50,{"$f":"ROUND(G53*F53/F53,2)","v":50},"Cs",null," "," "," ",null," "," "," "," ",null," "]
[null,"Refrigerated, Lowfat, flavored, pasteurized, Grade A contains live and active yogurt ","17725 Raspberry Rainbow ",{"$nulls":11}," "," "," "," ",null," "]
[null,"cultures, No aspartame, Expiration date on container, coded, and labeled in ","17726 Strawberry Banana",{"$nulls":11}," "," "," "," ",null," "]
[null,"accordance with State and Federal Regulations","31077 Triple Cherry ",{"$nulls":11}," "," "," "," ",null," "]
[null,"No more than 2 g of fat per serving. 0 trans fat"," Dannon (Danimals) ",null,"48/4.0z",48,null,{"$f":"ROUND(G53*F53/F57,2)","v":50},"Cs",{"v":9.36,"d":"$9.36"},{"$f":"IF(OR(ISBLANK(J57),G53=0,ISBLANK(G53)),,ROUND(J57+$K$3,2))","v":{"v":9.36,"d":"$9.36"}},{"$f":"ROUND(H57*K57,2)","v":{"v":468,"d":"$468.00"}},{"$f":"ROUND(K57/F57,2)","v":{"v":0.2,"d":"$0.20"}},null," "," "," "," ",null," "]
[null,null,"2731Strawberry Dianimals, 2732 Strawb Banana",{"$nulls":11}," "," "," "," ",null," "]
[null,"Possible Allergens:  Milk  ","2733 Vanilla",{"$nulls":11}," "," "," "," ",null," "]
[null,null,"Creamy 1956 &1957",null,"48/4.0z.",48,{"$nulls":3},{"v":9.6,"d":"$9.60"},{"$f":"IF(OR(ISBLANK(J60),G53=0,ISBLANK(G53)),,ROUND(J60+$K$3,2))","v":{"v":9.6,"d":"$9.60"}},{"$f":"ROUND(H60*K60,2)","v":0},{"$f":"ROUND(K60/F60,2)","v":{"v":0.2,"d":"$0.20"}},null," "," "," "," ",null," "]
[17,"Yogurt, Fat Free, 4 oz. Extended Shelf Life","Upstate",null,"48/4.0z",48,0,{"$f":"ROUND(G61*F61/F61,2)","v":0},"Cs",{"v":12.36,"d":"$12.36"},{"$f":"IF(OR(ISBLANK(J61),G61=0,ISBLANK(G61)),,ROUND(J61+$K$3,2))","v":0},{"$f":"ROUND(H61*K61,2)","v":0},{"$f":"ROUND(K61/F61,2)","v":0},null," "," "," "," ",null," "]
[null,"Refrigerated, Lowfat, flavored, pasteurized, Grade A contains live and active yogurt ","Strawberry 9815",{"$nulls":11}," "," "," "," ",null," "]
[null,"cultures, No aspartame, Expiration date on container, coded, and labeled in ","Peach 9818",{"$nulls":11}," "," "," "," ",null," "]
[null,"accordance with State and Federal Regulations","Cherry Vanilla 9819",{"$nulls":11}," "," "," "," ",null," "]
[null,"No more than 2 g of fat per serving. 0 trans fat","Strawberry Banana 9820",null," "," ",null," "," "," "," "," "," ",null," "," "," "," ",null," "]
[null,null," ",{"$nulls":11}," "," "," "," ",null," "]
[null,"Possible Allergens:  Milk  "," "," ",{"$nulls":10}," "," "," "," ",null," "]
[18,"Yogurt, Fat Free, 8 oz. Extended Shelf Life","Upstate",null,"12/8.0z",12,0,{"$f":"ROUND(G68*F68/F68,2)","v":0},"Cs",{"v":6.43,"d":"$6.43"},{"$f":"IF(OR(ISBLANK(J68),G68=0,ISBLANK(G68)),,ROUND(J68+$K$3,2))","v":0},{"$f":"ROUND(H68*K68,2)","v":0},{"$f":"ROUND(K68/F68,2)","v":0},null," "," "," "," ",null," "]
[null,"Refrigerated, Lowfat, flavored, pasteurized, Grade A contains live and active yogurt ","Strawberry 9834",{"$nulls":11}," "," "," "," ",null," "]
[null,"cultures, No aspartame, Expiration date on container, coded, and labeled in ","Peach 9835",{"$nulls":11}," "," "," "," ",null," "]
[null,"accordance with State and Federal Regulations","Cherry Vanilla 9819",{"$nulls":11}," "," "," "," ",null," "]
[null,"No more than 2 g of fat per serving. 0 trans fat","Strawberry Banana 9836",null," "," ",null," "," "," "," "," "," ",null," "," "," "," ",null," "]
[null,null," ",{"$nulls":11}," "," "," "," ",null," "]
[null,"Possible Allergens:  Milk  "," ",{"$nulls":11}," "," "," "," ",null," "]
[null,null," ",{"$nulls":11}," "," "," "," ",null," "]
[19,"Yogurt, Parfait Pro, Vanilla Pouch, Low fat","Yoplait/General Mills 16632",null,"96/4 oz.",96,3,{"$f":"ROUND(G76*F76/F76,2)","v":3},"Cs",{"v":21.74,"d":"$21.74"},{"$f":"IF(OR(ISBLANK(J76),G76=0,ISBLANK(G76)),,ROUND(J76+$K$3,2))","v":{"v":21.74,"d":"$21.74"}},{"$f":"ROUND(H76*K76,2)","v":{"v":65.22,"d":"$65.22"}},{"$f":"ROUND(K76/F76,2)","v":{"v":0.23,"d":"$0.23"}},null," "," "," "," ",null," "]
[null,"Refrigerated, Lowfat, flavored, pasteurized, Grade A contains live and active yogurt ","Dannon Pro 1932",null,"4/6 lbs",96,null,{"$f":"ROUND(G76*F76/F77,2)","v":3},"Cs"]
[null,"cultures, No aspartame, Expiration date on container, coded, and labeled in "]
[null,"accordance with State and Federal Regulations"]
[null,"4 oz. serving equals 1 oz. protein",{"$nulls":12}," "," "," "," ",null," "]
[null,"Possible Allergens:  Milk, Gluten Free",{"$nulls":12}," "," "," "," ",null," "]
[20,"Yogurt, Parfait Pro, Strawberry Pouch, Low fat","Yoplait/General Mills 16631",null,"96/4.0z",96,3,{"$f":"ROUND(G82*F82/F82,2)","v":3},"Cs",{"v":21.74,"d":"$21.74"},{"$f":"IF(OR(ISBLANK(J82),G82=0,ISBLANK(G82)),,ROUND(J82+$K$3,2))","v":{"v":21.74,"d":"$21.74"}},{"$f":"ROUND(H82*K82,2)","v":{"v":65.22,"d":"$65.22"}},{"$f":"ROUND(K82/F82,2)","v":{"v":0.23,"d":"$0.23"}},null," "," "," "," ",null," "]
[null,"Refrigerated, Lowfat, flavored, pasteurized, Grade A contains live and active yogurt ","Dannon Pro 1932",null,"4/6 lbs",96,null,{"$f":"ROUND(G82*F82/F83,2)","v":3},"Cs"]
[null,"cultures, No aspartame, Expiration date on container, coded, and labeled in "]
[null,"accordance with State and Federal Regulations"]
[null,"4 oz. serving equals 1 oz. protein",{"$nulls":12}," "," "," "," ",null," "]
[null,"Possible Allergens:  Milk, Gluten Free",{"$nulls":12}," "," "," "," ",null," "]
[21,"Yogurt, Tube, All Flavors","Yoplait/General Mills 70470-47402",null,"48/4.0z",48,0,{"$f":"ROUND(G88*F88/F88,2)","v":0},"Cs",{"v":15.58,"d":"$15.58"},{"$f":"IF(OR(ISBLANK(J88),G88=0,ISBLANK(G88)),,ROUND(J88+$K$3,2))","v":0},{"$f":"ROUND(H88*K88,2)","v":0},{"$f":"ROUND(K88/F88,2)","v":0},null," "," "," "," ",null," "]
[null,"Refrigerated, pasteurized, Grade A, contains live and active yogurt cultures, "]
[null,"No aspartame, 50-100 calories with o sat fat and no more than 50 mg sodium"]
[null,"Provides 1 M/MA for CN programs"]
[null," ",{"$nulls":12}," "," "," "," ",null," "]
[null,"Possbile Allergens: Milk, Gluten Free",{"$nulls":12}," "," "," "," ",null," "]
[{"$nulls":14},"Eggs, Whole Liquid Bulk Tank 100047"]
[22,"Eggs, Hard Cooked, Peeled, Pillow -Pak/Dry Packed","Michael Foods 85018",null,"15 lbs",144,0,{"$f":"ROUND($G$95*$F$95/F95,2)","v":0},"Cs",{"v":19.88,"d":"$19.88"},{"$f":"IF(OR(ISBLANK(J95),G95=0,ISBLANK(G95)),,ROUND(J95+$K$3,2))","v":0},{"$f":"ROUND(H95*K95,2)","v":0},{"$f":"ROUND(K95/F95,2)","v":0},{"v":13.8,"d":"$13.80"},{"v":0.4055,"d":"$0.4055"},15,{"$f":"ROUND(O95*P95,2)","v":{"v":6.08,"d":"$6.08"}},{"$f":"J95-Q95","v":{"v":13.799999999999999,"d":"$13.80"}},{"$f":"R95/F95","v":{"v":0.09583333333333333,"d":"$0.10"}},{"$f":"N95/F95","v":{"v":0.09583333333333334,"d":"$0.10"}}]
[null,"Frozen, IQF, Fully cooked, 50-150 calories with no more than 4 g saturated fat and 350"]
[null,"mg sodium per serving.  CN Labeled for one portion to provide a min. 2 M/MA "]
[]
[null,"Possible Allergens:  Egg, Milk, Soy"," ",null," "," ",null," "," ",null," "," "," ",null," "," "," "," ",null," "]
[23,"Egg Patty, Round","Michael Foods 85017",null,"300/1.25z",300,0,{"$f":"ROUND($G$100*$F$100/F100,2)","v":0},"Cs",{"v":31.01,"d":"$31.01"},{"$f":"IF(OR(ISBLANK(J100),G100=0,ISBLANK(G100)),,ROUND(J100+$K$3,2))","v":0},{"$f":"ROUND(H100*K100,2)","v":0},{"$f":"ROUND(K100/F100,2)","v":0},{"v":24.61,"d":"$24.61"},{"v":0.4055,"d":"$0.4055"},15.79,{"$f":"ROUND(O100*P100,2)","v":{"v":6.4,"d":"$6.40"}},{"$f":"J100-Q100","v":{"v":24.61,"d":"$24.61"}},{"$f":"R100/F100","v":{"v":0.08203333333333333,"d":"$0.08"}},{"$f":"N100/F100","v":{"v":0.08203333333333333,"d":"$0.08"}}]
[null,"Frozen, IQF, Fully cooked, USDA inspected pasteurized whole eggs, Approx. 3\" pattie","Sunny Fresh/Cargill 40710",null,"369/1.25z",369,null,{"$f":"ROUND($G$100*$F$100/F101,2)","v":0},"Cs",{"$nulls":5}," "," "," "," ",null," "]
[null,"40-100 calories with no more than 2g sat fat and 125 mg sodium per portion."]
[null,"One portion to provide min 1 M/MA"]
[null,"Possible Allergens:  Egg, Milk, Soy"]
[{"$nulls":14}," "," "," "," ",null," "]
[24,"Eggs, Scrambled, Pre-Cooked Refrigerated","Michael Foods 85877",null,"12/1.85z",165,0,{"$f":"ROUND($G$106*$F$106/F106,2)","v":0},"Cs",{"v":35.76,"d":"$35.76"},{"$f":"IF(OR(ISBLANK(J106),G106=0,ISBLANK(G106)),,ROUND(J106+$K$3,2))","v":0},{"$f":"ROUND(H106*K106,2)","v":0},{"$f":"ROUND(K106/F106,2)","v":0},{"v":29.61,"d":"$29.61"},{"v":0.4055,"d":"$0.4055"},15.17,{"$f":"ROUND(O106*P106,2)","v":{"v":6.15,"d":"$6.15"}},{"$f":"J106-Q106","v":{"v":29.61,"d":"$29.61"}},{"$f":"R106/F106","v":{"v":0.17945454545454545,"d":"$0.18"}},{"$f":"N106/F106","v":{"v":0.17945454545454545,"d":"$0.18"}}]
[null,"Frozen, IQF, Fully cooked, USDA inspected pasteurized whole eggs, 45-50 calories with"," ",null," "," ",null," "," ",null," "," "," ",null," "," "," "," ",null," "]
[null,"no more than 2g sat fat and 150 mg sodium per 1 oz. portion, provides min. 1 M/MA"]
[]
[null,"Possible Allergens:  Egg, Milk, Soy",{"$nulls":12}," "," "," "," ",null," "]
[25,"Eggs, Scrambled, Pre-Cooked, Frozen","Michael Foods 85019",null,"4/5 lbs",320,0,{"$f":"ROUND($G$111*$F$111/F111,2)","v":0},"Cs",{"$nulls":5}," "," "," "," ",null," "]
[null,"Frozen, IQF, Fully cooked, USDA Inspected pasteurized whole eggs, 45-50 calories ","Sunny Fresh/Cargill 40927",null,"4/5 lbs",320,null,{"$f":"ROUND($G$111*$F$111/F112,2)","v":0},"Cs",{"v":29.7,"d":"$29.70"},{"$f":"IF(OR(ISBLANK(J112),G111=0,ISBLANK(G111)),,ROUND(J112+$K$3,2))","v":0},{"$f":"ROUND(H112*K112,2)","v":0},{"$f":"ROUND(K112/F112,2)","v":0},{"v":22.02,"d":"$22.02"},{"v":0.4055,"d":"$0.4055"},18.93,{"$f":"ROUND(O112*P112,2)","v":{"v":7.68,"d":"$7.68"}},{"$f":"J112-Q112","v":{"v":22.02,"d":"$22.02"}},{"$f":"R112/F112","v":{"v":0.0688125,"d":"$0.07"}},{"$f":"N112/F112","v":{"v":0.0688125,"d":"$0.07"}}]
[null,"with no more than 2g saturated fat and 150 mg sodium per 1 oz. portions.  A 1 oz. "]
[null,"portion provides a min. 1 M/MA"]
[]
[null,"Possible Allergens:  Egg, Milk, Soy",{"$nulls":12}," "," "," "," ",null," "]
[26,"Egg Omelet Cheddar Cheese","Michael Foods 85037",null,"144/2.0z.",144,0,{"$f":"ROUND($G$117*$F$117/F117,2)","v":0},"Cs",{"v":40.14,"d":"$40.14"},{"$f":"IF(OR(ISBLANK(J117),G117=0,ISBLANK(G117)),,ROUND(J117+$K$3,2))","v":0},{"$f":"ROUND(H117*K117,2)","v":0},{"$f":"ROUND(K117/F117,2)","v":0},{"v":35.03,"d":"$35.03"},{"v":0.4055,"d":"$0.4055"},12.61,{"$f":"ROUND(O117*P117,2)","v":{"v":5.11,"d":"$5.11"}},{"$f":"J117-Q117","v":{"v":35.03,"d":"$35.03"}},{"$f":"R117/F117","v":{"v":0.2432638888888889,"d":"$0.24"}},{"$f":"N117/F117","v":{"v":0.2432638888888889,"d":"$0.24"}}]
[null,"Frozen, IQF, Fully cooked, USDA inspected pasteurized whole eggs with cheddar "," ",null," "," ",null," "," ",null," "," "," ",null," "," "," "," ",null," "]
[null,"cheese filling. Oven baked, 100-200 calories with no more than 4g saturated fat and "]
[null,"300 mg sodium per serving. CN Labeled for one portion to provide min. 2 M/MA "]
[]
[null,"Possible Allergens: Egg, Milk, Soy",{"$nulls":12}," "," "," "," ",null," "]
[27,"Skillet Frittata w/Egg, Cheese, Veg and Ham, IW","Sunny Fresh/Cargill 40263",null,"96/3.35z",95,0,{"$f":"ROUND($G$123*$F$123/F123,2)","v":0},"Cs",{"v":49.51,"d":"$49.51"},{"$f":"IF(OR(ISBLANK(J123),G123=0,ISBLANK(G123)),,ROUND(J123+$K$3,2))","v":0},{"$f":"ROUND(H123*K123,2)","v":0},{"$f":"ROUND(K123/F123,2)","v":0},{"v":45.09,"d":"$45.09"},{"v":0.4055,"d":"$0.4055"},12.61,{"$f":"ROUND(O123*P123,2)","v":{"v":5.11,"d":"$5.11"}},{"$f":"J123-Q123","v":{"v":44.4,"d":"$44.40"}},{"$f":"R123/F123","v":{"v":0.46736842105263154,"d":"$0.47"}},{"$f":"N123/F123","v":{"v":0.47463157894736846,"d":"$0.47"}}]
[null,"Frozen, IQF, Fully cooked, 50-200 calories with no more than 5g saturated fat and 550"," ",null," "," ",null," "," ",null," "," "," ",null," "," "," "," ",null," "]
[null,"mg sodium per serving.  One portion provides min. 2 M/MA and 1 OEG"]
[]
[null,"Possible Allergens:  Egg, Milk, Soy",{"$nulls":12}," "," "," "," ",null," "]
[28,"Skillet Frittata w/Egg, Cheese, and Turkey Sausage Bulk","Sunny Fresh/Cargill 40184",null,"225/2.20z",225,0,{"$f":"ROUND($G$128*$F$128/F128,2)","v":0},"Cs",{"v":68.8,"d":"$68.80"},{"$f":"IF(OR(ISBLANK(J128),G128=0,ISBLANK(G128)),,ROUND(J128+$K$3,2))","v":0},{"$f":"ROUND(H128*K128,2)","v":0},{"$f":"ROUND(K128/F128,2)","v":0},{"v":58.93,"d":"$58.93"},{"v":0.4055,"d":"$0.4055"},24.35,{"$f":"ROUND(O128*P128,2)","v":{"v":9.87,"d":"$9.87"}},{"$f":"J128-Q128","v":{"v":58.93,"d":"$58.93"}},{"$f":"R128/F128","v":{"v":0.2619111111111111,"d":"$0.26"}},{"$f":"N128/F128","v":{"v":0.2619111111111111,"d":"$0.26"}}]
[null,"Frozen, IQF, Fully cooked, 50-150 calories with no more than 4g saturated fat and 350"," ",null," "," ",null," ","  ",null," "," "," ",null," "," "," "," ",null," "]
[null,"mg sodium per serving.  One portion provides min. 2 M/MA "]
[]
[null,"Possible Allergens:  Egg, Milk, Soy"]
[{"$nulls":14}," "," "," "," ",null," "]
[29,"Pudding Cups,  3.75oz"," Kozy Shack",null,"48/3.75z",48,0,{"$f":"ROUND(G134*F134/F134,2)","v":0},"Cs",null,{"$f":"IF(OR(ISBLANK(J134),G134=0,ISBLANK(G134)),,ROUND(J134+$K$3,2))","v":0},{"$f":"ROUND(H134*K134,2)","v":0},{"$f":"ROUND(K134/F134,2)","v":0},null," "," "," "," ",null," "]
[null,"Refrigerated Product, Kosher.  Gluten-free","     03710  Cowrageous Chocolate",{"$nulls":11}," "," "," "," ",null," "]
[null,"Smart Snacks Compliant ","     03720  Cowrageous Vanilla",{"$nulls":11}," "," "," "," ",null," "]
[null,"Possible Allergens: Milk",{"$nulls":12}," "," "," "," ",null," "]
[30,"Ice Cream Bar, Low Fat"," Blue Bunny",null,"144/3.0z",144,0,{"$f":"ROUND(G138*F138/F138,2)","v":0},"Cs",null,{"$f":"IF(OR(ISBLANK(J138),G138=0,ISBLANK(G138)),,ROUND(J138+$K$3,2))","v":0},{"$f":"ROUND(H138*K138,2)","v":0},{"$f":"ROUND(K138/F138,2)","v":0},null," "," "," "," ",null," "]
[null,"Frozen, Flavored Center, with a crunch coating.","1097897 Chocolate Crunch ",{"$nulls":11}," "," "," "," ",null," "]
[null,"Smart Snacks Compliant ","1097993 Strawberry Crunch",{"$nulls":11}," "," "," "," ",null," "]
[null,"Possible Allergens:  Milk, Soy, and Wheat"," ",{"$nulls":11}," "," "," "," ",null," "]
[17,"Ice Cream Sandwich, Low Fat","Blue Bunny 1097801",null,"96/3.0z",96,0,{"$f":"ROUND(G142*F142/F142,2)","v":0},"Cs",null,{"$f":"IF(OR(ISBLANK(J142),G142=0,ISBLANK(G142)),,ROUND(J142+$K$3,2))","v":0},{"$f":"ROUND(H142*K142,2)","v":0},{"$f":"ROUND(K142/F142,2)","v":0},null," "," "," "," ",null," "]
[null,"Vanilla flavored low-fat ice cream between two chocolate flavored wafers.",{"$nulls":12}," "," "," "," ",null," "]
[null,"Smart Snacks Compliant "," ",{"$nulls":11}," "," "," "," ",null," "]
[null,"Possible Allergens: Milk, Soy, Wheat"," ",{"$nulls":11}," "," "," "," ",null," "]
[18,"Ice Cream, Fudge Bar","Blue Bunny",null,"48/3.0oz",48,0,{"$f":"ROUND(G146*F146/F146,2)","v":0},"Cs",null,{"$f":"IF(OR(ISBLANK(J146),G146=0,ISBLANK(G146)),,ROUND(J146+$K$3,2))","v":0},{"$f":"ROUND(H146*K146,2)","v":0},{"$f":"ROUND(K146/F146,2)","v":0},null," "," "," "," ",null," "]
[null,"Smart Snacks Compliant ","     218082  Classics Fudge Bar",{"$nulls":11}," "," "," "," ",null," "]
[null,"Possible Allergens: Milk",{"$nulls":12}," "," "," "," ",null," "]
[{"$nulls":14}," "," "," "," ",null," "]
[]
[{"$nulls":6},0,null,"Page Total",null,null,{"$f":"SUMIF(L6:L149,\">0\")","v":{"v":15063.639999999998,"d":"$15,063.64"}}]

{"sheet":"Frozen Potato ","index":321,"n_rows":94,"n_cols":20,"rows_kept":94,"merged":[[0,4,0,12],[0,14,0,19],[1,4,1,12],[2,5,2,9]]}
[null,{"$f":"'Recap Sheet'!A2","v":"School Food Authority:"},null,null,{"$f":"'Recap Sheet'!A3","v":"Offeror Name:"},{"$nulls":9},"Commodity"]
[null,{"$f":"'Recap Sheet'!B2","v":"WILLIAMSBURG COUNTY SCHOOLS"},"Return to Recap Sheet",null,{"$f":"'Recap Sheet'!B3","v":{"v":0,"d":"0 "}}]
["Item","Description","Approved Brand Name / Manuf ID # ",null,null,"Firm Fixed Fee",{"$nulls":4},{"$f":"'Recap Sheet'!B4","v":{"v":0,"d":"$0.00"}},null,null,"Processing","Commodity","Pounds of",null,"NOI ","Net NOI","Total Cost"]
["#",null,null,"Distributor","Vendor","Svgs","Est.","Bid ","Bid","Unit","Unit Price","Total ","Cost per","Fee For","Value Per","DF Needed","Commodity","Net ","Cost Per","Processing Fee"]
[{"$nulls":3},"Code","Pack","per unit","Bid Qty","Qty","Unit","Price","plus Fee","Price","Unit","Service","Pound","Per Case","Value ","Price","Serving","Per Serving"]
[null,"Potato Products, Frz",{"$nulls":12},"Commodity 100506"]
[]
[1,"French Fries, Shoestring 1/4-5/16\", Coated","Lamb Weston S34",null,"6/4.5 Lb",144,30,{"$f":"ROUND($G$8*$F$8/F8,2)","v":30},"Cs",{"$nulls":5},{"v":0.1049,"d":"$0.1049"},49.09,{"$f":"ROUND(O8*P8,2)","v":{"v":5.15,"d":"$5.15"}}," "," "," "]
[null,"Frozen, USDA LF or XLF, Grade A, Low moisture, 100-150 than 1 g saturated fat  and 300 mg sodium ","Simplot 79036357",null,"6/5 Lb",200,null,{"$f":"ROUND($G$8*$F$8/F9,2)","v":21.6},"Cs",{"v":23.67,"d":"$23.67"},{"$f":"IF(OR(ISBLANK(J9),G8=0,ISBLANK(G8)),,ROUND(J9+$K$3,2))","v":{"v":23.67,"d":"$23.67"}},{"$f":"ROUND(H9*K9,2)","v":{"v":511.27,"d":"$511.27"}},{"$f":"ROUND(K9/F9,2)","v":{"v":0.12,"d":"$0.12"}},{"v":17.95,"d":"$17.95"},{"v":0.1049,"d":"$0.1049"},54.55,{"$f":"ROUND(O9*P9,2)","v":{"v":5.72,"d":"$5.72"}},{"$f":"K9-Q9","v":{"v":17.950000000000003,"d":"$17.95"}},{"$f":"R9/F9","v":{"v":0.08975000000000001,"d":"$0.09"}},{"$f":"N9/F9","v":{"v":0.08975,"d":"$0.09"}}]
[null,"per 1/2 cup veg serving","Cavendish 56210-05311-2",null,"6/4.5 lb",144,null,{"$f":"ROUND($G$8*$F$8/F10,2)","v":30},"Cs",{"$nulls":4},0,{"v":0.1049,"d":"$0.1049"},54.55,{"v":5.72,"d":"$5.72"}," "," "," "]
[null,"Possible Allergens:  None Listed "]
[2,"French Fries, 3/8\" Straight Cut, Ovenable, Low Sodium","Simplot 79026709",null,"6/5 Lb",160,0,{"$f":"ROUND($G$12*$F$12/F12,2)","v":0},"Cs",{"v":22.17,"d":"$22.17"},{"$f":"IF(OR(ISBLANK(J12),G12=0,ISBLANK(G12)),,ROUND(J12+$K$3,2))","v":0},{"$f":"ROUND(H12*K12,2)","v":0},{"$f":"ROUND(K12/F12,2)","v":0},{"v":16.45,"d":"$16.45"},{"v":0.1049,"d":"$0.1049"},54.55,{"$f":"ROUND(O12*P12,2)","v":{"v":5.72,"d":"$5.72"}},{"$f":"K12-Q12","v":{"v":-5.72,"d":"-$5.72"}},{"$f":"R12/F12","v":{"v":-0.03575,"d":"$(0.04)"}},{"$f":"N12/F12","v":{"v":0.1028125,"d":"$0.10"}}]
[null,"Frozen, Made from white, USDA Grade A potatoes. Extra Long or Long Fancy."]
[null,"No tropical oils, 0 trans fat, 100-150 calories, no more than 1g sat fat and no more than 30 mg sodium per 1/2c svg"]
[null,"Possible Allergens: None Listed "]
[3,"French Fries, 3/8\"-1/2\", Crinkle Cut, Ovenable, Low Sodium  ","McCain OIF00055A",null,"6/5 Lb ",160,270,{"$f":"ROUND(G16*F16/F16,2)","v":270},"Cs",{"$nulls":5},{"v":0.1049,"d":"$0.1049"},54.55,{"$f":"ROUND(O16*P16,2)","v":{"v":5.72,"d":"$5.72"}}," ","  ",{"$f":"N16/F16","v":0}]
[null,"Frozen. Made from white, USDA Grade A potatoes. Extra Long or Long Fancy.   ","Lamb Weston R45",null,"6/5 Lb ",160,null,{"$f":"ROUND(G16*F16/F17,2)","v":270},"Cs",{"$nulls":5},{"v":0.1049,"d":"$0.1049"},54.55,{"$f":"ROUND(O17*P17,2)","v":{"v":5.72,"d":"$5.72"}}," "," ",0]
[null,"No tropical oils, 0 trans fat, 100-150 calories, no more than 1g sat fat and no more than 50 mg sodium per 1/2c svg","Simplot 71179221227",null,"6/5 Lb ",160,null,{"$f":"ROUND(G16*F16/F18,2)","v":270},"Cs",{"v":17.37,"d":"$17.37"},{"$f":"IF(OR(ISBLANK(J18),G16=0,ISBLANK(G16)),,ROUND(J18+$K$3,2))","v":{"v":17.37,"d":"$17.37"}},{"$f":"ROUND(H18*K18,2)","v":{"v":4689.9,"d":"$4,689.90"}},{"$f":"ROUND(K18/F18,2)","v":{"v":0.11,"d":"$0.11"}},null,{"v":0.1049,"d":"$0.1049"},54.55,{"$f":"ROUND(O18*P18,2)","v":{"v":5.72,"d":"$5.72"}},{"$f":"K18-Q18","v":{"v":11.650000000000002,"d":"$11.65"}},{"$f":"R18/F18","v":{"v":0.07281250000000002,"d":"$0.07"}},0]
[null,"Possible Allergens: None Listed "]
[4,"French Fries, 3/8\", Regular cut (Fried or Baked) Coated","Lamb Weston S57",null,"6/5 Lb",160,15,{"$f":"ROUND(G20*F20/F20,2)","v":15},"Cs",{"$nulls":5},{"v":0.1049,"d":"$0.1049"},54.55,{"$f":"ROUND(O20*P20,2)","v":{"v":5.72,"d":"$5.72"}}," "," ",{"$f":"N20/F20","v":0}]
[null,"Frozen. Made from white, USDA Grade A potatoes, Extra Long or Long Fancy. ","McCain MCF03788",null,"6/5 Lb",160,null,{"$f":"ROUND(G20*F20/F21,2)","v":15},"Cs",{"v":23.95,"d":"$23.95"},{"$f":"IF(OR(ISBLANK(J21),G20=0,ISBLANK(G20)),,ROUND(J21+$K$3,2))","v":{"v":23.95,"d":"$23.95"}},{"$f":"ROUND(H21*K21,2)","v":{"v":359.25,"d":"$359.25"}},{"$f":"ROUND(K21/F21,2)","v":{"v":0.15,"d":"$0.15"}},{"v":18.23,"d":"$18.23"},{"v":0.1049,"d":"$0.1049"},54.55,{"$f":"ROUND(O21*P21,2)","v":{"v":5.72,"d":"$5.72"}},{"$f":"K21-Q21","v":{"v":18.23,"d":"$18.23"}},{"$f":"R21/F21","v":{"v":0.1139375,"d":"$0.11"}},{"v":0.1139375,"d":"$0.11"}]
[null,"No tropical oils, 0 trans fat, 50-150 calories, no more than 1g sat fat and no more than 400 mg sodium per 1/2c svg"]
[null,"Possible Allergens: None Listed "]
[5,"French Fries, 3/8\" Straight Cut, (ovenable), Reduced Sodium, Seasoned ","McCain MCX04717",null,"6/5 Lb",160,0,{"$f":"ROUND(G24*F24/F24,2)","v":0},"Cs",{"v":28.15,"d":"$28.15"},{"$f":"IF(OR(ISBLANK(J24),G24=0,ISBLANK(G24)),,ROUND(J24+$K$3,2))","v":0},{"$f":"ROUND(H24*K24,2)","v":0},{"$f":"ROUND(K24/F24,2)","v":0},{"v":22.43,"d":"$22.43"},{"v":0.1049,"d":"$0.1049"},54.55,{"$f":"ROUND(O24*P24,2)","v":{"v":5.72,"d":"$5.72"}},{"$f":"K24-Q24","v":{"v":-5.72,"d":"-$5.72"}},{"$f":"R24/F24","v":{"v":-0.03575,"d":"$(0.04)"}},{"$f":"N24/F24","v":{"v":0.1401875,"d":"$0.14"}}]
[null,"Frozen. Made from white, USDA Grade A potatoes, Extra Long or Long Fancy with a blend of spices.   "]
[null,"No tropical oils. 0 Trans Fat.  100-150 Calories with 1g Sat fat and 150 mg Sodium per 1/2 c serving."]
[null,"Possible Allergens: None Listed "]
[6,"Potato Baby Bakers","Simplot 79000488",null,"6/2.5 lbs",80,0,{"$f":"ROUND(G28*F28/F28,2)","v":0},"Cs",{"v":23.42,"d":"$23.42"},{"$f":"IF(OR(ISBLANK(J28),G28=0,ISBLANK(G28)),,ROUND(J28+$K$3,2))","v":0},{"$f":"ROUND(H28*K28,2)","v":0},{"$f":"ROUND(K28/F28,2)","v":0},{"v":21.45,"d":"$21.45"},{"v":0.1049,"d":"$0.1049"},18.75,{"$f":"ROUND(O28*P28,2)","v":{"v":1.97,"d":"$1.97"}},{"$f":"K28-Q28","v":{"v":-1.97,"d":"-$1.97"}},{"$f":"R28/F28","v":{"v":-0.024625,"d":"$(0.02)"}},{"$f":"N28/F28","v":{"v":0.268125,"d":"$0.27"}}]
[null,"Frozen, whole miniature potatoes seasoned with garlic and black pepper, bake and serve, 80-150 calories with no"]
[null,"more than 1 g sat fat and 200 mg sodium per 1/2 cup vegetable serving"]
[null,"Possible Allergens: None Listed "]
[7,"Potato Roasters","McCain MCF03927",null,"6/5 Lb",160,0,{"$f":"ROUND(G32*F32/F32,2)","v":0},"Cs",{"v":28.75,"d":"$28.75"},{"$f":"IF(OR(ISBLANK(J32),G32=0,ISBLANK(G32)),,ROUND(J32+$K$3,2))","v":0},{"$f":"ROUND(H32*K32,2)","v":0},{"$f":"ROUND(K32/F32,2)","v":0},{"v":23.03,"d":"$23.03"},{"v":0.1049,"d":"$0.1049"},54.55,{"$f":"ROUND(O32*P32,2)","v":{"v":5.72,"d":"$5.72"}},{"$f":"K32-Q32","v":{"v":-5.72,"d":"-$5.72"}},{"$f":"R32/F32","v":{"v":-0.03575,"d":"$(0.04)"}},{"$f":"N32/F32","v":{"v":0.1439375,"d":"$0.14"}}]
[null,"Frozen, diced, roasted potatoes seasoned with garlic, rosemary and herbs, bake and serve, 100-200 calories with"]
[null,"no more than 1 g sat fat and 200 mg of sodium per 1/2 c vegetable serving"]
[null,"Possible Allergens: None Listed "]
[8,"Potato, Red Skin, Chopped, Roasted","McCain Ore/Ida MCF04851",null,"4/4 lbs",85,0,{"$f":"ROUND(G36*F36/F36,2)","v":0},"Cs",{"v":20,"d":"$20.00"},{"$f":"IF(OR(ISBLANK(J36),G36=0,ISBLANK(G36)),,ROUND(J36+$K$3,2))","v":0},{"$f":"ROUND(H36*K36,2)","v":0},{"$f":"ROUND(K36/F36,2)","v":0},{"v":17.9,"d":"$17.90"},{"v":0.1049,"d":"$0.1049"},20,{"$f":"ROUND(O36*P36,2)","v":{"v":2.1,"d":"$2.10"}},{"$f":"K36-Q36","v":{"v":-2.1,"d":"-$2.10"}},{"$f":"R36/F36","v":{"v":-0.024705882352941178,"d":"$(0.02)"}},{"$f":"N36/F36","v":{"v":0.21058823529411763,"d":"$0.21"}}]
[null,"Frozen, chopped, roasted potatoes seasoned with garlic, rosemary and herbs, bake and serve, 100-200 calories "]
[null,"with no more than 1 g sat fat and 200 mg of sodium per 1/2 c vegetable serving"]
[null,"Possible Allergens: None Listed "]
[9,"Potato Rounds/Tots","Lamb Weston H30",null,"6/5 Lb",160,80,{"$f":"ROUND(G40*F40/F40,2)","v":80},"Cs",{"$nulls":5},{"v":0.1049,"d":"$0.1049"},54.55,{"$f":"ROUND(O40*P40,2)","v":{"v":5.72,"d":"$5.72"}}," "," "," "]
[null,"Frozen, Grade A, Crisp golden brown exterior, 100-200 calories with no more than 2 g sat fat and 350 mg sodium ","McCain/Ore-Ida OIF00215A",null,"6/5 Lb",160,null,{"$f":"ROUND(G40*F40/F41,2)","v":80},"Cs",{"$nulls":5},{"v":0.1049,"d":"$0.1049"},54.55,{"$f":"ROUND(O41*P41,2)","v":{"v":5.72,"d":"$5.72"}}," "," "," "]
[null,"per 1/2 c vegetable serving","Simplot 79004189",null,"6/5 Lb",160,null,{"$f":"ROUND(G40*F40/F42,2)","v":80},"Cs",{"v":21.57,"d":"$21.57"},{"$f":"IF(OR(ISBLANK(J42),G40=0,ISBLANK(G40)),,ROUND(J42+$K$3,2))","v":{"v":21.57,"d":"$21.57"}},{"$f":"ROUND(H42*K42,2)","v":{"v":1725.6,"d":"$1,725.60"}},{"$f":"ROUND(K42/F42,2)","v":{"v":0.13,"d":"$0.13"}},{"v":15.85,"d":"$15.85"},{"v":0.1049,"d":"$0.1049"},54.55,{"$f":"ROUND(O42*P42,2)","v":{"v":5.72,"d":"$5.72"}},{"$f":"K42-Q42","v":{"v":15.850000000000001,"d":"$15.85"}},{"$f":"R42/F42","v":{"v":0.09906250000000001,"d":"$0.10"}},{"$f":"N42/F42","v":{"v":0.0990625,"d":"$0.10"}}]
[null,"Possible Allergens: Soy"]
[10,"Potato Rounds/Tots, Low Sodium","McCain/Ore-Ida 1000002789",null,"6/5 Lb",156,0,{"$f":"ROUND(G44*F44/F44,2)","v":0},"Cs",{"v":27.7,"d":"$27.70"},{"$f":"IF(OR(ISBLANK(J44),G44=0,ISBLANK(G44)),,ROUND(J44+$K$3,2))","v":0},{"$f":"ROUND(H44*K44,2)","v":0},{"$f":"ROUND(K44/F44,2)","v":0},{"v":21.98,"d":"$21.98"},{"v":0.1049,"d":"$0.1049"},54.55,{"$f":"ROUND(O44*P44,2)","v":{"v":5.72,"d":"$5.72"}},{"$f":"K44-Q44","v":{"v":-5.72,"d":"-$5.72"}},{"$f":"R44/F44","v":{"v":-0.03666666666666667,"d":"$(0.04)"}},{"$f":"N44/F44","v":{"v":0.1408974358974359,"d":"$0.14"}}]
[null,"Frozen, Grade A, Crisp golden brown exterior, 90-200 calories with no more than 2 g sat fat and 170 mg sodium "]
[null,"per 1/2 c vegetable serving"]
[null,"Possible Allergens: None Listed "]
[11,"Potato, Shaped ","McCain/Ore-Ida OIF03456 ",null,"6/4 lb",128,451,{"$f":"ROUND(G48*F48/F48,2)","v":451},"Cs",{"$nulls":5},{"v":0.1049,"d":"$0.1049"},43.64,{"$f":"ROUND(O48*P48,2)","v":{"v":4.58,"d":"$4.58"}}," "," "," "]
[null,"Frozen, mashed and formed, 100-200 calories with no more than 1 g sat fat and 200 mg sodium per 1/2 c ","Lamb Weston S0026",null,"6/5 lb",160,null,{"$f":"ROUND(G48*F48/F49,2)","v":360.8},"Cs",{"v":27.45,"d":"$27.45"},{"$f":"IF(OR(ISBLANK(J49),G48=0,ISBLANK(G48)),,ROUND(J49+$K$3,2))","v":{"v":27.45,"d":"$27.45"}},{"$f":"ROUND(H49*K49,2)","v":{"v":9903.96,"d":"$9,903.96"}},{"$f":"ROUND(K49/F49,2)","v":{"v":0.17,"d":"$0.17"}},{"v":21.73,"d":"$21.73"},{"v":0.1049,"d":"$0.1049"},54.55,{"$f":"ROUND(O49*P49,2)","v":{"v":5.72,"d":"$5.72"}},{"$f":"K49-Q49","v":{"v":21.73,"d":"$21.73"}},{"$f":"R49/F49","v":{"v":0.1358125,"d":"$0.14"}},{"$f":"N49/F49","v":{"v":0.1358125,"d":"$0.14"}}]
[null,"vegetable serving"]
[null,"Possible Allergens:  None Listed "]
[12,"French Fries, Spirals, Battered Red Sodium","McCain/Ore-Ida 1000004108",null,"6/4 lbs",183,0,{"$f":"ROUND(G52*F52/F52,2)","v":0},"Cs",{"v":23.98,"d":"$23.98"},{"$f":"IF(OR(ISBLANK(J52),G52=0,ISBLANK(G52)),,ROUND(J52+$K$3,2))","v":0},{"$f":"ROUND(H52*K52,2)","v":0},{"$f":"ROUND(K52/F52,2)","v":0},{"v":19.4,"d":"$19.40"},{"v":0.1049,"d":"$0.1049"},43.64,{"$f":"ROUND(O52*P52,2)","v":{"v":4.58,"d":"$4.58"}},{"$f":"K52-Q52","v":{"v":-4.58,"d":"-$4.58"}},{"$f":"R52/F52","v":{"v":-0.025027322404371586,"d":"$(0.03)"}},{"$f":"N52/F52","v":{"v":0.10601092896174863,"d":"$0.11"}}]
[null,"Frozen, USDA Grade A, 100-200 calories with no more thatn 1 g saturated fat and 200 mg sodium per 1/2 c  "]
[null,"vegetable serving"]
[null,"Possible Allergens:  None Listed "]
[13,"Potato Sticks, Seasoned, Reduced Sodium","McCain MCX04717",null,"6/5 Lb",160,0,{"$f":"ROUND(G56*F56/F56,2)","v":0},"Cs",{"v":28.15,"d":"$28.15"},{"$f":"IF(OR(ISBLANK(J56),G56=0,ISBLANK(G56)),,ROUND(J56+$K$3,2))","v":0},{"$f":"ROUND(H56*K56,2)","v":0},{"$f":"ROUND(K56/F56,2)","v":0},{"v":22.43,"d":"$22.43"},{"v":0.1049,"d":"$0.1049"},54.55,{"$f":"ROUND(O56*P56,2)","v":{"v":5.72,"d":"$5.72"}},{"$f":"K56-Q56","v":{"v":-5.72,"d":"-$5.72"}},{"$f":"R56/F56","v":{"v":-0.03575,"d":"$(0.04)"}},{"$f":"N56/F56","v":{"v":0.1401875,"d":"$0.14"}}]
[null,"Frozen, USDA Grade A, 100-200 calories with no more than 1 g saturated fat and 150 mg sodium per 1/2c "]
[null,"vegetable serving"]
[null,"Possible Allergens:  None Listed "]
[14,"Potato Wedge, 8-10 Cut, (Bake or Fry)","McCain/Ore-Ida OIF0024A",null,"6/5 Lb",160,70,{"$f":"ROUND(G60*F60/F60,2)","v":70},"Cs",{"$nulls":5},{"v":0.1049,"d":"$0.1049"},54.55,{"$f":"ROUND(O60*P60,2)","v":{"v":5.72,"d":"$5.72"}}," "," "," "]
[null,"Frozen, USDA Grade A, 50-150 calories with no more than 1 g saturated fat and 50 mg sodium per 1/2c ","Simplot 79238010",null,"6/5 Lb",160,null,{"$f":"ROUND(G60*F60/F61,2)","v":70},"Cs",{"v":19.17,"d":"$19.17"},{"$f":"IF(OR(ISBLANK(J61),G60=0,ISBLANK(G60)),,ROUND(J61+$K$3,2))","v":{"v":19.17,"d":"$19.17"}},{"$f":"ROUND(H61*K61,2)","v":{"v":1341.9,"d":"$1,341.90"}},{"$f":"ROUND(K61/F61,2)","v":{"v":0.12,"d":"$0.12"}},{"v":13.45,"d":"$13.45"},{"v":0.1049,"d":"$0.1049"},54.55,{"$f":"ROUND(O61*P61,2)","v":{"v":5.72,"d":"$5.72"}},{"$f":"K61-Q61","v":{"v":13.450000000000003,"d":"$13.45"}},{"$f":"R61/F61","v":{"v":0.08406250000000001,"d":"$0.08"}},{"$f":"N61/F61","v":{"v":0.0840625,"d":"$0.08"}}]
[null,"vegetable serving"]
[null,"Possible Allergens:  None Listed "]
[15,"Potato Waffle Cut","McCain/Ore-Ida MCL03623",null,"6/5 Lb",144,0,{"$f":"ROUND(G64*F64/F64,2)","v":0},"Cs",{"v":23.91,"d":"$23.91"},{"$f":"IF(OR(ISBLANK(J64),G64=0,ISBLANK(G64)),,ROUND(J64+$K$3,2))","v":0},{"$f":"ROUND(H64*K64,2)","v":0},{"$f":"ROUND(K64/F64,2)","v":0},{"v":18.76,"d":"$18.76"},{"v":0.1049,"d":"$0.1049"},49.09,{"$f":"ROUND(O64*P64,2)","v":{"v":5.15,"d":"$5.15"}},{"$f":"K64-Q64","v":{"v":-5.15,"d":"-$5.15"}},{"$f":"R64/F64","v":{"v":-0.035763888888888894,"d":"$(0.04)"}},{"$f":"N64/F64","v":{"v":0.1302777777777778,"d":"$0.13"}}]
[null,"Frozen, USDA Grade A, 100-200 calories with no more than 2 g saturated fat and 600 mg sodium per 1/2c "]
[null,"vegetable serving"]
[null,"Possible Allergens:  None Listed "]
[16,"Hash Brown Rounds ","McCain 1000006188",null,"6/5 Lb",160,15,{"$f":"ROUND(G68*F68/F68,2)","v":15},"Cs",{"v":29.2,"d":"$29.20"},{"$f":"IF(OR(ISBLANK(J68),G68=0,ISBLANK(G68)),,ROUND(J68+$K$3,2))","v":{"v":29.2,"d":"$29.20"}},{"$f":"ROUND(H68*K68,2)","v":{"v":438,"d":"$438.00"}},{"$f":"ROUND(K68/F68,2)","v":{"v":0.18,"d":"$0.18"}},{"v":23.48,"d":"$23.48"},{"v":0.1049,"d":"$0.1049"},54.55,{"$f":"ROUND(O68*P68,2)","v":{"v":5.72,"d":"$5.72"}},{"$f":"K68-Q68","v":{"v":23.48,"d":"$23.48"}},{"$f":"R68/F68","v":{"v":0.14675,"d":"$0.15"}},{"$f":"N68/F68","v":{"v":0.14675,"d":"$0.15"}}]
[null,"Frozen, USDA Grade A, 50-150 calories with no more than 1 g saturated fat and 250 mg sodium per 1/2c "]
[null,"vegetable serving"]
[null,"Possible Allergens:  None Listed "]
[null,"Category:  Sweet Potatoes",{"$nulls":12},"Commodity","100980"]
[17,"Potato, Sweet Potato Fries  3/8\" Straight Cut","Lamb Weston L8000",null,"5/3 Lb",80,85,{"$f":"ROUND(G73*F73/F73,2)","v":85},"Cs",{"v":20.78,"d":"$20.78"},{"$f":"IF(OR(ISBLANK(J73),G73=0,ISBLANK(G73)),,ROUND(J73+$K$3,2))","v":{"v":20.78,"d":"$20.78"}},{"$f":"ROUND(H73*K73,2)","v":{"v":1766.3,"d":"$1,766.30"}},{"$f":"ROUND(K73/F73,2)","v":{"v":0.26,"d":"$0.26"}},null,{"v":0.2231,"d":"$0.2231"},29.41,{"$f":"ROUND(O73*P73,2)","v":{"v":6.56,"d":"$6.56"}},null,{"$f":"K73-Q73","v":{"v":14.220000000000002,"d":"$14.22"}},{"$f":"S73/F73","v":{"v":0.17775000000000002,"d":"$0.18"}}]
[null,"Frozen. Made from Grade A Sweet Potatoes, Extra Long or Long Fancy. No tropical oils, 0 Trans Fat."]
[null,"80-200 Calories, no more than 1g Sat Fat; no more than 250mg Sodium per 1/2c serving, R/O Veg."]
[null,"Possible Allergens:  None Listed "]
[18,"Potato, Sweet Potato, Waffle cut ","Lamb Weston L0090",null,"5/3 Lb",80,0,{"$f":"ROUND(G77*F77/F77,2)","v":0},"Cs",{"v":21.53,"d":"$21.53"},{"$f":"IF(OR(ISBLANK(J77),G77=0,ISBLANK(G77)),,ROUND(J77+$K$3,2))","v":0},{"$f":"ROUND(H77*K77,2)","v":0},{"$f":"ROUND(K77/F77,2)","v":0},{"v":15.76,"d":"$15.76"},{"v":0.1963,"d":"$0.1963"},29.41,{"$f":"ROUND(O77*P77,2)","v":{"v":5.77,"d":"$5.77"}},{"$f":"K77-Q77","v":{"v":-5.77,"d":"-$5.77"}},{"$f":"R77/F77","v":{"v":-0.072125,"d":"$(0.07)"}},{"$f":"N77/F77","v":{"v":0.197,"d":"$0.20"}}]
[null,"Frozen. Made from Grade A Sweet Potatoes, Fancy. No tropical oils, 0 Trans Fat.","McCain MCF05074",null,"6/2.5 lbs",80,null,{"$f":"ROUND(G77*F77/F78,2)","v":0},"Cs",{"$nulls":5},{"v":0.1963,"d":"$0.1963"},29.41,{"$f":"ROUND(O78*P78,2)","v":{"v":5.77,"d":"$5.77"}}," "," "," "]
[null,"50-200 Calories, no more than 1g Sat Fat; no more than 250mg Sodium per 1/2c serving, R/O Veg."]
[null,"Possible Allergens:  None Listed "]
[19,"Potato, Sweet Potato Fries, 3/8\" Crinkle Cut","Lamb Weston L0084",null,"5/3 Lb",80,30,{"$f":"ROUND(G81*F81/F81,2)","v":30},"Cs",{"$nulls":5},{"v":0.1963,"d":"$0.1963"},29.41,{"$f":"ROUND(O81*P81,2)","v":{"v":5.77,"d":"$5.77"}}," "," "," "]
[null,"Frozen. Made from Grade A Sweet Potatoes, Extra Long or Long Fancy. No tropical oils, 0 Trans Fat.","Simplot 79020356",null,"6/2.5 Lb",80,null,{"$f":"ROUND($G$81*$F$81/F82,2)","v":30},"Cs",{"v":20.53,"d":"$20.53"},{"$f":"IF(OR(ISBLANK(J82),G81=0,ISBLANK(G81)),,ROUND(J82+$K$3,2))","v":{"v":20.53,"d":"$20.53"}},{"$f":"ROUND(H82*K82,2)","v":{"v":615.9,"d":"$615.90"}},{"$f":"ROUND(K82/F82,2)","v":{"v":0.26,"d":"$0.26"}},{"v":14.76,"d":"$14.76"},{"v":0.1963,"d":"$0.1963"},29.41,{"$f":"ROUND(O82*P82,2)","v":{"v":5.77,"d":"$5.77"}},{"$f":"K82-Q82","v":{"v":14.760000000000002,"d":"$14.76"}},{"$f":"R82/F82","v":{"v":0.18450000000000003,"d":"$0.18"}},{"$f":"N82/F82","v":{"v":0.1845,"d":"$0.18"}}]
[null,"100-200 Calories, no more than 1g Sat Fat; no more than 230mg Sodium per 1/2c serving, R/O Veg."]
[null,"Possible Allergens:  None Listed "]
[20,"Sweet Potato Mini Puffs","Lamb Weston L0094",null,"6/2.5 lbs",80,40,{"$f":"ROUND(G85*F85/F85,2)","v":40},"Cs",{"v":21.9,"d":"$21.90"},{"$f":"IF(OR(ISBLANK(J85),G85=0,ISBLANK(G85)),,ROUND(J85+$K$3,2))","v":{"v":21.9,"d":"$21.90"}},{"$f":"ROUND(H85*K85,2)","v":{"v":876,"d":"$876.00"}},{"$f":"ROUND(K85/F85,2)","v":{"v":0.27,"d":"$0.27"}},{"v":16.13,"d":"$16.13"},{"v":0.1963,"d":"$0.1963"},29.41,{"$f":"ROUND(O85*P85,2)","v":{"v":5.77,"d":"$5.77"}},{"$f":"K85-Q85","v":{"v":16.13,"d":"$16.13"}},{"$f":"R85/F85","v":{"v":0.201625,"d":"$0.20"}},{"$f":"N85/F85","v":{"v":0.201625,"d":"$0.20"}}]
[null,"Frozen. Grade A , 100-200 calories with no more than 1 g saturated fat and 250 mg sodium per 1/2 cu R/O"," "," "," "," ",null," "," "," "," "," "," ",null," "," "," ",null," "," "]
[null,"vegetable serving"]
[null,"Possible Allergens:  None Listed "]
[21,"Sweet Potato Wedge, 10 cut","McCain MCF04712",null,"6/2.5 lbs",80,188,{"$f":"ROUND(G89*F89/F89,2)","v":188},"Cs",{"v":20.5,"d":"$20.50"},{"$f":"IF(OR(ISBLANK(J89),G89=0,ISBLANK(G89)),,ROUND(J89+$K$3,2))","v":{"v":20.5,"d":"$20.50"}},{"$f":"ROUND(H89*K89,2)","v":{"v":3854,"d":"$3,854.00"}},{"$f":"ROUND(K89/F89,2)","v":{"v":0.26,"d":"$0.26"}},{"v":14.73,"d":"$14.73"},{"v":0.1963,"d":"$0.1963"},29.41,{"$f":"ROUND(O89*P89,2)","v":{"v":5.77,"d":"$5.77"}},{"$f":"K89-Q89","v":{"v":14.73,"d":"$14.73"}},{"$f":"R89/F89","v":{"v":0.184125,"d":"$0.18"}},{"$f":"N89/F89","v":{"v":0.184125,"d":"$0.18"}}]
[null,"Frozen. Grade A , 100-200 calories with no more than 1 g saturated fat and 250 mg sodium per 1/2 cu R/O"," ",null," "," ",null," "," "," "," "," "," ",null," "," "," ",null," "," "]
[null,"vegetable serving"]
[null,"Possible Allergens:  None Listed "]
[]
[{"$nulls":8},"Page Total",null,null,{"$f":"SUMIF(L6:L92,\">0\")","v":{"v":26082.08,"d":"$26,082.08"}}]

{"sheet":"Sheet58","index":322,"n_rows":0,"n_cols":0,"rows_kept":0}

{"sheet":"Sheet59","index":323,"n_rows":0,"n_cols":0,"rows_kept":0}

{"sheet":"Sheet60","index":324,"n_rows":0,"n_cols":0,"rows_kept":0}

{"sheet":"Sheet61","index":325,"n_rows":0,"n_cols":0,"rows_kept":0}

{"sheet":"Sheet62","index":326,"n_rows":0,"n_cols":0,"rows_kept":0}

{"sheet":"Sheet63","index":327,"n_rows":0,"n_cols":0,"rows_kept":0}

{"sheet":"Sheet64","index":328,"n_rows":0,"n_cols":0,"rows_kept":0}

{"sheet":"Sheet65","index":329,"n_rows":0,"n_cols":0,"rows_kept":0}

{"sheet":"Sheet66","index":330,"n_rows":0,"n_cols":0,"rows_kept":0}

{"sheet":"Sheet67","index":331,"n_rows":0,"n_cols":0,"rows_kept":0}

{"sheet":"Sheet68","index":332,"n_rows":0,"n_cols":0,"rows_kept":0}

{"sheet":"Sheet69","index":333,"n_rows":0,"n_cols":0,"rows_kept":0}

{"sheet":"Sheet70","index":334,"n_rows":0,"n_cols":0,"rows_kept":0}

{"sheet":"Sheet71","index":335,"n_rows":0,"n_cols":0,"rows_kept":0}

{"sheet":"Sheet72","index":336,"n_rows":0,"n_cols":0,"rows_kept":0}

{"sheet":"Sheet73","index":337,"n_rows":0,"n_cols":0,"rows_kept":0}

{"sheet":"Sheet74","index":338,"n_rows":0,"n_cols":0,"rows_kept":0}

{"sheet":"Sheet75","index":339,"n_rows":0,"n_cols":0,"rows_kept":0}

{"sheet":"Sheet76","index":340,"n_rows":0,"n_cols":0,"rows_kept":0}

{"sheet":"Sheet77","index":341,"n_rows":0,"n_cols":0,"rows_kept":0}

{"sheet":"Sheet78","index":342,"n_rows":0,"n_cols":0,"rows_kept":0}

{"sheet":"Sheet79","index":343,"n_rows":0,"n_cols":0,"rows_kept":0}

{"sheet":"Sheet80","index":344,"n_rows":0,"n_cols":0,"rows_kept":0}

{"sheet":"Sheet81","index":345,"n_rows":0,"n_cols":0,"rows_kept":0}

{"sheet":"Sheet82","index":346,"n_rows":0,"n_cols":0,"rows_kept":0}

{"sheet":"Sheet83","index":347,"n_rows":0,"n_cols":0,"rows_kept":0}

{"sheet":"Sheet84","index":348,"n_rows":0,"n_cols":0,"rows_kept":0}

{"sheet":"Sheet85","index":349,"n_rows":0,"n_cols":0,"rows_kept":0}

{"sheet":"Sheet86","index":350,"n_rows":0,"n_cols":0,"rows_kept":0}

{"sheet":"Sheet87","index":351,"n_rows":0,"n_cols":0,"rows_kept":0}

{"sheet":"Sheet88","index":352,"n_rows":0,"n_cols":0,"rows_kept":0}

{"sheet":"Sheet89","index":353,"n_rows":0,"n_cols":0,"rows_kept":0}

{"sheet":"Sheet90","index":354,"n_rows":0,"n_cols":0,"rows_kept":0}

{"sheet":"Sheet91","index":355,"n_rows":0,"n_cols":0,"rows_kept":0}

{"sheet":"Sheet92","index":356,"n_rows":0,"n_cols":0,"rows_kept":0}

{"sheet":"Sheet93","index":357,"n_rows":0,"n_cols":0,"rows_kept":0}

{"sheet":"Sheet94","index":358,"n_rows":0,"n_cols":0,"rows_kept":0}

{"sheet":"Sheet95","index":359,"n_rows":0,"n_cols":0,"rows_kept":0}

{"sheet":"Sheet96","index":360,"n_rows":0,"n_cols":0,"rows_kept":0}

{"sheet":"Sheet97","index":361,"n_rows":0,"n_cols":0,"rows_kept":0}

{"sheet":"Sheet98","index":362,"n_rows":0,"n_cols":0,"rows_kept":0}

{"sheet":"Sheet99","index":363,"n_rows":0,"n_cols":0,"rows_kept":0}

{"sheet":"Sheet100","index":364,"n_rows":0,"n_cols":0,"rows_kept":0}

{"sheet":"Sheet101","index":365,"n_rows":0,"n_cols":0,"rows_kept":0}

{"sheet":"Sheet102","index":366,"n_rows":0,"n_cols":0,"rows_kept":0}

{"sheet":"Sheet103","index":367,"n_rows":0,"n_cols":0,"rows_kept":0}

{"sheet":"Sheet104","index":368,"n_rows":0,"n_cols":0,"rows_kept":0}

{"sheet":"Sheet105","index":369,"n_rows":0,"n_cols":0,"rows_kept":0}

{"sheet":"Sheet106","index":370,"n_rows":0,"n_cols":0,"rows_kept":0}

{"sheet":"Sheet107","index":371,"n_rows":0,"n_cols":0,"rows_kept":0}

{"sheet":"Sheet108","index":372,"n_rows":0,"n_cols":0,"rows_kept":0}

{"sheet":"Sheet9","index":373,"n_rows":0,"n_cols":0,"rows_kept":0}

{"sheet":"Sheet10","index":374,"n_rows":0,"n_cols":0,"rows_kept":0}

{"sheet":"Sheet11","index":375,"n_rows":0,"n_cols":0,"rows_kept":0}

{"sheet":"Sheet12","index":376,"n_rows":0,"n_cols":0,"rows_kept":0}

{"sheet":"Sheet7","index":377,"n_rows":0,"n_cols":0,"rows_kept":0}

{"sheet":"Sheet8","index":378,"n_rows":0,"n_cols":0,"rows_kept":0}

{"sheet":"Sheet2","index":379,"n_rows":0,"n_cols":0,"rows_kept":0}

{"sheet":"Sheet3","index":380,"n_rows":0,"n_cols":0,"rows_kept":0}

{"sheet":"Sheet4","index":381,"n_rows":0,"n_cols":0,"rows_kept":0}

{"sheet":"Sheet5","index":382,"n_rows":0,"n_cols":0,"rows_kept":0}

{"sheet":"Sheet6","index":383,"n_rows":0,"n_cols":0,"rows_kept":0}

{"sheet":"Frozen Fruit & Juice","index":384,"n_rows":112,"n_cols":13,"rows_kept":112,"merged":[[0,4,0,12],[1,5,1,9]]}
[null,{"$f":"'Recap Sheet'!B2","v":"WILLIAMSBURG COUNTY SCHOOLS"},"Return to Recap Sheet",null,{"$f":"'Recap Sheet'!B3","v":0}]
["Item","Description","Approved Brand Name / Manuf ID # ",null,null,"Firm Fixed Fee",{"$nulls":4},{"$f":"'Recap Sheet'!B4","v":{"v":0,"d":"$0.00"}}]
["#",null,null,"Distributor","Vendor","Svgs","Est.","Bid ","Bid","Unit","Unit Price","Total ","Cost per"]
[{"$nulls":3},"Code","Pack","per unit","Bid Qty","Qty","Unit","Price","plus Fee","Price","Unit"]
[null,"Frozen Fruit and Juice"]
[1,"Juice, Apple, Cartons, 4 oz","Ardmore Farms 42298     ",null,"70/4.0z",70,720,{"$f":"ROUND($G$6*$F$6/F6,2)","v":720},"Cs"]
[null,"100% Apple Juice,  Unsweetened.  Deliver frozen only","Sun Cup 030301",null,"70/4.0z",70,null,{"$f":"ROUND($G$6*$F$6/F7,2)","v":720},"Cs",{"v":6.21,"d":"$6.21"},{"$f":"IF(OR(ISBLANK(J7),G6=0,ISBLANK(G6)),,ROUND(J7+$K$2,2))","v":{"v":6.21,"d":"$6.21"}},{"$f":"ROUND(H7*K7,2)","v":{"v":4471.2,"d":"$4,471.20"}},{"$f":"ROUND(K7/F7,2)","v":{"v":0.09,"d":"$0.09"}}]
[null,"1 serving = 1/2 cup fruit","Mr. J. 2840",null,"70/4.0z",70,null,{"$f":"ROUND($G$6*$F$6/F8,2)","v":720},"Cs"]
[2,"Juice, Apple, Cartons, 6 oz"," Ardmore Farms 42212  ",null,"70/6.0z",70,170,{"$f":"ROUND(G9*F9/F9,2)","v":170},"Cs"]
[null,"100% Apple Juice, unsweetened, deliver frozen only"," Sun Cup 50301",null,"70/6.0z",70,null,{"$f":"ROUND($G$9*$F$9/F10,2)","v":170},"Cs",{"v":7.91,"d":"$7.91"},{"$f":"IF(OR(ISBLANK(J10),G9=0,ISBLANK(G9)),,ROUND(J10+$K$2,2))","v":{"v":7.91,"d":"$7.91"}},{"$f":"ROUND(K10*H10,2)","v":{"v":1344.7,"d":"$1,344.70"}},{"v":0.11,"d":"$0.11"}]
[null,null," Mr. J  2850",null,"70/6.0z",70,null,{"$f":"ROUND($G$9*$F$9/F11,2)","v":170},"Cs",null," "," "," "]
[3,"Juice, Apple-Cherry, Carton, 4oz"," Suncup 03200",null,"70/4.0z",70,405,{"$f":"ROUND(G12*F12/F12,2)","v":405},"Cs",{"v":6.27,"d":"$6.27"},{"$f":"IF(OR(ISBLANK(J12),G12=0,ISBLANK(G12)),,ROUND(J12+$K$2,2))","v":{"v":6.27,"d":"$6.27"}},{"$f":"ROUND(H12*K12,2)","v":{"v":2539.35,"d":"$2,539.35"}},{"v":0.09,"d":"$0.09"}]
[null,"100% Apple Cherry Juice, Frozen, Meets 1/2 c Fruit","Ardmore Farms 42292",null,"70/4.0z",70,null,{"$f":"ROUND(G12*F12/F13,2)","v":405},"Cs"]
[4,"Juice, Fruit Blend, Carton, 4 oz","Ardmore Farms 42304  ",null,"70/4.0z",70,470,{"$f":"ROUND(G14*F14/F14,2)","v":470},"Cs"]
[null,null,"Sun Cup 030800",null,"70/4.0z ",70,null,{"$f":"ROUND($G$14*$F$14/F15,2)","v":470},"Cs",{"v":6.4,"d":"$6.40"},{"$f":"IF(OR(ISBLANK(J15),G14=0,ISBLANK(G14)),,ROUND(J15+$K$2,2))","v":{"v":6.4,"d":"$6.40"}},{"$f":"ROUND(K15*H15,2)","v":{"v":3008,"d":"$3,008.00"}},{"$f":"ROUND(K15/F15,2)","v":{"v":0.09,"d":"$0.09"}}]
[null,null,"Mr. J. 2340",null,"70/4.0z",70,null,{"$f":"ROUND($G$14*$F$14/F16,2)","v":470},"Cs"]
[5,"Juice, Fruit Blend, Cartons, 6 oz"," Ardmore Farms 42215  ",null,"70/6.0z",70,0,{"$f":"ROUND(G17*F17/F17,2)","v":0},"Cs"]
[null,"100% Blend Fruit Juice, Frozen, unsweetened","Sun Cup 50800",null,"70/6.0z",70,null,{"$f":"ROUND($G$17*$F$17/F18,2)","v":0},"Cs",{"v":8.24,"d":"$8.24"},{"$f":"IF(OR(ISBLANK(J18),G17=0,ISBLANK(G17)),,ROUND(J18+$K$2,2))","v":0},{"$f":"ROUND(K18*H18,2)","v":0},0]
[null,null,"Mr. J 2350",null,"70/6.0z",70,null,{"$f":"ROUND($G$17*$F$17/F19,2)","v":0},"Cs"]
[6,"Juice, Grape, Cartons, 4 oz","Ardmore Farms 42301   ",null,"70/4.0z",70,490,{"$f":"ROUND($G$20*$F$20/F20,2)","v":490},"Cs"]
[null,"100% Grape Juice, frozen","Sun Cup 030501",null,"70/4.0z",70,null,{"$f":"ROUND($G$20*$F$20/F21,2)","v":490},"Cs",{"v":8.12,"d":"$8.12"},{"$f":"IF(OR(ISBLANK(J21),G20=0,ISBLANK(G20)),,ROUND(J21+$K$2,2))","v":{"v":8.12,"d":"$8.12"}},{"$f":"ROUND(H21*K21,2)","v":{"v":3978.8,"d":"$3,978.80"}},{"v":0.12,"d":"$0.12"}]
[null,null,"Mr. J. 2640",null,"70/4.0z",70,null,{"$f":"ROUND($G$20*$F$20/F22,2)","v":490},"Cs"]
[7,"Juice, Grape, Cartons, 6 oz"," Ardmore Farms 42213 ",null,"70/6.0z",70,100,{"$f":"ROUND(G23*F23/F23,2)","v":100},"Cs"]
[null,"100% Grape Juice, frozen"," Sun Cup 50501",null,"70/6.0z",70,null,{"$f":"ROUND($G$23*$F$23/F24,2)","v":100},"Cs",{"v":11.47,"d":"$11.47"},{"$f":"IF(OR(ISBLANK(J24),G23=0,ISBLANK(G23)),,ROUND(J24+$K$2,2))","v":{"v":11.47,"d":"$11.47"}},{"$f":"ROUND(K24*H24,2)","v":{"v":1147,"d":"$1,147.00"}},{"v":0.16,"d":"$0.16"}]
[null,null,"Mr. J 2650",null,"70/6.0z",70,null,{"$f":"ROUND($G$23*$F$23/F25,2)","v":100},"Cs"]
[8,"Juice, Orange, Cartons, 4 oz","Ardmore Farms 42297  ",null,"70/4.0z",70,520,{"$f":"ROUND($G$26*$F$26/F26,2)","v":520},"Cs"]
[null,"US Grade A, 100% Orange Juice, unsweetened, frozen","Sun Cup 030100 ",null,"70/4.0z",70,null,{"$f":"ROUND($G$26*$F$26/F27,2)","v":520},"Cs",{"v":7.98,"d":"$7.98"},{"$f":"IF(OR(ISBLANK(J27),G26=0,ISBLANK(G26)),,ROUND(J27+$K$2,2))","v":{"v":7.98,"d":"$7.98"}},{"$f":"ROUND(H27*K27,2)","v":{"v":4149.6,"d":"$4,149.60"}},{"v":0.11,"d":"$0.11"}]
[null,null,"Mr. J. 2070",null,"70/4.0z",70,null,{"$f":"ROUND($G$26*$F$26/F28,2)","v":520},"Cs"]
[9,"Juice, Orange, Cartons, 6 oz"," Ardmore Farms 42210 ",null,"70/6.0z",70,105,{"$f":"ROUND(G29*F29/F29,2)","v":105},"Cs"]
[null,"US Grade A Orange Juice, unsweetened frozen","Sun Cup 50100",null,"70/6.0z",70,null,{"$f":"ROUND($G$29*$F$29/F30,2)","v":105},"Cs",{"v":10.41,"d":"$10.41"},{"$f":"IF(OR(ISBLANK(J30),G29=0,ISBLANK(G29)),,ROUND(J30+$K$2,2))","v":{"v":10.41,"d":"$10.41"}},{"$f":"ROUND(K30*H30,2)","v":{"v":1093.05,"d":"$1,093.05"}},{"v":0.15,"d":"$0.15"}]
[null,null,"Mr. J. 2080",null,"70/6.0z",70,null,{"$f":"ROUND($G$29*$F$29/F31,2)","v":105},"Cs"]
[10,"Juice, Orange-Pineapple, Cartons, 4 oz","Ardmore Farms 42300  ",null,"70/4.0z",70,395,{"$f":"ROUND($G$32*$F$32/F32,2)","v":395},"Cs"]
[null,"Blend of Orange and Pineapple, unsweetened, Frozen","Sun Cup 031200 ",null,"70/4.0z",70,null,{"$f":"ROUND($G$32*$F$32/F33,2)","v":395},"Cs",{"v":7.32,"d":"$7.32"},{"$f":"IF(OR(ISBLANK(J33),G32=0,ISBLANK(G32)),,ROUND(J33+$K$2,2))","v":{"v":7.32,"d":"$7.32"}},{"$f":"ROUND(H33*K33,2)","v":{"v":2891.4,"d":"$2,891.40"}},{"v":0.1,"d":"$0.10"}]
[null,null,"Mr. J. 2440",null,"70/4.0z",70,null,{"$f":"ROUND($G$32*$F$32/F34,2)","v":395},"Cs"]
[11,"Juice, Apple, Cartons, 4 oz, Calcium Fortified","Ardmore Farms 42289  ",null,"70/4.0z ",70,200,{"$f":"ROUND($G$35*$F$35/F35,2)","v":200},"Cs"]
[null,"100% Apple Juice with Calcium,  Unsweetened.","Sun Cup 030305",null,"70/4.0z",70,null,{"$f":"ROUND($G$35*$F$35/F36,2)","v":200},"Cs",{"v":6.43,"d":"$6.43"},{"$f":"IF(OR(ISBLANK(J36),G35=0,ISBLANK(G35)),,ROUND(J36+$K$2,2))","v":{"v":6.43,"d":"$6.43"}},{"v":1286,"d":"$1,286.00"},{"v":0.09,"d":"$0.09"}]
[null,"Deliver frozen only  ","Mr. J 2842",null,"70/4.0z",70,null,200,"Cs"]
[12,"Juice, Fruit Blend, Cartons, 4 oz, Ca Fortified"," Ardmore Farms 42291  ",null,"70/4.0z ",70,0,{"$f":"ROUND($G$38*$F$38/F38,2)","v":0},"Cs"]
[null,"100% Fruit Punch with Calcium,  Deliver  frozen only","Sun Cup 030805",null,"70/4.0z",70,null,{"$f":"ROUND($G$38*$F$38/F39,2)","v":0},"Cs",{"v":6.62,"d":"$6.62"},{"$f":"IF(OR(ISBLANK(J39),G38=0,ISBLANK(G38)),,ROUND(J39+$K$2,2))","v":0},{"$f":"ROUND(H39*K39,2)","v":0},{"$f":"ROUND(K39/F39,2)","v":0}]
[null," ","Mr. J 2342",null,"70/4.0z",70,null,{"$f":"ROUND($G$38*$F$38/F40,2)","v":0},"Cs"]
[13,"Juice, Grape, Cartons, 4 oz, Calcium Fortified"," Ardmore Farms 42290     ",null,"70/4.0z ",70,0,{"$f":"ROUND($G$41*$F$41/F41,2)","v":0},"Cs"]
[null,"100% Grape Juice with Calcium,   Deliver frozen  only","Sun Cup 030505",null,"70/4.0z",70,null,{"$f":"ROUND($G$41*$F$41/F42,2)","v":0},"Cs",{"v":8.34,"d":"$8.34"},{"$f":"IF(OR(ISBLANK(J42),G41=0,ISBLANK(G41)),,ROUND(J42+$K$2,2))","v":0},{"$f":"ROUND(H42*K42,2)","v":0},{"$f":"ROUND(K42/F42,2)","v":0}]
[null," ","Mr. J 2642",null,"70/4.0z",70,null,{"$f":"ROUND($G$41*$F$41/F43,2)","v":0},"Cs"]
[14,"Juice, Orange, Cartons, Ca Fortified, 4 oz"," Ardmore Farms 42294     ",null,"70/4.0z",70,105,{"$f":"ROUND($G$44*$F$44/F44,2)","v":105},"Cs"]
[null,"US Grade A, 100% Orange Juice,  Calcium Fortified, Frozen","Mr. J 2162",null,"70/4.0z",70,null,{"$f":"ROUND($G$44*$F$44/F45,2)","v":105},"Cs"]
[null,null,"Sun Cup 030105",null,"70/4.0z",70,null,105,"Cs",{"v":8.2,"d":"$8.20"},{"$f":"IF(OR(ISBLANK(J46),G44=0,ISBLANK(G44)),,ROUND(J46+$K$2,2))","v":{"v":8.2,"d":"$8.20"}},{"v":861,"d":"$861.00"},{"v":0.12,"d":"$0.12"}]
[]
[15,"Juice, Apple,  Cup Pack, 4 oz","Ardmore Farms 41381",null,"96/4.0z",96,125,{"$f":"ROUND($G$48*$F$48/F48,2)","v":125},"Cs"]
[null,"100% Apple Juice, unsweetened, deliver frozen only","Sun Cup 090301",null,"72/4.0z",72,null,{"$f":"ROUND($G$48*$F$48/F49,2)","v":{"v":166.67,"d":"167"}},"Cs",{"v":6.4,"d":"$6.40"},{"$f":"IF(OR(ISBLANK(J49),G48=0,ISBLANK(G48)),,ROUND(J49+$K$2,2))","v":{"v":6.4,"d":"$6.40"}},{"v":1066.69,"d":"$1,066.69"},{"v":0.09,"d":"$0.09"}]
[null,null,"Mr. J 7897",null,"96/4.0z",96,null,125,"Cs"]
[16,"Juice, Apple, Cup Pack, 6 oz","Ardmore Farms 41403",null,"48/6.0z",48,25,{"$f":"ROUND($G$51*$F$51/F51,2)","v":25},"Cs"]
[null,"100% Apple Juice, Frozen, unsweetened","Sun Cup 40301",null,"48/6.0z",48,null,{"$f":"ROUND($G$51*$F$51/F52,2)","v":25},"Cs",{"v":6.42,"d":"$6.42"},{"$f":"IF(OR(ISBLANK(J52),G51=0,ISBLANK(G51)),,ROUND(J52+$K$2,2))","v":{"v":6.42,"d":"$6.42"}},{"v":160.5,"d":"$160.50"},{"v":0.13,"d":"$0.13"}]
[null,null,"Mr. J 2855",null,"48/6.0z",48,null,25,"Cs"]
[17,"Juice, Fruit Blend, Cup Pack, 4 oz","Ardmore Farms 41391",null,"96/4.0z",96,5,{"$f":"ROUND($G$54*$F$54/F54,2)","v":5},"Cs"]
[null,"100% Blend Fruit Juice, Frozen, unsweetened","Sun Cup 090800",null,"72/4.0z",72,null,{"$f":"ROUND($G$54*$F$54/F55,2)","v":{"v":6.67,"d":"7"}},"Cs",{"v":6.6,"d":"$6.60"},{"$f":"IF(OR(ISBLANK(J55),G54=0,ISBLANK(G54)),,ROUND(J55+$K$2,2))","v":{"v":6.6,"d":"$6.60"}},{"v":44.02,"d":"$44.02"},{"v":0.09,"d":"$0.09"}]
[null,null,"Mr. J. 7398",null,"96/4.0z",96,null,5,"Cs"]
[18,"Juice, Fruit Blend, Cup Pack, 6 oz"," Ardmore Farms 41413",null,"48/6.0z",48,90,{"$f":"ROUND($G$57*$F$57/F57,2)","v":90},"Cs"]
[null,"100% Blend fruit juices, Frozen, unsweetened"," Sun Cup 040800",null,"48/6.0z",48,null,{"$f":"ROUND($G$57*$F$57/F58,2)","v":90},"Cs",{"v":6.65,"d":"$6.65"},{"$f":"IF(OR(ISBLANK(J58),G57=0,ISBLANK(G57)),,ROUND(J58+$K$2,2))","v":{"v":6.65,"d":"$6.65"}},{"$f":"ROUND(K58*H58,2)","v":{"v":598.5,"d":"$598.50"}},{"$f":"ROUND(K58/F58,2)","v":{"v":0.14,"d":"$0.14"}}]
[null,null," Mr. J  2355",null,"48/6.0z",48,null,90,"Cs"]
[19,"Juice, Grape, Cup Pack, 4 oz","Ardmore Farms 41382",null,"96/4.0z",96,null,{"$f":"ROUND($G$60*$F$60/F60,2)","v":0},"Cs"]
[null,"100% Grape Juice, frozen","Sun Cup 090501",null,"72/4.0z",72,null,{"$f":"ROUND($G$60*$F$60/F61,2)","v":0},"Cs",{"v":8.37,"d":"$8.37"},{"$f":"IF(OR(ISBLANK(J61),G60=0,ISBLANK(G60)),,ROUND(J61+$K$2,2))","v":0},{"$f":"ROUND(H61*K61,2)","v":0},0]
[null,null,"Mr. J. 7698",null,"96/4.0z",96,null,0,"Cs"]
[]
[20,"Juice, Grape, Cup Pack, 6 oz","Ardmore Farms 41406",null,"48/6.0z",48,35,{"$f":"ROUND($G$64*$F$64/F64,2)","v":35},"Cs"]
[null,"100% Grape Juice, frozen, unsweetened","Sun Cup 40501",null,"48/6.0z",48,null,{"$f":"ROUND($G$64*$F$64/F65,2)","v":35},"Cs",{"v":8.89,"d":"$8.89"},{"$f":"IF(OR(ISBLANK(J65),G64=0,ISBLANK(G64)),,ROUND(J65+$K$2,2))","v":{"v":8.89,"d":"$8.89"}},{"$f":"ROUND(H65*K65,2)","v":{"v":311.15,"d":"$311.15"}},{"$f":"ROUND(K65/F65,2)","v":{"v":0.19,"d":"$0.19"}}]
[null,null,"Mr. J 2655",null,"48/6.0z",48,null,35,"Cs"]
[21,"Juice, Orange, Cup Pack, 4 oz","Ardmore Farms 41380",null,"96/4.0z",96,null,{"$f":"ROUND($G$67*$F$67/F67,2)","v":0},"Cs"]
[null,"US Grade A 100% Orange Juice, unsweetened, Frozen","Sun Cup 090100",null,"72/4.0z",72,null,{"$f":"ROUND($G$67*$F$67/F68,2)","v":0},"Cs",{"v":8.19,"d":"$8.19"},{"$f":"IF(OR(ISBLANK(J68),G67=0,ISBLANK(G67)),,ROUND(J68+$K$2,2))","v":0},0,0]
[null,null,"Mr. J. 7098",null,"96/4.0z",96,null,0,"Cs"]
[22,"Juice, Orange, Cup Pack, 6 oz","Ardmore Farms 41400",null,"48/6.0z",48,35,{"$f":"ROUND($G$70*$F$70/F70,2)","v":35},"Cs"]
[null,"US Grade A 100% Orange Juice, unsweetened, Frozen","Sun Cup 040100",null,"48/6.0z",48,null,{"$f":"ROUND($G$70*$F$70/F71,2)","v":35},"Cs",{"v":8.19,"d":"$8.19"},{"$f":"IF(OR(ISBLANK(J71),G70=0,ISBLANK(G70)),,ROUND(J71+$K$2,2))","v":{"v":8.19,"d":"$8.19"}},{"$f":"ROUND(H71*K71,2)","v":{"v":286.65,"d":"$286.65"}},{"$f":"ROUND(K71/F71,2)","v":{"v":0.17,"d":"$0.17"}}]
[null,null,"Mr. J. ",null,"48/6.0z",48,null,{"$f":"ROUND($G$70*$F$70/F72,2)","v":35},"Cs"]
[23,"Juice, Orange-Pineapple, Cup, 4 oz","Ardmore Farms 41389",null,"96/4.0z",96,40,{"$f":"ROUND($G$73*$F$73/F73,2)","v":40},"Cs"]
[null,"100% Orange Juice and Pineapple Blend, unsweetened,","Sun Cup 091200",null,"72/4.0z",72,null,{"$f":"ROUND($G$73*$F$73/F74,2)","v":{"v":53.33,"d":"53"}},"Cs",{"v":7.54,"d":"$7.54"},{"$f":"IF(OR(ISBLANK(J74),G73=0,ISBLANK(G73)),,ROUND(J74+$K$2,2))","v":{"v":7.54,"d":"$7.54"}},{"v":402.11,"d":"$402.11"},{"v":0.1,"d":"$0.10"}]
[null,"Frozen","Mr. J. 7498",null,"96/4.0z",96,null,40,"Cs"]
[24,"Juice, Orange-Pineapple, Cup, 6 oz","Suncup 041200",null,"48/6.0z",48,0,{"$f":"ROUND($G$76*$F$76/F76,2)","v":0},"Cs",{"v":7.68,"d":"$7.68"},{"$f":"IF(OR(ISBLANK(J76),G76=0,ISBLANK(G76)),,ROUND(J76+$K$2,2))","v":0},0,0]
[null,"100% Orange Juice and Pineapple Blend, unsweetened,","Mr. J",null,"48/6.0z",48," ",{"$f":"ROUND($G$76*$F$76/F77,2)","v":0},"Cs"]
[25,"Sidekicks Smooth Frozen Juice, 100 % Fruit Juice","Ridgefield Sidekicks",null,"84/4.4z",84,31,{"$f":"ROUND($G$78*$F$78/F78,2)","v":31},"Cs",{"v":26.61,"d":"$26.61"},{"$f":"IF(OR(ISBLANK(J78),G78=0,ISBLANK(G78)),,ROUND(J78+$K$2,2))","v":{"v":26.61,"d":"$26.61"}},{"$f":"ROUND(H78*K78,2)","v":{"v":824.91,"d":"$824.91"}},{"$f":"ROUND(K78/F78,2)","v":{"v":0.32,"d":"$0.32"}}]
[null,"One serving provides 1/2 cup 100% Fruit Juice with no added Sugar.","2009 Blu-Raspberry Lemon",null,"84/4.4z",84]
[null,null,"2014 Kiwi-Strawberry",null,"84/4.4z",84]
[null,null,"2015 Strawberry Mango",null,"84/4.4.z",84]
[null,null,"2016 Cherry Lemon ",null,"84/4.4.z",84]
[26,"Sidekicks Smooth Frozen Juice, 100 % Fruit Juice","Cherry Smooth 2021",null,"84/4.4z",84,0,{"$f":"ROUND(G83*F83/F83,2)","v":0},"Cs",{"v":28.61,"d":"$28.61"},{"$f":"IF(OR(ISBLANK(J83),G83=0,ISBLANK(G83)),,ROUND(J83+$K$2,2))","v":0},{"$f":"ROUND(H83*K83,2)","v":0},{"$f":"ROUND(K83/F83,2)","v":0}]
[null,"One serving provides 1/2 cup additional vegetable and 1/2 cup red/orange"," ",{"$nulls":4}," "," "," "," "," "," "]
[27,"Sidekicks Smooth Frozen Juice, 100 % Fruit Juice","Sunbelievable 2020",null,"84/4.4z",84,0,{"$f":"ROUND(G85*F85/F85,2)","v":0},"Cs",{"v":29.61,"d":"$29.61"},{"$f":"IF(OR(ISBLANK(J85),G85=0,ISBLANK(G85)),,ROUND(J85+$K$2,2))","v":0},{"$f":"ROUND(H85*K85,2)","v":0},{"$f":"ROUND(K85/F85,2)","v":0}]
[null,"One serving provides 1/2 cup additional veg. and 1/2 cup red/orange vegetable"," ",{"$nulls":4}," "," "," "," "," "," "]
[28,"Peaches, Frozen   ","Distributor Choice",null,"96/4.0z",96,100,{"$f":"ROUND(G87*F87/F87,2)","v":100},"Cs"]
[null,"US Grade A Choice, frozen diced peaches cups Each portion cup=1/2 cup serving","Fillable txt box ",{"$nulls":3}," ",{"$f":"ROUND(G87*F87/F88,2)","v":{"$error":"#DIV/0!"}},"Cs",null,{"$f":"IF(OR(ISBLANK(G87),G87=0,ISBLANK(F88)),,ROUND(J88+$K$2,2))","v":0},{"$f":"ROUND(H88*K88,2)","v":{"$error":"#DIV/0!"}},{"$f":"ROUND(K88/F88,2)","v":{"$error":"#DIV/0!"}}]
[29,"Strawberries, Sliced  ","Distributor Choice",null,"39Lb",39,4,{"$f":"ROUND(G89*F89/F89,2)","v":4},"Cs"]
[null,"Frozen. Grade A, Sweetened  ","Fillable txt box ",{"$nulls":4},{"$f":"ROUND(G89*F89/F90,2)","v":{"$error":"#DIV/0!"}},"Cs",null,{"$f":"IF(OR(ISBLANK(G89),G89=0,ISBLANK(F90)),,ROUND(J90+$K$2,2))","v":0},{"$f":"ROUND(H90*K90,2)","v":{"$error":"#DIV/0!"}},{"$f":"ROUND(K90/F90,2)","v":{"$error":"#DIV/0!"}}]
[30,"Fruit Pearls","Citripak",null,"48/1/2 cup",48,5,{"$f":"ROUND(G91*F91/F91,2)","v":5},"Cs",{"v":14.4,"d":"$14.40"},{"$f":"IF(OR(ISBLANK(J91),G91=0,ISBLANK(G91)),,ROUND(J91+$K$2,2))","v":{"v":14.4,"d":"$14.40"}},{"$f":"ROUND(H91*K91,2)","v":{"v":72,"d":"$72.00"}},{"$f":"ROUND(K91/F91,2)","v":{"v":0.3,"d":"$0.30"}}]
[null,"Frozen, One portion to provide 1/2 cup fruit for CN program","882193005112 Strawberry"]
[null,null,"882193005129 Tropical"]
[null,null,"882193005136 Wildberry"]
[31,"Fruit Freeze Cup without Spoons, All Flavors","J&J Snape-Ups and Luigis",null,"96/4.4z",96,135,{"$f":"ROUND(G95*F95/F95,2)","v":135},"Cs",{"v":24.25,"d":"$24.25"},{"$f":"IF(OR(ISBLANK(J95),G95=0,ISBLANK(G95)),,ROUND(J95+$K$2,2))","v":{"v":24.25,"d":"$24.25"}},{"$f":"ROUND(H95*K95,2)","v":{"v":3273.75,"d":"$3,273.75"}},{"$f":"ROUND(K95/F95,2)","v":{"v":0.25,"d":"$0.25"}}]
[null,"Frozen, 100% fruit juice Provides min. 20% vitamin C No added sugar, Provides 1/2 cup","Cherry /Blue Raspberry 48446, Orange 48441"]
[null,"fruit juice for CN program","Grape 48442, Blue Raspberry 48443"]
[null,null,"Kiwi/Strawberry Swirl 48445"]
[null,null,"Lime 48440  and seasonal brands"]
[]
[32,"Fruit Slushee","(17-18) Cool Tropics ",null,"60/4.0z",60,130,{"$f":"ROUND(G101*F101/F101,2)","v":130},"Cs",null,{"$f":"IF(OR(ISBLANK(J101),G101=0,ISBLANK(G101)),,ROUND(J101+$K$2,2))","v":0},{"$f":"ROUND(H101*K101,2)","v":0},{"$f":"ROUND(K101/F101,2)","v":0}]
[null,"Frozen, ","Cherry Lemonade 19507"]
[null,null,"Lemondade RIPS 19505"]
[null,null,"Orange Mango 19503"]
[null,null,"Punch RIPS 19504"]
[null,null,"Sour Apple 13006"]
[null,null,"Strawberry Kiwi"]
[null,null,"Blue Raspberry 13001"]
[]
[{"$nulls":8},"Page Total",null,null,{"$f":"SUMIF(L6:L103,\">0\")","v":{"v":33810.380000000005,"d":"$33,810.38"}}]
[]
[{"$nulls":6}," "]

{"sheet":"Shelf-stable Fruit& Juice","index":385,"n_rows":104,"n_cols":20,"rows_kept":104,"merged":[[0,4,0,12],[0,14,0,18],[1,4,1,12],[2,5,2,9]]}
[null,{"$f":"'Recap Sheet'!A2","v":"School Food Authority:"},null,null,{"$f":"'Recap Sheet'!A3","v":"Offeror Name:"},{"$nulls":9},"Commodity"]
[null,{"$f":"'Recap Sheet'!B2","v":"WILLIAMSBURG COUNTY SCHOOLS"},"Return to Recap Sheet",null,{"$f":"'Recap Sheet'!B3","v":0}]
["Item","Description","Approved Brand Name / Manuf ID # ",null,null,"Firm Fixed Fee",{"$nulls":4},{"$f":"'Recap Sheet'!B4","v":{"v":0,"d":"$0.00"}},null,null,"Processing","Commodity","Pounds of",null,"Net ","Net NOI","Total Cost"]
["#","Federal Regulations require that all foods purchased for Child Nutrition Programs be of \"domestic origin\" to the ",null,"Distributor","Vendor","Svgs","Est.","Bid ","Bid","Unit","Unit Price","Total ","Cost per","Fee for ","Value Per","DF Needed","Commodity","NOI ","Cost Per ","Processing Fee"]
[null,"maximum extent possible with two exceptions. In addition, mandarin oranges & pineapple are exempt from requirement.",null,"Code","Pack","per unit","Bid Qty","Qty","Unit","Price","plus Fee","Price","Unit","Service","Pound","Per Case","Value ","Price","Serving","Per Serving"]
[null,"Shelf-stable Fruit ",{"$nulls":12},"Apples 110149 Apples for Further Processing"]
[1,"Applesauce, Cups, Sweetened","National Food Group A87210 Comm # A1500-282A",null,"96/4.5z",96,0,{"$f":"ROUND($G$7*$F$7/F7,2)","v":0},"Cs",{"$nulls":4},{"v":15.9,"d":"$15.90"},{"v":0.452,"d":"$0.4520"},28.2,{"$f":"ROUND(O7*P7,2)","v":{"v":12.75,"d":"$12.75"}}," "," ",{"$f":"N7/F7","v":{"v":0.165625,"d":"$0.17"}}]
[null,"Shelf Stable, Individual portion cup, color foil or mylar top","White House/Ntl Fruit 718-1884",null,"96/4.5z",96,null,{"$f":"ROUND($G$7*$F$7/F8,2)","v":0},"Cs",{"v":18.95,"d":"$18.95"},{"$f":"IF(OR(ISBLANK(J8),G7=0,ISBLANK(G7)),,ROUND(J8+$K$3,2))","v":0},{"$f":"ROUND(H8*K8,2)","v":0},{"$f":"ROUND(K8/F8,2)","v":0},{"$nulls":6},{"$f":"N8/F8","v":0}]
[null,"One portion provides 1/2 c FV for CN programs No Imports",{"$nulls":17}," "]
[2,"Applesauce, Cups, Unsweetened","National Food Group A87120 Comm #: A3500-282A",null,"96/4.5z",96,0,{"$f":"ROUND($G$10*$F$10/F10,2)","v":0},"Cs",{"$nulls":4},0,{"v":0.452,"d":"$0.4520"},28.2,{"$f":"ROUND(O10*P10,2)","v":{"v":12.75,"d":"$12.75"}},{"$f":"K10-Q10","v":{"v":-12.75,"d":"$(12.75)"}},{"$f":"R10/F10","v":{"v":-0.1328125,"d":"$(0.13)"}},{"$f":"N10/F10","v":0}]
[null,"Shelf Stable, Individual portion cup, color foil or mylar top","Motts 100065615",null,"72/4.5z",72,null,{"$f":"ROUND($G$10*$F$10/F11,2)","v":0},"Cs",{"v":13.68,"d":"$13.68"},{"$f":"IF(OR(ISBLANK(J11),G10=0,ISBLANK(G10)),,ROUND(J11+$K$3,2))","v":0},{"$f":"ROUND(H11*K11,2)","v":0},{"$f":"ROUND(K11/F11,2)","v":0},{"$nulls":6},{"$f":"N11/F11","v":0}]
[null,"One portion provides 1/2 c FV for CN programs No Imports","Knouse (Musselman) FASU1350",null,"96/4.5z",96,null,0,"Cs",{"$nulls":10},0]
[null," ","White House/Ntl Fruit 717-1884",null,"96/4.5z",96,null,0,"Cs",{"$nulls":10},0]
[3,"Applesauce, Blue Raspberry, Shelf Stable Cups","National Food Group A88350 Comm #: A3530-282A",null,"96/4.5z",96,0,{"$f":"ROUND($G$14*$F$14/F14,2)","v":0},"Cs",{"v":20.59,"d":"$20.59"},{"$f":"IF(OR(ISBLANK(J14),G14=0,ISBLANK(G14)),,ROUND(J14+$K$3,2))","v":0},{"$f":"ROUND(H14*K14,2)","v":0},{"$f":"ROUND(K14/F14,2)","v":0},{"v":17.65,"d":"$17.65"},{"v":0.452,"d":"$0.4520"},23.5,{"$f":"ROUND(O14*P14,2)","v":{"v":10.62,"d":"$10.62"}},0,{"$f":"R14/F14","v":0},{"v":0.18385416666666665,"d":"$0.18"}]
[null,"Shelf Stable, Individual portion cup, color foil or mylar top"," ",{"$nulls":16}," "]
[null,"One portion provides 1/2 c FV for CN programs No Imports",{"$nulls":17}," "]
[4,"Applesauce, Cinnamon, Shelf Stable Cup","National Food Group A87190 Comm #: A1510-282A",null,"96/4.5z",96,0,{"$f":"ROUND($G$17*$F$17/F17,2)","v":0},"Cs",{"v":20.59,"d":"$20.59"},{"$f":"IF(OR(ISBLANK(J17),G17=0,ISBLANK(G17)),,ROUND(J17+$K$3,2))","v":0},{"$f":"ROUND(H17*K17,2)","v":0},{"$f":"ROUND(K17/F17,2)","v":0},{"v":17.65,"d":"$17.65"},{"v":0.452,"d":"$0.4520"},28.2,{"$f":"ROUND(O17*P17,2)","v":{"v":12.75,"d":"$12.75"}},0,{"$f":"R17/F17","v":0},{"v":0.18385416666666665,"d":"$0.18"}]
[null,"Shelf Stable, Individual portion cup, color foil or mylar top"," ",{"$nulls":16}," "]
[null,"One portion provides 1/2 c FV for CN programs No Imports",{"$nulls":17}," "]
[5,"Applesauce, Strawberry Flavor, Shelf Stable Cup","National Food Group A87170 Comm #: A1590-235A",null,"96/4.,5z",96,0,{"$f":"ROUND($G$20*$F$20/F20,2)","v":0},"Cs",{"$nulls":4},{"v":15.9,"d":"$15.90"},{"v":0.452,"d":"$0.4520"},23.5,{"$f":"ROUND(O20*P20,2)","v":{"v":10.62,"d":"$10.62"}}," "," ",{"$f":"N20/F20","v":{"v":0.165625,"d":"$0.17"}}]
[null,"Shelf Stable, Individual portion cup, color foil or mylar top","Motts 10065614",null,"72/4.5z",72,null,{"$f":"ROUND($G$20*$F$20/F21,2)","v":0},"Cs",{"v":13.68,"d":"$13.68"},{"$f":"IF(OR(ISBLANK(J21),G20=0,ISBLANK(G20)),,ROUND(J21+$K$3,2))","v":0},{"$f":"ROUND(H21*K21,2)","v":0},{"$f":"ROUND(K21/F21,2)","v":0},{"$nulls":6},0]
[null,"One portion provides 1/2 c FV for CN programs No Imports","Knouse (Musselman) FASU1403",null,"96/4.5z",96,null,0,"Cs",{"$nulls":10},0]
[6,"Applesauce, Strawberry Banana Flavor, Shelf Stable Cup","National Food Group A87220 Comm#: A3790-235A",null,"96/4.,5z",96,0,{"$f":"ROUND($G$23*$F$23/F23,2)","v":0},"Cs",{"v":20.59,"d":"$20.59"},{"$f":"IF(OR(ISBLANK(J23),G23=0,ISBLANK(G23)),,ROUND(J23+$K$3,2))","v":0},{"$f":"ROUND(H23*K23,2)","v":0},{"$f":"ROUND(K23/F23,2)","v":0},{"v":17.65,"d":"$17.65"},{"v":0.4224,"d":"$0.4224"},23.5,{"$f":"ROUND(O23*P23,2)","v":{"v":9.93,"d":"$9.93"}},0,{"$f":"R23/F23","v":0},{"v":0.18385416666666665,"d":"$0.18"}]
[null,"Shelf Stable, Individual portion cup, color foil or mylar top"," ",{"$nulls":16}," "]
[null,"One portion provides 1/2 c FV for CN programs No Imports",{"$nulls":17}," "]
[7,"Apples, Sliced","Distributor Choice",null,"6/#10",6,5,{"$f":"ROUND(G26*F26/F26,2)","v":5},"Cs",{"$nulls":10}," "]
[null,"Grade A, Minimum score 90 or above, Fancy.  Solid pack, sliced, peeled, water ","Fillable txt box or unprotected",{"$nulls":4},{"$f":"ROUND(G26*F26/F27,2)","v":{"$error":"#DIV/0!"}},"Cs",null,{"$f":"IF(OR(ISBLANK(J27),G26=0,ISBLANK(G26)),,ROUND(J27+$K$3,2))","v":0},{"$f":"ROUND(H27*K27,2)","v":{"$error":"#DIV/0!"}},{"$f":"ROUND(K27/F27,2)","v":{"$error":"#DIV/0!"}},{"$nulls":6}," "]
[null,"pack.  Domestic origin. No imports. Minimum drained weight 7#  ",{"$nulls":17}," "]
[8,"Applesauce (No imports)","Distributor Choice",null,"6/#10",6,160,{"$f":"ROUND(G29*F29/F29,2)","v":160},"Cs",{"$nulls":10}," "]
[null,"Regular, sweetened, Grade A, Minimum Score 90 or above, natural flavored.","Fillable txt box or unprotected",{"$nulls":4},{"$f":"ROUND(G29*F29/F30,2)","v":{"$error":"#DIV/0!"}},"Cs",null,{"$f":"IF(OR(ISBLANK(J30),G29=0,ISBLANK(G29)),,ROUND(J30+$K$3,2))","v":0},{"$f":"ROUND(H30*K30,2)","v":{"$error":"#DIV/0!"}},{"$f":"ROUND(K30/F30,2)","v":{"$error":"#DIV/0!"}},{"$nulls":6}," "]
[9,"Applesauce (No imports)","Distributor Choice",null,"6/#10",6,0,{"$f":"ROUND(G31*F31/F31,2)","v":0},"Cs",{"$nulls":10}," "]
[null,"Unsweetened,  Grade A, Minimum Score 90 or above. (No Imports)","Fillable txt box or unprotected",{"$nulls":4},{"$f":"ROUND(G31*F31/F32,2)","v":{"$error":"#DIV/0!"}},"Cs",null,{"$f":"IF(OR(ISBLANK(J32),G31=0,ISBLANK(G31)),,ROUND(J32+$K$3,2))","v":0},{"$f":"ROUND(H32*K32,2)","v":{"$error":"#DIV/0!"}},{"$f":"ROUND(K32/F32,2)","v":{"$error":"#DIV/0!"}},{"$nulls":6}," "]
[10,"Cherries, Maraschino Halves","Distributor Choice",null,"1/2 gal",1,2,{"$f":"ROUND(G33*F33/F33,2)","v":2},"Each",{"$nulls":10}," "]
[null,"Without stems, Pitted, Grade A, Minimum Score 90 or above (No Imports) ","Fillable txt box or unprotected",{"$nulls":4},{"$f":"ROUND(G33*F33/F34,2)","v":{"$error":"#DIV/0!"}},"Cs",null,{"$f":"IF(OR(ISBLANK(J34),G33=0,ISBLANK(G33)),,ROUND(J34+$K$3,2))","v":0},{"$f":"ROUND(H34*K34,2)","v":{"$error":"#DIV/0!"}},{"$f":"ROUND(K34/F34,2)","v":{"$error":"#DIV/0!"}},{"$nulls":6}," "]
[11,"Cranberry Sauce (No Imports) ","Distributor Choice",null,"6/101 oz",6,10,{"$f":"ROUND(G35*F35/F35,2)","v":10},"Cs",{"$nulls":10}," "]
[null,"Jellied and strained.  US Grade A, Fancy. Minimum score 90 or above","Fillable txt box or unprotected",{"$nulls":3},150,{"$f":"ROUND(G35*F35/F36,2)","v":{"$error":"#DIV/0!"}},"Cs",null,{"$f":"IF(OR(ISBLANK(J36),G35=0,ISBLANK(G35)),,ROUND(J36+$K$3,2))","v":0},{"$f":"ROUND(H36*K36,2)","v":{"$error":"#DIV/0!"}},{"$f":"ROUND(K36/F36,2)","v":{"$error":"#DIV/0!"}},{"$nulls":6}," "]
[12,"Fruit Cocktail, US Grade Choice, Minimum Score 90 or above, ","Distributor Choice",null,"6/#10",6,0,{"$f":"ROUND(G37*F37/F37,2)","v":0},"Cs",{"$nulls":10}," "]
[null,"Light syrup mixture to contain in order of proportion:  peaches, pears, pineapple,","Fillable txt box or unprotected",{"$nulls":4},{"$f":"ROUND(G37*F37/F38,2)","v":{"$error":"#DIV/0!"}},"Cs",null,{"$f":"IF(OR(ISBLANK(J38),G37=0,ISBLANK(G37)),,ROUND(J38+$K$3,2))","v":0},{"$f":"ROUND(H38*K38,2)","v":{"$error":"#DIV/0!"}},{"$f":"ROUND(K38/F38,2)","v":{"$error":"#DIV/0!"}},{"$nulls":6}," "]
[null," grapes,cherries.  (If non domestic, insert country of origin)",{"$nulls":17}," "]
[13,"Fruit , Mixed (If non domestic, state country of  origin)","Distributor Choice",null,"6/#10",6,20,{"$f":"ROUND(G40*F40/F40,2)","v":20},"Cs",{"$nulls":10}," "]
[null,"US Grade Choice, Minimum Score 90 or above","Fillable txt box or unprotected",{"$nulls":4},{"$f":"ROUND(G40*F40/F41,2)","v":{"$error":"#DIV/0!"}},"Cs",null,{"$f":"IF(OR(ISBLANK(J41),G40=0,ISBLANK(G40)),,ROUND(J41+$K$3,2))","v":0},{"$f":"ROUND(H41*K41,2)","v":{"$error":"#DIV/0!"}},{"$f":"ROUND(K41/F41,2)","v":{"$error":"#DIV/0!"}},{"$nulls":6},"  "]
[null,"Light syrup mixture to contain 30-50% peaches, 25-30% pears, 6-20% grapes.",{"$nulls":17}," "]
[14,"Fruit Salad, Tropical","Distributor Choice",null,"6/#10",6,5,{"$f":"ROUND(G43*F43/F43,2)","v":5},"Cs",{"$nulls":10}," "]
[null,"Diced, in 100% fruit Juice, No sugar added.  Pre-cut and ready to use.","Fillable txt box or unprotected",{"$nulls":4},{"$f":"ROUND(G43*F43/F44,2)","v":{"$error":"#DIV/0!"}},"Cs",null,{"$f":"IF(OR(ISBLANK(J44),G43=0,ISBLANK(G43)),,ROUND(J44+$K$3,2))","v":0},{"$f":"ROUND(H44*K44,2)","v":{"$error":"#DIV/0!"}},{"$f":"ROUND(K44/F44,2)","v":{"$error":"#DIV/0!"}},{"$nulls":6}," "]
[null,"(If non domestic, insert country of origin in text box)",{"$nulls":17}," "]
[15,"Mandarin Orange, Whole Segments","Distributor Choice",null,"6/#10",6,160,{"$f":"ROUND(G46*F46/F46,2)","v":160},"Cs",{"$nulls":10}," "]
[null,"Whole Segments in light syrup.  US Grade A   Minimum score 90 or above. .  ","Fillable txt box or unprotected",{"$nulls":4},{"$f":"ROUND(G46*F46/F47,2)","v":{"$error":"#DIV/0!"}},"Cs",null,{"$f":"IF(OR(ISBLANK(J47),G46=0,ISBLANK(G46)),,ROUND(J47+$K$3,2))","v":0},{"$f":"ROUND(H47*K47,2)","v":{"$error":"#DIV/0!"}},{"$f":"ROUND(K47/F47,2)","v":{"$error":"#DIV/0!"}},{"$nulls":6}," "]
[null,"No broken segments. (If non domestic, insert country of origin in text box)"]
[null,"Peaches",{"$nulls":11}," ","Peaches 100220 Cling Diced Extra Light Can",{"$nulls":4}," "]
[16,"Peaches, Diced, Shelf Stable Cups","National Food Group A87260 Comm#: A1740-235A",null,"72/4.5z",72,0,{"$f":"ROUND($G$50*$F$50/F50,2)","v":0},"Cs",{"v":37.86,"d":"$37.86"},{"$f":"IF(OR(ISBLANK(J50),G50=0,ISBLANK(G50)),,ROUND(J50+$K$3,2))","v":0},{"$f":"ROUND(H50*K50,2)","v":0},{"$f":"ROUND(K50/F50,2)","v":0},{"v":22.45,"d":"$22.45"},{"v":0.6741,"d":"$0.6741"},10,{"$f":"ROUND(O50*P50,2)","v":{"v":6.74,"d":"$6.74"}},0,{"$f":"R50/F50","v":0},{"$f":"N50/F50","v":{"v":0.31180555555555556,"d":"$0.31"}}]
[null,"Shelf Stable, Individual portion cup, color foil or mylar top"," ",{"$nulls":16}," "]
[null,"One portion provides 1/2 c FV for CN programs No Imports",{"$nulls":17}," "]
[null,"Pears ",{"$nulls":12},"Pears, 100225 Diced Extra Light Can",{"$nulls":4}," "]
[17,"Pears, Diced, Shelf Stable Cups","National Food Group A87250 Comm#: A1780-235A",null,"72/4.5z",72,0,{"$f":"ROUND($G$54*$F$54/F54,2)","v":0},"Cs",{"v":37.86,"d":"$37.86"},{"$f":"IF(OR(ISBLANK(J54),G54=0,ISBLANK(G54)),,ROUND(J54+$K$3,2))","v":0},{"$f":"ROUND(H54*K54,2)","v":0},{"$f":"ROUND(K54/F54,2)","v":0},{"v":22.45,"d":"$22.45"},{"v":0.6715,"d":"$0.6715"},10,{"$f":"ROUND(O54*P54,2)","v":{"v":6.72,"d":"$6.72"}},0,{"$f":"R54/F54","v":0},{"$f":"N54/F54","v":{"v":0.31180555555555556,"d":"$0.31"}}]
[null,"Shelf Stable, Individual portion cup, color foil or mylar top"," ",{"$nulls":16}," "]
[null,"One portion provides 1/2 c FV for CN programs No Imports",{"$nulls":17}," "]
[18,"Peach Slices,  Minimum score 90 or above.   (No Imports). ","Distributor Choice",null,"6/#10",6,105,{"$f":"ROUND(G57*F57/F57,2)","v":105},"Cs",{"$nulls":10}," "]
[null,"Clingstone variety, packed in light syrup. Net Wt 108 oz. ","Fillable txt box or unprotected",{"$nulls":4},{"$f":"ROUND(G57*F57/F58,2)","v":{"$error":"#DIV/0!"}},"Cs",null,{"$f":"IF(OR(ISBLANK(J58),G57=0,ISBLANK(G57)),,ROUND(J58+$K$3,2))","v":0},{"$f":"ROUND(H58*K58,2)","v":{"$error":"#DIV/0!"}},{"$f":"ROUND(K58/F58,2)","v":{"$error":"#DIV/0!"}},{"$nulls":6}," "]
[null,"Minimum drained weight 66.5 oz. ",{"$nulls":17}," "]
[19,"Pear Halves, (No Imports)","Distributor Choice",null,"6/#10",6,15,{"$f":"ROUND(G60*F60/F60,2)","v":15},"Cs",{"$nulls":10}," "]
[null,"Bartlett.  Choice, Minimum score 90 or above. .   Light syrup, 30-35 count.","Fillable txt box or unprotected",{"$nulls":4},{"$f":"ROUND(G60*F60/F61,2)","v":{"$error":"#DIV/0!"}},"Cs",null,{"$f":"IF(OR(ISBLANK(J61),G60=0,ISBLANK(G60)),,ROUND(J61+$K$3,2))","v":0},{"$f":"ROUND(H61*K61,2)","v":{"$error":"#DIV/0!"}},{"$f":"ROUND(K61/F61,2)","v":{"$error":"#DIV/0!"}},{"$nulls":6}," "]
[null,"Minimum drained weight 65 oz.  (No Imports)",{"$nulls":17}," "]
[20,"Pear Slices, Barlett Choice (No Imports)","Distributor Choice",null,"6/#10",6,10,{"$f":"ROUND(G63*F63/F63,2)","v":10},"Cs",{"$nulls":10}," "]
[null,"Bartlett, Choice, Minimum score 90 or above. , light syrup. (No Imports)","Fillable txt box or unprotected",{"$nulls":4},{"$f":"ROUND(G63*F63/F64,2)","v":{"$error":"#DIV/0!"}},"Cs",null,{"$f":"IF(OR(ISBLANK(J64),G63=0,ISBLANK(G63)),,ROUND(J64+$K$3,2))","v":0},{"$f":"ROUND(H64*K64,2)","v":{"$error":"#DIV/0!"}},{"$f":"ROUND(K64/F64,2)","v":{"$error":"#DIV/0!"}},{"$nulls":6}," "]
[null,"Minimum drained weight 65.5 oz. ",{"$nulls":17}," "]
[21,"Pineapple Slices, US Grade A, Minimum score 90 or above. . ","Distributor Choice",null,"6/#10",6,10,{"$f":"ROUND(G66*F66/F66,2)","v":10},"Cs",{"$nulls":10}," "]
[null,"Packed in juice.(If non domestic, insert country of origin in text box)","Fillable txt box or unprotected",{"$nulls":4},{"$f":"ROUND(G66*F66/F67,2)","v":{"$error":"#DIV/0!"}},"Cs",null,{"$f":"IF(OR(ISBLANK(J67),G66=0,ISBLANK(G66)),,ROUND(J67+$K$3,2))","v":0},{"$f":"ROUND(H67*K67,2)","v":{"$error":"#DIV/0!"}},{"$f":"ROUND(K67/F67,2)","v":{"$error":"#DIV/0!"}},{"$nulls":6},"  "]
[22,"Pineapple Tidbits (If non domestic, insert country of origin in text box)","Distributor Choice",null,"6/#10",6,150,{"$f":"ROUND(G68*F68/F68,2)","v":150},"Cs",{"$nulls":10}," "]
[null,"US Grade A Minimum score 90 or above. , Packed in Juice, Min. Drained Wt 69 oz. ","Fillable txt box or unprotected",{"$nulls":4},{"$f":"ROUND(G68*F68/F69,2)","v":{"$error":"#DIV/0!"}},"Cs",null,{"$f":"IF(OR(ISBLANK(J69),G68=0,ISBLANK(G68)),,ROUND(J69+$K$3,2))","v":0},{"$f":"ROUND(H69*K69,2)","v":{"$error":"#DIV/0!"}},{"$f":"ROUND(K69/F69,2)","v":{"$error":"#DIV/0!"}},{"$nulls":6}," "]
[23,"Fruit Snack, Dried Cranberries, I/W                          Meets 1/2 c Fruit","(15-16)  Oceanspray  Craisins",null,"200/1.16z",200,40,{"$f":"ROUND(G70*F70/F70,2)","v":40},"Cs",null,{"$f":"IF(OR(ISBLANK(J70),G70=0,ISBLANK(G70)),,ROUND(J70+$K$3,2))","v":0},{"$f":"ROUND(H70*K70,2)","v":0},{"$f":"ROUND(K70/F70,2)","v":0},{"$nulls":6}," "]
[null,"Shelf Stable","     23446   Blueberry",{"$nulls":16}," "]
[null,null,"     23444  Cherry",{"$nulls":16}," "]
[null,null,"     23445  Strawberry",{"$nulls":16}," "]
[24,"Fruit Snack, Fruit Purees","(15-16)   Welch's",null,"144/1.55z",144,0,{"$f":"ROUND(G74*F74/F74,2)","v":0},"Cs",null,{"$f":"IF(OR(ISBLANK(J74),G74=0,ISBLANK(G74)),,ROUND(J74+$K$3,2))","v":0},{"$f":"ROUND(H74*K74,2)","v":0},{"$f":"ROUND(K74/F74,2)","v":0},{"$nulls":6}," "]
[null,"Pouch pack, 1.55oz, 12% daily value of Fiber.","     14498   Mixed Fruit",{"$nulls":16}," "]
[null,"Meets USDA requirement for 10% of Daily Value of one of the following nutrients: ","     14492   Berries n Cherries",{"$nulls":16}," "]
[null,"Calcium, Potassium, Vitamin D, or Dietary fiber.",{"$nulls":17},"  "]
[25,"Raisins","Champion 070044-00415",null,"144/1.5z",144,40,{"$f":"ROUND(G78*F78/F78,2)","v":40},"Cs",null,{"$f":"IF(OR(ISBLANK(J78),G78=0,ISBLANK(G78)),,ROUND(J78+$K$3,2))","v":0},{"$f":"ROUND(H78*K78,2)","v":0},{"$f":"ROUND(K78/F78,2)","v":0},{"$nulls":6}," "]
[null,"Seedless, dark California, Individual 1.5 oz per package","Sun-maid 040-2010",null,"144/1.5z",144,null,{"$f":"ROUND($G$78*$F$78/F79,2)","v":40},"Cs",null,{"$f":"IF(OR(ISBLANK(J79),G78=0,ISBLANK(G78)),,ROUND(J79+$K$3,2))","v":0},{"$f":"ROUND(K79*H79,2)","v":0},{"$f":"ROUND(K79/F79,2)","v":0},{"$nulls":6}," "]
[26,"Raisins, flavored. Made from Golden Raisins","(16-17)Champion Raisels",null,"200-1.5z",200,80,{"$f":"ROUND(G80*F80/F80,2)","v":80},"Cs",null,{"$f":"IF(OR(ISBLANK(J80),G80=0,ISBLANK(G80)),,ROUND(J80+$K$3,2))","v":0},{"$f":"ROUND(H80*K80,2)","v":0},{"$f":"ROUND(K80/F80,2)","v":0},{"$nulls":6}," "]
[null,"Individual, 1.5oz","          Lemon",{"$nulls":16}," "]
[null,"Sugar and Natural flavors added.","         Orange",{"$nulls":16}," "]
[null,null,"          Fruit Splash",{"$nulls":16},"  "]
[null,null,"          Watermelon",{"$nulls":16}," "]
[27,"Juice, Apple, Aseptic Pack, Shelf Stable, 4.23 oz","Juicy Juice/Harvest Hill 00055",null,"40/4.23z",40,75,{"$f":"ROUND($G$85*$F$85/F85,2)","v":75},"Cs",{"$nulls":10}," "]
[null,"Shelf Stable, 100% juice, must have wrap straw, 1 serving = 1/2 cup fruit","Motts 10002383",null,"44/4.23z",44,null,{"$f":"ROUND($G$85*$F$85/F86,2)","v":68.18},"Cs",{"$nulls":10}," "]
[null,null,"Apple & Eve  86000",null,"40/4.23z",40,null,{"$f":"ROUND($G$85*$F$85/F87,2)","v":75},"Cs"]
[null,"Country of Origin:  "," Suncup 400305",null,"40/4.23z",40,null,75,"Cs",{"v":5.25,"d":"$5.25"},{"$f":"IF(OR(ISBLANK(J88),G85=0,ISBLANK(G85)),,ROUND(J88+$K$3,2))","v":{"v":5.25,"d":"$5.25"}},{"$f":"ROUND(H88*K88,2)","v":{"v":393.75,"d":"$393.75"}},{"$f":"ROUND(K88/F88,2)","v":{"v":0.13,"d":"$0.13"}}]
[null,null,"Ardmore Farms 62001",null,"44/4.23z",44,null,{"$f":"ROUND($G$85*$F$85/F89,2)","v":68.18},"Cs"]
[null,null,"Capri Sun 8768400921",null,"48/4.05z",48,null,{"$f":"ROUND($G$85*$F$85/F90,2)","v":62.5},"Cs"]
[null,null,"Tropicana 20209",null,"44/4.23z",44,null,{"$f":"ROUND($G$85*$F$85/F91,2)","v":68.18},"Cs",{"$nulls":10}," "]
[28,"Juice, Fruit Blend, Aseptic Pack, Shelf Stable, 4.23 oz","Juicy Juice/Harvest Hill 00059",null,"40/4.23z",44,30,{"$f":"ROUND(G92*F92/F92,2)","v":30},"Cs",{"$nulls":10}," "]
[null,"Shelf Stable, 100% juice, must have wrap straw, 1 serving = 1/2 cup fruit"," Motts 10002384",null,"44/4.23z",44,null,{"$f":"ROUND($G$92*$F$92/F93,2)","v":30},"Cs"]
[null,null," Apple and Eve 86001",null,"40/4.23z",40,null,{"$f":"ROUND($G$92*$F$92/F94,2)","v":33},"Cs"]
[null,"Country of Origin:  "," Suncup 400805",null,"40/4.23z",40,null,33,"Cs",{"v":5.25,"d":"$5.25"},{"$f":"IF(OR(ISBLANK(J95),G92=0,ISBLANK(G92)),,ROUND(J95+$K$3,2))","v":{"v":5.25,"d":"$5.25"}},{"$f":"ROUND(H95*K95,2)","v":{"v":173.25,"d":"$173.25"}},{"$f":"ROUND(K95/F95,2)","v":{"v":0.13,"d":"$0.13"}}]
[null,null,"Capri Sun 8768400923",null,"48/4.05z",48,null,{"$f":"ROUND($G$92*$F$92/F96,2)","v":27.5},"Cs"]
[null," "," Ardmore Farms 62008",null,"40/4.23z",40,null,{"$f":"ROUND($G$92*$F$92/F97,2)","v":33},"Cs",{"$nulls":10},"  "]
[29,"Juice, Grape, Aseptic Pack, Shelf Stable, 4.23 oz","Juicy Juice/Harvest Hill 00057",null,"40/4.23z",40,0,{"$f":"ROUND(G98*F98/F98,2)","v":0},"Cs",{"$nulls":10}," "]
[null,"Shelf Stable, 100% juice, must have wrap straw, 1 serving = 1/2 cup fruit","Apple and Eve 86004",null,"40/4.23z",40,null,{"$f":"ROUND($G$98*$F$98/F99,2)","v":0},"Cs"]
[null,null,"Suncup 400505",null,"40/4.23z",40,null,{"$f":"ROUND($G$98*$F$98/F100,2)","v":0},"Cs",{"v":5.25,"d":"$5.25"},{"$f":"IF(OR(ISBLANK(J100),G98=0,ISBLANK(G98)),,ROUND(J100+$K$3,2))","v":0},{"$f":"ROUND(H100*K100,2)","v":0},{"$f":"ROUND(K100/F100,2)","v":0}]
[null,"Country of Origin:  "," Ardmore Farms 62002",null,"40/4.23z",40,null,{"$f":"ROUND($G$98*$F$98/F101,2)","v":0},"Cs",null," "," "," ",{"$nulls":6}," "]
[30,"Juice, Grape Muscadine","(17-18) Nature's Pearl",null,"24/10 oz.",24,0,{"$f":"ROUND(G102*F102/F102,2)","v":0},"Cs",null,{"$f":"IF(OR(ISBLANK(J102),G102=0,ISBLANK(G102)),,ROUND(J102+$K$3,2))","v":0},{"$f":"ROUND(H102*K102,2)","v":0},{"$f":"ROUND(K102/F102,2)","v":0},{"$nulls":6}," "]
[null,"100% juice  One 10 oz. bottle equals 2 servings fruit",{"$nulls":17}," "]
[{"$nulls":8},"Page Total",null,null,{"$f":"SUMIF(L7:L102,\">0\")","v":{"v":567,"d":"$567.00"}},{"$nulls":7}," "]

{"sheet":"Frozen Vegetables","index":386,"n_rows":67,"n_cols":13,"rows_kept":67,"merged":[[0,4,0,12],[1,4,1,12],[2,5,2,9]]}
[null,{"$f":"'Recap Sheet'!A2","v":"School Food Authority:"},null,null,{"$f":"'Recap Sheet'!A3","v":"Offeror Name:"}]
[null,{"$f":"'Recap Sheet'!B2","v":"WILLIAMSBURG COUNTY SCHOOLS"},"Return to Recap Sheet",null,{"$f":"'Recap Sheet'!B3","v":0}]
["Item","Description","Approved Brand Name / Manuf ID # ",null,null,"Firm Fixed Fee",{"$nulls":4},{"$f":"'Recap Sheet'!B4","v":{"v":0,"d":"$0.00"}}]
["#",null,null,"Distributor","Vendor","Svgs","Est.","Bid ","Bid","Unit","Unit Price","Total ","Cost per"]
[{"$nulls":3},"Code","Pack","per unit","Bid Qty","Qty","Unit","Price","plus Fee","Price","Unit"]
[null,"Frozen Vegetables"]
[1,"Beans, Green, IQF (No Imports)","Distributor Choice",null,"20Lb",20,5,{"$f":"ROUND($G$7*$F$7/F7,2)","v":5},"Cs"]
[null,"Grade A, Minimum score 90 or above pieces to be 1\" in length and 4 sieve in diameter","Fillable txt box or unprotected",{"$nulls":4},{"$f":"ROUND(G7*F7/F8,2)","v":{"$error":"#DIV/0!"}},"Cs",null,{"$f":"IF(OR(ISBLANK(J8),G7=0,ISBLANK(G7)),,ROUND(J8+$K$3,2))","v":0},{"$f":"ROUND(H8*K8,2)","v":{"$error":"#DIV/0!"}},{"$f":"ROUND(K8/F8,2)","v":{"$error":"#DIV/0!"}}]
[2,"Beans. Lima (No Imports)","Distributor Choice",null,"20Lb",20,0,{"$f":"ROUND(G9*F9/F9,2)","v":0},"Cs"]
[null,"Small Baby lima.  Grade A fancy.  Must be certified ","Fillable txt box or unprotected",{"$nulls":4},{"$f":"ROUND(G9*F9/F10,2)","v":{"$error":"#DIV/0!"}},"Cs",null,{"$f":"IF(OR(ISBLANK(J10),G9=0,ISBLANK(G9)),,ROUND(J10+$K$3,2))","v":0},{"$f":"ROUND(H10*K10,2)","v":{"$error":"#DIV/0!"}},{"$f":"ROUND(K10/F10,2)","v":{"$error":"#DIV/0!"}}]
[null,"Frozen. 20Lb IQF unit. Miinimum score 90 or above "]
[3,"Broccoli Florets (No Imports)","Distributor Choice",null,"12/2Lb",24,65,{"$f":"ROUND(G12*F12/F12,2)","v":65},"Cs"]
[null,"Grade A fancy.  Frozen.  Minimum score 90 or above. ","Fillable txt box or unprotected",{"$nulls":4},{"$f":"ROUND(G12*F12/F13,2)","v":{"$error":"#DIV/0!"}},"Cs",null,{"$f":"IF(OR(ISBLANK(J13),G12=0,ISBLANK(G12)),,ROUND(J13+$K$3,2))","v":0},{"$f":"ROUND(H13*K13,2)","v":{"$error":"#DIV/0!"}},{"$f":"ROUND(K13/F13,2)","v":{"$error":"#DIV/0!"}}]
[4,"Broccoli Medley,  Broccoli, Cauliflower and Carrots (No Imports) ","Distributor Choice",null,"24Lb",24,0,{"$f":"ROUND(G14*F14/F14,2)","v":0},"Cs"]
[null,"Grade A Fancy.  Minimum score 90 or above. ","Fillable txt box or unprotected",{"$nulls":4},{"$f":"ROUND(G14*F14/F15,2)","v":{"$error":"#DIV/0!"}},"Cs",null,{"$f":"IF(OR(ISBLANK(J15),G14=0,ISBLANK(G14)),,ROUND(J15+$K$3,2))","v":0},{"$f":"ROUND(H15*K15,2)","v":{"$error":"#DIV/0!"}},{"$f":"ROUND(K15/F15,2)","v":{"$error":"#DIV/0!"}}]
[5,"Broccoli Spears (No Imports)","Distributor Choice",null,"12/2Lb",24,30,{"$f":"ROUND(G16*F16/F16,2)","v":30},"Cs"]
[null,"US Grade A Fancy. Minimum score 90 or above.","Fillable txt box or unprotected",{"$nulls":4},{"$f":"ROUND(G16*F16/F17,2)","v":{"$error":"#DIV/0!"}},"Cs",null,{"$f":"IF(OR(ISBLANK(J17),G16=0,ISBLANK(G16)),,ROUND(J17+$K$3,2))","v":0},{"$f":"ROUND(H17*K17,2)","v":{"$error":"#DIV/0!"}},{"$f":"ROUND(K17/F17,2)","v":{"$error":"#DIV/0!"}}]
[null,"  Spears 5\" average length.    18-26 Spears per 2# bag."]
[6,"Carrots, Sliced (No Imports)","Distributor Choice",null,"20Lb",20,5,{"$f":"ROUND(G19*F19/F19,2)","v":5},"Cs"]
[null,"US Grade A Fancy.  Frozen.  Minimum score 90 or above.  ","Fillable txt box or unprotected",{"$nulls":4},{"$f":"ROUND(G19*F19/F20,2)","v":{"$error":"#DIV/0!"}},"Cs",null,{"$f":"IF(OR(ISBLANK(J20),G19=0,ISBLANK(G19)),,ROUND(J20+$K$3,2))","v":0},{"$f":"ROUND(H20*K20,2)","v":{"$error":"#DIV/0!"}},{"$f":"ROUND(K20/F20,2)","v":{"$error":"#DIV/0!"}}]
[7,"Corn, Cut (No Imports)","Distributor Choice",null,"20Lb",20,5,{"$f":"ROUND(G21*F21/F21,2)","v":5},"Cs"]
[null,"US Grade A Fancy.  Yellow Corn.  Minimum score 90 or above. (No Imports)","Fillable txt box or unprotected",{"$nulls":4},{"$f":"ROUND(G21*F21/F22,2)","v":{"$error":"#DIV/0!"}},"Cs",null,{"$f":"IF(OR(ISBLANK(J22),G21=0,ISBLANK(G21)),,ROUND(J22+$K$3,2))","v":0},{"$f":"ROUND(H22*K22,2)","v":{"$error":"#DIV/0!"}},{"$f":"ROUND(K22/F22,2)","v":{"$error":"#DIV/0!"}}]
[8,"Corn on the Cob (No Imports)","Distributor Choice",null,"96 Ct",96,350,{"$f":"ROUND(G23*F23/F23,2)","v":350},"Cs"]
[null,"Cobbett, Grade A, Fancy.  Minimum score 90 or above. .  Yellow whole","Fillable txt box or unprotected",{"$nulls":3},0,{"$f":"ROUND(G23*F23/F24,2)","v":{"$error":"#DIV/0!"}},"Cs",null,{"$f":"IF(OR(ISBLANK(J24),G23=0,ISBLANK(G23)),,ROUND(J24+$K$3,2))","v":0},{"$f":"ROUND(H24*K24,2)","v":{"$error":"#DIV/0!"}},{"$f":"ROUND(K24/F24,2)","v":{"$error":"#DIV/0!"}}]
[null,"kernel. Approximately 3 inches long, no ends. "]
[]
[9,"Okra, Breaded   Pre-cooked Oven Ready,   (No Imports)            WGR","Tasty Brand  33500",null,"6/5Lb",150,5,{"$f":"ROUND(G27*F27/F27,2)","v":5},"Cs",null,{"$f":"IF(OR(ISBLANK(J27),G27=0,ISBLANK(G27)),,ROUND(J27+$K$3,2))","v":0},{"$f":"ROUND(H27*K27,2)","v":0},{"$f":"ROUND(K27/F27,2)","v":0}]
[null,"US Grade A, Minimum score 90 or above. One serving (17) meets 1 oz equivalent grain "]
[null,"and 1/4 c other vegetable for Child Nutrition Meal Pattern Requirements."]
[10,"Okra, Cut (No Imports)","Distributor Choice",null,"20Lb",20,10,{"$f":"ROUND(G30*F30/F30,2)","v":10},"Cs"]
[null,"Minimum score 90 or above.  IQF, Cut in 1/2\" slices ","Fillable txt box or unprotected",{"$nulls":4},{"$f":"ROUND(G30*F30/F31,2)","v":{"$error":"#DIV/0!"}},"Cs",null,{"$f":"IF(OR(ISBLANK(J31),G30=0,ISBLANK(G30)),,ROUND(J31+$K$3,2))","v":0},{"$f":"ROUND(H31*K31,2)","v":{"$error":"#DIV/0!"}},{"$f":"ROUND(K31/F31,2)","v":{"$error":"#DIV/0!"}}]
[11,"Onions, Diced (No Imports)","Distributor Choice",null,"6/2Lb",12,0,{"$f":"ROUND(G32*F32/F32,2)","v":0},"Cs"]
[null,"3/8\"x3/8\" dice ","Fillable txt box or unprotected",{"$nulls":4},{"$f":"ROUND(G32*F32/F33,2)","v":{"$error":"#DIV/0!"}},"Cs",null,{"$f":"IF(OR(ISBLANK(J33),G32=0,ISBLANK(G32)),,ROUND(J33+$K$3,2))","v":0},{"$f":"ROUND(H33*K33,2)","v":{"$error":"#DIV/0!"}},{"$f":"ROUND(K33/F33,2)","v":{"$error":"#DIV/0!"}}]
[12,"Peas, Black-eyed (No Imports)","Distributor Choice",null,"20Lb",20,5,{"$f":"ROUND($G$34*F34/F34,2)","v":5},"Cs"]
[null,"Minimum score 90 or above. , Frozen, IQF ","Fillable txt box or unprotected",{"$nulls":3},0,{"$f":"ROUND(G34*F34/F35,2)","v":{"$error":"#DIV/0!"}},"Cs",null,{"$f":"IF(OR(ISBLANK(J35),G34=0,ISBLANK(G34)),,ROUND(J35+$K$3,2))","v":0},{"$f":"ROUND(H35*K35,2)","v":{"$error":"#DIV/0!"}},{"$f":"ROUND(K35/F35,2)","v":{"$error":"#DIV/0!"}}]
[13,"Peas, Field (No Imports)","Distributor Choice",null,"36Lb",36,0,{"$f":"ROUND(G36*F36/F36,2)","v":0},"Cs"]
[null,"Minimum score 90 or above. , Frozen, IQF ","Fillable txt box or unprotected",{"$nulls":3},0,{"$f":"ROUND(G36*F36/F37,2)","v":{"$error":"#DIV/0!"}},"Cs",null,{"$f":"IF(OR(ISBLANK(J37),G36=0,ISBLANK(G36)),,ROUND(J37+$K$3,2))","v":0},{"$f":"ROUND(H37*K37,2)","v":{"$error":"#DIV/0!"}},{"$f":"ROUND(K37/F37,2)","v":{"$error":"#DIV/0!"}}]
[14,"Peas, Green (No Imports)","Distributor Choice",null,"20Lb",20,8,{"$f":"ROUND(G38*F38/F38,2)","v":8},"Cs"]
[null,"Minimum score 90 or above. , Frozen, IQF ","Fillable txt box or unprotected",{"$nulls":4},{"$f":"ROUND(G38*F38/F39,2)","v":{"$error":"#DIV/0!"}},"Cs",null,{"$f":"IF(OR(ISBLANK(J39),G38=0,ISBLANK(G38)),,ROUND(J39+$K$3,2))","v":0},{"$f":"ROUND(H39*K39,2)","v":{"$error":"#DIV/0!"}},{"$f":"ROUND(K39/F39,2)","v":{"$error":"#DIV/0!"}}]
[15,"Peas and Carrots, Grade A, Minimum score 90 or above. (No Imports)","Distributor Choice",null,"20Lb",20,60,{"$f":"ROUND(G40*F40/F40,2)","v":60},"Cs"]
[null,"60% Peas and 40% carrots, Peas 2-4 sieve, carrots 3/8\" dice","Fillable txt box or unprotected",{"$nulls":4},{"$f":"ROUND(G40*F40/F41,2)","v":{"$error":"#DIV/0!"}},"Cs",null,{"$f":"IF(OR(ISBLANK(J41),G40=0,ISBLANK(G40)),,ROUND(J41+$K$3,2))","v":0},{"$f":"ROUND(H41*K41,2)","v":{"$error":"#DIV/0!"}},{"$f":"ROUND(K41/F41,2)","v":{"$error":"#DIV/0!"}}]
[16,"Pepper, Bell Diced (No Imports)","Distributor Choice",null,"12/2Lb",24,0,{"$f":"ROUND(G42*F42/F42,2)","v":0},"Cs"]
[null,"Minimum score 90 or above. Frozen. ","Fillable txt box or unprotected",{"$nulls":3},0,{"$f":"ROUND(G42*F42/F43,2)","v":{"$error":"#DIV/0!"}},"Cs",null,{"$f":"IF(OR(ISBLANK(J43),G42=0,ISBLANK(G42)),,ROUND(J43+$K$3,2))","v":0},{"$f":"ROUND(H43*K43,2)","v":{"$error":"#DIV/0!"}},{"$f":"ROUND(K43/F43,2)","v":{"$error":"#DIV/0!"}}]
[17,"Squash, Yellow, Sliced (No Imports) ","Distributor Choice",null,"20Lb",20,0,{"$f":"ROUND($G$44*$F$44/F44,2)","v":0},"Cs"]
[null,"Minimum score 90 or above. , Frozen, IQF ","Fillable txt box or unprotected",{"$nulls":4},{"$f":"ROUND(G44*F44/F45,2)","v":{"$error":"#DIV/0!"}},"Cs",null,{"$f":"IF(OR(ISBLANK(J45),G44=0,ISBLANK(G44)),,ROUND(J45+$K$3,2))","v":0},{"$f":"ROUND(H45*K45,2)","v":{"$error":"#DIV/0!"}},{"$f":"ROUND(K45/F45,2)","v":{"$error":"#DIV/0!"}}]
[18,"Sweet Potato Pattie (No Imports)","Distributor Choice",null,"224/1.5",224,50,{"$f":"ROUND(G46*F46/F46,2)","v":50},"Cs"]
[null,"Domestic sweet potatoes.  No peels or stems.  IQF. Fully cooked. ","Fillable txt box or unprotected",{"$nulls":3},0,{"$f":"ROUND(G46*F46/F47,2)","v":{"$error":"#DIV/0!"}},"Cs",null,{"$f":"IF(OR(ISBLANK(J47),G46=0,ISBLANK(G46)),,ROUND(J47+$K$3,2))","v":0},{"$f":"ROUND(H47*K47,2)","v":{"$error":"#DIV/0!"}},{"$f":"ROUND(K47/F47,2)","v":{"$error":"#DIV/0!"}}]
[19,"Turnip Greens, Chopped (No Imports)","Distributor Choice",null,"36Lb",36,5,{"$f":"ROUND($G$48*$F$48/F48,2)","v":5},"Cs"]
[null,"Minimum score 90 or above. , Grade A , Frozen ","Fillable txt box or unprotected",{"$nulls":4},{"$f":"ROUND(G48*F48/F49,2)","v":{"$error":"#DIV/0!"}},"Cs",null,{"$f":"IF(OR(ISBLANK(J49),G48=0,ISBLANK(G48)),,ROUND(J49+$K$3,2))","v":0},{"$f":"ROUND(H49*K49,2)","v":{"$error":"#DIV/0!"}},{"$f":"ROUND(K49/F49,2)","v":{"$error":"#DIV/0!"}}]
[20,"Collard Greens, Chopped (No Imports)","Distributor Choice",null,"36Lb",36,10,{"$f":"ROUND(G50*F50/F50,2)","v":10},"Cs"]
[null,"US Grade A , Frozen  Minimum score 90 or above ","Fillable txt box or unprotected",{"$nulls":4},{"$f":"ROUND(G50*F50/F51,2)","v":{"$error":"#DIV/0!"}},"Cs",null,{"$f":"IF(OR(ISBLANK(J51),G50=0,ISBLANK(G50)),,ROUND(J51+$K$3,2))","v":0},{"$f":"ROUND(H51*K51,2)","v":{"$error":"#DIV/0!"}},{"$f":"ROUND(K51/F51,2)","v":{"$error":"#DIV/0!"}}]
[21,"Kale Greens, Chopped (No Imports)","Distributor Choice",null,"20Lb",20,0,{"$f":"ROUND($G$52*$F$52/F52,2)","v":0},"Cs "]
[null,"US Grade A , Frozen  Minimum score 90 or above ","Fillable txt box or unprotected",{"$nulls":4},{"$f":"ROUND(G52*F52/F53,2)","v":{"$error":"#DIV/0!"}},"Cs",null,{"$f":"IF(OR(ISBLANK(J53),G52=0,ISBLANK(G52)),,ROUND(J53+$K$3,2))","v":0},{"$f":"ROUND(H53*K53,2)","v":{"$error":"#DIV/0!"}},{"$f":"ROUND(K53/F53,2)","v":{"$error":"#DIV/0!"}}]
[22,"Spinach, Chopped (No Imports)","Distributor Choice",null,"20Lb",20,0,{"$f":"ROUND($G$54*$F$54/F54,2)","v":0},"Cs"]
[null,"US Grade A , Frozen  Minimum score 90 or above ","Fillable txt box or unprotected",{"$nulls":4},{"$f":"ROUND(G54*F54/F55,2)","v":{"$error":"#DIV/0!"}},"Cs",null,{"$f":"IF(OR(ISBLANK(J55),G54=0,ISBLANK(G54)),,ROUND(J55+$K$3,2))","v":0},{"$f":"ROUND(H55*K55,2)","v":{"$error":"#DIV/0!"}},{"$f":"ROUND(K55/F55,2)","v":{"$error":"#DIV/0!"}}]
[23,"Vegetables, Mixed (No Imports)","Distributor Choice",null,"20Lb",20,25,{"$f":"ROUND(G56*F56/F56,2)","v":25},"Cs"]
[null,"US Grade A.  Fancy.  IQF      4 or 5 Vegetable Mix of:","Fillable txt box or unprotected",{"$nulls":4},{"$f":"ROUND(G56*F56/F57,2)","v":{"$error":"#DIV/0!"}},"Cs",null,{"$f":"IF(OR(ISBLANK(J57),G56=0,ISBLANK(G56)),,ROUND(J57+$K$3,2))","v":0},{"$f":"ROUND(H57*K57,2)","v":{"$error":"#DIV/0!"}},{"$f":"ROUND(K57/F57,2)","v":{"$error":"#DIV/0!"}}]
[null,"1.  Beans, Wax or Green, cut; 2.  Beans, Limas; 3.  Carrots, Diced"]
[null,"4.  Corn, Golden whole kernel; 5.  Peas, Early or Sweet"]
[null,"All vegetables should have good color for the variety and type used."]
[24,"Vegetables, Oriental (No Imports)","Distributor Choice",null,"12/2Lb",24,0,{"$f":"ROUND(G61*F61/F61,2)","v":0},"Cs"]
[null,"40% French cut beans;  18-20% onions; 5% mushrooms.   Grade A Fancy.  IQF ","Fillable txt box or unprotected",{"$nulls":4},{"$f":"ROUND(G61*F61/F62,2)","v":{"$error":"#DIV/0!"}},"Cs",null,{"$f":"IF(OR(ISBLANK(J62),G61=0,ISBLANK(G61)),,ROUND(J62+$K$3,2))","v":0},{"$f":"ROUND(H62*K62,2)","v":{"$error":"#DIV/0!"}},{"$f":"ROUND(K62/F62,2)","v":{"$error":"#DIV/0!"}}]
[25,"Vegetable Soup Mix (No Imports)","Distributor Choice",null,"20Lb",20,5,{"$f":"ROUND(G63*F63/F63,2)","v":5},"Cs"]
[null,"Grade A Fancy.  IQF Nine Vegetable mix of okra, lima beans, whole kernel corn,","Fillable txt box or unprotected",{"$nulls":4},{"$f":"ROUND(G63*F63/F64,2)","v":{"$error":"#DIV/0!"}},"Cs",null,{"$f":"IF(OR(ISBLANK(J64),G63=0,ISBLANK(G63)),,ROUND(J64+$K$3,2))","v":0},{"$f":"ROUND(H64*K64,2)","v":{"$error":"#DIV/0!"}},{"$f":"ROUND(K64/F64,2)","v":{"$error":"#DIV/0!"}}]
[null," celery, onions, diced carrots, diced potatoes, green beans and green peas. "]
[null," "]
[{"$nulls":8},"Page Total",null,null,{"$f":"SUMIF(L6:L65,\">0\")","v":0}]

{"sheet":"Breakfast Products","index":387,"n_rows":271,"n_cols":20,"rows_kept":271,"merged":[[0,4,0,12],[1,4,1,12],[2,5,2,9]]}
[null,{"$f":"'Recap Sheet'!A2","v":"School Food Authority:"},null,null,{"$f":"'Recap Sheet'!A3","v":"Offeror Name:"},{"$nulls":9},"Commodity"]
[null,null,"Return to Recap Sheet",null,"GORDON FOOD SERVICE COMPANY"]
["Item","Description","Approved Brand Name / Manuf ID # ",null,null,"Firm Fixed Fee",{"$nulls":4},{"$f":"'Recap Sheet'!B4","v":{"v":0,"d":"$0.00"}},null,null,"Processing","Commodity","Pounds of",null,null,"NOI ","Net "]
["#",null,null,"Distributor","Vendor","Svgs","Est.","Bid ","Bid","Unit","Unit Price","Total ","Cost per","Fee for","Value Per","DF Needed","Commodity","NOI ","Price/","Cost Per"]
[{"$nulls":3},"Code","Pack","per unit","Bid Qty","Qty","Unit","Price","plus Fee","Price","Unit","Service","Pound","Per Case","Value ","Price","Serving","Serving"]
[null,"Breakfast Products",{"$nulls":12},"Eggs 100047"]
[1,"Bar, Mini Breakfast Bar                                                                    WGR","J& J Snacks Maple Brown Sugar 40452",null,"96/1.25z",96,0,{"$f":"ROUND(G7*F7/F7,2)","v":0},"Cs",null,{"$f":"IF(OR(ISBLANK(J7),G7=0,ISBLANK(G7)),,ROUND(J7+$K$3,2))","v":0},{"$f":"ROUND(H7*K7,2)","v":0},{"$f":"ROUND(K7/F7,2)","v":0},null," "," "," "," "," "," "]
[null,"Thaw and Serve.  One Serving provides 1.0 oz Equivalent Grain"," ",{"$nulls":11}," "," "," "," "," "," "]
[null,"Contains: Eggs, Milk, Soybeans, Wheat"," ",{"$nulls":11}," "," "," "," "," "," "]
[null,null," ",{"$nulls":11}," "," "," "," "," "," "]
[null,null,"Darlington Farms",null,"216/1.2z",216,null,{"$f":"ROUND($G$7*$F$7/F11,2)","v":0},"Cs",null,{"$f":"IF(OR(ISBLANK(J11),G7=0,ISBLANK(G7)),,ROUND(J11+$K$3,2))","v":0},{"$f":"ROUND(H11*K11,2)","v":0},{"$f":"ROUND(K11/F11,2)","v":0},null," "," "," "," "," "," "]
[null,null,"       70300  Chocolate Chip Soft Oatmeal ",{"$nulls":11}," "," "," "," "," "," "]
[null,null,"       70100 Apple Soft Oatmeal ",{"$nulls":11}," "," "," "," "," "," "]
[null,null,"       70400 Strawberry Soft Oatmeal Bar",{"$nulls":11}," "," "," "," "," "," "]
[2,"Bar, Whole Grain Oat Bar, Fruit filled              WGR    1.0 OEG","NutriGrain Bar",null,"96/1.55z",96,0,{"$f":"ROUND(G15*F15/F15,2)","v":0},"Cs",null,{"$f":"IF(OR(ISBLANK(J15),G15=0,ISBLANK(G15)),,ROUND(J15+$K$3,2))","v":0},{"$f":"ROUND(H15*K15,2)","v":0},{"$f":"ROUND(K15/F15,2)","v":0},null," "," "," "," "," ","  "]
[null,"IW,  Single Serve, Made with real fruit puree","38000-59772   Strawberry ",{"$nulls":11}," "," "," "," "," "," "]
[null,"SMART SNACKS COMPLIANT ","38000-90819    Blueberry  ",{"$nulls":11}," "," "," "," "," "," "]
[null,null,"38000-59779    Apple Cinnamon   ",{"$nulls":11}," "," "," "," "," "," "]
[3,"Biscuit, Chicken, IW.                                        WGR","Grand Strand Sandwich Co.  4009",null,"90/3.6z",90,0,{"$f":"ROUND($G$19*$F$19/F19,2)","v":0},"Cs",null,{"$f":"IF(OR(ISBLANK(J19),G19=0,ISBLANK(G19)),,ROUND(J19+$K$3,2))","v":0},{"$f":"ROUND(H19*K19,2)","v":0},{"$f":"ROUND(K19/F19,2)","v":0},null," "," "," "," "," "," "]
[null,"Breaded chicken patty with alternate protein and or egg additives.  ","Tyson 25839-328 (Discontinued per Manufact. (03/06/18)",null,"100/4.0z",100,null,{"$f":"ROUND($G$19*$F$19/F20,2)","v":0},"Cs",null,{"$f":"IF(OR(ISBLANK(J20),G19=0,ISBLANK(G19)),,ROUND(J20+$K$3,2))","v":0},0,0,null," "," "," "," "," "," "]
[null,"Contains 0 Trans Fat ","Snak Time STF9645NL/72",null,"100/2.85z",100,null,0,"Cs",null,{"$f":"IF(OR(ISBLANK(J21),G19=0,ISBLANK(G19)),,ROUND(J21+$K$3,2))","v":0},0,0,null," "," "," "," "," "," "]
[4,"Biscuit, Yeast Raised Potato Sausage (twin pack) WGR","(18-19) Snak Time STF9420NL/60",null,"100/2.60z",100,0,{"$f":"ROUND($G$25*$F$25/F22,2)","v":0},"Cs",null,{"$f":"IF(OR(ISBLANK(J22),G22=0,ISBLANK(G22)),,ROUND(J22+$K$3,2))","v":0},0,0,null," "," "," "," "," "," "]
[null,"Fully cooked, each portion provides 1 M/MA and 1.75 OEG"," ",{"$nulls":4}," "," ",null," "," "," ",null," "," "," "," "," "," "]
[null,"Contains 0 Trans Fat "," ",{"$nulls":4}," "," ",null," "," "," ",null," "," "," "," "," "," "]
[5,"Biscuit, Peach Cobbler","Tasty Brands 22020IW",null,"100/2.8z",100,0,{"$f":"ROUND($G$25*$F$25/F25,2)","v":0},"Cs",null,{"$f":"IF(OR(ISBLANK(J25),G25=0,ISBLANK(G25)),,ROUND(J25+$K$3,2))","v":0},{"$f":"ROUND(H25*K25,2)","v":0},{"$f":"ROUND(K25/F25,2)","v":0},null," "," "," "," "," "," "]
[null,"0 Trans fat. One serving provides 2 equivalent grains "," ",null," "," ",null," "," ",null," "," "," ",null," "," "," "," "," "," "]
[null," "," ",null," "," ",null," "," ",null," "," "," ",null," "," "," "," "," "," "]
[6,"Biscuits, Pre-formed Dough,   Frozen                                               WGR","Richs     09315",null,"216/2.1z",216,400,{"$f":"ROUND($G$28*$F$28/F28,2)","v":400},"Cs",null,{"$f":"IF(OR(ISBLANK(J28),G28=0,ISBLANK(G28)),,ROUND(J28+$K$3,2))","v":0},0,0,null," "," "," "," "," "," "]
[null,"0 Trans fat. Provides not more than 2oz  equivalent grains based on ","Mary B's 87000",null,"220/2.2z",220,null,{"$f":"ROUND($G$28*$F$28/F29,2)","v":392.73},"Cs",null,{"$f":"IF(OR(ISBLANK(J29),G28=0,ISBLANK(G28)),,ROUND(J29+$K$3,2))","v":0},0,0,null," "," "," "," "," "," "]
[null,"16 g =1 oz, at a minimum.  ","Pillsbury 132267",null,"216/2.51z",216,null,{"$f":"ROUND($G$28*$F$28/F30,2)","v":400},"Cs",null,{"$f":"IF(OR(ISBLANK(J30),G28=0,ISBLANK(G28)),,ROUND(J30+$K$3,2))","v":0},0,0,null," "," "," "," "," "," "]
[7,"Biscuits, WGR,Frozen dough puck, EASY SPLIT, ready to bake. Less than or equal"," Pillsbury  132268",null,"216/2.51z",216,0,{"$f":"ROUND($G$31*$F$31/F31,2)","v":0},"Cs",null,{"$f":"IF(OR(ISBLANK(J31),G31=0,ISBLANK(G31)),,ROUND(J31+$K$3,2))","v":0},0,0,null," "," "," "," "," "," "]
[null," to 220 calories, no more than 5g sat fat, and less than or equal to 400mg Sodium. ",{"$nulls":12}," "," "," "," "," "," "]
[null," Approx 2.51z serving must provide 2g equivalent",{"$nulls":12}," "," "," "," "," "," "]
[8,"Biscuits,Mini Pre-formed Dough,  Frozen                                           WGR","Pillsbury 132269",null,"210/1.25z",210,0,{"$f":"ROUND($G$34*$F$34/F34,2)","v":0},"Cs",null,{"$f":"IF(OR(ISBLANK(J34),G34=0,ISBLANK(G34)),,ROUND(J34+$K$3,2))","v":0},{"$f":"ROUND(H34*K34,2)","v":0},{"$f":"ROUND(K34/F34,2)","v":0},null," "," "," "," "," "," "]
[null,"One serving provides 1.0 z equivalent grain.   0 Trans fat ",{"$nulls":12}," "," "," "," "," "," "]
[null," ",{"$nulls":12}," "," "," "," "," "," "]
[9,"Bread, Slice Whole Wheat                                                          WGR","Super Bakery",null,"70/3.4z",70,0,{"$f":"ROUND(G37*F37/F37,2)","v":0},"Cs",null,{"$f":"IF(OR(ISBLANK(J37),G37=0,ISBLANK(G37)),,ROUND(J37+$K$3,2))","v":0},{"$f":"ROUND(H37*K37,2)","v":0},{"$f":"ROUND(K37/F37,2)","v":0},null," "," "," "," "," "," "]
[null,"Frozen, IW, Thaw and serve.  Product meets a minimum of 1.5 OEG","          6073   Ultra Wild Forest Berry  Slice     ",null,"70/3.4z",70,{"$nulls":8}," "," "," "," "," "," "]
[null,"220-280 calories with 2g of Sat fat or less, 0 trans fat, 220 mg of Sodium or","          6071    Ultra Banana Slice    ",null,"70/3.4z",70,{"$nulls":8}," "," "," "," "," "," "]
[null,"less.","          6075   Ultra  Pumpkin",null,"70/3.4z",70,{"$nulls":8}," "," "," "," "," "," "]
[{"$nulls":14}," "," "," "," "," "," "]
[10,"Breakfast Bites,WG Pancake and Pork                                WGR","71000 CN   State Fair  (3) WG ",null,"180/.85z",60,0,{"$f":"ROUND(G42*F42/F42,2)","v":0},"Cs",null,{"$f":"IF(OR(ISBLANK(J42),G42=0,ISBLANK(G42)),,ROUND(J42+$K$3,2))","v":0},{"$f":"ROUND(H42*K42,2)","v":0},{"$f":"ROUND(K42/F42,2)","v":0},null," "," "," "," "," "," "]
[null,"Frozen, Heat and Serve.  Whole Grain batter around a pre-cooked ground pork",{"$nulls":12}," "," "," "," "," "," "]
[null,"sausage link w/TVP.  3 g Sat fat or less, 0 Trans Fat, 500mg Sodium or less.",{"$nulls":12}," "," "," "," "," "," "]
[null,"One serving meets 1 oz. of cooked meat/meat alternate and one bread alternate.  ",{"$nulls":12}," "," "," "," "," "," "]
[11,"Breakfast Item, Individually Wrapped                                WGR 2.0 OEG","Kelloggs Crunchmania  ",null,"100/1.76z",100,0,{"$f":"ROUND(G46*F46/F46,2)","v":0},"Cs",null,{"$f":"IF(OR(ISBLANK(J46),G46=0,ISBLANK(G46)),,ROUND(J46+$K$3,2))","v":0},{"$f":"ROUND(H46*K46,2)","v":0},{"$f":"ROUND(K46/F46,2)","v":0},null," "," "," "," "," "," "]
[null,"Bite size whole grain grahams.  Meets 2.0 OEG"," 38000- 24518 Cinnamon Bun ",{"$nulls":11}," "," "," "," "," "," "]
[null,null," 38000- 24520 French Toast  ",{"$nulls":11}," "," "," "," "," "," "]
[12,"Breakfast Kits, Kelloggs & General Mills          WGR  2.0 OEG"," Kelloggs (Morning Jump Starts) ",null,"44Ct",44,0,{"$f":"ROUND(G49*F49/F49,2)","v":0},"Cs",null,{"$f":"IF(OR(ISBLANK(J49),G49=0,ISBLANK(G49)),,ROUND(J49+$K$3,2))","v":0},{"$f":"ROUND(H49*K49,2)","v":0},{"$f":"ROUND(K49/F49,2)","v":0},null," "," "," "," "," "," "]
[null,"Each kit provides: 2oz equivalent  grain, 1/2 cup fruit serving, ","     38000-51091 Blue Frosted Flaked R/ S",{"$nulls":11}," "," "," "," "," "," "]
[null,"plus a spoon/napkin kit, each master case  includes trash bag.","     38000-78792 Froot Loops R/S",{"$nulls":11}," "," "," "," "," "," "]
[null,"Contains 3 Ct Keebler Graham Cracker, 1.0 oz Cereal Bowl","     38000-78791 Green Apple Jacks R/S",{"$nulls":11}," "," "," "," "," "," "]
[null,"and 100% Fruit juice",{"$nulls":12}," "," "," "," "," "," "]
[null,null,"ES Breaks",null,"60Ct",60,null,{"$f":"ROUND($G$49*$F$49/F54,2)","v":0},"Cs",null,{"$f":"IF(OR(ISBLANK(J54),G49=0,ISBLANK(G49)),,ROUND(J54+$K$3,2))","v":0},{"$f":"ROUND(H54*K54,2)","v":0},{"$f":"ROUND(K54/F54,2)","v":0},null," "," "," "," "," "," "]
[null,null,"     61101 Cocoa Puffs - RS",{"$nulls":11}," "," "," "," "," "," "]
[null,null,"     61103  Lucky Charms",{"$nulls":16}," "]
[null,null,"     61114  Trix Reduced Sugar",{"$nulls":11}," "," "," "," "," "," "]
[null,null,"     61123  Froot Loops - Reduced Sugar",{"$nulls":11}," "," "," "," "," "," "]
[null,null,"     61202  Cheerios with Craisins",{"$nulls":11}," "," "," "," "," "," "]
[13,"Cereal, General Mills, Assorted Flavors,                                     WGR               ","General Mills ",null,"96 Ct",96,705,{"$f":"ROUND(G60*F60/F60,2)","v":705},"Cs",null,{"$f":"IF(OR(ISBLANK(J60),G60=0,ISBLANK(G60)),,ROUND(J60+$K$3,2))","v":0},{"$f":"ROUND(H60*K60,2)","v":0},{"$f":"ROUND(K60/F60,2)","v":0},null," "," "," "," "," "," "]
[null," Made from whole grain.  Prepackaged,  Bowl pack.  ","31879 Apple Cinnamon Cheerios WG",{"$nulls":11}," "," "," "," "," "," "]
[null,"1 oz Cereal = 1oz Equivalent Grain ","32262 Cheerios Whole Grain",{"$nulls":11}," "," "," "," "," "," "]
[null,null,"11815 Cinnamon Toast Crunch Whole Grain",{"$nulls":11}," "," "," "," "," "," "]
[null,null,"11943 Golden Grahams Whole Grain",{"$nulls":11}," "," "," "," "," "," "]
[null,null,"11918 Honey Nut Cheerios Whole Grain",{"$nulls":11}," "," "," "," "," ","  "]
[null,null,"11866 Honey Nut Chex Whole Grain",{"$nulls":11}," "," "," "," "," "," "]
[null,null,"31917 Lucky Charms Whole Grain",{"$nulls":11}," "," "," "," "," "," "]
[null,null,"32263 Multigrain Cheerios",{"$nulls":11}," "," "," "," "," "," "]
[null,null,"31919 Reese's Puffs Whole Grain",{"$nulls":11}," "," "," "," "," "," "]
[null,null,"12392 Total Raisin Bran Whole Grain",{"$nulls":11}," "," "," "," "," "," "]
[null,null,"31923 Trix Whole Grain",{"$nulls":11}," "," "," "," "," "," "]
[null,null,"31916 Fruity Cheerios Whole Grain",{"$nulls":11}," "," "," "," "," "," "]
[null,null,"11768 Frosted Corn Flakes Whole Grain",{"$nulls":11}," "," "," "," "," "," "]
[null,"Asst bowl pack: 40 25% LS Cinnamon TSt Crunch; 16 Golden Grahams;","32301 Kids Choice Asst Bowl pack",{"$nulls":11}," "," "," "," "," "," "]
[null,"28 Apple Cinnamon cheerios;12 Frosted Corn flakes",{"$nulls":12}," "," "," "," "," "," "]
[14,"Cereal, General Mills, Reduced Sugar, Assorted Flavors             WGR"," General Mills Whole Grain 1/2013",null,"96 Ct",96,0,{"$f":"ROUND(G76*F76/F76,2)","v":0},"Cs",null,{"$f":"IF(OR(ISBLANK(J76),G76=0,ISBLANK(G76)),,ROUND(J76+$K$3,2))","v":0},{"$f":"ROUND(H76*K76,2)","v":0},{"$f":"ROUND(K76/F76,2)","v":0},null," "," "," "," "," "," "]
[null,"Made from whole grain.  Prepackaged, Bowl Pack.  ","29444 Redu Sugar Cinnamon Toast Crunch",{"$nulls":11}," "," "," "," "," "," "]
[null,"1oz Cereal provides  1 oz Grain Equivalent","31922 Reduced Sugar Trix",{"$nulls":11}," "," "," "," "," "," "]
[null,null,"31888 Reduced Sugar Cocoa Puffs",{"$nulls":11}," "," "," "," "," "," "]
[15,"Cereal, Kelloggs, Assorted Flavors, Whole Grain Rich               WGR  1.0 OEG","Kelloggs  ",null,"96 Ct",96,200,{"$f":"ROUND(G80*F80/F80,2)","v":200},"Cs",null,{"$f":"IF(OR(ISBLANK(J80),G80=0,ISBLANK(G80)),,ROUND(J80+$K$3,2))","v":0},{"$f":"ROUND(H80*K80,2)","v":0},{"$f":"ROUND(K80/F80,2)","v":0},null," "," "," "," "," "," "]
[null,"Prepackaged, bowl pack  1oz Cereal provides  1oz Equivalent Grain","38000-00896 Raisin Bran ",{"$nulls":11}," "," "," "," "," "," "]
[null,null,"38000-04996  Frosted Mini Wheats. Bite Size",null,"CACFP APPROVED",{"$nulls":9}," "," "," "," "," "," "]
[null,null,"38000-45861 Choc Frsted Mini Whts Bite-size",{"$nulls":11}," "," "," "," "," "," "]
[null,null,"38000-78789 Rice Krispies, WG-Gluten Free ",null,"CACFP APPROVED",{"$nulls":9}," "," "," "," "," "," "]
[{"$nulls":14}," "," "," "," "," "," "]
[16,"Cereal, Kelloggs, Reduced Sugar, Whole Grain Rich              WGR  1.0 OEG"," Kelloggs  ",null,"96 Ct",96,0,{"$f":"ROUND(G86*F86/F86,2)","v":0},"Cs",null,{"$f":"IF(OR(ISBLANK(J86),G86=0,ISBLANK(G86)),,ROUND(J86+$K$3,2))","v":0},{"$f":"ROUND(H86*K86,2)","v":0},{"$f":"ROUND(K86/F86,2)","v":0},null," "," "," "," "," "," "]
[null,"Prepackaged, bowl pack  1oz Cereal provides  1oz Equivalent Grain","38000-78788 Reduced Sugar, Froot Loops",{"$nulls":11}," "," "," "," "," "," "]
[null,null,"38000-78787 Reduced Sugar, Apple Jacks",{"$nulls":11}," "," "," "," "," "," "]
[null,null,"38000-54998 Red Sugar,Frosted Flakes, MG",{"$nulls":11}," "," "," "," "," "," "]
[null,null,"38000-78786 Cinnamon Flakes MultiGrain",null,"CACFP APPROVED",{"$nulls":9}," "," "," "," "," "," "]
[null,null,"38000-10992 Chocolate Zucaritas Frosted Flakes",{"$nulls":11}," "," "," "," "," "," "]
[{"$nulls":14}," "," "," "," "," "," "]
[17,"Cereal, Post Consumer Brands, Assorted Flavors","Post Consumer Brands",null,"96 Ct",96,0,{"$f":"ROUND(G93*F93/F93,2)","v":0},"Cs",null,{"$f":"IF(OR(ISBLANK(J93),G93=0,ISBLANK(G93)),,ROUND(J93+$K$3,2))","v":0},{"$f":"ROUND(H93*K93,2)","v":0},{"$f":"ROUND(K93/F93,2)","v":0},null," "," "," "," "," "," "]
[null,"Prepackaged, Bowl Pack.  ","03915 Cinnamon Toasters WG   1 OEG",null,"96/1z",96,{"$nulls":8}," "," "," "," "," "," "]
[null,"1 oz Cereal = 1oz Equivalent Grain ","27597 Honey Scooter  WG 1 OEG",null,"96/1z",96,{"$nulls":8}," "," "," "," "," "," "]
[null,null,"27596 Marshmallow Mateys WG  1 OEG",null,"96/1z",96,{"$nulls":8}," "," "," "," "," "," "]
[null,null,"04515 Honey Graham Squares   1 OEG",null,"96/1z",96,{"$nulls":8}," "," "," "," "," "," "]
[null,null,"715 Raisin Bran  1 OEG",null,"96/1.25z",96,{"$nulls":8}," "," "," "," "," "," "]
[null,null,"27164 Scooter Whole Grain  1 OEG",null,"96/1z",96,{"$nulls":8}," "," "," "," "," "," "]
[null,null," ",null," "," ",{"$nulls":8}," "," "," "," "," "," "]
[{"$nulls":14}," "," "," "," "," "," "]
[18,"Cereal, Single Serve Pouch,                                           Meets 1.0 OEG","Kellogg's ",null,"96/1.0z",96,50,{"$f":"ROUND(G102*F102/F102,2)","v":50},"Cs",null,{"$f":"IF(OR(ISBLANK(J102),G102=0,ISBLANK(G102)),,ROUND(J102+$K$3,2))","v":0},{"$f":"ROUND(H102*K102,2)","v":0},{"$f":"ROUND(K102/F102,2)","v":0},null," "," "," "," "," "," "]
[null,"No high fructose corn syrup","        38000-11465 Frosted Flakes Multi-Grain RS",null,"Smart Snack Compliant",{"$nulls":9}," "," "," "," "," "," "]
[null,null,"        38000-11467  Fruit Loops RS",{"$nulls":11}," "," "," "," "," "," "]
[null,"Contains:Wheat, may contain Milk and soy","        38000-11469  Apple Jacks RS",{"$nulls":11}," "," "," "," "," "," "]
[null,null," ",{"$nulls":11}," "," "," "," "," "," "]
[19,"Cereal Bar, Whole Grain                                                   WGR  1.0 OEG","General Mills Whole Grain Bar   ",null,"96/1.42z",96,0,{"$f":"ROUND($G$107*$F$107/F107,2)","v":0},"Cs",null,{"$f":"IF(OR(ISBLANK(J107),G107=0,ISBLANK(G107)),,ROUND(J107+$K$3,2))","v":0},{"$f":"ROUND(H107*K107,2)","v":0},{"$f":"ROUND(K107/F107,2)","v":0},null," "," "," "," "," "," "]
[null,"made from Whole Grain Oats","     45576 Cinnamon Toast Crunch  ",{"$nulls":11}," "," "," "," "," "," "]
[null,"Calories 150 or less, 0 Trans fat; Saturated Fat 1g or less;  ","     45577 Cocoa Puffs   ",{"$nulls":11}," "," "," "," "," "," "]
[null,"90- 140mg Sodium  per serving.","     31912 Fruity Cheerios  ",{"$nulls":11}," "," "," "," "," "," "]
[null,null,"     31914 Team Cherrios  ",{"$nulls":11}," "," "," "," "," "," "]
[null,"Smart Snacks Compliant ","     31915 Trix",{"$nulls":11}," "," "," "," "," "," "]
[null,null,"Kelloggs, Chewy Granola Bar  ",null,"96/1.34z",96,null,{"$f":"ROUND($G$107*$F$107/F113,2)","v":0},"Cs",null,{"$f":"IF(OR(ISBLANK(J113),G107=0,ISBLANK(G107)),,ROUND(J113+$K$3,2))","v":0},{"$f":"ROUND(K113*H113,2)","v":0},{"$f":"ROUND(K113/F113,2)","v":0},null," "," "," "," "," "," "]
[null,null,"     38000-91612 Chocolate",{"$nulls":11}," "," "," "," "," "," "]
[null,null,"     38000-48396 Apple Cinnamon",{"$nulls":11}," "," "," "," "," "," "]
[null,null,"     38000-54937 Berry   ",{"$nulls":11}," "," "," "," "," "," "]
[{"$nulls":14}," "," "," "," "," "," "]
[20,"Cinnamon Rolls, Individually Wrapped                   WGR  2.0 OEG","Pillsbury Mini Cinnis  133686000",null,"72/2.29z",72,0,{"$f":"ROUND(G118*F118/F118,2)","v":0},"Cs",null,{"$f":"IF(OR(ISBLANK(J118),G118=0,ISBLANK(G118)),,ROUND(J118+$K$3,2))","v":0},{"$f":"ROUND(H118*K118,2)","v":0},{"$f":"ROUND(K118/F118,2)","v":0},null," "," "," "," "," "," "]
[null,"Thaw /Heat/ Serve, One serving provides 2 oz Equivalent Grains ","Hadley Farms  375IW",null,"144/2.7z",144,null,{"$f":"ROUND(G118*F118/F119,2)","v":0},"Cs",null,{"$f":"IF(OR(ISBLANK(J119),G118=0,ISBLANK(G118)),,ROUND(J119+$K$3,2))","v":0},{"$f":"ROUND(H119*K119,2)","v":0},{"$f":"ROUND(K119/F119,2)","v":0},null," "," "," "," "," "," "]
[{"$nulls":14}," "," "," "," "," "," "]
[21,"Cinnamon Rolls,  Whole Wheat                            WGR","Bridgford 6718 (1.75)",null,"160/2.25z",160,0,{"$f":"ROUND(G121*F121/F121,2)","v":0},"Cs",null,{"$f":"IF(OR(ISBLANK(J121),G121=0,ISBLANK(G121)),,ROUND(J121+$K$3,2))","v":0},{"$f":"ROUND(H121*K121,2)","v":0},{"$f":"ROUND(K121/F121,2)","v":0},null," "," "," "," "," "," "]
[null,"Pre-sliced cinnamon roll dough, IQF. 0 trans fat, 1 g sat fat",{"$nulls":12}," "," "," "," "," "," "]
[null,"One serving provides not more than 2oz Equivalent grains",{"$nulls":12}," "," "," "," "," "," "]
[22,"Dough, Whole Wheat , \"Ranch Style Roll\" , Proof and Bake ","Distributor Choice",null,"240/1.5z",240,0,{"$f":"ROUND(G124*F124/F124,2)","v":0},"Cs",null,{"$f":"IF(OR(ISBLANK(J124),G124=0,ISBLANK(G124)),,ROUND(J124+$K$3,2))","v":0},{"$f":"ROUND(H124*K124,2)","v":0},{"$f":"ROUND(K124/F124,2)","v":0},null," "," "," "," "," "," "]
[null,"Contains a minimum 51% Whole wheat flour, enriched","Fillable txt box ",{"$nulls":11}," "," "," "," "," "," "]
[null,"One  serving equals 1.5 grain/bread servings ",{"$nulls":12}," "," "," "," "," "," "]
[{"$nulls":14}," "," "," "," "," "," "]
[23,"Doughnut Holes,  Ind.wrapped.                                   WGR   1.0 OEG","Super Bakery ",null,"160/1.3z",160,0,{"$f":"ROUND(G128*F128/F128,2)","v":0},"Cs",null,{"$f":"IF(OR(ISBLANK(J128),G128=0,ISBLANK(G128)),,ROUND(J128+$K$3,2))","v":0},{"$f":"ROUND(H128*K128,2)","v":0},{"$f":"ROUND(K128/F128,2)","v":0},null," "," "," "," "," "," "]
[null,"One serving provides 1oz equivalent grain.","     9200 Glazed (Discontinued by Manuf. 03/06/18)",{"$nulls":11}," "," "," "," "," "," "]
[null,"Frozen. Thaw and serve.     Meets Smart Snacks","     9201 Cinnamon (Discontinued by Manuf. 03/06/18)",{"$nulls":11}," "," "," "," "," "," "]
[null,null,"     9202 Powdered",{"$nulls":11}," "," "," "," "," "," "]
[24,"Doughnut Holes, Bulk ","(18-19) Rich's 2725",null,"384/.41z",128,0,{"$f":"ROUND(G132*F132/F132,2)","v":0},"Cs",null,{"$f":"IF(OR(ISBLANK(J132),G132=0,ISBLANK(G132)),,ROUND(J132+$K$3,2))","v":0},{"$f":"ROUND(H132*K132,2)","v":0},{"$f":"ROUND(K132/F132,2)","v":0},null," "," "," "," "," "," "]
[null,"Frozen, thaw, heat and serve 100-200 calories with no more than 4 g saturated fat and ",{"$nulls":12}," "," "," "," "," "," "]
[null,"200 mg of sodium per serving. One portion provides min. 1 OEG",{"$nulls":12}," "," "," "," "," "," "]
[null,"Possible Allergens: Wheat, Soy, Milk",{"$nulls":12}," "," "," "," "," "," "]
[25,"Doughnut, Yeast Raised Donut, WG","(18-19) Rich's 14839",null,"84/2.45z",84,0,{"$f":"ROUND(G136*F136/F136,2)","v":0},"Cs",null,{"$f":"IF(OR(ISBLANK(J136),G136=0,ISBLANK(G136)),,ROUND(J136+$K$3,2))","v":0},{"$f":"ROUND(H136*K136,2)","v":0},{"$f":"ROUND(K136/F136,2)","v":0},null," "," "," "," "," "," "]
[null,"Frozen, thaw, heat and serve 200-300 calories with no more than 7 g saturated fat and ",{"$nulls":12}," "," "," "," "," "," "]
[null,"350 mg of sodium per serving. One portion provides min. 2 OEG",{"$nulls":12}," "," "," "," "," "," "]
[null,"Possible Allergens: Wheat, Soy, Milk, and Eggs",{"$nulls":12}," "," "," "," "," "," "]
[26,"Dunkin Stick, WGR","Super Bakery 7010",null,"100/1.9z",100,0,{"$f":"ROUND(G140*F140/F140,2)","v":0},"Cs",null,{"$f":"IF(OR(ISBLANK(J140),G140=0,ISBLANK(G140)),,ROUND(J140+$K$3,2))","v":0},{"$f":"ROUND(H140*K140,2)","v":0},{"$f":"ROUND(K140/F140,2)","v":0},null," "," "," "," "," "," "]
[null,"One 1.9 oz. serving equals one EOG",{"$nulls":12}," "," "," "," "," "," "]
[{"$nulls":14}," "," "," "," "," "," "]
[null," ",{"$nulls":12}," "," "," "," "," "," "]
[27,"French Toast Sticks, Pre-Cooked, IQF,                          WGR   2.0 OEG","Farm Rich 37722 (4)  ",null,"480/cs",120,62,{"$f":"ROUND(G144*F144/F144,2)","v":62},"Cs",{"v":33.4,"d":"$33.40"},{"$f":"IF(OR(ISBLANK(J144),G144=0,ISBLANK(G144)),,ROUND(J144+$K$3,2))","v":{"v":33.4,"d":"$33.40"}},{"$f":"ROUND(H144*K144,2)","v":{"v":2070.8,"d":"$2,070.80"}},{"$f":"ROUND(K144/F144,2)","v":{"v":0.28,"d":"$0.28"}}]
[null,"Frozen, heat and serve, 150-250 calories with no more than 2 g saturated fat and 350 mg ","Krusteaz 068615160346 (4)  2.25 OEG",null,"176/.78z",44,null,{"$f":"ROUND($G$152*$F$152/F145,2)","v":0},"Cs",null,{"$f":"IF(OR(ISBLANK(J145),G144=0,ISBLANK(G144)),,ROUND(J145+$K$3,2))","v":0},{"$f":"ROUND(K145*H145,2)","v":0},0]
[null,"sodium, CN labeled for four sticks to provide min. 2 OEG","Aunt Jemima 43586 (4) 10#",null,"188/.85",47,null,{"$f":"ROUND($G$152*$F$152/F146,2)","v":0},"Cs",null,{"$f":"IF(OR(ISBLANK(J146),G144=0,ISBLANK(G144)),,ROUND(J146+$K$3,2))","v":0},{"$f":"ROUND(K146*H146,2)","v":0},0]
[null,"Possible Allergens:  Egg, Soy, Milk and Wheat","Right Start RS8627 (3)",null,"85/3.0",85,null,{"$f":"ROUND($G$152*$F$152/F147,2)","v":0},"Cs",null,{"$f":"IF(OR(ISBLANK(J147),G144=0,ISBLANK(G144)),,ROUND(J147+$K$3,2))","v":0},{"$f":"ROUND(K147*H147,2)","v":0},0]
[28,"French Toast Sticks, Maple Glazed, WG","Michael Foods 75010 ",null,"85/2.90z",85,0,{"$f":"ROUND(G148*F148/F148,2)","v":0},"Cs",{"v":30.04,"d":"$30.04"},{"$f":"IF(OR(ISBLANK(J148),G148=0,ISBLANK(G148)),,ROUND(J148+$K$3,2))","v":0},{"$f":"ROUND(H148*K148,2)","v":0},0,{"v":28.04,"d":"$28.04"},{"v":0.4055,"d":"$0.4055"},4.93,{"$f":"ROUND(O148*P148,2)","v":{"v":2,"d":"$2.00"}},{"$f":"K148-Q148","v":{"v":-2,"d":"-$2.00"}},{"$f":"R148/F148","v":{"v":-0.023529411764705882,"d":"-$0.02"}},{"$f":"N148/F148","v":{"v":0.32988235294117646,"d":"$0.33"}}]
[null,"Frozen, heat and serve, 150-250 calories with no more than 2 g saturated fat and 350 mg ","Sunny Fresh 40097",null,"100/2.90z",100,null,{"$f":"ROUND($G$148*$F$148/F149,2)","v":0},"Cs",null,{"$f":"IF(OR(ISBLANK(J149),G148=0,ISBLANK(G148)),,ROUND(J149+$K$3,2))","v":0},{"$f":"ROUND(K149*H149,2)","v":0},0,0,{"v":0.4055,"d":"$0.4055"},8.01,{"$f":"ROUND(O149*P149,2)","v":{"v":3.25,"d":"$3.25"}},null,null,{"$f":"N149/F149","v":0}]
[null,"sodium per serving, CN labeled for three sticks to provide min. 1 OEG"," ",null," "," ",null," "," ",{"$nulls":4}," "," "," "," "," "," "," "]
[null,"Possible Allergens:  Egg, Milk ,Soy, and Wheat"," ",null," "," ",null," "," "]
[29,"French Toast Sticks, WG Cinnamon, IW","Sunny Fresh 40094",null,"110/2.90z",110,0,{"$f":"ROUND(G152*F152/F152,2)","v":0},"Cs",{"v":46.68,"d":"$46.68"},{"$f":"IF(OR(ISBLANK(J152),G152=0,ISBLANK(G152)),,ROUND(J152+$K$3,2))","v":0},{"$f":"ROUND(H152*K152,2)","v":0},{"$f":"ROUND(K152/F152,2)","v":0},{"v":43.28,"d":"$43.28"},{"v":0.4055,"d":"$0.4055"},8.38,{"$f":"ROUND(O152*P152,2)","v":{"v":3.4,"d":"$3.40"}},{"$f":"K152-Q152","v":{"v":-3.4,"d":"-$3.40"}},{"$f":"R152/F152","v":{"v":-0.030909090909090907,"d":"-$0.03"}},{"$f":"N152/F152","v":{"v":0.39345454545454545,"d":"$0.39"}}]
[null,"Frozen, heat and serve, 150-250 calories with no more than 2 g saturated fat and 350 mg ",{"$nulls":12}," "," "," "," "," "," "]
[null,"Sodium  CIndicate # of sticks to equal 2 oz equivalent grain.",{"$nulls":12}," "," "," "," "," "," "]
[null,"Possible Allergens:  Egg, Soy, and Wheat",{"$nulls":12}," "," "," "," "," "," "]
[30,"French Toast, Mini, 100% Whole Grain, Ovenable Bag         WGR  2.0 OEG","(14-15) Eggo Mini French Toast Bites",null,"72/3.03z",72,36,{"$f":"ROUND($G$156*$F$156/F156,2)","v":36},"Cs",null,{"$f":"IF(OR(ISBLANK(J156),G156=0,ISBLANK(G156)),,ROUND(J156+$K$3,2))","v":0},{"$f":"ROUND(H156*K156,2)","v":0},{"$f":"ROUND(K156/F156,2)","v":0},null," "," "," "," "," "," "]
[null,"IW  Heat from Frozen, ovenable bag  No HFCS, 8 mini french toasts per bag.  ","              38000-80801  Chocolate Chip",{"$nulls":11}," "," "," "," "," "," "]
[null,"Presweetened, syrup infused.  Less than 2 g Sat Fat, 0 Trans Fat, Less than","              38000-80693-3 Original Maple(15-16)",{"$nulls":11}," "," "," "," "," "," "]
[null,null,"(15-16)Pillsbury 137309  Cinnamon Rush",null,"72/2.64z",72,null,{"$f":"ROUND($G$156*$F$156/F159,2)","v":36},"Cs",null,{"$f":"IF(OR(ISBLANK(J159),G156=0,ISBLANK(G156)),,ROUND(J159+$K$3,2))","v":0},{"$f":"ROUND(H159*K159,2)","v":0},{"$f":"ROUND(K159/F159,2)","v":0},null," "," "," "," "," "," "]
[31,"Strudel Stick, Fruit Filled,                                               WGR   2.0 OEG","(14-15) 127852000  Pillsbury Frudel, Apple Strudel",null,"72/2.29z",72,0,{"$f":"ROUND(G160*F160/F160,2)","v":0},"Cs",null,{"$f":"IF(OR(ISBLANK(J160),G160=0,ISBLANK(G160)),,ROUND(J160+$K$3,2))","v":0},{"$f":"ROUND(H160*K160,2)","v":0},{"$f":"ROUND(K160/F160,2)","v":0},null," "," "," "," "," "," "]
[null,"Frozen. Heat and serve. Whole grain rich. No more than 6 g",{"$nulls":12}," "," "," "," "," "," "]
[null,"fat and 280 mg sodium per serving. 0 trans fat. One serving",{"$nulls":12}," "," "," "," "," "," "]
[null,"provides  2 oz Equivalent Grains",{"$nulls":12}," "," "," "," "," "," "]
[{"$nulls":14}," "," "," "," "," "," "]
[32,"Fruit Pocket, with Whole Grain Rich crust                         WGR 2.0 OEG","Horizon Snack Foods (Cutie Pie)",null,"80/3.95 z",80,0,{"$f":"ROUND(G165*F165/F165,2)","v":0},"Cs",null,{"$f":"IF(OR(ISBLANK(J165),G165=0,ISBLANK(G165)),,ROUND(J165+$K$3,2))","v":0},{"$f":"ROUND(H165*K165,2)","v":0},{"$f":"ROUND(K165/F165,2)","v":0},null," "," "," "," "," "," "]
[null,"Fruit filling.  One Fruit Pocket provides 1/2 cup fruit and 2.0 OEG, 0 trans fat","1402-1  Apple",{"$nulls":11}," "," "," "," "," "," "]
[null,"Thaw and Serve, Individually Wrapped"," ",{"$nulls":11}," "," "," "," "," "," "]
[{"$nulls":14}," "," "," "," "," "," "]
[33,"Fruit Pocket, with Whole Grain Rich crust                         WGR 2.0 OEG","Horizon Snack Foods (Cutie Pie)",null,"80/3.95 z",80,0,{"$f":"ROUND(G169*F169/F169,2)","v":0},"Cs",null,{"$f":"IF(OR(ISBLANK(J169),G169=0,ISBLANK(G169)),,ROUND(J169+$K$3,2))","v":0},{"$f":"ROUND(H169*K169,2)","v":0},{"$f":"ROUND(K169/F169,2)","v":0},null," "," "," "," "," "," "]
[null,"Fruit filling.  One Fruit Pocket provides 1/2 cup fruit and 2.0 OEG, 0 trans fat","1402-13 Cherry",{"$nulls":11}," "," "," "," "," "," "]
[null,"Thaw and Serve, Individually Wrapped"," ",{"$nulls":11}," "," "," "," "," "," "]
[{"$nulls":14}," "," "," "," "," "," "]
[34,"Grits, Whole Grain Enriched","Distributor Choice",null,"8/5#",40,13,{"$f":"ROUND($G$173*$F$173/F173,2)","v":13},"Cs",null,{"$f":"IF(OR(ISBLANK(J173),G173=0,ISBLANK(G173)),,ROUND(J173+$K$3,2))","v":0},{"$f":"ROUND(H173*K173,2)","v":0},{"$f":"ROUND(K173/F173,2)","v":0},null," "," "," "," "," "," "]
[null,"Shelf Stable","Fillable txt box ",{"$nulls":4}," ",{"$nulls":6}," "," "," "," "," "," "]
[35,"Grits, Regular ","Distributor Choice",null,"8/5#",40,60,{"$f":"ROUND($G$175*$F$175/F175,2)","v":60},"Cs",null,{"$f":"IF(OR(ISBLANK(J175),G175=0,ISBLANK(G175)),,ROUND(J175+$K$3,2))","v":0},{"$f":"ROUND(H175*K175,2)","v":0},{"$f":"ROUND(K175/F175,2)","v":0},null," "," "," "," "," "," "]
[null,"Shelf Stable. Quick cooking","Fillable txt box ",{"$nulls":11}," "," "," "," "," "," "]
[36,"Oats, Rolled ","Distributor Choice",null,"12/42 oz ",504,13,{"$f":"ROUND($G$177*$F$177/F177,2)","v":13},"Cs",null,{"$f":"IF(OR(ISBLANK(J177),G177=0,ISBLANK(G177)),,ROUND(J177+$K$3,2))","v":0},{"$f":"ROUND(H177*K177,2)","v":0},{"$f":"ROUND(K177/F177,2)","v":0},null," "," "," "," "," "," "]
[null,"100% Natural ","Fillable txt box ",{"$nulls":11}," "," "," "," "," "," "]
[37,"Honey Bun, Individually wrapped.  Thaw and Serve.                      WGR","Super Bakery ",null,"80/2.75z",80,55,{"$f":"ROUND(G179*F179/F179,2)","v":55},"Cs",null,{"$f":"IF(OR(ISBLANK(J179),G179=0,ISBLANK(G179)),,ROUND(J179+$K$3,2))","v":0},{"$f":"ROUND(H179*K179,2)","v":0},{"$f":"ROUND(K179/F179,2)","v":0},null," "," "," "," "," "," "]
[null,"One serving provides 2 oz equivalent grain.  ","        6060 Goody Bun",{"$nulls":11}," "," "," "," "," "," "]
[{"$nulls":14}," "," "," "," "," "," "]
[38,"Loaf, Mini, IW,                                                                        WGR   1.0 OEG","Super Bakery ",null,"120/2.0z",120,0,{"$f":"ROUND(G182*F182/F182,2)","v":0},"Cs",null,{"$f":"IF(OR(ISBLANK(J182),G182=0,ISBLANK(G182)),,ROUND(J182+$K$3,2))","v":0},{"$f":"ROUND(H182*K182,2)","v":0},{"$f":"ROUND(K182/F182,2)","v":0},null," "," "," "," "," "," "]
[null,"Frozen, thaw and serve.  100% Whole Wheat                                ","  7055 Blueberry",{"$nulls":11}," "," "," "," "," "," "]
[null,"1 serving  provides 1 oz equivalent grain","  7056 Banana",{"$nulls":11}," "," "," "," "," "," "]
[null,null,"  7057 Apple Cinnamon ",{"$nulls":11}," "," "," "," "," "," "]
[39,"Muffins, Individually Wrapped                                           WGR   1.0 OEG"," COOL MUFFINS ",null,"96/1.8z",96,0,{"$f":"ROUND($G$186*$F$186/F186,2)","v":0},"Cs",null,{"$f":"IF(OR(ISBLANK(J186),G186=0,ISBLANK(G186)),,ROUND(J186+$K$3,2))","v":0},{"$f":"ROUND(H186*K186,2)","v":0},{"$f":"ROUND(K186/F186,2)","v":0},null," "," "," "," "," "," "]
[null,"One muffin provides 1oz Equivalent grain","            30921   Cinnamon",{"$nulls":11}," "," "," "," "," "," "]
[null,"Frozen, Thaw and Serve","            30727  Blueberry ",{"$nulls":11}," "," "," "," "," "," "]
[null,null,"            30720   Apple",{"$nulls":11}," "," "," "," "," "," "]
[null,null,"            30723  Banana",{"$nulls":11}," "," "," "," "," "," "]
[null,null,"Super Bakery",null,"72/2.0z",72,null,{"$f":"ROUND($G$186*$F$186/F191,2)","v":0},"Cs",null,{"$f":"IF(OR(ISBLANK(J191),G186=0,ISBLANK(G186)),,ROUND(J191+$K$3,2))","v":0},{"$f":"ROUND(H191*K191,2)","v":0},{"$f":"ROUND(K191/F191,2)","v":0},null," "," "," "," "," "," "]
[null,null,"            9050  Blueberry",{"$nulls":11}," "," "," "," "," "," "]
[null,null,"            9052  Banana",{"$nulls":11}," "," "," "," "," "," "]
[null,null," ",{"$nulls":11}," "," "," "," "," "," "]
[40,"Muffins, Reduced Fat,                                                      WGR  1.0 OEG","Otis Spunkmeyer",null,"72/2.0z",72,466,{"$f":"ROUND(G195*F195/F195,2)","v":466},"Cs",null,{"$f":"IF(OR(ISBLANK(J195),G195=0,ISBLANK(G195)),,ROUND(J195+$K$3,2))","v":0},{"$f":"ROUND(H195*K195,2)","v":0},{"$f":"ROUND(K195/F195,2)","v":0},null," "," "," "," "," "," "]
[null,"30% or less of calories from fat, 30% or less by weight of added sugar.","   10143 Wild Blueberry   ",{"$nulls":11}," "," "," "," "," "," "]
[null,"Individually Wrapped","   10144 Banana    ",{"$nulls":11}," "," "," "," "," "," "]
[null,"One muffin provides 1.0 oz Equivalent grain","   10145  Chocolate Chocolate Chip",{"$nulls":11}," "," "," "," "," "," "]
[null,null,"   10146 Apple Cinnamon",{"$nulls":11}," "," "," "," "," "," "]
[null,null,"Smart Choice",null,"96/2.0z",96,null,{"$f":"ROUND(G195*F195/F200,2)","v":349.5},"Cs",null,{"$f":"IF(OR(ISBLANK(J200),G195=0,ISBLANK(G195)),,ROUND(J200+$K$3,2))","v":0},{"$f":"ROUND(H200*K200,2)","v":0},{"$f":"ROUND(K200/F200,2)","v":0},null," "," "," "," "," "," "]
[null,null,"    2661 Blueberry",{"$nulls":11}," "," "," "," "," "," "]
[null,null,"    2666 Apple Cinnamon",{"$nulls":11}," "," "," "," "," "," "]
[null,null,"    2670 Chocolate Chip",{"$nulls":11}," "," "," "," "," "," "]
[null,null,"    2675 Banana",{"$nulls":11}," "," "," "," "," "," "]
[41,"Muffins, Reduced Fat,                                                    WGR  1.0 OEG","Chef Pierre WG",null,"48/2oz",48,0,{"$f":"ROUND(G205*F205/F205,2)","v":0},null,null,{"$f":"IF(OR(ISBLANK(J205),G205=0,ISBLANK(G205)),,ROUND(J205+$K$3,2))","v":0},{"$f":"ROUND(H205*K205,2)","v":0},{"$f":"ROUND(K205/F205,2)","v":0},null," "," "," "," "," "," "]
[null,"30% or less of calories from fat, 30% or less by weight of added sugar.","       8860 Blueberry",{"$nulls":11}," "," "," "," "," "," "]
[null,"Individually Wrapped, Muffin provides 1.0 OEG","       8861 Banana ",{"$nulls":11}," "," "," "," "," "," "]
[42,"Pancake and Sausage on a Stick,                     WGR   1.0 M  1.5 OEG","Jimmy Dean 19010  WG  ",null,"60/2.51z",60,5,{"$f":"ROUND(G208*F208/F208,2)","v":5},"Cs",null,{"$f":"IF(OR(ISBLANK(J208),G208=0,ISBLANK(G208)),,ROUND(J208+$K$3,2))","v":0},{"$f":"ROUND(H208*K208,2)","v":0},{"$f":"ROUND(K208/F208,2)","v":0},null," "," "," "," "," "," "]
[null,"Pork w Alternate Protein Product.  Shall provide 1 oz. cooked meat/meat "," ",{"$nulls":11}," "," "," "," "," "," "]
[null," alt.  and a minimum one grain/bread serving.  "," ",{"$nulls":11}," "," "," "," "," "," "]
[43,"Pancake Wrap, Maple Flavored (IW) WG","Foster Farms 95127",null,"68/2.85z",68,0,{"$f":"ROUND(G211*F211/F211,2)","v":0},"Cs",null,{"$f":"IF(OR(ISBLANK(J211),G211=0,ISBLANK(G211)),,ROUND(J211+$K$3,2))","v":0},{"$f":"ROUND(H211*K211,2)","v":0},{"$f":"ROUND(K211/F211,2)","v":0},null," "," "," "," "," "," "]
[" ","Frozen, fully cooked turkey lnks wrapped in 100% WG maple flavored, (3) .85 links provide ",{"$nulls":12}," "," "," "," "," "," "]
[null,"1.0 oz. M/MA and 1 OEG, 150-250 calories with no more than 3 g sat fat and 350 mg",{"$nulls":12}," "," "," "," "," "," "]
[null,"of sodium per serving."]
[null,"Possible Allergens:  Wheat, Soy, Milk and Eggs",{"$nulls":12}," "," "," "," "," "," "]
[44,"Pancake and Turkey Sausage on a Stick, Maple flavored   WGR 1M 1.0 OEG","Foster Farms 97169",null,"63/2.55z",63,75,{"$f":"ROUND(G216*F216/F216,2)","v":75},"Cs",null,{"$f":"IF(OR(ISBLANK(J216),G216=0,ISBLANK(G216)),,ROUND(J216+$K$3,2))","v":0},{"$f":"ROUND(H216*K216,2)","v":0},{"$f":"ROUND(K216/F216,2)","v":0},null," "," "," "," "," "," "]
[null,"Frozen, Heat and serve, 130-250 calories with no more than 3 g sat fat and 550 mg sodium",{"$nulls":12}," "," "," "," "," "," "]
[null,"per serving. CN labeled to provide 1 M/MA and 1 OEG",{"$nulls":12}," "," "," "," "," "," "]
[null,"Possible Allergens:  Wheat, Soy, Eggs and Gluten",{"$nulls":12}," "," "," "," "," "," "]
[45,"Pancakes, Frozen,                                                                      WGR","Right Start (1)  RS 7245",null,"144/1.4z",144,0,{"$f":"ROUND(G220*F220/F220,2)","v":0},"Cs",null,{"$f":"IF(OR(ISBLANK(J220),G220=0,ISBLANK(G220)),,ROUND(J220+$K$3,2))","v":0},{"$f":"ROUND(H220*K220,2)","v":0},{"$f":"ROUND(K220/F220,2)","v":0},null," "," "," "," "," "," "]
[null,"Bulk pack, 4\" Pancake "," ",null," "," ",null," "," "," "," "," "," ",null," "," "," "," "," "," "]
[null,"Indicate # of pancakes to equal 1 oz equivalent grain",{"$nulls":12}," "," "," "," "," "," "]
[{"$nulls":14}," "," "," "," "," "," "]
[46,"Pancakes, Frozen, Flavored, I W                                                  WGR","Con Agra",null,"80/3.0z",80,0,{"$f":"ROUND($G$224*$F$224/F224,2)","v":0},"Cs",null,{"$f":"IF(OR(ISBLANK(J224),G224=0,ISBLANK(G224)),,ROUND(J224+$K$3,2))","v":0},{"$f":"ROUND(H224*K224,2)","v":0},{"$f":"ROUND(K224/F224,2)","v":0},null," "," "," "," "," "," "]
[null,null,"       04442 WG, Cinnamon  ",{"$nulls":11}," "," "," "," "," "," "]
[null,"1 serving  provides 2 .0  oz Equivalent Grain","       04443 WG, Blueberry  ",{"$nulls":11}," "," "," "," "," "," "]
[null,null,"ES Foods",null,"80/3.0z",80,null,{"$f":"ROUND($G$224*$F$224/F227,2)","v":0},"Cs",null,{"$f":"IF(OR(ISBLANK(J227),G224=0,ISBLANK(G224)),,ROUND(J227+$K$3,2))","v":0},{"$f":"ROUND(H227*K227,2)","v":0},{"$f":"ROUND(K227/F227,2)","v":0},null," "," "," "," "," "," "]
[null,null,"      16151 Maple Cinnamon Glaze Sandwich",{"$nulls":11}," "," "," "," "," "," "]
[null,null,"Global Foods Solutions",null,"144/2.9z",144,null,{"$f":"ROUND($G$224*$F$224/F229,2)","v":0},"Cs",null,{"$f":"IF(OR(ISBLANK(J229),G224=0,ISBLANK(G224)),,ROUND(J229+$K$3,2))","v":0},{"$f":"ROUND(H229*K229,2)","v":0},{"$f":"ROUND(K229/F229,2)","v":0},null," "," "," "," "," "," "]
[null,null,"        GS 7052WR",{"$nulls":11}," "," "," "," "," "," "]
[47,"Pancakes, Mini, Flavored    IW                                WGR   2.0 OEG","Pillsbury",null,"72/3.53z",72,45,{"$f":"ROUND($G$231*$F$231/F231,2)","v":45},"Cs",null,{"$f":"IF(OR(ISBLANK(J231),G231=0,ISBLANK(G231)),,ROUND(J231+$K$3,2))","v":0},{"$f":"ROUND(H231*K231,2)","v":0},{"$f":"ROUND(K231/F231,2)","v":0},null," "," "," "," "," "," "]
[null,"Frozen. Ovenable package.  Heat and Serve.","   132259000 Pillsbury Maple Burst'n",{"$nulls":11}," "," "," "," "," "," "]
[null,"Less than 30% fat, 1 g sat fat; 0 trans fat; 320 mg Sodium or less.","    132261000 Pillsbury Strawberry Splash",{"$nulls":11}," "," "," "," "," "," "]
[null,"One serving provides 2 oz Equivalent Grains. ","Kelloggs",null,"72/3.03z",72,null,{"$f":"ROUND($G$231*$F$231/F234,2)","v":45},"Cs",null,{"$f":"IF(OR(ISBLANK(J234),G231=0,ISBLANK(G231)),,ROUND(J234+$K$3,2))","v":0},{"$f":"ROUND(H234*K234,2)","v":0},{"$f":"ROUND(K234/F234,2)","v":0},null," "," "," "," "," "," "]
[null,"One serving to provide a minimum 2 oz equivalent grain","     38000-92560  Blueberry Mini Pancakes",{"$nulls":11}," "," "," "," "," "," "]
[null,null,"     38000-92562 Maple Mini Pancakes"]
[null,null,"DeWafflebakkers",null,"72/3.0z",72,null,{"$f":"ROUND($G$231*$F$231/F237,2)","v":45},"Cs",null,{"$f":"IF(OR(ISBLANK(J237),G231=0,ISBLANK(G231)),,ROUND(J237+$K$3,2))","v":0},{"$f":"ROUND(H237*K237,2)","v":0},{"$f":"ROUND(K237/F237,2)","v":0},null," "," "," "," "," "," "]
[null,null,"       6287 Cinnamon WG mini",{"$nulls":11}," "," "," "," "," "," "]
[null,null,"Right Start ",null,"52/3.1z",52,null,{"$f":"ROUND($G$231*$F$231/F239,2)","v":62.31},"Cs",null,{"$f":"IF(OR(ISBLANK(J239),G231=0,ISBLANK(G231)),,ROUND(J239+$K$3,2))","v":0},{"$f":"ROUND(H239*K239,2)","v":0},{"$f":"ROUND(K239/F239,2)","v":0},null," "," "," "," "," "," "]
[null,null,"        RS7155  Maple Mini WG",{"$nulls":11}," "," "," "," "," "," "]
[48,"Pancakes, Buttermilk, Frozen,                                                 WGR","Krusteaz S80349 (2)",null,"144/1.4z",72,105,{"$f":"ROUND(G241*F241/F241,2)","v":105},"Cs",null,{"$f":"IF(OR(ISBLANK(J241),G241=0,ISBLANK(G241)),,ROUND(J241+$K$3,2))","v":0},{"$f":"ROUND(H241*K241,2)","v":0},{"$f":"ROUND(K241/F241,2)","v":0},null," "," "," "," "," "," "]
[null,"Frozen, Heat and serve, 140--250 calories with no more than 2 g sat fat and 600 mg sodium"," ",null," "," ",null," "," "," "," ","  "," ",null," "," "," "," "," "," "]
[null,"per serving.  Three pancakes provide min 2 OEG.  ",{"$nulls":12}," "," "," "," "," "," "]
[null,"Possible Allergens:  Wheat, Soy, Eggs, Milk",{"$nulls":12}," "," "," "," "," "," "]
[49,"Sausage Roll,  I / W                                                                   WGR","Tasty Brands 64004",null,"136/2.0z",136,0,{"$f":"ROUND(G245*F245/F245,2)","v":0},"Cs",null,{"$f":"IF(OR(ISBLANK(J245),G245=0,ISBLANK(G245)),,ROUND(J245+$K$3,2))","v":0},{"$f":"ROUND(H245*K245,2)","v":0},{"$f":"ROUND(K245/F245,2)","v":0},null," "," "," "," "," "," "]
[null,"Fully Cooked, Meat link in a dough wrapper.  Made from  chicken and turkey ",{"$nulls":12}," "," "," "," "," "," "]
[null,"knockworst.   0 trans fat  CN Labeled   1Serving= 1 M/Ma, 1 oz equivalent grain",{"$nulls":12}," "," "," "," "," "," "]
[{"$nulls":14}," "," "," "," "," "," "]
[50,"Toaster Pastry"," Kelloggs Pop Tarts ",null,"72/3.53z",72,0,{"$f":"ROUND($G$249*$F$249/F249,2)","v":0},"Cs",null,{"$f":"IF(OR(ISBLANK(J249),G249=0,ISBLANK(G249)),,ROUND(J249+$K$3,2))","v":0},{"$f":"ROUND(K249*H249,2)","v":0},{"$f":"ROUND(K249/F249,2)","v":0},null," "," "," "," "," "," "]
[null,"Product meets WGR.  One serving provides 2oz equivalent grain.","     38000-55125 Frosted  Cinnamon WG  ",{"$nulls":11}," "," "," "," "," "," "]
[null,null,"     38000-55133 Frosted Strawberry WG",{"$nulls":11}," "," "," "," "," "," "]
[null,null,"(15-16) 38000-12070 Frosted Fudge WG",{"$nulls":11}," "," "," "," "," "," "]
[null,null,"(17-18) 38000-17196 Blueberry WG",{"$nulls":11}," "," "," "," "," "," "]
[51,"Toaster Pastry, Single Serve"," Kelloggs Pop Tarts  ",null,"120/1.76z",120,{"v":0,"d":"0 "},{"$f":"ROUND($G$254*$F$254/F254,2)","v":0},"Cs",null,{"$f":"IF(OR(ISBLANK(J254),G254=0,ISBLANK(G254)),,ROUND(J254+$K$3,2))","v":0},{"$f":"ROUND(K254*H254,2)","v":0},{"$f":"ROUND(K254/F254,2)","v":0},null," "," "," "," "," "," "]
[null,"Product meets WGR.  One serving provides 1 oz equivalent grain. ","     38000-55130 Frosted Strawberry, WG",{"$nulls":11}," "," "," "," "," "," "]
[null,null,"     38000-55122 Frosted  Cinnamon WG",{"$nulls":11}," "," "," "," "," "," "]
[null,"Smart Snacks Compliant","     38000-17196 Blueberry WG",{"$nulls":11}," "," "," "," "," "," "]
[52,"Waffles, Bulk.  Frozen                                                    WGR      1.0 OEG","Bakecrafters 1453",null,"144/1.30z",144,0,{"$f":"ROUND($G$258*$F$258/F258,2)","v":0},"Cs",null,{"$f":"IF(OR(ISBLANK(J258),G258=0,ISBLANK(G258)),,ROUND(J258+$K$3,2))","v":0},{"$f":"ROUND(H258*K258,2)","v":0},{"$f":"ROUND(K258/F258,2)","v":0},null," "," "," "," "," "," "]
[null,"Each waffle meets one ounce equivalent grain."," ",null," "," ",null," "," "," "," "," "," ",null," "," "," "," "," "," "]
[null," ",{"$nulls":12}," "," "," "," "," "," "]
[53,"Waffle, Dutch  WGR","J&J Snacks 4521",null,"48/1 each",48,0,{"$f":"ROUND($G$261*$F$261/F261,2)","v":0},"Cs",null,{"$f":"IF(OR(ISBLANK(J261),G261=0,ISBLANK(G261)),,ROUND(J261+$K$3,2))","v":0},{"$f":"ROUND(H261*K261,2)","v":0},{"$f":"ROUND(K261/F261,2)","v":0},null," "," "," "," "," "," "]
[null,"One serving equals 2 EOG "," ",null," "," "," "," "," "," "," ","  "," ",null," "," "," "," "," "," "]
[null,null," ",null," "," ",null," "," ",null," "," "," ",null," "," "," "," "," "," "]
[54,"Waffles, IW,                                                                     WGR     ","Right Start",null,"72/2.6z",72,0,{"$f":"ROUND(G264*F264/F264,2)","v":0},"Cs",null,{"$f":"IF(OR(ISBLANK(J264),G264=0,ISBLANK(G264)),,ROUND(J264+$K$3,2))","v":0},{"$f":"ROUND(H264*K264,2)","v":0},{"$f":"ROUND(K264/F264,2)","v":0},null," "," "," "," "," "," "]
[null,"Thaw and Serve, 1 serving = 2 grain/bread servings","   RS 9011-OV",{"$nulls":11}," "," "," "," "," "," "]
[null,null," ",{"$nulls":11}," "," "," "," "," "," "]
[null,null,"Pillsbury ",null,"72/2.47z",72,null,{"$f":"ROUND(G264*F264/F267,2)","v":0},"Cs",null,{"$f":"IF(OR(ISBLANK(J267),G267=0,ISBLANK(G267)),,ROUND(J267+$K$3,2))","v":0},{"$f":"ROUND(H267*K267,2)","v":0},{"$f":"ROUND(K267/F267,2)","v":0},null," "," "," "," "," "," "]
[null," ","               Maple Madness  132265",{"$nulls":11}," "," "," "," "," "," "]
[null,null," ",{"$nulls":11}," "," "," "," "," "," "]
[{"$nulls":14}," "," "," "," "," "," "]
[{"$nulls":8},"Page Total",null,null,{"$f":"SUMIF(L6:L269,\">0\")","v":{"v":2070.8,"d":"$2,070.80"}}]

{"sheet":"Sheet109","index":388,"n_rows":0,"n_cols":0,"rows_kept":0}

{"sheet":"Shelf-stable Vegetables","index":389,"n_rows":120,"n_cols":21,"rows_kept":120,"merged":[[0,4,0,12],[1,4,1,12],[2,5,2,9]]}
[null,{"$f":"'Recap Sheet'!A2","v":"School Food Authority:"},null,null,{"$f":"'Recap Sheet'!A3","v":"Offeror Name:"},{"$nulls":9},"Commodity"]
[null,{"$f":"'Recap Sheet'!B2","v":"WILLIAMSBURG COUNTY SCHOOLS"},"Return to Recap Sheet",null,{"$f":"'Recap Sheet'!B3","v":0}]
["Item","Description","Approved Brand Name / Manuf ID # ",null,null,"Firm Fixed Fee",{"$nulls":4},{"$f":"'Recap Sheet'!B4","v":{"v":0,"d":"$0.00"}},null,null,"Processing","Commodity","Pounds of",null,null,"NOI ","Net "]
["#",null,null,"Distributor","Vendor","Svgs","Est.","Bid ","Bid","Unit","Unit Price","Total ","Cost per","Fee for","Value Per","DF Needed","Commodity","NOI ","Price/","Cost Per"]
[{"$nulls":3},"Code","Pack","per unit","Bid Qty","Qty","Unit","Price","plus Fee","Price","Unit","Service","Pound","Per Case","Value ","Price","Serving","Serving"]
[null,"Shelf-stable / Canned Vegetables",{"$nulls":12},"Potatoes, Dehydrated 100506/110227"]
[1,"Beans, Green (No Imports)","Distributor Choice",null,"6/#10",6,180,{"$f":"ROUND(G7*F7/F7,2)","v":180},"Cs",{"$nulls":5}," "," "," "," "," "," "]
[null,"Sieve 3 or 4; variety Blue Lake; Style cut, no strings; ","Fillable txt box or unprotected",{"$nulls":4},{"$f":"ROUND(G7*F7/F8,2)","v":{"$error":"#DIV/0!"}},"Cs",null,{"$f":"IF(OR(ISBLANK(J8),G7=0,ISBLANK(G7)),,ROUND(J8+$K$3,2))","v":0},{"$f":"ROUND(H8*K8,2)","v":{"$error":"#DIV/0!"}},{"$f":"ROUND(K8/F8,2)","v":{"$error":"#DIV/0!"}},null," "," "," "," "," "," "]
[null,"Drained weight 63 oz.  Grade A Fancy ",{"$nulls":12}," "," "," "," "," "," "]
[2,"Beans, Lima, Green (No Imports)","Distributor Choice",null,"6/#10",6,20,{"$f":"ROUND(G10*F10/F10,2)","v":20},"Cs",{"$nulls":5}," "," "," "," "," "," "]
[null,"Grade A, minimum drained weight 71 oz ","Fillable txt box or unprotected",{"$nulls":4},{"$f":"ROUND(G10*F10/F11,2)","v":{"$error":"#DIV/0!"}},"Cs",null,{"$f":"IF(OR(ISBLANK(J11),G10=0,ISBLANK(G10)),,ROUND(J11+$K$3,2))","v":0},{"$f":"ROUND(H11*K11,2)","v":{"$error":"#DIV/0!"}},{"$f":"ROUND(K11/F11,2)","v":{"$error":"#DIV/0!"}},null," "," "," "," "," "," "]
[3,"Beans, Pintos (No Imports)","Distributor Choice",null,"6/#10",6,90,{"$f":"ROUND($G$12*$F$12/F12,2)","v":90},"Cs",{"$nulls":5}," "," "," "," "," "," "]
[null,"USDA Grade A ","Fillable txt box or unprotected",{"$nulls":4},{"$f":"ROUND(G12*F12/F13,2)","v":{"$error":"#DIV/0!"}},"Cs",null,{"$f":"IF(OR(ISBLANK(J13),G12=0,ISBLANK(G12)),,ROUND(J13+$K$3,2))","v":0},{"$f":"ROUND(H13*K13,2)","v":{"$error":"#DIV/0!"}},{"$f":"ROUND(K13/F13,2)","v":{"$error":"#DIV/0!"}},null," "," "," "," "," "," "]
[4,"Beans, Black, Fancy  (No Imports)","Distributor Choice",null,"6/#10",6,5,{"$f":"ROUND($G$14*$F$14/F14,2)","v":5},"Cs",{"$nulls":5}," "," "," "," "," "," "]
[null,"USDA Grade A ","Fillable txt box or unprotected",{"$nulls":4},{"$f":"ROUND(G14*F14/F15,2)","v":{"$error":"#DIV/0!"}},"Cs",null,{"$f":"IF(OR(ISBLANK(J15),G14=0,ISBLANK(G14)),,ROUND(J15+$K$3,2))","v":0},{"$f":"ROUND(H15*K15,2)","v":{"$error":"#DIV/0!"}},{"$f":"ROUND(K15/F15,2)","v":{"$error":"#DIV/0!"}},null," "," "," "," "," ","  "]
[5,"Beans with Pork (No Imports)","Distributor Choice",null,"6/#10",6,5,{"$f":"ROUND(G16*F16/F16,2)","v":5},"Cs",{"$nulls":5}," "," "," "," "," "," "]
[null,"First Quality Grade A,    Small White beans, in tomato sauce pack, with pork.  ","Fillable txt box or unprotected",{"$nulls":4},{"$f":"ROUND(G16*F16/F17,2)","v":{"$error":"#DIV/0!"}},"Cs",null,{"$f":"IF(OR(ISBLANK(J17),G16=0,ISBLANK(G16)),,ROUND(J17+$K$3,2))","v":0},{"$f":"ROUND(H17*K17,2)","v":{"$error":"#DIV/0!"}},{"$f":"ROUND(K17/F17,2)","v":{"$error":"#DIV/0!"}},null," "," "," "," "," "," "]
[null,"Drained weight 85 oz.  Minimum score 90 or above;  (No Imports)",{"$nulls":12}," "," "," "," "," "," "]
[6,"Beans ,Baked (No Imports)","Distributor Choice",null,"6/#10",6,35,{"$f":"ROUND(G19*F19/F19,2)","v":35},"Cs",{"$nulls":5}," "," "," "," "," "," "]
[null,"Dry mature beans,  baked in brown sugar, molasses","Fillable txt box or unprotected",{"$nulls":4},{"$f":"ROUND(G19*F19/F20,2)","v":{"$error":"#DIV/0!"}},"Cs",null,{"$f":"IF(OR(ISBLANK(J20),G19=0,ISBLANK(G19)),,ROUND(J20+$K$3,2))","v":0},{"$f":"ROUND(H20*K20,2)","v":{"$error":"#DIV/0!"}},{"$f":"ROUND(K20/F20,2)","v":{"$error":"#DIV/0!"}},null," "," "," "," "," "," "]
[null,"or New England sauce. (No soy beans.)  Minimum score 90 or above; Grade A",{"$nulls":12}," "," "," "," "," "," "]
[7,"Vegetarian Beans, Small White beans, in tomato sauce pack. (No Imports)","Distributor Choice",null,"6/#10",6,30,{"$f":"ROUND($G$22*$F$22/F22,2)","v":30},"Cs",{"$nulls":5}," "," "," "," "," "," "]
[null,"Drained weight 85 oz.  Minimum score 90 or above; Grade A","Fillable txt box or unprotected",{"$nulls":4},{"$f":"ROUND(G22*F22/F23,2)","v":{"$error":"#DIV/0!"}},"Cs",null,{"$f":"IF(OR(ISBLANK(J23),G22=0,ISBLANK(G22)),,ROUND(J23+$K$3,2))","v":0},{"$f":"ROUND(H23*K23,2)","v":{"$error":"#DIV/0!"}},{"$f":"ROUND(K23/F23,2)","v":{"$error":"#DIV/0!"}},null," "," "," "," "," "," "]
[8,"Bean, Kidney, Light (No Imports)","Distributor Choice",null,"6/#10",6,0,{"$f":"ROUND($G$24*$F$24/F24,2)","v":0},"Cs",{"$nulls":5}," "," "," "," "," "," "]
[null,null,"Fillable txt box or unprotected",{"$nulls":4},{"$f":"ROUND(G24*F24/F25,2)","v":{"$error":"#DIV/0!"}},"Cs",null,{"$f":"IF(OR(ISBLANK(J25),G24=0,ISBLANK(G24)),,ROUND(J25+$K$3,2))","v":0},{"$f":"ROUND(H25*K25,2)","v":{"$error":"#DIV/0!"}},{"$f":"ROUND(K25/F25,2)","v":{"$error":"#DIV/0!"}},null," "," "," "," "," "," "]
[9,"Carrots, Sliced (No Imports)","Distributor Choice",null,"6/#10",6,10,{"$f":"ROUND($G$26*$F$26/F26,2)","v":10},"Cs",{"$nulls":5}," "," "," "," "," "," "]
[null,"Medium Fancy, 3/15-5/16 inch cut ","Fillable txt box or unprotected",{"$nulls":4},{"$f":"ROUND(G26*F26/F27,2)","v":{"$error":"#DIV/0!"}},"Cs",null,{"$f":"IF(OR(ISBLANK(J27),G26=0,ISBLANK(G26)),,ROUND(J27+$K$3,2))","v":0},{"$f":"ROUND(H27*K27,2)","v":{"$error":"#DIV/0!"}},{"$f":"ROUND(K27/F27,2)","v":{"$error":"#DIV/0!"}},null," "," "," "," "," "," "]
[10,"Corn, Whole Kernel (No Imports)","Distributor Choice",null,"6/#10",6,55,{"$f":"ROUND(G28*F28/F28,2)","v":55},"Cs",{"$nulls":5}," "," "," "," "," "," "]
[null,"Golden; drained net weight per #10 can 72 oz.  Grade A, Fancy","Fillable txt box or unprotected",{"$nulls":4},{"$f":"ROUND(G28*F28/F29,2)","v":{"$error":"#DIV/0!"}},"Cs",null,{"$f":"IF(OR(ISBLANK(J29),G28=0,ISBLANK(G28)),,ROUND(J29+$K$3,2))","v":0},{"$f":"ROUND(H29*K29,2)","v":{"$error":"#DIV/0!"}},{"$f":"ROUND(K29/F29,2)","v":{"$error":"#DIV/0!"}},null," "," "," "," "," "," "]
[null,"Minimum score 90; must be packed in enamel lined tins (No Imports)",{"$nulls":12}," "," "," "," "," "," "]
[11,"Mixed Vegetables (No Imports)","Distributor Choice",null,"6/#10 ",6,0,{"$f":"ROUND(G31*F31/F31,2)","v":0},"Cs",{"$nulls":5}," "," "," "," "," "," "]
[null,"US Grade A Fancy,. Mix to include carrots, potatoes, celery, peas,corn, lima beans","Fillable txt box or unprotected",{"$nulls":4},{"$f":"ROUND(G31*F31/F32,2)","v":{"$error":"#DIV/0!"}},"Cs",null,{"$f":"IF(OR(ISBLANK(J32),G31=0,ISBLANK(G31)),,ROUND(J32+$K$3,2))","v":0},{"$f":"ROUND(H32*K32,2)","v":{"$error":"#DIV/0!"}},{"$f":"ROUND(K32/F32,2)","v":{"$error":"#DIV/0!"}},null," "," "," "," "," "," "]
[12,"Onions, Chopped, Dehydrated (No Imports)","Distributor Choice",null,"6/2Lb",12,5,{"$f":"ROUND(G33*F33/F33,2)","v":5},"Cs",{"$nulls":5}," "," "," "," "," "," "]
[null,"White.  Yield 1# dehydrated equals 5# fresh.  US Grade A   ","Fillable txt box or unprotected",{"$nulls":4},{"$f":"ROUND(G33*F33/F34,2)","v":{"$error":"#DIV/0!"}},"Cs",null,{"$f":"IF(OR(ISBLANK(J34),G33=0,ISBLANK(G33)),,ROUND(J34+$K$3,2))","v":0},{"$f":"ROUND(H34*K34,2)","v":{"$error":"#DIV/0!"}},{"$f":"ROUND(K34/F34,2)","v":{"$error":"#DIV/0!"}},null," "," "," "," "," "," "]
[13,"Peas and Carrots (No Imports)","Distributor Choice",null,"6/#10",6,0,{"$f":"ROUND(G35*F35/F35,2)","v":0},"Cs",{"$nulls":5}," "," "," "," "," "," "]
[null,"June peas and diced carrots.  Carrots equal to Grade A, Fancy, Peas Grade 5  ","Fillable txt box or unprotected",{"$nulls":4},{"$f":"ROUND(G35*F35/F36,2)","v":{"$error":"#DIV/0!"}},"Cs",null,{"$f":"IF(OR(ISBLANK(J36),G35=0,ISBLANK(G35)),,ROUND(J36+$K$3,2))","v":0},{"$f":"ROUND(H36*K36,2)","v":{"$error":"#DIV/0!"}},{"$f":"ROUND(K36/F36,2)","v":{"$error":"#DIV/0!"}},null," "," "," "," "," "," "]
[14,"Peas, Black-eyed (No Imports) ","Distributor Choice",null,"6/#10",6,null,{"$f":"ROUND(G37*F37/F37,2)","v":0},"Cs",{"$nulls":5}," "," "," "," "," "," "]
[null,"Grade A, Fancy.  Green, fresh peas, 3 sieve.  Minimum drained weight 72 oz ","Fillable txt box or unprotected",{"$nulls":3},0,{"$f":"ROUND(G37*F37/F38,2)","v":{"$error":"#DIV/0!"}},"Cs",null,{"$f":"IF(OR(ISBLANK(J38),G37=0,ISBLANK(G37)),,ROUND(J38+$K$3,2))","v":0},{"$f":"ROUND(H38*K38,2)","v":{"$error":"#DIV/0!"}},{"$f":"ROUND(K38/F38,2)","v":{"$error":"#DIV/0!"}},null," "," "," "," "," "," "]
[15,"Peas, Field (No Imports)","Distributor Choice",null,"6/#10",6,45,{"$f":"ROUND(G39*F39/F39,2)","v":45},"Cs",{"$nulls":5}," "," "," "," "," "," "]
[null,"Grade A, Fancy.  May include snaps.  Minimum drained weight 73 oz.  ","Fillable txt box or unprotected",{"$nulls":4},{"$f":"ROUND(G39*F39/F40,2)","v":{"$error":"#DIV/0!"}},"Cs",null,{"$f":"IF(OR(ISBLANK(J40),G39=0,ISBLANK(G39)),,ROUND(J40+$K$3,2))","v":0},{"$f":"ROUND(H40*K40,2)","v":{"$error":"#DIV/0!"}},{"$f":"ROUND(K40/F40,2)","v":{"$error":"#DIV/0!"}},null," "," "," "," "," "," "]
[16,"Peas, Green (No Imports) ","Distributor Choice",null,"6/#10",6,105,{"$f":"ROUND(G41*F41/F41,2)","v":105},"Cs",{"$nulls":5}," "," "," "," "," "," "]
[null,"Grade A, Fancy.  Sieve No. 3 or smaller either sweet or","Fillable txt box or unprotected",{"$nulls":4},{"$f":"ROUND(G41*F41/F42,2)","v":{"$error":"#DIV/0!"}},"Cs",null,{"$f":"IF(OR(ISBLANK(J42),G41=0,ISBLANK(G41)),,ROUND(J42+$K$3,2))","v":0},{"$f":"ROUND(H42*K42,2)","v":{"$error":"#DIV/0!"}},{"$f":"ROUND(K42/F42,2)","v":{"$error":"#DIV/0!"}},null," "," "," "," "," "," "]
[null,"early variety.  Score 90 or higher.  Minimum drained weight 72 oz  ",{"$nulls":12}," "," "," "," "," "," "]
[17,"Potatoes, Mashed, Complete","Idahoan 2970000313",null,"12/26z",458,85,{"$f":"ROUND($G$44*$F$44/F44,2)","v":85},"Cs",{"v":39.39,"d":"$39.39"},{"$f":"IF(OR(ISBLANK(J44),G44=0,ISBLANK(G44)),,ROUND(J44+$K$3,2))","v":{"v":39.39,"d":"$39.39"}},{"$f":"ROUND(H44*K44,2)","v":{"v":3348.15,"d":"$3,348.15"}},{"$f":"ROUND(K44/F44,2)","v":{"v":0.09,"d":"$0.09"}},null,{"v":0.0621,"d":"$0.0621"},97.5,{"$f":"ROUND(O44*P44,2)","v":{"v":6.05,"d":"$6.05"}},{"$f":"K44-Q44","v":{"v":33.34,"d":"$33.34"}},{"$f":"R44/F44","v":{"v":0.07279475982532752,"d":"$0.07"}},{"$f":"N44/F44","v":0}]
[null,"Shelf Stable, Add water only, mix, rest and serve prep., 1/2 cup prepared No Imports","Commodity #: 700003132",{"$nulls":11}," "," "," "," "," "," "]
[null,"Possible Allergens:  Milk, Soy, Sulfites",{"$nulls":12}," "," "," "," "," "," "]
[18,"Potatoes, Mashed, Complete","Basic American 76468",null,"12/28 oz",504,0,{"$f":"ROUND(G47*F47/F47,2)","v":0},"Cs",{"v":41.99,"d":"$41.99"},{"$f":"IF(OR(ISBLANK(J47),G47=0,ISBLANK(G47)),,ROUND(J47+$K$3,2))","v":0},{"$f":"ROUND(H47*K47,2)","v":0},{"$f":"ROUND(K47/F47,2)","v":0},null,{"v":0.0621,"d":"$0.0621"},105,{"$f":"ROUND(O47*P47,2)","v":{"v":6.52,"d":"$6.52"}},{"$f":"K47-Q47","v":{"v":-6.52,"d":"$(6.52)"}},{"$f":"R47/F47","v":{"v":-0.012936507936507935,"d":"$(0.01)"}},0]
[null,"Shelf Stable, Add water only, mix, rest and serve prep., 1/2 cup prepared No Imports",{"$nulls":12}," "," "," "," "," "," "]
[null,"Possible Allergens:  Milk, Soy, Sulfites",{"$nulls":12}," "," "," "," "," "," "]
[19,"Potatoes, White Diced (No Imports)","Distributor Choice",null,"6/#10",6,20,{"$f":"ROUND(G50*F50/F50,2)","v":20},"Cs",{"$nulls":5}," "," "," "," "," "," "]
[null,"Grade A, Fancy, First Quality.  White Irish Pack: 6/#10 ","Fillable txt box or unprotected",{"$nulls":4},{"$f":"ROUND(G50*F50/F51,2)","v":{"$error":"#DIV/0!"}},"Cs",null,{"$f":"IF(OR(ISBLANK(J51),G50=0,ISBLANK(G50)),,ROUND(J51+$K$3,2))","v":0},{"$f":"ROUND(H51*K51,2)","v":{"$error":"#DIV/0!"}},{"$f":"ROUND(K51/F51,2)","v":{"$error":"#DIV/0!"}},null," "," "," "," "," "," "]
[20,"Potatoes, White, Whole (No Imports)","Distributor Choice",null,"6/#10",6,0,{"$f":"ROUND(G52*F52/F52,2)","v":0},"Cs",{"$nulls":5}," "," "," "," "," "," "]
[null,"Small whole size 2.  100 count per #10 can. First Quality (No Imports)","Fillable txt box or unprotected",{"$nulls":4},{"$f":"ROUND(G52*F52/F53,2)","v":{"$error":"#DIV/0!"}},"Cs",null,{"$f":"IF(OR(ISBLANK(J53),G52=0,ISBLANK(G52)),,ROUND(J53+$K$3,2))","v":0},{"$f":"ROUND(H53*K53,2)","v":{"$error":"#DIV/0!"}},{"$f":"ROUND(K53/F53,2)","v":{"$error":"#DIV/0!"}},{"$nulls":6}," "]
[{"$nulls":14},"Tomato Paste for Bulk Processing 100332"]
[21,"Salsa, Mild, Thick and Chunky, Nutritionally Enhanced","Red Gold 72940-11005",null,"6/#10",206,5,{"$f":"ROUND(G55*F55/F55,2)","v":5},"Cs",{"v":26.28,"d":"$26.28"},{"$f":"IF(OR(ISBLANK(J55),G55=0,ISBLANK(G55)),,ROUND(J55+$K$3,2))","v":{"v":26.28,"d":"$26.28"}},{"$f":"ROUND(H55*K55,2)","v":{"v":131.4,"d":"$131.40"}},{"$f":"ROUND(K55/F55,2)","v":{"v":0.13,"d":"$0.13"}},null,{"v":0.4105,"d":"$0.4105"},5.9,{"$f":"ROUND(O55*P55,2)","v":{"v":2.42,"d":"$2.42"}},{"$f":"K55-Q55","v":{"v":23.86,"d":"$23.86"}},{"$f":"R55/F55","v":{"v":0.1158252427184466,"d":"$0.12"}},0]
[null,"Canned, Grade A 3 oz. = 1/2 c Red/Orange Vegetable","Commodity #: REDSC99",null," "," ",null," "," "," "," "," "," ",null," "," "," "," "," "," "]
[22,"Salsa, Mild, Dipping Cup","Red Gold 72940-11139-5 Comm#: REDSC2ZC84",null,"84/3.0z",84,0,{"$f":"ROUND(G57*F57/F57,2)","v":0},"Cs",{"v":27.25,"d":"$27.25"},{"$f":"IF(OR(ISBLANK(J57),G57=0,ISBLANK(G57)),,ROUND(J57+$K$3,2))","v":0},{"$f":"ROUND(H57*K57,2)","v":0},{"$f":"ROUND(K57/F57,2)","v":0},null,{"v":0.4105,"d":"$0.4105"},2.36,{"$f":"ROUND(O57*P57,2)","v":{"v":0.97,"d":"$0.97"}},{"$f":"K57-Q57","v":{"v":-0.97,"d":"$(0.97)"}},{"$f":"R57/F57","v":{"v":-0.011547619047619048,"d":"$(0.01)"}},{"$f":"N57/F57","v":0}]
[null,"Canned Grade A 3 oz. serving = 1/2 c Red/Orange Vegetable","Red Gold 72940-11139-7 Comm#: REDSC2Z168",null,"168/3.0z",168," ",{"$f":"ROUND(G57*F57/F58,2)","v":0},"Cs",{"v":52.75,"d":"$52.75"},{"$f":"IF(OR(ISBLANK(J58),G58=0,ISBLANK(G58)),,ROUND(J58+$K$3,2))","v":{"v":52.75,"d":"$52.75"}},{"$f":"ROUND(H58*K58,2)","v":0},{"$f":"ROUND(K58/F58,2)","v":{"v":0.31,"d":"$0.31"}},null,{"v":0.4105,"d":"$0.4105"},4.72,{"$f":"ROUND(O58*P58,2)","v":{"v":1.94,"d":"$1.94"}},{"$f":"K58-Q58","v":{"v":50.81,"d":"$50.81"}},{"$f":"R58/F58","v":{"v":0.3024404761904762,"d":"$0.30"}},{"$f":"N58/F58","v":0}]
[23,"Squash, Sliced (No Imports)","Distributor Choice",null,"6/#10",6,0,{"$f":"ROUND(G59*F59/F59,2)","v":0},"Cs",{"$nulls":5}," "," "," "," "," "," "]
[null,"Grade A, Minimum drained weight 61 oz ","Fillable txt box or unprotected",{"$nulls":4},{"$f":"ROUND(G59*F59/F60,2)","v":{"$error":"#DIV/0!"}},"Cs",null,{"$f":"IF(OR(ISBLANK(J60),G59=0,ISBLANK(G59)),,ROUND(J60+$K$3,2))","v":0},{"$f":"ROUND(H60*K60,2)","v":{"$error":"#DIV/0!"}},{"$f":"ROUND(K60/F60,2)","v":{"$error":"#DIV/0!"}},{"$nulls":6}," "]
[24,"Sweet Potatoes, Cut (No Imports) ","Distributor Choice",null,"6/#10",6,15,{"$f":"ROUND(G61*F61/F61,2)","v":15},"Cs",{"$nulls":5}," "," "," "," "," "," "]
[null,"Grade A, Fancy.  Packed in syrup.  Minimum drained weight 73 oz.  First Quality","Fillable txt box or unprotected",{"$nulls":4},{"$f":"ROUND(G61*F61/F62,2)","v":{"$error":"#DIV/0!"}},"Cs",null,{"$f":"IF(OR(ISBLANK(J62),G61=0,ISBLANK(G61)),,ROUND(J62+$K$3,2))","v":0},{"$f":"ROUND(H62*K62,2)","v":{"$error":"#DIV/0!"}},{"$f":"ROUND(K62/F62,2)","v":{"$error":"#DIV/0!"}},{"$nulls":6}," "]
[25,"Tomato Catsup","Red Gold 72940-11002 Comm#: REDY599",null,"6/#10",1151,35,{"$f":"ROUND(G63*F63/F63,2)","v":35},"Cs",{"$nulls":5},{"v":0.4105,"d":"$0.4105"},9.81,{"$f":"ROUND(O63*P63,2)","v":{"v":4.03,"d":"$4.03"}}," "," "," "]
[null,"Canned, Grade A Fancy, 33% Solids","Hunt's 27000-38251",null,"6/114z",1140,null,{"$f":"ROUND($G$63*$F$63/F64,2)","v":35.34},"Cs",{"$nulls":5}," "," "," "," "," ",0]
[null,null,"Heinz 130005129000",null,"6/#10",1140,null,{"$f":"ROUND($G$63*$F$63/F65,2)","v":35.34},"Cs",{"v":17.5,"d":"$17.50"},{"$f":"IF(OR(ISBLANK(J65),G63=0,ISBLANK(G63)),,ROUND(J65+$K$3,2))","v":{"v":17.5,"d":"$17.50"}},{"$f":"ROUND(K65*H65,2)","v":{"v":618.45,"d":"$618.45"}},{"$f":"ROUND(K65/F65,2)","v":{"v":0.02,"d":"$0.02"}},null,{"v":0.4105,"d":"$0.4105"},9.3,{"$f":"ROUND(O65*P65,2)","v":{"v":3.82,"d":"$3.82"}},{"$f":"K65-Q65","v":{"v":13.68,"d":"$13.68"}},{"$f":"R65/F65","v":{"v":0.012,"d":"$0.01"}},0]
[{"$nulls":19}," "]
[26,"Tomatoes, Crushed","Red Gold 72940-81400 Comm#:RPKDX99",null,"6/#10",286,15,{"$f":"ROUND(G67*F67/F67,2)","v":15},"Cs",{"v":19.73,"d":"$19.73"},{"$f":"IF(OR(ISBLANK(J67),G67=0,ISBLANK(G67)),,ROUND(J67+$K$3,2))","v":{"v":19.73,"d":"$19.73"}},{"$f":"ROUND(K67*H67,2)","v":{"v":295.95,"d":"$295.95"}},{"$f":"ROUND(K67/F67,2)","v":{"v":0.07,"d":"$0.07"}},null,{"v":0.4105,"d":"$0.4105"},17.41,{"$f":"ROUND(O67*P67,2)","v":{"v":7.15,"d":"$7.15"}},{"$f":"K67-Q67","v":{"v":12.58,"d":"$12.58"}},{"$f":"R67/F67","v":{"v":0.04398601398601398,"d":"$0.04"}},0]
[null,"Grade B, Extra Standard, Packed in tomato juice.  Drained weight 64 oz.  "," ",null," "," ",null," "," "," "," "," "," "," "," "," "," "," "," ",{"$error":"#VALUE!"}]
[null,"2 oz. = 1/2 cup Red/Orange Vegetable"," ",null," ",{"$nulls":14}," "]
[27,"Tomato Paste","Red Gold 72940-82300 Comm#: RPKUA99",null,"6/#10",666,45,{"$f":"ROUND(G70*F70/F70,2)","v":45},"Cs",{"$nulls":5},{"v":0.4116,"d":"$0.4116"},30.97,{"$f":"ROUND(O70*P70,2)","v":{"v":12.75,"d":"$12.75"}},{"$f":"K70-Q70","v":{"v":-12.75,"d":"$(12.75)"}},{"$f":"R70/F70","v":{"v":-0.019144144144144143,"d":"$(0.02)"}},0]
[null,"Minimum 24% solids, Grade A.  Minimum drained weight 111 oz. only salt added.  ","Hunt's 27000-38835",null,"6/111z",564,null,{"$f":"ROUND($G$70*$F$70/F71,2)","v":53.14},"Cs",{"$nulls":5}," ",null," "," "," ",0]
[null,"1 oz. = 1/2 c Red/Orange Vegetable","Heinz 130005731000",null,"6/#10",555,null,{"$f":"ROUND($G$70*$F$70/F72,2)","v":54},"Cs",{"v":23.75,"d":"$23.75"},{"$f":"IF(OR(ISBLANK(J72),G70=0,ISBLANK(G70)),,ROUND(J72+$K$3,2))","v":{"v":23.75,"d":"$23.75"}},{"$f":"ROUND(K72*H72,2)","v":{"v":1282.5,"d":"$1,282.50"}},{"$f":"ROUND(K72/F72,2)","v":{"v":0.04,"d":"$0.04"}},null,{"v":0.4105,"d":"$0.4105"},32.11,{"$f":"ROUND(O72*P72,2)","v":{"v":13.18,"d":"$13.18"}},{"$f":"K72-Q72","v":{"v":10.57,"d":"$10.57"}},{"$f":"R72/F72","v":{"v":0.019045045045045044,"d":"$0.02"}},0]
[{"$nulls":19}," "]
[28,12,"Red Gold 72940-81800 Comm#: RPKHA99",null,"6/#10",212,0,{"$f":"ROUND(G74*F74/F74,2)","v":0},"Cs",{"$nulls":5},{"v":0.4105,"d":"$0.4105"},9.72,{"$f":"ROUND(O74*P74,2)","v":{"v":3.99,"d":"$3.99"}}," "," "," "]
[null,"US Grade A.  Canned, 3 oz. = 1/2 c Red/Orange Vegetable","Heinz 130005724000",null,"6/#10",295,null,{"$f":"ROUND(G74*F74/F75,2)","v":0},"Cs",{"v":19.3,"d":"$19.30"},{"$f":"IF(OR(ISBLANK(J75),G74=0,ISBLANK(G74)),,ROUND(J75+$K$3,2))","v":0},{"$f":"ROUND(K75*H75,2)","v":0},{"$f":"ROUND(K75/F75,2)","v":0},null,{"v":0.4105,"d":"$0.4105"},9.57,{"v":3.93,"d":"$3.93"},{"$f":"K75-Q75","v":{"v":-3.93,"d":"$(3.93)"}},{"$f":"R75/F75","v":{"v":-0.013322033898305085,"d":"$(0.01)"}},{"$f":"N75/F75","v":0}]
[{"$nulls":19}," "]
[29,"Sauce, Marinara","Red Gold 72940-82200 Comm#: RPKNA99",null,"6/#10",225,5,{"$f":"ROUND(G77*F77/F77,2)","v":5},"Cs",{"v":25.83,"d":"$25.83"},{"$f":"IF(OR(ISBLANK(J77),G77=0,ISBLANK(G77)),,ROUND(J77+$K$3,2))","v":{"v":25.83,"d":"$25.83"}},{"$f":"ROUND(K77*H77,2)","v":{"v":129.15,"d":"$129.15"}},{"$f":"ROUND(K77/F77,2)","v":{"v":0.11,"d":"$0.11"}},null,{"v":0.4105,"d":"$0.4105"},7.52,{"$f":"ROUND(O77*P77,2)","v":{"v":3.09,"d":"$3.09"}},{"$f":"K77-Q77","v":{"v":22.74,"d":"$22.74"}},{"$f":"R77/F77","v":{"v":0.10106666666666667,"d":"$0.10"}},{"$f":"N77/F77","v":0}]
[null,"Canned, Grade ! Fancy,  2.8 oz = 1/2 c Red/Orange Vegetable"," ",null," "," ",null," "," "," "," "," "," ",null," "," ","  "," "," "," "]
[null," ",{"$nulls":17}," "]
[30,"Sauce, Marinara, Portion Control","Red Gold 72940-82207-9 Comm#: REDNA2ZC84",null,"84/2.5z",84,5,{"$f":"ROUND(G80*F80/F80,2)","v":5},"Cs",{"v":21.45,"d":"$21.45"},{"$f":"IF(OR(ISBLANK(J80),G80=0,ISBLANK(G80)),,ROUND(J80+$K$3,2))","v":{"v":21.45,"d":"$21.45"}},{"$f":"ROUND(K80*H80,2)","v":{"v":107.25,"d":"$107.25"}},{"$f":"ROUND(K80/F80,2)","v":{"v":0.26,"d":"$0.26"}},null,{"v":0.4105,"d":"$0.4105"},3.67,{"$f":"ROUND(O80*P80,2)","v":{"v":1.51,"d":"$1.51"}},{"$f":"K80-Q80","v":{"v":19.939999999999998,"d":"$19.94"}},{"$f":"R80/F80","v":{"v":0.23738095238095236,"d":"$0.24"}},0]
[null,"Shelf Stable, US Grade A, Ready to serve","Red Gold 72940-82207-3 Comm#: REDNA2ZC168",null,"168/2,5z",168," ",{"$f":"ROUND(G80*F80/F80,2)","v":5},"Cs",{"v":41.42,"d":"$41.42"},{"$f":"IF(OR(ISBLANK(J81),G79=0,ISBLANK(G79)),,ROUND(J81+$K$3,2))","v":0},{"$f":"ROUND(K81*H81,2)","v":0},{"$f":"ROUND(K81/F81,2)","v":0},null,{"v":0.4105,"d":"$0.4105"},7.33,{"$f":"ROUND(O81*P81,2)","v":{"v":3.01,"d":"$3.01"}},{"$f":"K81-Q81","v":{"v":-3.01,"d":"$(3.01)"}},{"$f":"R81/F81","v":{"v":-0.017916666666666664,"d":"$(0.02)"}},{"$f":"N81/F81","v":0}]
[null,"2 oz. = 1/2 cup Red/Orange Vegetable",{"$nulls":17}," "]
[31,"Sauce, Pizza Canned","Red Gold 72940-81907 Comm#: RPKIL99",null,"6/#10",212,0,{"$f":"ROUND(G83*F83/F83,2)","v":0},"Cs",{"v":24.68,"d":"$24.68"},{"$f":"IF(OR(ISBLANK(J83),G83=0,ISBLANK(G83)),,ROUND(J83+$K$3,2))","v":0},{"$f":"ROUND(K83*H83,2)","v":0},{"$f":"ROUND(K83/F83,2)","v":0},null,{"v":0.4105,"d":"$0.4105"},12.26,{"$f":"ROUND(O83*P83,2)","v":{"v":5.03,"d":"$5.03"}},{"$f":"K83-Q83","v":{"v":-5.03,"d":"$(5.03)"}},{"$f":"R83/F83","v":{"v":-0.023726415094339624,"d":"$(0.02)"}},0]
[null,"Canned First Quality 2 oz. = 1/2 cup Red/Orange Vegetable","Heinz 130005733000",null,"6/#10",212,null,{"$f":"ROUND(G83*F83/F84,2)","v":0},"Cs",{"$nulls":5},{"v":0.4105,"d":"$0.4105"},13.69,{"v":5.62,"d":"$5.62"}," "," ",0]
[{"$nulls":19}," "]
[32,"Catsup, 100% Natural made w/sugar, low sodium, PC","Red Gold 72940-11584 Comm#: REDYL9G",null,"1000/9gm",1000,null,{"$f":"ROUND(G86*F86/F86,2)","v":0},"Cs",{"v":14.19,"d":"$14.19"},{"$f":"IF(OR(ISBLANK(J86),G86=0,ISBLANK(G86)),,ROUND(J86+$K$3,2))","v":0},{"$f":"ROUND(K86*H86,2)","v":0},{"$f":"ROUND(K86/F86,2)","v":0},null,{"v":0.4015,"d":"$0.4015"},4.81,{"$f":"ROUND(O86*P86,2)","v":{"v":1.93,"d":"$1.93"}},{"$f":"K86-Q86","v":{"v":-1.93,"d":"$(1.93)"}},{"$f":"R86/F86","v":{"v":-1.9299999999999999E-3,"d":"$(0.00)"}},0]
[null,"US Grade A, 9 gm foil packets"," ",null," "," ",null," "," "," "," "," "," ",null," "," "," "," "," "," "]
[{"$nulls":19}," "]
[33,"Catsup, Tomato, Portion Control","Red Gold 72940-11581 Comm#: REDY59G",null,"1000/9gm",1000,280,{"$f":"ROUND(G89*F89/F89,2)","v":280},"Cs",{"$nulls":5},{"v":0.4105,"d":"$0.4105"},4.21,{"$f":"ROUND(O89*P89,2)","v":{"v":1.73,"d":"$1.73"}}," "," ",0," "]
[null,"33% solids, Grade A 9 gm foil packets","Hunts 27000-38287",null,"1000/9gm",1000,null,{"$f":"ROUND(G89*F89/F90,2)","v":280},"Cs",{"$nulls":4}," ",null," "," "," ",{"$f":"M90/E90","v":{"$error":"#VALUE!"}},{"$error":"#VALUE!"}]
[null," ","Heinz 130009848000",null,"1000/9gm",1000,null,{"$f":"ROUND(G89*F89/F91,2)","v":280},"Cs",{"v":11,"d":"$11.00"},{"$f":"IF(OR(ISBLANK(J91),G89=0,ISBLANK(G89)),,ROUND(J91+$K$3,2))","v":{"v":11,"d":"$11.00"}},{"$f":"ROUND(K91*H91,2)","v":{"v":3080,"d":"$3,080.00"}},{"$f":"ROUND(K91/F91,2)","v":{"v":0.01,"d":"$0.01"}},null,{"v":0.4105,"d":"$0.4105"},4.32,{"$f":"ROUND(O91*P91,2)","v":{"v":1.77,"d":"$1.77"}},{"$f":"K91-Q91","v":{"v":9.23,"d":"$9.23"}},{"$f":"R91/F91","v":{"v":0.00923,"d":"$0.01"}},0]
[34,"Sauce, Spaghetti Smooth","Red Gold 72940-82100 Comm#: RPKMA9C",null,"6/#10",212,0,{"$f":"ROUND(G92*F92/F92,2)","v":0},"Cs",{"v":24.53,"d":"$24.53"},{"$f":"IF(OR(ISBLANK(J92),G92=0,ISBLANK(G92)),,ROUND(J92+$K$3,2))","v":0},{"$f":"ROUND(H92*K92,2)","v":0},{"$f":"ROUND(K92/F92,2)","v":0},null,{"v":0.4105,"d":"$0.4105"},10.67,{"$f":"ROUND(O92*P92,2)","v":{"v":4.38,"d":"$4.38"}}," "," "," "]
[null,"Canned, US Grade A, Crediting statement with amount to provide 1/2c Red/Orange","Heinz 130005880000",null,"6/#10",215,null,{"$f":"ROUND(G92*F92/F93,2)","v":0},"Cs",{"$nulls":5},{"v":0.4105,"d":"$0.4105"},11.9,{"v":4.88,"d":"$4.88"}," "," ",{"$f":"N93/F93","v":0}]
[null,"Vegetable",null,null," "," ",null," "," "," "," "," "," ",{"$nulls":6}," "]
[35,"Sauce, Spaghetti, Nutritionally Balanced","Red Gold 72940-82107 Comm#: RPKMA9E",null,"6/#10",212,10,{"$f":"ROUND(G95*F95/F95,2)","v":10},"Cs",{"v":24.53,"d":"$24.53"},{"$f":"IF(OR(ISBLANK(J95),G95=0,ISBLANK(G95)),,ROUND(J95+$K$3,2))","v":{"v":24.53,"d":"$24.53"}},{"$f":"ROUND(H95*K95,2)","v":{"v":245.3,"d":"$245.30"}},{"$f":"ROUND(K95/F95,2)","v":{"v":0.12,"d":"$0.12"}},null,{"v":0.4105,"d":"$0.4105"},10.32,{"$f":"ROUND(O95*P95,2)","v":{"v":4.24,"d":"$4.24"}},{"$f":"K95-Q95","v":{"v":20.29,"d":"$20.29"}},{"$f":"R95/F95","v":{"v":0.09570754716981132,"d":"$0.10"}},0]
[null,"Canned, US Grade A, 3 oz. = 1/2 c Red/Orange Vegetable","Heinz 130005880000",null,"6/#10",215,null,{"$f":"ROUND(G95*F95/F96,2)","v":9.86},"Cs",{"$nulls":5},{"v":0.4105,"d":"$0.4105"},11.9,{"v":4.88,"d":"$4.88"}," "," "," "]
[null," "," ",null," "," ",null," "," "," "," "," "," ",{"$nulls":6}," "]
[36,"Ketchup, Sriracha, Hot Chili","Red Gold 72940-11204 Comm#: HUYYW8G",null,"1000/8gm",1000,5,{"$f":"ROUND($G$109*$F$109/F98,2)","v":0},"Cs",{"v":21.24,"d":"$21.24"},{"$f":"IF(OR(ISBLANK(J98),G98=0,ISBLANK(G98)),,ROUND(J98+$K$3,2))","v":{"v":21.24,"d":"$21.24"}},{"$f":"ROUND(H98*K98,2)","v":0},{"$f":"ROUND(K98/F98,2)","v":{"v":0.02,"d":"$0.02"}},null,{"v":0.4105,"d":"$0.4105"},3.89,{"$f":"ROUND(O98*P98,2)","v":{"v":1.6,"d":"$1.60"}},{"$f":"K98-Q98","v":{"v":19.639999999999997,"d":"$19.64"}},{"$f":"R98/F98","v":{"v":0.019639999999999998,"d":"$0.02"}},{"$f":"N98/F98","v":0}]
[null,"8 gram foil packages"," ",null," "," ",null," "," "," "," "," "," ",null," "," "," "," "," "," "]
[]
[37,"Sauce, Barbecue, 12 gram","Heinz/Kraft 130005338000",null,"200/12 gm",200,50,{"$f":"ROUND($G$105*$F$105/F101,2)","v":65},"Cs",{"v":5.5,"d":"$5.50"},{"$f":"IF(OR(ISBLANK(J101),G101=0,ISBLANK(G101)),,ROUND(J101+$K$3,2))","v":{"v":5.5,"d":"$5.50"}},{"$f":"ROUND(H101*K101,2)","v":{"v":357.5,"d":"$357.50"}},{"$f":"ROUND(K101/F101,2)","v":{"v":0.03,"d":"$0.03"}},null,{"v":0.4105,"d":"$0.4105"},1.01,{"$f":"ROUND(O101*P101,2)","v":{"v":0.41,"d":"$0.41"}},{"$f":"K101-Q101","v":{"v":5.09,"d":"$5.09"}},{"$f":"R101/F101","v":{"v":0.02545,"d":"$0.03"}},{"$f":"N101/F101","v":0}]
[null,"Shelf Stable, 12 grams per packet","PPI 7160372781000",null,"200/12 gm",200,null,{"$f":"ROUND($G$105*$F$105/F102,2)","v":65},"Cs",{"v":4.45,"d":"$4.45"},{"$f":"IF(OR(ISBLANK(J101),G101=0,ISBLANK(G101)),,ROUND(J102+$K$3,2))","v":{"v":4.45,"d":"$4.45"}},{"$f":"ROUND(H102*K102,2)","v":{"v":289.25,"d":"$289.25"}},{"$f":"ROUND(K102/F102,2)","v":{"v":0.02,"d":"$0.02"}}," ",null," "," "," ",{"$f":"M102/E102","v":{"$error":"#VALUE!"}},{"$error":"#VALUE!"}]
[null," ","Sauer's",null,"200/12 gm",200,null,65,"Cs",{"$nulls":4}," ",null," "," "," ",{"$error":"#VALUE!"},{"$error":"#VALUE!"}]
[null,"Allergens:  Wheat, Soy","Diamond/Flavor Fresh 76009",null,"200/12 gm",200,null,65,"Cs",{"$nulls":4}," ",null," "," "," ",{"$error":"#VALUE!"},{"$error":"#VALUE!"}]
[38,"Sauce, Taco","Heinz/Kraft 130005324000",null,"200/9 gm",200,65,{"$f":"ROUND($G$105*$F$105/F105,2)","v":65},"Cs",{"v":3.7,"d":"$3.70"},{"$f":"IF(OR(ISBLANK(J105),G105=0,ISBLANK(G105)),,ROUND(J105+$K$3,2))","v":{"v":3.7,"d":"$3.70"}},{"$f":"ROUND(H105*K105,2)","v":{"v":240.5,"d":"$240.50"}},{"$f":"ROUND(K105/F105,2)","v":{"v":0.02,"d":"$0.02"}},null,{"v":0.4105,"d":"$0.4105"},0.75,{"$f":"ROUND(O105*P105,2)","v":{"v":0.31,"d":"$0.31"}},{"$f":"K105-Q105","v":{"v":3.39,"d":"$3.39"}},{"$f":"R105/F105","v":{"v":0.01695,"d":"$0.02"}},{"$f":"N105/F105","v":0}]
[null,"Shelf Stable, 9 grams per packet","Sauer's",null,"200/9 gm",200,null,{"$f":"ROUND($G$105*$F$105/F106,2)","v":65},"Cs",{"$nulls":4}," ",null," "," "," ",{"$f":"M106/E106","v":{"$error":"#VALUE!"}},{"$error":"#VALUE!"}]
[null,"\\","Rosarita",null,"200/9 gm",200,null,65,"Cs",{"$nulls":4}," ",null," "," "," ",{"$error":"#VALUE!"},{"$error":"#VALUE!"}]
[null," "," ",null," "," "," "," "," "," "," "," "," "," ",null," "," "," ",{"$error":"#VALUE!"},{"$error":"#VALUE!"}]
[39,"Ketchup, Sriracha, Hot Chili","Red Gold 72940-11204 Comm#: HUYYW8G",null,"1000/8gm",1000,0,{"$f":"ROUND($G$109*$F$109/F109,2)","v":0},"Cs",{"v":21.24,"d":"$21.24"},{"$f":"IF(OR(ISBLANK(J109),G109=0,ISBLANK(G109)),,ROUND(J109+$K$3,2))","v":0},{"$f":"ROUND(H109*K109,2)","v":0},{"$f":"ROUND(K109/F109,2)","v":0},null,{"v":0.4105,"d":"$0.4105"},3.89,{"$f":"ROUND(O109*P109,2)","v":{"v":1.6,"d":"$1.60"}},{"$f":"K109-Q109","v":{"v":-1.6,"d":"$(1.60)"}},{"$f":"R109/F109","v":{"v":-0.0016,"d":"$(0.00)"}},0]
[null,"8 gram foil packages"," ",null," "," ",null," "," "," "," "," "," ",null," "," "," "," "," "," "]
[]
[null," "," ",null," "," ",null," "," "," "," "," "," ",null,"Garbanzo Beans 100360",{"$nulls":4}," "]
[40,"Hummus Cups ","National Food Group 600355",null,"120/3.0z",120,0,{"$f":"ROUND(G113*F113/F113,2)","v":0},"Cs",{"v":42,"d":"$42.00"},{"$f":"IF(OR(ISBLANK(J113),G113=0,ISBLANK(G113)),,ROUND(J113+$K$3,2))","v":0},{"$f":"ROUND(H113*K113,2)","v":0},{"$f":"ROUND(K113/F113,2)","v":0},{"v":29.98,"d":"$29.98"},{"v":0.3677,"d":"$0.3677"},17.55,{"$f":"ROUND(O113*P113,2)","v":{"v":6.45,"d":"$6.45"}},0,{"$f":"R113/F113","v":0},{"$f":"N113/F113","v":{"v":0.24983333333333332,"d":"$0.25"}}]
[null,"One serving equals 1 M/MA and 1/4 cup vegetable"," "," "," "," ",null," "," ",null," "," "," ",{"$nulls":6}," "]
[null,"or as a base."," ",null," "," ",null," "," ",null," "," "," ",{"$nulls":6}," "]
[41,"Turnip Greens, chopped","Distributor Choice",null,"6/#10",6,5,{"$f":"ROUND(G116*F116/F116,2)","v":5},"Cs",{"$nulls":10}," "]
[null,"Fancy, Minimum drained weight 58 oz (No Imports) ","Fillable txt box or unprotected",{"$nulls":4},{"$f":"ROUND(G116*F116/F117,2)","v":{"$error":"#DIV/0!"}},"Cs",null,{"$f":"IF(OR(ISBLANK(J117),G116=0,ISBLANK(G116)),,ROUND(J117+$K$3,2))","v":0},{"$f":"ROUND(H117*K117,2)","v":{"$error":"#DIV/0!"}},{"$f":"ROUND(K117/F117,2)","v":{"$error":"#DIV/0!"}},{"$nulls":6}," "]
[{"$nulls":19}," "]
[{"$nulls":19}," "]
[{"$nulls":8},"Page Total",null,null,{"$f":"SUMIF(L6:L118,\">0\")","v":{"v":10125.399999999998,"d":"$10,125.40"}}]

{"sheet":"Groceries","index":390,"n_rows":251,"n_cols":13,"rows_kept":251,"merged":[[0,4,0,12],[1,4,1,12],[2,5,2,9]]}
[null,{"$f":"'Recap Sheet'!A2","v":"School Food Authority:"},null,null,{"$f":"'Recap Sheet'!A3","v":"Offeror Name:"}]
[null,{"$f":"'Recap Sheet'!B2","v":"WILLIAMSBURG COUNTY SCHOOLS"},"Return to Recap Sheet",null,{"$f":"'Recap Sheet'!B3","v":0}]
["Item","Description","Approved Brand Name / Manuf ID # ",null,null,"Firm Fixed Fee",{"$nulls":4},{"$f":"'Recap Sheet'!B4","v":{"v":0,"d":"$0.00"}}," "]
["#",null,null,"Distributor","Vendor","Svgs","Est.","Bid ","Bid","Unit","Unit Price","Total ","Cost per"]
[{"$nulls":3},"Code","Pack","per unit","Bid Qty","Qty","Unit","Price","plus Fee","Price","Unit"]
[null,"Groceries"]
[1,"Bacon Bits","Distributor Choice",null,"25Lb",25,0,{"$f":"ROUND(G7*F7/F7,2)","v":0},"Cs"]
[null,"Imitation.  For use on salad bar.  ","Fillable txt box or unprotected",{"$nulls":4},{"$f":"ROUND(G7*F7/F8,2)","v":{"$error":"#DIV/0!"}},"Cs",null,{"$f":"IF(OR(ISBLANK(J8),G7=0,ISBLANK(G7)),,ROUND(J8+$K$3,2))","v":0},{"$f":"ROUND(H8*K8,2)","v":{"$error":"#DIV/0!"}},{"$f":"ROUND(K8/F8,2)","v":{"$error":"#DIV/0!"}}]
[2,"Baking Powder","Distributor Choice",null,"40Lb",40,10,{"$f":"ROUND(G9*F9/F9,2)","v":10},"Cs"]
[null,"Must meet Fed/ Spec #EE-B-86B.  Double Acting.  ","Fillable txt box or unprotected",{"$nulls":4},{"$f":"ROUND(G9*F9/F10,2)","v":{"$error":"#DIV/0!"}},"Cs",null,{"$f":"IF(OR(ISBLANK(J10),G9=0,ISBLANK(G9)),,ROUND(J10+$K$3,2))","v":0},{"$f":"ROUND(H10*K10,2)","v":{"$error":"#DIV/0!"}},{"$f":"ROUND(K10/F10,2)","v":{"$error":"#DIV/0!"}}]
[3,"Baking Soda","Distributor Choice",null,"24/1 lb",24,10]
[null,"Shelf Stable","Fillable txt box or unprotected",{"$nulls":4},{"$f":"ROUND(G11*F11/F12,2)","v":{"$error":"#DIV/0!"}},"Cs",null,{"$f":"IF(OR(ISBLANK(J12),G11=0,ISBLANK(G11)),,ROUND(J12+$K$3,2))","v":0},{"$f":"ROUND(H12*K12,2)","v":{"$error":"#DIV/0!"}},{"$f":"ROUND(K12/F12,2)","v":{"$error":"#DIV/0!"}}]
[4,"Bases, Soup, Beef Flavor","Distributor Choice",null,"12/1Lb",12,30,{"$f":"ROUND(G13*F13/F13,2)","v":30},"Cs"]
[null,"First ingredient, meat, 1 lb reconstituted yields 5 gallons broth.   No MSG","Fillable txt box or unprotected",{"$nulls":4},{"$f":"ROUND(G13*F13/F14,2)","v":{"$error":"#DIV/0!"}},"Cs",null,{"$f":"IF(OR(ISBLANK(J14),G13=0,ISBLANK(G13)),,ROUND(J14+$K$3,2))","v":0},{"$f":"ROUND(H14*K14,2)","v":{"$error":"#DIV/0!"}},{"$f":"ROUND(K14/F14,2)","v":{"$error":"#DIV/0!"}}]
[]
[5,"Bases, Soup, Chicken Flavor","Distributor Choice",null,"12/1Lb",12,50,{"$f":"ROUND(G16*F16/F16,2)","v":50},"Cs"]
[null,"First ingredient, meat, 1 lb reconstituted yields 5 gallons broth.   No MSG","Fillable txt box or unprotected",{"$nulls":4},{"$f":"ROUND(G16*F16/F17,2)","v":{"$error":"#DIV/0!"}},"Cs",null,{"$f":"IF(OR(ISBLANK(J17),G16=0,ISBLANK(G16)),,ROUND(J17+$K$3,2))","v":0},{"$f":"ROUND(H17*K17,2)","v":{"$error":"#DIV/0!"}},{"$f":"ROUND(K17/F17,2)","v":{"$error":"#DIV/0!"}}]
[6,"Bases, Soup, Ham Flavor","Distributor Choice",null,"12/1Lb",12,10,{"$f":"ROUND(G18*F18/F18,2)","v":10},"Cs"]
[null,"First ingredient, meat,1 lb reconstituted yields 5 gallons broth.   No MSG","Fillable txt box or unprotected",{"$nulls":4},{"$f":"ROUND(G18*F18/F19,2)","v":{"$error":"#DIV/0!"}},"Cs",null,{"$f":"IF(OR(ISBLANK(J19),G18=0,ISBLANK(G18)),,ROUND(J19+$K$3,2))","v":0},{"$f":"ROUND(H19*K19,2)","v":{"$error":"#DIV/0!"}},{"$f":"ROUND(K19/F19,2)","v":{"$error":"#DIV/0!"}}]
[7,"Bread Sticks, Frozen Dough.                                      WGR   1.0 OEG","Rich's 12194",null,"250/1.0z ",250,15,{"$f":"ROUND(G20*F20/F20,2)","v":15},"Cs",null,{"$f":"IF(OR(ISBLANK(J20),G20=0,ISBLANK(G20)),,ROUND(J20+$K$3,2))","v":0},{"$f":"ROUND(H20*K20,2)","v":0},{"$f":"ROUND(K20/F20,2)","v":0}]
[null,"Pre-cut frozen bread dough.  Bake and Serve  1breadstick = 1.0 OEG"]
[8,"Breadsticks, Frozen, Fully Baked,                                     WGR","Adv-Pierre 133908  ",null,"144/1g.5z",144,285,{"$f":"ROUND(G22*F22/F22,2)","v":285},"CS",null,{"$f":"IF(OR(ISBLANK(J22),G22=0,ISBLANK(G22)),,ROUND(J22+$K$3,2))","v":0},{"$f":"ROUND(H22*K22,2)","v":0},{"$f":"ROUND(K22/F22,2)","v":0}]
[null,"1 breadstick provides  1.5 oz Equivalent Grain, Thaw and Serve"]
[9,"Chips, Nachos , Bulk          ","62399 Tostitos Crispy  Rounds",null,"8/1Lb",8,0,{"$f":"ROUND($G$24*$F$24/F24,2)","v":0},null,null,{"$f":"IF(OR(ISBLANK(J24),G24=0,ISBLANK(G24)),,ROUND(J24+$K$3,2))","v":0},{"$f":"ROUND(H24*K24,2)","v":0},{"$f":"ROUND(K24/F24,2)","v":0}]
[null," Must  meet Whole Grain Rich"]
[10,"Cookie Dough, Frozen, Red. Fat               WGR  Not More Than 1.0 OEG","Otis Spunkmeyer",null,"240/1.5z",240,220,{"$f":"ROUND(G26*F26/F26,2)","v":220},"Cs",null,{"$f":"IF(OR(ISBLANK(J26),G26=0,ISBLANK(G26)),,ROUND(J26+$K$3,2))","v":0},{"$f":"ROUND(H26*K26,2)","v":0},{"$f":"ROUND(K26/F26,2)","v":0}]
[null,null,"  55680 Chocolate Chip   .5 OEG"]
[null,"1 cookie provides no more than 30% calories from total fat, ","  55683 Oatmeal Raisin   .5  OEG"]
[null,"10% calories from saturated, 35% sugar by weight","  55684 Butter Sugar         1.0 OEG"]
[null,null,"  55688  Carnival                 .5  OEG"]
[null,null,"  55689 Chocolate Brownie   .75 OEG"]
[11,"Cookies, Mini, Whole Grain, Indv.                               WGR   1.0 OEG","Chortles               ",null,"100/1z",100,10,{"$f":"ROUND($G$32*$F$32/F32,2)","v":10},"Cs",null,{"$f":"IF(OR(ISBLANK(J32),G32=0,ISBLANK(G32)),,ROUND(J32+$K$3,2))","v":0},{"$f":"ROUND(H32*K32,2)","v":0},{"$f":"ROUND(K32/F32,2)","v":0}]
[null,"0 transfat, low in sugar and calories, No HFCS     ","     09535-00005  Graham "]
[null,"1 package = 1 oz eq grain.  ","     09535- 00004  Chocolate"]
[null,null,"Kelloggs Gripz, Cookie, Mini",null,"150/.95z",150,null,{"$f":"ROUND($G$32*$F$32/F35,2)","v":6.67},"Cs",null,{"$f":"IF(OR(ISBLANK(J35),G32=0,ISBLANK(G32)),,ROUND(J35+$K$3,2))","v":0},{"$f":"ROUND(H35*K35,2)","v":0},{"$f":"ROUND(K35/F35,2)","v":0}]
[null,"Chortles and Kelloggs products are Smark Snack Compliant","   30100-45682  Cinnamon Graham Bites"]
[null,null,"   30100-80741   Chocolate Chip Graham"]
[12,"Cornmeal, Yellow, Enriched.   ","Distributor Choice",null,"25Lb",25,70,{"$f":"ROUND(G38*F38/F38,2)","v":70},"Cs"]
[null,"First Quality","Fillable txt box ",{"$nulls":4},{"$f":"ROUND(G38*F38/F39,2)","v":{"$error":"#DIV/0!"}},"Cs",null,{"$f":"IF(OR(ISBLANK(J39),G38=0,ISBLANK(G38)),,ROUND(J39+$K$3,2))","v":0},{"$f":"ROUND(H39*K39,2)","v":{"$error":"#DIV/0!"}},{"$f":"ROUND(K39/F39,2)","v":{"$error":"#DIV/0!"}}]
[null,"This is not a Whole Grain Rich product. "]
[13,"Cornstarch","Distributor Choice",null,"24/1gLb",24,25,{"$f":"ROUND(G41*F41/F41,2)","v":25},"Cs"]
[" ","Must meet Federal spec #N-C-541E","Fillable txt box ",{"$nulls":4},{"$f":"ROUND(G41*F41/F42,2)","v":{"$error":"#DIV/0!"}},"Cs",null,{"$f":"IF(OR(ISBLANK(J42),G41=0,ISBLANK(G41)),,ROUND(J42+$K$3,2))","v":0},{"$f":"ROUND(H42*K42,2)","v":{"$error":"#DIV/0!"}},{"$f":"ROUND(K42/F42,2)","v":{"$error":"#DIV/0!"}}]
[14,"Crackers, Animal                                                         WGR  1.0 OEG","Keebler 30100-20150",null,"150/1oz",150,0,{"$f":"ROUND(G43*F43/F43,2)","v":0},"Cs",null,{"$f":"IF(OR(ISBLANK(J43),G43=0,ISBLANK(G43)),,ROUND(J43+$K$3,2))","v":0},{"$f":"ROUND(H43*K43,2)","v":0},{"$f":"ROUND(K43/F43,2)","v":0}]
[null,"One serving provides 1.0oz equivalent grain. No HFCS, made with sugar"]
[null,"Contains wheat and soy. Contains 18g credible grain Smart Snacks Compliant"]
[15,"Crackers, Animal, Baked                                             WGR   1.0 OEG","Pepperidge Farms -Giant Goldfish",null,"300/.9z",300,0,{"$f":"ROUND(G46*F46/F46,2)","v":0},"Cs",null,{"$f":"IF(OR(ISBLANK(J46),G46=0,ISBLANK(G46)),,ROUND(J46+$K$3,2))","v":0},{"$f":"ROUND(H46*K46,2)","v":0},{"$f":"ROUND(K46/F46,2)","v":0}]
[null,"<30% calories from fat,  <10% from Saturated Fat, 0 Trans Fat,","15094 Cinnamon Grahams"]
[null,"Made from whole-grain flour, 1 package = 1 grain/bread serving","15263 Chocolate Grahams"]
[null,null,"18432 Honey Oats Graham"]
[null,"Smart Snacks Compliant","19246 Vanilla Grahams"]
[16,"Crackers, Cheddar Cheese, Goldfish Shape, Whole Grain "," Pepperidge Farms 18105 ",null,"300/.75z",300,10,{"$f":"ROUND(G51*F51/F51,2)","v":10},"Cs",null,{"$f":"IF(OR(ISBLANK(J51),G51=0,ISBLANK(G51)),,ROUND(J51+$K$3,2))","v":0},{"$f":"ROUND(H51*K51,2)","v":0},{"$f":"ROUND(K51/F51,2)","v":0}]
[null,"One package meets one grain/bread serving"]
[null,"Smart Snacks Compliant"]
[17,"Crackers, Graham                                                             WGR  1.0 OEG","Keebler 91822, 16 gms Grains   1/2013",null,"150/3Ct",150,5,{"$f":"ROUND(G54*F54/F54,2)","v":5},"Cs",null,{"$f":"IF(OR(ISBLANK(J54),G54=0,ISBLANK(G54)),,ROUND(J54+$K$3,2))","v":0},{"$f":"ROUND(H54*K54,2)","v":0},{"$f":"ROUND(K54/F54,2)","v":0}]
[null,"1 serving = 1 grain/bread equivalent    Smart Snacks Complaint"]
[18,"Crackers, Graham, Bug Shaped,                                            WGR"," Keebler 55644(Bug Bites) ",null,"210/1.0z",210,0,{"$f":"ROUND(G56*F56/F56,2)","v":0},"Cs",null,{"$f":"IF(OR(ISBLANK(J56),G56=0,ISBLANK(G56)),,ROUND(J56+$K$3,2))","v":0},{"$f":"ROUND(H56*K56,2)","v":0},{"$f":"ROUND(K56/F56,2)","v":0}]
[null,"Ready to Eat.  One serving = Minimum 1 oz equivalent grains"]
[null,"Smart Snacks Compliant"]
[19,"Crackers, Graham, Elf Shaped                                               WGR"," Keebler                      ",null,"150/1.0z",150,25,{"$f":"ROUND(G59*F59/F59,2)","v":25},"Cs",null,{"$f":"IF(OR(ISBLANK(J59),G59=0,ISBLANK(G59)),,ROUND(J59+$K$3,2))","v":0},{"$f":"ROUND(H59*K59,2)","v":0},{"$f":"ROUND(K59/F59,2)","v":0}]
[null,"Assorted Flavors, Ready to eat,  1 pkg shall meet","     40213 Original      "]
[null,"one grain/bread serving.    ","     40221 Cinnamon    "]
[null,"Smart Snacks Compliant","     40239 Chocolate    "]
[20,"Crackers, Saltines, Whole Grain, I/ W                                      WGR  0.5 OEG"," Keebler-  Zesta Minis 30100 10088",null,"300/.39z",300,7,{"$f":"IF(F63>0,ROUND(G63*F63/F63,2),)","v":7},"Cs",null,{"$f":"IF(OR(ISBLANK(J63),G63=0,ISBLANK(G63)),,ROUND(J63+$K$3,2))","v":0},{"$f":"ROUND(H63*K63,2)","v":0},{"$f":"ROUND(K63/F63,2)","v":0}]
[null,"Mini saltine crackers made with whole grain, provides .5 OEG per serving.","   "]
[]
[21,"Crackers, Saltines, Whole Grain                                              WGR","Distributor Choice",null,"500/2 Ct",500,70,{"$f":"ROUND($G$66*$F$66/F66,2)","v":70},"Cs"]
[null,"Individually wrapped","Fillable txt box ",{"$nulls":4},{"$f":"ROUND(G66*F66/F67,2)","v":{"$error":"#DIV/0!"}},"Cs",null,{"$f":"IF(OR(ISBLANK(J67),G66=0,ISBLANK(G66)),,ROUND(J67+$K$3,2))","v":0},{"$f":"ROUND(H67*K67,2)","v":{"$error":"#DIV/0!"}},{"$f":"ROUND(K67/F67,2)","v":{"$error":"#DIV/0!"}}]
[null," 2 Packages (4 crackers) provides .5 oz Equivalent Grain"]
[" "]
[22,"Croissants, Whole Grain, O Trans Fat, Pre-sliced , Thaw & Serve"," Hadley Farms 139TF  WG  ",null,"144/2.2z",144,0,{"$f":"ROUND(G70*F70/F70,2)","v":0},"Cs",null,{"$f":"IF(OR(ISBLANK(J70),G70=0,ISBLANK(G70)),,ROUND(J70+$K$3,2))","v":0},{"$f":"ROUND(H70*K70,2)","v":0},{"$f":"ROUND(K70/F70,2)","v":0}]
[null,"1 serving = 2 grain/bread servings"]
[23,"Dressings, Regular, Honey Mustard","Naturally Fresh 85016875061",null,"4/1g",4,5,{"$f":"ROUND(G72*F72/F72,2)","v":5},"Cs",null,{"$f":"IF(OR(ISBLANK(J72),G72=0,ISBLANK(G72)),,ROUND(J72+$K$3,2))","v":0},{"$f":"ROUND(H72*K72,2)","v":0},{"$f":"ROUND(K72/F72,2)","v":0}]
[null,"Does not require refrigeration until after opened.  ","Hellmans 83023501",null,"4/1g",4,null,{"$f":"ROUND($G$72*$F$72/F73,2)","v":5},"Cs",0,{"$f":"IF(OR(ISBLANK(J73),G72=0,ISBLANK(G72)),,ROUND(J73+$K$3,2))","v":0},{"$f":"ROUND(K73*H73,2)","v":0},0]
[null,null,"CF Sauer Dukes 06148",null,"4/1g",4,null,{"$f":"ROUND($G$72*$F$72/F74,2)","v":5},"Cs",0,{"$f":"IF(OR(ISBLANK(J74),G72=0,ISBLANK(G72)),,ROUND(J74+$K$3,2))","v":0},{"$f":"ROUND(K74*H74,2)","v":0},0]
[null,null,"Southern Classic 17107410",null,"4/1g",4,null,{"$f":"ROUND($G$72*$F$72/F75,2)","v":5},"Cs",0,{"$f":"IF(OR(ISBLANK(J75),G72=0,ISBLANK(G72)),,ROUND(J75+$K$3,2))","v":0},{"$f":"ROUND(K75*H75,2)","v":0},{"$f":"ROUND(K75/F75,2)","v":0}]
[null,null,"Kraft 210007052400",null,"4/1g",4,null,{"$f":"ROUND($G$72*$F$72/F76,2)","v":5},"Cs",0,{"$f":"IF(OR(ISBLANK(J76),G72=0,ISBLANK(G72)),,ROUND(J76+$K$3,2))","v":0},{"$f":"ROUND(K76*H76,2)","v":0},0]
[24,"Dressings, Reduced Calorie, Italian","Southern Classics 13007310",null,"4/1g",4,0,{"$f":"ROUND($G$77*$F$77/F77,2)","v":0},"Cs",0,{"$f":"IF(OR(ISBLANK(J77),G77=0,ISBLANK(G77)),,ROUND(J77+$K$3,2))","v":0},{"$f":"ROUND(H77*K77,2)","v":0},0]
[null,"Does not require refrigeration until after opened.  ","CFSauer Dukes 06156",null,"4/1g",4,null,{"$f":"ROUND($G$77*$F$77/F78,2)","v":0},"Cs",0,{"$f":"IF(OR(ISBLANK(J78),G77=0,ISBLANK(G77)),,ROUND(J78+$K$3,2))","v":0},{"$f":"ROUND(H78*K78,2)","v":0},0]
[null,null,"Kraft 210006438900",null,"4/1g",4,null,{"$f":"ROUND($G$77*$F$77/F79,2)","v":0},"Cs",0,{"$f":"IF(OR(ISBLANK(J79),G77=0,ISBLANK(G77)),,ROUND(J79+$K$3,2))","v":0},{"$f":"ROUND(H79*K79,2)","v":0},{"$f":"ROUND(K79/F79,2)","v":0}]
[25,"Dressings, Regular, Ranch","Marzetti 837966",null,"4/1g",4,5,{"$f":"ROUND(G80*F80/F80,2)","v":5},"Cs",null,{"$f":"IF(OR(ISBLANK(J80),G80=0,ISBLANK(G80)),,ROUND(J80+$K$3,2))","v":0},{"$f":"ROUND(H80*K80,2)","v":0},{"$f":"ROUND(K80/F80,2)","v":0}]
[null,"Does not require refrigeration until after opened.","Hellmann's 25711",null,"4/1g",4,null,{"$f":"ROUND($G$80*$F$80/F81,2)","v":5},"Cs",null,{"$f":"IF(OR(ISBLANK(J81),G80=0,ISBLANK(G80)),,ROUND(J81+$K$3,2))","v":0},{"$f":"ROUND(K81*H81,2)","v":0},0]
[null,null,"Kens KE0789 ",null,"4/1g",4,null,5,"Cs",null,{"$f":"IF(OR(ISBLANK(J82),G80=0,ISBLANK(G80)),,ROUND(J82+$K$3,2))","v":0},0,0]
[null,null,"Hidden Valley 85620",null,"4/1g",4,null,5,"Cs",null,{"$f":"IF(OR(ISBLANK(J83),G80=0,ISBLANK(G80)),,ROUND(J83+$K$3,2))","v":0},0,0]
[null,null,"Naturally Fresh 85016645061",null,"4/1g",4,null,5,"Cs",0,{"$f":"IF(OR(ISBLANK(J84),G80=0,ISBLANK(G80)),,ROUND(J84+$K$3,2))","v":0},0,0]
[null,null,"Southern Classics 21107410",null,"4/1g",4,null,5,"Cs",0,{"$f":"IF(OR(ISBLANK(J85),G80=0,ISBLANK(G80)),,ROUND(J85+$K$3,2))","v":0},0,0]
[null,null,"CF Sauer Dukes 06198",null,"4/1g",4,null,5,"Cs",0,{"$f":"IF(OR(ISBLANK(J86),G80=0,ISBLANK(G80)),,ROUND(J86+$K$3,2))","v":0},0,0]
[null,null,"Kraft 210006439900",null,"4/1g",4,null,{"$f":"ROUND($G$80*$F$80/F87,2)","v":5},"Cs",0,{"$f":"IF(OR(ISBLANK(J87),G80=0,ISBLANK(G80)),,ROUND(J87+$K$3,2))","v":0},{"$f":"ROUND(K87*H87,2)","v":0},{"$f":"ROUND(K87/F87,2)","v":0}]
[26,"Dressings, Regular, Thousand Island","Marzetti 83000",null,"4/1g",4,5,{"$f":"ROUND(G88*F88/F88,2)","v":5},"Cs",null,{"$f":"IF(OR(ISBLANK(J88),G88=0,ISBLANK(G88)),,ROUND(J88+$K$3,2))","v":0},{"$f":"ROUND(H88*K88,2)","v":0},{"$f":"ROUND(K88/F88,2)","v":0}]
[null,"Does not require refrigeration until after opened.  ","Hellmann's 25714",null,"4/1g",4,null,{"$f":"ROUND($G$88*$F$88/F89,2)","v":5},"Cs",null,{"$f":"IF(OR(ISBLANK(J89),G88=0,ISBLANK(G88)),,ROUND(J89+$K$3,2))","v":0},{"$f":"ROUND(K89*H89,2)","v":0},0]
[null,null,"Kens 0816 ",null,"4/1g",4,null,5,"Cs",null,{"$f":"IF(OR(ISBLANK(J90),G88=0,ISBLANK(G88)),,ROUND(J90+$K$3,2))","v":0},0,0]
[null,null,"Hidden Valley 85648",null,"4/1g",4,null,5,"Cs",null,{"$f":"IF(OR(ISBLANK(J91),G88=0,ISBLANK(G88)),,ROUND(J91+$K$3,2))","v":0},0,0]
[null,null,"Southern Classic 34107410",null,"4/1g",4,null,5,"Cs",null,{"$f":"IF(OR(ISBLANK(J92),G88=0,ISBLANK(G88)),,ROUND(J92+$K$3,2))","v":0},0,0]
[null,null,"CF Sauer Dukes 06188",null,"4/1g",4,null,5,"Cs",0,{"$f":"IF(OR(ISBLANK(J93),G88=0,ISBLANK(G88)),,ROUND(J93+$K$3,2))","v":0},0,{"$f":"ROUND(K93/F93,2)","v":0}]
[null,null,"Kraft 210006430200",null,"4/1g",4,null,5,"Cs",null,{"$f":"IF(OR(ISBLANK(J94),G88=0,ISBLANK(G88)),,ROUND(J94+$K$3,2))","v":0},0,0]
[27,"Flour, Plain, All Purpose","Distributor Choice",null,"25Lb",25,130,{"$f":"ROUND(G95*F95/F95,2)","v":130},"Cs"]
[null,"Enriched","Fillable txt box ",{"$nulls":4},{"$f":"ROUND(G95*F95/F96,2)","v":{"$error":"#DIV/0!"}},"Cs",null,{"$f":"IF(OR(ISBLANK(J96),G95=0,ISBLANK(G95)),,ROUND(J96+$K$3,2))","v":0},{"$f":"ROUND(H96*K96,2)","v":{"$error":"#DIV/0!"}},{"$f":"ROUND(K96/F96,2)","v":{"$error":"#DIV/0!"}}]
[]
[28,"Flour, Whole Wheat","Distributor Choice",null,"50Lb",50,20,{"$f":"ROUND(G98*F98/F98,2)","v":20},"Cs"]
[null,null,"Fillable txt box ",{"$nulls":4},{"$f":"ROUND(G98*F98/F99,2)","v":{"$error":"#DIV/0!"}},"Cs",null,{"$f":"IF(OR(ISBLANK(J99),G98=0,ISBLANK(G98)),,ROUND(J99+$K$3,2))","v":0},{"$f":"ROUND(H99*K99,2)","v":{"$error":"#DIV/0!"}},{"$f":"ROUND(K99/F99,2)","v":{"$error":"#DIV/0!"}}]
[29,"Food Release","Pam (ConAgra) 63111",null,"6/17 z",102,95,{"$f":"ROUND(G100*F100/F100,2)","v":95},"Cs",null,{"$f":"IF(OR(ISBLANK(J100),G100=0,ISBLANK(G100)),,ROUND(J100+$K$3,2))","v":0},{"$f":"ROUND(H100*K100,2)","v":0},{"$f":"ROUND(K100/F100,2)","v":0}]
[null,"Processed soybean oil, no water added.  Statement ","Wescoat 62067",null,"6/17z",102,null,{"$f":"ROUND($G$100*$F$100/F101,2)","v":95},"Cs",null,{"$f":"IF(OR(ISBLANK(J101),G100=0,ISBLANK(G100)),,ROUND(J101+$K$3,2))","v":0},{"$f":"ROUND(K101*H101,2)","v":0},{"$f":"ROUND(K101/F101,2)","v":0}]
[null,"required if Distributor Choice is bid","Benton Lane 63081",null,"6/16.5z",99,null,{"$f":"ROUND($G$100*$F$100/F102,2)","v":{"v":97.88,"d":"98"}},"Cs",null,{"$f":"IF(OR(ISBLANK(J102),G100=0,ISBLANK(G100)),,ROUND(J102+$K$3,2))","v":0},{"$f":"ROUND(K102*H102,2)","v":0},{"$f":"ROUND(K102/F102,2)","v":0}]
[null,null,"Pan Coating Cargill 100087293",null,"6/14z",84,null,{"$f":"ROUND($G$100*$F$100/F103,2)","v":{"v":115.36,"d":"115"}},"Cs",null,{"$f":"IF(OR(ISBLANK(J103),G100=0,ISBLANK(G100)),,ROUND(J103+$K$3,2))","v":0},{"$f":"ROUND(K103*H103,2)","v":0},{"$f":"ROUND(K103/F103,2)","v":0}]
[]
[30,"Food Release, Butter Flavor ","Buttery Delite, 17120",null,"6/17z",84,0,{"$f":"ROUND(G105*F105/F105,2)","v":0},"Cs",null,{"$f":"IF(OR(ISBLANK(J105),G105=0,ISBLANK(G105)),,ROUND(J105+$K$3,2))","v":0},{"$f":"ROUND(H105*K105,2)","v":0},{"$f":"ROUND(K105/F105,2)","v":0}]
[null,"Blend of canola oil with sunflower lecithin, salt and natural flavoring."]
[null,"Statement required if Distributor Choice is bid"]
[31,"Gelatin Dessert Mix, Orange","Distributor Choice",null,"12/24z",420,10,{"$f":"ROUND(G108*F108/F108,2)","v":10},"Cs"]
[null,"Sugar added","Fillable txt box ",{"$nulls":4},{"$f":"ROUND(G108*F108/F109,2)","v":{"$error":"#DIV/0!"}},"Cs",null,{"$f":"IF(OR(ISBLANK(J109),G108=0,ISBLANK(G108)),,ROUND(J109+$K$3,2))","v":0},{"$f":"ROUND(H109*K109,2)","v":{"$error":"#DIV/0!"}},{"$f":"ROUND(K109/F109,2)","v":{"$error":"#DIV/0!"}}]
[32,"Gelatin Dessert Mix, Strawberry","Distributor Choice",null,"12/24 z",288,15,{"$f":"ROUND(G110*F110/F110,2)","v":15},"Cs"]
[null,"Sugar added","Fillable txt box ",{"$nulls":4},{"$f":"ROUND(G110*F110/F111,2)","v":{"$error":"#DIV/0!"}},"Cs",null,{"$f":"IF(OR(ISBLANK(J111),G110=0,ISBLANK(G110)),,ROUND(J111+$K$3,2))","v":0},{"$f":"ROUND(H111*K111,2)","v":{"$error":"#DIV/0!"}},{"$f":"ROUND(K111/F111,2)","v":{"$error":"#DIV/0!"}}]
[33,"Gravy Mix, Beef or Brown","Legout 75001",null,"8/16 z",128,55,{"$f":"ROUND(G112*F112/F112,2)","v":55},"Cs",null,{"$f":"IF(OR(ISBLANK(J112),G112=0,ISBLANK(G112)),,ROUND(J112+$K$3,2))","v":0},{"$f":"ROUND(H112*K112,2)","v":0},{"$f":"ROUND(K112/F112,2)","v":0}]
[null,null,"Foothill Farms G405-F6700",null,"8/14.10z",552,null,{"$f":"ROUND($G$112*$F$112/F113,2)","v":12.75},"Cs",null,{"$f":"IF(OR(ISBLANK(J113),G112=0,ISBLANK(G112)),,ROUND(J113+$K$3,2))","v":0},{"$f":"ROUND(K113*H113,2)","v":0},0]
[null,null,"Chef's Companion 57232",null,"8/14z",112,null,{"$f":"ROUND($G$112*$F$112/F114,2)","v":{"v":62.86,"d":"63"}},"Cs",null,{"$f":"IF(OR(ISBLANK(J114),G112=0,ISBLANK(G112)),,ROUND(J114+$K$3,2))","v":0},{"$f":"ROUND(K114*H114,2)","v":0},0]
[null,null,"Trio 38273",null,"8/13.37z",107,null,{"$f":"ROUND($G$112*$F$112/F115,2)","v":{"v":65.79,"d":"66"}},"Cs",null,{"$f":"IF(OR(ISBLANK(J115),G112=0,ISBLANK(G112)),,ROUND(J115+$K$3,2))","v":0},{"$f":"ROUND(K115*H115,2)","v":0},0]
[null,null,"Custom Culinary 17649",null,"8/12.0z",96,null,{"$f":"ROUND($G$112*$F$112/F116,2)","v":{"v":73.33,"d":"73"}},"Cs",null,{"$f":"IF(OR(ISBLANK(J116),G112=0,ISBLANK(G112)),,ROUND(J116+$K$3,2))","v":0},{"$f":"ROUND(K116*H116,2)","v":0},0]
[34,"Gravy Mix, Chicken","Trio 38282",null,"8/22.6 z",181,20,{"$f":"ROUND(G117*F117/F117,2)","v":20},"Cs",null,{"$f":"IF(OR(ISBLANK(J117),G117=0,ISBLANK(G117)),,ROUND(J117+$K$3,2))","v":0},{"$f":"ROUND(H117*K117,2)","v":0},0]
[null,null,"Legout 75004",null,"8/16 z",128,null,{"$f":"ROUND($G$117*$F$117/F118,2)","v":28.28},"Cs",null,{"$f":"IF(OR(ISBLANK(J118),G117=0,ISBLANK(G117)),,ROUND(J118+$K$3,2))","v":0},{"$f":"ROUND(K118*H118,2)","v":0},0]
[null,null,"Custom Culinary17839",null,"8/12z",96,null,{"$f":"ROUND($G$117*$F$117/F119,2)","v":37.71},"Cs",null,{"$f":"IF(OR(ISBLANK(J119),G117=0,ISBLANK(G117)),,ROUND(J119+$K$3,2))","v":0},{"$f":"ROUND(K119*H119,2)","v":0},0]
[35,"Macaroni, Elbow                                                                                      WGR","Distributor Choice",null,"20Lb",20,10,{"$f":"ROUND(G120*F120/F120,2)","v":10},"Cs"]
[null,"First Quality.  ","Fillable txt box ",{"$nulls":4},{"$f":"ROUND(G120*F120/F121,2)","v":{"$error":"#DIV/0!"}},"Cs",null,{"$f":"IF(OR(ISBLANK(J121),G120=0,ISBLANK(G120)),,ROUND(J121+$K$3,2))","v":0},{"$f":"ROUND(H121*K121,2)","v":{"$error":"#DIV/0!"}},{"$f":"ROUND(K121/F121,2)","v":{"$error":"#DIV/0!"}}]
[36,"Macaroni , Elbow, Whole Grain                                                          WGR","Distributor Choice",null,"2/10Lb",20,90,{"$f":"ROUND(G122*F122/F122,2)","v":90},"Cs"]
[null,"Made from 51% Durum whole wheat flour, contains 28g whole grain per ","Fillable txt box ",{"$nulls":4},{"$f":"ROUND(G122*F122/F123,2)","v":{"$error":"#DIV/0!"}},"Cs",null,{"$f":"IF(OR(ISBLANK(J123),G122=0,ISBLANK(G122)),,ROUND(J123+$K$3,2))","v":0},{"$f":"ROUND(H123*K123,2)","v":{"$error":"#DIV/0!"}},{"$f":"ROUND(K123/F123,2)","v":{"$error":"#DIV/0!"}}]
[null,"2oz serving (1/2 c).    First Quality"]
[37,"Mayonnaise, Reduced Calorie","Kens KE0892",null,"4/1g",4,20,{"$f":"ROUND(G125*F125/F125,2)","v":20},"Cs",null,{"$f":"IF(OR(ISBLANK(J125),G125=0,ISBLANK(G125)),,ROUND(J125+$K$3,2))","v":0},{"$f":"ROUND(H125*K125,2)","v":0},{"$f":"ROUND(K125/F125,2)","v":0}]
[null,"Does not require refrigeration until opened. ","Hellmann's 26730 ",null,"4/1g",4,null,{"$f":"ROUND($G$125*$F$125/F126,2)","v":20},"Cs",null,{"$f":"IF(OR(ISBLANK(J126),G125=0,ISBLANK(G125)),,ROUND(J126+$K$3,2))","v":0},{"$f":"ROUND(K126*H126,2)","v":0},0]
[null,null,"Dukes 06073",null,"4/1g",4,null,{"$f":"ROUND($G$125*$F$125/F127,2)","v":20},"Cs",null,{"$f":"IF(OR(ISBLANK(J127),G125=0,ISBLANK(G125)),,ROUND(J127+$K$3,2))","v":0},{"$f":"ROUND(K127*H127,2)","v":0},0]
[null,null,"Southern Classic 89007410",null,"4/1g",4,null,{"$f":"ROUND($G$125*$F$125/F128,2)","v":20},"Cs",0,{"$f":"IF(OR(ISBLANK(J128),G125=0,ISBLANK(G125)),,ROUND(J128+$K$3,2))","v":0},{"$f":"ROUND(K128*H128,2)","v":0},{"$f":"ROUND(K128/F128,2)","v":0}]
[null,null,"Kraft 210006430100",null,"4/1g",4,null,{"$f":"ROUND($G$125*$F$125/F129,2)","v":20},"Cs",null,{"$f":"IF(OR(ISBLANK(J129),G125=0,ISBLANK(G125)),,ROUND(J129+$K$3,2))","v":0},{"$f":"ROUND(K129*H129,2)","v":0},0]
[38,"Mayonnaise, Regular","Kens KE0911",null,"4/1g",4,2,{"$f":"ROUND(G130*F130/F130,2)","v":2},"Cs",null,{"$f":"IF(OR(ISBLANK(J130),G130=0,ISBLANK(G130)),,ROUND(J130+$K$3,2))","v":0},{"$f":"ROUND(H130*K130,2)","v":0},0]
[null,"First Quality.  Does not require refrigeration until after opening ","Hellmann's 26530 ",null,"4/1g",4,null,{"$f":"ROUND($G$130*$F$130/F131,2)","v":2},"Cs",null,{"$f":"IF(OR(ISBLANK(J131),G130=0,ISBLANK(G130)),,ROUND(J131+$K$3,2))","v":0},{"$f":"ROUND(K131*H131,2)","v":0},0]
[null,null,"Southern Classic  91107410",null,"4/1g",4,null,{"$f":"ROUND($G$130*$F$130/F132,2)","v":2},"Cs",null,{"$f":"IF(OR(ISBLANK(J132),G130=0,ISBLANK(G130)),,ROUND(J132+$K$3,2))","v":0},{"$f":"ROUND(K132*H132,2)","v":0},0]
[null,null,"CF Sauer Dukes 06003",null,"4/1g",4,null,{"$f":"ROUND($G$130*$F$130/F133,2)","v":2},"Cs",0,{"$f":"IF(OR(ISBLANK(J133),G130=0,ISBLANK(G130)),,ROUND(J133+$K$3,2))","v":0},{"$f":"ROUND(K133*H133,2)","v":0},0]
[null,null,"Kraft 210006421900"," ","4/1g",4,null,{"$f":"ROUND($G$130*$F$130/F134,2)","v":2},"Cs",0,{"$f":"IF(OR(ISBLANK(J134),G130=0,ISBLANK(G130)),,ROUND(J134+$K$3,2))","v":0},{"$f":"ROUND(K134*H134,2)","v":0},{"$f":"ROUND(K134/F134,2)","v":0}]
[39,"Milk, Non Fat Dry Powder","Distributor Choice",null,"6/5 Lb",6,30,{"$f":"ROUND(G135*F135/F135,2)","v":30},"Cs"]
[null,"4lbs/2 oz dry milk to 4 3/4 gal water= 5 gallons fluid milk  ","Fillable txt box ",{"$nulls":4},{"$f":"ROUND(G135*F135/F136,2)","v":{"$error":"#DIV/0!"}},"Cs",null,{"$f":"IF(OR(ISBLANK(J136),G135=0,ISBLANK(G135)),,ROUND(J136+$K$3,2))","v":0},{"$f":"ROUND(H136*K136,2)","v":{"$error":"#DIV/0!"}},{"$f":"ROUND(K136/F136,2)","v":{"$error":"#DIV/0!"}}]
[40,"Mustard, Prepared","Distributor Choice",null,"4/1g",4,2,{"$f":"ROUND($G$137*$F$137/F137,2)","v":2},"Cs"]
[null,"Pure, net weight 8#.  Grade A.  USDA extra standard.","Fillable txt box ",{"$nulls":4},{"$f":"ROUND(G137*F137/F138,2)","v":{"$error":"#DIV/0!"}},"Cs",null,{"$f":"IF(OR(ISBLANK(J138),G137=0,ISBLANK(G137)),,ROUND(J138+$K$3,2))","v":0},{"$f":"ROUND(H138*K138,2)","v":{"$error":"#DIV/0!"}},{"$f":"ROUND(K138/F138,2)","v":{"$error":"#DIV/0!"}}]
[41,"Noodles, Egg                                                        Must meet WGR","Distributor Choice",null,"10Lb",10,20,{"$f":"ROUND(G139*F139/F139,2)","v":20},"Cs"]
[null,"Basic ingredients shall be Semolina Durum wheat flour,","Fillable txt box ",{"$nulls":4},{"$f":"ROUND(G139*F139/F140,2)","v":{"$error":"#DIV/0!"}},"Cs",null,{"$f":"IF(OR(ISBLANK(J140),G139=0,ISBLANK(G139)),,ROUND(J140+$K$3,2))","v":0},{"$f":"ROUND(H140*K140,2)","v":{"$error":"#DIV/0!"}},{"$f":"ROUND(K140/F140,2)","v":{"$error":"#DIV/0!"}}]
[null,"farina or hard wheat flour, fine or medium.  ",{"$nulls":4},0]
[42,"Noodles, Lasagna                                               Must meet  WGR","Distributor Choice",null,"10Lb",10,70,{"$f":"ROUND(G142*F142/F142,2)","v":70},"Cs"]
[null,"durum wheat, dry, first quality","Fillable txt box ",{"$nulls":4},{"$f":"ROUND(G142*F142/F143,2)","v":{"$error":"#DIV/0!"}},"Cs",null,{"$f":"IF(OR(ISBLANK(J143),G142=0,ISBLANK(G142)),,ROUND(J143+$K$3,2))","v":0},{"$f":"ROUND(H143*K143,2)","v":{"$error":"#DIV/0!"}},{"$f":"ROUND(K143/F143,2)","v":{"$error":"#DIV/0!"}}]
[43,"Noodles, Spaghetti, Whole Wheat","Distributor Choice",null,"2/5Lb",10,0,{"$f":"ROUND(G144*F144/F144,2)","v":0},"Cs"]
[null,"100% whole wheat durum flour, 10\", first quality","Fillable txt box ",{"$nulls":4},{"$f":"ROUND(G144*F144/F145,2)","v":{"$error":"#DIV/0!"}},"Cs",null,{"$f":"IF(OR(ISBLANK(J145),G144=0,ISBLANK(G144)),,ROUND(J145+$K$3,2))","v":0},{"$f":"ROUND(H145*K145,2)","v":{"$error":"#DIV/0!"}},{"$f":"ROUND(K145/F145,2)","v":{"$error":"#DIV/0!"}}]
[44,"Noodles, Spaghetti, Wholegrain","Distributor Choice",null,"2/10Lb",20,80,{"$f":"ROUND(G146*F146/F146,2)","v":80},"Cs"]
[null,"First Quality , 1 cup cooked = 1 Grain serving","Fillable txt box ",{"$nulls":4},{"$f":"ROUND(G146*F146/F147,2)","v":{"$error":"#DIV/0!"}},"Cs",null,{"$f":"IF(OR(ISBLANK(J147),G146=0,ISBLANK(G146)),,ROUND(J147+$K$3,2))","v":0},{"$f":"ROUND(H147*K147,2)","v":{"$error":"#DIV/0!"}},{"$f":"ROUND(K147/F147,2)","v":{"$error":"#DIV/0!"}}]
[45,"Peanut Butter","Distributor Choice",null,"6/5Lb",30,0,{"$f":"ROUND(G148*F148/F148,2)","v":0},"Cs"]
[null,"Smooth, US Grade A.  Should have color that is medium","Fillable txt box ",{"$nulls":3},0,{"$f":"ROUND(G148*F148/F149,2)","v":{"$error":"#DIV/0!"}},"Cs",null,{"$f":"IF(OR(ISBLANK(J149),G148=0,ISBLANK(G148)),,ROUND(J149+$K$3,2))","v":0},{"$f":"ROUND(H149*K149,2)","v":{"$error":"#DIV/0!"}},{"$f":"ROUND(K149/F149,2)","v":{"$error":"#DIV/0!"}}]
[null,"brown to brown color roast.  Peanut butter should be  "]
[null,"firm set, smooth pliable, have a good spreadibility.  "]
[]
[46,"Pickle Relish","Distributor Choice",null,"4/1g",4,0,{"$f":"ROUND(G153*F153/F153,2)","v":0},"Cs"]
[null,"First Quality, Sweet cucumbers, timely chopped, Grade A","Fillable txt box ",{"$nulls":4},{"$f":"ROUND(G153*F153/F154,2)","v":{"$error":"#DIV/0!"}},"Cs",null,{"$f":"IF(OR(ISBLANK(J154),G153=0,ISBLANK(G153)),,ROUND(J154+$K$3,2))","v":0},{"$f":"ROUND(H154*K154,2)","v":{"$error":"#DIV/0!"}},{"$f":"ROUND(K154/F154,2)","v":{"$error":"#DIV/0!"}}]
[47,"Pickles, Dill Chips, 4/1g gallon","Bay Valley (Cates) 1282247 (430-485 chips/gal)",null,"4/1g",4,15,{"$f":"ROUND(G155*F155/F155,2)","v":15},"Cs",null,{"$f":"IF(OR(ISBLANK(J155),G155=0,ISBLANK(G155)),,ROUND(J155+$K$3,2))","v":0},{"$f":"ROUND(H155*K155,2)","v":0},{"$f":"ROUND(K155/F155,2)","v":0}]
[null,"US Grade A, fancy, thin slices, First Quality ","Mt Olive 12814 (640 chips/gal)",null,"4/1g",4,null,{"$f":"ROUND($G$155*$F$155/F156,2)","v":15},"Cs",null,{"$f":"IF(OR(ISBLANK(J156),G155=0,ISBLANK(G155)),,ROUND(J156+$K$3,2))","v":0},{"$f":"ROUND(K156*H156,2)","v":0},{"$f":"ROUND(K156/F156,2)","v":0}]
[null,null,"Heinz 1300000658 2000 Crinkle Cut (535/pouch)",null,"6/5.75 lb",6,null,{"$f":"ROUND($G$155*$F$155/F157,2)","v":10},"Cs",null,{"$f":"IF(OR(ISBLANK(J157),G155=0,ISBLANK(G155)),,ROUND(J157+$K$3,2))","v":0},{"$f":"ROUND(K157*H157,2)","v":0},{"$f":"ROUND(K157/F157,2)","v":0}]
[]
[48,"Pickles, Dill Chips, 5 gallon","Bay Valley (Schwartz) 2965823 (2850-3150 chips/5 gal)",null,"1/5g",5,0,{"$f":"ROUND(G159*F159/F159,2)","v":0},"Cs",null,{"$f":"IF(OR(ISBLANK(J159),G159=0,ISBLANK(G159)),,ROUND(J159+$K$3,2))","v":0},{"$f":"ROUND(H159*K159,2)","v":0},{"$f":"ROUND(K159/F159,2)","v":0}]
[null,"Thin, dill hamburger slices:  3000 count.  First Quality.","Mt Olive 55506 (3072)",null,"1/5g",5,null,{"$f":"ROUND($G$159*$F$159/F160,2)","v":0},"Cs",null,{"$f":"IF(OR(ISBLANK(J160),G159=0,ISBLANK(G159)),,ROUND(J160+$K$3,2))","v":0},{"$f":"ROUND(K160*H160,2)","v":0},{"$f":"ROUND(K160/F160,2)","v":0}]
[null,null,"Bay Valley Foods (Cates) 0952278 (1420-1780 chips/5 gal)",null,"1/5g",5,null,{"$f":"ROUND($G$159*$F$159/F161,2)","v":0},"Cs",null,{"$f":"IF(OR(ISBLANK(J161),G159=0,ISBLANK(G159)),,ROUND(J161+$K$3,2))","v":0},{"$f":"ROUND(K161*H161,2)","v":0},{"$f":"ROUND(K161/F161,2)","v":0}]
[]
[49,"Pickles, Dill Strips, 6/#10","Vlasic 40800",null,"6/#10",6,5,{"$f":"ROUND(G163*F163/F163,2)","v":5},"Cs",null,{"$f":"IF(OR(ISBLANK(J163),G163=0,ISBLANK(G163)),,ROUND(J163+$K$3,2))","v":0},{"$f":"ROUND(H163*K163,2)","v":0},{"$f":"ROUND(K163/F163,2)","v":0}]
[null,"US Grade A, Fancy, Kosher Style, First Quality","Bay Valley (74-100) 0981495",null,"6/#10",6,null,{"$f":"ROUND($G$163*$F$163/F164,2)","v":5},"Cs",null,{"$f":"IF(OR(ISBLANK(J164),G163=0,ISBLANK(G163)),,ROUND(J164+$K$3,2))","v":0},{"$f":"ROUND(K164*H164,2)","v":0},{"$f":"ROUND(K164/F164,2)","v":0}]
[null,null,"Heinz (70-78) 130006383000",null,"6/#10",6,null,{"$f":"ROUND($G$163*$F$163/F165,2)","v":5},"Cs",null,{"$f":"IF(OR(ISBLANK(J165),G163=0,ISBLANK(G163)),,ROUND(J165+$K$3,2))","v":0},{"$f":"ROUND(K165*H165,2)","v":0},{"$f":"ROUND(K165/F165,2)","v":0}]
[]
[50,"Pickles, Dill Strips, 5 gallon, Refrigerated ","Big Valley (Schwartz) 2965501 (375-425/gal)",null,"1/5g",5,0,{"$f":"ROUND(G167*F167/F167,2)","v":0},"Cs",null,{"$f":"IF(OR(ISBLANK(J167),G167=0,ISBLANK(G167)),,ROUND(J167+$K$3,2))","v":0},{"$f":"ROUND(H167*K167,2)","v":0},{"$f":"ROUND(K167/F167,2)","v":0}]
[null,"US Grade A, Fancy, Kosher style.  First Quality ","Bay Valley Foods (Cates) 0961521 (275-325/gal)",null,"1/5g",5,null,{"$f":"ROUND($G$167*$F$167/F168,2)","v":0},"Cs",null,{"$f":"IF(OR(ISBLANK(J168),G167=0,ISBLANK(G167)),,ROUND(J168+$K$3,2))","v":0},{"$f":"ROUND(K168*H168,2)","v":0},{"$f":"ROUND(K168/F168,2)","v":0}]
[]
[51,"Rice, Parboiled, long grain, enriched, fancy grade. ","Distributor Choice",null,"25Lb",25,60,{"$f":"ROUND(G170*F170/F170,2)","v":60},"Cs"]
[null,"Must meet Federal Standards, Specification SSD-S-315 ","Fillable txt box ",{"$nulls":4},{"$f":"ROUND(G170*F170/F171,2)","v":{"$error":"#DIV/0!"}},"Cs",null,{"$f":"IF(OR(ISBLANK(J171),G170=0,ISBLANK(G170)),,ROUND(J171+$K$3,2))","v":0},{"$f":"ROUND(H171*K171,2)","v":{"$error":"#DIV/0!"}},{"$f":"ROUND(K171/F171,2)","v":{"$error":"#DIV/0!"}}]
[52,"Rice, Brown"," Uncle Ben's 12111",null,"25Lb",25,155,{"$f":"ROUND(G172*F172/F172,2)","v":155},"Cs",null,{"$f":"IF(OR(ISBLANK(J172),G172=0,ISBLANK(G172)),,ROUND(J172+$K$3,2))","v":0},{"$f":"ROUND(H172*K172,2)","v":0},{"$f":"ROUND(K172/F172,2)","v":0}]
[null,"Long grain, parboiled.   US#1"]
[]
[53,"Rice, Vegetable Fried Rice"," Minh  ",null,"84/5.9z",84,0,{"$f":"ROUND(G175*F175/F175,2)","v":0},"Cs",null,{"$f":"IF(OR(ISBLANK(J175),G175=0,ISBLANK(G175)),,ROUND(J175+$K$3,2))","v":0},{"$f":"ROUND(H175*K175,2)","v":0},{"$f":"ROUND(K175/F175,2)","v":0}]
[null,"Brown rice, vegetables.  No MSG, No preservatives.","     69074    WG Vegetable Fried Rice"]
[null,"Frozen, 6/5lb bag."]
[null,"Possible Allergens: Wheat or its deirvatives, Soy or its derivatives."]
[54,"Sauce, Barbecue, Tomato Base","Cattleman's (St. Louis Original) 5316",null,"4/1g",4,35,{"$f":"ROUND(G179*F179/F179,2)","v":35},"Cs",null,{"$f":"IF(OR(ISBLANK(J179),G179=0,ISBLANK(G179)),,ROUND(J179+$K$3,2))","v":0},{"$f":"ROUND(H179*K179,2)","v":0},{"$f":"ROUND(K179/F179,2)","v":0}]
[null,"Full strength, salt, tomato puree, vinegar, sugar,","Heinz 130005371000",null,"4/1g",4,null,{"$f":"ROUND($G$179*$F$179/F180,2)","v":35},"Cs",null,{"$f":"IF(OR(ISBLANK(J180),G179=0,ISBLANK(G179)),,ROUND(J180+$K$3,2))","v":0},{"$f":"ROUND(K180*H180,2)","v":0},0]
[null,"mustard bran, spices, natural flavors.","Southern Classic 78207310",null,"4/1g",4,null,35,"Cs",null,{"$f":"IF(OR(ISBLANK(J181),G179=0,ISBLANK(G179)),,ROUND(J181+$K$3,2))","v":0},{"$f":"ROUND(K181*H181,2)","v":0},0]
[null,"Must meet Federal Standards ","CF Sauer Dukes 06498",null,"4/1g",4,null,35,"Cs",null,{"$f":"IF(OR(ISBLANK(J182),G179=0,ISBLANK(G179)),,ROUND(J182+$K$3,2))","v":0},{"$f":"ROUND(K182*H182,2)","v":0},0]
[55,"Sauce, Cheese Prepared","Chef Mate (Nestles) 05048",null,"6/106z",636,30,{"$f":"ROUND(G183*F183/F183,2)","v":30},"Cs",null,{"$f":"IF(OR(ISBLANK(J183),G183=0,ISBLANK(G183)),,ROUND(J183+$K$3,2))","v":0},{"$f":"ROUND(H183*K183,2)","v":0},0]
[null,null,"Gehl's 05101",null,"4/140z",256,null,{"$f":"ROUND($G$183*$F$183/F184,2)","v":{"v":74.53,"d":"75"}},"Cs",null,{"$f":"IF(OR(ISBLANK(J184),G183=0,ISBLANK(G183)),,ROUND(J184+$K$3,2))","v":0},{"$f":"ROUND(K184*H184,2)","v":0},0]
[null,null,"Bay Valley 78370591170",null,"6/107z",642,null,{"$f":"ROUND($G$183*$F$183/F185,2)","v":{"v":29.72,"d":"30"}},"Cs",null,{"$f":"IF(OR(ISBLANK(J185),G183=0,ISBLANK(G183)),,ROUND(J185+$K$3,2))","v":0},{"$f":"ROUND(K185*H185,2)","v":0},0]
[56,"Sauce, Worcestershire","Distributor Choice",null,"4/1g",4,5,{"$f":"ROUND(G186*F186/F186,2)","v":5},"Cs"]
[null,"First Quality.  Must meet federal standards","Fillable txt box ",{"$nulls":4},{"$f":"ROUND(G186*F186/F187,2)","v":{"$error":"#DIV/0!"}},"Cs",null,{"$f":"IF(OR(ISBLANK(J187),G186=0,ISBLANK(G186)),,ROUND(J187+$K$3,2))","v":0},{"$f":"ROUND(H187*K187,2)","v":{"$error":"#DIV/0!"}},{"$f":"ROUND(K187/F187,2)","v":{"$error":"#DIV/0!"}}]
[57,"Sauce, Soy","Distributor Choice",null,"4/1g",4,5,{"$f":"ROUND(G188*F188/F188,2)","v":5},"Cs"]
[null,"First Quality.  Must meet federal standards","Fillable txt box ",{"$nulls":4},{"$f":"ROUND(G188*F188/F189,2)","v":{"$error":"#DIV/0!"}},"Cs",null,{"$f":"IF(OR(ISBLANK(J189),G188=0,ISBLANK(G188)),,ROUND(J189+$K$3,2))","v":0},{"$f":"ROUND(H189*K189,2)","v":{"$error":"#DIV/0!"}},{"$f":"ROUND(K189/F189,2)","v":{"$error":"#DIV/0!"}}]
[58,"Sauce, Teriyaki","Distributor Choice",null,"4/1g",4,20,{"$f":"ROUND($G$190*$F$190/F190,2)","v":20},"Cs"]
[null,"First Quality.  Must meet federal standards","Fillable txt box ",{"$nulls":4},{"$f":"ROUND(G190*F190/F191,2)","v":{"$error":"#DIV/0!"}},"Cs",null,{"$f":"IF(OR(ISBLANK(J191),G190=0,ISBLANK(G190)),,ROUND(J191+$K$3,2))","v":0},{"$f":"ROUND(H191*K191,2)","v":{"$error":"#DIV/0!"}},{"$f":"ROUND(K191/F191,2)","v":{"$error":"#DIV/0!"}}]
[59,"Shortening, Liquid","Distributor Choice",null,"35 Lb",35,120,{"$f":"ROUND(G192*F192/F192,2)","v":120},"Cs"]
[null,"Deep Fry.  100% vegetable oil, anti-foam, agent added.  ","Fillable txt box ",{"$nulls":4},{"$f":"ROUND(G192*F192/F193,2)","v":{"$error":"#DIV/0!"}},"Cs",null,{"$f":"IF(OR(ISBLANK(J193),G192=0,ISBLANK(G192)),,ROUND(J193+$K$3,2))","v":0},{"$f":"ROUND(H193*K193,2)","v":{"$error":"#DIV/0!"}},{"$f":"ROUND(K193/F193,2)","v":{"$error":"#DIV/0!"}}]
[null,"Maximum fat content .05% "]
[60,"Soup, Condensed, Cream of Chicken","Campbells 01036",null,"12/50 z",12,35,{"$f":"ROUND(G195*F195/F195,2)","v":35},"Cs",null,{"$f":"IF(OR(ISBLANK(J195),G195=0,ISBLANK(G195)),,ROUND(J195+$K$3,2))","v":0},{"$f":"ROUND(H195*K195,2)","v":0},{"$f":"ROUND(K195/F195,2)","v":0}]
[null," "," "]
[]
[61,"Sugar, Confectioners, 10X","Distributor Choice",null,"24/1Lb",24,35,{"$f":"ROUND(G198*F198/F198,2)","v":35},"Cs"]
[null,null,"Fillable txt box ",{"$nulls":4},{"$f":"ROUND(G198*F198/F199,2)","v":{"$error":"#DIV/0!"}},"Cs",null,{"$f":"IF(OR(ISBLANK(J199),G198=0,ISBLANK(G198)),,ROUND(J199+$K$3,2))","v":0},{"$f":"ROUND(H199*K199,2)","v":{"$error":"#DIV/0!"}},{"$f":"ROUND(K199/F199,2)","v":{"$error":"#DIV/0!"}}]
[62,"Sugar, Granulated","Distributor Choice",null,"50Lb",50,140,{"$f":"ROUND(G200*F200/F200,2)","v":140},"Cs"]
[" ","Pure Cane, Extra fine, White ","Fillable txt box ",{"$nulls":4},{"$f":"ROUND(G200*F200/F201,2)","v":{"$error":"#DIV/0!"}},"Cs",null,{"$f":"IF(OR(ISBLANK(J201),G200=0,ISBLANK(G200)),,ROUND(J201+$K$3,2))","v":0},{"$f":"ROUND(H201*K201,2)","v":{"$error":"#DIV/0!"}},{"$f":"ROUND(K201/F201,2)","v":{"$error":"#DIV/0!"}}]
[63,"Sugar, Light Brown","Distributor Choice",null,"24/1Lb",24,50,{"$f":"ROUND(G202*F202/F202,2)","v":50},"Cs"]
[" ",null,"Fillable txt box ",{"$nulls":4},{"$f":"ROUND(G202*F202/F203,2)","v":{"$error":"#DIV/0!"}},"Cs",null,{"$f":"IF(OR(ISBLANK(J203),G202=0,ISBLANK(G202)),,ROUND(J203+$K$3,2))","v":0},{"$f":"ROUND(H203*K203,2)","v":{"$error":"#DIV/0!"}},{"$f":"ROUND(K203/F203,2)","v":{"$error":"#DIV/0!"}}]
[64,"Taco Shells, Large Yellow                                                          WGR","Mission 10115  (17.5 gm each) 2=1.25 GB",null,"200/17.5",100,90,{"$f":"ROUND(G204*F204/F204,2)","v":90},"Cs",null,{"$f":"IF(OR(ISBLANK(J204),G204=0,ISBLANK(G204)),,ROUND(J204+$K$3,2))","v":0},{"$f":"ROUND(H204*K204,2)","v":0},{"$f":"ROUND(K204/F204,2)","v":0}]
[null,"6 to 7 inches, 2 shells = 1.25  OEG"]
[null,"Domestic in origin"]
[]
[65,"Tortilla, Flour 8\"                                                                               WGR","Mission Foods 33824",null,"12/12 ct",144,50,{"$f":"ROUND(G208*F208/F208,2)","v":50},"Cs",null,{"$f":"IF(OR(ISBLANK(J208),G208=0,ISBLANK(G208)),,ROUND(J208+$K$3,2))","v":0},{"$f":"ROUND(H208*K208,2)","v":0},{"$f":"ROUND(K208/F208,2)","v":0}]
[null,"One serving (one tortilla) provides 1.75 oz equivalent grains. "]
[null,"Made from Whole Grain Wheat flour.  Domestic in Origin"]
[66,"Tea Bags, Caffeinated","Distributor Choice",null,"24/3z",24,0,2500,"Cs"]
[null,"1 tea bag makes 3 gallon of tea","Fillable txt box ",null,null,24,null,{"$f":"ROUND(G211*F211/F212,2)","v":0},"Cs",null,{"$f":"IF(OR(ISBLANK(J212),G211=0,ISBLANK(G211)),,ROUND(J212+$K$3,2))","v":0},{"$f":"ROUND(H212*K212,2)","v":0},{"$f":"ROUND(K212/F212,2)","v":0}]
[null,"`"]
[67,"Vanilla Wafers, Made from enriched flour","Nabisco 193200071800",null,"2/32z",4,0,{"$f":"ROUND(G214*F214/F214,2)","v":0},"Cs",null,{"$f":"IF(OR(ISBLANK(J214),G214=0,ISBLANK(G214)),,ROUND(J214+$K$3,2))","v":0},{"$f":"ROUND(H214*K214,2)","v":0},{"$f":"ROUND(K214/F214,2)","v":0}]
[]
[null,"Whole wafers","Keebler 40865",null,"6/13.3z",5,null,{"$f":"ROUND($G$214*$F$214/F216,2)","v":0},"Cs",null,{"$f":"IF(OR(ISBLANK(J216),G214=0,ISBLANK(G214)),,ROUND(J216+$K$3,2))","v":0},{"$f":"ROUND(K216*H216,2)","v":0},0]
[68,"Vinegar","Distributor Choice",null,"4/1g",4,15,{"$f":"ROUND(G217*F217/F217,2)","v":15},"Cs"]
[null,"Distilled white. 40 grains per gallon.  USDA extra standard","Fillable txt box ",{"$nulls":4},{"$f":"ROUND(G217*F217/F218,2)","v":{"$error":"#DIV/0!"}},"Cs",null,{"$f":"IF(OR(ISBLANK(J218),G217=0,ISBLANK(G217)),,ROUND(J218+$K$3,2))","v":0},{"$f":"ROUND(H218*K218,2)","v":{"$error":"#DIV/0!"}},{"$f":"ROUND(K218/F218,2)","v":{"$error":"#DIV/0!"}}]
[69,"Whipped Topping, non-dairy product, frozen, RTU ","(06-07) Rich's 2559 \"On Top\" ",null,"12/1 Lb",12,15,{"$f":"ROUND(G219*F219/F219,2)","v":15},"Cs",null,{"$f":"IF(OR(ISBLANK(J219),G219=0,ISBLANK(G219)),,ROUND(J219+$K$3,2))","v":0},{"$f":"ROUND(H219*K219,2)","v":0},{"$f":"ROUND(K219/F219,2)","v":0}]
[null,"Packaged in disposable \"pastry bags\" for easy application"]
[70,"Yeast, Instant","SAF 15909",null,"20/1 lb",20,25,{"$f":"ROUND(G221*F221/F221,2)","v":25},"Cs",null,{"$f":"IF(OR(ISBLANK(J221),G221=0,ISBLANK(G221)),,ROUND(J221+$K$3,2))","v":0},{"$f":"ROUND(H221*K221,2)","v":0},{"$f":"ROUND(K221/F221,2)","v":0}]
[null,"Must be vaccum packed, dry","Fleishman's 2139",null,"20/1 lb",20,null,{"$f":"ROUND(G221*F221/F222,2)","v":25},"Cs",null,{"$f":"IF(OR(ISBLANK(J222),G222=0,ISBLANK(G222)),,ROUND(J222+$K$3,2))","v":0},{"$f":"ROUND(H222*K222,2)","v":0},{"$f":"ROUND(K222/F222,2)","v":0}]
[]
[{"$nulls":8},"Page Total",null,null,{"$f":"SUMIF(L4:L222,\">0\")","v":0}]
{"$rows_empty":26}
[{"$nulls":8},"Page Total",null,null,{"$f":"SUMIF(L71:L249,\">0\")","v":0}]

{"sheet":"Beverages","index":391,"n_rows":64,"n_cols":13,"rows_kept":64,"merged":[[0,4,0,12],[1,4,1,12],[2,5,2,9]]}
[null,{"$f":"'Recap Sheet'!A2","v":"School Food Authority:"},null,null,{"$f":"'Recap Sheet'!A3","v":"Offeror Name:"}]
[null,{"$f":"'Recap Sheet'!B2","v":"WILLIAMSBURG COUNTY SCHOOLS"},null,null,{"$f":"'Recap Sheet'!B3","v":0}]
["Item","Description","Approved Brand Name / Manuf ID # ",null,null,"Firm Fixed Fee",{"$nulls":4},{"$f":"'Recap Sheet'!B4","v":{"v":0,"d":"$0.00"}}]
["#",null,null,"Distributor","Vendor","Svgs","Est.","Bid ","Bid","Unit","Unit Price","Total ","Cost per"]
[{"$nulls":3},"Code","Pack","per unit","Bid Qty","Qty","Unit","Price","plus Fee","Price","Unit"]
[null,"Beverages"]
[1,"Beverages, Non-Carbonated, Reduced Calorie","Gatorade,G-2, 12 oz, ",null,"24/12z",24,0,{"$f":"ROUND(G7*F7/F7,2)","v":0},"Cs",null,{"$f":"IF(OR(ISBLANK(J7),G7=0,ISBLANK(G7)),,ROUND(J7+$K$3,2))","v":0},{"$f":"ROUND(H7*K7,2)","v":0},{"$f":"ROUND(K7/F7,2)","v":0}]
[null,"Assorted Flavors.  Plastic Bottles","12204 Orange "]
[null,"Sports Drink with Electrolytes","13297 Mixed Berry- Clear"]
[null,null,"12203 Grape"]
[null,"Smart Snacks Compliant ","12007 Glacier Freeze"]
[null,null,"12202 Fruit Punch"]
[null,null," "]
[2,"Water, Plain, Non-carbonated","Distribtuors Choice",null,"24/.5 liter",24,90,{"$f":"ROUND(G14*F14/F14,2)","v":90},"Cs"]
[null,"Plastic bottles, 16.9z","Fillable txt box ",{"$nulls":4},{"$f":"ROUND(G14*F14/F15,2)","v":{"$error":"#DIV/0!"}},"Cs",null,{"$f":"IF(OR(ISBLANK(J15),G14=0,ISBLANK(G14)),,ROUND(J15+$K$3,2))","v":0},{"$f":"ROUND(H15*K15,2)","v":{"$error":"#DIV/0!"}},{"$f":"ROUND(K15/F15,2)","v":{"$error":"#DIV/0!"}}]
[]
[]
[3,"Water, Plain Non-Carb, 8oz","Distributor Choice",null,"28/8z ",28,0,{"$f":"ROUND(G18*F18/F18,2)","v":0},"Cs"]
[null,null,"Fillable txt box ",{"$nulls":4},{"$f":"ROUND(G18*F18/F19,2)","v":{"$error":"#DIV/0!"}},"Cs",null,{"$f":"IF(OR(ISBLANK(J19),G18=0,ISBLANK(G18)),,ROUND(J19+$K$3,2))","v":0},{"$f":"ROUND(H19*K19,2)","v":{"$error":"#DIV/0!"}},{"$f":"ROUND(K19/F19,2)","v":{"$error":"#DIV/0!"}}]
[]
[]
[4,"Juice, 100% , 10 oz plastic bottles","Welchs",null,"24/10z",24,35,{"$f":"ROUND(G22*F22/F22,2)","v":35},"Cs",null,{"$f":"IF(OR(ISBLANK(J22),G22=0,ISBLANK(G22)),,ROUND(J22+$K$3,2))","v":0},{"$f":"ROUND(H22*K22,2)","v":0},{"$f":"ROUND(K22/F22,2)","v":0}]
[null,null,"  316-00 Apple Juice"]
[null,null,"  344-00 Orange Juice"]
[null,null,"  354-00 Grape Juice"]
[5,"Juice, 100%, 11.5 oz cans","Welchs",null,"24/11.5z",24,50,{"$f":"ROUND(G26*F26/F26,2)","v":50},"Cs",null,{"$f":"IF(OR(ISBLANK(J26),G26=0,ISBLANK(G26)),,ROUND(J26+$K$3,2))","v":0},{"$f":"ROUND(H26*K26,2)","v":0},{"$f":"ROUND(K26/F26,2)","v":0}]
[null,null,"  379-00 Orange Juice"]
[null,null,"  380-00 Grape Juice"]
[null,null,"  382-00 Apple Juice "]
[]
[6,"Water, flavored, Nutrient infused with calcium,vitaminD, A, B12.","Riptide Wave ",null,"24/16.9z",24,0,{"$f":"ROUND(G31*F31/F31,2)","v":0},"Cs",null,{"$f":"IF(OR(ISBLANK(J31),G31=0,ISBLANK(G31)),,ROUND(J31+$K$3,2))","v":0},{"$f":"ROUND(H31*K31,2)","v":0},{"$f":"ROUND(K31/F31,2)","v":0}]
[null,null,"Riptide Wave Strawberry Swellls 00085"]
[null,"Sugar Free, Caffeine Free, Sodium Free ","Riptide Wave Gonzo Grape 00086"]
[null,"Plastic Bottles","Riptide Wave Mahalo Orange Mango 00087"]
[null,"SMART SNACK APPROVED HIGH SCHOOL"]
[7,"Juice, V Blend, Frozen"," V Blend",null,"70/4 z",70,0,{"$f":"ROUND($G$36*$F$36/F36,2)","v":0},"Cs",null,{"$f":"IF(OR(ISBLANK(J36),G36=0,ISBLANK(G36)),,ROUND(J36+$K$3,2))","v":0},{"$f":"ROUND(H36*K36,2)","v":0},{"$f":"ROUND(K36/F36,2)","v":0}]
[null,"Eco Carton, 100% juice","Dragon Punch 45710"]
[null,"Meets 1/2 c Veg","Cherry Star 45712"]
[null,"Smart Snack Compliant","Wango Mango 45711"]
[null,"ELEMENTARY APPROVED"," "]
[8,"Juice, 100%, from Concentrate, Frozen","Juice4U Frozen",null,"70/4 z",70,25,{"$f":"ROUND(G41*F41/F41,2)","v":25},"Cs",null,{"$f":"IF(OR(ISBLANK(J41),G41=0,ISBLANK(G41)),,ROUND(J41+$K$3,2))","v":0},{"$f":"ROUND(H41*K41,2)","v":0},{"$f":"ROUND(K41/F41,2)","v":0}]
[null,null,"Juice4U Apple  45715"]
[null,"Eco Carton, Meets 1/2 c Fruit","Juice4U Blue Razz   45716"]
[null,null,"Juice4U Merry Cherry   45717"]
[null,null,"Juice4U Purplelicious   45718"]
[null,"Smart Snack Compliant","Juice4U Citrus Blast  45719"]
[null,"ELEMENTARY APPROVED","Juice4U Twisted Melon  45720"]
[9,"Juice, 100% Sparkling Juice, 8oz","The Switch",null,"24/8z",24,25,{"$f":"ROUND(G48*F48/F48,2)","v":25},"Cs",null,{"$f":"IF(OR(ISBLANK(J48),G48=0,ISBLANK(G48)),,ROUND(J48+$K$3,2))","v":0},{"$f":"ROUND(H48*K48,2)","v":0},{"$f":"ROUND(K48/F48,2)","v":0}]
[null,"Canned, No sugar added, No HFCS","     00321 Apple"]
[null,"8oz provides 2 servings fruit.","     00312 Black Cherry"]
[null,null,"     00315 Fruit Punch"]
[null,null,"     00313 Grape"]
[null,null,"     00317 Kiwi Berry"]
[null,null,"     00319 Lemon Lime"]
[null,null,"     00314 Orange Tangerine"]
[null,null,"     00316 Watermelon Strawberry"]
[10,"Juice, 100% , 10oz","(16-17) Naked Juice",null,"8/10z",8,0,{"$f":"ROUND(G57*F57/F57,2)","v":0},"Cs",null,{"$f":"IF(OR(ISBLANK(J57),G57=0,ISBLANK(G57)),,ROUND(J57+$K$3,2))","v":0},{"$f":"ROUND(H57*K57,2)","v":0},{"$f":"ROUND(K57/F57,2)","v":0}]
[null,"No Sugar Added.  Contains fruit and/or vegetable juice, puree, ","     63117 Berry Blast"]
[null,null,"     63076 Green Machine"]
[null,null,"     63072 Mighty Mango"]
[null,null,"     63071 Strawberry Banana"]
[]
[]
[{"$nulls":8},"Page Total",null,null,{"$f":"SUMIF(L6:L63,\">0\")","v":0}]

{"sheet":"Spices- Flavorings","index":392,"n_rows":144,"n_cols":13,"rows_kept":144,"merged":[[0,4,0,12],[1,4,1,12],[2,5,2,9]]}
[null,{"$f":"'Recap Sheet'!A2","v":"School Food Authority:"},null,null,{"$f":"'Recap Sheet'!A3","v":"Offeror Name:"}]
[null,{"$f":"'Recap Sheet'!B2","v":"WILLIAMSBURG COUNTY SCHOOLS"},"Return to Recap Sheet",null,{"$f":"'Recap Sheet'!B3","v":0}]
["Item","Description","Approved Brand Name / Manuf ID # ",null,null,"Firm Fixed Fee",{"$nulls":4},{"$f":"'Recap Sheet'!B4","v":{"v":0,"d":"$0.00"}}]
["#",null,null,"Distributor","Vendor","Svgs","Est.","Bid ","Bid","Unit","Unit Price","Total ","Cost per"]
[{"$nulls":3},"Code","Pack","per unit","Bid Qty","Qty","Unit","Price","plus Fee","Price","Unit"]
[null,"Spices and Flavorings"]
[null,"Spices should be made from the true aromatic vegetable substance, from which no portion of any volatile or other flavoring principles has"]
[null," been removed and shall be free from artificial coloring, exhausted spices, adulterates, and impurities.  The aroma and characteristic "]
[null," qualities shall be true to the name."]
[]
[1,"Chili Powder","McCormick 932408 ",null,"18z",18,12,{"$f":"ROUND(G11*F11/F11,2)","v":12},"ea",null,{"$f":"IF(OR(ISBLANK(J11),G11=0,ISBLANK(G11)),,ROUND(J11+$K$3,2))","v":0},{"$f":"ROUND(H11*K11,2)","v":0},{"$f":"ROUND(K11/F11,2)","v":0}]
[null,"Grade A ","Sauers 01046",null,"16z",16,null,{"$f":"ROUND($G$11*$F$11/F12,2)","v":13.5},"ea",null,{"$f":"IF(OR(ISBLANK(J12),G11=0,ISBLANK(G11)),,ROUND(J12+$K$3,2))","v":0},{"$f":"ROUND(K12*H12,2)","v":0},0]
[null,null,"Durkee 54170",null,"16z",16,null,{"$f":"ROUND($G$11*$F$11/F13,2)","v":{"v":13.5,"d":"14"}},"ea",null,{"$f":"IF(OR(ISBLANK(J13),G11=0,ISBLANK(G11)),,ROUND(J13+$K$3,2))","v":0},{"$f":"ROUND(K13*H13,2)","v":0},0]
[null,null,"Tones 91037",null,"18z",18,null,{"$f":"ROUND($G$11*$F$11/F14,2)","v":12},"ea",null,{"$f":"IF(OR(ISBLANK(J14),G11=0,ISBLANK(G11)),,ROUND(J14+$K$3,2))","v":0},{"$f":"ROUND(K14*H14,2)","v":0},0]
[2,"Cinnamon","McCormick  900223208",null,"18z",18,15,{"$f":"ROUND(G15*F15/F15,2)","v":15},"ea",null,{"$f":"IF(OR(ISBLANK(J15),G15=0,ISBLANK(G15)),,ROUND(J15+$K$3,2))","v":0},{"$f":"ROUND(H15*K15,2)","v":0},0]
[null,"Ground, Grade A","Sauers 01051",null,"16 z",16,null,{"$f":"ROUND($G$15*$F$15/F16,2)","v":16.88},"ea",null,{"$f":"IF(OR(ISBLANK(J16),G15=0,ISBLANK(G15)),,ROUND(J16+$K$3,2))","v":0},{"$f":"ROUND(K16*H16,2)","v":0},0]
[null,null,"Durkee 54963",null,"15z",15,null,{"$f":"ROUND($G$15*$F$15/F17,2)","v":18},"ea",null,{"$f":"IF(OR(ISBLANK(J17),G15=0,ISBLANK(G15)),,ROUND(J17+$K$3,2))","v":0},{"$f":"ROUND(K17*H17,2)","v":0},0]
[null,null,"Tones 91356",null,"16z",16,null,{"$f":"ROUND($G$15*$F$15/F18,2)","v":{"v":16.88,"d":"17"}},"ea",null,{"$f":"IF(OR(ISBLANK(J18),G15=0,ISBLANK(G15)),,ROUND(J18+$K$3,2))","v":0},{"$f":"ROUND(K18*H18,2)","v":0},0]
[3,"Cloves, Ground","McCormick    932411",null,"16z",16,5,{"$f":"ROUND(G19*F19/F19,2)","v":5},"ea",null,{"$f":"IF(OR(ISBLANK(J19),G19=0,ISBLANK(G19)),,ROUND(J19+$K$3,2))","v":0},{"$f":"ROUND(H19*K19,2)","v":0},0]
[null,"Grade A","Sauers 01086",null,"16z",16,null,{"$f":"ROUND($G$19*$F$19/F20,2)","v":5},"ea",null,{"$f":"IF(OR(ISBLANK(J20),G19=0,ISBLANK(G19)),,ROUND(J20+$K$3,2))","v":0},{"$f":"ROUND(K20*H20,2)","v":0},0]
[null,null,"Durkee 54240",null,"16z",16,null,{"$f":"ROUND($G$19*$F$19/F21,2)","v":5},"ea",null,{"$f":"IF(OR(ISBLANK(J21),G19=0,ISBLANK(G19)),,ROUND(J21+$K$3,2))","v":0},{"$f":"ROUND(K21*H21,2)","v":0},0]
[null,null,"Tones 913594",null,"16z",16,null,{"$f":"ROUND($G$19*$F$19/F22,2)","v":5},"ea",null,{"$f":"IF(OR(ISBLANK(J22),G19=0,ISBLANK(G19)),,ROUND(J22+$K$3,2))","v":0},{"$f":"ROUND(K22*H22,2)","v":0},0]
[4,"Cumin, Ground","McCormick   900223190",null,"14z",14,5,{"$f":"ROUND(G23*F23/F23,2)","v":5},"ea",null,{"$f":"IF(OR(ISBLANK(J23),G23=0,ISBLANK(G23)),,ROUND(J23+$K$3,2))","v":0},{"$f":"ROUND(H23*K23,2)","v":0},0]
[null,"Grade A","Sauers 01106",null,"16z",16,null,{"$f":"ROUND($G$23*$F$23/F24,2)","v":4.38},"ea",null,{"$f":"IF(OR(ISBLANK(J24),G23=0,ISBLANK(G23)),,ROUND(J24+$K$3,2))","v":0},{"$f":"ROUND(K24*H24,2)","v":0},0]
[null,null,"Durkee 54280",null,"15z",15,null,{"$f":"ROUND($G$23*$F$23/F25,2)","v":{"v":4.67,"d":"5"}},"ea",null,{"$f":"IF(OR(ISBLANK(J25),G23=0,ISBLANK(G23)),,ROUND(J25+$K$3,2))","v":0},{"$f":"ROUND(K25*H25,2)","v":0},0]
[null,null,"Tones 91364",null,"15z",15,null,{"$f":"ROUND($G$23*$F$23/F26,2)","v":{"v":4.67,"d":"5"}},"ea",null,{"$f":"IF(OR(ISBLANK(J26),G23=0,ISBLANK(G23)),,ROUND(J26+$K$3,2))","v":0},{"$f":"ROUND(K26*H26,2)","v":0},0]
[5,"Extract, Almond, Imitation","McCormick    900023555",null,"32z",32,2,{"$f":"ROUND(G27*F27/F27,2)","v":2},"ea",null,{"$f":"IF(OR(ISBLANK(J27),G27=0,ISBLANK(G27)),,ROUND(J27+$K$3,2))","v":0},{"$f":"ROUND(H27*K27,2)","v":0},0]
[null,null,"Durkees 34481",null,"32z",32,null,{"$f":"ROUND($G$27*$F$27/F28,2)","v":2},"ea",null,{"$f":"IF(OR(ISBLANK(J28),G27=0,ISBLANK(G27)),,ROUND(J28+$K$3,2))","v":0},{"$f":"ROUND(K28*H28,2)","v":0},0]
[null,null,"Sauers 04406",null,"32z",32,null,{"$f":"ROUND($G$27*$F$27/F29,2)","v":2},"ea",null,{"$f":"IF(OR(ISBLANK(J29),G27=0,ISBLANK(G27)),,ROUND(J29+$K$3,2))","v":0},{"$f":"ROUND(K29*H29,2)","v":0},0]
[]
[6,"Extract, Lemon, Imitation","McCormick   900023548",null,"16z",16,5,{"$f":"ROUND(G31*F31/F31,2)","v":5},"ea",null,{"$f":"IF(OR(ISBLANK(J31),G31=0,ISBLANK(G31)),,ROUND(J31+$K$3,2))","v":0},{"$f":"ROUND(H31*K31,2)","v":0},{"$f":"ROUND(K31/F31,2)","v":0}]
[null,null,"Sauers 04591",null,"32z",32,null,{"$f":"ROUND($G$31*$F$31/F32,2)","v":2.5},"ea",null,{"$f":"IF(OR(ISBLANK(J32),G31=0,ISBLANK(G31)),,ROUND(J32+$K$3,2))","v":0},{"$f":"ROUND(K32*H32,2)","v":0},{"$f":"ROUND(K32/F32,2)","v":0}]
[null,null,"Durkee 59029",null,"16z",16,null,{"$f":"ROUND($G$31*$F$31/F33,2)","v":5},"ea",null,{"$f":"IF(OR(ISBLANK(J33),G31=0,ISBLANK(G31)),,ROUND(J33+$K$3,2))","v":0},{"$f":"ROUND(K33*H33,2)","v":0},{"$f":"ROUND(K33/F33,2)","v":0}]
[7,"Lemon Juice Concentrate","Distributor Choice",null,"8/48z",1,12,{"$f":"ROUND(G34*F34/F34,2)","v":12},"ea",null,{"$f":"IF(OR(ISBLANK(J34),G34=0,ISBLANK(G34)),,ROUND(J34+$K$3,2))","v":0},{"$f":"ROUND(H34*K34,2)","v":0},{"$f":"ROUND(K34/F34,2)","v":0}]
[]
[8,"Extract, Vanilla, Imitation","McCormick     930619",null,"1 gal",1,12,{"$f":"ROUND(G36*F36/F36,2)","v":12},"ea",null,{"$f":"IF(OR(ISBLANK(J36),G36=0,ISBLANK(G36)),,ROUND(J36+$K$3,2))","v":0},{"$f":"ROUND(H36*K36,2)","v":0},{"$f":"ROUND(K36/F36,2)","v":0}]
[null,"Imitation","Gold Medal 04223 (CF Sauers)",null,"1 gal",1,null,{"$f":"ROUND($G$36*$F$36/F37,2)","v":12},"ea",null,{"$f":"IF(OR(ISBLANK(J37),G36=0,ISBLANK(G36)),,ROUND(J37+$K$3,2))","v":0},{"$f":"ROUND(K37*H37,2)","v":0},0]
[null,null,"Durkee 34450",null,"1 gal",1,null,{"$f":"ROUND($G$36*$F$36/F38,2)","v":12},"ea",null,{"$f":"IF(OR(ISBLANK(J38),G36=0,ISBLANK(G36)),,ROUND(J38+$K$3,2))","v":0},{"$f":"ROUND(K38*H38,2)","v":0},0]
[null,null,"Tones 92096",null,"1/2 gal",0.5,null,{"$f":"ROUND($G$36*$F$36/F39,2)","v":24},"ea",null,{"$f":"IF(OR(ISBLANK(J39),G36=0,ISBLANK(G36)),,ROUND(J39+$K$3,2))","v":0},{"$f":"ROUND(K39*H39,2)","v":0},0]
[9,"Ginger, Ground","McCormick      900223230",null,"16z",16,5,{"$f":"ROUND(G40*F40/F40,2)","v":5},"ea",null,{"$f":"IF(OR(ISBLANK(J40),G40=0,ISBLANK(G40)),,ROUND(J40+$K$3,2))","v":0},{"$f":"ROUND(H40*K40,2)","v":0},0]
[null,"Grade A","Sauers 01126",null,"16z",16,null,{"$f":"ROUND($G$40*$F$40/F41,2)","v":5},"ea",null,{"$f":"IF(OR(ISBLANK(J41),G40=0,ISBLANK(G40)),,ROUND(J41+$K$3,2))","v":0},{"$f":"ROUND(K41*H41,2)","v":0},0]
[null,null,"Durkee 54380",null,"16z",16,null,{"$f":"ROUND($G$40*$F$40/F42,2)","v":5},"ea",null,{"$f":"IF(OR(ISBLANK(J42),G40=0,ISBLANK(G40)),,ROUND(J42+$K$3,2))","v":0},{"$f":"ROUND(K42*H42,2)","v":0},0]
[null,null,"Tones 913768",null,"15z",15,null,{"$f":"ROUND($G$40*$F$40/F43,2)","v":{"v":5.33,"d":"5"}},"ea",null,{"$f":"IF(OR(ISBLANK(J43),G40=0,ISBLANK(G40)),,ROUND(J43+$K$3,2))","v":0},{"$f":"ROUND(K43*H43,2)","v":0},0]
[10,"Nutmeg","McCormick    900223191",null,"16z",16,5,{"$f":"ROUND(G44*F44/F44,2)","v":5},"ea",null,{"$f":"IF(OR(ISBLANK(J44),G44=0,ISBLANK(G44)),,ROUND(J44+$K$3,2))","v":0},{"$f":"ROUND(H44*K44,2)","v":0},0]
[null,"Grade A","Sauers 01171",null,"16z",16,null,{"$f":"ROUND($G$44*$F$44/F45,2)","v":5},"ea",null,{"$f":"IF(OR(ISBLANK(J45),G44=0,ISBLANK(G44)),,ROUND(J45+$K$3,2))","v":0},{"$f":"ROUND(K45*H45,2)","v":0},0]
[null,null,"Durkee 54530",null,"16z",16,null,{"$f":"ROUND($G$44*$F$44/F46,2)","v":5},"ea",null,{"$f":"IF(OR(ISBLANK(J46),G44=0,ISBLANK(G44)),,ROUND(J46+$K$3,2))","v":0},{"$f":"ROUND(K46*H46,2)","v":0},0]
[null,null,"Tones 913925",null,"16z",16,null,{"$f":"ROUND($G$44*$F$44/F47,2)","v":5},"ea",null,{"$f":"IF(OR(ISBLANK(J47),G44=0,ISBLANK(G44)),,ROUND(J47+$K$3,2))","v":0},{"$f":"ROUND(K47*H47,2)","v":0},0]
[11,"Oregano, Ground","McCormick     932466",null,"13z",13,5,{"$f":"ROUND(G48*F48/F48,2)","v":5},"ea",null,{"$f":"IF(OR(ISBLANK(J48),G48=0,ISBLANK(G48)),,ROUND(J48+$K$3,2))","v":0},{"$f":"ROUND(H48*K48,2)","v":0},0]
[null,"Grade A","Sauers 01186",null,"12z",12,null,{"$f":"ROUND($G$48*$F$48/F49,2)","v":{"v":5.42,"d":"5"}},"ea",null,{"$f":"IF(OR(ISBLANK(J49),G48=0,ISBLANK(G48)),,ROUND(J49+$K$3,2))","v":0},{"$f":"ROUND(K49*H49,2)","v":0},0]
[null,null,"Durkee 54600",null,"12z",12,null,{"$f":"ROUND($G$48*$F$48/F50,2)","v":{"v":5.42,"d":"5"}},"ea",null,{"$f":"IF(OR(ISBLANK(J50),G48=0,ISBLANK(G48)),,ROUND(J50+$K$3,2))","v":0},{"$f":"ROUND(K50*H50,2)","v":0},0]
[null,null,"Tones 914006",null,"11z",11,null,{"$f":"ROUND($G$48*$F$48/F51,2)","v":{"v":5.91,"d":"6"}},"ea",null,{"$f":"IF(OR(ISBLANK(J51),G48=0,ISBLANK(G48)),,ROUND(J51+$K$3,2))","v":0},{"$f":"ROUND(K51*H51,2)","v":0},0]
[12,"Paprika, Ground","McCormick      900210218",null,"18z",18,15,{"$f":"ROUND(G52*F52/F52,2)","v":15},"ea",null,{"$f":"IF(OR(ISBLANK(J52),G52=0,ISBLANK(G52)),,ROUND(J52+$K$3,2))","v":0},{"$f":"ROUND(H52*K52,2)","v":0},0]
[null,"Grade A","Sauers 01191",null,"16z",16,null,{"$f":"ROUND($G$52*$F$52/F53,2)","v":16.88},"ea",null,{"$f":"IF(OR(ISBLANK(J53),G52=0,ISBLANK(G52)),,ROUND(J53+$K$3,2))","v":0},{"$f":"ROUND(K53*H53,2)","v":0},0]
[null,null,"Durkee 54620",null,"16z",16,null,{"$f":"ROUND($G$52*$F$52/F54,2)","v":16.88},"ea",null,{"$f":"IF(OR(ISBLANK(J54),G52=0,ISBLANK(G52)),,ROUND(J54+$K$3,2))","v":0},{"$f":"ROUND(K54*H54,2)","v":0},0]
[null,null,"Tones 91403",null,"18z",18,null,{"$f":"ROUND($G$52*$F$52/F55,2)","v":15},"ea",null,{"$f":"IF(OR(ISBLANK(J55),G52=0,ISBLANK(G52)),,ROUND(J55+$K$3,2))","v":0},{"$f":"ROUND(K55*H55,2)","v":0},0]
[13,"Parsley Flakes","McCormick    932478",null,"10z",10,15,{"$f":"ROUND(G56*F56/F56,2)","v":15},"ea",null,{"$f":"IF(OR(ISBLANK(J56),G56=0,ISBLANK(G56)),,ROUND(J56+$K$3,2))","v":0},{"$f":"ROUND(H56*K56,2)","v":0},0]
[null,"Grade A","Sauers 01202",null,"10z",10,null,{"$f":"ROUND($G$56*$F$56/F57,2)","v":15},"ea",null,{"$f":"IF(OR(ISBLANK(J57),G56=0,ISBLANK(G56)),,ROUND(J57+$K$3,2))","v":0},{"$f":"ROUND(K57*H57,2)","v":0},0]
[null,null,"Durkee 55650",null,"11z",11,null,{"$f":"ROUND($G$56*$F$56/F58,2)","v":{"v":13.64,"d":"14"}},"ea",null,{"$f":"IF(OR(ISBLANK(J58),G56=0,ISBLANK(G56)),,ROUND(J58+$K$3,2))","v":0},{"$f":"ROUND(K58*H58,2)","v":0},0]
[null,null,"Tones 91549",null,"11z",11,null,{"$f":"ROUND($G$56*$F$56/F59,2)","v":{"v":13.64,"d":"14"}},"ea",null,{"$f":"IF(OR(ISBLANK(J59),G56=0,ISBLANK(G56)),,ROUND(J59+$K$3,2))","v":0},{"$f":"ROUND(K59*H59,2)","v":0},0]
[14,"Pepper, Black, Ground, 16-18 oz.","McCormick       900223221",null,"18z",18,3,{"$f":"ROUND(G60*F60/F60,2)","v":3},"ea",null,{"$f":"IF(OR(ISBLANK(J60),G60=0,ISBLANK(G60)),,ROUND(J60+$K$3,2))","v":0},{"$f":"ROUND(H60*K60,2)","v":0},0]
[null,"Grade A","Sauers 00936",null,"16z",16,null,{"$f":"ROUND($G$60*$F$60/F61,2)","v":3.38},"ea",null,{"$f":"IF(OR(ISBLANK(J61),G60=0,ISBLANK(G60)),,ROUND(J61+$K$3,2))","v":0},{"$f":"ROUND(K61*H61,2)","v":0},0]
[null,null,"Durkee 54961",null,"18z",18,null,{"$f":"ROUND($G$60*$F$60/F62,2)","v":3},"ea",null,{"$f":"IF(OR(ISBLANK(J62),G60=0,ISBLANK(G60)),,ROUND(J62+$K$3,2))","v":0},{"$f":"ROUND(K62*H62,2)","v":0},0]
[null,null,"Tones 91463",null,"18z",18,null,{"$f":"ROUND($G$60*$F$60/F63,2)","v":3},"ea",null,{"$f":"IF(OR(ISBLANK(J63),G60=0,ISBLANK(G60)),,ROUND(J63+$K$3,2))","v":0},{"$f":"ROUND(K63*H63,2)","v":0},0]
[15,"Pepper, Black, Ground, 5#","McCormick       932456",null,"5Lb",5,35,{"$f":"ROUND(G64*F64/F64,2)","v":35},"ea",null,{"$f":"IF(OR(ISBLANK(J64),G64=0,ISBLANK(G64)),,ROUND(J64+$K$3,2))","v":0},{"$f":"ROUND(H64*K64,2)","v":0},0]
[null,"Grade A","Sauers 00937",null,"5Lb",5,null,{"$f":"ROUND($G$64*$F$64/F65,2)","v":35},"ea",null,{"$f":"IF(OR(ISBLANK(J65),G64=0,ISBLANK(G64)),,ROUND(J65+$K$3,2))","v":0},{"$f":"ROUND(K65*H65,2)","v":0},0]
[null,null,"Durkee 55660",null,"5Lb",5,null,{"$f":"ROUND($G$64*$F$64/F66,2)","v":35},"ea",null,{"$f":"IF(OR(ISBLANK(J66),G64=0,ISBLANK(G64)),,ROUND(J66+$K$3,2))","v":0},{"$f":"ROUND(K66*H66,2)","v":0},0]
[null,null,"Tones 51844",null,"5Lb",5,null,{"$f":"ROUND($G$64*$F$64/F67,2)","v":35},"ea",null,{"$f":"IF(OR(ISBLANK(J67),G64=0,ISBLANK(G64)),,ROUND(J67+$K$3,2))","v":0},{"$f":"ROUND(K67*H67,2)","v":0},0]
[16,"Pepper, Lemon, Seasoning","McCormick 2150080350",null,"20.5z",20.5,0,{"$f":"ROUND(G68*F68/F68,2)","v":0},"ea",null,{"$f":"IF(OR(ISBLANK(J68),G68=0,ISBLANK(G68)),,ROUND(J68+$K$3,2))","v":0},{"$f":"ROUND(H68*K68,2)","v":0},{"$f":"ROUND(K68/F68,2)","v":0}]
[null,"Grade A","Durkee 54966",null,"28z",28,null,{"$f":"ROUND($G$68*$F$68/F69,2)","v":0},"ea",null,{"$f":"IF(OR(ISBLANK(J69),G68=0,ISBLANK(G68)),,ROUND(J69+$K$3,2))","v":0},{"$f":"ROUND(K69*H69,2)","v":0},0]
[null,null,"Sauers 01137",null,"23z",23,null,{"$f":"ROUND($G$68*$F$68/F70,2)","v":0},"ea",null,{"$f":"IF(OR(ISBLANK(J70),G68=0,ISBLANK(G68)),,ROUND(J70+$K$3,2))","v":0},{"$f":"ROUND(K70*H70,2)","v":0},0]
[null,null,"Tones 91461",null,"28z",28,null,{"$f":"ROUND($G$68*$F$68/F71,2)","v":0},"ea",null,{"$f":"IF(OR(ISBLANK(J71),G68=0,ISBLANK(G68)),,ROUND(J71+$K$3,2))","v":0},{"$f":"ROUND(K71*H71,2)","v":0},0]
[17,"Pepper, Lemon and Cracked Pepper","Magic Seasoning LCRP2066PK",null,"19.2z",19.2,0,{"$f":"ROUND(G72*F72/F72,2)","v":0},"ea",null,{"$f":"IF(OR(ISBLANK(J72),G72=0,ISBLANK(G72)),,ROUND(J72+$K$3,2))","v":0},{"$f":"ROUND(H72*K72,2)","v":0},{"$f":"ROUND(K72/F72,2)","v":0}]
[null,"No MSG"]
[18,"Pepper, Lemon, Seasoning SALT FREE","Mrs. Dash, J060-S6900 ",null,"21z ",21,0,{"$f":"ROUND(G74*F74/F74,2)","v":0},"ea",null,{"$f":"IF(OR(ISBLANK(J74),G74=0,ISBLANK(G74)),,ROUND(J74+$K$3,2))","v":0},{"$f":"ROUND(H74*K74,2)","v":0},0]
[null,"No MSG","Lawry's 900513940",null,"19z",19,null,{"$f":"ROUND($G$74*$F$74/F75,2)","v":0},"ea",null,{"$f":"IF(OR(ISBLANK(J75),G74=0,ISBLANK(G74)),,ROUND(J75+$K$3,2))","v":0},{"$f":"ROUND(K75*H75,2)","v":0},0]
[19,"Pepper, White, Ground","McCormick    900223212",null,"18z",18,5,{"$f":"ROUND(G76*F76/F76,2)","v":5},"ea",null,{"$f":"IF(OR(ISBLANK(J76),G76=0,ISBLANK(G76)),,ROUND(J76+$K$3,2))","v":0},{"$f":"ROUND(H76*K76,2)","v":0},0]
[null,"Grade A","Sauers 01231",null,"16z",16,null,{"$f":"ROUND($G$76*$F$76/F77,2)","v":5.63},"ea",null,{"$f":"IF(OR(ISBLANK(J77),G76=0,ISBLANK(G76)),,ROUND(J77+$K$3,2))","v":0},{"$f":"ROUND(K77*H77,2)","v":0},0]
[null,null,"Durkee 54750",null,"17z",17,null,{"$f":"ROUND($G$76*$F$76/F78,2)","v":{"v":5.29,"d":"5"}},"ea",null,{"$f":"IF(OR(ISBLANK(J78),G76=0,ISBLANK(G76)),,ROUND(J78+$K$3,2))","v":0},{"$f":"ROUND(K78*H78,2)","v":0},0]
[null,null,"Tones 91416",null,"18z",18,null,{"$f":"ROUND($G$76*$F$76/F79,2)","v":5},"ea",null,{"$f":"IF(OR(ISBLANK(J79),G76=0,ISBLANK(G76)),,ROUND(J79+$K$3,2))","v":0},{"$f":"ROUND(K79*H79,2)","v":0},0]
[20,"Powder, Garlic","McCormick       900223224",null,"21z",21,30,{"$f":"ROUND(G80*F80/F80,2)","v":30},"ea",null,{"$f":"IF(OR(ISBLANK(J80),G80=0,ISBLANK(G80)),,ROUND(J80+$K$3,2))","v":0},{"$f":"ROUND(H80*K80,2)","v":0},0]
[null,"Ground, Powder Grade A","Sauers 01805",null,"19z",19,null,{"$f":"ROUND($G$80*$F$80/F81,2)","v":33.16},"ea",null,{"$f":"IF(OR(ISBLANK(J81),G80=0,ISBLANK(G80)),,ROUND(J81+$K$3,2))","v":0},{"$f":"ROUND(K81*H81,2)","v":0},0]
[null,null,"Durkee 54360",null,"21z",21,null,{"$f":"ROUND($G$80*$F$80/F82,2)","v":30},"ea",null,{"$f":"IF(OR(ISBLANK(J82),G80=0,ISBLANK(G80)),,ROUND(J82+$K$3,2))","v":0},{"$f":"ROUND(K82*H82,2)","v":0},0]
[null,null,"Tones 91374",null,"21z",21,null,{"$f":"ROUND($G$80*$F$80/F83,2)","v":30},"ea",null,{"$f":"IF(OR(ISBLANK(J83),G80=0,ISBLANK(G80)),,ROUND(J83+$K$3,2))","v":0},{"$f":"ROUND(K83*H83,2)","v":0},0]
[21,"Garlic and Herb Seasoning , SALT FREE ","Mrs. Dash J058-S6900 ",null,"21z ",21,0,{"$f":"ROUND(G84*F84/F84,2)","v":0},"ea",null,{"$f":"IF(OR(ISBLANK(J84),G84=0,ISBLANK(G84)),,ROUND(J84+$K$3,2))","v":0},{"$f":"ROUND(H84*K84,2)","v":0},0]
[null,"No MSG","Lawry's 900498766",null,"20z",20,null,{"$f":"ROUND($G$84*$F$84/F85,2)","v":0},"ea",null,{"$f":"IF(OR(ISBLANK(J85),G84=0,ISBLANK(G84)),,ROUND(J85+$K$3,2))","v":0},{"$f":"ROUND(K85*H85,2)","v":0},0]
[null,null,"Durkee 59282",null,"18z ",18,null,{"$f":"ROUND($G$84*$F$84/F86,2)","v":0},"ea",null,{"$f":"IF(OR(ISBLANK(J86),G84=0,ISBLANK(G84)),,ROUND(J86+$K$3,2))","v":0},{"$f":"ROUND(K86*H86,2)","v":0},0]
[null,null,"(15-16)Sauers 01874",null,"21z",21,null,{"$f":"ROUND($G$84*$F$84/F87,2)","v":0},"ea",null,{"$f":"IF(OR(ISBLANK(J87),G84=0,ISBLANK(G84)),,ROUND(J87+$K$3,2))","v":0},{"$f":"ROUND(K87*H87,2)","v":0},0]
[22,"Sage, Ground","McCormick     932373",null,"11z",11,13,{"$f":"ROUND(G88*F88/F88,2)","v":13},"ea",null,{"$f":"IF(OR(ISBLANK(J88),G88=0,ISBLANK(G88)),,ROUND(J88+$K$3,2))","v":0},{"$f":"ROUND(H88*K88,2)","v":0},0]
[null,"Grade A","Sauers 01250",null,"8z",8,null,{"$f":"ROUND($G$88*$F$88/F89,2)","v":17.88},"ea",null,{"$f":"IF(OR(ISBLANK(J89),G88=0,ISBLANK(G88)),,ROUND(J89+$K$3,2))","v":0},{"$f":"ROUND(K89*H89,2)","v":0},0]
[null,null,"Durkee 54800",null,"6z",6,null,{"$f":"ROUND($G$88*$F$88/F90,2)","v":{"v":23.83,"d":"24"}},"ea",null,{"$f":"IF(OR(ISBLANK(J90),G88=0,ISBLANK(G88)),,ROUND(J90+$K$3,2))","v":0},{"$f":"ROUND(K90*H90,2)","v":0},0]
[null,null,"Tones 914295",null,"6z",6,null,{"$f":"ROUND($G$88*$F$88/F91,2)","v":{"v":23.83,"d":"24"}},"ea",null,{"$f":"IF(OR(ISBLANK(J91),G88=0,ISBLANK(G88)),,ROUND(J91+$K$3,2))","v":0},{"$f":"ROUND(K91*H91,2)","v":0},0]
[23,"Salt, Celery","McCormick       932437",null,"30z",30,3,{"$f":"ROUND(G92*F92/F92,2)","v":3},"ea",null,{"$f":"IF(OR(ISBLANK(J92),G92=0,ISBLANK(G92)),,ROUND(J92+$K$3,2))","v":0},{"$f":"ROUND(H92*K92,2)","v":0},0]
[null,"Grade A ","Sauers 01036",null,"36z",36,null,{"$f":"ROUND($G$92*$F$92/F93,2)","v":{"v":2.5,"d":"3"}},"ea",null,{"$f":"IF(OR(ISBLANK(J93),G92=0,ISBLANK(G92)),,ROUND(J93+$K$3,2))","v":0},{"$f":"ROUND(K93*H93,2)","v":0},0]
[null,null,"Durkee 54110",null,"32z",32,null,{"$f":"ROUND($G$92*$F$92/F94,2)","v":2.81},"ea",null,{"$f":"IF(OR(ISBLANK(J94),G92=0,ISBLANK(G92)),,ROUND(J94+$K$3,2))","v":0},{"$f":"ROUND(K94*H94,2)","v":0},0]
[null,null,"Tones 913438",null,"35z",35,null,{"$f":"ROUND($G$92*$F$92/F95,2)","v":{"v":2.57,"d":"3"}},"ea",null,{"$f":"IF(OR(ISBLANK(J95),G92=0,ISBLANK(G92)),,ROUND(J95+$K$3,2))","v":0},{"$f":"ROUND(K95*H95,2)","v":0},0]
[24,"Salt, Garlic","McCormick      900210227",null,"41.25 z",41.25,5,{"$f":"ROUND(G96*F96/F96,2)","v":5},"ea",null,{"$f":"IF(OR(ISBLANK(J96),G96=0,ISBLANK(G96)),,ROUND(J96+$K$3,2))","v":0},{"$f":"ROUND(H96*K96,2)","v":0},0]
[null,"Grade A","Sauers 01121",null,"40 z",40,null,{"$f":"ROUND($G$96*$F$96/F97,2)","v":5.16},"ea",null,{"$f":"IF(OR(ISBLANK(J97),G96=0,ISBLANK(G96)),,ROUND(J97+$K$3,2))","v":0},{"$f":"ROUND(K97*H97,2)","v":0},0]
[null,null,"Durkee 54965",null,"40 z",40,null,{"$f":"ROUND($G$96*$F$96/F98,2)","v":{"v":5.16,"d":"5"}},"ea",null,{"$f":"IF(OR(ISBLANK(J98),G96=0,ISBLANK(G96)),,ROUND(J98+$K$3,2))","v":0},{"$f":"ROUND(K98*H98,2)","v":0},0]
[null,null,"Tones 91375",null,"40 z",40,null,{"$f":"ROUND($G$96*$F$96/F99,2)","v":5.16},"ea",null,{"$f":"IF(OR(ISBLANK(J99),G96=0,ISBLANK(G96)),,ROUND(J99+$K$3,2))","v":0},{"$f":"ROUND(K99*H99,2)","v":0},0]
[25,"Salt, Iodized","Distributor Choice",null,"24/26z",624,30,{"$f":"ROUND(G100*F100/F100,2)","v":30},"ea"]
[null,"Fine, Grade A","Fillable txt box ",{"$nulls":4},{"$f":"ROUND(G100*F100/F101,2)","v":{"$error":"#DIV/0!"}},"ea",null,{"$f":"IF(OR(ISBLANK(J101),G100=0,ISBLANK(G100)),,ROUND(J101+$K$3,2))","v":0},{"$f":"ROUND(H101*K101,2)","v":{"$error":"#DIV/0!"}},{"$error":"#DIV/0!"}]
[26,"Salt, Onion","McCormick      932440",null,"36 z",36,0,{"$f":"ROUND(G102*F102/F102,2)","v":0},"ea",null,{"$f":"IF(OR(ISBLANK(J102),G102=0,ISBLANK(G102)),,ROUND(J102+$K$3,2))","v":0},{"$f":"ROUND(H102*K102,2)","v":0},{"$f":"ROUND(K102/F102,2)","v":0}]
[null,"Grade A, Granulated","Sauers 01176",null,"36 z",36,null,{"$f":"ROUND($G$102*$F$102/F103,2)","v":0},"ea",null,{"$f":"IF(OR(ISBLANK(J103),G102=0,ISBLANK(G102)),,ROUND(J103+$K$3,2))","v":0},{"$f":"ROUND(K103*H103,2)","v":0},0]
[null,null,"Durkee 54580",null,"36 z",36,null,{"$f":"ROUND($G$102*$F$102/F104,2)","v":0},"ea",null,{"$f":"IF(OR(ISBLANK(J104),G102=0,ISBLANK(G102)),,ROUND(J104+$K$3,2))","v":0},{"$f":"ROUND(K104*H104,2)","v":0},0]
[null,null,"Tones 913982",null,"36 z",36,null,{"$f":"ROUND($G$102*$F$102/F105,2)","v":0},"ea",null,{"$f":"IF(OR(ISBLANK(J105),G102=0,ISBLANK(G102)),,ROUND(J105+$K$3,2))","v":0},{"$f":"ROUND(K105*H105,2)","v":0},0]
[27,"Salt, Season","McCormick      900018589",null,"4.5Lb",72,40,{"$f":"ROUND(G106*F106/F106,2)","v":40},"ea",null,{"$f":"IF(OR(ISBLANK(J106),G106=0,ISBLANK(G106)),,ROUND(J106+$K$3,2))","v":0},{"$f":"ROUND(H106*K106,2)","v":0},0]
[null,"Grade A","Sauers 01267",null,"9Lb",144,null,{"$f":"ROUND($G$106*$F$106/F107,2)","v":20},"ea",null,{"$f":"IF(OR(ISBLANK(J107),G106=0,ISBLANK(G106)),,ROUND(J107+$K$3,2))","v":0},{"$f":"ROUND(K107*H107,2)","v":0},0]
[null,null,"Durkee 54830",null,"37 z",37,null,{"$f":"ROUND($G$106*$F$106/F108,2)","v":{"v":77.84,"d":"78"}},"ea",null,{"$f":"IF(OR(ISBLANK(J108),G106=0,ISBLANK(G106)),,ROUND(J108+$K$3,2))","v":0},{"$f":"ROUND(K108*H108,2)","v":0},0]
[null,null,"Tones 914345",null,"33 z",33,null,{"$f":"ROUND($G$106*$F$106/F109,2)","v":{"v":87.27,"d":"87"}},"ea",null,{"$f":"IF(OR(ISBLANK(J109),G106=0,ISBLANK(G106)),,ROUND(J109+$K$3,2))","v":0},{"$f":"ROUND(K109*H109,2)","v":0},0]
[null,null,"Lawry's 2150080623",null,"40 z",40,null,{"$f":"ROUND($G$106*$F$106/F110,2)","v":72},"ea",null,{"$f":"IF(OR(ISBLANK(J110),G106=0,ISBLANK(G106)),,ROUND(J110+$K$3,2))","v":0},{"$f":"ROUND(K110*H110,2)","v":0},0]
[null,null,"(04-05) Stax 6001",null,"38 z",38,null,{"$f":"ROUND($G$106*$F$106/F111,2)","v":75.79},"ea",null,{"$f":"IF(OR(ISBLANK(J111),G106=0,ISBLANK(G106)),,ROUND(J111+$K$3,2))","v":0},{"$f":"ROUND(K111*H111,2)","v":0},0]
[28,"SALT FREE Seasoning ","Mrs Dash J017 S696900",null,"21 z ",21,0,{"$f":"ROUND(G112*F112/F112,2)","v":0},"ea",null,{"$f":"IF(OR(ISBLANK(J112),G112=0,ISBLANK(G112)),,ROUND(J112+$K$3,2))","v":0},{"$f":"ROUND(H112*K112,2)","v":0},0]
[null,"All Purpose Ingredient, No MSG","Lawry's SaltFree 17 2150080606",null,"20 z",20,null,{"$f":"ROUND($G$112*$F$112/F113,2)","v":0},"ea",null,{"$f":"IF(OR(ISBLANK(J113),G112=0,ISBLANK(G112)),,ROUND(J113+$K$3,2))","v":0},{"$f":"ROUND(K113*H113,2)","v":0},0]
[null,null,"Sauer, Chef Shake 01003",null,"18 oz",18,null,{"$f":"ROUND($G$112*$F$112/F114,2)","v":0},"ea",null,{"$f":"IF(OR(ISBLANK(J114),G112=0,ISBLANK(G112)),,ROUND(J114+$K$3,2))","v":0},{"$f":"ROUND(K114*H114,2)","v":0},0]
[29,"Seasoning Mix, Spaghetti","Spatini, Lawry's 900276804  ",null,"12/15 z",180,35,{"$f":"ROUND(G115*F115/F115,2)","v":35},"Cs",null,{"$f":"IF(OR(ISBLANK(J115),G115=0,ISBLANK(G115)),,ROUND(J115+$K$3,2))","v":0},{"$f":"ROUND(H115*K115,2)","v":0},0]
[null,null,"Atlantic Seasonings 06404",null,"12/15 z",180,null,{"$f":"ROUND($G$115*$F$115/F116,2)","v":35},"Cs",null,{"$f":"IF(OR(ISBLANK(J116),G115=0,ISBLANK(G115)),,ROUND(J116+$K$3,2))","v":0},{"$f":"ROUND(K116*H116,2)","v":0},0]
[null," ","Precision Foods V415-AN190, Red Sodium",null,"6/11.2z",67.5,null,{"$f":"ROUND($G$115*$F$115/F117,2)","v":93.33},"Cs",null,{"$f":"IF(OR(ISBLANK(J117),G115=0,ISBLANK(G115)),,ROUND(J117+$K$3,2))","v":0},{"$f":"ROUND(K117*H117,2)","v":0},0]
[null,null,"(10-11) CF Sauer 09093",null,"6/14 z",84,null,{"$f":"ROUND($G$115*$F$115/F118,2)","v":75},"CS",null,{"$f":"IF(OR(ISBLANK(J118),G115=0,ISBLANK(G115)),,ROUND(J118+$K$3,2))","v":0},{"$f":"ROUND(K118*H118,2)","v":0},0]
[]
[30,"Seasoning Mix, Stir-Fry Rice, Asian","(11-12) FOOTHILL FARMS,S140-G1190",null,"10/6.82z",460,3,{"$f":"ROUND(G120*F120/F120,2)","v":3},"Cs",null,{"$f":"IF(OR(ISBLANK(J120),G120=0,ISBLANK(G120)),,ROUND(J120+$K$3,2))","v":0},{"$f":"ROUND(H120*K120,2)","v":0},{"$f":"ROUND(K120/F120,2)","v":0}]
[null,"460/4 oz per case,  No preservatives, no artificial flavors."]
[]
[31,"Seasoning Mix, Taco","Lawry (Unilever) 2150080110",null,"6/9z",54,30,{"$f":"ROUND(G123*F123/F123,2)","v":30},"Cs",null,{"$f":"IF(OR(ISBLANK(J123),G123=0,ISBLANK(G123)),,ROUND(J123+$K$3,2))","v":0},{"$f":"ROUND(H123*K123,2)","v":0},{"$f":"ROUND(K123/F123,2)","v":0}]
[null,null,"Rosarita 10381 ",null,"6/9z",54,null,{"$f":"ROUND($G$123*$F$123/F124,2)","v":30},"Cs",null,{"$f":"IF(OR(ISBLANK(J124),G123=0,ISBLANK(G123)),,ROUND(J124+$K$3,2))","v":0},{"$f":"ROUND(K124*H124,2)","v":0},0]
[null,null,"Atlantic Seasonings 06301",null,"6/9z",54,null,30,"Cs",null,{"$f":"IF(OR(ISBLANK(J125),G123=0,ISBLANK(G123)),,ROUND(J125+$K$3,2))","v":0},0,0]
[null,null,"Casa Fiesta 01828",null,"6/9z",54,null,30,"Cs",null,{"$f":"IF(OR(ISBLANK(J126),G123=0,ISBLANK(G123)),,ROUND(J126+$K$3,2))","v":0},0,0]
[null,null,"PrecisionFoods V413-D9190,Red Sodium",null,"6/6.6z",39.6,null,{"$f":"ROUND($G$123*$F$123/F127,2)","v":{"v":40.91,"d":"41"}},"Cs",null,{"$f":"IF(OR(ISBLANK(J127),G122=0,ISBLANK(G122)),,ROUND(J127+$K$3,2))","v":0},{"$f":"ROUND(K127*H127,2)","v":0},{"$f":"ROUND(K127/F127,2)","v":0}]
[null,null,"CF Sauer 09094",null,"6/14 z",84,null,{"v":19.29,"d":"19"},"Cs",null,{"$f":"IF(OR(ISBLANK(J128),G122=0,ISBLANK(G122)),,ROUND(J128+$K$3,2))","v":0},0,0]
[null,null," ",null," "," ",null," "," "," "," "," "," "]
[]
[32,"Seasoning, French Fry","Sauers 01271",null,"36 z",36,5,{"$f":"ROUND(G131*F131/F131,2)","v":5},"ea",null,{"$f":"IF(OR(ISBLANK(J131),G131=0,ISBLANK(G131)),,ROUND(J131+$K$3,2))","v":0},{"$f":"ROUND(H131*K131,2)","v":0},{"$f":"ROUND(K131/F131,2)","v":0}]
[null,"Grade A","Lawry's 2150080621",null,"6/16z",96,null,{"$f":"ROUND($G$131*$F$131/F132,2)","v":1.88},"ea",null,{"$f":"IF(OR(ISBLANK(J132),G131=0,ISBLANK(G131)),,ROUND(J132+$K$3,2))","v":0},{"$f":"ROUND(K132*H132,2)","v":0},{"$f":"ROUND(K132/F132,2)","v":0}]
[null,null," ",null," "," ",null," "," "," "," ","  "," "]
[]
[33,"Seasoning, Poultry","McCormick 932422",null,"12 z",12,13,{"$f":"ROUND(G135*F135/F135,2)","v":13},"ea",null,{"$f":"IF(OR(ISBLANK(J135),G135=0,ISBLANK(G135)),,ROUND(J135+$K$3,2))","v":0},{"$f":"ROUND(H135*K135,2)","v":0},{"$f":"ROUND(K135/F135,2)","v":0}]
[null,"Grade A","Durkee 54775",null,"10 z",10,null,{"$f":"ROUND($G$135*$F$135/F136,2)","v":15.6},"ea",null,{"$f":"IF(OR(ISBLANK(J136),G135=0,ISBLANK(G135)),,ROUND(J136+$K$3,2))","v":0},{"$f":"ROUND(K136*H136,2)","v":0},0]
[null,null,"Sauers 1236",null,"12 z",12,null,{"$f":"ROUND($G$135*$F$135/F137,2)","v":13},"ea",null,{"$f":"IF(OR(ISBLANK(J137),G135=0,ISBLANK(G135)),,ROUND(J137+$K$3,2))","v":0},{"$f":"ROUND(K137*H137,2)","v":0},0]
[null,null,"Tones 914246",null,"10 z",10,null,{"$f":"ROUND($G$135*$F$135/F138,2)","v":15.6},"ea",null,{"$f":"IF(OR(ISBLANK(J138),G135=0,ISBLANK(G135)),,ROUND(J138+$K$3,2))","v":0},{"$f":"ROUND(K138*H138,2)","v":0},0]
[34,"Thyme, Dried leaf","Distributor Choice",null,"7z",7,5,{"$f":"ROUND(G139*F139/F139,2)","v":5},"ea"]
[null,"Grade A","Fillable txt box ",{"$nulls":4},{"$f":"ROUND(G139*F139/F140,2)","v":{"$error":"#DIV/0!"}},"ea",null,{"$f":"IF(OR(ISBLANK(J140),G139=0,ISBLANK(G139)),,ROUND(J140+$K$3,2))","v":0},{"$f":"ROUND(H140*K140,2)","v":{"$error":"#DIV/0!"}},{"$error":"#DIV/0!"}]
[35,"Onion Powder ","Distributor Choice",null,"21 z ",21,13,{"$f":"ROUND(G141*F141/F141,2)","v":13},"ea"]
[null,"Grade A ","Fillable txt box ",{"$nulls":4},{"$f":"ROUND(G141*F141/F142,2)","v":{"$error":"#DIV/0!"}},"ea",null,{"$f":"IF(OR(ISBLANK(J142),G141=0,ISBLANK(G141)),,ROUND(J142+$K$3,2))","v":0},{"$f":"ROUND(H142*K142,2)","v":{"$error":"#DIV/0!"}},{"$error":"#DIV/0!"}]
[]
[{"$nulls":8},"Page Total",null,null,{"$f":"SUMIF(L6:L143,\">0\")","v":0}]

{"sheet":"Condiments Portion Control","index":393,"n_rows":130,"n_cols":13,"rows_kept":130,"merged":[[0,4,0,12],[1,4,1,12],[2,5,2,9]]}
[null,{"$f":"'Recap Sheet'!A2","v":"School Food Authority:"},null,null,{"$f":"'Recap Sheet'!A3","v":"Offeror Name:"}]
[null,{"$f":"'Recap Sheet'!B2","v":"WILLIAMSBURG COUNTY SCHOOLS"},"Return to Recap Sheet",null,{"$f":"'Recap Sheet'!B3","v":0}]
["Item","Description","Approved Brand Name / Manuf ID # ",null,null,"Firm Fixed Fee",{"$nulls":4},{"$f":"'Recap Sheet'!B4","v":{"v":0,"d":"$0.00"}}]
["#",null,null,"Distributor","Vendor","Svgs","Est.","Bid ","Bid","Unit","Unit Price","Total ","Cost per"]
[{"$nulls":3},"Code","Pack","per unit","Bid Qty","Qty","Unit","Price","plus Fee","Price","Unit"]
[null,"Condiments/Portion Control"]
[1,"Dressings, Single Serving Cup Light Ranch","Naturally Fresh 85119775061",null,"100/1.0z",100,55,{"$f":"ROUND($G$7*$F$7/F7,2)","v":55},"Cs",0,{"$f":"IF(OR(ISBLANK(J7),G7=0,ISBLANK(G7)),,ROUND(J7+$K$3,2))","v":0},{"$f":"ROUND(H7*K7,2)","v":0},{"$f":"ROUND(K7/F7,2)","v":0}]
[2,"Dressings, Single Serving Light Ranch","Ken's KE0708A5",null,"100/1.5z",100,30,{"$f":"ROUND($G$8*$F$8/F8,2)","v":30},"Cs",0,{"$f":"IF(OR(ISBLANK(J8),G8=0,ISBLANK(G8)),,ROUND(J8+$K$3,2))","v":0},0,{"$f":"ROUND(K8/F8,2)","v":0}]
[" ","1.5 oz. Does not require refrigeration","Heinz 130005343500",null,"100/1.5z",100," ",{"$f":"ROUND($G$8*$F$8/F9,2)","v":30},"Cs",0,{"$f":"IF(OR(ISBLANK(J9),G9=0,ISBLANK(G9)),,ROUND(J9+$K$3,2))","v":0},0,{"$f":"ROUND(K9/F9,2)","v":0}]
[3,"Dressings, Salad, Fat Free, Honey Dijon Mustard"," Kens KE0600 B3",null,"60/1.5z",60,20,{"$f":"ROUND($G$10*$F$10/F10,2)","v":20},"Cs",0,{"$f":"IF(OR(ISBLANK(J10),G10=0,ISBLANK(G10)),,ROUND(J10+$K$3,2))","v":0},0,{"$f":"ROUND(K10/F10,2)","v":0}]
[" ","1.5 oz  Does not require refrigeration","Lite House  13391",null,"60/1.5z",60,null,{"$f":"ROUND($G$10*$F$10/F11,2)","v":20},"Cs",0,{"$f":"IF(OR(ISBLANK(J11),G10=0,ISBLANK(G10)),,ROUND(J11+$K$3,2))","v":0},0,0]
[4,"Dressings, Salad, Fat Free, Italian, 1.5 oz","Marzetti 81975  Reduced Sodium 1/2013",null,"60/1.5z ",60,25,{"$f":"ROUND(G12*F12/F12,2)","v":25},"Cs",0,{"$f":"IF(OR(ISBLANK(J12),G12=0,ISBLANK(G12)),,ROUND(J12+$K$3,2))","v":0},0,0]
[null,"Does not require refrigeration","Taste Pleasers 7160370009500",null,"100/1.5 z",100,null,{"$f":"ROUND($G$12*$F$12/F13,2)","v":15},"Cs",0,{"$f":"IF(OR(ISBLANK(J13),G12=0,ISBLANK(G12)),,ROUND(J13+$K$3,2))","v":0},{"$f":"ROUND(K13*H13,2)","v":0},0]
[null,null,"Kens KE0807B3 ",null,"60/1.5z ",60,null,25,"Cs",0,{"$f":"IF(OR(ISBLANK(J14),G12=0,ISBLANK(G12)),,ROUND(J14+$K$3,2))","v":0},0,0]
[null,null,"Hellmann's 26329",null,"102/1.5z",102,null,14.71,"Cs",0,{"$f":"IF(OR(ISBLANK(J15),G12=0,ISBLANK(G12)),,ROUND(J15+$K$3,2))","v":0},0,0]
[null,null,"Hidden Valley 85640",null,"84/1.5 z",84,null,{"v":17.86,"d":"18"},"Cs",0,{"$f":"IF(OR(ISBLANK(J16),G12=0,ISBLANK(G12)),,ROUND(J16+$K$3,2))","v":0},0,0]
[null,null,"Naturally Fresh, 85716475061",null,"100/1.5z",100,null,15,"Cs",0,{"$f":"IF(OR(ISBLANK(J17),G12=0,ISBLANK(G12)),,ROUND(J17+$K$3,2))","v":0},0,0]
[null," ","Wishbone 26100",null,"60/1.5z",60,null,25,"Cs",0,{"$f":"IF(OR(ISBLANK(J18),G12=0,ISBLANK(G12)),,ROUND(J18+$K$3,2))","v":0},0,0]
[]
[5,"Dressings, Salad, Fat Free, Ranch, 1.5 oz","Marzetti 81976 Reduced Sodium 1/2013",null,"60/1.5 z",60,30,{"$f":"ROUND(G20*F20/F20,2)","v":30},"Cs",0,{"$f":"IF(OR(ISBLANK(J20),G20=0,ISBLANK(G20)),,ROUND(J20+$K$3,2))","v":0},{"$f":"ROUND(H20*K20,2)","v":0},{"$f":"ROUND(K20/F20,2)","v":0}]
[null,"Does not require refrigeration","Taste Pleasers 7160370007500",null,"100/1.5 z",100,null,{"$f":"ROUND($G$20*$F$20/F21,2)","v":18},"Cs",0,{"$f":"IF(OR(ISBLANK(J21),G20=0,ISBLANK(G20)),,ROUND(J21+$K$3,2))","v":0},{"$f":"ROUND(K21*H21,2)","v":0},0]
[null,null,"Naturally Fresh, 30004470  ",null,"100/1.5z",100,null,18,"Cs",0,{"$f":"IF(OR(ISBLANK(J22),G20=0,ISBLANK(G20)),,ROUND(J22+$K$3,2))","v":0},0,0]
[null,null,"Kens KE0026B3 ",null,"60/1.5 z",60,null,30,"Cs",0,{"$f":"IF(OR(ISBLANK(J23),G20=0,ISBLANK(G20)),,ROUND(J23+$K$3,2))","v":0},0,0]
[null,null,"Hellmann's 26331",null,"102/1.5z",102,null,17.65,"Cs",0,{"$f":"IF(OR(ISBLANK(J24),G20=0,ISBLANK(G20)),,ROUND(J24+$K$3,2))","v":0},0,0]
[null,null,"Hidden Valley 85629",null,"84/1.5z ",84,null,{"v":21.43,"d":"21"},"Cs",0,{"$f":"IF(OR(ISBLANK(J25),G20=0,ISBLANK(G20)),,ROUND(J25+$K$3,2))","v":0},0,0]
[null,null,"Wishbone 26108",null,"60/1.5 z",60,null,30,"Cs",0,{"$f":"IF(OR(ISBLANK(J26),G20=0,ISBLANK(G20)),,ROUND(J26+$K$3,2))","v":0},0,0]
[6,"Dressings, Salad, Fat Free, Thousand Island, 1.5 oz","Marzetti 81974",null,"60/1.5 z",60,26,{"$f":"ROUND(G27*F27/F27,2)","v":26},"Cs",0,{"$f":"IF(OR(ISBLANK(J27),G27=0,ISBLANK(G27)),,ROUND(J27+$K$3,2))","v":0},{"$f":"ROUND(H27*K27,2)","v":0},0]
[null,"Does not require refrigeration","Taste Pleasers 7160370011500",null,"100/1.5 z",100,null,{"$f":"ROUND($G$27*$F$27/F28,2)","v":15.6},"Cs",0,{"$f":"IF(OR(ISBLANK(J28),G27=0,ISBLANK(G27)),,ROUND(J28+$K$3,2))","v":0},{"$f":"ROUND(K28*H28,2)","v":0},0]
[null,null,"Hellmann's 26334",null,"102/1.5z",102,null,{"$f":"ROUND($G$27*$F$27/F29,2)","v":15.29},"Cs",0,{"$f":"IF(OR(ISBLANK(J29),G27=0,ISBLANK(G27)),,ROUND(J29+$K$3,2))","v":0},{"$f":"ROUND(K29*H29,2)","v":0},0]
[null,null,"Hidden Valley 85642",null,"84/1.5 z",84,null,{"$f":"ROUND($G$27*$F$27/F30,2)","v":{"v":18.57,"d":"19"}},"Cs",0,{"$f":"IF(OR(ISBLANK(J30),G27=0,ISBLANK(G27)),,ROUND(J30+$K$3,2))","v":0},{"$f":"ROUND(K30*H30,2)","v":0},0]
[7,"Dressings, Salad, Light, Ranch, 1.5 oz","Heinz 130005343500",null,"60/1.5z",60,160,{"$f":"ROUND(G31*F31/F31,2)","v":160},"Cs",0,{"$f":"IF(OR(ISBLANK(J31),G31=0,ISBLANK(G31)),,ROUND(J31+$K$3,2))","v":0},{"$f":"ROUND(H31*K31,2)","v":0},0]
[null,"Does not require refrigeration","Ken's KE2131A5  ",null,"100/1.5z",100,null,{"$f":"ROUND($G$31*$F$31/F32,2)","v":96},"Cs",0,{"$f":"IF(OR(ISBLANK(J32),G31=0,ISBLANK(G31)),,ROUND(J32+$K$3,2))","v":0},{"$f":"ROUND(K32*H32,2)","v":0},0]
[null,"0 transfat, 3 grams of fat per 1.5 oz serving","Kraft 1154",null,"60/1.5z",60,null,{"$f":"ROUND($G$31*$F$31/F33,2)","v":160},"Cs",0,{"$f":"IF(OR(ISBLANK(J33),G31=0,ISBLANK(G31)),,ROUND(J33+$K$3,2))","v":0},{"$f":"ROUND(K33*H33,2)","v":0},0]
[null,null,"House Blend 75121",null,"60/1.5z",60,null,{"$f":"ROUND($G$31*$F$31/F34,2)","v":160},"Cs",0,{"$f":"IF(OR(ISBLANK(J34),G31=0,ISBLANK(G31)),,ROUND(J34+$K$3,2))","v":0},{"$f":"ROUND(K34*H34,2)","v":0},0]
[8,"Dressing, Salad, French, FF, 12 Gram","Kraft 210006496000",null,"200/.43z",200,20,{"$f":"IF(F35>0,ROUND(G35*F35/F35,2),)","v":20},"Cs",0,{"$f":"IF(OR(ISBLANK(J35),G35=0,ISBLANK(G35)),,ROUND(J35+$K$3,2))","v":0},{"$f":"ROUND(H35*K35,2)","v":0},{"$f":"IF(F35>0,ROUND(K35/F35,2),)","v":0}]
[{"$nulls":6},0]
[9,"Dressing, Salad, Italian FF, 12 gram"," Kraft 210006496400",null,"200/.43z",200,3,{"$f":"IF(F37>0,ROUND(G37*F37/F37,2),)","v":3},"Cs",0,{"$f":"IF(OR(ISBLANK(J37),G37=0,ISBLANK(G37)),,ROUND(J37+$K$3,2))","v":0},{"$f":"ROUND(H37*K37,2)","v":0},{"$f":"IF(F37>0,ROUND(K37/F37,2),)","v":0}]
[]
[10,"Dressing, Salad, Ranch, FF, 12 gram"," Sauers 06504",null,"200/12z",200,150,{"$f":"ROUND(G39*F39/F39,2)","v":150},"Cs",0,{"$f":"IF(OR(ISBLANK(J39),G39=0,ISBLANK(G39)),,ROUND(J39+$K$3,2))","v":0},{"$f":"ROUND(H39*K39,2)","v":0},{"$f":"ROUND(K39/F39,2)","v":0}]
[null,null," Kraft 210006496200",null,"200/.43z",200,null,{"$f":"ROUND($G$39*$F$39/F40,2)","v":150},"Cs",0,{"$f":"IF(OR(ISBLANK(J40),G39=0,ISBLANK(G39)),,ROUND(J40+$K$3,2))","v":0},{"$f":"ROUND(K40*H40,2)","v":0},0]
[11,"Dressings, Salad, Reg, French, 12 gm","Heinz 130005328000",null,"200/12gm",200,25,{"$f":"ROUND(G41*F41/F41,2)","v":25},"Cs",0,{"$f":"IF(OR(ISBLANK(J41),G41=0,ISBLANK(G41)),,ROUND(J41+$K$3,2))","v":0},{"$f":"ROUND(H41*K41,2)","v":0},0]
[null,"Does not require refrigeration","CF Sauers 06387",null,"200/12 gm",200,null,{"$f":"ROUND(G41*F41/F42,2)","v":25},"Cs",0,{"$f":"IF(OR(ISBLANK(J42),G41=0,ISBLANK(G41)),,ROUND(J42+$K$3,2))","v":0},{"$f":"ROUND(H42*K42,2)","v":0},0]
[12,"Dressings, Salad, Reg, Italian, 12 gm","Heinz 130005326000",null,"200/12 gm",200,15,{"$f":"ROUND(G43*F43/F43,2)","v":15},"Cs",0,{"$f":"IF(OR(ISBLANK(J43),G43=0,ISBLANK(G43)),,ROUND(J43+$K$3,2))","v":0},{"$f":"ROUND(H43*K43,2)","v":0},0]
[null,"Does not require refrigeration","CF Sauers 06392",null,"200/12 gm",200,0,{"$f":"ROUND(G43*F43/F44,2)","v":15},"Cs",0,{"$f":"IF(OR(ISBLANK(J44),G43=0,ISBLANK(G43)),,ROUND(J44+$K$3,2))","v":0},{"$f":"ROUND(H44*K44,2)","v":0},0]
[13,"Dressings, Salad, Reg, Ranch, 12 gm","Heinz 130005331000",null,"200/12gm",200,0,{"$f":"ROUND(G45*F45/F45,2)","v":0},"Cs",0,{"$f":"IF(OR(ISBLANK(J45),G45=0,ISBLANK(G45)),,ROUND(J45+$K$3,2))","v":0},{"$f":"ROUND(H45*K45,2)","v":0},0]
[null,"Does not require refrigeration","Kraft 2100064900",null,"200/.43z",200,null,{"$f":"ROUND($G$45*$F$45/F46,2)","v":0},"Cs",0,{"$f":"IF(OR(ISBLANK(J46),G45=0,ISBLANK(G45)),,ROUND(J46+$K$3,2))","v":0},{"$f":"ROUND(K46*H46,2)","v":0},0]
[null,null,"CF Sauers 06863",null,"200/12gm",200,null,{"$f":"ROUND($G$45*$F$45/F47,2)","v":0},"Cs",0,{"$f":"IF(OR(ISBLANK(J47),G45=0,ISBLANK(G45)),,ROUND(J47+$K$3,2))","v":0},0,0]
[14,"Dressings, Salad, Regular, French, 1.5 oz","Marzetti 81919",null,"120/1.5z",120,0,{"$f":"ROUND(G48*F48/F48,2)","v":0},"Cs",0,{"$f":"IF(OR(ISBLANK(J48),G48=0,ISBLANK(G48)),,ROUND(J48+$K$3,2))","v":0},0,0]
[null,"Does not require refrigeration","Taste Pleasers 7160370001500",null,"100/1.5 z",100,null,{"$f":"ROUND($G$48*$F$48/F49,2)","v":0},"Cs",0,{"$f":"IF(OR(ISBLANK(J49),G48=0,ISBLANK(G48)),,ROUND(J49+$K$3,2))","v":0},0,0]
[null,null,"Kens KE0033B3 ",null,"60/1.5 z",60,null,0,"Cs",0,{"$f":"IF(OR(ISBLANK(J50),G48=0,ISBLANK(G48)),,ROUND(J50+$K$3,2))","v":0},0,0]
[null,null,"Hellmann's 26324",null,"102/1.5z",102,null,0,"Cs",0,{"$f":"IF(OR(ISBLANK(J51),G48=0,ISBLANK(G48)),,ROUND(J51+$K$3,2))","v":0},0,0]
[null,null,"Wishbone 26115",null,"60/1.5 z",60,null,0,"Cs",0,{"$f":"IF(OR(ISBLANK(J52),G48=0,ISBLANK(G48)),,ROUND(J52+$K$3,2))","v":0},0,0]
[null,null,"Heinz 78000832",null,"60/1.5 z",60,null,0,"Cs",0,{"$f":"IF(OR(ISBLANK(J53),G48=0,ISBLANK(G48)),,ROUND(J53+$K$3,2))","v":0},0,0]
[null,null,"Hidden Valley 85636",null,"84/1.5 z",84,null,0,"Cs",0,{"$f":"IF(OR(ISBLANK(J54),G48=0,ISBLANK(G48)),,ROUND(J54+$K$3,2))","v":0},0,0]
[null,null,"House Blend 75103",null,"60/1.5z",60,null,{"$f":"ROUND($G$48*$F$48/F55,2)","v":0},"Cs",0,{"$f":"IF(OR(ISBLANK(J55),G48=0,ISBLANK(G48)),,ROUND(J55+$K$3,2))","v":0},0,0]
[15,"Dressings, Salad, Regular, Italian, 1.5 oz","Marzetti 81998 ",null,"60/1.5 z",60,10,{"$f":"ROUND(G56*F56/F56,2)","v":10},"Cs",0,{"$f":"IF(OR(ISBLANK(J56),G56=0,ISBLANK(G56)),,ROUND(J56+$K$3,2))","v":0},{"$f":"ROUND(H56*K56,2)","v":0},0]
[null,"Does not require refrigeration","Taste Pleasers 7150371998400",null,"100/1.5 z",100,null,{"$f":"ROUND($G$56*$F$56/F57,2)","v":6},"Cs",0,{"$f":"IF(OR(ISBLANK(J57),G56=0,ISBLANK(G56)),,ROUND(J57+$K$3,2))","v":0},{"$f":"ROUND(K57*H57,2)","v":0},0]
[null,null,"Kens KE0020B3 ",null,"60/1.5 z",60,null,10,"Cs",0,{"$f":"IF(OR(ISBLANK(J58),G56=0,ISBLANK(G56)),,ROUND(J58+$K$3,2))","v":0},0,0]
[null,null,"Hellmann's 26321",null,"102/1.5z",102,null,5.88,"Cs",0,{"$f":"IF(OR(ISBLANK(J59),G56=0,ISBLANK(G56)),,ROUND(J59+$K$3,2))","v":0},0,0]
[null,null,"Wishbone 26103",null,"60/1.5 z",60,null,10,"Cs",0,{"$f":"IF(OR(ISBLANK(J60),G56=0,ISBLANK(G56)),,ROUND(J60+$K$3,2))","v":0},0,0]
[null,null,"Heinz 78000830",null,"60/1.5 z",60,null,10,"Cs",0,{"$f":"IF(OR(ISBLANK(J61),G56=0,ISBLANK(G56)),,ROUND(J61+$K$3,2))","v":0},0,0]
[null,null,"Hidden Valley 85637",null,"84/1.5 z",84,null,{"v":7.14,"d":"7"},"Cs",0,{"$f":"IF(OR(ISBLANK(J62),G56=0,ISBLANK(G56)),,ROUND(J62+$K$3,2))","v":0},0,0]
[16,"Dressings, Salad, Regular, Honey Mustard, 1.5 oz, Individual ","Naturally Fresh 857168705061",null,"100/1.5z",100,40,{"$f":"ROUND(G63*F63/F63,2)","v":40},"Cs",0,{"$f":"IF(OR(ISBLANK(J63),G63=0,ISBLANK(G63)),,ROUND(J63+$K$3,2))","v":0},0,0]
[null,"Does not require refrigeration","Hellmans 4800126319",null,"102/1.5 z",102,null,{"$f":"ROUND($G$63*$F$63/F64,2)","v":{"v":39.22,"d":"39"}},"Cs",0,{"$f":"IF(OR(ISBLANK(J64),G63=0,ISBLANK(G63)),,ROUND(J64+$K$3,2))","v":0},0,0]
[null,null,"Kraft 210000115200",null,"60/1.5z",60,null,{"$f":"ROUND($G$63*$F$63/F65,2)","v":{"v":66.67,"d":"67"}},"Cs",0,{"$f":"IF(OR(ISBLANK(J65),G63=0,ISBLANK(G63)),,ROUND(J65+$K$3,2))","v":0},0,0]
[null,null,"Heinz 130005342900",null,"60/1.5z",60,null,{"$f":"ROUND($G$63*$F$63/F66,2)","v":{"v":66.67,"d":"67"}},"Cs",0,{"$f":"IF(OR(ISBLANK(J66),G63=0,ISBLANK(G63)),,ROUND(J66+$K$3,2))","v":0},0,0]
[17,"Dressings, Salad, Regular, Ranch. 1.5 oz, Individual","Marzetti 81992",null,"120/1.5z",120,0,{"$f":"ROUND(G67*F67/F67,2)","v":0},"Cs",0,{"$f":"IF(OR(ISBLANK(J67),G67=0,ISBLANK(G67)),,ROUND(J67+$K$3,2))","v":0},0,0]
[null,"Does not require refrigeration","Taste Pleasers 7160372298400",null,"100/1.5 z",100,null,{"$f":"ROUND($G$67*$F$67/F68,2)","v":0},"Cs",0,{"$f":"IF(OR(ISBLANK(J68),G67=0,ISBLANK(G67)),,ROUND(J68+$K$3,2))","v":0},0,0]
[null,null,"Kens KE0789B3",null,"60/1.5 z",60,null,0,"Cs",0,{"$f":"IF(OR(ISBLANK(J69),G67=0,ISBLANK(G67)),,ROUND(J69+$K$3,2))","v":0},0,0]
[null,null,"Hellmann's 26320",null,"102/1.5z",102,null,0,"Cs",0,{"$f":"IF(OR(ISBLANK(J70),G67=0,ISBLANK(G67)),,ROUND(J70+$K$3,2))","v":0},0,0]
[null,null,"Wishbone 26105",null,"60/1.5 z",60,null,0,"Cs",0,{"$f":"IF(OR(ISBLANK(J71),G67=0,ISBLANK(G67)),,ROUND(J71+$K$3,2))","v":0},0,{"$f":"ROUND(K71/F71,2)","v":0}]
[null,null,"Heinz 130007505000",null,"60/1.5 z",60,null,0,"Cs",0,{"$f":"IF(OR(ISBLANK(J72),G67=0,ISBLANK(G67)),,ROUND(J72+$K$3,2))","v":0},0,0]
[null,null,"Hidden Valley 85625",null,"84/1.5 z",84,null,0,"Cs",0,{"$f":"IF(OR(ISBLANK(J73),G67=0,ISBLANK(G67)),,ROUND(J73+$K$3,2))","v":0},0,0]
[null,null,"Naturally Fresh 134161DO194",null,"100/1.5z",100,null,0,"Cs",0,{"$f":"IF(OR(ISBLANK(J74),G67=0,ISBLANK(G67)),,ROUND(J74+$K$3,2))","v":0},0,0]
[null,null,"Salad Bistro (Ventura) 15170 ",null,"102/1.5z",100,null,0,"Cs",0,{"$f":"IF(OR(ISBLANK(J75),G67=0,ISBLANK(G67)),,ROUND(J75+$K$3,2))","v":0},0,0]
[null,null,"CF Sauers 06870",null,"60/1.5z",60,null,{"$f":"ROUND($G$67*$F$67/F76,2)","v":0},"Cs",0,{"$f":"IF(OR(ISBLANK(J76),G67=0,ISBLANK(G67)),,ROUND(J76+$K$3,2))","v":0},0,0]
[null,null,"Diamond Crystal  75100",null,"60/1.5z",60,null,{"$f":"ROUND($G$67*$F$67/F77,2)","v":0},"Cs",0,{"$f":"IF(OR(ISBLANK(J77),G67=0,ISBLANK(G67)),,ROUND(J77+$K$3,2))","v":0},0,0]
[18,"Dressings, Salad, Regular, Thousand Island, 1.5 oz, Individual","Marzetti 81987 ",null,"60/1.5 z",60,0,{"$f":"ROUND(G78*F78/F78,2)","v":0},"Cs",0,{"$f":"IF(OR(ISBLANK(J78),G78=0,ISBLANK(G78)),,ROUND(J78+$K$3,2))","v":0},0,0]
[null,"Does not require refrigeration","Taste Pleasers 7160372598400",null,"100/1.5 z",100,null,{"$f":"ROUND($G$78*$F$78/F79,2)","v":0},"Cs",0,{"$f":"IF(OR(ISBLANK(J79),G78=0,ISBLANK(G78)),,ROUND(J79+$K$3,2))","v":0},0,0]
[null,null,"Kens KE0816B3",null,"60/1.5 z",60,null,0,"Cs",0,{"$f":"IF(OR(ISBLANK(J80),G78=0,ISBLANK(G78)),,ROUND(J80+$K$3,2))","v":0},0,0]
[null,null,"Hellmann's 26322",null,"102/1.5z",102,null,0,"Cs",0,{"$f":"IF(OR(ISBLANK(J81),G78=0,ISBLANK(G78)),,ROUND(J81+$K$3,2))","v":0},0,0]
[null,null,"Wishbone 26110",null,"60/1.5z ",60,null,0,"Cs",0,{"$f":"IF(OR(ISBLANK(J82),G78=0,ISBLANK(G78)),,ROUND(J82+$K$3,2))","v":0},0,0]
[null,null,"Heinz 130007502000",null,"60/1.5 z",60,null,0,"Cs",0,{"$f":"IF(OR(ISBLANK(J83),G78=0,ISBLANK(G78)),,ROUND(J83+$K$3,2))","v":0},0,0]
[null,null,"Hidden Valley 85638",null,"84/1.5 z",84,null,0,"Cs",0,{"$f":"IF(OR(ISBLANK(J84),G78=0,ISBLANK(G78)),,ROUND(J84+$K$3,2))","v":0},0,0]
[null,null,"Diamond Crystal 75109 (Discontinued Per Broker)",null,"60/1.5z",60,null,0,"Cs",0,{"$f":"IF(OR(ISBLANK(J85),G78=0,ISBLANK(G78)),,ROUND(J85+$K$3,2))","v":0},0,0]
[19,"Jelly, Assorted, Individual","PPI 7160376185000",null,"200/.5 z",200,13,{"$f":"ROUND(G86*F86/F86,2)","v":13},"Cs",0,{"$f":"IF(OR(ISBLANK(J86),G86=0,ISBLANK(G86)),,ROUND(J86+$K$3,2))","v":0},0,0]
[null," Grape, Apple, Strawberry 1/2 oz","Smuckers 5150001696",null,"200/.5 z",200,null,{"$f":"ROUND($G$86*$F$86/F87,2)","v":13},"Cs",0,{"$f":"IF(OR(ISBLANK(J87),G86=0,ISBLANK(G86)),,ROUND(J87+$K$3,2))","v":0},0,0]
[null,null,"(15-16)  CF Sauers 06371",null,"200/.5z",200,null,{"$f":"ROUND($G$86*$F$86/F88,2)","v":13},"Cs",0,{"$f":"IF(OR(ISBLANK(J88),G86=0,ISBLANK(G86)),,ROUND(J88+$K$3,2))","v":0},0,0]
[20,"Jelly, Grape, Individual","PPI 7160374685000",null,"200/.5 z",200,5,{"$f":"ROUND(G89*F89/F89,2)","v":5},"Cs",0,{"$f":"IF(OR(ISBLANK(J89),G89=0,ISBLANK(G89)),,ROUND(J89+$K$3,2))","v":0},{"$f":"ROUND(H89*K89,2)","v":0},0]
[null,"1/2 oz","Smuckers 5150000764",null,"200/.5 z",200,null,{"$f":"ROUND($G$89*$F$89/F90,2)","v":5},"Cs",0,{"$f":"IF(OR(ISBLANK(J90),G89=0,ISBLANK(G89)),,ROUND(J90+$K$3,2))","v":0},{"$f":"ROUND(K90*H90,2)","v":0},0]
[null,null,"(15-16)  CF Sauers 06860",null,"200/.5z",200,null,{"$f":"ROUND($G$89*$F$89/F91,2)","v":5},"Cs",0,{"$f":"IF(OR(ISBLANK(J91),G89=0,ISBLANK(G89)),,ROUND(J91+$K$3,2))","v":0},{"$f":"ROUND(K91*H91,2)","v":0},0]
[21,"Mayonnaise, Fat Free, 12 gm, Individual","Heinz 130005433000",null,"200/12 gm",200,10,{"$f":"ROUND(G92*F92/F92,2)","v":10},"Cs",0,{"$f":"IF(OR(ISBLANK(J92),G92=0,ISBLANK(G92)),,ROUND(J92+$K$3,2))","v":0},{"$f":"ROUND(K92*H92,2)","v":0},0]
[null,null,"Kraft 210006499200",null,"200/12 gm",200,0,{"$f":"ROUND($G$92*$F$92/F93,2)","v":10},"Cs",0,{"$f":"IF(OR(ISBLANK(J93),G92=0,ISBLANK(G92)),,ROUND(J93+$K$3,2))","v":0},{"$f":"ROUND(K93*H93,2)","v":0},0]
[22,"Mayonnaise, Regular, 12 gm, Individual","Heinz 130005317000",null,"200/12 gm",200,10,{"$f":"ROUND(G94*F94/F94,2)","v":10},"Cs",0,{"$f":"IF(OR(ISBLANK(J94),G94=0,ISBLANK(G94)),,ROUND(J94+$K$3,2))","v":0},{"$f":"ROUND(H94*K94,2)","v":0},0]
[null,null,"Hellmann's 26537",null,"200/12gm",204,null,{"$f":"ROUND($G$94*$F$94/F95,2)","v":{"v":9.8,"d":"10"}},"Cs",0,{"$f":"IF(OR(ISBLANK(J95),G94=0,ISBLANK(G94)),,ROUND(J95+$K$3,2))","v":0},{"$f":"ROUND(K95*H95,2)","v":0},0]
[null,null,"Kraft 210006648500",null,"200/12gm",200,null,{"$f":"ROUND($G$94*$F$94/F96,2)","v":10},"Cs",0,{"$f":"IF(OR(ISBLANK(J96),G94=0,ISBLANK(G94)),,ROUND(J96+$K$3,2))","v":0},{"$f":"ROUND(K96*H96,2)","v":0},0]
[null,null,"CF Sauers 06399",null,"200/12gm",200,null,{"$f":"ROUND($G$94*$F$94/F97,2)","v":10},"Cs",0,{"$f":"IF(OR(ISBLANK(J97),G94=0,ISBLANK(G94)),,ROUND(J97+$K$3,2))","v":0},{"$f":"ROUND(K97*H97,2)","v":0},0]
[23,"Mayonnaise, Light,  12gram"," Duke's 06346",null,"200/12gm",200,105,{"$f":"ROUND(G98*F98/F98,2)","v":105},"Cs",0,{"$f":"IF(OR(ISBLANK(J98),G98=0,ISBLANK(G98)),,ROUND(J98+$K$3,2))","v":0},{"$f":"ROUND(H98*K98,2)","v":0},0]
[null,"0 trans fat"," Kraft 210006653300",null,"200/12gm",200,null,{"$f":"ROUND(G98*F98/F99,2)","v":105},"Cs",0,{"$f":"IF(OR(ISBLANK(J99),G99=0,ISBLANK(G99)),,ROUND(J99+$K$3,2))","v":0},{"$f":"ROUND(H99*K99,2)","v":0},{"$f":"ROUND(K99/F99,2)","v":0}]
[24,"Mustard, Individual ","Heinz 130005305000",null,"500/.5 z",500,80,{"$f":"ROUND(G100*F100/F100,2)","v":80},"Cs",0,{"$f":"IF(OR(ISBLANK(J100),G100=0,ISBLANK(G100)),,ROUND(J100+$K$3,2))","v":0},{"$f":"ROUND(H100*K100,2)","v":0},{"$f":"ROUND(K100/F100,2)","v":0}]
[null,"4.5 minimum grams per packet.  Grade A","PPI 7160370539000",null,"500/5.5 z",500,null,{"$f":"ROUND($G$100*$F$100/F101,2)","v":80},"Cs",0,{"$f":"IF(OR(ISBLANK(J101),G100=0,ISBLANK(G100)),,ROUND(J101+$K$3,2))","v":0},{"$f":"ROUND(K101*H101,2)","v":0},{"$f":"ROUND(K101/F101,2)","v":0}]
[null,null,"CF Sauers 06501",null,"500/5.5 z",500,null,{"$f":"ROUND($G$100*$F$100/F102,2)","v":80},"Cs",0,{"$f":"IF(OR(ISBLANK(J102),G100=0,ISBLANK(G100)),,ROUND(J102+$K$3,2))","v":0},{"$f":"ROUND(K102*H102,2)","v":0},{"$f":"ROUND(K102/F102,2)","v":0}]
[25,"Honey Mustard, Individual, 12gr","Heinz 130005312000",null,"200/12 gm",200,55,{"$f":"ROUND(G103*F103/F103,2)","v":55},"Cs",0,{"$f":"IF(OR(ISBLANK(J103),G103=0,ISBLANK(G103)),,ROUND(J103+$K$3,2))","v":0},{"$f":"ROUND(H103*K103,2)","v":0},{"$f":"ROUND(K103/F103,2)","v":0}]
[null,"Sweet, mild mustard sauce with honey"]
[26,"Pepper, Black, Individual ","Distributor Choice",null,"6/1000 z",6000,2,{"$f":"ROUND(G105*F105/F105,2)","v":2},"Cs"]
[null,"Flat Pack","Fillable txt box ",{"$nulls":3},0,{"$f":"ROUND(G105*F105/F106,2)","v":{"$error":"#DIV/0!"}},"Cs",0,{"$f":"IF(OR(ISBLANK(J106),G105=0,ISBLANK(G105)),,ROUND(J106+$K$3,2))","v":0},{"$f":"ROUND(H106*K106,2)","v":{"$error":"#DIV/0!"}},{"$f":"ROUND(K106/F106,2)","v":{"$error":"#DIV/0!"}}]
[27,"Salt Packet, Individual ","Distributor Choice",null,"6/1000 z",6000,2,{"$f":"ROUND(G107*F107/F107,2)","v":2},"Cs"]
[null,"Flat Pack","Fillable txt box ",{"$nulls":4},{"$f":"ROUND(G107*F107/F108,2)","v":{"$error":"#DIV/0!"}},"Cs",0,{"$f":"IF(OR(ISBLANK(J108),G107=0,ISBLANK(G107)),,ROUND(J108+$K$3,2))","v":0},{"$f":"ROUND(H108*K108,2)","v":{"$error":"#DIV/0!"}},{"$f":"ROUND(K108/F108,2)","v":{"$error":"#DIV/0!"}}]
[28,"Sauce, Barbecue, Individual portion","PPI 7160372781000",null,"200/12 gm",200,0,{"$f":"ROUND(G109*F109/F109,2)","v":0},"Cs",0,{"$f":"IF(OR(ISBLANK(J109),G109=0,ISBLANK(G109)),,ROUND(J109+$K$3,2))","v":0},{"$f":"ROUND(H109*K109,2)","v":0},{"$f":"ROUND(K109/F109,2)","v":0}]
[null,"12 grams per packet","CF Sauers 06858",null,"200/12 gm",200,null,{"$f":"ROUND($G$109*$F$109/F110,2)","v":0},"Cs",0,{"$f":"IF(OR(ISBLANK(J110),G109=0,ISBLANK(G109)),,ROUND(J110+$K$3,2))","v":0},{"$f":"ROUND(K110*H110,2)","v":0},0]
[29,"Sauce, Sweet and Sour , Individual portion ","Heinz 130007138000",null,"100/1z",100,210,{"$f":"ROUND(G111*F111/F111,2)","v":210},"Cs",0,{"$f":"IF(OR(ISBLANK(J111),G111=0,ISBLANK(G111)),,ROUND(J111+$K$3,2))","v":0},{"$f":"ROUND(H111*K111,2)","v":0},0]
[null,"Cup pack.  1 oz per packet","Naturally Fresh 85111605061",null,"100/1z",100,null,{"$f":"ROUND($G$111*$F$111/F112,2)","v":210},"Cs",0,{"$f":"IF(OR(ISBLANK(J112),G111=0,ISBLANK(G111)),,ROUND(J112+$K$3,2))","v":0},{"$f":"ROUND(K112*H112,2)","v":0},0]
[null,null,"CF Sauers 06385",null,"100/1z",100,null,{"$f":"ROUND($G$111*$F$111/F113,2)","v":210},"Cs",0,{"$f":"IF(OR(ISBLANK(J113),G111=0,ISBLANK(G111)),,ROUND(J113+$K$3,2))","v":0},0,0]
[]
[30,"Sauce, Taco, Individual portion ","Rosarita 10653",null,"200/9 gm",200,0,{"$f":"ROUND(G115*F115/F115,2)","v":0},"Cs",0,{"$f":"IF(OR(ISBLANK(J115),G115=0,ISBLANK(G115)),,ROUND(J115+$K$3,2))","v":0},0,0]
[null,"9 grams per packet","Heinz 130005324000",null,"200/12 gm",200,null,{"$f":"ROUND($G$115*$F$115/F116,2)","v":0},"Cs",0,{"$f":"IF(OR(ISBLANK(J116),G115=0,ISBLANK(G115)),,ROUND(J116+$K$3,2))","v":0},0,0]
[null,null,"CF Sauers 06508",null,"200/9 gm",200,null,{"$f":"ROUND($G$115*$F$115/F117,2)","v":0},"Cs",0,{"$f":"IF(OR(ISBLANK(J117),G115=0,ISBLANK(G115)),,ROUND(J117+$K$3,2))","v":0},0,0]
[]
[31,"Sauce, Tartar, Individual portion ","PPI 7160374381000",null,"200/12 gm",200,40,{"$f":"ROUND(G119*F119/F119,2)","v":40},"Cs",0,{"$f":"IF(OR(ISBLANK(J119),G119=0,ISBLANK(G119)),,ROUND(J119+$K$3,2))","v":0},{"$f":"ROUND(H119*K119,2)","v":0},{"$f":"ROUND(K119/F119,2)","v":0}]
[null,"12 grams per packet","CF Sauers 06509",null,"200/12 gm",200,null,{"$f":"ROUND($G$119*$F$119/F120,2)","v":40},"Cs",0,{"$f":"IF(OR(ISBLANK(J120),G119=0,ISBLANK(G119)),,ROUND(J120+$K$3,2))","v":0},{"$f":"ROUND(K120*H120,2)","v":0},0]
[{"$nulls":4},"200/12gm",200,null,{"$f":"ROUND($G$119*$F$119/F121,2)","v":40},"Cs",0,{"$f":"IF(OR(ISBLANK(J121),G119=0,ISBLANK(G119)),,ROUND(J121+$K$3,2))","v":0},0,0]
[32,"Syrup, Maple Flavored, Individual ","Heinz 130005335000",null,"100/1.5 z",100,10,{"$f":"ROUND(G122*F122/F122,2)","v":10},"Cs",0,{"$f":"IF(OR(ISBLANK(J122),G122=0,ISBLANK(G122)),,ROUND(J122+$K$3,2))","v":0},0,0]
[null,"Individual 1.5 oz per cup.","Diamond Crystal 75901",null,"100/1.5 z",100,null,{"$f":"ROUND(G122*F122/F123,2)","v":10},"Cs",0,{"$f":"IF(OR(ISBLANK(J123),G122=0,ISBLANK(G122)),,ROUND(J123+$K$3,2))","v":0},0,0]
[null,null,"Naturally Fresh 85219815061",null,"100/1.5 z",100,null,{"$f":"ROUND($G$122*$F$122/F124,2)","v":10},"Cs",0,{"$f":"IF(OR(ISBLANK(J124),G122=0,ISBLANK(G122)),,ROUND(J124+$K$3,2))","v":0},0,0]
[null,null,"CF Sauers 06383",null,"100/1.5 z",100,null,{"$f":"ROUND($G$122*$F$122/F125,2)","v":10},"Cs",0,{"$f":"IF(OR(ISBLANK(J125),G122=0,ISBLANK(G122)),,ROUND(J125+$K$3,2))","v":0},0,0]
[{"$nulls":4},"100/1.5 z",100,null,{"$f":"ROUND($G$122*$F$122/F126,2)","v":10},"Cs",0,{"$f":"IF(OR(ISBLANK(J126),G122=0,ISBLANK(G122)),,ROUND(J126+$K$3,2))","v":0},0,0]
[33,"Syrup, Sugar Free, Maple Flavored, Individual, 100/1 oz  ","Distributor Choice",null,"100/1z",100,220,{"$f":"ROUND(G127*F127/F127,2)","v":220},"Cs"," "," "," "," "]
[null,null,"Fillable txt box ",{"$nulls":4},{"$f":"ROUND(G127*F127/F128,2)","v":{"$error":"#DIV/0!"}},"Cs",0,{"$f":"IF(OR(ISBLANK(J128),G127=0,ISBLANK(G127)),,ROUND(J128+$K$3,2))","v":0},{"$f":"ROUND(H128*K128,2)","v":{"$error":"#DIV/0!"}},{"$f":"ROUND(K128/F128,2)","v":{"$error":"#DIV/0!"}}]
[]
[{"$nulls":8},"Page Total",null,null,{"$f":"SUMIF(L7:L129,\">0\")","v":0}]

{"sheet":"Smart Snacks","index":394,"n_rows":141,"n_cols":13,"rows_kept":141,"merged":[[0,4,0,12],[1,4,1,12],[2,5,2,9]]}
[null,{"$f":"'Recap Sheet'!A2","v":"School Food Authority:"},null,null,{"$f":"'Recap Sheet'!A3","v":"Offeror Name:"}]
[null,{"$f":"'Recap Sheet'!B2","v":"WILLIAMSBURG COUNTY SCHOOLS"},"Return to Recap Sheet",null,{"$f":"'Recap Sheet'!B3","v":0}]
["Item","Description","Approved Brand Name / Manuf ID # ",null,null,"Firm Fixed Fee",{"$nulls":4},{"$f":"'Recap Sheet'!B4","v":{"v":0,"d":"$0.00"}}]
["#",null,null,"Distributor","Vendor","Svgs","Est.","Bid ","Bid","Unit","Unit Price","Total ","Cost per"]
[{"$nulls":3},"Code","Pack","per unit","Bid Qty","Qty","Unit","Price","plus Fee","Price","Unit"]
[null,"Smart Snack Items"]
[1,"Cereal, Single Serve Pouch,                                           Meets 1.0 OEG","Kellogg's ",null,"96/1.0z",96,0,{"$f":"ROUND(G7*F7/F7,2)","v":0},null,null,{"$f":"IF(OR(ISBLANK(J7),G7=0,ISBLANK(G7)),,ROUND(J7+$K$3,2))","v":0},{"$f":"ROUND(H7*K7,2)","v":0},{"$f":"ROUND(K7/F7,2)","v":0}]
[null,"No high fructose corn syrup","        38000-11465 Frosted Flakes Multi-Grain RS"]
[null,null,"        38000-11467  Fruit Loops RS"]
[null,"Contains:Wheat, may contain Milk and soy","        38000-11469  Apple Jacks RS"]
[null,"Possible Allergens:  Wheat, Milk, Soy"," "]
[2,"Chips Snacks, Single Serve. IW","Frito Lay",null,"104/.875z",104,60,{"$f":"ROUND(G12*F12/F12,2)","v":60},null,null,{"$f":"IF(OR(ISBLANK(J12),G12=0,ISBLANK(G12)),,ROUND(J12+$K$3,2))","v":0},{"$f":"ROUND(H12*K12,2)","v":0},{"$f":"ROUND(K12/F12,2)","v":0}]
[null,"Product meets WGR.  ","62399 Baked Cheetos  1.25OEG",null,"104/.875z",104]
[null,null," 36098 Cheetos Fantastix Chili Cheese  1.25 OEG",null,"104/1z",104]
[null,"Smart Snacks Compliant "," 36308 Kid's Mix  1.0 OEG",null,"104/.875z",104]
[null,null," 43578 Fantastix Flamin Hot  1.25 OEG",null,"104/1z",104]
[3,"Chips/Snacks, Single Serve, IW,                                     WGR. 1.25 OEG","Frito-Lay",null,"72/.875z",72,0,{"$f":"ROUND(G17*F17/F17,2)","v":0},"Cs",null,{"$f":"IF(OR(ISBLANK(J17),G17=0,ISBLANK(G17)),,ROUND(J17+$K$3,2))","v":0},{"$f":"ROUND(H17*K17,2)","v":0},{"$f":"ROUND(K17/F17,2)","v":0}]
[null,"0 Trans fat, Gluten free, Reduced Fat","    42537 Baked Tostitos Scoops"]
[null,"Smart Snacks Compliant"]
[4,"Chips/Snacks , Single Serve, IW                                    WGR. 1.25 OEG","Frito Lay",null,"104/.875z",104,0,{"$f":"ROUND(G20*F20/F20,2)","v":0},"Cs",null,{"$f":"IF(OR(ISBLANK(J20),G20=0,ISBLANK(G20)),,ROUND(J20+$K$3,2))","v":0},{"$f":"ROUND(H20*K20,2)","v":0},{"$f":"ROUND(K20/F20,2)","v":0}]
[null,"Gluten Free, Reduced Fat, Low Sodium","    18792  RF Tostitos Crispy Rounds"]
[null,"Smart Snacks Compliant"]
[5,"Chips/Snacks, Single Serve, IW, Heartzels,                      WGR  1 OEG","Frito Lay",null,"104/.7z",104,0,{"$f":"ROUND(G23*F23/F23,2)","v":0},"Cs",null,{"$f":"IF(OR(ISBLANK(J23),G23=0,ISBLANK(G23)),,ROUND(J23+$K$3,2))","v":0},{"$f":"ROUND(H23*K23,2)","v":0},{"$f":"ROUND(K23/F23,2)","v":0}]
[null,"Smart Snacks Compliant ","     15940  Heartzel "]
[6,"Chips/Snacks, Single Serve, IW, Reduced Fat               WGR   1.5 OEG"," Frito Lay Smart Spot Update 1/2013",null,"72/1z",72,318,{"$f":"ROUND(G25*F25/F25,2)","v":318},"Cs",null,{"$f":"IF(OR(ISBLANK(J25),G25=0,ISBLANK(G25)),,ROUND(J25+$K$3,2))","v":0},{"$f":"ROUND(H25*K25,2)","v":0},{"$f":"ROUND(K25/F25,2)","v":0}]
[null,"     0 Trans fat"," 31748 Doritos Nacho Cheesier, Red Fat"]
[null,"Smart Snacks Compliant "," 36096 Doritos Cooler Ranch, Red Fat"]
[null,null,"49093 Doritos Spicy/Swt Nacho, Red Fat "]
[7,"Chips/Snacks, Large Single Serve, Baked, IW  ","Baked Lays ",null,"64/1.125z",64,0,{"$f":"ROUND(G29*F29/F29,2)","v":0},"Cs",null,{"$f":"IF(OR(ISBLANK(J29),G29=0,ISBLANK(G29)),,ROUND(J29+$K$3,2))","v":0},{"$f":"ROUND(H29*K29,2)","v":0},{"$f":"ROUND(K29/F29,2)","v":0}]
[null,null,"     44396  Baked Lays Regular Flavor (GF)"]
[null,"0 trans fat ","     44395  Baked Lays BBQ"]
[null,"Smart Snacks Compliant","     44398 Baked Lays Sour Cream & Onion"]
[8,"Chips/Snacks, Single Serve, Baked, IW","Baked Lays",null,"60/.875z",60,0,{"$f":"ROUND(G33*F33/F33,2)","v":0},"Cs",null,{"$f":"IF(OR(ISBLANK(J33),G33=0,ISBLANK(G33)),,ROUND(J33+$K$3,2))","v":0},{"$f":"ROUND(H33*K33,2)","v":0},{"$f":"ROUND(K33/F33,2)","v":0}]
[null,"0 trans fat","     33625 Baked Lays Regular Flavor (GF)"]
[null,"Smart Snacks Compliant ","     32078 Baked BBQ"]
[null,null,"     33627 Baked Sour Cream and Onion"]
[9,"Chips/Snacks, Tortilla Chips, Single Serve, IW, White Nacho WGR","(18-19) Doritos 000-28400-67609-0",null,"72/1.oz",72,0,{"$f":"ROUND(G37*F37/F37,2)","v":0},"Cs",null,{"$f":"IF(OR(ISBLANK(J37),G37=0,ISBLANK(G37)),,ROUND(J37+$K$3,2))","v":0},{"$f":"ROUND(H37*K37,2)","v":0},{"$f":"ROUND(K37/F37,2)","v":0}]
[null,"Contains 100-150 calories and no more than  5 gm of fat and 1 gm sat fat per serving"," "]
[null,"Smart Snack Compliant"]
[null,"Possible Allergens:  Milk"]
[10,"Chips/Snacks, Single Serve, IW Kettle  RF  Salt and Vinegar","(18-19) Lay's 000-28440-25113-6",null,"64/1.375z",64,0,{"$f":"ROUND(G41*F41/F41,2)","v":0},"Cs",null,{"$f":"IF(OR(ISBLANK(J41),G41=0,ISBLANK(G41)),,ROUND(J41+$K$3,2))","v":0},{"$f":"ROUND(H41*K41,2)","v":0},{"$f":"ROUND(K41/F41,2)","v":0}]
[null,"Contains 2 gm  or less of sat fat and 200 mg sodium per serving"," "]
[null,"Smart Snack Compliant"]
[null,"Possible Allergens:  None Listed"]
[11,"Cookie, Whole Grain, IW                                                    Meets 1.0 OEG","MJM Marketing",null,"150/1oz",150,0,{"$f":"ROUND(G45*F45/F45,2)","v":0},"Cs",null,{"$f":"IF(OR(ISBLANK(J45),G45=0,ISBLANK(G45)),,ROUND(J45+$K$3,2))","v":0},{"$f":"ROUND(H45*K45,2)","v":0},{"$f":"ROUND(K45/F45,2)","v":0}]
[null,"No Nuts/Peanuts","   514150 Sports Bites Vanilla"]
[null,null,"   524150  Dino Bites Vanilla"]
[null,null,"   544150  Sound Bites Vanilla"]
[null,null,"   542150 Sound Bites Chocolate Raspberry"]
[null,"Contains: Wheat","   551150 Tropical Treats Orange"]
[null,null,"   570150 Sunrice Bites Maple"]
[12,"Cookie, IW , Frozen, Whole Grain                                      Meets 1.0 OEG","Fat Cat",null,"140/1.3z",140,0,{"$f":"ROUND(G52*F52/F52,2)","v":0},"Cs",null,{"$f":"IF(OR(ISBLANK(J52),G52=0,ISBLANK(G52)),,ROUND(J52+$K$3,2))","v":0},{"$f":"ROUND(H52*K52,2)","v":0},{"$f":"ROUND(K52/F52,2)","v":0}]
[null,"Thaw to Serve","          WGCELC140-1SW   Celebration"]
[]
[13,"Crackers, WG  Cheese Cracker                              WGR  1.0 OEG","Sunshine  Cheez-it  Original 24100-79263",null,"175/.75z",175,0,{"$f":"ROUND($G$55*$F$55/F55,2)","v":0},"Cs",null,{"$f":"IF(OR(ISBLANK(J55),G55=0,ISBLANK(G55)),,ROUND(J55+$K$3,2))","v":0},{"$f":"ROUND(H55*K55,2)","v":0},{"$f":"ROUND(K55/F55,2)","v":0}]
[null,"Single Serve.   One serving provides 1oz equivalent grain.","           Atomic Cheddar  24100-10238   ",null,"175/.75z"]
[null,"Contains: Milk Wheat and Soy"," ",null," "]
[14,"Crackers, Graham,Shaped                                                  WGR"," MJM Marketing ",null,"300/1oz",300,0,{"$f":"ROUND(G58*F58/F58,2)","v":0},"Cs",null,{"$f":"IF(OR(ISBLANK(J58),G58=0,ISBLANK(G58)),,ROUND(J58+$K$3,2))","v":0},{"$f":"ROUND(H58*K58,2)","v":0},{"$f":"ROUND(K58/F58,2)","v":0}]
[null,"0 trans fat, HUSSC Gold Approved.  No Peanuts or Tree nuts","     402001Chocolate"]
[null,"Assorted Flavors.  Ready-to-eat ,  Individually Wrapped","     403001 Apple Cinnamon"]
[null,null,"     404001 Vanilla"]
[null,null,"     405001  Strawberry Waffle"]
[null,null,"     408001  Maple Waffle"]
[null,null,"     423001  Apple Cinnamon Waffle"]
[null,null,"407001 Strawberry  Dinosaur and 409001 Lemon"]
[null,"Possible Allergens:  Wheat","Dinosaur are  discontinued for 2018-2019 by manuf."]
[15,"Cracker, Whole Grain Savory Cracker","MJM Marketing",null,"155/22gr",155,0,{"$f":"ROUND(G67*F67/F67,2)","v":0},"Cs",null,{"$f":"IF(OR(ISBLANK(J67),G67=0,ISBLANK(G67)),,ROUND(J67+$K$3,2))","v":0},{"$f":"ROUND(H67*K67,2)","v":0},{"$f":"ROUND(K67/F67,2)","v":0}]
[null,"No Nuts/Peanuts","   803155  Herb"]
[null,null,"   802155 Tomato Basil"]
[null," ","   804155  Pizza"]
[null,"Possible Allergens:  Wheat","   881155 Smoked Chili"]
[16,"Crackers, Graham, 3 Count,                                         Meets 1.0 OEG","MJM Marketing",null,"150/3ct",150,0,{"$f":"ROUND(G72*F72/F72,2)","v":0},"Cs",null,{"$f":"IF(OR(ISBLANK(J72),G72=0,ISBLANK(G72)),,ROUND(J72+$K$3,2))","v":0},{"$f":"ROUND(H72*K72,2)","v":0},{"$f":"ROUND(K72/F72,2)","v":0}]
[null,"Single Serve, WG ","     300151  Honey Graham"]
[null,"No Nuts/ Peanuts","     308151  Cinnamon Graham"]
[null,"Possible Allergens:  Wheat"]
[17,"Crackers, Whole Grain, Savory","Crave-n-Rave Spikers",null,"300/.9z",300,0,{"$f":"ROUND(G76*F76/F76,2)","v":0},"Cs",null,{"$f":"IF(OR(ISBLANK(J76),G76=0,ISBLANK(G76)),,ROUND(J76+$K$3,2))","v":0},{"$f":"ROUND(H76*K76,2)","v":0},{"$f":"ROUND(K76/F76,2)","v":0}]
[null,"Nut Free Facility","     51210 Ranch"]
[null,"Possible Allergens:  Wheat","     51110 Nacho Cheese"]
[18,"Cupcake, IW, 1.5oz                                         Meets .5   OEG","Super Bakery",null,"72/1.5",72,0,{"$f":"ROUND(G79*F79/F79,2)","v":0},"Cs",null,{"$f":"IF(OR(ISBLANK(J79),G79=0,ISBLANK(G79)),,ROUND(J79+$K$3,2))","v":0},{"$f":"ROUND(H79*K79,2)","v":0},{"$f":"ROUND(K79/F79,2)","v":0}]
[null,"Frozen, Whole Grain rich Muffin wrapped in printed film.","    9478 Happy Birthday Chocolate"]
[null,"Thaw and Serve","    9479  Happy Birthday Vanilla"]
[null,"Possible  Allergens:  Wheat, Eggs, Milk, Soy","    9488  Let's Celebrate Choclate"]
[null,"Peanuts present in facility","    9489  Let's Celebrate  Vanilla"]
[19,"Roll, Sweet Roll, Whole Grain, IW                       Meets 1.0 OEG","Hadley Farms",null,"84/1.5z",84,0,{"$f":"ROUND(G84*F84/F84,2)","v":0},"Cs",null,{"$f":"IF(OR(ISBLANK(J84),G84=0,ISBLANK(G84)),,ROUND(J84+$K$3,2))","v":0},{"$f":"ROUND(H84*K84,2)","v":0},{"$f":"ROUND(K84/F84,2)","v":0}]
[null,"Frozen.Individually Wrapped","    1050IW  Guava Strawberry Flip-No Icing"]
[null,"Contains: Eggs, Milk, Soy, Wheat","    1052IW  Apple Flip-No Icing"]
[null,null,"    1053IW  Mango Flip - No Icing"]
[20,"Roll, Sweet Roll, Whole Grain, IW                   Meets 1.0 OEG"," Hadley Farms",null,"60/1.5z",60,0,{"$f":"ROUND(G88*F88/F88,2)","v":0},"Cs",null,{"$f":"IF(OR(ISBLANK(J88),G88=0,ISBLANK(G88)),,ROUND(J88+$K$3,2))","v":0},{"$f":"ROUND(H88*K88,2)","v":0},{"$f":"ROUND(K88/F88,2)","v":0}]
[null,"Frozen. Ind. Wrapped","     0670 IW  WG Cinnamon Roll Un-Iced"]
[null,null,"     1670IW WG Cinnamon Roll"]
[null,"Contains: Milk, Soy, Wheat","     0370IW WG Sweet Potato Swirl Un-Iced"]
[null,null,"     1370IW WG Sweet Potato Swirl "]
[21,"Loaf, Mini, 100% Whole Wheat                           Meets 1.0 OEG","Super Bakery",null,"120/2.oz",120,0,{"$f":"ROUND(G93*F93/F93,2)","v":0},"Cs",null,{"$f":"IF(OR(ISBLANK(J93),G93=0,ISBLANK(G93)),,ROUND(J93+$K$3,2))","v":0},{"$f":"ROUND(H93*K93,2)","v":0},{"$f":"ROUND(K93/F93,2)","v":0}]
[null,"Frozen, IW, Thaw and Serve, 2oz mini loaf.","      7030 Very Berry"]
[null,"Peanut free   ","      7031  Dreamy Orange"]
[null,null,"      7058 Chocolate Chip"]
[null,null,"      7059 Lemon Ice"]
[null,"Possible Allergens:  Wheat, Eggs, Milk","      7060 Red Hot Cinnamon (Discont. By Manuf. 03/06/18)"]
[22,"Marshmallow Rice Treat , IW                       Meets 1.0 OEG","Kellogg's",null,"80/1.4z",80,0,{"$f":"ROUND(G99*F99/F99,2)","v":0},"Cs",null,{"$f":"IF(OR(ISBLANK(J99),G99=0,ISBLANK(G99)),,ROUND(J99+$K$3,2))","v":0},{"$f":"ROUND(H99*K99,2)","v":0},{"$f":"ROUND(K99/F99,2)","v":0}]
[null,"Made from Whole Grain Rice Cereal","   38000-11052  Rice Crispie Treat Gluten Free"]
[null,"Contains:  Milk and Soy","   38000-14567  Rice Crispie Treat-Chocolate Chip",{"$nulls":3},0]
[23,"Marshmallow Rice Treat, IW                        Meets .5 OEG","Super Bakery",null,"100/.8z",100,0,{"$f":"ROUND(G102*F102/F102,2)","v":0},"Cs",null,{"$f":"IF(OR(ISBLANK(J102),G102=0,ISBLANK(G102)),,ROUND(J102+$K$3,2))","v":0},{"$f":"ROUND(H102*K102,2)","v":0},{"$f":"ROUND(K102/F102,2)","v":0}]
[null,"Made from Whole Grain Brown Rice, No HFCS","     9430   Goodyman Brown Rice Crispy",{"$nulls":3},0]
[null,"Contains: Milk, Soy"]
[24,"Marshmallow Rice Treat, IW                        Meets .25 OEG","(18-19) Kellogg's 380001-4540 ",null,"600/.42z",600,0,{"$f":"ROUND(G105*F105/F105,2)","v":0},"Cs",null,{"$f":"IF(OR(ISBLANK(J105),G105=0,ISBLANK(G105)),,ROUND(J105+$K$3,2))","v":0},{"$f":"ROUND(H105*K105,2)","v":0},{"$f":"ROUND(K105/F105,2)","v":0}]
[null,"Made from Whole Grain Brown Rice Cereal, ","  ",{"$nulls":3},0]
[null,"Contains: Milk, Soy"]
[25,"Muffin, Whole Grain, 2oz                                Meets 1.0 OEG"," Sara Lee",null,"96/2oz",96,0,{"$f":"ROUND(G108*F108/F108,2)","v":0},"Cs",null,{"$f":"IF(OR(ISBLANK(J108),G108=0,ISBLANK(G108)),,ROUND(J108+$K$3,2))","v":0},{"$f":"ROUND(H108*K108,2)","v":0},{"$f":"ROUND(K108/F108,2)","v":0}]
[null,"Frozen, Tray pack","            08895 Blueberry"]
[null,null,"            08896  Banana"]
[null,"Contains:  Wheat, Eggs, Soy"]
[26,"Muffin, Whole Grain, 2oz  , IW                       Meets 1.0 OEG","Super Bakery    (DO NOT BID)",null,"72/2oz",72,0,{"$f":"ROUND(G112*F112/F112,2)","v":0},"Cs",null,{"$f":"IF(OR(ISBLANK(J112),G112=0,ISBLANK(G112)),,ROUND(J112+$K$3,2))","v":0},{"$f":"ROUND(H112*K112,2)","v":0},{"$f":"ROUND(K112/F112,2)","v":0}]
[null,"Frozen, I/W, Thaw and Serve, ","      9048 Very Berry"]
[null,"Contains:  Wheat, Eggs, Milk","(Item Discontinued by Manufacturer 03/06/18)"]
[null,null," "]
[27,"Snack, Breakfast Snack, Whole Grain Rich                        Meets 1.0  OEG"," Super Bakery",null,"80/1.9",80,0,{"$f":"ROUND(G116*F116/F116,2)","v":0},"Cs",null,{"$f":"IF(OR(ISBLANK(J116),G116=0,ISBLANK(G116)),,ROUND(J116+$K$3,2))","v":0},{"$f":"ROUND(H116*K116,2)","v":0},{"$f":"ROUND(K116/F116,2)","v":0}]
[null,"Frozen, I/W, thaw and serve, ","     18200 Ultra Power Cocoa"]
[null,null,"      18300  MVP"]
[null,null,"      18350  WG Super donut"]
[null,null," "]
[28,"Snack, Breakfast, Cream cheese/Jelly filled","Super Bakery",null,"60/2.5oz",60,0,{"$f":"ROUND(G121*F121/F121,2)","v":0},"Cs",null,{"$f":"IF(OR(ISBLANK(J121),G121=0,ISBLANK(G121)),,ROUND(J121+$K$3,2))","v":0},{"$f":"ROUND(H121*K121,2)","v":0},{"$f":"ROUND(K121/F121,2)","v":0}]
[null,"Frozen,  I/W, Thaw & Serve","     3334 Cream Cheese & Strawberry Jelly"]
[]
[29,"Snack, Popcorn Puff"," Pirates Booty",null,"24/.75z",24,0,{"$f":"ROUND(G124*F124/F124,2)","v":0},"Cs",null,{"$f":"IF(OR(ISBLANK(J124),G124=0,ISBLANK(G124)),,ROUND(J124+$K$3,2))","v":0},{"$f":"ROUND(H124*K124,2)","v":0},{"$f":"ROUND(K124/F124,2)","v":0}]
[null,"made from rice and Corn, gluten-free, Nut free","          Aged White Cheddar    81662407"]
[null,"Contains 10% DV Vitamin D"]
[null,"Possible Allergens:  Milk"]
[30,"Snack, Graham Sticks, Cinnamon, Baked, I / W                 Meets 1.0 OEG               ","Keebler Cinnamon 30100-50689 Scoobydoo",null,"210/1.0z",210,0,{"$f":"ROUND(G128*F128/F128,2)","v":0},"Cs",null,{"$f":"IF(OR(ISBLANK(J128),G128=0,ISBLANK(G128)),,ROUND(J128+$K$3,2))","v":0},{"$f":"ROUND(H128*K128,2)","v":0},{"$f":"ROUND(K128/F128,2)","v":0}]
[null,"> 30% calories from fat, 0 Trans Fat, less than 35% added sugar by weight."," "]
[null," "]
[null," "]
[31,"Rice, Vegetable Fried Rice"," Minh  ",null,"84/5.9z",84,0,{"$f":"ROUND(G132*F132/F132,2)","v":0},"Cs",null,{"$f":"IF(OR(ISBLANK(J132),G132=0,ISBLANK(G132)),,ROUND(J132+$K$3,2))","v":0},{"$f":"ROUND(H132*K132,2)","v":0},{"$f":"ROUND(K132/F132,2)","v":0}]
[null,"Brown rice, vegetables.  No MSG, No preservatives.","     69074    WG Vegetable Fried Rice"]
[null,"Frozen, 6/5lb bag."]
[null,"Possible Allergens: Wheat or its deirvatives, Soy or its derivatives."]
[32,"Beef Jerky, Low Sodium","Jack Links",null,"48/.085z",48,0,{"$f":"ROUND(G136*F136/F136,2)","v":0},"Cs",null,{"$f":"IF(OR(ISBLANK(J136),G136=0,ISBLANK(G136)),,ROUND(J136+$K$3,2))","v":0},{"$f":"ROUND(H136*K136,2)","v":0},{"$f":"ROUND(K136/F136,2)","v":0}]
[null,"Low in fat, Meets Smart Snacks","10000007721 Original"]
[null,"0 Trans Fat","10000007717 Teriyaki"]
[null,null,"10000007719 Peppered"]
[]
[{"$nulls":8},"Lot A Snack total",null,null,{"$f":"SUMIF(L7:L140,\">0\")","v":0}]

{"sheet":"Bread Products, Frozen","index":395,"n_rows":30,"n_cols":13,"rows_kept":30,"merged":[[0,4,0,12],[1,4,1,12],[2,5,2,9]]}
[null,{"$f":"'Recap Sheet'!A2","v":"School Food Authority:"},null,null,{"$f":"'Recap Sheet'!A3","v":"Offeror Name:"}]
[null,{"$f":"'Recap Sheet'!B2","v":"WILLIAMSBURG COUNTY SCHOOLS"},"Return to Recap Sheet",null,{"$f":"'Recap Sheet'!B3","v":0}]
["Item","Description","Approved Brand Name / Manuf ID # ",null,null,"Firm Fixed Fee",{"$nulls":4},{"$f":"'Recap Sheet'!B4","v":{"v":0,"d":"$0.00"}}]
["#",null,null,"Distributor","Vendor","Svgs","Est.","Bid ","Bid","Unit","Unit Price","Total ","Cost per"]
[{"$nulls":3},"Code","Pack","per unit","Bid Qty","Qty","Unit","Price","plus Fee","Price","Unit"]
[null,"Category: Bread Products, Frozen"]
[1,"Bread,Texas Toast WGR","Distributor Choice",null,"10/24 oz.",10,0," "," "," "," "," "," "]
[null,"Frozen Must provide minimum 1.0 OEG","Fillable txt box ",null,null,0,null,{"$f":"ROUND(G7*F7/F8,2)","v":{"$error":"#DIV/0!"}},"Cs",null,{"$f":"IF(OR(ISBLANK(J8),G7=0,ISBLANK(G7)),,ROUND(J8+$K$3,2))","v":0},{"$f":"ROUND(H8*K8,2)","v":{"$error":"#DIV/0!"}},{"$f":"ROUND(K8/F8,2)","v":{"$error":"#DIV/0!"}}]
[2,"Bread, Whole Wheat ","Distributor Choice",null,"10/24 oz.",10,20," "," ",null," "," "," "]
[null,"Frozen, 24 slices per loaf  Must provide min.1 OEG","Fillable txt box ",{"$nulls":4},{"$f":"ROUND(G9*F9/F10,2)","v":{"$error":"#DIV/0!"}},"Cs",null,{"$f":"IF(OR(ISBLANK(J10),G9=0,ISBLANK(G9)),,ROUND(J10+$K$3,2))","v":0},{"$f":"ROUND(H10*K10,2)","v":{"$error":"#DIV/0!"}},{"$f":"ROUND(K10/F10,2)","v":{"$error":"#DIV/0!"}}]
[3,"Bread, Whole Wheat White ","Distributor Choice",null,"10/24 oz.",10,20," "," ",null," "," "," "]
[null,"Frozen, 24 slices per loaf  ","Fillable txt box ",{"$nulls":4},{"$f":"ROUND(G11*F11/F12,2)","v":{"$error":"#DIV/0!"}},"Cs",null,{"$f":"IF(OR(ISBLANK(J12),G11=0,ISBLANK(G11)),,ROUND(J12+$K$3,2))","v":0},{"$f":"ROUND(H12*K12,2)","v":{"$error":"#DIV/0!"}},{"$f":"ROUND(K12/F12,2)","v":{"$error":"#DIV/0!"}}]
[null,"Must provide minimum 1 OEG"," ",{"$nulls":4}," "," "," "," ","  "," "]
[4,"Bun, Hamburger WGR 4\"","Distributor Choice",null,"8/12 pk",96,20," "," "," "," "," "," "]
[null,"Frozen ","Fillable txt box ",{"$nulls":4},{"$f":"ROUND(G14*F14/F15,2)","v":{"$error":"#DIV/0!"}},"Cs",null,{"$f":"IF(OR(ISBLANK(J15),G14=0,ISBLANK(G14)),,ROUND(J15+$K$3,2))","v":0},{"$f":"ROUND(H15*K15,2)","v":{"$error":"#DIV/0!"}},{"$f":"ROUND(K15/F15,2)","v":{"$error":"#DIV/0!"}}]
[null,"Must provide minimum 2 OEG"," ",{"$nulls":3}," ","  "," "," "," ","  "," "]
[5,"Bun, Hot Dog WGR 6\"","Distributor Choice",null,"12/12 ea",144,20," "," ",null," "," "," "]
[null,"Frozen","Fillable txt box ",{"$nulls":4},{"$f":"ROUND(G17*F17/F18,2)","v":{"$error":"#DIV/0!"}},"Cs",null,{"$f":"IF(OR(ISBLANK(J18),G17=0,ISBLANK(G17)),,ROUND(J18+$K$3,2))","v":0},{"$f":"ROUND(H18*K18,2)","v":{"$error":"#DIV/0!"}},{"$f":"ROUND(K18/F18,2)","v":{"$error":"#DIV/0!"}}]
[null,"Must  provide minimum 2 OEG"," ",{"$nulls":4}," "," "," "," "," "," "]
[6,"Bun, Slider WGR  2.5\"","Distributor Choice",null,"18/8 oz.",18,0," "," ",null," "," "," "]
[null,"Frozen Must provide minimum 1.0 OEG","Fillable txt box ",{"$nulls":4},{"$f":"ROUND(G20*F20/F21,2)","v":{"$error":"#DIV/0!"}},"Cs",null,{"$f":"IF(OR(ISBLANK(J21),G20=0,ISBLANK(G20)),,ROUND(J21+$K$3,2))","v":0},{"$f":"ROUND(H21*K21,2)","v":{"$error":"#DIV/0!"}},{"$f":"ROUND(K21/F21,2)","v":{"$error":"#DIV/0!"}}]
[7,"Roll, Sub Roll WGR","Bakecrafters 4062",null,"96/2.0z",96,{"v":0,"d":"0 "},{"$f":"ROUND(G22*F22/F22,2)","v":0},"Cs",null,{"$f":"IF(OR(ISBLANK(G22),G22=0,ISBLANK(J22),),,ROUND(J22+$K$3,2))","v":0},{"$f":"ROUND(K22*H22,2)","v":0},{"$f":"ROUND(K22/F22,4)","v":0}]
[" ","Thaw and serve, One roll provides 2 oz. EOG","Flowers B45 99809400",null,"96/2.0z",96,null,{"$f":"ROUND(G22*F22/F23,2)","v":0},"Cs",null,{"$f":"IF(OR(ISBLANK(G23),G23=0,ISBLANK(J23),),,ROUND(J23+$K$3,2))","v":0},{"$f":"ROUND(K23*H23,2)","v":0},{"$f":"ROUND(K23/F23,4)","v":0}]
[null,"No more than 2 g fat and 280 mg sodium"," "]
[8,"Flabread, WGR","Father's Table 0188 Ultra Loco",null,"144/1.96z",144,{"v":0,"d":"0 "},{"$f":"ROUND(G25*F25/F25,2)","v":0},"Cs",null,{"$f":"IF(OR(ISBLANK(G25),G25=0,ISBLANK(J25),),,ROUND(J25+$K$3,2))","v":0},{"$f":"ROUND(K25*H25,2)","v":0},{"$f":"ROUND(K25/F25,4)","v":0}]
[null,"Frozen, Ready to Thaw, 170-200 cal and ","Rich's 14010",null,"192/2.02z",192,null,{"$f":"ROUND(G25*F25/F26,2)","v":0},"Cs",null,{"$f":"IF(OR(ISBLANK(G25),G25=0,ISBLANK(J26),),,ROUND(J26+$K$3,2))","v":0},0,0]
[null,"no more than 2 g fat and 290 mg sodium 2.0z OEG"," ",null,null," "," ",{"$nulls":5}," "]
[9,"Roll, Cibat, WGR","Pillsbury 94562-3778",null,"96/1.8 oz",96,{"v":0,"d":"0 "},{"$f":"ROUND(G28*F28/F28,2)","v":0},"Cs",null,{"$f":"IF(OR(ISBLANK(G28),G28=0,ISBLANK(J28),),,ROUND(J28+$K$3,2))","v":0},{"$f":"ROUND(K28*H28,2)","v":0},{"$f":"ROUND(K28/F28,4)","v":0}]
[null,"One roll provides 2 OEG"," "]
[{"$nulls":9},"Lot A Bread",null,{"$f":"SUMIF(L7:L29,\">0\")","v":0}]

{"sheet":"Special Diet Foods","index":396,"n_rows":61,"n_cols":13,"rows_kept":61,"merged":[[0,4,0,12],[1,4,1,12],[2,5,2,9]]}
[null,{"$f":"'Recap Sheet'!A2","v":"School Food Authority:"},null,null,{"$f":"'Recap Sheet'!A3","v":"Offeror Name:"}]
[null,{"$f":"'Recap Sheet'!B2","v":"WILLIAMSBURG COUNTY SCHOOLS"},"Return to Recap Sheet",null,{"$f":"'Recap Sheet'!B3","v":0}]
["Item","Description","Approved Brand Name / Manuf ID # ",null,null,"Firm Fixed Fee",{"$nulls":4},{"$f":"'Recap Sheet'!B4","v":{"v":0,"d":"$0.00"}}]
["#",null,null,"Distributor","Vendor","Svgs","Est.","Bid ","Bid","Unit","Unit Price","Total ","Cost per"]
[{"$nulls":3},"Code","Pack","per unit","Bid Qty","Qty","Unit","Price","plus Fee","Price","Unit"]
[null,"Category: Special Diet Foods"]
[1,"Beef Puree Roast Sliced Frozen ","Thick and Easy",null,"24/3.0z",24,{"v":0,"d":"0 "},{"$f":"ROUND(G7*F7/F7,2)","v":0},"Cs",null,{"$f":"IF(OR(ISBLANK(G7),G7=0,ISBLANK(J7)),,ROUND(J7+$K$3,2))","v":0},{"$f":"ROUND(K7*H7,2)","v":0},{"$f":"ROUND(K7/F7,4)","v":0}]
[null," ","Hormel Labs #10837",null," "," ",null," "," ",null," "," "," "]
[null," "," ",null," "," ",null," "," ",null," "," "," "]
[2,"Berry Mix, Puree Frozen ","Thick and Easy",null,"24/2.50z",24,{"v":0,"d":"0 "},{"$f":"ROUND(G10*F10/F10,2)","v":0},"Cs",null,{"$f":"IF(OR(ISBLANK(G10),G10=0,ISBLANK(J10)),,ROUND(J10+$K$3,2))","v":0},{"$f":"ROUND(K10*H10,2)","v":0},{"$f":"ROUND(K10/F10,4)","v":0}]
[null," ","Hormel Labs #13883",null," "," "]
[3,"Broccoli Puree Frozen","Thick and Easy",null,"24/3.0z",24,{"v":0,"d":"0 "},{"$f":"ROUND(G12*F12/F12,2)","v":0},"Cs",null,{"$f":"IF(OR(ISBLANK(G12),G12=0,ISBLANK(J12),),,ROUND(J12+$K$3,2))","v":0},{"$f":"ROUND(K12*H12,2)","v":0},{"$f":"ROUND(K12/F12,4)","v":0}]
[null," ","Hormel Labs #26522"]
[null,null," ",{"$nulls":4}," "," ",null," "," "," "]
[4,"Carrot, Puree Frozen","Thick and Easy",null,"24/3.0z",24,{"v":0,"d":"0 "},{"$f":"ROUND(G15*F15/F15,2)","v":0},"Cs",null,{"$f":"IF(OR(ISBLANK(G15),G15=0,ISBLANK(J15)),,ROUND(J15+$K$3,2))","v":0},{"$f":"ROUND(K15*H15,2)","v":0},{"$f":"ROUND(K15/F15,4)","v":0}]
[null," ","Hormel Labs #39312",null," "]
[5,"Chicken Puree, White ","Thick and Easy",null,"24/3.0z",24,{"v":0,"d":"0 "},{"$f":"ROUND(G17*F17/F17,2)","v":0},"Cs",null,{"$f":"IF(OR(ISBLANK(G17),G17=0,ISBLANK(J17)),,ROUND(J17+$K$3,2))","v":0},{"$f":"ROUND(K17*H17,2)","v":0},{"$f":"ROUND(K17/F17,4)","v":0}]
[null," ","Hormel Labs #37954"]
[6,"Corn, Puree Frozen","Thick and Easy",null,"24/3.0z",24,{"v":0,"d":"0 "},{"$f":"ROUND(G19*F19/F19,2)","v":0},"Cs",null,{"$f":"IF(OR(ISBLANK(G19),G19=0,ISBLANK(J19)),,ROUND(J19+$K$3,2))","v":0},{"$f":"ROUND(K19*H19,2)","v":0},{"$f":"ROUND(K19/F19,4)","v":0}]
[null," ","Hormel Labs #27074"]
[7,"Egg, Puree, Omlet Frozen Breakfast","Thick and Easy",null,"24/2.50z",24,{"v":0,"d":"0 "},{"$f":"ROUND(G21*F21/F21,2)","v":0},"Cs",null,{"$f":"IF(OR(ISBLANK(G21),G21=0,ISBLANK(J21)),,ROUND(J21+$K$3,2))","v":0},{"$f":"ROUND(K21*H21,2)","v":0},{"$f":"ROUND(K21/F21,4)","v":0}]
[null," ","Hormel Labs #72475"]
[8,"Supplement, Boost Breeze Assorted","Boost Breeze Assorted",null,"27/237 ML",27,{"v":0,"d":"0 "},{"$f":"ROUND(G23*F23/F23,2)","v":0},"Cs",null,{"$f":"IF(OR(ISBLANK(G23),G23=0,ISBLANK(J23)),,ROUND(J23+$K$3,2))","v":0},{"$f":"ROUND(K23*H23,2)","v":0},{"$f":"ROUND(K23/F23,4)","v":0}]
[null,null,"#043900186006270",null," "," ",null," "," ",null," "," "," "]
[9,"Supplement, Ensure and Vinyl Liquid RTU","Ensure Plus",null,"24/8.0z",24,{"v":0,"d":"0 "},{"$f":"ROUND(G25*F25/F25,2)","v":0},"Cs",null,{"$f":"IF(OR(ISBLANK(G25),G25=0,ISBLANK(J25)),,ROUND(J25+$K$3,2))","v":0},{"$f":"ROUND(K25*H25,2)","v":0},{"$f":"ROUND(K25/F25,4)","v":0}]
[null,null,"#50464",null," "," "," "," "," "," "," "," "," "]
[10,"Supplement, Pediasure Vinyl Carton","Pediasure",null,"24/8.0z",24,{"v":0,"d":"0 "},{"$f":"ROUND(G27*F27/F27,2)","v":0},"Cs",null,{"$f":"IF(OR(ISBLANK(G27),G27=0,ISBLANK(J27)),,ROUND(J27+$K$3,2))","v":0},{"$f":"ROUND(K27*H27,2)","v":0},{"$f":"ROUND(K27/F27,4)","v":0}]
[null,null,"#51804",null," "," "," "," "," "," "," "," "," "]
[11,"Soy Milk, Vanilla","Distributor Choice",null,"18/8 oz.",18,0,18,"Cs",null,{"$f":"IF(OR(ISBLANK(G29),G29=0,ISBLANK(J29)),,ROUND(J29+$K$3,2))","v":0},{"$f":"ROUND(K29*H29,2)","v":0},{"$f":"ROUND(K29/F29,4)","v":0}]
[null,"All natural fluid product, Self-serve container, calcium","Fillable txt box ",{"$nulls":4},{"$f":"ROUND(G29*F29/F30,2)","v":{"$error":"#DIV/0!"}},"Cs"," ",{"$f":"IF(OR(ISBLANK(J30),G29=0,ISBLANK(G29)),,ROUND(J30+$K$3,2))","v":0},{"$f":"ROUND(H30*K30,2)","v":{"$error":"#DIV/0!"}},{"$f":"ROUND(K30/F30,2)","v":{"$error":"#DIV/0!"}}]
[null,"enriched Aseptic Package Preferred"]
[12,"Soy Milk, Chocolate","Distributor Choice",null,"18/8 oz.",18,0,18,"Cs",null,{"$f":"IF(OR(ISBLANK(G32),G32=0,ISBLANK(J32)),,ROUND(J32+$K$3,2))","v":0},{"$f":"ROUND(K32*H32,2)","v":0},{"$f":"ROUND(K32/F32,4)","v":0}]
[null,"All natural fluid product, Self-serve container, calcium","Fillable txt box ",{"$nulls":4},{"$f":"ROUND(G32*F32/F33,2)","v":{"$error":"#DIV/0!"}},"Cs"," ",{"$f":"IF(OR(ISBLANK(J33),G32=0,ISBLANK(G32)),,ROUND(J33+$K$3,2))","v":0},{"$f":"ROUND(H33*K33,2)","v":{"$error":"#DIV/0!"}},{"$f":"ROUND(K33/F33,2)","v":{"$error":"#DIV/0!"}}]
[null,"enriched Aseptic Package Preferred"]
[13,"Almond Milk, Vanilla","Distributor Choice",null,"18/8 oz.",18,0,18,"Cs",null,{"$f":"IF(OR(ISBLANK(G35),G35=0,ISBLANK(J35)),,ROUND(J35+$K$3,2))","v":0},{"$f":"ROUND(K35*H35,2)","v":0},{"$f":"ROUND(K35/F35,4)","v":0}]
[null,"All natural fluid product, Self-serve container, calcium","Fillable txt box ",{"$nulls":4},{"$f":"ROUND(G35*F35/F36,2)","v":{"$error":"#DIV/0!"}},"Cs"," ",{"$f":"IF(OR(ISBLANK(J36),G35=0,ISBLANK(G35)),,ROUND(J36+$K$3,2))","v":0},{"$f":"ROUND(H36*K36,2)","v":{"$error":"#DIV/0!"}},{"$f":"ROUND(K36/F36,2)","v":{"$error":"#DIV/0!"}}]
[null,"enriched Aseptic Package Preferred"]
[14,"Almond Milk, Chocolate","Distributor Choice",null,"18/8 oz.",18,0,18,"Cs",null,{"$f":"IF(OR(ISBLANK(G38),G38=0,ISBLANK(J38)),,ROUND(J38+$K$3,2))","v":0},{"$f":"ROUND(K38*H38,2)","v":0},{"$f":"ROUND(K38/F38,4)","v":0}]
[null,"All natural fluid product, Self-serve container, calcium","Fillable txt box ",{"$nulls":4},{"$f":"ROUND(G38*F38/F39,2)","v":{"$error":"#DIV/0!"}},"Cs"," ",{"$f":"IF(OR(ISBLANK(J39),G38=0,ISBLANK(G38)),,ROUND(J39+$K$3,2))","v":0},{"$f":"ROUND(H39*K39,2)","v":{"$error":"#DIV/0!"}},{"$f":"ROUND(K39/F39,2)","v":{"$error":"#DIV/0!"}}]
[null,"enriched Aseptic Package Preferred"]
[15,"Milk, Lactose-Free 1% milk fat, Vitamin A&D fortified,","Distributor Choice",null,"18/8 oz.",18,0,18,"Cs",null,{"$f":"IF(OR(ISBLANK(G41),G41=0,ISBLANK(J41)),,ROUND(J41+$K$3,2))","v":0},{"$f":"ROUND(K41*H41,2)","v":0},{"$f":"ROUND(K41/F41,4)","v":0}]
[null,"fluid milk product, self serve container","Fillable txt box ",{"$nulls":4},{"$f":"ROUND(G41*F41/F42,2)","v":{"$error":"#DIV/0!"}},"Cs"," ",{"$f":"IF(OR(ISBLANK(J42),G41=0,ISBLANK(G41)),,ROUND(J42+$K$3,2))","v":0},{"$f":"ROUND(H42*K42,2)","v":{"$error":"#DIV/0!"}},{"$f":"ROUND(K42/F42,2)","v":{"$error":"#DIV/0!"}}]
[null,"Asceptic Package  Preferred "]
[16,"Taco Tubs, WGR Gluten Free","Smokewood RR01011",null,"200/1 ea.",200,{"v":0,"d":"0 "},{"$f":"ROUND(G44*F44/F44,2)","v":0},"Cs",null,{"$f":"IF(OR(ISBLANK(G44),G44=0,ISBLANK(J44)),,ROUND(J44+$K$3,2))","v":0},{"$f":"ROUND(K44*H44,2)","v":0},{"$f":"ROUND(K44/F44,4)","v":0}]
[null,"No sodium, 0 trans fats, "]
[null,"One tub meets 1 0z. OEG "]
[17,"Cooking Pan Spray (Buttery Flavor)","Vegalene 17260",null,"6/17 oz.",6,{"v":0,"d":"0 "},{"$f":"ROUND(G47*F47/F47,2)","v":0},"Cs",null,{"$f":"IF(OR(ISBLANK(G47),G47=0,ISBLANK(J47)),,ROUND(J47+$K$3,2))","v":0},{"$f":"ROUND(K47*H47,2)","v":0},{"$f":"ROUND(K47/F47,4)","v":0}]
[null,"Contains no soy, dairy, trans fats and is Gluten Free"]
[]
[]
[18,"Buns, Hamburger, Gluten Free","Distributor Choice",null,"30/3.5z",30,{"v":0,"d":"0 "},30,"Cs"]
[" ","Frozen","Fillable txt box or unprotected",{"$nulls":4},{"$f":"ROUND(G51*F51/F52,2)","v":{"$error":"#DIV/0!"}},"Cs",null,{"$f":"IF(OR(ISBLANK(J52),G51=0,ISBLANK(G51)),,ROUND(J52+$K$3,2))","v":0},{"$f":"ROUND(H52*K52,2)","v":{"$error":"#DIV/0!"}},{"$f":"ROUND(K52/F52,2)","v":{"$error":"#DIV/0!"}}]
[19,"Buns, Hot Dog, Gluten Free","Distributor Choice",null,"30/3.5z",30,{"v":0,"d":"0 "},30,"Cs"]
[null,"Frozen","Fillable txt box or unprotected",{"$nulls":4},{"$f":"ROUND(G53*F53/F54,2)","v":{"$error":"#DIV/0!"}},"Cs",null,{"$f":"IF(OR(ISBLANK(J54),G53=0,ISBLANK(G53)),,ROUND(J54+$K$3,2))","v":0},{"$f":"ROUND(H54*K54,2)","v":{"$error":"#DIV/0!"}},{"$f":"ROUND(K54/F54,2)","v":{"$error":"#DIV/0!"}}]
[]
[20,"Bread, White Gluten Free","Distributor Choice",null,"32/3.0z",30,{"v":0,"d":"0 "},30,"Cs"]
[null,"Frozen","Fillable txt box or unprotected",{"$nulls":4},{"$f":"ROUND(G56*F56/F57,2)","v":{"$error":"#DIV/0!"}},"Cs",null,{"$f":"IF(OR(ISBLANK(J57),G56=0,ISBLANK(G56)),,ROUND(J57+$K$3,2))","v":0},{"$f":"ROUND(H57*K57,2)","v":{"$error":"#DIV/0!"}},{"$f":"ROUND(K57/F57,2)","v":{"$error":"#DIV/0!"}}]
[" "," "]
[]
[]
[{"$nulls":9},"Lot A SP Diet",null,{"$f":"SUMIF(L7:L60,\">0\")","v":0}]

{"sheet":"Disposables","index":397,"n_rows":221,"n_cols":13,"rows_kept":221,"merged":[[0,4,0,12],[1,4,1,12],[2,5,2,9]]}
[null,{"$f":"'Recap Sheet'!A2","v":"School Food Authority:"},null,null,{"$f":"'Recap Sheet'!A3","v":"Offeror Name:"}]
[null,{"$f":"'Recap Sheet'!B2","v":"WILLIAMSBURG COUNTY SCHOOLS"},"Return to Recap Sheet",null,{"$f":"'Recap Sheet'!B3","v":0}]
["Item","Description","Approved Brand Name / Manuf ID # ",null,null,"Firm Fixed Fee",{"$nulls":4},{"$f":"'Recap Sheet'!B4","v":{"v":0,"d":"$0.00"}}]
["#",null,null,"Distributor","Vendor","Svgs","Est.","Bid ","Bid","Unit","Unit Price","Total ","Cost per"]
[{"$nulls":3},"Code","Pack","per unit","Bid Qty","Qty","Unit","Price","plus Fee","Price","Unit"]
[null,"Category: Disposables/Paper"]
[1,"Aluminum Foil  (FOIL)","Distributor Choice",null,"18x1000",1000,{"v":40,"d":"40 "}," "," "]
[null,"18 inches wide x 1000 ft roll with metal cutting edge. ","Fillable txt box ",{"$nulls":4},{"$f":"ROUND(G7*F7/F8,2)","v":{"$error":"#DIV/0!"}},"Cs",null,{"$f":"IF(OR(ISBLANK(J8),G7=0,ISBLANK(G7)),,ROUND(J8+$K$3,2))","v":0},{"$f":"ROUND(H8*K8,2)","v":{"$error":"#DIV/0!"}},{"$f":"ROUND(K8/F8,4)","v":{"$error":"#DIV/0!"}}]
[null,"Support ends.  10% roll dispenser carton.  Heavy Duty.   "]
[null,"3 gauge .001 weight"]
[2,"Aprons, Disposable","Handgard EME",null,"100 ct",100,{"v":75,"d":"75 "},{"$f":"ROUND(G11*F11/F11,2)","v":75},"Cs",null,{"$f":"IF(OR(ISBLANK(G11),G11=0,ISBLANK(J11)),,ROUND(J11+$K$3,2))","v":0},{"$f":"ROUND(K11*H11,2)","v":0},{"$f":"ROUND(K11/F11,4)","v":0}]
[null,"Plastic, size 28\"x46\", 3 gauge dispenser box.  Full size bib"]
[3,"Bags, Food Storage, 10 x 14","Handgard FB-14 RM",null,"1000 Ct",1000,{"v":63,"d":"63 "},"           ","Cs",null,{"$f":"IF(OR(ISBLANK(G13),G13=0,ISBLANK(J13)),,ROUND(J13+$K$3,2))","v":0},{"$f":"ROUND(K13*H13,2)","v":{"$error":"#VALUE!"}},{"$f":"ROUND(K13/F13,4)","v":0}]
[null,null,"Distributor Choice"]
[null,null,"Fillable txt box ",{"$nulls":4},{"$f":"ROUND(G13*F13/F15,2)","v":{"$error":"#DIV/0!"}},"Cs",null,{"$f":"IF(OR(ISBLANK(G13),G13=0,ISBLANK(F15)),,ROUND(J15+$K$3,2))","v":0},{"$f":"ROUND(H15*K15,2)","v":{"$error":"#DIV/0!"}},{"$f":"ROUND(K15/F15,4)","v":{"$error":"#DIV/0!"}}]
[4,"Bags, Food Storage, 18 x 24","Handgard FB-24 RM",null,"250 Ct",250,{"v":15,"d":"15 "},{"$f":"ROUND(G16*F16/F16,2)","v":15},"Cs",null,{"$f":"IF(OR(ISBLANK(G16),G16=0,ISBLANK(J16)),,ROUND(J16+$K$3,2))","v":0},{"$f":"ROUND(K16*H16,2)","v":0},{"$f":"ROUND(K16/F16,4)","v":0}]
[null,null,"Distributor Choice"]
[null,null,"Fillable txt box ",{"$nulls":4},{"$f":"ROUND(G16*F16/F18,2)","v":{"$error":"#DIV/0!"}},"Cs",null,{"$f":"IF(OR(ISBLANK(G16),G16=0,ISBLANK(F18)),,ROUND(J18+$K$3,2))","v":0},{"$f":"ROUND(H18*K18,2)","v":{"$error":"#DIV/0!"}},{"$f":"ROUND(K18/F18,4)","v":{"$error":"#DIV/0!"}}]
[5,"Bags, Sandwich","Handguard SB 8.5",null,2000,2000,{"v":20,"d":"20 "},{"$f":"ROUND(G19*F19/F19,2)","v":20},"Cs",null,{"$f":"IF(OR(ISBLANK(G19),G19=0,ISBLANK(J19),),,ROUND(J19+$K$3,2))","v":0},{"$f":"ROUND(K19*H19,2)","v":0},{"$f":"ROUND(K19/F19,4)","v":0}]
[null,null,"Distributor Choice"]
[null,"Flip-lock, double saddle pack.  6\" x 7\"","Fillable txt box ",{"$nulls":4},{"$f":"ROUND(G19*F19/F21,2)","v":{"$error":"#DIV/0!"}},"Cs",null,{"$f":"IF(OR(ISBLANK(G19),G19=0,ISBLANK(F21)),,ROUND(J21+$K$3,2))","v":0},{"$f":"ROUND(H21*K21,2)","v":{"$error":"#DIV/0!"}},{"$f":"ROUND(K21/F21,4)","v":{"$error":"#DIV/0!"}}]
[6,"Bowl, 5 oz. , with flared lip","GenPak 80500",null,"1000 Ct",1000,{"v":0,"d":"0 "},{"$f":"ROUND(G22*F22/F22,2)","v":0},"Cs",null,{"$f":"IF(OR(ISBLANK(G22),G22=0,ISBLANK(J22)),,ROUND(J22+$K$3,2))","v":0},{"$f":"ROUND(K22*H22,2)","v":0},{"$f":"ROUND(K22/F22,4)","v":0}]
[null,"Styrofoam, Must not contain CFC's"," "]
[7,"Bowl, 5 oz, without flared lip","Dart 5B20",null,"1000 ct",1000,{"v":30,"d":"30 "},{"$f":"ROUND(G24*F24/F24,2)","v":30},"Cs",null,{"$f":"IF(OR(ISBLANK(G24),G24=0,ISBLANK(J24)),,ROUND(J24+$K$3,2))","v":0},{"$f":"ROUND(K24*H24,2)","v":0},{"$f":"ROUND(K24/F24,4)","v":0}]
[null,"Styrofoam, Must not contain CFC's"]
[8,"Bowl, Styrofoam, 8 oz, without flared lip","Dart 8B20",null,"1000 Ct",1000,null,{"$f":"ROUND(G26*F26/F26,2)","v":0},"Cs",null,{"$f":"IF(OR(ISBLANK(G26),G26=0,ISBLANK(J26)),,ROUND(J26+$K$3,2))","v":0},{"$f":"ROUND(K26*H26,2)","v":0},{"$f":"ROUND(K26/F26,4)","v":0}]
[null,"Must not contain CFC's "]
[9,"Bowl, Styrofoam, 12 oz, with flared lip","GenPak82100",null,1000,1000,{"v":0,"d":"0 "},{"$f":"ROUND(G28*F28/F28,2)","v":0},"Cs",null,{"$f":"IF(OR(ISBLANK(G28),G28=0,ISBLANK(J28)),,ROUND(J28+$K$3,2))","v":0},{"$f":"ROUND(K28*H28,2)","v":0},{"$f":"ROUND(K28/F28,4)","v":0}]
[null,"Must not contain CFC's ",null,null," "," "]
[10,"Bowl, Styrofoam, 12 oz, without flared lip","Dart 12B32",null,1000,1000,{"v":0,"d":"0 "},{"$f":"ROUND(G30*F30/F30,2)","v":0},"Cs",null,{"$f":"IF(OR(ISBLANK(G30),G30=0,ISBLANK(J30)),,ROUND(J30+$K$3,2))","v":0},{"$f":"ROUND(K30*H30,2)","v":0},{"$f":"ROUND(K30/F30,4)","v":0}]
[null,"Must not contain CFC's ",null,null," "," "]
[11,"Brooms","Distributor Choice",null,1,{"v":1,"d":"1.0"},{"v":35,"d":"35 "},{"$f":"ROUND(G32*F32/F32,2)","v":35},"Cs"]
[null,"Warehouse.  32% corn, lightweight, heavy duty","Fillable txt box ",{"$nulls":4},{"$f":"ROUND(G32*F32/F33,2)","v":{"$error":"#DIV/0!"}},"Cs",null,{"$f":"IF(OR(ISBLANK(G32),G32=0,ISBLANK(F33)),,ROUND(J33+$K$3,2))","v":0},{"$f":"ROUND(H33*K33,2)","v":{"$error":"#DIV/0!"}},{"$f":"ROUND(K33/F33,4)","v":{"$error":"#DIV/0!"}}]
[12,"Container, FM 8 oz Squat","Dart 8SJ20",null,1000,1000,{"v":10,"d":"10 "},{"$f":"ROUND(G34*F34/F34,2)","v":10},"Cs",null,{"$f":"IF(OR(ISBLANK(G34),G34=0,ISBLANK(J34)),,ROUND(J34+$K$3,2))","v":0},{"$f":"ROUND(K34*H34,2)","v":0},{"$f":"ROUND(K34/F34,4)","v":0}]
[null,"Must not contain CFC's "," "]
[13,"Container, FM 12 oz Squat","(15) Dart 12SJ20",null,500,500,null,{"$f":"ROUND(G36*F36/F36,2)","v":0},"Cs",null,{"$f":"IF(OR(ISBLANK(G36),G36=0,ISBLANK(J36)),,ROUND(J36+$K$3,2))","v":0},{"$f":"ROUND(K36*H36,2)","v":0},{"$f":"ROUND(K36/F36,4)","v":0}]
[null,"Must not contain CFC's "," ",null,500,500]
[14,"Container, w/Hinged Lid, Styro foam","Pactiv YTD 19903",null,150,150,{"v":60,"d":"60 "},{"$f":"ROUND(G38*F38/F38,2)","v":60},"Cs",null,{"$f":"IF(OR(ISBLANK(G38),G38=0,ISBLANK(J38)),,ROUND(J38+$K$3,2))","v":0},{"$f":"ROUND(K38*H38,2)","v":0},{"$f":"ROUND(K38/F38,4)","v":0}]
[null,"3 compartment, white, carryout tray","Gen Pak 20310",null,200,200,null,{"$f":"ROUND($G$38*$F$38/F39,2)","v":45},"Cs",null,{"$f":"IF(OR(ISBLANK(G38),G38=0,ISBLANK(J39)),,ROUND(J39+$K$3,2))","v":0},{"$f":"ROUND(K39*H39,2)","v":0},{"$f":"ROUND(K39/F39,4)","v":0}]
[null,"Must not contain CFC's ","Dart 90HTPF3",null,200,200,null,{"$f":"ROUND($G$38*$F$38/F40,2)","v":45},"Cs",null,{"$f":"IF(OR(ISBLANK(G38),G38=0,ISBLANK(J40)),,ROUND(J40+$K$3,2))","v":0},{"$f":"ROUND(K40*H40,2)","v":0},{"$f":"ROUND(K40/F40,4)","v":0}]
[15,"Container, w/Hinged Lid, Clear","Dart C90PST1",null,"2/125",250,{"v":150,"d":"150 "},{"$f":"ROUND(G41*F41/F41,2)","v":150},"Cs",null,{"$f":"IF(OR(ISBLANK(G41),G41=0,ISBLANK(J41)),,ROUND(J41+$K$3,2))","v":0},{"$f":"ROUND(K41*H41,2)","v":0},{"$f":"ROUND(K41/F41,4)","v":0}]
[null,"1 section.  8.25\" x 8.25\" x 3\"","Distributor Choice"]
[null," ","Fillable txt box ",{"$nulls":4},{"$f":"ROUND(G41*F41/F43,2)","v":{"$error":"#DIV/0!"}},"Cs",null,{"$f":"IF(OR(ISBLANK(G41),G41=0,ISBLANK(F43)),,ROUND(J43+$K$3,2))","v":0},{"$f":"ROUND(K43*H43,2)","v":{"$error":"#DIV/0!"}},{"$f":"ROUND(K43/F43,4)","v":{"$error":"#DIV/0!"}}]
[16,"Container w/Hinged Lid, Plastic, Clear","Dart C57PST1",null,"4/125",500,{"v":20,"d":"20 "},{"$f":"ROUND(G44*F44/F44,2)","v":20},"Cs",null,{"$f":"IF(OR(ISBLANK(G44),G44=0,ISBLANK(J44),),,ROUND(J44+$K$3,2))","v":0},{"$f":"ROUND(K44*H44,2)","v":0},{"$f":"ROUND(K44/F44,4)","v":0}]
[null,"1 section.  6\" x 5.75\" x 3\"","Distributor Choice"]
[null,null,"Fillable txt box ",{"$nulls":4},{"$f":"ROUND(G44*F44/F46,2)","v":{"$error":"#DIV/0!"}},"Cs",null,{"$f":"IF(OR(ISBLANK(G44),G44=0,ISBLANK(F46)),,ROUND(J46+$K$3,2))","v":0},{"$f":"ROUND(K46*H46,2)","v":{"$error":"#DIV/0!"}},{"$f":"ROUND(K46/F46,4)","v":{"$error":"#DIV/0!"}}]
[17,"Container, 4 oz w/Hinged Lid, Clear, ","Par-Pak 21959",null,"1500",1500,{"v":0,"d":"0 "},{"$f":"ROUND(G47*F47/F47,2)","v":0},"Cs",null,{"$f":"IF(OR(ISBLANK(G47),G47=0,ISBLANK(J47)),,ROUND(J47+$K$3,2))","v":0},{"$f":"ROUND(K47*H47,2)","v":0},{"$f":"ROUND(K47/F47,4)","v":0}]
[null,"can be used for hot or cold offer versus serve ","Distributor Choice",{"$nulls":3}," "]
[null," ","Fillable txt box ",{"$nulls":4},{"$f":"ROUND(G47*F47/F49,2)","v":{"$error":"#DIV/0!"}},"Cs",null,{"$f":"IF(OR(ISBLANK(G47),G47=0,ISBLANK(F49)),,ROUND(J49+$K$3,2))","v":0},{"$f":"ROUND(K49*H49,2)","v":{"$error":"#DIV/0!"}},{"$f":"ROUND(K49/F49,4)","v":{"$error":"#DIV/0!"}}]
[18,"Container, 6 oz w/Hinged Lid, Clear, ","Par-Pak 21961",null,"1500",1500,{"v":0,"d":"0 "},{"$f":"ROUND(G50*F50/F50,2)","v":0},"Cs",null,{"$f":"IF(OR(ISBLANK(G50),G50=0,ISBLANK(J50)),,ROUND(J50+$K$3,2))","v":0},{"$f":"ROUND(K50*H50,2)","v":0},{"$f":"ROUND(K50/F50,4)","v":0}]
[null,"can be used for hot or cold offer versus serve ","Distributor Choice"]
[null," ","Fillable txt box ",{"$nulls":4},{"$f":"ROUND(G50*F50/F52,2)","v":{"$error":"#DIV/0!"}},"Cs",null,{"$f":"IF(OR(ISBLANK(G50),G50=0,ISBLANK(F52)),,ROUND(J52+$K$3,2))","v":0},{"$f":"ROUND(K52*H52,2)","v":{"$error":"#DIV/0!"}},{"$f":"ROUND(K52/F52,4)","v":{"$error":"#DIV/0!"}}]
[19,"Cups, Portion, 1 oz, paper","Sweetheart 100",null,5000,5000,{"v":0,"d":"0 "},{"$f":"ROUND(G53*F53/F53,2)","v":0},"Cs",null,{"$f":"IF(OR(ISBLANK(G53),G53=0,ISBLANK(J53)),,ROUND(J53+$K$3,2))","v":0},{"$f":"ROUND(K53*H53,2)","v":0},{"$f":"ROUND(K53/F53,4)","v":0}]
[null,null,"Solo 45",null,5000,5000,null,{"$f":"ROUND($G$53*$F$53/F54,2)","v":0},"Cs",null,{"$f":"IF(OR(ISBLANK(G53),G53=0,ISBLANK(J54)),,ROUND(J54+$K$3,2))","v":0},{"$f":"ROUND(K54*H54,2)","v":0},{"$f":"ROUND(K54/F54,4)","v":0}]
[null,null,"Distributor Choice"]
[null," ","Fillable txt box ",null,null," ",null,{"$f":"ROUND(G53*F53/F56,2)","v":{"$error":"#VALUE!"}},"Cs",null,{"$f":"IF(OR(ISBLANK(G53),G53=0,ISBLANK(J56)),,ROUND(J56+$K$3,2))","v":0},{"$f":"ROUND(H56*K56,2)","v":{"$error":"#VALUE!"}},{"$f":"ROUND(K56/F56,4)","v":{"$error":"#VALUE!"}}]
[20,"Cups, Portion, 2 oz. Paper","Sweetheart 200",null,5000,5000,{"v":0,"d":"0 "},{"$f":"ROUND(G57*F57/F57,2)","v":0},"Cs",null,{"$f":"IF(OR(ISBLANK(G57),G57=0,ISBLANK(J57)),,ROUND(J57+$K$3,2))","v":0},{"$f":"ROUND(K57*H57,2)","v":0},{"$f":"ROUND(K57/F57,4)","v":0}]
[null,null,"Solo 48",null,5000,5000,null,{"$f":"ROUND(G57*F57/F58,2)","v":0},"Cs",null,{"$f":"IF(OR(ISBLANK(G57),G57=0,ISBLANK(J58)),,ROUND(J58+$K$3,2))","v":0},{"$f":"ROUND(K58*H58,2)","v":0},{"$f":"ROUND(K58/F58,4)","v":0}]
[null,null,"Distributor Choice"]
[null,null,"Fillable txt box ",{"$nulls":4},{"$f":"ROUND(G57*F57/F60,2)","v":{"$error":"#DIV/0!"}},"Cs",null,{"$f":"IF(OR(ISBLANK(G57),G57=0,ISBLANK(J60)),,ROUND(J60+$K$3,2))","v":0},{"$f":"ROUND(H60*K60,2)","v":{"$error":"#DIV/0!"}},{"$f":"ROUND(K60/F60,4)","v":{"$error":"#DIV/0!"}}]
[21,"Cups, Portion, 4 oz, Paper","Sweetheart 400",null,5000,5000,{"v":0,"d":"0 "},{"$f":"ROUND(G61*F61/F61,2)","v":0},"Cs",null,{"$f":"IF(OR(ISBLANK(G61),G61=0,ISBLANK(J61)),,ROUND(J61+$K$3,2))","v":0},{"$f":"ROUND(K61*H61,2)","v":0},{"$f":"ROUND(K61/F61,4)","v":0}]
[null,null,"Solo 51",null,5000,5000,null,{"$f":"ROUND($G$61*$F$61/F62,2)","v":0},"Cs",null,{"$f":"IF(OR(ISBLANK(G61),G61=0,ISBLANK(J62)),,ROUND(J62+$K$3,2))","v":0},{"$f":"ROUND(K62*H62,2)","v":0},{"$f":"ROUND(K62/F62,4)","v":0}]
[null,null,"Distributor Choice"]
[null,null,"Fillable txt box ",{"$nulls":4},{"$f":"ROUND(G61*F61/F64,2)","v":{"$error":"#DIV/0!"}},"Cs",null,{"$f":"IF(OR(ISBLANK(G61),G61=0,ISBLANK(J64)),,ROUND(J64+$K$3,2))","v":0},{"$f":"ROUND(H64*K64,2)","v":{"$error":"#DIV/0!"}},{"$f":"ROUND(K64/F64,4)","v":{"$error":"#DIV/0!"}}]
[22,"Cups, Portion, 2 oz. Plastic","Sweetheart UR2H",null,2500,2500,{"v":5,"d":"5 "},{"$f":"ROUND(G65*F65/F65,2)","v":5},"Cs",null,{"$f":"IF(OR(ISBLANK(G65),G65=0,ISBLANK(J65)),,ROUND(J65+$K$3,2))","v":0},{"$f":"ROUND(K65*H65,2)","v":0},{"$f":"ROUND(K65/F65,4)","v":0}]
[null,null,"Solo B200",null,2500,2500,null,{"$f":"ROUND($G$65*$F$65/F66,2)","v":5},"Cs",null,{"$f":"IF(OR(ISBLANK(J66),G65=0,ISBLANK(G65)),,ROUND(J66+$K$3,2))","v":0},{"$f":"ROUND(K66*H66,2)","v":0},{"$f":"ROUND(K66/F66,4)","v":0}]
[null,null,"Dart 200PC",null,2500,2500,null,{"$f":"ROUND($G$65*$F$65/F67,2)","v":5},"Cs",null,{"$f":"IF(OR(ISBLANK(J67),G65=0,ISBLANK(G65)),,ROUND(J67+$K$3,2))","v":0},0,{"$f":"ROUND(K67/F67,4)","v":0}]
[null,null,"Dixie PO20xx translucent",null,2400,2400,null,{"$f":"ROUND($G$65*$F$65/F68,2)","v":5.21},"Cs",null,{"$f":"IF(OR(ISBLANK(J68),G65=0,ISBLANK(G65)),,ROUND(J68+$K$3,2))","v":0},0,{"$f":"ROUND(K68/F68,4)","v":0}]
[23,"Cups, Portion, 4 oz., Plastic","Sweetheart UR4",null,2500,2500,{"v":125,"d":"125 "},{"$f":"ROUND(G69*F69/F69,2)","v":125},"Cs",null,{"$f":"IF(OR(ISBLANK(G69),G69=0,ISBLANK(J69)),,ROUND(J69+$K$3,2))","v":0},{"$f":"ROUND(K69*H69,2)","v":0},0]
[null,null,"Dixie PO40 translucent",null,2400,2400,null,{"$f":"ROUND($G$69*$F$69/F70,2)","v":130.21},"Cs",null,{"$f":"IF(OR(ISBLANK(J70),G69=0,ISBLANK(G69)),,ROUND(J70+$K$3,2))","v":0},{"$f":"ROUND(K70*H70,2)","v":0},0]
[null,null,"Solo P400",null,2500,2500,null,{"$f":"ROUND($G$69*$F$69/F71,2)","v":125},"Cs",null,{"$f":"IF(OR(ISBLANK(J71),G69=0,ISBLANK(G69)),,ROUND(J71+$K$3,2))","v":0},0,0]
[null,null,"Dart 400PC",null,2500,2500,null,{"$f":"ROUND($G$69*$F$69/F72,2)","v":125},"Cs",null,{"$f":"IF(OR(ISBLANK(J72),G69=0,ISBLANK(G69)),,ROUND(J72+$K$3,2))","v":0},0,0]
[24,"Cups, Portion, 5.5 oz., Plastic","Dixie PO55 translucent",null,2400,2400,{"v":0,"d":"0 "},{"$f":"ROUND(G73*F73/F73,2)","v":0},"Cs",null,{"$f":"IF(OR(ISBLANK(G73),G73=0,ISBLANK(J73)),,ROUND(J73+$K$3,2))","v":0},{"$f":"ROUND(K73*H73,2)","v":0},0]
[null,null,"Solo P550",null,2500,2500,null,{"$f":"ROUND($G$73*$F$73/F74,2)","v":0},"Cs",null,{"$f":"IF(OR(ISBLANK(J74),G73=0,ISBLANK(G73)),,ROUND(J74+$K$3,2))","v":0},{"$f":"ROUND(K74*H74,2)","v":0},0]
[null,null,"Dart 550PC",null,2500,2500,null,{"$f":"ROUND($G$73*$F$73/F75,2)","v":0},"Cs",null,{"$f":"IF(OR(ISBLANK(J75),G73=0,ISBLANK(G73)),,ROUND(J75+$K$3,2))","v":0},0,0]
[25,"Cups, Drinking, Styrofoam, 8 oz","Dart 8J8",null,"40/25",1000,{"v":10,"d":"10 "},{"$f":"ROUND(G76*F76/F76,2)","v":10},"Cs",null,{"$f":"IF(OR(ISBLANK(G76),G76=0,ISBLANK(J76)),,ROUND(J76+$K$3,2))","v":0},{"$f":"ROUND(K76*H76,2)","v":0},0]
[null,"Must not contain CFC's ","Distributor Choice"]
[null,null,"Fillable txt box ",{"$nulls":4},{"$f":"ROUND(G76*F76/F78,2)","v":{"$error":"#DIV/0!"}},"Cs",null,{"$f":"IF(OR(ISBLANK(G76),G76=0,ISBLANK(F78)),,ROUND(J78+$K$3,2))","v":0},{"$f":"ROUND(H78*K78,2)","v":{"$error":"#DIV/0!"}},{"$f":"ROUND(K78/F78,4)","v":{"$error":"#DIV/0!"}}]
[26,"Cups, Drinking, Styrofoam, 12 oz","Dart 12J12",null,"40/25",1000,{"v":10,"d":"10 "},{"$f":"ROUND(G79*F79/F79,2)","v":10},"Cs",null,{"$f":"IF(OR(ISBLANK(G79),G79=0,ISBLANK(J79)),,ROUND(J79+$K$3,2))","v":0},{"$f":"ROUND(K79*H79,2)","v":0},0]
[null,null,"Distributor Choice"]
[null,"Must not contain CFC's ","Fillable txt box ",{"$nulls":4},{"$f":"ROUND(G79*F79/F81,2)","v":{"$error":"#DIV/0!"}},"Cs",null,{"$f":"IF(OR(ISBLANK(G79),G79=0,ISBLANK(F81)),,ROUND(J81+$K$3,2))","v":0},{"$f":"ROUND(H81*K81,2)","v":{"$error":"#DIV/0!"}},{"$f":"ROUND(K81/F81,4)","v":{"$error":"#DIV/0!"}}]
[27,"Forks, Plastic","D&W Finepack Senate P1001",null,1000,1000,{"v":0,"d":"0 "},{"$f":"ROUND(G82*F82/F82,2)","v":0},"Cs",null,{"$f":"IF(OR(ISBLANK(J82),G82=0,ISBLANK(G82)),,ROUND(J82+$K$3,2))","v":0},{"$f":"ROUND(K82*H82,2)","v":0},0]
[null,"Medium weight","Dixie PFM 22",null,2000,2000,null,{"$f":"ROUND($G$82*$F$82/F83,2)","v":0},"Cs",null,{"$f":"IF(OR(ISBLANK(J83),G82=0,ISBLANK(G82)),,ROUND(J83+$K$3,2))","v":0},{"$f":"ROUND(K83*H83,2)","v":0},0]
[null,null,"Dart F6BW",null,1000,1000,null,{"$f":"ROUND($G$82*$F$82/F84,2)","v":0},"Cs",null,{"$f":"IF(OR(ISBLANK(J84),G82=0,ISBLANK(G82)),,ROUND(J84+$K$3,2))","v":0},0,0]
[null,null,"Distributor Choice"]
[null,null,"Fillable txt box ",{"$nulls":4},{"$f":"ROUND(G84*F84/F86,2)","v":{"$error":"#DIV/0!"}},"Cs",null,{"$f":"IF(OR(ISBLANK(G84),G84=0,ISBLANK(F86)),,ROUND(J86+$K$3,2))","v":0},{"$f":"ROUND(H86*K86,2)","v":{"$error":"#DIV/0!"}},{"$f":"ROUND(K86/F86,4)","v":{"$error":"#DIV/0!"}}]
[null,null,"Max Packaging",null,1000,1000,null,{"$f":"ROUND($G$82*$F$82/F87,2)","v":0},"CS",null,{"$f":"IF(OR(ISBLANK(J87),G82=0,ISBLANK(G82)),,ROUND(J87+$K$3,2))","v":0},0,0]
[28,"Forks, MW Black Plastic, Disposable, Dispenser type","Smart Stack SSF51",null,960,960,{"v":4,"d":"4 "},{"$f":"ROUND(G88*F88/F88,2)","v":4},"Cs",null,{"$f":"IF(OR(ISBLANK(G88),G88=0,ISBLANK(J88)),,ROUND(J88+$K$3,2))","v":0},{"$f":"ROUND(K88*H88,2)","v":0},0]
[29,"Gloves, Lined","Handgards LTX ",null,{"v":144,"d":"144.0"},144,{"v":10,"d":"10 "},{"$f":"ROUND(G89*F89/F89,2)","v":10},"Cs",null,{"$f":"IF(OR(ISBLANK(G89),G89=0,ISBLANK(J89)),,ROUND(J89+$K$3,2))","v":0},{"$f":"ROUND(K89*H89,2)","v":0},0]
[null,"One Pair.  Latex, medium weight.  Size:  Large","Distributor Choice"]
[null,null,"Fillable txt box ",{"$nulls":4},{"$f":"ROUND(G89*F89/F91,2)","v":{"$error":"#DIV/0!"}},"Cs",null,{"$f":"IF(OR(ISBLANK(G89),G89=0,ISBLANK(F91)),,ROUND(J91+$K$3,2))","v":0},{"$f":"ROUND(H91*K91,2)","v":{"$error":"#DIV/0!"}},{"$f":"ROUND(K91/F91,4)","v":{"$error":"#DIV/0!"}}]
[30,"Gloves, Plastic","Distributor Choice",null,"10/100",1000,{"v":70,"d":"70 "},{"$f":"ROUND(G92*F92/F92,2)","v":70},"Cs"]
[null,"Cuff Length.  Dispenser Box.  Embossed.","Fillable txt box ",{"$nulls":4},{"$f":"ROUND(G92*F92/F93,2)","v":{"$error":"#DIV/0!"}},"Cs",null,{"$f":"IF(OR(ISBLANK(G92),G92=0,ISBLANK(F93)),,ROUND(J93+$K$3,2))","v":0},{"$f":"ROUND(H93*K93,2)","v":{"$error":"#DIV/0!"}},{"$f":"ROUND(K93/F93,4)","v":{"$error":"#DIV/0!"}}]
[31,"Kit, Spork with Napkin Kit","D&W Finepack Senate P1005Kit",null,1000,1000,{"v":0,"d":"0 "},{"$f":"ROUND(G94*F94/F94,2)","v":0},"Cs",null,{"$f":"IF(OR(ISBLANK(G94),G94=0,ISBLANK(J94)),,ROUND(J94+$K$3,2))","v":0},{"$f":"ROUND(K94*H94,2)","v":0},0]
[null,"Medium Weight White Spork with  ","Distributor Choice",{"$nulls":3}," "]
[null,"10x10 1-ply Napkin, wrapped","Fillable txt box ",{"$nulls":4},{"$f":"ROUND(G94*F94/F96,2)","v":{"$error":"#DIV/0!"}},"Cs",null,{"$f":"IF(OR(ISBLANK(G94),G94=0,ISBLANK(F96)),,ROUND(J96+$K$3,2))","v":0},{"$f":"ROUND(H96*K96,2)","v":{"$error":"#DIV/0!"}},{"$f":"ROUND(K96/F96,4)","v":{"$error":"#DIV/0!"}}]
[32,"Kit, Fork MW, Milk Straw  with Napkin","D&W Finepack Senate P1001MSKIT",null,1000,1000,{"v":0,"d":"0 "},{"$f":"ROUND(G97*F97/F97,2)","v":0},"Cs",null,{"$f":"IF(OR(ISBLANK(G97),G97=0,ISBLANK(J97)),,ROUND(J97+$K$3,2))","v":0},{"$f":"ROUND(K97*H97,2)","v":0},0]
[null,null,"Distributor Choice"]
[null,"Medium Weight White Fork ","Fillable txt box ",{"$nulls":4},{"$f":"ROUND(G97*F97/F99,2)","v":{"$error":"#DIV/0!"}},"Cs",null,{"$f":"IF(OR(ISBLANK(G97),G97=0,ISBLANK(F99)),,ROUND(J99+$K$3,2))","v":0},{"$f":"ROUND(H99*K99,2)","v":{"$error":"#DIV/0!"}},{"$f":"ROUND(K99/F99,4)","v":{"$error":"#DIV/0!"}}]
[33,"Lids, 2 oz ","Dart",null,"20/125",2500,{"v":20,"d":"20 "},{"$f":"ROUND(G100*F100/F100,2)","v":20},"Cs",null,{"$f":"IF(OR(ISBLANK(G100),G100=0,ISBLANK(J100)),,ROUND(J100+$K$3,2))","v":0},{"$f":"ROUND(K100*H100,2)","v":0},0]
[null,null,"Distributor Choice"]
[null,"Fits 2 oz plastic portion cup , see Line 23","Fillable txt box ",{"$nulls":4},{"$f":"ROUND(G100*F100/F102,2)","v":{"$error":"#DIV/0!"}},"Cs",null,{"$f":"IF(OR(ISBLANK(G100),G100=0,ISBLANK(F102)),,ROUND(J102+$K$3,2))","v":0},{"$f":"ROUND(H102*K102,2)","v":{"$error":"#DIV/0!"}},{"$f":"ROUND(K102/F102,4)","v":{"$error":"#DIV/0!"}}]
[34,"Lids, 4 oz","Dixie PL4C",null,2400,2400,{"v":75,"d":"75 "},{"$f":"ROUND(G103*F103/F103,2)","v":75},"Cs",null,{"$f":"IF(OR(ISBLANK(J103),G103=0,ISBLANK(G103)),,ROUND(J103+$K$3,2))","v":0},{"$f":"ROUND(K103*H103,2)","v":0},0]
[null,"Fits 4 oz. plastic portion cup, see line 24","Dart 400 PCL",null,2500,2500,null,{"$f":"ROUND($G$103*$F$103/F104,2)","v":72},"Cs",null,{"$f":"IF(OR(ISBLANK(J104),G103=0,ISBLANK(G103)),,ROUND(J104+$K$3,2))","v":0},{"$f":"ROUND(K104*H104,2)","v":0},0]
[null,null,"Solo PL4",null,2500,2500,null,{"$f":"ROUND($G$103*$F$103/F105,2)","v":72},"Cs",null,{"$f":"IF(OR(ISBLANK(J105),G103=0,ISBLANK(G103)),,ROUND(J105+$K$3,2))","v":0},0,0]
[35,"Lids, 5 oz","Dart 400PCl",null,2500,2500,{"v":0,"d":"0 "},{"$f":"ROUND(G106*F106/F106,2)","v":0},"Cs",null,{"$f":"IF(OR(ISBLANK(G106),G106=0,ISBLANK(J106)),,ROUND(J106+$K$3,2))","v":0},{"$f":"ROUND(K106*H106,2)","v":0},0]
[null,null,"Distributor Choice"]
[null,"Fits 5.5 oz. plastic portion cup see line 25","Fillable txt box ",{"$nulls":4},{"$f":"ROUND(G106*F106/F108,2)","v":{"$error":"#DIV/0!"}},"Cs",null,{"$f":"IF(OR(ISBLANK(G106),G106=0,ISBLANK(F108)),,ROUND(J108+$K$3,2))","v":0},{"$f":"ROUND(H108*K108,2)","v":{"$error":"#DIV/0!"}},{"$f":"ROUND(K108/F108,4)","v":{"$error":"#DIV/0!"}}]
[36,"Lids, 5 oz bowl with flared lip","Genpak",null,500,500,{"v":0,"d":"0 "},{"$f":"ROUND(G109*F109/F109,2)","v":0},"Cs",null,{"$f":"IF(OR(ISBLANK(G109),G109=0,ISBLANK(J109)),,ROUND(J109+$K$3,2))","v":0},{"$f":"ROUND(K109*H109,2)","v":0},0]
[null,"see line 7"]
[37,"Lids, 12 oz bowl with flared lip","Genpak 94012",null,500,500,{"v":0,"d":"0 "},{"$f":"ROUND(G111*F111/F111,2)","v":0},"Cs",null,{"$f":"IF(OR(ISBLANK(G111),G111=0,ISBLANK(J111)),,ROUND(J111+$K$3,2))","v":0},{"$f":"ROUND(K111*H111,2)","v":0},{"$f":"ROUND(K111/F111,4)","v":0}]
[null,"OPS dome fits all 12 oz bows, clear, with .88 lid height"]
[38,"Lid, Container, 8-32 oz Non Vented Plastic","Dart 20JLNV",null,"10/100",1000,{"v":0,"d":"0 "},{"$f":"ROUND(G113*F113/F113,2)","v":0},"Cs",null,{"$f":"IF(OR(ISBLANK(G113),G113=0,ISBLANK(J113)),,ROUND(J113+$K$3,2))","v":0},{"$f":"ROUND(K113*H113,2)","v":0},{"$f":"ROUND(K113/F113,4)","v":0}]
[null,null,"Distributor Choice"]
[null,"Fits 8SJ20, 12SJ20, 5B20, 8B20 see line 26, 27","Fillable txt box ",{"$nulls":4},{"$f":"ROUND(G113*F113/F115,2)","v":{"$error":"#DIV/0!"}},"Cs",null,{"$f":"IF(OR(ISBLANK(G113),G113=0,ISBLANK(F115)),,ROUND(J115+$K$3,2))","v":0},{"$f":"ROUND(H115*K115,2)","v":{"$error":"#DIV/0!"}},{"$f":"ROUND(K115/F115,4)","v":{"$error":"#DIV/0!"}}]
[39,"Lid, Container, 6-14 oz Vented Plastic, White","Dart 12JL",null,"10/100",1000,{"v":2,"d":"2 "},{"$f":"ROUND(G116*F116/F116,2)","v":2},"Cs",null,{"$f":"IF(OR(ISBLANK(G116),G116=0,ISBLANK(J116)),,ROUND(J116+$K$3,2))","v":0},{"$f":"ROUND(K116*H116,2)","v":0},0]
[null,null,"Distributor Choice"]
[null,"see line 27","Fillable txt box ",{"$nulls":4},{"$f":"ROUND(G116*F116/F118,2)","v":{"$error":"#DIV/0!"}},"Cs",null,{"$f":"IF(OR(ISBLANK(G116),G116=0,ISBLANK(F118)),,ROUND(J118+$K$3,2))","v":0},{"$f":"ROUND(H118*K118,2)","v":{"$error":"#DIV/0!"}},{"$f":"ROUND(K118/F118,4)","v":{"$error":"#DIV/0!"}}]
[40,"Lid, Container, 8-20 oz Vented Plastic, Translucent","Dart 20JL ",null,"10/100",1000,{"v":2,"d":"2 "},{"$f":"ROUND(G119*F119/F119,2)","v":2},"Cs",null,{"$f":"IF(OR(ISBLANK(G119),G119=0,ISBLANK(J119)),,ROUND(J119+$K$3,2))","v":0},{"$f":"ROUND(K119*H119,2)","v":0},0]
[null,null,"Distributor Choice"]
[null,"see line 8,9,14,15","Fillable txt box ",{"$nulls":4},{"$f":"ROUND(G119*F119/F121,2)","v":{"$error":"#DIV/0!"}},"Cs",null,{"$f":"IF(OR(ISBLANK(G119),G119=0,ISBLANK(F121)),,ROUND(J121+$K$3,2))","v":0},{"$f":"ROUND(H121*K121,2)","v":{"$error":"#DIV/0!"}},{"$f":"ROUND(K121/F121,4)","v":{"$error":"#DIV/0!"}}]
[41,"Lid, Plate, 10.25\", fits all plates.  10.25\" x 1.38\", clear,","Distributor Choice",null,200,200,{"v":0,"d":"0 "},{"$f":"ROUND(G122*F122/F122,2)","v":0},"Cs"]
[null,"vented see ln 50","Fillable txt box ",{"$nulls":4},{"$f":"ROUND(G122*F122/F123,2)","v":{"$error":"#DIV/0!"}},"Cs",null,{"$f":"IF(OR(ISBLANK(G122),G122=0,ISBLANK(F123)),,ROUND(J123+$K$3,2))","v":0},{"$f":"ROUND(H123*K123,2)","v":{"$error":"#DIV/0!"}},{"$f":"ROUND(K123/F123,4)","v":{"$error":"#DIV/0!"}}]
[42,"Liners, Pan","Dixie LO10",null,1000,1000,{"v":50,"d":"50 "},{"$f":"ROUND(G124*F124/F124,2)","v":50},"Cs",null,{"$f":"IF(OR(ISBLANK(G124),G124=0,ISBLANK(J124)),,ROUND(J124+$K$3,2))","v":0},{"$f":"ROUND(K124*H124,2)","v":0},0]
[null,null,"Distributor Choice"]
[null,"Silicon sheets 16.5\" x 24.5\" standard","Fillable txt box ",{"$nulls":4},{"$f":"ROUND(G124*F124/F126,2)","v":{"$error":"#DIV/0!"}},"Cs",null,{"$f":"IF(OR(ISBLANK(G124),G124=0,ISBLANK(F126)),,ROUND(J126+$K$3,2))","v":0},{"$f":"ROUND(K126*H126,2)","v":{"$error":"#DIV/0!"}},{"$f":"ROUND(K126/F126,4)","v":{"$error":"#DIV/0!"}}]
[43,"Liners, Pan, Unbleached Natural","EcoCraft 030025",null,1000,1000,{"v":0,"d":"0 "},{"$f":"ROUND(G127*F127/F127,2)","v":0},"Cs",null,{"$f":"IF(OR(ISBLANK(G127),G127=0,ISBLANK(J127)),,ROUND(J127+$K$3,2))","v":0},{"$f":"ROUND(K127*H127,2)","v":0},0]
[null,"Eco-friendly"," "]
[null,"16 3/8\" x 24 3/8 \""]
[44,"Liners, Trash Cans","Distributor Choice",null,100,100,{"v":200,"d":"200 "},{"$f":"ROUND(G130*F130/F130,2)","v":200},"Cs"]
[null,"60 gallon trash liners.Linear Low Density Resin 38\" ","Fillable txt box ",{"$nulls":4},{"$f":"ROUND(G130*F130/F131,2)","v":{"$error":"#DIV/0!"}},"Cs",null,{"$f":"IF(OR(ISBLANK(G130),G130=0,ISBLANK(F131)),,ROUND(J131+$K$3,2))","v":0},{"$f":"ROUND(H131*K131,2)","v":{"$error":"#DIV/0!"}},{"$f":"ROUND(K131/F131,4)","v":{"$error":"#DIV/0!"}}]
[null,"x 58\" 9 mil, New poly weigfht 13.2 pounds (minus 0).  ",null,null," "," "]
[null,"Minimum tear. 240 grams/md/td.   ",null,null," "," "]
[null,"Minimum dart drop 150 gms.  No reprocessed resins",null,null," "," "]
[45,"Napkins, White, 8\" x 13.5\"","Georgia Pacific 332-01",null,10000,10000,{"v":0,"d":"0 "},{"$f":"ROUND(G135*F135/F135,2)","v":0},"Cs",null,{"$f":"IF(OR(ISBLANK(J135),G135=0,ISBLANK(G135)),,ROUND(J135+$K$3,2))","v":0},{"$f":"ROUND(K135*H135,2)","v":0},{"$f":"ROUND(K135/F135,4)","v":0}]
[null,null,"Distributor Choice",null,null," "]
[null,null,"Fillable txt box ",null," "," ",null,{"$f":"ROUND(G135*F135/F137,2)","v":{"$error":"#VALUE!"}},"Cs",null,{"$f":"IF(OR(ISBLANK(G135),G135=0,ISBLANK(F135)),,ROUND(J137+$K$3,2))","v":0},{"$f":"ROUND(H137*K137,2)","v":{"$error":"#VALUE!"}},{"$f":"ROUND(K137/F137,4)","v":{"$error":"#VALUE!"}}]
[null,"Double fold, tail dispenser","Papercraft, Inc",null,10000,10000,null,{"$f":"ROUND(G135*F135/F138,2)","v":0},"Cs",null,{"$f":"IF(OR(ISBLANK(J138),G135=0,ISBLANK(G135)),,ROUND(J138+$K$3,2))","v":0},0,0]
[46,"Napkins, White, 12\" x 13\"","Georgia Pacific 370-00",null,6000,6000,{"v":75,"d":"75 "},{"$f":"ROUND(G139*F139/F139,2)","v":75},"Cs",null,{"$f":"IF(OR(ISBLANK(J139),G139=0,ISBLANK(G139)),,ROUND(J139+$K$3,2))","v":0},0,0]
[null,null,"Distributor Choice",null,null," "]
[null,null,"Fillable txt box ",null," "," ",null,{"$f":"ROUND(G139*F139/F141,2)","v":{"$error":"#VALUE!"}},"Cs",null,{"$f":"IF(OR(ISBLANK(G139),G139=0,ISBLANK(F139)),,ROUND(J141+$K$3,2))","v":0},{"$f":"ROUND(H141*K141,2)","v":{"$error":"#VALUE!"}},{"$f":"ROUND(K141/F141,4)","v":{"$error":"#VALUE!"}}]
[null,"1 ply.  Dispenser ID 51302","SCA D780",null,6000,6000,null,{"$f":"ROUND(G139*F139/F142,2)","v":75},"Cs",null,{"$f":"IF(OR(ISBLANK(J142),G139=0,ISBLANK(G139)),,ROUND(J142+$K$3,2))","v":0},0,0]
[47,"Napkins, White, 13\" x 8.5\", Dispenser","Tork Expressnap DX900",null,1,1,{"v":0,"d":"0 "},{"$f":"ROUND(G143*F143/F143,2)","v":0},"Cs",null,{"$f":"IF(OR(ISBLANK(G143),G143=0,ISBLANK(J143)),,ROUND(J143+$K$3,2))","v":0},0,0]
[48,"Panhandlers/Pan Holder (hot)","Panhandler PG-1",null,1,1,{"v":130,"d":"130 "},{"$f":"ROUND(G144*F144/F144,2)","v":130},"Cs",null,{"$f":"IF(OR(ISBLANK(G144),G144=0,ISBLANK(J144)),,ROUND(J144+$K$3,2))","v":0},0,0]
[null,null,"Distributor Choice",{"$nulls":3},"  "]
[null,"Insulated 11.5\" x 8.5\"","Fillable txt box ",{"$nulls":4},{"$f":"ROUND(G144*F144/F146,2)","v":{"$error":"#DIV/0!"}},"Cs",null,{"$f":"IF(OR(ISBLANK(G144),G144=0,ISBLANK(F146)),,ROUND(J146+$K$3,2))","v":0},{"$f":"ROUND(H146*K146,2)","v":{"$error":"#DIV/0!"}},{"$f":"ROUND(K146/F146,4)","v":{"$error":"#DIV/0!"}}]
[49,"Plate","Pactiv TK1-0044",null,500,500,{"v":10,"d":"10 "},{"$f":"ROUND(G147*F147/F147,2)","v":10},"Cs",null,{"$f":"IF(OR(ISBLANK(J147),G147=0,ISBLANK(G147)),,ROUND(J147+$K$3,2))","v":0},{"$f":"ROUND(K147*H147,2)","v":0},0]
[null,"Divided, foam laminated 10.25\"","Dart 10CPWQ",null,500,500,null,{"$f":"ROUND($G$147*$F$147/F148,2)","v":10},"Cs",null,{"$f":"IF(OR(ISBLANK(J148),G147=0,ISBLANK(G147)),,ROUND(J148+$K$3,2))","v":0},{"$f":"ROUND(K148*H148,2)","v":0},0]
[null,null,"Distributor Choice"]
[null," ","Fillable txt box ",{"$nulls":3},10,{"$f":"ROUND(G147*F147/F150,2)","v":{"$error":"#DIV/0!"}},"Cs",null,{"$f":"IF(OR(ISBLANK(G147),G147=0,ISBLANK(F150)),,ROUND(J150+$K$3,2))","v":0},{"$f":"ROUND(H150*K150,2)","v":{"$error":"#DIV/0!"}},{"$f":"ROUND(K150/F150,4)","v":{"$error":"#DIV/0!"}}]
[50,"Plate, FM, 6 inch (snack size)","GenPak 80600",null,1000,1000,{"v":5,"d":"5 "},{"$f":"ROUND(G151*F151/F151,2)","v":5},"Cs",null,{"$f":"IF(OR(ISBLANK(G151),G151=0,ISBLANK(J151)),,ROUND(J151+$K$3,2))","v":0},{"$f":"ROUND(K151*H151,2)","v":0},0]
[null,null,"Distributor Choice"]
[null,null,"Fillable txt box ",{"$nulls":4},{"$f":"ROUND(G151*F151/F153,2)","v":{"$error":"#DIV/0!"}},"Cs",null,{"$f":"IF(OR(ISBLANK(G151),G151=0,ISBLANK(F153)),,ROUND(J153+$K$3,2))","v":0},{"$f":"ROUND(H153*K153,2)","v":{"$error":"#DIV/0!"}},{"$f":"ROUND(K153/F153,4)","v":{"$error":"#DIV/0!"}}]
[51,"Sponges, Metal","Distributor Choice",null,12,12,{"v":15,"d":"15 "},{"$f":"ROUND(G154*F154/F154,2)","v":15},"Cs"]
[null,"Stainless steel, commercial 300 series. Type 1.5 oz","Fillable txt box ",{"$nulls":4},{"$f":"ROUND(G154*F154/F155,2)","v":{"$error":"#DIV/0!"}},"Cs",null,{"$f":"IF(OR(ISBLANK(G154),G154=0,ISBLANK(F155)),,ROUND(J155+$K$3,2))","v":0},{"$f":"ROUND(H155*K155,2)","v":{"$error":"#DIV/0!"}},{"$error":"#DIV/0!"}]
[52,"Spoons, Plastic","D&W Finepack Senate P1003",null,1000,1000,{"v":25,"d":"25 "},{"$f":"ROUND(G156*F156/F156,2)","v":25},"Cs",null,{"$f":"IF(OR(ISBLANK(J156),G156=0,ISBLANK(G156)),,ROUND(J156+$K$3,2))","v":0},{"$f":"ROUND(K156*H156,2)","v":0},0]
[null,"Medium weight","Dixie PTM 22",null,2000,2000,null,{"$f":"ROUND($G$156*$F$156/F157,2)","v":12.5},"Cs",null,{"$f":"IF(OR(ISBLANK(J157),G156=0,ISBLANK(G156)),,ROUND(J157+$K$3,2))","v":0},{"$f":"ROUND(K157*H157,2)","v":0},0]
[null,null,"Distributor Choice",null," "," ",null,{"$f":"ROUND(G156*F156/F156,2)","v":25},"Cs"]
[null,null,"Fillable txt box ",{"$nulls":4},{"$f":"ROUND(G158*F158/F159,2)","v":{"$error":"#VALUE!"}},"Cs",null,{"$f":"IF(OR(ISBLANK(G158),G158=0,ISBLANK(F159)),,ROUND(J159+$K$3,2))","v":0},{"$f":"ROUND(H159*K159,2)","v":{"$error":"#VALUE!"}},{"$f":"ROUND(K159/F159,4)","v":{"$error":"#DIV/0!"}}]
[null,null,"Dart S6BW",null,1000,1000,null,{"$f":"ROUND($G$156*$F$156/F160,2)","v":25},"Cs",null,{"$f":"IF(OR(ISBLANK(J160),G156=0,ISBLANK(G156)),,ROUND(J160+$K$3,2))","v":0},0,0]
[53,"Spoons, MW, Black Plastic, Dispenser","Smart Stack SSS51",null,960,960,{"v":0,"d":"0 "},{"$f":"ROUND(G161*F161/F161,2)","v":0},"Cs",null,{"$f":"IF(OR(ISBLANK(G161),G161=0,ISBLANK(J161)),,ROUND(J161+$K$3,2))","v":0},{"$f":"ROUND(K161*H161,2)","v":0},0]
[54,"Spoons, Soup, MW, Plastic","Max Packaging",null,1000,1000,{"v":0,"d":"0 "},{"$f":"ROUND(G162*F162/F162,2)","v":0},"Cs",null,{"$f":"IF(OR(ISBLANK(G162),G162=0,ISBLANK(J162)),,ROUND(J162+$K$3,2))","v":0},{"$f":"ROUND(K162*H162,2)","v":0},{"$f":"ROUND(K162/F162,4)","v":0}]
[null,null,"Distributor Choice"]
[null,null,"Fillable txt box ",{"$nulls":4},{"$f":"ROUND(G162*F162/F164,2)","v":{"$error":"#DIV/0!"}},"Cs",null,{"$f":"IF(OR(ISBLANK(G162),G162=0,ISBLANK(F164)),,ROUND(J164+$K$3,2))","v":0},{"$f":"ROUND(H164*K164,2)","v":{"$error":"#DIV/0!"}},{"$f":"ROUND(K164/F164,4)","v":{"$error":"#DIV/0!"}}]
[55,"Sporks","Distributor Choice",null,1000,1000,{"v":0,"d":"0 "},{"$f":"ROUND(G165*F165/F165,2)","v":0},"Cs"]
[null,"Combination of spoon and fork. medium weight","Fillable txt box ",{"$nulls":4},{"$f":"ROUND(G165*F165/F166,2)","v":{"$error":"#DIV/0!"}},"Cs",null,{"$f":"IF(OR(ISBLANK(G165),G165=0,ISBLANK(F166)),,ROUND(J166+$K$3,2))","v":0},{"$f":"ROUND(H166*K166,2)","v":{"$error":"#DIV/0!"}},{"$error":"#DIV/0!"}]
[56,"Straws","Monogram 718462",null,"10/500",5000,{"v":0,"d":"0 "},{"$f":"ROUND(G167*F167/F167,2)","v":0},"Cs",null,{"$f":"IF(OR(ISBLANK(J167),G167=0,ISBLANK(G167)),,ROUND(J167+$K$3,2))","v":0},{"$f":"ROUND(K167*H167,2)","v":0},0]
[null,"Individually wrapped.  Plastic.  7.75\" to 8\"","Sweetheart 822TH",null,"12/500",6000,null,{"$f":"ROUND($G$167*$F$167/F168,2)","v":0},"Cs",null,{"$f":"IF(OR(ISBLANK(J168),G167=0,ISBLANK(G167)),,ROUND(J168+$K$3,2))","v":0},{"$f":"ROUND(K168*H168,2)","v":0},0]
[null,null,"Distributor Choice"]
[null,null,"Fillable txt box ",{"$nulls":4},{"$f":"ROUND(G167*F167/F170,2)","v":{"$error":"#DIV/0!"}},"Cs",null,{"$f":"IF(OR(ISBLANK(G167),G167=0,ISBLANK(F170)),,ROUND(J170+$K$3,2))","v":0},{"$f":"ROUND(H170*K170,2)","v":{"$error":"#DIV/0!"}},{"$f":"ROUND(K170/F170,4)","v":{"$error":"#DIV/0!"}}]
[57,"Towel, Paper 11 x 8.8, Roll, Perforated, White","Distributor Choice",null,1,30,{"v":0,"d":"0 "},{"$f":"ROUND(G171*F171/F171,2)","v":0},"Cs"]
[null,null,"Fillable txt box ",{"$nulls":4},{"$f":"ROUND(G171*F171/F172,2)","v":{"$error":"#DIV/0!"}},"Cs",null,{"$f":"IF(OR(ISBLANK(G171),G171=0,ISBLANK(F172)),,ROUND(J172+$K$3,2))","v":0},{"$f":"ROUND(H172*K172,2)","v":{"$error":"#DIV/0!"}},{"$error":"#DIV/0!"}]
[58,"Towels, Terry Cloth","Intedge 313SP-22306 ",null,12,12,{"v":25,"d":"25 "},{"$f":"ROUND(G173*F173/F173,2)","v":25},"Cs",null,{"$f":"IF(OR(ISBLANK(J173),G173=0,ISBLANK(G173)),,ROUND(J173+$K$3,2))","v":0},{"$f":"ROUND(K173*H173,2)","v":0},0]
[null,"20\" x 17\" per cloth.  White.  Bar Mop","Benhar 003945",null,12,12,null,{"$f":"ROUND(G173*F173/F174,2)","v":25},"Cs",null,{"$f":"IF(OR(ISBLANK(J174),G173=0,ISBLANK(G173)),,ROUND(J174+$K$3,2))","v":0},0,0]
[59,"Trays, Food, #25","Dixie RP 25",null,1000,1000,{"v":10,"d":"10 "},{"$f":"ROUND(G175*F175/F175,2)","v":10},"Cs",null,{"$f":"IF(OR(ISBLANK(J175),G175=0,ISBLANK(G175)),,ROUND(J175+$K$3,2))","v":0},{"$f":"ROUND(K175*H175,2)","v":0},0]
[null,null,"Southern Champion 0401",null,1000,1000,null,{"$f":"ROUND($G$175*$F$175/F176,2)","v":10},"CS",null,{"$f":"IF(OR(ISBLANK(J176),G175=0,ISBLANK(G175)),,ROUND(J176+$K$3,2))","v":0},{"$f":"ROUND(K176*H176,2)","v":0},0]
[null,null,"Distributor Choice"]
[null,null,"Fillable txt box ",null,null,100,null,{"$f":"ROUND(G175*F175/F178,2)","v":100},"Cs",null,{"$f":"IF(OR(ISBLANK(G175),G175=0,ISBLANK(J178),ISBLANK(F178)),,ROUND(J178+$K$3,2))","v":0},{"$f":"ROUND(H178*K178,2)","v":0},{"$f":"ROUND(K178/F178,4)","v":0}]
[60,"Trays, Food, 6 oz /#40","Dixie RP 40",null,1000,1000,{"v":0,"d":"0 "},{"$f":"ROUND(G179*F179/F179,2)","v":0},"Cs",null,{"$f":"IF(OR(ISBLANK(J179),G179=0,ISBLANK(G179)),,ROUND(J179+$K$3,2))","v":0},{"$f":"ROUND(K179*H179,2)","v":0},0]
[null,null,"Southern Champion 0405",null,1000,1000,null,{"$f":"ROUND($G$179*$F$179/F180,2)","v":0},"Cs",null,{"$f":"IF(OR(ISBLANK(J180),G179=0,ISBLANK(G179)),,ROUND(J180+$K$3,2))","v":0},{"$f":"ROUND(K180*H180,2)","v":0},0]
[null,null,"Distributor Choice"]
[null,null,"Fillable txt box ",{"$nulls":4},{"$f":"ROUND(G179*F179/F182,2)","v":{"$error":"#DIV/0!"}},"Cs",null,{"$f":"IF(OR(ISBLANK(G179),G179=0,ISBLANK(J182),ISBLANK(F182)),,ROUND(J182+$K$3,2))","v":0},{"$f":"ROUND(H182*K182,2)","v":{"$error":"#DIV/0!"}},{"$f":"ROUND(K182/F182,4)","v":{"$error":"#DIV/0!"}}]
[61,"Trays, Food, 1/2lb /#50","Dixie RP 50",null,1000,1000,{"v":0,"d":"0 "},{"$f":"ROUND(G183*F183/F183,2)","v":0},"Cs",null,{"$f":"IF(OR(ISBLANK(J183),G183=0,ISBLANK(G183)),,ROUND(J183+$K$3,2))","v":0},{"$f":"ROUND(K183*H183,2)","v":0},0]
[null,null,"Southern Champion 0409",null,1000,1000,null,{"$f":"ROUND(G183*F183/F184,2)","v":0},"Cs",null,{"$f":"IF(OR(ISBLANK(J184),G183=0,ISBLANK(G183)),,ROUND(J184+$K$3,2))","v":0},{"$f":"ROUND(K184*H184,2)","v":0},0]
[null,null,"Distributor Choice"]
[null,null,"Fillable txt box ",{"$nulls":4},{"$f":"ROUND(G183*F183/F186,2)","v":{"$error":"#DIV/0!"}},"Cs",null,{"$f":"IF(OR(ISBLANK(G183),G183=0,ISBLANK(J186),ISBLANK(F186)),,ROUND(J186+$K$3,2))","v":0},{"$f":"ROUND(H186*K186,2)","v":{"$error":"#DIV/0!"}},{"$f":"ROUND(K186/F186,4)","v":{"$error":"#DIV/0!"}}]
[62,"Trays, Food, 1/2 lb/#50","EcoCraft 300695",null,1000,1000,{"v":0,"d":"0 "},{"$f":"ROUND(G187*F187/F187,2)","v":0},"Cs",null,{"$f":"IF(OR(ISBLANK(J187),G187=0,ISBLANK(G187)),,ROUND(J187+$K$3,2))","v":0},{"$f":"ROUND(K187*H187,2)","v":0},0]
[null,"Eco-friendly","Southern Champion 0509",null,1000,1000,null,{"$f":"ROUND(G187*F187/F188,2)","v":0},"Cs",null,{"$f":"IF(OR(ISBLANK(J188),G187=0,ISBLANK(G187)),,ROUND(J188+$K$3,2))","v":0},{"$f":"ROUND(K188*H188,2)","v":0},0]
[null,"Unbleached paper"]
[63,"Tray, Food, 3lb, Red Pld","Dixie RP 3008",null,"2/250",500,{"v":0,"d":"0 "},{"$f":"ROUND(G190*F190/F190,2)","v":0},"Cs",null,{"$f":"IF(OR(ISBLANK(J190),G190=0,ISBLANK(G190)),,ROUND(J190+$K$3,2))","v":0},{"$f":"ROUND(K190*H190,2)","v":0},{"$f":"ROUND(K190/F190,4)","v":0}]
[null,null,"Distributor Choice"]
[null,null,"Fillable txt box ",{"$nulls":4},{"$f":"ROUND($G$190*$F$190/F192,2)","v":{"$error":"#DIV/0!"}},"Cs",null,{"$f":"IF(OR(ISBLANK(G190),G190=0,ISBLANK(F192)),,ROUND(J192+$K$3,2))","v":0},{"$f":"ROUND(K192*H192,2)","v":{"$error":"#DIV/0!"}},{"$f":"ROUND(K192/F192,4)","v":{"$error":"#DIV/0!"}}]
[64,"Trays, Plastic, Clear","Ivex 4296",null,2500,2500,{"v":0,"d":"0 "},{"$f":"ROUND(G193*F193/F193,2)","v":0},"Cs",null,{"$f":"IF(OR(ISBLANK(G193),G193=0,ISBLANK(J193)),,ROUND(J193+$K$3,2))","v":0},{"$f":"ROUND(K193*H193,2)","v":0},0]
[null,"Plastic square 3.5\" x 3.5\""," ",null," "," "]
[65,"Tray, Plastic, Black, Square Extra Deep","ParPak 21935",null,2000,2000,{"v":0,"d":"0 "},{"$f":"ROUND(G195*F195/F195,2)","v":0},"Cs",null,{"$f":"IF(OR(ISBLANK(G195),G195=0,ISBLANK(J195)),,ROUND(J195+$K$3,2))","v":0},{"$f":"ROUND(K195*H195,2)","v":0},{"$f":"ROUND(K195/F195,4)","v":0}]
[null,"Plastic square 3.5\" x 3.5\" x 1.5\""]
[66,"Trays, School Styrofoam","Pactiv TH1-0500",null,500,500,{"v":700,"d":"700 "},{"$f":"ROUND(G197*F197/F197,2)","v":700},"Cs",null,{"$f":"IF(OR(ISBLANK(J197),G197=0,ISBLANK(G197)),,ROUND(J197+$K$3,2))","v":0},{"$f":"ROUND(K197*H197,2)","v":0},{"$f":"ROUND(K197/F197,4)","v":0}]
[null,"8 1/2\" x 10 3/4\".  Laminated, white, 5 compartment","Gen Pak 10500",null,500,500,null,{"$f":"ROUND($G$197*$F$197/F198,2)","v":700},"Cs",null,{"$f":"IF(OR(ISBLANK(J198),G197=0,ISBLANK(G197)),,ROUND(J198+$K$3,2))","v":0},{"$f":"ROUND(K198*H198,2)","v":0},0]
[null,null,"D&W Finepack FTS500-CMP",null,"4/125",500,null,{"$f":"ROUND($G$197*$F$197/F199,2)","v":700},"Cs",null,{"$f":"IF(OR(ISBLANK(J199),G197=0,ISBLANK(G197)),,ROUND(J199+$K$3,2))","v":0},0,0]
[null,null,"Republic Plastics-98015",null,500,500,null,{"$f":"ROUND($G$197*$F$197/F200,2)","v":700},"Cs",null,{"$f":"IF(OR(ISBLANK(J200),G197=0,ISBLANK(G197)),,ROUND(J200+$K$3,2))","v":0},0,0]
[67,"Trays, School Styrofoam","Pactiv YTHBO500SGBX",null,"500",500,null,{"$f":"ROUND(G201*F201/F201,2)","v":0},"Cs",null,{"$f":"IF(OR(ISBLANK(J201),G201=0,ISBLANK(G201)),,ROUND(J201+$K$3,2))","v":0},{"$f":"ROUND(K201*H201,2)","v":0},{"$f":"ROUND(K201/F201,4)","v":0}]
[null,"8 1/2\" x 10 3/4\".  Laminated, Black, 5 compartment"," ",null," ",null,null," "," "," "," "," "," "]
[68,"Wax Paper","110 Ponyroll",null,"12/750",9000,{"v":10,"d":"10 "},{"$f":"ROUND(G203*F203/F203,2)","v":10},"Cs",null,{"$f":"IF(OR(ISBLANK(J203),G203=0,ISBLANK(G203)),,ROUND(J203+$K$3,2))","v":0},{"$f":"ROUND(K203*H203,2)","v":0},{"$f":"ROUND(K203/F203,4)","v":0}]
[null,null,"Marcel 5093 ",null,"12/250",3000,null,{"$f":"ROUND($G$203*$F$203/F204,2)","v":30},"Cs",null,{"$f":"IF(OR(ISBLANK(J204),G203=0,ISBLANK(G203)),,ROUND(J204+$K$3,2))","v":0},{"$f":"ROUND(K204*H204,2)","v":0},0]
[null,null,"Distributor Choice"]
[null,null,"Fillable txt box ",null,null,3000,null,{"$f":"ROUND(G203*F203/F206,2)","v":30},"Cs",null,{"$f":"IF(OR(ISBLANK(G203),G203=0,ISBLANK(F206)),,ROUND(J206+$K$3,2))","v":0},{"$f":"ROUND(H206*K206,2)","v":0},{"$f":"ROUND(K206/F206,4)","v":0}]
[69,"Wipes, Foodservice, 13 x 21","Brawny Max 29416",null,150,150,{"v":0,"d":"0 "},{"$f":"ROUND(G207*F207/F207,2)","v":0},"Cs",null,{"$f":"IF(OR(ISBLANK(J207),G207=0,ISBLANK(G207)),,ROUND(J207+$K$3,2))","v":0},{"$f":"ROUND(K207*H207,2)","v":0},0]
[null,null,"Distributor Choice"]
[null,null,"Fillable txt box ",{"$nulls":4},{"$f":"ROUND(G207*F207/F209,2)","v":{"$error":"#DIV/0!"}},"Cs",null,{"$f":"IF(OR(ISBLANK(G207),G207=0,ISBLANK(F209)),,ROUND(J209+$K$3,2))","v":0},{"$f":"ROUND(H209*K209,2)","v":{"$error":"#DIV/0!"}},{"$f":"ROUND(K209/F209,4)","v":{"$error":"#DIV/0!"}}]
[70,"Wrap, Clear, Plastic, Film, 12x2000","Distributor Choice",null,"1 each",150,{"v":20,"d":"20 "},{"$f":"ROUND(G210*F210/F210,2)","v":20},"Cs"]
[null,null,"Fillable txt box ",{"$nulls":4},{"$f":"ROUND(G210*F210/F211,2)","v":{"$error":"#DIV/0!"}},"Cs",null,{"$f":"IF(OR(ISBLANK(G210),G210=0,ISBLANK(J211)),,ROUND(J211+$K$3,2))","v":0},{"$f":"ROUND(H211*K211,2)","v":{"$error":"#DIV/0!"}},{"$error":"#DIV/0!"}]
[71,"Wrap, Clear, Plastic, Film 18x2000","Distributor Choice",null,"1 each",2000,{"v":75,"d":"75 "},{"$f":"ROUND(G212*F212/F212,2)","v":75},"Cs"]
[null,null,"Fillable txt box ",{"$nulls":4},{"$f":"ROUND(G212*F212/F213,2)","v":{"$error":"#DIV/0!"}},"Cs",null,{"$f":"IF(OR(ISBLANK(G212),G212=0,ISBLANK(J213)),,ROUND(J213+$K$3,2))","v":0},{"$f":"ROUND(H213*K213,2)","v":{"$error":"#DIV/0!"}},{"$error":"#DIV/0!"}]
[72,"Wrap, Clear, Plastic, Film 24x2000","Distributor Choice",null,"1 each",2000,{"v":20,"d":"20 "},{"$f":"ROUND(G214*F214/F214,2)","v":20},"Cs"]
[null,null,"Fillable txt box ",{"$nulls":4},{"$f":"ROUND(G214*F214/F215,2)","v":{"$error":"#DIV/0!"}},"Cs",null,{"$f":"IF(OR(ISBLANK(G214),G214=0,ISBLANK(J215)),,ROUND(J215+$K$3,2))","v":0},{"$f":"ROUND(H215*K215,2)","v":{"$error":"#DIV/0!"}},{"$error":"#DIV/0!"}]
[73,"Wrap, Deli, Waxed paper, 6 x 10.75","Distributor Choice",null,"1 each",500,{"v":0,"d":"0 "},{"$f":"ROUND(G216*F216/F216,2)","v":0},"Cs"]
[null,null,"Fillable txt box ",{"$nulls":4},{"$f":"ROUND(G216*F216/F217,2)","v":{"$error":"#DIV/0!"}},"Cs",null,{"$f":"IF(OR(ISBLANK(G216),G216=0,ISBLANK(J217)),,ROUND(J217+$K$3,2))","v":0},{"$f":"ROUND(H217*K217,2)","v":{"$error":"#DIV/0!"}},{"$error":"#DIV/0!"}]
[74,"Wrap, Foil,  Potato, ","Pactiv W72",null,"6/500",3000,{"v":20,"d":"20 "},{"$f":"ROUND(G218*F218/F218,2)","v":20},"Cs",null,{"$f":"IF(OR(ISBLANK(J218),G218=0,ISBLANK(G218)),,ROUND(J218+$K$3,2))","v":0},{"$f":"ROUND(K218*H218,2)","v":0},0]
[null,"9\" x 10.75\", Aluminum Foil","Distributor Choice"]
[null,null,"Fillable txt box ",{"$nulls":4},{"$f":"ROUND(G218*F218/F220,2)","v":{"$error":"#DIV/0!"}},"Cs",null,{"$f":"IF(OR(ISBLANK(G218),G218=0,ISBLANK(F220)),,ROUND(J220+$K$3,2))","v":0},{"$f":"ROUND(H220*K220,2)","v":{"$error":"#DIV/0!"}},{"$f":"ROUND(K220/F220,4)","v":{"$error":"#DIV/0!"}}]
[{"$nulls":9},"Lot A Paper & Paper Supplies",null,{"$f":"SUMIF(L7:L220,\">0\")","v":0}]

{"sheet":"Chemicals","index":398,"n_rows":15,"n_cols":13,"rows_kept":15,"merged":[[0,4,0,12],[1,4,1,12],[2,5,2,9]]}
[null,{"$f":"'Recap Sheet'!A2","v":"School Food Authority:"},null,null,{"$f":"'Recap Sheet'!A3","v":"Offeror Name:"}]
[null,{"$f":"'Recap Sheet'!B2","v":"WILLIAMSBURG COUNTY SCHOOLS"},"Return to Recap Sheet",null,{"$f":"'Recap Sheet'!B3","v":0}]
["Item","Description","Approved Brand Name / Manuf ID # ",null,null,"Firm Fixed Fee",{"$nulls":4},{"$f":"'Recap Sheet'!B4","v":{"v":0,"d":"$0.00"}}]
["#",null,null,"Distributor","Vendor","Svgs","Est.","Bid ","Bid","Unit","Unit Price","Total ","Cost per"]
[{"$nulls":3},"Code","Pack","per unit","Bid Qty","Qty","Unit","Price","plus Fee","Price","Unit"]
[null,"Chemicals"]
[1,"Bleach","Distributor Choice",null,"6/96 z",576,30,{"$f":"ROUND(G7*F7/F7,2)","v":30},"Cs"]
[null,"Must be EPA approved and have MSDS information.","Fillable txt box ",{"$nulls":4},{"$f":"ROUND(G7*F7/F8,2)","v":{"$error":"#DIV/0!"}},null,null,{"$f":"IF(OR(ISBLANK(J8),G7=0,ISBLANK(G7)),,ROUND(J8+$K$3,2))","v":0},{"$f":"ROUND(H8*K8,2)","v":{"$error":"#DIV/0!"}},{"$f":"ROUND(K8/F8,2)","v":{"$error":"#DIV/0!"}}]
[2,"Cleaner","Distributor Choice",null,"24/21 z",504,0,{"$f":"ROUND(G9*F9/F9,2)","v":0},"Cs"]
[null,"Scouring Powder, Must have MSDS information","Fillable txt box ",{"$nulls":4},{"$f":"ROUND(G9*F9/F10,2)","v":{"$error":"#DIV/0!"}},null,null,{"$f":"IF(OR(ISBLANK(J10),G9=0,ISBLANK(G9)),,ROUND(J10+$K$3,2))","v":0},{"$f":"ROUND(H10*K10,2)","v":{"$error":"#DIV/0!"}},{"$f":"ROUND(K10/F10,2)","v":{"$error":"#DIV/0!"}}]
[3,"Liquid Detergent","Distributor Choice",null,"5 gal",5,0,{"$f":"ROUND($G$11*$F$11/F11,2)","v":0},"Cs"]
[null,"Must have MSDS information","Fillable txt box ",{"$nulls":4},{"$f":"ROUND(G11*F11/F12,2)","v":{"$error":"#DIV/0!"}},null,null,{"$f":"IF(OR(ISBLANK(J12),G11=0,ISBLANK(G11)),,ROUND(J12+$K$3,2))","v":0},{"$f":"ROUND(H12*K12,2)","v":{"$error":"#DIV/0!"}},{"$f":"ROUND(K12/F12,2)","v":{"$error":"#DIV/0!"}}]
[]
[]
[{"$nulls":6},0,null,"Page Total",null,null,{"$f":"SUMIF(L7:L13,\">0\")","v":0}]

{"sheet":"Sheet110","index":399,"n_rows":0,"n_cols":0,"rows_kept":0}

{"sheet":"Sheet1","index":400,"n_rows":0,"n_cols":0,"rows_kept":0}