{"text_format":"3","workbook":"xlsx","n_sheets":1,"sheets":["Sheet1"],"not_rendered":{"external_links":1,"defined_names":1},"read":"whole","date_system":"1900"}

{"sheet":"Sheet1","index":0,"n_rows":39,"n_cols":4,"rows_kept":39,"merged":[[0,0,0,3],[2,0,2,3]]}
["Beaufort County Schools and Enrollment"]
[]
["Exhibit A"]
[]
["School ID","Site","Enrollment","Grade Span"]
[4,"Battery Creek High",{"$f":"VLOOKUP(A6,[1]Sheet1!$A$4:$C$35,3,0)","v":768},"9th to 12th"]
[2,"Beaufort High",{"$f":"VLOOKUP(A7,[1]Sheet1!$A$4:$C$35,3,0)","v":{"v":1211,"d":"1,211"}},"9th to 12th"]
[30,"Bluffton High",{"$f":"VLOOKUP(A8,[1]Sheet1!$A$4:$C$35,3,0)","v":{"v":1297,"d":"1,297"}},"9th to 12th"]
[3,"Hilton Head High",{"$f":"VLOOKUP(A9,[1]Sheet1!$A$4:$C$35,3,0)","v":{"v":1359,"d":"1,359"}},"9th to 12th"]
[39,"May River High",{"$f":"VLOOKUP(A10,[1]Sheet1!$A$4:$C$35,3,0)","v":{"v":1484,"d":"1,484"}},"9th to 12th"]
[36,"Whale Branch Early College High",{"$f":"VLOOKUP(A11,[1]Sheet1!$A$4:$C$35,3,0)","v":438},"9th to 12th"]
[28,"Beaufort Middle",{"$f":"VLOOKUP(A12,[1]Sheet1!$A$4:$C$35,3,0)","v":458},"6th to 8th"]
[35,"Bluffton Middle",{"$f":"VLOOKUP(A13,[1]Sheet1!$A$4:$C$35,3,0)","v":821},"6th to 8th"]
[26,"HE McCracken Middle",{"$f":"VLOOKUP(A14,[1]Sheet1!$A$4:$C$35,3,0)","v":930},"6th to 8th"]
[9,"Hilton Head Middle",{"$f":"VLOOKUP(A15,[1]Sheet1!$A$4:$C$35,3,0)","v":884},"6th to 8th"]
[1,"Lady's Island Middle",{"$f":"VLOOKUP(A16,[1]Sheet1!$A$4:$C$35,3,0)","v":511},"6th to 8th"]
[27,"Whale Branch Middle",{"$f":"VLOOKUP(A17,[1]Sheet1!$A$4:$C$35,3,0)","v":360},"5th to 8th"]
[38,"River Ridge Academy",{"$f":"VLOOKUP(A18,[1]Sheet1!$A$4:$C$35,3,0)","v":{"v":1091,"d":"1,091"}},"PreK to 8th"]
[601,"Riverview Charter",{"$f":"VLOOKUP(A19,[1]Sheet1!$A$4:$C$35,3,0)","v":689},"Kinder to 8th"]
[40,"Robert Smalls International Academy",{"$f":"VLOOKUP(A20,[1]Sheet1!$A$4:$C$35,3,0)","v":648},"PreK to 8th"]
[8,"Beaufort Elementary",{"$f":"VLOOKUP(A21,[1]Sheet1!$A$4:$C$35,3,0)","v":376},"PreK to 5th"]
[24,"Bluffton Elementary",{"$f":"VLOOKUP(A22,[1]Sheet1!$A$4:$C$35,3,0)","v":751},"PreK to 5th"]
[10,"Broad River Elementary",{"$f":"VLOOKUP(A23,[1]Sheet1!$A$4:$C$35,3,0)","v":448},"PreK to 5th"]
[25,"Coosa Elementary",{"$f":"VLOOKUP(A24,[1]Sheet1!$A$4:$C$35,3,0)","v":456},"PreK to 5th"]
[31,"Hilton Head ECC",{"$f":"VLOOKUP(A25,[1]Sheet1!$A$4:$C$35,3,0)","v":320},"PreK to 5th"]
[33,"Hilton Head Elementary",{"$f":"VLOOKUP(A26,[1]Sheet1!$A$4:$C$35,3,0)","v":771},"PreK to 5th"]
[32,"Hilton Head SCA",{"$f":"VLOOKUP(A27,[1]Sheet1!$A$4:$C$35,3,0)","v":596},"PreK to 5th"]
[14,"Lady's Island Elementary",{"$f":"VLOOKUP(A28,[1]Sheet1!$A$4:$C$35,3,0)","v":223},"PreK to 5th"]
[17,"MC Riley Elementary",{"$f":"VLOOKUP(A29,[1]Sheet1!$A$4:$C$35,3,0)","v":713},"PreK to 5th"]
[15,"Mossy Oaks Elementary",{"$f":"VLOOKUP(A30,[1]Sheet1!$A$4:$C$35,3,0)","v":350},"PreK to 5th"]
[29,"Okatie Elementary",{"$f":"VLOOKUP(A31,[1]Sheet1!$A$4:$C$35,3,0)","v":564},"PreK to 5th"]
[16,"Port Royal Elementary",{"$f":"VLOOKUP(A32,[1]Sheet1!$A$4:$C$35,3,0)","v":168},"PreK to 5th"]
[37,"Pritchardville Elementary",{"$f":"VLOOKUP(A33,[1]Sheet1!$A$4:$C$35,3,0)","v":876},"PreK to 5th"]
[34,"Red Cedar Elementary",{"$f":"VLOOKUP(A34,[1]Sheet1!$A$4:$C$35,3,0)","v":572},"PreK to 5th"]
[22,"Shanklin Elementary",{"$f":"VLOOKUP(A35,[1]Sheet1!$A$4:$C$35,3,0)","v":381},"PreK to 5th"]
[20,"St. Helena Elementary",{"$f":"VLOOKUP(A36,[1]Sheet1!$A$4:$C$35,3,0)","v":344},"PreK to 5th"]
[23,"Whale Branch Elementary",{"$f":"VLOOKUP(A37,[1]Sheet1!$A$4:$C$35,3,0)","v":381},"PreK to 4th"]
[]
[null,"District Total",{"v":21239,"d":"21,239"}]