{"text_format":"3","workbook":"xlsx","n_sheets":5,"sheets":["Itemized List","DONT USE-Window Devices","DONT USE-ELMOs","DONT USE-Misc. Surplus","Copy of Export"],"read":"whole","date_system":"1900"}

{"sheet":"Itemized List","index":0,"n_rows":125,"n_cols":3,"rows_kept":125}
["Description","Condition","Quantity"]
["Makers 3D Printer","Broken",1]
["Monoprice 3D Printer","Broken",2]
["XIRRIUS XR600 AP","Working",1]
["Amp","Broken",1]
["DBX166XL Compressor-Limiter","Working",1]
["DODSR231QX Graphic Equalizer","Working",1]
["Bretford A/V Learning Cart","Working",10]
["Sony Compact Disc Player, 300 Disc Changer Capacity","Working",4]
["Tascam CD Cassette Player","Working",1]
["Lenovo 500e Chromebook (Gen 2)","Broken",6]
["Lenovo 500e Chromebook (Gen 1)","Working",2]
["FrontRow Pro Digital 940R Receiver/Amplifier with 940TM Transmitter/Microphone","Broken",3]
["FrontRow Student Microphone","Broken",1]
["TeachLogic Maxim III","Broken",2]
["FrontRow Pro Digital 940R Receiver/Amplifier with 940TM Transmitter/Microphone","Working",3]
["LENOVO DESKTOP TOWER","Working",1]
["Lenovo ThinkCenter All in One","Working",1]
["Lenovo ThinkCentre M92z 3311 (Core i5-3470T, 4GB, 500GB HDD)","Working",9]
["Lenovo ThinkCentre M93z 10AF All In One","Working",2]
["Lenovo ThinkPad Onelink Pro Dock for Thinkpad Yoga","Working",3]
["Lenovo ThinkPad USB 3.0 Dock","Working",5]
["Lenovo Thinkpad X220 Ultrabase Base","Working",4]
["ELMO TT-02RX Document Camera","Broken",14]
["ELMO TT-02s Document Camera","Broken",5]
["ELMO TT-12 Document Camera","Broken",4]
["ELMO TT-12iD Document Camera","Broken",11]
["ELMO TT-02RX Document Camera","Working",14]
["ELMO TT-02S Document Camera","Working",5]
["ELMO TT-02s Document Camera","Working",5]
["ELMO TT-02u Document Camera","Working",1]
["ELMO TT-12 Document Camera","Working",4]
["ELMO TT-12i Document Camera","Working",1]
["ELMO TT-12iD Document Camera","Working",11]
["Sony DVD/VCR Combo Player Unit","Working",4]
["Nook Book Reader Device","Working",1]
["Lenovo ThinkPad 11e","Broken",1]
["Lenovo ThinkPad E14 (Core i5-1135G7, 8GB, 256GB) [Gen 2]","Broken",1]
["Lenovo ThinkPad L13 Yoga (Core i5-10210U, 16GB, 256GB) [Gen 1]","Broken",3]
["Lenovo ThinkPad L13 Yoga (Core i7-1165G7, 16GB, 512GB) [Gen 2]","Broken",1]
["Lenovo ThinkPad L380 Yoga (Core i5-8250U, 8GB, 256GB)","Broken",96]
["Lenovo ThinkPad L390 (Core i5-8265U, 8GB, 256GB)","Broken",45]
["Lenovo ThinkPad Yoga 12 (Core i5-5200U, 8GB, 128GB SSD)","Broken",13]
["Lenovo ThinkPad Yoga 260 (Core i5-6200U, 8GB, 192GB)","Broken",3]
["Lenovo ThinkPad Yoga 260 (Core i5-6300U, 8GB, 256GB)","Broken",18]
["Dell Inspiron 13 7000 series","Working",1]
["Gateway Laptop M280E","Working",1]
["HP G62-144DN Notebook","Working",1]
["Lenovo ThinkPad L13 Yoga (Core i5-10210U, 16GB, 256GB) [Gen 1]","Working",3]
["Lenovo ThinkPad L380 Yoga (Core i5-8250U, 8GB, 256GB)","Working",96]
["Lenovo ThinkPad L390 (Core i5-8265U, 8GB, 256GB)","Working",45]
["Lenovo ThinkPad UltraBase Series 3","Working",2]
["Lenovo ThinkPad x140e","Working",1]
["Lenovo ThinkPad x201T Tablet Laptop","Working",3]
["Lenovo ThinkPad x220 Tablet Laptop","Working",3]
["Lenovo ThinkPad Yoga 12 (Core i5-5200U, 8GB, 128GB SSD)","Working",13]
["Lenovo ThinkPad Yoga 260 (Core i5-6200U, 8GB, 192GB)","Working",3]
["Lenovo ThinkPad Yoga 260 (Core i5-6300U, 8GB, 256GB)","Working",18]
["Microsoft Surface Pro 4 Tablet (Core i5 6300U, 8GB, 256GB SSD)","Working",15]
["Microsoft Surface Book 2","Broken",1]
["ShureLX","Working",2]
["Dell 19\" Widescreen Monitor","Broken",6]
["Dell 22\" Monitor","Broken",4]
["GATEWAY PERSONAL COMPUTER FLAT SCREEN MONITOR","Broken",1]
["Lenovo ThinkVision 22\" LCD Monitor","Broken",3]
["Dell 19\" Widescreen Monitor","Working",6]
["Dell 22\" Monitor","Working",4]
["Dell P223 Monitor","Working",1]
["Lenovo ThinkVision 23\" Monitor","Working",2]
["Lenovo ThinkVision Monitor","Working",1]
["SHARP LCD MONITOR","Working",1]
["NIX 15\" Digital Picture Frame","Broken",1]
["Sonim Cell Phone","Broken",3]
["HP LaserJet Pro m501","Working",1]
["Epson Brightlink 595Wi Projector","Broken",8]
["Epson Brighlink 695Wi Projector","Working",45]
["Epson Brightlink 585Wi Projector","Working",1]
["Epson Brightlink 595Wi Projector","Working",8]
["Epson Brightlink 695Wi Projector","Working",1]
["Epson Brightlink Pro 1430Wi Projector","Working",4]
["Epson Powerlite 685W Projector","Working",27]
["NEC NP300 Projector","Working",1]
["NEC VT491 Projector","Working",4]
["Toshiba TDP-S25","Working",1]
["Honeywell MK3580 Quantim Scanner USB & Stand","Working",2]
["Metrologic Quantum T Barcode Scanner","Working",5]
["Panasonic A-54V2 Security Camera","Broken",4]
["HP PRO CURVE SWITCH 1400","Working",1]
["Samsung Galaxy Tab 2","Broken",2]
["Samsung Galaxy Tab 2","Working",2]
["Samsung Galaxy Tab A (2019)","Working",29]
["Samsung 40\" Class LED NU7100 Series Smart 4K UHD TV","Broken",1]
["Samsung 75\" TV","Broken",3]
["WESTINGHOUSE TV 50 INCH","Broken",1]
["LG Monitor","Working",1]
["SAMSUNG 32\" Class HD (720P) Smart LED TV","Working",1]
["SAMSUNG 46  IN TV","Working",1]
["SHARP AQUOS LB261U 42\" TV","Working",1]
["Toshiba 32HL67US TV","Working",2]
["Motorola CP100D UHF Digital 16 Channel (403-480MHz) Two-Way Radio","Broken",1]
["Motorola CP200D UHF Digital 16 Channel Two-Way Radio","Broken",1]
["Panasonic 4 Head HI-FI Stereo Video Cassette Tape Recorder","Working",1]
["Panasonic HI-FI Stereo 4 Head Video Cassette Tape Recorder","Working",3]
["Panasonic DVD/VHS Combo Player, HI-FI Stereo","Working",3]
["Sony DVD Player","Working",1]
["Toshiba DVD Video/CD/VCR Player And VHS/Playback Unit","Working",1]
["Zenith Video Recorder","Working",1]
["4 BOXES OF A/V & NETWORK CABLES","Working","5 Boxes"]
["KEYBOARDS","Working",24]
["MISC ELMO & PROJECTOR ACCESSORIES","Working","3 Boxes"]
["LAPTOP POWER ADAPTERS","Working","2 Boxes"]
["MICE","Working",23]
["MISC ADAPTERS/DONGLES","Working","1 Box"]
["MISC REMOTES","Working","1 Box"]
["HEADPHONES","Working",9]
["LENOVO DOCKING STATIONS","Working","1 Box"]
["MISC LAPTOP PARTS","Working","1 Box"]
["TV-ATOR TV Boxes","Working",13]
["Promethean Clickers","Working","2 Cases"]
["Motorola DTR650 Two-Way Radios","Working",162]
["Motorola DTR650 Two-Way Radio Charing Bases","Working",163]
["ETC Source 4 Leko Bodies (750w) w/ Twist Lock Plug","Unknown",26]
["Motorola DTR650 Accessories","Working","1 Box"]
["Laptop Cable Locks","Working",6]
["Anti Theft Kiosk Mountable iPad Stand","Working",2]

{"sheet":"DONT USE-Window Devices","index":1,"n_rows":580,"n_cols":9,"rows_kept":580,"hidden":true}
["Asset Tag","Description","Model","S/N","Brand","Category","Condition","Marked as Ready to Declare (if in IIQ)","Deprovisioned in Google Admin"]
["S57638",{"$f":"VLOOKUP(A2,'Copy of Export'!$A$2:$AF2393,5,false)","v":"#N/A"},{"$f":"VLOOKUP(A2,'Copy of Export'!$A$2:$AF2393,13,false)","v":"#N/A"},{"$f":"VLOOKUP(A2,'Copy of Export'!$A$2:$AF2393,2,false)","v":"#N/A"},{"$f":"VLOOKUP(A2,'Copy of Export'!$A$2:$AF2393,5,false)","v":"#N/A"},{"$f":"VLOOKUP(A2,'Copy of Export'!$A$2:$AF2393,8,false)","v":"#N/A"},"Working"]
["S57636",{"$f":"VLOOKUP(A3,'Copy of Export'!$A$2:$AF2393,5,false)","v":"#N/A"},{"$f":"VLOOKUP(A3,'Copy of Export'!$A$2:$AF2393,13,false)","v":"#N/A"},{"$f":"VLOOKUP(A3,'Copy of Export'!$A$2:$AF2393,2,false)","v":"#N/A"},{"$f":"VLOOKUP(A3,'Copy of Export'!$A$2:$AF2393,5,false)","v":"#N/A"},{"$f":"VLOOKUP(A3,'Copy of Export'!$A$2:$AF2393,8,false)","v":"#N/A"},"Working"]
["47113",{"$f":"VLOOKUP(A4,'Copy of Export'!$A$2:$AF2393,5,false)","v":"#N/A"},{"$f":"VLOOKUP(A4,'Copy of Export'!$A$2:$AF2393,13,false)","v":"#N/A"},{"$f":"VLOOKUP(A4,'Copy of Export'!$A$2:$AF2393,2,false)","v":"#N/A"},{"$f":"VLOOKUP(A4,'Copy of Export'!$A$2:$AF2393,5,false)","v":"#N/A"},{"$f":"VLOOKUP(A4,'Copy of Export'!$A$2:$AF2393,8,false)","v":"#N/A"},"Working"]
["47352",{"$f":"VLOOKUP(A5,'Copy of Export'!$A$2:$AF2393,5,false)","v":"#N/A"},{"$f":"VLOOKUP(A5,'Copy of Export'!$A$2:$AF2393,13,false)","v":"#N/A"},{"$f":"VLOOKUP(A5,'Copy of Export'!$A$2:$AF2393,2,false)","v":"#N/A"},{"$f":"VLOOKUP(A5,'Copy of Export'!$A$2:$AF2393,5,false)","v":"#N/A"},{"$f":"VLOOKUP(A5,'Copy of Export'!$A$2:$AF2393,8,false)","v":"#N/A"},"Working"]
["47141",{"$f":"VLOOKUP(A6,'Copy of Export'!$A$2:$AF2393,5,false)","v":"#N/A"},{"$f":"VLOOKUP(A6,'Copy of Export'!$A$2:$AF2393,13,false)","v":"#N/A"},{"$f":"VLOOKUP(A6,'Copy of Export'!$A$2:$AF2393,2,false)","v":"#N/A"},{"$f":"VLOOKUP(A6,'Copy of Export'!$A$2:$AF2393,5,false)","v":"#N/A"},{"$f":"VLOOKUP(A6,'Copy of Export'!$A$2:$AF2393,8,false)","v":"#N/A"},"Working"]
["47988",{"$f":"VLOOKUP(A7,'Copy of Export'!$A$2:$AF2393,5,false)","v":"#N/A"},{"$f":"VLOOKUP(A7,'Copy of Export'!$A$2:$AF2393,13,false)","v":"#N/A"},{"$f":"VLOOKUP(A7,'Copy of Export'!$A$2:$AF2393,2,false)","v":"#N/A"},{"$f":"VLOOKUP(A7,'Copy of Export'!$A$2:$AF2393,5,false)","v":"#N/A"},{"$f":"VLOOKUP(A7,'Copy of Export'!$A$2:$AF2393,8,false)","v":"#N/A"},"Broken"]
["47115",{"$f":"VLOOKUP(A8,'Copy of Export'!$A$2:$AF2393,5,false)","v":"#N/A"},{"$f":"VLOOKUP(A8,'Copy of Export'!$A$2:$AF2393,13,false)","v":"#N/A"},{"$f":"VLOOKUP(A8,'Copy of Export'!$A$2:$AF2393,2,false)","v":"#N/A"},{"$f":"VLOOKUP(A8,'Copy of Export'!$A$2:$AF2393,5,false)","v":"#N/A"},{"$f":"VLOOKUP(A8,'Copy of Export'!$A$2:$AF2393,8,false)","v":"#N/A"},"Working"]
["49551",{"$f":"VLOOKUP(A9,'Copy of Export'!$A$2:$AF2393,5,false)","v":"#N/A"},{"$f":"VLOOKUP(A9,'Copy of Export'!$A$2:$AF2393,13,false)","v":"#N/A"},{"$f":"VLOOKUP(A9,'Copy of Export'!$A$2:$AF2393,2,false)","v":"#N/A"},{"$f":"VLOOKUP(A9,'Copy of Export'!$A$2:$AF2393,5,false)","v":"#N/A"},{"$f":"VLOOKUP(A9,'Copy of Export'!$A$2:$AF2393,8,false)","v":"#N/A"},"Working"]
["47116",{"$f":"VLOOKUP(A10,'Copy of Export'!$A$2:$AF2393,5,false)","v":"#N/A"},{"$f":"VLOOKUP(A10,'Copy of Export'!$A$2:$AF2393,13,false)","v":"#N/A"},{"$f":"VLOOKUP(A10,'Copy of Export'!$A$2:$AF2393,2,false)","v":"#N/A"},{"$f":"VLOOKUP(A10,'Copy of Export'!$A$2:$AF2393,5,false)","v":"#N/A"},{"$f":"VLOOKUP(A10,'Copy of Export'!$A$2:$AF2393,8,false)","v":"#N/A"},"Working"]
["56349",{"$f":"VLOOKUP(A11,'Copy of Export'!$A$2:$AF2393,5,false)","v":"Lenovo ThinkPad L380 Yoga (Core i5-8250U, 8GB, 256GB)"},{"$f":"VLOOKUP(A11,'Copy of Export'!$A$2:$AF2393,13,false)","v":"L380 Yoga"},{"$f":"VLOOKUP(A11,'Copy of Export'!$A$2:$AF2393,2,false)","v":"R90VG3BY"},{"$f":"VLOOKUP(A11,'Copy of Export'!$A$2:$AF2393,5,false)","v":"Lenovo ThinkPad L380 Yoga (Core i5-8250U, 8GB, 256GB)"},{"$f":"VLOOKUP(A11,'Copy of Export'!$A$2:$AF2393,8,false)","v":"Laptop"},"Broken"]
["56321",{"$f":"VLOOKUP(A12,'Copy of Export'!$A$2:$AF2393,5,false)","v":"Lenovo ThinkPad L380 Yoga (Core i5-8250U, 8GB, 256GB)"},{"$f":"VLOOKUP(A12,'Copy of Export'!$A$2:$AF2393,13,false)","v":"L380 Yoga"},{"$f":"VLOOKUP(A12,'Copy of Export'!$A$2:$AF2393,2,false)","v":"R90VG3EH"},{"$f":"VLOOKUP(A12,'Copy of Export'!$A$2:$AF2393,5,false)","v":"Lenovo ThinkPad L380 Yoga (Core i5-8250U, 8GB, 256GB)"},{"$f":"VLOOKUP(A12,'Copy of Export'!$A$2:$AF2393,8,false)","v":"Laptop"},"Working"]
["56340",{"$f":"VLOOKUP(A13,'Copy of Export'!$A$2:$AF2393,5,false)","v":"Lenovo ThinkPad L380 Yoga (Core i5-8250U, 8GB, 256GB)"},{"$f":"VLOOKUP(A13,'Copy of Export'!$A$2:$AF2393,13,false)","v":"L380 Yoga"},{"$f":"VLOOKUP(A13,'Copy of Export'!$A$2:$AF2393,2,false)","v":"R90VG3CP"},{"$f":"VLOOKUP(A13,'Copy of Export'!$A$2:$AF2393,5,false)","v":"Lenovo ThinkPad L380 Yoga (Core i5-8250U, 8GB, 256GB)"},{"$f":"VLOOKUP(A13,'Copy of Export'!$A$2:$AF2393,8,false)","v":"Laptop"},"Working"]
["56284",{"$f":"VLOOKUP(A14,'Copy of Export'!$A$2:$AF2393,5,false)","v":"Lenovo ThinkPad L380 Yoga (Core i5-8250U, 8GB, 256GB)"},{"$f":"VLOOKUP(A14,'Copy of Export'!$A$2:$AF2393,13,false)","v":"L380 Yoga"},{"$f":"VLOOKUP(A14,'Copy of Export'!$A$2:$AF2393,2,false)","v":"R90VG3DR"},{"$f":"VLOOKUP(A14,'Copy of Export'!$A$2:$AF2393,5,false)","v":"Lenovo ThinkPad L380 Yoga (Core i5-8250U, 8GB, 256GB)"},{"$f":"VLOOKUP(A14,'Copy of Export'!$A$2:$AF2393,8,false)","v":"Laptop"},"Working"]
["56330",{"$f":"VLOOKUP(A15,'Copy of Export'!$A$2:$AF2393,5,false)","v":"Lenovo ThinkPad L380 Yoga (Core i5-8250U, 8GB, 256GB)"},{"$f":"VLOOKUP(A15,'Copy of Export'!$A$2:$AF2393,13,false)","v":"L380 Yoga"},{"$f":"VLOOKUP(A15,'Copy of Export'!$A$2:$AF2393,2,false)","v":"R90VG3ET"},{"$f":"VLOOKUP(A15,'Copy of Export'!$A$2:$AF2393,5,false)","v":"Lenovo ThinkPad L380 Yoga (Core i5-8250U, 8GB, 256GB)"},{"$f":"VLOOKUP(A15,'Copy of Export'!$A$2:$AF2393,8,false)","v":"Laptop"},"Working"]
["49746",{"$f":"VLOOKUP(A16,'Copy of Export'!$A$2:$AF2393,5,false)","v":"#N/A"},{"$f":"VLOOKUP(A16,'Copy of Export'!$A$2:$AF2393,13,false)","v":"#N/A"},{"$f":"VLOOKUP(A16,'Copy of Export'!$A$2:$AF2393,2,false)","v":"#N/A"},{"$f":"VLOOKUP(A16,'Copy of Export'!$A$2:$AF2393,5,false)","v":"#N/A"},{"$f":"VLOOKUP(A16,'Copy of Export'!$A$2:$AF2393,8,false)","v":"#N/A"},"Working"]
["47080",{"$f":"VLOOKUP(A17,'Copy of Export'!$A$2:$AF2393,5,false)","v":"Lenovo ThinkPad Yoga 12 (Core i5-5200U, 8GB, 128GB SSD)"},{"$f":"VLOOKUP(A17,'Copy of Export'!$A$2:$AF2393,13,false)","v":"Yoga 12"},{"$f":"VLOOKUP(A17,'Copy of Export'!$A$2:$AF2393,2,false)","v":"MP08FEWL"},{"$f":"VLOOKUP(A17,'Copy of Export'!$A$2:$AF2393,5,false)","v":"Lenovo ThinkPad Yoga 12 (Core i5-5200U, 8GB, 128GB SSD)"},{"$f":"VLOOKUP(A17,'Copy of Export'!$A$2:$AF2393,8,false)","v":"Laptop"},"Working"]
["47015",{"$f":"VLOOKUP(A18,'Copy of Export'!$A$2:$AF2393,5,false)","v":"#N/A"},{"$f":"VLOOKUP(A18,'Copy of Export'!$A$2:$AF2393,13,false)","v":"#N/A"},{"$f":"VLOOKUP(A18,'Copy of Export'!$A$2:$AF2393,2,false)","v":"#N/A"},{"$f":"VLOOKUP(A18,'Copy of Export'!$A$2:$AF2393,5,false)","v":"#N/A"},{"$f":"VLOOKUP(A18,'Copy of Export'!$A$2:$AF2393,8,false)","v":"#N/A"},"Working"]
["47117",{"$f":"VLOOKUP(A19,'Copy of Export'!$A$2:$AF2393,5,false)","v":"#N/A"},{"$f":"VLOOKUP(A19,'Copy of Export'!$A$2:$AF2393,13,false)","v":"#N/A"},{"$f":"VLOOKUP(A19,'Copy of Export'!$A$2:$AF2393,2,false)","v":"#N/A"},{"$f":"VLOOKUP(A19,'Copy of Export'!$A$2:$AF2393,5,false)","v":"#N/A"},{"$f":"VLOOKUP(A19,'Copy of Export'!$A$2:$AF2393,8,false)","v":"#N/A"},"Working"]
["49796",{"$f":"VLOOKUP(A20,'Copy of Export'!$A$2:$AF2393,5,false)","v":"#N/A"},{"$f":"VLOOKUP(A20,'Copy of Export'!$A$2:$AF2393,13,false)","v":"#N/A"},{"$f":"VLOOKUP(A20,'Copy of Export'!$A$2:$AF2393,2,false)","v":"#N/A"},{"$f":"VLOOKUP(A20,'Copy of Export'!$A$2:$AF2393,5,false)","v":"#N/A"},{"$f":"VLOOKUP(A20,'Copy of Export'!$A$2:$AF2393,8,false)","v":"#N/A"},"Working"]
["49660",{"$f":"VLOOKUP(A21,'Copy of Export'!$A$2:$AF2393,5,false)","v":"Lenovo ThinkPad Yoga 260 (Core i5-6300U, 8GB, 256GB)"},{"$f":"VLOOKUP(A21,'Copy of Export'!$A$2:$AF2393,13,false)","v":"Yoga 260"},{"$f":"VLOOKUP(A21,'Copy of Export'!$A$2:$AF2393,2,false)","v":"MP144N8B"},{"$f":"VLOOKUP(A21,'Copy of Export'!$A$2:$AF2393,5,false)","v":"Lenovo ThinkPad Yoga 260 (Core i5-6300U, 8GB, 256GB)"},{"$f":"VLOOKUP(A21,'Copy of Export'!$A$2:$AF2393,8,false)","v":"Laptop"},"Working"]
["47375",{"$f":"VLOOKUP(A22,'Copy of Export'!$A$2:$AF2393,5,false)","v":"#N/A"},{"$f":"VLOOKUP(A22,'Copy of Export'!$A$2:$AF2393,13,false)","v":"#N/A"},{"$f":"VLOOKUP(A22,'Copy of Export'!$A$2:$AF2393,2,false)","v":"#N/A"},{"$f":"VLOOKUP(A22,'Copy of Export'!$A$2:$AF2393,5,false)","v":"#N/A"},{"$f":"VLOOKUP(A22,'Copy of Export'!$A$2:$AF2393,8,false)","v":"#N/A"},"Working"]
["47975",{"$f":"VLOOKUP(A23,'Copy of Export'!$A$2:$AF2393,5,false)","v":"#N/A"},{"$f":"VLOOKUP(A23,'Copy of Export'!$A$2:$AF2393,13,false)","v":"#N/A"},{"$f":"VLOOKUP(A23,'Copy of Export'!$A$2:$AF2393,2,false)","v":"#N/A"},{"$f":"VLOOKUP(A23,'Copy of Export'!$A$2:$AF2393,5,false)","v":"#N/A"},{"$f":"VLOOKUP(A23,'Copy of Export'!$A$2:$AF2393,8,false)","v":"#N/A"},"Working"]
["S57634",{"$f":"VLOOKUP(A24,'Copy of Export'!$A$2:$AF2393,5,false)","v":"#N/A"},{"$f":"VLOOKUP(A24,'Copy of Export'!$A$2:$AF2393,13,false)","v":"#N/A"},{"$f":"VLOOKUP(A24,'Copy of Export'!$A$2:$AF2393,2,false)","v":"#N/A"},{"$f":"VLOOKUP(A24,'Copy of Export'!$A$2:$AF2393,5,false)","v":"#N/A"},{"$f":"VLOOKUP(A24,'Copy of Export'!$A$2:$AF2393,8,false)","v":"#N/A"},"Working"]
["S57633",{"$f":"VLOOKUP(A25,'Copy of Export'!$A$2:$AF2393,5,false)","v":"#N/A"},{"$f":"VLOOKUP(A25,'Copy of Export'!$A$2:$AF2393,13,false)","v":"#N/A"},{"$f":"VLOOKUP(A25,'Copy of Export'!$A$2:$AF2393,2,false)","v":"#N/A"},{"$f":"VLOOKUP(A25,'Copy of Export'!$A$2:$AF2393,5,false)","v":"#N/A"},{"$f":"VLOOKUP(A25,'Copy of Export'!$A$2:$AF2393,8,false)","v":"#N/A"},"Working"]
["S57627",{"$f":"VLOOKUP(A26,'Copy of Export'!$A$2:$AF2393,5,false)","v":"#N/A"},{"$f":"VLOOKUP(A26,'Copy of Export'!$A$2:$AF2393,13,false)","v":"#N/A"},{"$f":"VLOOKUP(A26,'Copy of Export'!$A$2:$AF2393,2,false)","v":"#N/A"},{"$f":"VLOOKUP(A26,'Copy of Export'!$A$2:$AF2393,5,false)","v":"#N/A"},{"$f":"VLOOKUP(A26,'Copy of Export'!$A$2:$AF2393,8,false)","v":"#N/A"},"Working"]
["S57625",{"$f":"VLOOKUP(A27,'Copy of Export'!$A$2:$AF2393,5,false)","v":"#N/A"},{"$f":"VLOOKUP(A27,'Copy of Export'!$A$2:$AF2393,13,false)","v":"#N/A"},{"$f":"VLOOKUP(A27,'Copy of Export'!$A$2:$AF2393,2,false)","v":"#N/A"},{"$f":"VLOOKUP(A27,'Copy of Export'!$A$2:$AF2393,5,false)","v":"#N/A"},{"$f":"VLOOKUP(A27,'Copy of Export'!$A$2:$AF2393,8,false)","v":"#N/A"},"Working"]
["S57629",{"$f":"VLOOKUP(A28,'Copy of Export'!$A$2:$AF2393,5,false)","v":"#N/A"},{"$f":"VLOOKUP(A28,'Copy of Export'!$A$2:$AF2393,13,false)","v":"#N/A"},{"$f":"VLOOKUP(A28,'Copy of Export'!$A$2:$AF2393,2,false)","v":"#N/A"},{"$f":"VLOOKUP(A28,'Copy of Export'!$A$2:$AF2393,5,false)","v":"#N/A"},{"$f":"VLOOKUP(A28,'Copy of Export'!$A$2:$AF2393,8,false)","v":"#N/A"},"Working"]
["S57637",{"$f":"VLOOKUP(A29,'Copy of Export'!$A$2:$AF2393,5,false)","v":"#N/A"},{"$f":"VLOOKUP(A29,'Copy of Export'!$A$2:$AF2393,13,false)","v":"#N/A"},{"$f":"VLOOKUP(A29,'Copy of Export'!$A$2:$AF2393,2,false)","v":"#N/A"},{"$f":"VLOOKUP(A29,'Copy of Export'!$A$2:$AF2393,5,false)","v":"#N/A"},{"$f":"VLOOKUP(A29,'Copy of Export'!$A$2:$AF2393,8,false)","v":"#N/A"},"Working"]
["S57610",{"$f":"VLOOKUP(A30,'Copy of Export'!$A$2:$AF2393,5,false)","v":"#N/A"},{"$f":"VLOOKUP(A30,'Copy of Export'!$A$2:$AF2393,13,false)","v":"#N/A"},{"$f":"VLOOKUP(A30,'Copy of Export'!$A$2:$AF2393,2,false)","v":"#N/A"},{"$f":"VLOOKUP(A30,'Copy of Export'!$A$2:$AF2393,5,false)","v":"#N/A"},{"$f":"VLOOKUP(A30,'Copy of Export'!$A$2:$AF2393,8,false)","v":"#N/A"},"Working"]
["S57630",{"$f":"VLOOKUP(A31,'Copy of Export'!$A$2:$AF2393,5,false)","v":"#N/A"},{"$f":"VLOOKUP(A31,'Copy of Export'!$A$2:$AF2393,13,false)","v":"#N/A"},{"$f":"VLOOKUP(A31,'Copy of Export'!$A$2:$AF2393,2,false)","v":"#N/A"},{"$f":"VLOOKUP(A31,'Copy of Export'!$A$2:$AF2393,5,false)","v":"#N/A"},{"$f":"VLOOKUP(A31,'Copy of Export'!$A$2:$AF2393,8,false)","v":"#N/A"},"Working"]
["S57632",{"$f":"VLOOKUP(A32,'Copy of Export'!$A$2:$AF2393,5,false)","v":"#N/A"},{"$f":"VLOOKUP(A32,'Copy of Export'!$A$2:$AF2393,13,false)","v":"#N/A"},{"$f":"VLOOKUP(A32,'Copy of Export'!$A$2:$AF2393,2,false)","v":"#N/A"},{"$f":"VLOOKUP(A32,'Copy of Export'!$A$2:$AF2393,5,false)","v":"#N/A"},{"$f":"VLOOKUP(A32,'Copy of Export'!$A$2:$AF2393,8,false)","v":"#N/A"},"Working"]
["S57626",{"$f":"VLOOKUP(A33,'Copy of Export'!$A$2:$AF2393,5,false)","v":"#N/A"},{"$f":"VLOOKUP(A33,'Copy of Export'!$A$2:$AF2393,13,false)","v":"#N/A"},{"$f":"VLOOKUP(A33,'Copy of Export'!$A$2:$AF2393,2,false)","v":"#N/A"},{"$f":"VLOOKUP(A33,'Copy of Export'!$A$2:$AF2393,5,false)","v":"#N/A"},{"$f":"VLOOKUP(A33,'Copy of Export'!$A$2:$AF2393,8,false)","v":"#N/A"},"Working"]
["S57639",{"$f":"VLOOKUP(A34,'Copy of Export'!$A$2:$AF2393,5,false)","v":"#N/A"},{"$f":"VLOOKUP(A34,'Copy of Export'!$A$2:$AF2393,13,false)","v":"#N/A"},{"$f":"VLOOKUP(A34,'Copy of Export'!$A$2:$AF2393,2,false)","v":"#N/A"},{"$f":"VLOOKUP(A34,'Copy of Export'!$A$2:$AF2393,5,false)","v":"#N/A"},{"$f":"VLOOKUP(A34,'Copy of Export'!$A$2:$AF2393,8,false)","v":"#N/A"},"Working"]
["S57642",{"$f":"VLOOKUP(A35,'Copy of Export'!$A$2:$AF2393,5,false)","v":"#N/A"},{"$f":"VLOOKUP(A35,'Copy of Export'!$A$2:$AF2393,13,false)","v":"#N/A"},{"$f":"VLOOKUP(A35,'Copy of Export'!$A$2:$AF2393,2,false)","v":"#N/A"},{"$f":"VLOOKUP(A35,'Copy of Export'!$A$2:$AF2393,5,false)","v":"#N/A"},{"$f":"VLOOKUP(A35,'Copy of Export'!$A$2:$AF2393,8,false)","v":"#N/A"},"Working"]
["S57643",{"$f":"VLOOKUP(A36,'Copy of Export'!$A$2:$AF2393,5,false)","v":"#N/A"},{"$f":"VLOOKUP(A36,'Copy of Export'!$A$2:$AF2393,13,false)","v":"#N/A"},{"$f":"VLOOKUP(A36,'Copy of Export'!$A$2:$AF2393,2,false)","v":"#N/A"},{"$f":"VLOOKUP(A36,'Copy of Export'!$A$2:$AF2393,5,false)","v":"#N/A"},{"$f":"VLOOKUP(A36,'Copy of Export'!$A$2:$AF2393,8,false)","v":"#N/A"},"Working"]
["S57628",{"$f":"VLOOKUP(A37,'Copy of Export'!$A$2:$AF2393,5,false)","v":"#N/A"},{"$f":"VLOOKUP(A37,'Copy of Export'!$A$2:$AF2393,13,false)","v":"#N/A"},{"$f":"VLOOKUP(A37,'Copy of Export'!$A$2:$AF2393,2,false)","v":"#N/A"},{"$f":"VLOOKUP(A37,'Copy of Export'!$A$2:$AF2393,5,false)","v":"#N/A"},{"$f":"VLOOKUP(A37,'Copy of Export'!$A$2:$AF2393,8,false)","v":"#N/A"},"Working"]
["S57644",{"$f":"VLOOKUP(A38,'Copy of Export'!$A$2:$AF2393,5,false)","v":"#N/A"},{"$f":"VLOOKUP(A38,'Copy of Export'!$A$2:$AF2393,13,false)","v":"#N/A"},{"$f":"VLOOKUP(A38,'Copy of Export'!$A$2:$AF2393,2,false)","v":"#N/A"},{"$f":"VLOOKUP(A38,'Copy of Export'!$A$2:$AF2393,5,false)","v":"#N/A"},{"$f":"VLOOKUP(A38,'Copy of Export'!$A$2:$AF2393,8,false)","v":"#N/A"},"Working"]
["S57648",{"$f":"VLOOKUP(A39,'Copy of Export'!$A$2:$AF2393,5,false)","v":"#N/A"},{"$f":"VLOOKUP(A39,'Copy of Export'!$A$2:$AF2393,13,false)","v":"#N/A"},{"$f":"VLOOKUP(A39,'Copy of Export'!$A$2:$AF2393,2,false)","v":"#N/A"},{"$f":"VLOOKUP(A39,'Copy of Export'!$A$2:$AF2393,5,false)","v":"#N/A"},{"$f":"VLOOKUP(A39,'Copy of Export'!$A$2:$AF2393,8,false)","v":"#N/A"},"Working"]
["S57649",{"$f":"VLOOKUP(A40,'Copy of Export'!$A$2:$AF2393,5,false)","v":"#N/A"},{"$f":"VLOOKUP(A40,'Copy of Export'!$A$2:$AF2393,13,false)","v":"#N/A"},{"$f":"VLOOKUP(A40,'Copy of Export'!$A$2:$AF2393,2,false)","v":"#N/A"},{"$f":"VLOOKUP(A40,'Copy of Export'!$A$2:$AF2393,5,false)","v":"#N/A"},{"$f":"VLOOKUP(A40,'Copy of Export'!$A$2:$AF2393,8,false)","v":"#N/A"},"Working"]
["S57647",{"$f":"VLOOKUP(A41,'Copy of Export'!$A$2:$AF2393,5,false)","v":"#N/A"},{"$f":"VLOOKUP(A41,'Copy of Export'!$A$2:$AF2393,13,false)","v":"#N/A"},{"$f":"VLOOKUP(A41,'Copy of Export'!$A$2:$AF2393,2,false)","v":"#N/A"},{"$f":"VLOOKUP(A41,'Copy of Export'!$A$2:$AF2393,5,false)","v":"#N/A"},{"$f":"VLOOKUP(A41,'Copy of Export'!$A$2:$AF2393,8,false)","v":"#N/A"},"Working"]
["S57640",{"$f":"VLOOKUP(A42,'Copy of Export'!$A$2:$AF2393,5,false)","v":"#N/A"},{"$f":"VLOOKUP(A42,'Copy of Export'!$A$2:$AF2393,13,false)","v":"#N/A"},{"$f":"VLOOKUP(A42,'Copy of Export'!$A$2:$AF2393,2,false)","v":"#N/A"},{"$f":"VLOOKUP(A42,'Copy of Export'!$A$2:$AF2393,5,false)","v":"#N/A"},{"$f":"VLOOKUP(A42,'Copy of Export'!$A$2:$AF2393,8,false)","v":"#N/A"},"Working"]
["S57641",{"$f":"VLOOKUP(A43,'Copy of Export'!$A$2:$AF2393,5,false)","v":"#N/A"},{"$f":"VLOOKUP(A43,'Copy of Export'!$A$2:$AF2393,13,false)","v":"#N/A"},{"$f":"VLOOKUP(A43,'Copy of Export'!$A$2:$AF2393,2,false)","v":"#N/A"},{"$f":"VLOOKUP(A43,'Copy of Export'!$A$2:$AF2393,5,false)","v":"#N/A"},{"$f":"VLOOKUP(A43,'Copy of Export'!$A$2:$AF2393,8,false)","v":"#N/A"},"Working"]
["S57646",{"$f":"VLOOKUP(A44,'Copy of Export'!$A$2:$AF2393,5,false)","v":"#N/A"},{"$f":"VLOOKUP(A44,'Copy of Export'!$A$2:$AF2393,13,false)","v":"#N/A"},{"$f":"VLOOKUP(A44,'Copy of Export'!$A$2:$AF2393,2,false)","v":"#N/A"},{"$f":"VLOOKUP(A44,'Copy of Export'!$A$2:$AF2393,5,false)","v":"#N/A"},{"$f":"VLOOKUP(A44,'Copy of Export'!$A$2:$AF2393,8,false)","v":"#N/A"},"Working"]
["49797",{"$f":"VLOOKUP(A45,'Copy of Export'!$A$2:$AF2393,5,false)","v":"#N/A"},{"$f":"VLOOKUP(A45,'Copy of Export'!$A$2:$AF2393,13,false)","v":"#N/A"},{"$f":"VLOOKUP(A45,'Copy of Export'!$A$2:$AF2393,2,false)","v":"#N/A"},{"$f":"VLOOKUP(A45,'Copy of Export'!$A$2:$AF2393,5,false)","v":"#N/A"},{"$f":"VLOOKUP(A45,'Copy of Export'!$A$2:$AF2393,8,false)","v":"#N/A"},"Working"]
["56264",{"$f":"VLOOKUP(A46,'Copy of Export'!$A$2:$AF2393,5,false)","v":"Lenovo ThinkPad L380 Yoga (Core i5-8250U, 8GB, 256GB)"},{"$f":"VLOOKUP(A46,'Copy of Export'!$A$2:$AF2393,13,false)","v":"L380 Yoga"},{"$f":"VLOOKUP(A46,'Copy of Export'!$A$2:$AF2393,2,false)","v":"R90VG3C1"},{"$f":"VLOOKUP(A46,'Copy of Export'!$A$2:$AF2393,5,false)","v":"Lenovo ThinkPad L380 Yoga (Core i5-8250U, 8GB, 256GB)"},{"$f":"VLOOKUP(A46,'Copy of Export'!$A$2:$AF2393,8,false)","v":"Laptop"},"Working"]
["49431",{"$f":"VLOOKUP(A47,'Copy of Export'!$A$2:$AF2393,5,false)","v":"#N/A"},{"$f":"VLOOKUP(A47,'Copy of Export'!$A$2:$AF2393,13,false)","v":"#N/A"},{"$f":"VLOOKUP(A47,'Copy of Export'!$A$2:$AF2393,2,false)","v":"#N/A"},{"$f":"VLOOKUP(A47,'Copy of Export'!$A$2:$AF2393,5,false)","v":"#N/A"},{"$f":"VLOOKUP(A47,'Copy of Export'!$A$2:$AF2393,8,false)","v":"#N/A"},"Broken"]
["43506",{"$f":"VLOOKUP(A48,'Copy of Export'!$A$2:$AF2393,5,false)","v":"#N/A"},{"$f":"VLOOKUP(A48,'Copy of Export'!$A$2:$AF2393,13,false)","v":"#N/A"},{"$f":"VLOOKUP(A48,'Copy of Export'!$A$2:$AF2393,2,false)","v":"#N/A"},{"$f":"VLOOKUP(A48,'Copy of Export'!$A$2:$AF2393,5,false)","v":"#N/A"},{"$f":"VLOOKUP(A48,'Copy of Export'!$A$2:$AF2393,8,false)","v":"#N/A"},"Working"]
["52177",{"$f":"VLOOKUP(A49,'Copy of Export'!$A$2:$AF2393,5,false)","v":"Lenovo ThinkPad L380 Yoga (Core i5-8250U, 8GB, 256GB)"},{"$f":"VLOOKUP(A49,'Copy of Export'!$A$2:$AF2393,13,false)","v":"L380 Yoga"},{"$f":"VLOOKUP(A49,'Copy of Export'!$A$2:$AF2393,2,false)","v":"R90RRHMD"},{"$f":"VLOOKUP(A49,'Copy of Export'!$A$2:$AF2393,5,false)","v":"Lenovo ThinkPad L380 Yoga (Core i5-8250U, 8GB, 256GB)"},{"$f":"VLOOKUP(A49,'Copy of Export'!$A$2:$AF2393,8,false)","v":"Laptop"},"Working"]
["56460",{"$f":"VLOOKUP(A50,'Copy of Export'!$A$2:$AF2393,5,false)","v":"#N/A"},{"$f":"VLOOKUP(A50,'Copy of Export'!$A$2:$AF2393,13,false)","v":"#N/A"},{"$f":"VLOOKUP(A50,'Copy of Export'!$A$2:$AF2393,2,false)","v":"#N/A"},{"$f":"VLOOKUP(A50,'Copy of Export'!$A$2:$AF2393,5,false)","v":"#N/A"},{"$f":"VLOOKUP(A50,'Copy of Export'!$A$2:$AF2393,8,false)","v":"#N/A"},"Working"]
["56417",{"$f":"VLOOKUP(A51,'Copy of Export'!$A$2:$AF2393,5,false)","v":"#N/A"},{"$f":"VLOOKUP(A51,'Copy of Export'!$A$2:$AF2393,13,false)","v":"#N/A"},{"$f":"VLOOKUP(A51,'Copy of Export'!$A$2:$AF2393,2,false)","v":"#N/A"},{"$f":"VLOOKUP(A51,'Copy of Export'!$A$2:$AF2393,5,false)","v":"#N/A"},{"$f":"VLOOKUP(A51,'Copy of Export'!$A$2:$AF2393,8,false)","v":"#N/A"},"Working"]
["56388",{"$f":"VLOOKUP(A52,'Copy of Export'!$A$2:$AF2393,5,false)","v":"Lenovo ThinkPad L380 Yoga (Core i5-8250U, 8GB, 256GB)"},{"$f":"VLOOKUP(A52,'Copy of Export'!$A$2:$AF2393,13,false)","v":"L380 Yoga"},{"$f":"VLOOKUP(A52,'Copy of Export'!$A$2:$AF2393,2,false)","v":"R90VG3CZ"},{"$f":"VLOOKUP(A52,'Copy of Export'!$A$2:$AF2393,5,false)","v":"Lenovo ThinkPad L380 Yoga (Core i5-8250U, 8GB, 256GB)"},{"$f":"VLOOKUP(A52,'Copy of Export'!$A$2:$AF2393,8,false)","v":"Laptop"},"Working"]
["56423",{"$f":"VLOOKUP(A53,'Copy of Export'!$A$2:$AF2393,5,false)","v":"#N/A"},{"$f":"VLOOKUP(A53,'Copy of Export'!$A$2:$AF2393,13,false)","v":"#N/A"},{"$f":"VLOOKUP(A53,'Copy of Export'!$A$2:$AF2393,2,false)","v":"#N/A"},{"$f":"VLOOKUP(A53,'Copy of Export'!$A$2:$AF2393,5,false)","v":"#N/A"},{"$f":"VLOOKUP(A53,'Copy of Export'!$A$2:$AF2393,8,false)","v":"#N/A"},"Working"]
["56442",{"$f":"VLOOKUP(A54,'Copy of Export'!$A$2:$AF2393,5,false)","v":"#N/A"},{"$f":"VLOOKUP(A54,'Copy of Export'!$A$2:$AF2393,13,false)","v":"#N/A"},{"$f":"VLOOKUP(A54,'Copy of Export'!$A$2:$AF2393,2,false)","v":"#N/A"},{"$f":"VLOOKUP(A54,'Copy of Export'!$A$2:$AF2393,5,false)","v":"#N/A"},{"$f":"VLOOKUP(A54,'Copy of Export'!$A$2:$AF2393,8,false)","v":"#N/A"},"Working"]
["56458",{"$f":"VLOOKUP(A55,'Copy of Export'!$A$2:$AF2393,5,false)","v":"#N/A"},{"$f":"VLOOKUP(A55,'Copy of Export'!$A$2:$AF2393,13,false)","v":"#N/A"},{"$f":"VLOOKUP(A55,'Copy of Export'!$A$2:$AF2393,2,false)","v":"#N/A"},{"$f":"VLOOKUP(A55,'Copy of Export'!$A$2:$AF2393,5,false)","v":"#N/A"},{"$f":"VLOOKUP(A55,'Copy of Export'!$A$2:$AF2393,8,false)","v":"#N/A"},"Working"]
["56339",{"$f":"VLOOKUP(A56,'Copy of Export'!$A$2:$AF2393,5,false)","v":"Lenovo ThinkPad L380 Yoga (Core i5-8250U, 8GB, 256GB)"},{"$f":"VLOOKUP(A56,'Copy of Export'!$A$2:$AF2393,13,false)","v":"L380 Yoga"},{"$f":"VLOOKUP(A56,'Copy of Export'!$A$2:$AF2393,2,false)","v":"R90VG3CE"},{"$f":"VLOOKUP(A56,'Copy of Export'!$A$2:$AF2393,5,false)","v":"Lenovo ThinkPad L380 Yoga (Core i5-8250U, 8GB, 256GB)"},{"$f":"VLOOKUP(A56,'Copy of Export'!$A$2:$AF2393,8,false)","v":"Laptop"},"Working"]
["56318",{"$f":"VLOOKUP(A57,'Copy of Export'!$A$2:$AF2393,5,false)","v":"Lenovo ThinkPad L380 Yoga (Core i5-8250U, 8GB, 256GB)"},{"$f":"VLOOKUP(A57,'Copy of Export'!$A$2:$AF2393,13,false)","v":"L380 Yoga"},{"$f":"VLOOKUP(A57,'Copy of Export'!$A$2:$AF2393,2,false)","v":"R90VG3DV"},{"$f":"VLOOKUP(A57,'Copy of Export'!$A$2:$AF2393,5,false)","v":"Lenovo ThinkPad L380 Yoga (Core i5-8250U, 8GB, 256GB)"},{"$f":"VLOOKUP(A57,'Copy of Export'!$A$2:$AF2393,8,false)","v":"Laptop"},"Working"]
["56350",{"$f":"VLOOKUP(A58,'Copy of Export'!$A$2:$AF2393,5,false)","v":"Lenovo ThinkPad L380 Yoga (Core i5-8250U, 8GB, 256GB)"},{"$f":"VLOOKUP(A58,'Copy of Export'!$A$2:$AF2393,13,false)","v":"L380 Yoga"},{"$f":"VLOOKUP(A58,'Copy of Export'!$A$2:$AF2393,2,false)","v":"R90VG3D0"},{"$f":"VLOOKUP(A58,'Copy of Export'!$A$2:$AF2393,5,false)","v":"Lenovo ThinkPad L380 Yoga (Core i5-8250U, 8GB, 256GB)"},{"$f":"VLOOKUP(A58,'Copy of Export'!$A$2:$AF2393,8,false)","v":"Laptop"},"Working"]
["56461",{"$f":"VLOOKUP(A59,'Copy of Export'!$A$2:$AF2393,5,false)","v":"#N/A"},{"$f":"VLOOKUP(A59,'Copy of Export'!$A$2:$AF2393,13,false)","v":"#N/A"},{"$f":"VLOOKUP(A59,'Copy of Export'!$A$2:$AF2393,2,false)","v":"#N/A"},{"$f":"VLOOKUP(A59,'Copy of Export'!$A$2:$AF2393,5,false)","v":"#N/A"},{"$f":"VLOOKUP(A59,'Copy of Export'!$A$2:$AF2393,8,false)","v":"#N/A"},"Working"]
["54644",{"$f":"VLOOKUP(A60,'Copy of Export'!$A$2:$AF2393,5,false)","v":"Lenovo ThinkPad L380 Yoga (Core i5-8250U, 8GB, 256GB)"},{"$f":"VLOOKUP(A60,'Copy of Export'!$A$2:$AF2393,13,false)","v":"L380 Yoga"},{"$f":"VLOOKUP(A60,'Copy of Export'!$A$2:$AF2393,2,false)","v":"R90SZGC5"},{"$f":"VLOOKUP(A60,'Copy of Export'!$A$2:$AF2393,5,false)","v":"Lenovo ThinkPad L380 Yoga (Core i5-8250U, 8GB, 256GB)"},{"$f":"VLOOKUP(A60,'Copy of Export'!$A$2:$AF2393,8,false)","v":"Laptop"},"Working"]
["56307",{"$f":"VLOOKUP(A61,'Copy of Export'!$A$2:$AF2393,5,false)","v":"Lenovo ThinkPad L380 Yoga (Core i5-8250U, 8GB, 256GB)"},{"$f":"VLOOKUP(A61,'Copy of Export'!$A$2:$AF2393,13,false)","v":"L380 Yoga"},{"$f":"VLOOKUP(A61,'Copy of Export'!$A$2:$AF2393,2,false)","v":"R90VG3EJ"},{"$f":"VLOOKUP(A61,'Copy of Export'!$A$2:$AF2393,5,false)","v":"Lenovo ThinkPad L380 Yoga (Core i5-8250U, 8GB, 256GB)"},{"$f":"VLOOKUP(A61,'Copy of Export'!$A$2:$AF2393,8,false)","v":"Laptop"},"Working"]
["56271",{"$f":"VLOOKUP(A62,'Copy of Export'!$A$2:$AF2393,5,false)","v":"Lenovo ThinkPad L380 Yoga (Core i5-8250U, 8GB, 256GB)"},{"$f":"VLOOKUP(A62,'Copy of Export'!$A$2:$AF2393,13,false)","v":"L380 Yoga"},{"$f":"VLOOKUP(A62,'Copy of Export'!$A$2:$AF2393,2,false)","v":"R90VG3C4"},{"$f":"VLOOKUP(A62,'Copy of Export'!$A$2:$AF2393,5,false)","v":"Lenovo ThinkPad L380 Yoga (Core i5-8250U, 8GB, 256GB)"},{"$f":"VLOOKUP(A62,'Copy of Export'!$A$2:$AF2393,8,false)","v":"Laptop"},"Working"]
["47971",{"$f":"VLOOKUP(A63,'Copy of Export'!$A$2:$AF2393,5,false)","v":"#N/A"},{"$f":"VLOOKUP(A63,'Copy of Export'!$A$2:$AF2393,13,false)","v":"#N/A"},{"$f":"VLOOKUP(A63,'Copy of Export'!$A$2:$AF2393,2,false)","v":"#N/A"},{"$f":"VLOOKUP(A63,'Copy of Export'!$A$2:$AF2393,5,false)","v":"#N/A"},{"$f":"VLOOKUP(A63,'Copy of Export'!$A$2:$AF2393,8,false)","v":"#N/A"},"Working"]
["56427",{"$f":"VLOOKUP(A64,'Copy of Export'!$A$2:$AF2393,5,false)","v":"#N/A"},{"$f":"VLOOKUP(A64,'Copy of Export'!$A$2:$AF2393,13,false)","v":"#N/A"},{"$f":"VLOOKUP(A64,'Copy of Export'!$A$2:$AF2393,2,false)","v":"#N/A"},{"$f":"VLOOKUP(A64,'Copy of Export'!$A$2:$AF2393,5,false)","v":"#N/A"},{"$f":"VLOOKUP(A64,'Copy of Export'!$A$2:$AF2393,8,false)","v":"#N/A"},"Working"]
["56310",{"$f":"VLOOKUP(A65,'Copy of Export'!$A$2:$AF2393,5,false)","v":"Lenovo ThinkPad L380 Yoga (Core i5-8250U, 8GB, 256GB)"},{"$f":"VLOOKUP(A65,'Copy of Export'!$A$2:$AF2393,13,false)","v":"L380 Yoga"},{"$f":"VLOOKUP(A65,'Copy of Export'!$A$2:$AF2393,2,false)","v":"R90VG3EB"},{"$f":"VLOOKUP(A65,'Copy of Export'!$A$2:$AF2393,5,false)","v":"Lenovo ThinkPad L380 Yoga (Core i5-8250U, 8GB, 256GB)"},{"$f":"VLOOKUP(A65,'Copy of Export'!$A$2:$AF2393,8,false)","v":"Laptop"},"Working"]
["56459",{"$f":"VLOOKUP(A66,'Copy of Export'!$A$2:$AF2393,5,false)","v":"#N/A"},{"$f":"VLOOKUP(A66,'Copy of Export'!$A$2:$AF2393,13,false)","v":"#N/A"},{"$f":"VLOOKUP(A66,'Copy of Export'!$A$2:$AF2393,2,false)","v":"#N/A"},{"$f":"VLOOKUP(A66,'Copy of Export'!$A$2:$AF2393,5,false)","v":"#N/A"},{"$f":"VLOOKUP(A66,'Copy of Export'!$A$2:$AF2393,8,false)","v":"#N/A"},"Working"]
["56373",{"$f":"VLOOKUP(A67,'Copy of Export'!$A$2:$AF2393,5,false)","v":"#N/A"},{"$f":"VLOOKUP(A67,'Copy of Export'!$A$2:$AF2393,13,false)","v":"#N/A"},{"$f":"VLOOKUP(A67,'Copy of Export'!$A$2:$AF2393,2,false)","v":"#N/A"},{"$f":"VLOOKUP(A67,'Copy of Export'!$A$2:$AF2393,5,false)","v":"#N/A"},{"$f":"VLOOKUP(A67,'Copy of Export'!$A$2:$AF2393,8,false)","v":"#N/A"},"Working"]
["56482",{"$f":"VLOOKUP(A68,'Copy of Export'!$A$2:$AF2393,5,false)","v":"#N/A"},{"$f":"VLOOKUP(A68,'Copy of Export'!$A$2:$AF2393,13,false)","v":"#N/A"},{"$f":"VLOOKUP(A68,'Copy of Export'!$A$2:$AF2393,2,false)","v":"#N/A"},{"$f":"VLOOKUP(A68,'Copy of Export'!$A$2:$AF2393,5,false)","v":"#N/A"},{"$f":"VLOOKUP(A68,'Copy of Export'!$A$2:$AF2393,8,false)","v":"#N/A"},"Working"]
["56381",{"$f":"VLOOKUP(A69,'Copy of Export'!$A$2:$AF2393,5,false)","v":"Lenovo ThinkPad L380 Yoga (Core i5-8250U, 8GB, 256GB)"},{"$f":"VLOOKUP(A69,'Copy of Export'!$A$2:$AF2393,13,false)","v":"L380 Yoga"},{"$f":"VLOOKUP(A69,'Copy of Export'!$A$2:$AF2393,2,false)","v":"R90VG3FK"},{"$f":"VLOOKUP(A69,'Copy of Export'!$A$2:$AF2393,5,false)","v":"Lenovo ThinkPad L380 Yoga (Core i5-8250U, 8GB, 256GB)"},{"$f":"VLOOKUP(A69,'Copy of Export'!$A$2:$AF2393,8,false)","v":"Laptop"},"Working"]
["56331",{"$f":"VLOOKUP(A70,'Copy of Export'!$A$2:$AF2393,5,false)","v":"#N/A"},{"$f":"VLOOKUP(A70,'Copy of Export'!$A$2:$AF2393,13,false)","v":"#N/A"},{"$f":"VLOOKUP(A70,'Copy of Export'!$A$2:$AF2393,2,false)","v":"#N/A"},{"$f":"VLOOKUP(A70,'Copy of Export'!$A$2:$AF2393,5,false)","v":"#N/A"},{"$f":"VLOOKUP(A70,'Copy of Export'!$A$2:$AF2393,8,false)","v":"#N/A"},"Working"]
["56268",{"$f":"VLOOKUP(A71,'Copy of Export'!$A$2:$AF2393,5,false)","v":"Lenovo ThinkPad L380 Yoga (Core i5-8250U, 8GB, 256GB)"},{"$f":"VLOOKUP(A71,'Copy of Export'!$A$2:$AF2393,13,false)","v":"L380 Yoga"},{"$f":"VLOOKUP(A71,'Copy of Export'!$A$2:$AF2393,2,false)","v":"R90VG3FM"},{"$f":"VLOOKUP(A71,'Copy of Export'!$A$2:$AF2393,5,false)","v":"Lenovo ThinkPad L380 Yoga (Core i5-8250U, 8GB, 256GB)"},{"$f":"VLOOKUP(A71,'Copy of Export'!$A$2:$AF2393,8,false)","v":"Laptop"},"Working"]
["56451",{"$f":"VLOOKUP(A72,'Copy of Export'!$A$2:$AF2393,5,false)","v":"#N/A"},{"$f":"VLOOKUP(A72,'Copy of Export'!$A$2:$AF2393,13,false)","v":"#N/A"},{"$f":"VLOOKUP(A72,'Copy of Export'!$A$2:$AF2393,2,false)","v":"#N/A"},{"$f":"VLOOKUP(A72,'Copy of Export'!$A$2:$AF2393,5,false)","v":"#N/A"},{"$f":"VLOOKUP(A72,'Copy of Export'!$A$2:$AF2393,8,false)","v":"#N/A"},"Working"]
["56435",{"$f":"VLOOKUP(A73,'Copy of Export'!$A$2:$AF2393,5,false)","v":"#N/A"},{"$f":"VLOOKUP(A73,'Copy of Export'!$A$2:$AF2393,13,false)","v":"#N/A"},{"$f":"VLOOKUP(A73,'Copy of Export'!$A$2:$AF2393,2,false)","v":"#N/A"},{"$f":"VLOOKUP(A73,'Copy of Export'!$A$2:$AF2393,5,false)","v":"#N/A"},{"$f":"VLOOKUP(A73,'Copy of Export'!$A$2:$AF2393,8,false)","v":"#N/A"},"Working"]
["56305",{"$f":"VLOOKUP(A74,'Copy of Export'!$A$2:$AF2393,5,false)","v":"Lenovo ThinkPad L380 Yoga (Core i5-8250U, 8GB, 256GB)"},{"$f":"VLOOKUP(A74,'Copy of Export'!$A$2:$AF2393,13,false)","v":"L380 Yoga"},{"$f":"VLOOKUP(A74,'Copy of Export'!$A$2:$AF2393,2,false)","v":"R90VG3EX"},{"$f":"VLOOKUP(A74,'Copy of Export'!$A$2:$AF2393,5,false)","v":"Lenovo ThinkPad L380 Yoga (Core i5-8250U, 8GB, 256GB)"},{"$f":"VLOOKUP(A74,'Copy of Export'!$A$2:$AF2393,8,false)","v":"Laptop"},"Working"]
["49631",{"$f":"VLOOKUP(A75,'Copy of Export'!$A$2:$AF2393,5,false)","v":"#N/A"},{"$f":"VLOOKUP(A75,'Copy of Export'!$A$2:$AF2393,13,false)","v":"#N/A"},{"$f":"VLOOKUP(A75,'Copy of Export'!$A$2:$AF2393,2,false)","v":"#N/A"},{"$f":"VLOOKUP(A75,'Copy of Export'!$A$2:$AF2393,5,false)","v":"#N/A"},{"$f":"VLOOKUP(A75,'Copy of Export'!$A$2:$AF2393,8,false)","v":"#N/A"},"Working"]
["56468",{"$f":"VLOOKUP(A76,'Copy of Export'!$A$2:$AF2393,5,false)","v":"#N/A"},{"$f":"VLOOKUP(A76,'Copy of Export'!$A$2:$AF2393,13,false)","v":"#N/A"},{"$f":"VLOOKUP(A76,'Copy of Export'!$A$2:$AF2393,2,false)","v":"#N/A"},{"$f":"VLOOKUP(A76,'Copy of Export'!$A$2:$AF2393,5,false)","v":"#N/A"},{"$f":"VLOOKUP(A76,'Copy of Export'!$A$2:$AF2393,8,false)","v":"#N/A"},"Broken"]
["56378",{"$f":"VLOOKUP(A77,'Copy of Export'!$A$2:$AF2393,5,false)","v":"Lenovo ThinkPad L380 Yoga (Core i5-8250U, 8GB, 256GB)"},{"$f":"VLOOKUP(A77,'Copy of Export'!$A$2:$AF2393,13,false)","v":"L380 Yoga"},{"$f":"VLOOKUP(A77,'Copy of Export'!$A$2:$AF2393,2,false)","v":"R90VG3CT"},{"$f":"VLOOKUP(A77,'Copy of Export'!$A$2:$AF2393,5,false)","v":"Lenovo ThinkPad L380 Yoga (Core i5-8250U, 8GB, 256GB)"},{"$f":"VLOOKUP(A77,'Copy of Export'!$A$2:$AF2393,8,false)","v":"Laptop"},"Broken"]
["S57658",{"$f":"VLOOKUP(A78,'Copy of Export'!$A$2:$AF2393,5,false)","v":"#N/A"},{"$f":"VLOOKUP(A78,'Copy of Export'!$A$2:$AF2393,13,false)","v":"#N/A"},{"$f":"VLOOKUP(A78,'Copy of Export'!$A$2:$AF2393,2,false)","v":"#N/A"},{"$f":"VLOOKUP(A78,'Copy of Export'!$A$2:$AF2393,5,false)","v":"#N/A"},{"$f":"VLOOKUP(A78,'Copy of Export'!$A$2:$AF2393,8,false)","v":"#N/A"},"Broken"]
["56322",{"$f":"VLOOKUP(A79,'Copy of Export'!$A$2:$AF2393,5,false)","v":"Lenovo ThinkPad L380 Yoga (Core i5-8250U, 8GB, 256GB)"},{"$f":"VLOOKUP(A79,'Copy of Export'!$A$2:$AF2393,13,false)","v":"L380 Yoga"},{"$f":"VLOOKUP(A79,'Copy of Export'!$A$2:$AF2393,2,false)","v":"R90VG3DF"},{"$f":"VLOOKUP(A79,'Copy of Export'!$A$2:$AF2393,5,false)","v":"Lenovo ThinkPad L380 Yoga (Core i5-8250U, 8GB, 256GB)"},{"$f":"VLOOKUP(A79,'Copy of Export'!$A$2:$AF2393,8,false)","v":"Laptop"},"Broken"]
["56446",{"$f":"VLOOKUP(A80,'Copy of Export'!$A$2:$AF2393,5,false)","v":"#N/A"},{"$f":"VLOOKUP(A80,'Copy of Export'!$A$2:$AF2393,13,false)","v":"#N/A"},{"$f":"VLOOKUP(A80,'Copy of Export'!$A$2:$AF2393,2,false)","v":"#N/A"},{"$f":"VLOOKUP(A80,'Copy of Export'!$A$2:$AF2393,5,false)","v":"#N/A"},{"$f":"VLOOKUP(A80,'Copy of Export'!$A$2:$AF2393,8,false)","v":"#N/A"},"Broken"]
["56405",{"$f":"VLOOKUP(A81,'Copy of Export'!$A$2:$AF2393,5,false)","v":"Lenovo ThinkPad L380 Yoga (Core i5-8250U, 8GB, 256GB)"},{"$f":"VLOOKUP(A81,'Copy of Export'!$A$2:$AF2393,13,false)","v":"L380 Yoga"},{"$f":"VLOOKUP(A81,'Copy of Export'!$A$2:$AF2393,2,false)","v":"R90VG3DT"},{"$f":"VLOOKUP(A81,'Copy of Export'!$A$2:$AF2393,5,false)","v":"Lenovo ThinkPad L380 Yoga (Core i5-8250U, 8GB, 256GB)"},{"$f":"VLOOKUP(A81,'Copy of Export'!$A$2:$AF2393,8,false)","v":"Laptop"},"Broken"]
["40013",{"$f":"VLOOKUP(A82,'Copy of Export'!$A$2:$AF2393,5,false)","v":"#N/A"},{"$f":"VLOOKUP(A82,'Copy of Export'!$A$2:$AF2393,13,false)","v":"#N/A"},{"$f":"VLOOKUP(A82,'Copy of Export'!$A$2:$AF2393,2,false)","v":"#N/A"},{"$f":"VLOOKUP(A82,'Copy of Export'!$A$2:$AF2393,5,false)","v":"#N/A"},{"$f":"VLOOKUP(A82,'Copy of Export'!$A$2:$AF2393,8,false)","v":"#N/A"},"Working"]
["43075",{"$f":"VLOOKUP(A83,'Copy of Export'!$A$2:$AF2393,5,false)","v":"#N/A"},{"$f":"VLOOKUP(A83,'Copy of Export'!$A$2:$AF2393,13,false)","v":"#N/A"},{"$f":"VLOOKUP(A83,'Copy of Export'!$A$2:$AF2393,2,false)","v":"#N/A"},{"$f":"VLOOKUP(A83,'Copy of Export'!$A$2:$AF2393,5,false)","v":"#N/A"},{"$f":"VLOOKUP(A83,'Copy of Export'!$A$2:$AF2393,8,false)","v":"#N/A"},"Working"]
["43346",{"$f":"VLOOKUP(A84,'Copy of Export'!$A$2:$AF2393,5,false)","v":"#N/A"},{"$f":"VLOOKUP(A84,'Copy of Export'!$A$2:$AF2393,13,false)","v":"#N/A"},{"$f":"VLOOKUP(A84,'Copy of Export'!$A$2:$AF2393,2,false)","v":"#N/A"},{"$f":"VLOOKUP(A84,'Copy of Export'!$A$2:$AF2393,5,false)","v":"#N/A"},{"$f":"VLOOKUP(A84,'Copy of Export'!$A$2:$AF2393,8,false)","v":"#N/A"},"Working"]
["49687",{"$f":"VLOOKUP(A85,'Copy of Export'!$A$2:$AF2393,5,false)","v":"#N/A"},{"$f":"VLOOKUP(A85,'Copy of Export'!$A$2:$AF2393,13,false)","v":"#N/A"},{"$f":"VLOOKUP(A85,'Copy of Export'!$A$2:$AF2393,2,false)","v":"#N/A"},{"$f":"VLOOKUP(A85,'Copy of Export'!$A$2:$AF2393,5,false)","v":"#N/A"},{"$f":"VLOOKUP(A85,'Copy of Export'!$A$2:$AF2393,8,false)","v":"#N/A"},"Working"]
["49771",{"$f":"VLOOKUP(A86,'Copy of Export'!$A$2:$AF2393,5,false)","v":"#N/A"},{"$f":"VLOOKUP(A86,'Copy of Export'!$A$2:$AF2393,13,false)","v":"#N/A"},{"$f":"VLOOKUP(A86,'Copy of Export'!$A$2:$AF2393,2,false)","v":"#N/A"},{"$f":"VLOOKUP(A86,'Copy of Export'!$A$2:$AF2393,5,false)","v":"#N/A"},{"$f":"VLOOKUP(A86,'Copy of Export'!$A$2:$AF2393,8,false)","v":"#N/A"},"Working"]
["49724",{"$f":"VLOOKUP(A87,'Copy of Export'!$A$2:$AF2393,5,false)","v":"#N/A"},{"$f":"VLOOKUP(A87,'Copy of Export'!$A$2:$AF2393,13,false)","v":"#N/A"},{"$f":"VLOOKUP(A87,'Copy of Export'!$A$2:$AF2393,2,false)","v":"#N/A"},{"$f":"VLOOKUP(A87,'Copy of Export'!$A$2:$AF2393,5,false)","v":"#N/A"},{"$f":"VLOOKUP(A87,'Copy of Export'!$A$2:$AF2393,8,false)","v":"#N/A"},"Working"]
["47155",{"$f":"VLOOKUP(A88,'Copy of Export'!$A$2:$AF2393,5,false)","v":"Lenovo ThinkPad Yoga 12 (Core i5-5200U, 8GB, 128GB SSD)"},{"$f":"VLOOKUP(A88,'Copy of Export'!$A$2:$AF2393,13,false)","v":"Yoga 12"},{"$f":"VLOOKUP(A88,'Copy of Export'!$A$2:$AF2393,2,false)","v":"MP08FE4A"},{"$f":"VLOOKUP(A88,'Copy of Export'!$A$2:$AF2393,5,false)","v":"Lenovo ThinkPad Yoga 12 (Core i5-5200U, 8GB, 128GB SSD)"},{"$f":"VLOOKUP(A88,'Copy of Export'!$A$2:$AF2393,8,false)","v":"Laptop"},"Working"]
["S57651",{"$f":"VLOOKUP(A89,'Copy of Export'!$A$2:$AF2393,5,false)","v":"#N/A"},{"$f":"VLOOKUP(A89,'Copy of Export'!$A$2:$AF2393,13,false)","v":"#N/A"},{"$f":"VLOOKUP(A89,'Copy of Export'!$A$2:$AF2393,2,false)","v":"#N/A"},{"$f":"VLOOKUP(A89,'Copy of Export'!$A$2:$AF2393,5,false)","v":"#N/A"},{"$f":"VLOOKUP(A89,'Copy of Export'!$A$2:$AF2393,8,false)","v":"#N/A"},"Working"]
["S57645",{"$f":"VLOOKUP(A90,'Copy of Export'!$A$2:$AF2393,5,false)","v":"#N/A"},{"$f":"VLOOKUP(A90,'Copy of Export'!$A$2:$AF2393,13,false)","v":"#N/A"},{"$f":"VLOOKUP(A90,'Copy of Export'!$A$2:$AF2393,2,false)","v":"#N/A"},{"$f":"VLOOKUP(A90,'Copy of Export'!$A$2:$AF2393,5,false)","v":"#N/A"},{"$f":"VLOOKUP(A90,'Copy of Export'!$A$2:$AF2393,8,false)","v":"#N/A"},"Working"]
["56492",{"$f":"VLOOKUP(A91,'Copy of Export'!$A$2:$AF2393,5,false)","v":"#N/A"},{"$f":"VLOOKUP(A91,'Copy of Export'!$A$2:$AF2393,13,false)","v":"#N/A"},{"$f":"VLOOKUP(A91,'Copy of Export'!$A$2:$AF2393,2,false)","v":"#N/A"},{"$f":"VLOOKUP(A91,'Copy of Export'!$A$2:$AF2393,5,false)","v":"#N/A"},{"$f":"VLOOKUP(A91,'Copy of Export'!$A$2:$AF2393,8,false)","v":"#N/A"},"Working"]
["56401",{"$f":"VLOOKUP(A92,'Copy of Export'!$A$2:$AF2393,5,false)","v":"Lenovo ThinkPad L380 Yoga (Core i5-8250U, 8GB, 256GB)"},{"$f":"VLOOKUP(A92,'Copy of Export'!$A$2:$AF2393,13,false)","v":"L380 Yoga"},{"$f":"VLOOKUP(A92,'Copy of Export'!$A$2:$AF2393,2,false)","v":"R90VG3EK"},{"$f":"VLOOKUP(A92,'Copy of Export'!$A$2:$AF2393,5,false)","v":"Lenovo ThinkPad L380 Yoga (Core i5-8250U, 8GB, 256GB)"},{"$f":"VLOOKUP(A92,'Copy of Export'!$A$2:$AF2393,8,false)","v":"Laptop"},"Working"]
["49609",{"$f":"VLOOKUP(A93,'Copy of Export'!$A$2:$AF2393,5,false)","v":"#N/A"},{"$f":"VLOOKUP(A93,'Copy of Export'!$A$2:$AF2393,13,false)","v":"#N/A"},{"$f":"VLOOKUP(A93,'Copy of Export'!$A$2:$AF2393,2,false)","v":"#N/A"},{"$f":"VLOOKUP(A93,'Copy of Export'!$A$2:$AF2393,5,false)","v":"#N/A"},{"$f":"VLOOKUP(A93,'Copy of Export'!$A$2:$AF2393,8,false)","v":"#N/A"},"Working"]
["56383",{"$f":"VLOOKUP(A94,'Copy of Export'!$A$2:$AF2393,5,false)","v":"Lenovo ThinkPad L380 Yoga (Core i5-8250U, 8GB, 256GB)"},{"$f":"VLOOKUP(A94,'Copy of Export'!$A$2:$AF2393,13,false)","v":"L380 Yoga"},{"$f":"VLOOKUP(A94,'Copy of Export'!$A$2:$AF2393,2,false)","v":"R90VG3E8"},{"$f":"VLOOKUP(A94,'Copy of Export'!$A$2:$AF2393,5,false)","v":"Lenovo ThinkPad L380 Yoga (Core i5-8250U, 8GB, 256GB)"},{"$f":"VLOOKUP(A94,'Copy of Export'!$A$2:$AF2393,8,false)","v":"Laptop"},"Working"]
["56328",{"$f":"VLOOKUP(A95,'Copy of Export'!$A$2:$AF2393,5,false)","v":"Lenovo ThinkPad L380 Yoga (Core i5-8250U, 8GB, 256GB)"},{"$f":"VLOOKUP(A95,'Copy of Export'!$A$2:$AF2393,13,false)","v":"L380 Yoga"},{"$f":"VLOOKUP(A95,'Copy of Export'!$A$2:$AF2393,2,false)","v":"R90VG3FG"},{"$f":"VLOOKUP(A95,'Copy of Export'!$A$2:$AF2393,5,false)","v":"Lenovo ThinkPad L380 Yoga (Core i5-8250U, 8GB, 256GB)"},{"$f":"VLOOKUP(A95,'Copy of Export'!$A$2:$AF2393,8,false)","v":"Laptop"},"Working"]
["54646",{"$f":"VLOOKUP(A96,'Copy of Export'!$A$2:$AF2393,5,false)","v":"Lenovo ThinkPad L380 Yoga (Core i5-8250U, 8GB, 256GB)"},{"$f":"VLOOKUP(A96,'Copy of Export'!$A$2:$AF2393,13,false)","v":"L380 Yoga"},{"$f":"VLOOKUP(A96,'Copy of Export'!$A$2:$AF2393,2,false)","v":"R90SRKBN"},{"$f":"VLOOKUP(A96,'Copy of Export'!$A$2:$AF2393,5,false)","v":"Lenovo ThinkPad L380 Yoga (Core i5-8250U, 8GB, 256GB)"},{"$f":"VLOOKUP(A96,'Copy of Export'!$A$2:$AF2393,8,false)","v":"Laptop"},"Working"]
["S57597",{"$f":"VLOOKUP(A97,'Copy of Export'!$A$2:$AF2393,5,false)","v":"#N/A"},{"$f":"VLOOKUP(A97,'Copy of Export'!$A$2:$AF2393,13,false)","v":"#N/A"},{"$f":"VLOOKUP(A97,'Copy of Export'!$A$2:$AF2393,2,false)","v":"#N/A"},{"$f":"VLOOKUP(A97,'Copy of Export'!$A$2:$AF2393,5,false)","v":"#N/A"},{"$f":"VLOOKUP(A97,'Copy of Export'!$A$2:$AF2393,8,false)","v":"#N/A"},"Working"]
["56337",{"$f":"VLOOKUP(A98,'Copy of Export'!$A$2:$AF2393,5,false)","v":"Lenovo ThinkPad L380 Yoga (Core i5-8250U, 8GB, 256GB)"},{"$f":"VLOOKUP(A98,'Copy of Export'!$A$2:$AF2393,13,false)","v":"L380 Yoga"},{"$f":"VLOOKUP(A98,'Copy of Export'!$A$2:$AF2393,2,false)","v":"R90VG3F2"},{"$f":"VLOOKUP(A98,'Copy of Export'!$A$2:$AF2393,5,false)","v":"Lenovo ThinkPad L380 Yoga (Core i5-8250U, 8GB, 256GB)"},{"$f":"VLOOKUP(A98,'Copy of Export'!$A$2:$AF2393,8,false)","v":"Laptop"},"Working"]
["56415",{"$f":"VLOOKUP(A99,'Copy of Export'!$A$2:$AF2393,5,false)","v":"#N/A"},{"$f":"VLOOKUP(A99,'Copy of Export'!$A$2:$AF2393,13,false)","v":"#N/A"},{"$f":"VLOOKUP(A99,'Copy of Export'!$A$2:$AF2393,2,false)","v":"#N/A"},{"$f":"VLOOKUP(A99,'Copy of Export'!$A$2:$AF2393,5,false)","v":"#N/A"},{"$f":"VLOOKUP(A99,'Copy of Export'!$A$2:$AF2393,8,false)","v":"#N/A"},"Working"]
["68113",{"$f":"VLOOKUP(A100,'Copy of Export'!$A$2:$AF2393,5,false)","v":"#N/A"},{"$f":"VLOOKUP(A100,'Copy of Export'!$A$2:$AF2393,13,false)","v":"#N/A"},{"$f":"VLOOKUP(A100,'Copy of Export'!$A$2:$AF2393,2,false)","v":"#N/A"},{"$f":"VLOOKUP(A100,'Copy of Export'!$A$2:$AF2393,5,false)","v":"#N/A"},{"$f":"VLOOKUP(A100,'Copy of Export'!$A$2:$AF2393,8,false)","v":"#N/A"},"Broken"]
["S57652",{"$f":"VLOOKUP(A101,'Copy of Export'!$A$2:$AF2393,5,false)","v":"#N/A"},{"$f":"VLOOKUP(A101,'Copy of Export'!$A$2:$AF2393,13,false)","v":"#N/A"},{"$f":"VLOOKUP(A101,'Copy of Export'!$A$2:$AF2393,2,false)","v":"#N/A"},{"$f":"VLOOKUP(A101,'Copy of Export'!$A$2:$AF2393,5,false)","v":"#N/A"},{"$f":"VLOOKUP(A101,'Copy of Export'!$A$2:$AF2393,8,false)","v":"#N/A"},"Working"]
["49679",{"$f":"VLOOKUP(A102,'Copy of Export'!$A$2:$AF2393,5,false)","v":"#N/A"},{"$f":"VLOOKUP(A102,'Copy of Export'!$A$2:$AF2393,13,false)","v":"#N/A"},{"$f":"VLOOKUP(A102,'Copy of Export'!$A$2:$AF2393,2,false)","v":"#N/A"},{"$f":"VLOOKUP(A102,'Copy of Export'!$A$2:$AF2393,5,false)","v":"#N/A"},{"$f":"VLOOKUP(A102,'Copy of Export'!$A$2:$AF2393,8,false)","v":"#N/A"},"Working"]
["47382",{"$f":"VLOOKUP(A103,'Copy of Export'!$A$2:$AF2393,5,false)","v":"#N/A"},{"$f":"VLOOKUP(A103,'Copy of Export'!$A$2:$AF2393,13,false)","v":"#N/A"},{"$f":"VLOOKUP(A103,'Copy of Export'!$A$2:$AF2393,2,false)","v":"#N/A"},{"$f":"VLOOKUP(A103,'Copy of Export'!$A$2:$AF2393,5,false)","v":"#N/A"},{"$f":"VLOOKUP(A103,'Copy of Export'!$A$2:$AF2393,8,false)","v":"#N/A"},"Broken"]
["S57650",{"$f":"VLOOKUP(A104,'Copy of Export'!$A$2:$AF2393,5,false)","v":"#N/A"},{"$f":"VLOOKUP(A104,'Copy of Export'!$A$2:$AF2393,13,false)","v":"#N/A"},{"$f":"VLOOKUP(A104,'Copy of Export'!$A$2:$AF2393,2,false)","v":"#N/A"},{"$f":"VLOOKUP(A104,'Copy of Export'!$A$2:$AF2393,5,false)","v":"#N/A"},{"$f":"VLOOKUP(A104,'Copy of Export'!$A$2:$AF2393,8,false)","v":"#N/A"},"Working"]
["56422",{"$f":"VLOOKUP(A105,'Copy of Export'!$A$2:$AF2393,5,false)","v":"#N/A"},{"$f":"VLOOKUP(A105,'Copy of Export'!$A$2:$AF2393,13,false)","v":"#N/A"},{"$f":"VLOOKUP(A105,'Copy of Export'!$A$2:$AF2393,2,false)","v":"#N/A"},{"$f":"VLOOKUP(A105,'Copy of Export'!$A$2:$AF2393,5,false)","v":"#N/A"},{"$f":"VLOOKUP(A105,'Copy of Export'!$A$2:$AF2393,8,false)","v":"#N/A"},"Working"]
["56431",{"$f":"VLOOKUP(A106,'Copy of Export'!$A$2:$AF2393,5,false)","v":"#N/A"},{"$f":"VLOOKUP(A106,'Copy of Export'!$A$2:$AF2393,13,false)","v":"#N/A"},{"$f":"VLOOKUP(A106,'Copy of Export'!$A$2:$AF2393,2,false)","v":"#N/A"},{"$f":"VLOOKUP(A106,'Copy of Export'!$A$2:$AF2393,5,false)","v":"#N/A"},{"$f":"VLOOKUP(A106,'Copy of Export'!$A$2:$AF2393,8,false)","v":"#N/A"},"Working"]
["56394",{"$f":"VLOOKUP(A107,'Copy of Export'!$A$2:$AF2393,5,false)","v":"#N/A"},{"$f":"VLOOKUP(A107,'Copy of Export'!$A$2:$AF2393,13,false)","v":"#N/A"},{"$f":"VLOOKUP(A107,'Copy of Export'!$A$2:$AF2393,2,false)","v":"#N/A"},{"$f":"VLOOKUP(A107,'Copy of Export'!$A$2:$AF2393,5,false)","v":"#N/A"},{"$f":"VLOOKUP(A107,'Copy of Export'!$A$2:$AF2393,8,false)","v":"#N/A"},"Working"]
["S57606",{"$f":"VLOOKUP(A108,'Copy of Export'!$A$2:$AF2393,5,false)","v":"#N/A"},{"$f":"VLOOKUP(A108,'Copy of Export'!$A$2:$AF2393,13,false)","v":"#N/A"},{"$f":"VLOOKUP(A108,'Copy of Export'!$A$2:$AF2393,2,false)","v":"#N/A"},{"$f":"VLOOKUP(A108,'Copy of Export'!$A$2:$AF2393,5,false)","v":"#N/A"},{"$f":"VLOOKUP(A108,'Copy of Export'!$A$2:$AF2393,8,false)","v":"#N/A"},"Working"]
["56262",{"$f":"VLOOKUP(A109,'Copy of Export'!$A$2:$AF2393,5,false)","v":"#N/A"},{"$f":"VLOOKUP(A109,'Copy of Export'!$A$2:$AF2393,13,false)","v":"#N/A"},{"$f":"VLOOKUP(A109,'Copy of Export'!$A$2:$AF2393,2,false)","v":"#N/A"},{"$f":"VLOOKUP(A109,'Copy of Export'!$A$2:$AF2393,5,false)","v":"#N/A"},{"$f":"VLOOKUP(A109,'Copy of Export'!$A$2:$AF2393,8,false)","v":"#N/A"},"Working"]
["56272",{"$f":"VLOOKUP(A110,'Copy of Export'!$A$2:$AF2393,5,false)","v":"Lenovo ThinkPad L380 Yoga (Core i5-8250U, 8GB, 256GB)"},{"$f":"VLOOKUP(A110,'Copy of Export'!$A$2:$AF2393,13,false)","v":"L380 Yoga"},{"$f":"VLOOKUP(A110,'Copy of Export'!$A$2:$AF2393,2,false)","v":"R90VG3BW"},{"$f":"VLOOKUP(A110,'Copy of Export'!$A$2:$AF2393,5,false)","v":"Lenovo ThinkPad L380 Yoga (Core i5-8250U, 8GB, 256GB)"},{"$f":"VLOOKUP(A110,'Copy of Export'!$A$2:$AF2393,8,false)","v":"Laptop"},"Working"]
["56291",{"$f":"VLOOKUP(A111,'Copy of Export'!$A$2:$AF2393,5,false)","v":"Lenovo ThinkPad L380 Yoga (Core i5-8250U, 8GB, 256GB)"},{"$f":"VLOOKUP(A111,'Copy of Export'!$A$2:$AF2393,13,false)","v":"L380 Yoga"},{"$f":"VLOOKUP(A111,'Copy of Export'!$A$2:$AF2393,2,false)","v":"R90VG3C8"},{"$f":"VLOOKUP(A111,'Copy of Export'!$A$2:$AF2393,5,false)","v":"Lenovo ThinkPad L380 Yoga (Core i5-8250U, 8GB, 256GB)"},{"$f":"VLOOKUP(A111,'Copy of Export'!$A$2:$AF2393,8,false)","v":"Laptop"},"Working"]
["56456",{"$f":"VLOOKUP(A112,'Copy of Export'!$A$2:$AF2393,5,false)","v":"#N/A"},{"$f":"VLOOKUP(A112,'Copy of Export'!$A$2:$AF2393,13,false)","v":"#N/A"},{"$f":"VLOOKUP(A112,'Copy of Export'!$A$2:$AF2393,2,false)","v":"#N/A"},{"$f":"VLOOKUP(A112,'Copy of Export'!$A$2:$AF2393,5,false)","v":"#N/A"},{"$f":"VLOOKUP(A112,'Copy of Export'!$A$2:$AF2393,8,false)","v":"#N/A"},"Working"]
["56266",{"$f":"VLOOKUP(A113,'Copy of Export'!$A$2:$AF2393,5,false)","v":"Lenovo ThinkPad L380 Yoga (Core i5-8250U, 8GB, 256GB)"},{"$f":"VLOOKUP(A113,'Copy of Export'!$A$2:$AF2393,13,false)","v":"L380 Yoga"},{"$f":"VLOOKUP(A113,'Copy of Export'!$A$2:$AF2393,2,false)","v":"R90VG3BV"},{"$f":"VLOOKUP(A113,'Copy of Export'!$A$2:$AF2393,5,false)","v":"Lenovo ThinkPad L380 Yoga (Core i5-8250U, 8GB, 256GB)"},{"$f":"VLOOKUP(A113,'Copy of Export'!$A$2:$AF2393,8,false)","v":"Laptop"},"Working"]
["54419",{"$f":"VLOOKUP(A114,'Copy of Export'!$A$2:$AF2393,5,false)","v":"Lenovo ThinkPad L380 Yoga (Core i5-8250U, 8GB, 256GB)"},{"$f":"VLOOKUP(A114,'Copy of Export'!$A$2:$AF2393,13,false)","v":"L380 Yoga"},{"$f":"VLOOKUP(A114,'Copy of Export'!$A$2:$AF2393,2,false)","v":"R90RBU5L"},{"$f":"VLOOKUP(A114,'Copy of Export'!$A$2:$AF2393,5,false)","v":"Lenovo ThinkPad L380 Yoga (Core i5-8250U, 8GB, 256GB)"},{"$f":"VLOOKUP(A114,'Copy of Export'!$A$2:$AF2393,8,false)","v":"Laptop"},"Working"]
["56376",{"$f":"VLOOKUP(A115,'Copy of Export'!$A$2:$AF2393,5,false)","v":"Lenovo ThinkPad L380 Yoga (Core i5-8250U, 8GB, 256GB)"},{"$f":"VLOOKUP(A115,'Copy of Export'!$A$2:$AF2393,13,false)","v":"L380 Yoga"},{"$f":"VLOOKUP(A115,'Copy of Export'!$A$2:$AF2393,2,false)","v":"R90VG3BT"},{"$f":"VLOOKUP(A115,'Copy of Export'!$A$2:$AF2393,5,false)","v":"Lenovo ThinkPad L380 Yoga (Core i5-8250U, 8GB, 256GB)"},{"$f":"VLOOKUP(A115,'Copy of Export'!$A$2:$AF2393,8,false)","v":"Laptop"},"Working"]
["56290",{"$f":"VLOOKUP(A116,'Copy of Export'!$A$2:$AF2393,5,false)","v":"Lenovo ThinkPad L380 Yoga (Core i5-8250U, 8GB, 256GB)"},{"$f":"VLOOKUP(A116,'Copy of Export'!$A$2:$AF2393,13,false)","v":"L380 Yoga"},{"$f":"VLOOKUP(A116,'Copy of Export'!$A$2:$AF2393,2,false)","v":"R90VG3F7"},{"$f":"VLOOKUP(A116,'Copy of Export'!$A$2:$AF2393,5,false)","v":"Lenovo ThinkPad L380 Yoga (Core i5-8250U, 8GB, 256GB)"},{"$f":"VLOOKUP(A116,'Copy of Export'!$A$2:$AF2393,8,false)","v":"Laptop"},"Working"]
["52179",{"$f":"VLOOKUP(A117,'Copy of Export'!$A$2:$AF2393,5,false)","v":"#N/A"},{"$f":"VLOOKUP(A117,'Copy of Export'!$A$2:$AF2393,13,false)","v":"#N/A"},{"$f":"VLOOKUP(A117,'Copy of Export'!$A$2:$AF2393,2,false)","v":"#N/A"},{"$f":"VLOOKUP(A117,'Copy of Export'!$A$2:$AF2393,5,false)","v":"#N/A"},{"$f":"VLOOKUP(A117,'Copy of Export'!$A$2:$AF2393,8,false)","v":"#N/A"},"Working"]
["56404",{"$f":"VLOOKUP(A118,'Copy of Export'!$A$2:$AF2393,5,false)","v":"Lenovo ThinkPad L380 Yoga (Core i5-8250U, 8GB, 256GB)"},{"$f":"VLOOKUP(A118,'Copy of Export'!$A$2:$AF2393,13,false)","v":"L380 Yoga"},{"$f":"VLOOKUP(A118,'Copy of Export'!$A$2:$AF2393,2,false)","v":"R90VG3FD"},{"$f":"VLOOKUP(A118,'Copy of Export'!$A$2:$AF2393,5,false)","v":"Lenovo ThinkPad L380 Yoga (Core i5-8250U, 8GB, 256GB)"},{"$f":"VLOOKUP(A118,'Copy of Export'!$A$2:$AF2393,8,false)","v":"Laptop"},"Working"]
["S57607",{"$f":"VLOOKUP(A119,'Copy of Export'!$A$2:$AF2393,5,false)","v":"#N/A"},{"$f":"VLOOKUP(A119,'Copy of Export'!$A$2:$AF2393,13,false)","v":"#N/A"},{"$f":"VLOOKUP(A119,'Copy of Export'!$A$2:$AF2393,2,false)","v":"#N/A"},{"$f":"VLOOKUP(A119,'Copy of Export'!$A$2:$AF2393,5,false)","v":"#N/A"},{"$f":"VLOOKUP(A119,'Copy of Export'!$A$2:$AF2393,8,false)","v":"#N/A"},"Working"]
["56426",{"$f":"VLOOKUP(A120,'Copy of Export'!$A$2:$AF2393,5,false)","v":"#N/A"},{"$f":"VLOOKUP(A120,'Copy of Export'!$A$2:$AF2393,13,false)","v":"#N/A"},{"$f":"VLOOKUP(A120,'Copy of Export'!$A$2:$AF2393,2,false)","v":"#N/A"},{"$f":"VLOOKUP(A120,'Copy of Export'!$A$2:$AF2393,5,false)","v":"#N/A"},{"$f":"VLOOKUP(A120,'Copy of Export'!$A$2:$AF2393,8,false)","v":"#N/A"},"Working"]
["56345",{"$f":"VLOOKUP(A121,'Copy of Export'!$A$2:$AF2393,5,false)","v":"Lenovo ThinkPad L380 Yoga (Core i5-8250U, 8GB, 256GB)"},{"$f":"VLOOKUP(A121,'Copy of Export'!$A$2:$AF2393,13,false)","v":"L380 Yoga"},{"$f":"VLOOKUP(A121,'Copy of Export'!$A$2:$AF2393,2,false)","v":"R90VG3FZ"},{"$f":"VLOOKUP(A121,'Copy of Export'!$A$2:$AF2393,5,false)","v":"Lenovo ThinkPad L380 Yoga (Core i5-8250U, 8GB, 256GB)"},{"$f":"VLOOKUP(A121,'Copy of Export'!$A$2:$AF2393,8,false)","v":"Laptop"},"Working"]
["56475",{"$f":"VLOOKUP(A122,'Copy of Export'!$A$2:$AF2393,5,false)","v":"#N/A"},{"$f":"VLOOKUP(A122,'Copy of Export'!$A$2:$AF2393,13,false)","v":"#N/A"},{"$f":"VLOOKUP(A122,'Copy of Export'!$A$2:$AF2393,2,false)","v":"#N/A"},{"$f":"VLOOKUP(A122,'Copy of Export'!$A$2:$AF2393,5,false)","v":"#N/A"},{"$f":"VLOOKUP(A122,'Copy of Export'!$A$2:$AF2393,8,false)","v":"#N/A"},"Working"]
["56279",{"$f":"VLOOKUP(A123,'Copy of Export'!$A$2:$AF2393,5,false)","v":"Lenovo ThinkPad L380 Yoga (Core i5-8250U, 8GB, 256GB)"},{"$f":"VLOOKUP(A123,'Copy of Export'!$A$2:$AF2393,13,false)","v":"L380 Yoga"},{"$f":"VLOOKUP(A123,'Copy of Export'!$A$2:$AF2393,2,false)","v":"R90VG3BS"},{"$f":"VLOOKUP(A123,'Copy of Export'!$A$2:$AF2393,5,false)","v":"Lenovo ThinkPad L380 Yoga (Core i5-8250U, 8GB, 256GB)"},{"$f":"VLOOKUP(A123,'Copy of Export'!$A$2:$AF2393,8,false)","v":"Laptop"},"Working"]
["56433",{"$f":"VLOOKUP(A124,'Copy of Export'!$A$2:$AF2393,5,false)","v":"#N/A"},{"$f":"VLOOKUP(A124,'Copy of Export'!$A$2:$AF2393,13,false)","v":"#N/A"},{"$f":"VLOOKUP(A124,'Copy of Export'!$A$2:$AF2393,2,false)","v":"#N/A"},{"$f":"VLOOKUP(A124,'Copy of Export'!$A$2:$AF2393,5,false)","v":"#N/A"},{"$f":"VLOOKUP(A124,'Copy of Export'!$A$2:$AF2393,8,false)","v":"#N/A"},"Working"]
["56469",{"$f":"VLOOKUP(A125,'Copy of Export'!$A$2:$AF2393,5,false)","v":"#N/A"},{"$f":"VLOOKUP(A125,'Copy of Export'!$A$2:$AF2393,13,false)","v":"#N/A"},{"$f":"VLOOKUP(A125,'Copy of Export'!$A$2:$AF2393,2,false)","v":"#N/A"},{"$f":"VLOOKUP(A125,'Copy of Export'!$A$2:$AF2393,5,false)","v":"#N/A"},{"$f":"VLOOKUP(A125,'Copy of Export'!$A$2:$AF2393,8,false)","v":"#N/A"},"Working"]
["49721",{"$f":"VLOOKUP(A126,'Copy of Export'!$A$2:$AF2393,5,false)","v":"#N/A"},{"$f":"VLOOKUP(A126,'Copy of Export'!$A$2:$AF2393,13,false)","v":"#N/A"},{"$f":"VLOOKUP(A126,'Copy of Export'!$A$2:$AF2393,2,false)","v":"#N/A"},{"$f":"VLOOKUP(A126,'Copy of Export'!$A$2:$AF2393,5,false)","v":"#N/A"},{"$f":"VLOOKUP(A126,'Copy of Export'!$A$2:$AF2393,8,false)","v":"#N/A"},"Working"]
["49713",{"$f":"VLOOKUP(A127,'Copy of Export'!$A$2:$AF2393,5,false)","v":"#N/A"},{"$f":"VLOOKUP(A127,'Copy of Export'!$A$2:$AF2393,13,false)","v":"#N/A"},{"$f":"VLOOKUP(A127,'Copy of Export'!$A$2:$AF2393,2,false)","v":"#N/A"},{"$f":"VLOOKUP(A127,'Copy of Export'!$A$2:$AF2393,5,false)","v":"#N/A"},{"$f":"VLOOKUP(A127,'Copy of Export'!$A$2:$AF2393,8,false)","v":"#N/A"},"Working"]
["S57604",{"$f":"VLOOKUP(A128,'Copy of Export'!$A$2:$AF2393,5,false)","v":"#N/A"},{"$f":"VLOOKUP(A128,'Copy of Export'!$A$2:$AF2393,13,false)","v":"#N/A"},{"$f":"VLOOKUP(A128,'Copy of Export'!$A$2:$AF2393,2,false)","v":"#N/A"},{"$f":"VLOOKUP(A128,'Copy of Export'!$A$2:$AF2393,5,false)","v":"#N/A"},{"$f":"VLOOKUP(A128,'Copy of Export'!$A$2:$AF2393,8,false)","v":"#N/A"},"Working"]
["53292",{"$f":"VLOOKUP(A129,'Copy of Export'!$A$2:$AF2393,5,false)","v":"Lenovo ThinkPad L380 Yoga (Core i5-8250U, 8GB, 256GB)"},{"$f":"VLOOKUP(A129,'Copy of Export'!$A$2:$AF2393,13,false)","v":"L380 Yoga"},{"$f":"VLOOKUP(A129,'Copy of Export'!$A$2:$AF2393,2,false)","v":"R90QLYSE"},{"$f":"VLOOKUP(A129,'Copy of Export'!$A$2:$AF2393,5,false)","v":"Lenovo ThinkPad L380 Yoga (Core i5-8250U, 8GB, 256GB)"},{"$f":"VLOOKUP(A129,'Copy of Export'!$A$2:$AF2393,8,false)","v":"Laptop"},"Working"]
["56477",{"$f":"VLOOKUP(A130,'Copy of Export'!$A$2:$AF2393,5,false)","v":"#N/A"},{"$f":"VLOOKUP(A130,'Copy of Export'!$A$2:$AF2393,13,false)","v":"#N/A"},{"$f":"VLOOKUP(A130,'Copy of Export'!$A$2:$AF2393,2,false)","v":"#N/A"},{"$f":"VLOOKUP(A130,'Copy of Export'!$A$2:$AF2393,5,false)","v":"#N/A"},{"$f":"VLOOKUP(A130,'Copy of Export'!$A$2:$AF2393,8,false)","v":"#N/A"},"Working"]
["S57599",{"$f":"VLOOKUP(A131,'Copy of Export'!$A$2:$AF2393,5,false)","v":"#N/A"},{"$f":"VLOOKUP(A131,'Copy of Export'!$A$2:$AF2393,13,false)","v":"#N/A"},{"$f":"VLOOKUP(A131,'Copy of Export'!$A$2:$AF2393,2,false)","v":"#N/A"},{"$f":"VLOOKUP(A131,'Copy of Export'!$A$2:$AF2393,5,false)","v":"#N/A"},{"$f":"VLOOKUP(A131,'Copy of Export'!$A$2:$AF2393,8,false)","v":"#N/A"},"Working"]
["56408",{"$f":"VLOOKUP(A132,'Copy of Export'!$A$2:$AF2393,5,false)","v":"#N/A"},{"$f":"VLOOKUP(A132,'Copy of Export'!$A$2:$AF2393,13,false)","v":"#N/A"},{"$f":"VLOOKUP(A132,'Copy of Export'!$A$2:$AF2393,2,false)","v":"#N/A"},{"$f":"VLOOKUP(A132,'Copy of Export'!$A$2:$AF2393,5,false)","v":"#N/A"},{"$f":"VLOOKUP(A132,'Copy of Export'!$A$2:$AF2393,8,false)","v":"#N/A"},"Working"]
["56280",{"$f":"VLOOKUP(A133,'Copy of Export'!$A$2:$AF2393,5,false)","v":"Lenovo ThinkPad L380 Yoga (Core i5-8250U, 8GB, 256GB)"},{"$f":"VLOOKUP(A133,'Copy of Export'!$A$2:$AF2393,13,false)","v":"L380 Yoga"},{"$f":"VLOOKUP(A133,'Copy of Export'!$A$2:$AF2393,2,false)","v":"R90VG3EF"},{"$f":"VLOOKUP(A133,'Copy of Export'!$A$2:$AF2393,5,false)","v":"Lenovo ThinkPad L380 Yoga (Core i5-8250U, 8GB, 256GB)"},{"$f":"VLOOKUP(A133,'Copy of Export'!$A$2:$AF2393,8,false)","v":"Laptop"},"Working"]
["56311",{"$f":"VLOOKUP(A134,'Copy of Export'!$A$2:$AF2393,5,false)","v":"Lenovo ThinkPad L380 Yoga (Core i5-8250U, 8GB, 256GB)"},{"$f":"VLOOKUP(A134,'Copy of Export'!$A$2:$AF2393,13,false)","v":"L380 Yoga"},{"$f":"VLOOKUP(A134,'Copy of Export'!$A$2:$AF2393,2,false)","v":"R90VG3CX"},{"$f":"VLOOKUP(A134,'Copy of Export'!$A$2:$AF2393,5,false)","v":"Lenovo ThinkPad L380 Yoga (Core i5-8250U, 8GB, 256GB)"},{"$f":"VLOOKUP(A134,'Copy of Export'!$A$2:$AF2393,8,false)","v":"Laptop"},"Working"]
["53291",{"$f":"VLOOKUP(A135,'Copy of Export'!$A$2:$AF2393,5,false)","v":"#N/A"},{"$f":"VLOOKUP(A135,'Copy of Export'!$A$2:$AF2393,13,false)","v":"#N/A"},{"$f":"VLOOKUP(A135,'Copy of Export'!$A$2:$AF2393,2,false)","v":"#N/A"},{"$f":"VLOOKUP(A135,'Copy of Export'!$A$2:$AF2393,5,false)","v":"#N/A"},{"$f":"VLOOKUP(A135,'Copy of Export'!$A$2:$AF2393,8,false)","v":"#N/A"},"Working"]
["56295",{"$f":"VLOOKUP(A136,'Copy of Export'!$A$2:$AF2393,5,false)","v":"Lenovo ThinkPad L380 Yoga (Core i5-8250U, 8GB, 256GB)"},{"$f":"VLOOKUP(A136,'Copy of Export'!$A$2:$AF2393,13,false)","v":"L380 Yoga"},{"$f":"VLOOKUP(A136,'Copy of Export'!$A$2:$AF2393,2,false)","v":"R90VG3BN"},{"$f":"VLOOKUP(A136,'Copy of Export'!$A$2:$AF2393,5,false)","v":"Lenovo ThinkPad L380 Yoga (Core i5-8250U, 8GB, 256GB)"},{"$f":"VLOOKUP(A136,'Copy of Export'!$A$2:$AF2393,8,false)","v":"Laptop"},"Working"]
["56419",{"$f":"VLOOKUP(A137,'Copy of Export'!$A$2:$AF2393,5,false)","v":"#N/A"},{"$f":"VLOOKUP(A137,'Copy of Export'!$A$2:$AF2393,13,false)","v":"#N/A"},{"$f":"VLOOKUP(A137,'Copy of Export'!$A$2:$AF2393,2,false)","v":"#N/A"},{"$f":"VLOOKUP(A137,'Copy of Export'!$A$2:$AF2393,5,false)","v":"#N/A"},{"$f":"VLOOKUP(A137,'Copy of Export'!$A$2:$AF2393,8,false)","v":"#N/A"},"Working"]
["56491",{"$f":"VLOOKUP(A138,'Copy of Export'!$A$2:$AF2393,5,false)","v":"#N/A"},{"$f":"VLOOKUP(A138,'Copy of Export'!$A$2:$AF2393,13,false)","v":"#N/A"},{"$f":"VLOOKUP(A138,'Copy of Export'!$A$2:$AF2393,2,false)","v":"#N/A"},{"$f":"VLOOKUP(A138,'Copy of Export'!$A$2:$AF2393,5,false)","v":"#N/A"},{"$f":"VLOOKUP(A138,'Copy of Export'!$A$2:$AF2393,8,false)","v":"#N/A"},"Working"]
["40173",{"$f":"VLOOKUP(A139,'Copy of Export'!$A$2:$AF2393,5,false)","v":"#N/A"},{"$f":"VLOOKUP(A139,'Copy of Export'!$A$2:$AF2393,13,false)","v":"#N/A"},{"$f":"VLOOKUP(A139,'Copy of Export'!$A$2:$AF2393,2,false)","v":"#N/A"},{"$f":"VLOOKUP(A139,'Copy of Export'!$A$2:$AF2393,5,false)","v":"#N/A"},{"$f":"VLOOKUP(A139,'Copy of Export'!$A$2:$AF2393,8,false)","v":"#N/A"},"Working"]
["48828",{"$f":"VLOOKUP(A140,'Copy of Export'!$A$2:$AF2393,5,false)","v":"#N/A"},{"$f":"VLOOKUP(A140,'Copy of Export'!$A$2:$AF2393,13,false)","v":"#N/A"},{"$f":"VLOOKUP(A140,'Copy of Export'!$A$2:$AF2393,2,false)","v":"#N/A"},{"$f":"VLOOKUP(A140,'Copy of Export'!$A$2:$AF2393,5,false)","v":"#N/A"},{"$f":"VLOOKUP(A140,'Copy of Export'!$A$2:$AF2393,8,false)","v":"#N/A"},"Working"]
["40311",{"$f":"VLOOKUP(A141,'Copy of Export'!$A$2:$AF2393,5,false)","v":"#N/A"},{"$f":"VLOOKUP(A141,'Copy of Export'!$A$2:$AF2393,13,false)","v":"#N/A"},{"$f":"VLOOKUP(A141,'Copy of Export'!$A$2:$AF2393,2,false)","v":"#N/A"},{"$f":"VLOOKUP(A141,'Copy of Export'!$A$2:$AF2393,5,false)","v":"#N/A"},{"$f":"VLOOKUP(A141,'Copy of Export'!$A$2:$AF2393,8,false)","v":"#N/A"},"Working"]
["38468",{"$f":"VLOOKUP(A142,'Copy of Export'!$A$2:$AF2393,5,false)","v":"#N/A"},{"$f":"VLOOKUP(A142,'Copy of Export'!$A$2:$AF2393,13,false)","v":"#N/A"},{"$f":"VLOOKUP(A142,'Copy of Export'!$A$2:$AF2393,2,false)","v":"#N/A"},{"$f":"VLOOKUP(A142,'Copy of Export'!$A$2:$AF2393,5,false)","v":"#N/A"},{"$f":"VLOOKUP(A142,'Copy of Export'!$A$2:$AF2393,8,false)","v":"#N/A"},"Working"]
["38266",{"$f":"VLOOKUP(A143,'Copy of Export'!$A$2:$AF2393,5,false)","v":"#N/A"},{"$f":"VLOOKUP(A143,'Copy of Export'!$A$2:$AF2393,13,false)","v":"#N/A"},{"$f":"VLOOKUP(A143,'Copy of Export'!$A$2:$AF2393,2,false)","v":"#N/A"},{"$f":"VLOOKUP(A143,'Copy of Export'!$A$2:$AF2393,5,false)","v":"#N/A"},{"$f":"VLOOKUP(A143,'Copy of Export'!$A$2:$AF2393,8,false)","v":"#N/A"},"Working"]
["38280",{"$f":"VLOOKUP(A144,'Copy of Export'!$A$2:$AF2393,5,false)","v":"#N/A"},{"$f":"VLOOKUP(A144,'Copy of Export'!$A$2:$AF2393,13,false)","v":"#N/A"},{"$f":"VLOOKUP(A144,'Copy of Export'!$A$2:$AF2393,2,false)","v":"#N/A"},{"$f":"VLOOKUP(A144,'Copy of Export'!$A$2:$AF2393,5,false)","v":"#N/A"},{"$f":"VLOOKUP(A144,'Copy of Export'!$A$2:$AF2393,8,false)","v":"#N/A"},"Working"]
["40148",{"$f":"VLOOKUP(A145,'Copy of Export'!$A$2:$AF2393,5,false)","v":"#N/A"},{"$f":"VLOOKUP(A145,'Copy of Export'!$A$2:$AF2393,13,false)","v":"#N/A"},{"$f":"VLOOKUP(A145,'Copy of Export'!$A$2:$AF2393,2,false)","v":"#N/A"},{"$f":"VLOOKUP(A145,'Copy of Export'!$A$2:$AF2393,5,false)","v":"#N/A"},{"$f":"VLOOKUP(A145,'Copy of Export'!$A$2:$AF2393,8,false)","v":"#N/A"},"Working"]
["52180",{"$f":"VLOOKUP(A146,'Copy of Export'!$A$2:$AF2393,5,false)","v":"#N/A"},{"$f":"VLOOKUP(A146,'Copy of Export'!$A$2:$AF2393,13,false)","v":"#N/A"},{"$f":"VLOOKUP(A146,'Copy of Export'!$A$2:$AF2393,2,false)","v":"#N/A"},{"$f":"VLOOKUP(A146,'Copy of Export'!$A$2:$AF2393,5,false)","v":"#N/A"},{"$f":"VLOOKUP(A146,'Copy of Export'!$A$2:$AF2393,8,false)","v":"#N/A"},"Working"]
[null,"Gateway Laptop","M280E",36415336,{"$f":"VLOOKUP(A147,'Copy of Export'!$A$2:$AF2393,5,false)","v":"#N/A"},{"$f":"VLOOKUP(A147,'Copy of Export'!$A$2:$AF2393,8,false)","v":"#N/A"},"Working"]
[null,"HP","G62-144DN Notebook",{"$f":"VLOOKUP(A148,'Copy of Export'!$A$2:$AF2393,2,false)","v":"#N/A"},{"$f":"VLOOKUP(A148,'Copy of Export'!$A$2:$AF2393,5,false)","v":"#N/A"},{"$f":"VLOOKUP(A148,'Copy of Export'!$A$2:$AF2393,8,false)","v":"#N/A"},"Working"]
[null,"Dell","Inspiron 13 7000 series","85pkm52",{"$f":"VLOOKUP(A149,'Copy of Export'!$A$2:$AF2393,5,false)","v":"#N/A"},{"$f":"VLOOKUP(A149,'Copy of Export'!$A$2:$AF2393,8,false)","v":"#N/A"},"Working"]
[null,"Lenovo","ThinkPad UltraBase Series 3",{"$f":"VLOOKUP(A150,'Copy of Export'!$A$2:$AF2393,2,false)","v":"#N/A"},{"$f":"VLOOKUP(A150,'Copy of Export'!$A$2:$AF2393,5,false)","v":"#N/A"},{"$f":"VLOOKUP(A150,'Copy of Export'!$A$2:$AF2393,8,false)","v":"#N/A"},"Working"]
[null,"Lenovo","ThinkPad UltraBase Series 3",{"$f":"VLOOKUP(A151,'Copy of Export'!$A$2:$AF2393,2,false)","v":"#N/A"},{"$f":"VLOOKUP(A151,'Copy of Export'!$A$2:$AF2393,5,false)","v":"#N/A"},{"$f":"VLOOKUP(A151,'Copy of Export'!$A$2:$AF2393,8,false)","v":"#N/A"},"Working"]
[null,{"$f":"VLOOKUP(A152,'Copy of Export'!$A$2:$AF2393,5,false)","v":"#N/A"},{"$f":"VLOOKUP(A152,'Copy of Export'!$A$2:$AF2393,13,false)","v":"#N/A"},{"$f":"VLOOKUP(A152,'Copy of Export'!$A$2:$AF2393,2,false)","v":"#N/A"},{"$f":"VLOOKUP(A152,'Copy of Export'!$A$2:$AF2393,5,false)","v":"#N/A"},{"$f":"VLOOKUP(A152,'Copy of Export'!$A$2:$AF2393,8,false)","v":"#N/A"}]
[null,{"$f":"VLOOKUP(A153,'Copy of Export'!$A$2:$AF2393,5,false)","v":"#N/A"},{"$f":"VLOOKUP(A153,'Copy of Export'!$A$2:$AF2393,13,false)","v":"#N/A"},{"$f":"VLOOKUP(A153,'Copy of Export'!$A$2:$AF2393,2,false)","v":"#N/A"},{"$f":"VLOOKUP(A153,'Copy of Export'!$A$2:$AF2393,5,false)","v":"#N/A"},{"$f":"VLOOKUP(A153,'Copy of Export'!$A$2:$AF2393,8,false)","v":"#N/A"}]
[null,{"$f":"VLOOKUP(A154,'Copy of Export'!$A$2:$AF2393,5,false)","v":"#N/A"},{"$f":"VLOOKUP(A154,'Copy of Export'!$A$2:$AF2393,13,false)","v":"#N/A"},{"$f":"VLOOKUP(A154,'Copy of Export'!$A$2:$AF2393,2,false)","v":"#N/A"},{"$f":"VLOOKUP(A154,'Copy of Export'!$A$2:$AF2393,5,false)","v":"#N/A"},{"$f":"VLOOKUP(A154,'Copy of Export'!$A$2:$AF2393,8,false)","v":"#N/A"}]
[null,{"$f":"VLOOKUP(A155,'Copy of Export'!$A$2:$AF2393,5,false)","v":"#N/A"},{"$f":"VLOOKUP(A155,'Copy of Export'!$A$2:$AF2393,13,false)","v":"#N/A"},{"$f":"VLOOKUP(A155,'Copy of Export'!$A$2:$AF2393,2,false)","v":"#N/A"},{"$f":"VLOOKUP(A155,'Copy of Export'!$A$2:$AF2393,5,false)","v":"#N/A"},{"$f":"VLOOKUP(A155,'Copy of Export'!$A$2:$AF2393,8,false)","v":"#N/A"}]
[null,{"$f":"VLOOKUP(A156,'Copy of Export'!$A$2:$AF2393,5,false)","v":"#N/A"},{"$f":"VLOOKUP(A156,'Copy of Export'!$A$2:$AF2393,13,false)","v":"#N/A"},{"$f":"VLOOKUP(A156,'Copy of Export'!$A$2:$AF2393,2,false)","v":"#N/A"},{"$f":"VLOOKUP(A156,'Copy of Export'!$A$2:$AF2393,5,false)","v":"#N/A"},{"$f":"VLOOKUP(A156,'Copy of Export'!$A$2:$AF2393,8,false)","v":"#N/A"}]
[null,{"$f":"VLOOKUP(A157,'Copy of Export'!$A$2:$AF2393,5,false)","v":"#N/A"},{"$f":"VLOOKUP(A157,'Copy of Export'!$A$2:$AF2393,13,false)","v":"#N/A"},{"$f":"VLOOKUP(A157,'Copy of Export'!$A$2:$AF2393,2,false)","v":"#N/A"},{"$f":"VLOOKUP(A157,'Copy of Export'!$A$2:$AF2393,5,false)","v":"#N/A"},{"$f":"VLOOKUP(A157,'Copy of Export'!$A$2:$AF2393,8,false)","v":"#N/A"}]
[null,{"$f":"VLOOKUP(A158,'Copy of Export'!$A$2:$AF2393,5,false)","v":"#N/A"},{"$f":"VLOOKUP(A158,'Copy of Export'!$A$2:$AF2393,13,false)","v":"#N/A"},{"$f":"VLOOKUP(A158,'Copy of Export'!$A$2:$AF2393,2,false)","v":"#N/A"},{"$f":"VLOOKUP(A158,'Copy of Export'!$A$2:$AF2393,5,false)","v":"#N/A"},{"$f":"VLOOKUP(A158,'Copy of Export'!$A$2:$AF2393,8,false)","v":"#N/A"}]
[null,{"$f":"VLOOKUP(A159,'Copy of Export'!$A$2:$AF2393,5,false)","v":"#N/A"},{"$f":"VLOOKUP(A159,'Copy of Export'!$A$2:$AF2393,13,false)","v":"#N/A"},{"$f":"VLOOKUP(A159,'Copy of Export'!$A$2:$AF2393,2,false)","v":"#N/A"},{"$f":"VLOOKUP(A159,'Copy of Export'!$A$2:$AF2393,5,false)","v":"#N/A"},{"$f":"VLOOKUP(A159,'Copy of Export'!$A$2:$AF2393,8,false)","v":"#N/A"}]
[null,{"$f":"VLOOKUP(A160,'Copy of Export'!$A$2:$AF2393,5,false)","v":"#N/A"},{"$f":"VLOOKUP(A160,'Copy of Export'!$A$2:$AF2393,13,false)","v":"#N/A"},{"$f":"VLOOKUP(A160,'Copy of Export'!$A$2:$AF2393,2,false)","v":"#N/A"},{"$f":"VLOOKUP(A160,'Copy of Export'!$A$2:$AF2393,5,false)","v":"#N/A"},{"$f":"VLOOKUP(A160,'Copy of Export'!$A$2:$AF2393,8,false)","v":"#N/A"}]
[null,{"$f":"VLOOKUP(A161,'Copy of Export'!$A$2:$AF2393,5,false)","v":"#N/A"},{"$f":"VLOOKUP(A161,'Copy of Export'!$A$2:$AF2393,13,false)","v":"#N/A"},{"$f":"VLOOKUP(A161,'Copy of Export'!$A$2:$AF2393,2,false)","v":"#N/A"},{"$f":"VLOOKUP(A161,'Copy of Export'!$A$2:$AF2393,5,false)","v":"#N/A"},{"$f":"VLOOKUP(A161,'Copy of Export'!$A$2:$AF2393,8,false)","v":"#N/A"}]
[null,{"$f":"VLOOKUP(A162,'Copy of Export'!$A$2:$AF2393,5,false)","v":"#N/A"},{"$f":"VLOOKUP(A162,'Copy of Export'!$A$2:$AF2393,13,false)","v":"#N/A"},{"$f":"VLOOKUP(A162,'Copy of Export'!$A$2:$AF2393,2,false)","v":"#N/A"},{"$f":"VLOOKUP(A162,'Copy of Export'!$A$2:$AF2393,5,false)","v":"#N/A"},{"$f":"VLOOKUP(A162,'Copy of Export'!$A$2:$AF2393,8,false)","v":"#N/A"}]
[null,{"$f":"VLOOKUP(A163,'Copy of Export'!$A$2:$AF2393,5,false)","v":"#N/A"},{"$f":"VLOOKUP(A163,'Copy of Export'!$A$2:$AF2393,13,false)","v":"#N/A"},{"$f":"VLOOKUP(A163,'Copy of Export'!$A$2:$AF2393,2,false)","v":"#N/A"},{"$f":"VLOOKUP(A163,'Copy of Export'!$A$2:$AF2393,5,false)","v":"#N/A"},{"$f":"VLOOKUP(A163,'Copy of Export'!$A$2:$AF2393,8,false)","v":"#N/A"}]
[null,{"$f":"VLOOKUP(A164,'Copy of Export'!$A$2:$AF2393,5,false)","v":"#N/A"},{"$f":"VLOOKUP(A164,'Copy of Export'!$A$2:$AF2393,13,false)","v":"#N/A"},{"$f":"VLOOKUP(A164,'Copy of Export'!$A$2:$AF2393,2,false)","v":"#N/A"},{"$f":"VLOOKUP(A164,'Copy of Export'!$A$2:$AF2393,5,false)","v":"#N/A"},{"$f":"VLOOKUP(A164,'Copy of Export'!$A$2:$AF2393,8,false)","v":"#N/A"}]
[null,{"$f":"VLOOKUP(A165,'Copy of Export'!$A$2:$AF2393,5,false)","v":"#N/A"},{"$f":"VLOOKUP(A165,'Copy of Export'!$A$2:$AF2393,13,false)","v":"#N/A"},{"$f":"VLOOKUP(A165,'Copy of Export'!$A$2:$AF2393,2,false)","v":"#N/A"},{"$f":"VLOOKUP(A165,'Copy of Export'!$A$2:$AF2393,5,false)","v":"#N/A"},{"$f":"VLOOKUP(A165,'Copy of Export'!$A$2:$AF2393,8,false)","v":"#N/A"}]
[null,{"$f":"VLOOKUP(A166,'Copy of Export'!$A$2:$AF2393,5,false)","v":"#N/A"},{"$f":"VLOOKUP(A166,'Copy of Export'!$A$2:$AF2393,13,false)","v":"#N/A"},{"$f":"VLOOKUP(A166,'Copy of Export'!$A$2:$AF2393,2,false)","v":"#N/A"},{"$f":"VLOOKUP(A166,'Copy of Export'!$A$2:$AF2393,5,false)","v":"#N/A"},{"$f":"VLOOKUP(A166,'Copy of Export'!$A$2:$AF2393,8,false)","v":"#N/A"}]
[null,{"$f":"VLOOKUP(A167,'Copy of Export'!$A$2:$AF2393,5,false)","v":"#N/A"},{"$f":"VLOOKUP(A167,'Copy of Export'!$A$2:$AF2393,13,false)","v":"#N/A"},{"$f":"VLOOKUP(A167,'Copy of Export'!$A$2:$AF2393,2,false)","v":"#N/A"},{"$f":"VLOOKUP(A167,'Copy of Export'!$A$2:$AF2393,5,false)","v":"#N/A"},{"$f":"VLOOKUP(A167,'Copy of Export'!$A$2:$AF2393,8,false)","v":"#N/A"}]
[null,{"$f":"VLOOKUP(A168,'Copy of Export'!$A$2:$AF2393,5,false)","v":"#N/A"},{"$f":"VLOOKUP(A168,'Copy of Export'!$A$2:$AF2393,13,false)","v":"#N/A"},{"$f":"VLOOKUP(A168,'Copy of Export'!$A$2:$AF2393,2,false)","v":"#N/A"},{"$f":"VLOOKUP(A168,'Copy of Export'!$A$2:$AF2393,5,false)","v":"#N/A"},{"$f":"VLOOKUP(A168,'Copy of Export'!$A$2:$AF2393,8,false)","v":"#N/A"}]
[null,{"$f":"VLOOKUP(A169,'Copy of Export'!$A$2:$AF2393,5,false)","v":"#N/A"},{"$f":"VLOOKUP(A169,'Copy of Export'!$A$2:$AF2393,13,false)","v":"#N/A"},{"$f":"VLOOKUP(A169,'Copy of Export'!$A$2:$AF2393,2,false)","v":"#N/A"},{"$f":"VLOOKUP(A169,'Copy of Export'!$A$2:$AF2393,5,false)","v":"#N/A"},{"$f":"VLOOKUP(A169,'Copy of Export'!$A$2:$AF2393,8,false)","v":"#N/A"}]
[null,{"$f":"VLOOKUP(A170,'Copy of Export'!$A$2:$AF2393,5,false)","v":"#N/A"},{"$f":"VLOOKUP(A170,'Copy of Export'!$A$2:$AF2393,13,false)","v":"#N/A"},{"$f":"VLOOKUP(A170,'Copy of Export'!$A$2:$AF2393,2,false)","v":"#N/A"},{"$f":"VLOOKUP(A170,'Copy of Export'!$A$2:$AF2393,5,false)","v":"#N/A"},{"$f":"VLOOKUP(A170,'Copy of Export'!$A$2:$AF2393,8,false)","v":"#N/A"}]
[null,{"$f":"VLOOKUP(A171,'Copy of Export'!$A$2:$AF2393,5,false)","v":"#N/A"},{"$f":"VLOOKUP(A171,'Copy of Export'!$A$2:$AF2393,13,false)","v":"#N/A"},{"$f":"VLOOKUP(A171,'Copy of Export'!$A$2:$AF2393,2,false)","v":"#N/A"},{"$f":"VLOOKUP(A171,'Copy of Export'!$A$2:$AF2393,5,false)","v":"#N/A"},{"$f":"VLOOKUP(A171,'Copy of Export'!$A$2:$AF2393,8,false)","v":"#N/A"}]
[null,{"$f":"VLOOKUP(A172,'Copy of Export'!$A$2:$AF2393,5,false)","v":"#N/A"},{"$f":"VLOOKUP(A172,'Copy of Export'!$A$2:$AF2393,13,false)","v":"#N/A"},{"$f":"VLOOKUP(A172,'Copy of Export'!$A$2:$AF2393,2,false)","v":"#N/A"},{"$f":"VLOOKUP(A172,'Copy of Export'!$A$2:$AF2393,5,false)","v":"#N/A"},{"$f":"VLOOKUP(A172,'Copy of Export'!$A$2:$AF2393,8,false)","v":"#N/A"}]
[null,{"$f":"VLOOKUP(A173,'Copy of Export'!$A$2:$AF2393,5,false)","v":"#N/A"},{"$f":"VLOOKUP(A173,'Copy of Export'!$A$2:$AF2393,13,false)","v":"#N/A"},{"$f":"VLOOKUP(A173,'Copy of Export'!$A$2:$AF2393,2,false)","v":"#N/A"},{"$f":"VLOOKUP(A173,'Copy of Export'!$A$2:$AF2393,5,false)","v":"#N/A"},{"$f":"VLOOKUP(A173,'Copy of Export'!$A$2:$AF2393,8,false)","v":"#N/A"}]
[null,{"$f":"VLOOKUP(A174,'Copy of Export'!$A$2:$AF2393,5,false)","v":"#N/A"},{"$f":"VLOOKUP(A174,'Copy of Export'!$A$2:$AF2393,13,false)","v":"#N/A"},{"$f":"VLOOKUP(A174,'Copy of Export'!$A$2:$AF2393,2,false)","v":"#N/A"},{"$f":"VLOOKUP(A174,'Copy of Export'!$A$2:$AF2393,5,false)","v":"#N/A"},{"$f":"VLOOKUP(A174,'Copy of Export'!$A$2:$AF2393,8,false)","v":"#N/A"}]
[null,{"$f":"VLOOKUP(A175,'Copy of Export'!$A$2:$AF2393,5,false)","v":"#N/A"},{"$f":"VLOOKUP(A175,'Copy of Export'!$A$2:$AF2393,13,false)","v":"#N/A"},{"$f":"VLOOKUP(A175,'Copy of Export'!$A$2:$AF2393,2,false)","v":"#N/A"},{"$f":"VLOOKUP(A175,'Copy of Export'!$A$2:$AF2393,5,false)","v":"#N/A"},{"$f":"VLOOKUP(A175,'Copy of Export'!$A$2:$AF2393,8,false)","v":"#N/A"}]
[null,{"$f":"VLOOKUP(A176,'Copy of Export'!$A$2:$AF2393,5,false)","v":"#N/A"},{"$f":"VLOOKUP(A176,'Copy of Export'!$A$2:$AF2393,13,false)","v":"#N/A"},{"$f":"VLOOKUP(A176,'Copy of Export'!$A$2:$AF2393,2,false)","v":"#N/A"},{"$f":"VLOOKUP(A176,'Copy of Export'!$A$2:$AF2393,5,false)","v":"#N/A"},{"$f":"VLOOKUP(A176,'Copy of Export'!$A$2:$AF2393,8,false)","v":"#N/A"}]
[null,{"$f":"VLOOKUP(A177,'Copy of Export'!$A$2:$AF2393,5,false)","v":"#N/A"},{"$f":"VLOOKUP(A177,'Copy of Export'!$A$2:$AF2393,13,false)","v":"#N/A"},{"$f":"VLOOKUP(A177,'Copy of Export'!$A$2:$AF2393,2,false)","v":"#N/A"},{"$f":"VLOOKUP(A177,'Copy of Export'!$A$2:$AF2393,5,false)","v":"#N/A"},{"$f":"VLOOKUP(A177,'Copy of Export'!$A$2:$AF2393,8,false)","v":"#N/A"}]
[null,{"$f":"VLOOKUP(A178,'Copy of Export'!$A$2:$AF2393,5,false)","v":"#N/A"},{"$f":"VLOOKUP(A178,'Copy of Export'!$A$2:$AF2393,13,false)","v":"#N/A"},{"$f":"VLOOKUP(A178,'Copy of Export'!$A$2:$AF2393,2,false)","v":"#N/A"},{"$f":"VLOOKUP(A178,'Copy of Export'!$A$2:$AF2393,5,false)","v":"#N/A"},{"$f":"VLOOKUP(A178,'Copy of Export'!$A$2:$AF2393,8,false)","v":"#N/A"}]
[null,{"$f":"VLOOKUP(A179,'Copy of Export'!$A$2:$AF2393,5,false)","v":"#N/A"},{"$f":"VLOOKUP(A179,'Copy of Export'!$A$2:$AF2393,13,false)","v":"#N/A"},{"$f":"VLOOKUP(A179,'Copy of Export'!$A$2:$AF2393,2,false)","v":"#N/A"},{"$f":"VLOOKUP(A179,'Copy of Export'!$A$2:$AF2393,5,false)","v":"#N/A"},{"$f":"VLOOKUP(A179,'Copy of Export'!$A$2:$AF2393,8,false)","v":"#N/A"}]
[null,{"$f":"VLOOKUP(A180,'Copy of Export'!$A$2:$AF2393,5,false)","v":"#N/A"},{"$f":"VLOOKUP(A180,'Copy of Export'!$A$2:$AF2393,13,false)","v":"#N/A"},{"$f":"VLOOKUP(A180,'Copy of Export'!$A$2:$AF2393,2,false)","v":"#N/A"},{"$f":"VLOOKUP(A180,'Copy of Export'!$A$2:$AF2393,5,false)","v":"#N/A"},{"$f":"VLOOKUP(A180,'Copy of Export'!$A$2:$AF2393,8,false)","v":"#N/A"}]
[null,{"$f":"VLOOKUP(A181,'Copy of Export'!$A$2:$AF2393,5,false)","v":"#N/A"},{"$f":"VLOOKUP(A181,'Copy of Export'!$A$2:$AF2393,13,false)","v":"#N/A"},{"$f":"VLOOKUP(A181,'Copy of Export'!$A$2:$AF2393,2,false)","v":"#N/A"},{"$f":"VLOOKUP(A181,'Copy of Export'!$A$2:$AF2393,5,false)","v":"#N/A"},{"$f":"VLOOKUP(A181,'Copy of Export'!$A$2:$AF2393,8,false)","v":"#N/A"}]
[null,{"$f":"VLOOKUP(A182,'Copy of Export'!$A$2:$AF2393,5,false)","v":"#N/A"},{"$f":"VLOOKUP(A182,'Copy of Export'!$A$2:$AF2393,13,false)","v":"#N/A"},{"$f":"VLOOKUP(A182,'Copy of Export'!$A$2:$AF2393,2,false)","v":"#N/A"},{"$f":"VLOOKUP(A182,'Copy of Export'!$A$2:$AF2393,5,false)","v":"#N/A"},{"$f":"VLOOKUP(A182,'Copy of Export'!$A$2:$AF2393,8,false)","v":"#N/A"}]
[null,{"$f":"VLOOKUP(A183,'Copy of Export'!$A$2:$AF2393,5,false)","v":"#N/A"},{"$f":"VLOOKUP(A183,'Copy of Export'!$A$2:$AF2393,13,false)","v":"#N/A"},{"$f":"VLOOKUP(A183,'Copy of Export'!$A$2:$AF2393,2,false)","v":"#N/A"},{"$f":"VLOOKUP(A183,'Copy of Export'!$A$2:$AF2393,5,false)","v":"#N/A"},{"$f":"VLOOKUP(A183,'Copy of Export'!$A$2:$AF2393,8,false)","v":"#N/A"}]
[null,{"$f":"VLOOKUP(A184,'Copy of Export'!$A$2:$AF2393,5,false)","v":"#N/A"},{"$f":"VLOOKUP(A184,'Copy of Export'!$A$2:$AF2393,13,false)","v":"#N/A"},{"$f":"VLOOKUP(A184,'Copy of Export'!$A$2:$AF2393,2,false)","v":"#N/A"},{"$f":"VLOOKUP(A184,'Copy of Export'!$A$2:$AF2393,5,false)","v":"#N/A"},{"$f":"VLOOKUP(A184,'Copy of Export'!$A$2:$AF2393,8,false)","v":"#N/A"}]
[null,{"$f":"VLOOKUP(A185,'Copy of Export'!$A$2:$AF2393,5,false)","v":"#N/A"},{"$f":"VLOOKUP(A185,'Copy of Export'!$A$2:$AF2393,13,false)","v":"#N/A"},{"$f":"VLOOKUP(A185,'Copy of Export'!$A$2:$AF2393,2,false)","v":"#N/A"},{"$f":"VLOOKUP(A185,'Copy of Export'!$A$2:$AF2393,5,false)","v":"#N/A"},{"$f":"VLOOKUP(A185,'Copy of Export'!$A$2:$AF2393,8,false)","v":"#N/A"}]
[null,{"$f":"VLOOKUP(A186,'Copy of Export'!$A$2:$AF2393,5,false)","v":"#N/A"},{"$f":"VLOOKUP(A186,'Copy of Export'!$A$2:$AF2393,13,false)","v":"#N/A"},{"$f":"VLOOKUP(A186,'Copy of Export'!$A$2:$AF2393,2,false)","v":"#N/A"},{"$f":"VLOOKUP(A186,'Copy of Export'!$A$2:$AF2393,5,false)","v":"#N/A"},{"$f":"VLOOKUP(A186,'Copy of Export'!$A$2:$AF2393,8,false)","v":"#N/A"}]
[null,{"$f":"VLOOKUP(A187,'Copy of Export'!$A$2:$AF2393,5,false)","v":"#N/A"},{"$f":"VLOOKUP(A187,'Copy of Export'!$A$2:$AF2393,13,false)","v":"#N/A"},{"$f":"VLOOKUP(A187,'Copy of Export'!$A$2:$AF2393,2,false)","v":"#N/A"},{"$f":"VLOOKUP(A187,'Copy of Export'!$A$2:$AF2393,5,false)","v":"#N/A"},{"$f":"VLOOKUP(A187,'Copy of Export'!$A$2:$AF2393,8,false)","v":"#N/A"}]
[null,{"$f":"VLOOKUP(A188,'Copy of Export'!$A$2:$AF2393,5,false)","v":"#N/A"},{"$f":"VLOOKUP(A188,'Copy of Export'!$A$2:$AF2393,13,false)","v":"#N/A"},{"$f":"VLOOKUP(A188,'Copy of Export'!$A$2:$AF2393,2,false)","v":"#N/A"},{"$f":"VLOOKUP(A188,'Copy of Export'!$A$2:$AF2393,5,false)","v":"#N/A"},{"$f":"VLOOKUP(A188,'Copy of Export'!$A$2:$AF2393,8,false)","v":"#N/A"}]
[null,{"$f":"VLOOKUP(A189,'Copy of Export'!$A$2:$AF2393,5,false)","v":"#N/A"},{"$f":"VLOOKUP(A189,'Copy of Export'!$A$2:$AF2393,13,false)","v":"#N/A"},{"$f":"VLOOKUP(A189,'Copy of Export'!$A$2:$AF2393,2,false)","v":"#N/A"},{"$f":"VLOOKUP(A189,'Copy of Export'!$A$2:$AF2393,5,false)","v":"#N/A"},{"$f":"VLOOKUP(A189,'Copy of Export'!$A$2:$AF2393,8,false)","v":"#N/A"}]
[null,{"$f":"VLOOKUP(A190,'Copy of Export'!$A$2:$AF2393,5,false)","v":"#N/A"},{"$f":"VLOOKUP(A190,'Copy of Export'!$A$2:$AF2393,13,false)","v":"#N/A"},{"$f":"VLOOKUP(A190,'Copy of Export'!$A$2:$AF2393,2,false)","v":"#N/A"},{"$f":"VLOOKUP(A190,'Copy of Export'!$A$2:$AF2393,5,false)","v":"#N/A"},{"$f":"VLOOKUP(A190,'Copy of Export'!$A$2:$AF2393,8,false)","v":"#N/A"}]
[null,{"$f":"VLOOKUP(A191,'Copy of Export'!$A$2:$AF2393,5,false)","v":"#N/A"},{"$f":"VLOOKUP(A191,'Copy of Export'!$A$2:$AF2393,13,false)","v":"#N/A"},{"$f":"VLOOKUP(A191,'Copy of Export'!$A$2:$AF2393,2,false)","v":"#N/A"},{"$f":"VLOOKUP(A191,'Copy of Export'!$A$2:$AF2393,5,false)","v":"#N/A"},{"$f":"VLOOKUP(A191,'Copy of Export'!$A$2:$AF2393,8,false)","v":"#N/A"}]
[null,{"$f":"VLOOKUP(A192,'Copy of Export'!$A$2:$AF2393,5,false)","v":"#N/A"},{"$f":"VLOOKUP(A192,'Copy of Export'!$A$2:$AF2393,13,false)","v":"#N/A"},{"$f":"VLOOKUP(A192,'Copy of Export'!$A$2:$AF2393,2,false)","v":"#N/A"},{"$f":"VLOOKUP(A192,'Copy of Export'!$A$2:$AF2393,5,false)","v":"#N/A"},{"$f":"VLOOKUP(A192,'Copy of Export'!$A$2:$AF2393,8,false)","v":"#N/A"}]
[null,{"$f":"VLOOKUP(A193,'Copy of Export'!$A$2:$AF2393,5,false)","v":"#N/A"},{"$f":"VLOOKUP(A193,'Copy of Export'!$A$2:$AF2393,13,false)","v":"#N/A"},{"$f":"VLOOKUP(A193,'Copy of Export'!$A$2:$AF2393,2,false)","v":"#N/A"},{"$f":"VLOOKUP(A193,'Copy of Export'!$A$2:$AF2393,5,false)","v":"#N/A"},{"$f":"VLOOKUP(A193,'Copy of Export'!$A$2:$AF2393,8,false)","v":"#N/A"}]
[null,{"$f":"VLOOKUP(A194,'Copy of Export'!$A$2:$AF2393,5,false)","v":"#N/A"},{"$f":"VLOOKUP(A194,'Copy of Export'!$A$2:$AF2393,13,false)","v":"#N/A"},{"$f":"VLOOKUP(A194,'Copy of Export'!$A$2:$AF2393,2,false)","v":"#N/A"},{"$f":"VLOOKUP(A194,'Copy of Export'!$A$2:$AF2393,5,false)","v":"#N/A"},{"$f":"VLOOKUP(A194,'Copy of Export'!$A$2:$AF2393,8,false)","v":"#N/A"}]
[null,{"$f":"VLOOKUP(A195,'Copy of Export'!$A$2:$AF2393,5,false)","v":"#N/A"},{"$f":"VLOOKUP(A195,'Copy of Export'!$A$2:$AF2393,13,false)","v":"#N/A"},{"$f":"VLOOKUP(A195,'Copy of Export'!$A$2:$AF2393,2,false)","v":"#N/A"},{"$f":"VLOOKUP(A195,'Copy of Export'!$A$2:$AF2393,5,false)","v":"#N/A"},{"$f":"VLOOKUP(A195,'Copy of Export'!$A$2:$AF2393,8,false)","v":"#N/A"}]
[null,{"$f":"VLOOKUP(A196,'Copy of Export'!$A$2:$AF2393,5,false)","v":"#N/A"},{"$f":"VLOOKUP(A196,'Copy of Export'!$A$2:$AF2393,13,false)","v":"#N/A"},{"$f":"VLOOKUP(A196,'Copy of Export'!$A$2:$AF2393,2,false)","v":"#N/A"},{"$f":"VLOOKUP(A196,'Copy of Export'!$A$2:$AF2393,5,false)","v":"#N/A"},{"$f":"VLOOKUP(A196,'Copy of Export'!$A$2:$AF2393,8,false)","v":"#N/A"}]
[null,{"$f":"VLOOKUP(A197,'Copy of Export'!$A$2:$AF2393,5,false)","v":"#N/A"},{"$f":"VLOOKUP(A197,'Copy of Export'!$A$2:$AF2393,13,false)","v":"#N/A"},{"$f":"VLOOKUP(A197,'Copy of Export'!$A$2:$AF2393,2,false)","v":"#N/A"},{"$f":"VLOOKUP(A197,'Copy of Export'!$A$2:$AF2393,5,false)","v":"#N/A"},{"$f":"VLOOKUP(A197,'Copy of Export'!$A$2:$AF2393,8,false)","v":"#N/A"}]
[null,{"$f":"VLOOKUP(A198,'Copy of Export'!$A$2:$AF2393,5,false)","v":"#N/A"},{"$f":"VLOOKUP(A198,'Copy of Export'!$A$2:$AF2393,13,false)","v":"#N/A"},{"$f":"VLOOKUP(A198,'Copy of Export'!$A$2:$AF2393,2,false)","v":"#N/A"},{"$f":"VLOOKUP(A198,'Copy of Export'!$A$2:$AF2393,5,false)","v":"#N/A"},{"$f":"VLOOKUP(A198,'Copy of Export'!$A$2:$AF2393,8,false)","v":"#N/A"}]
[null,{"$f":"VLOOKUP(A199,'Copy of Export'!$A$2:$AF2393,5,false)","v":"#N/A"},{"$f":"VLOOKUP(A199,'Copy of Export'!$A$2:$AF2393,13,false)","v":"#N/A"},{"$f":"VLOOKUP(A199,'Copy of Export'!$A$2:$AF2393,2,false)","v":"#N/A"},{"$f":"VLOOKUP(A199,'Copy of Export'!$A$2:$AF2393,5,false)","v":"#N/A"},{"$f":"VLOOKUP(A199,'Copy of Export'!$A$2:$AF2393,8,false)","v":"#N/A"}]
[null,{"$f":"VLOOKUP(A200,'Copy of Export'!$A$2:$AF2393,5,false)","v":"#N/A"},{"$f":"VLOOKUP(A200,'Copy of Export'!$A$2:$AF2393,13,false)","v":"#N/A"},{"$f":"VLOOKUP(A200,'Copy of Export'!$A$2:$AF2393,2,false)","v":"#N/A"},{"$f":"VLOOKUP(A200,'Copy of Export'!$A$2:$AF2393,5,false)","v":"#N/A"},{"$f":"VLOOKUP(A200,'Copy of Export'!$A$2:$AF2393,8,false)","v":"#N/A"}]
[null,{"$f":"VLOOKUP(A201,'Copy of Export'!$A$2:$AF2393,5,false)","v":"#N/A"},{"$f":"VLOOKUP(A201,'Copy of Export'!$A$2:$AF2393,13,false)","v":"#N/A"},{"$f":"VLOOKUP(A201,'Copy of Export'!$A$2:$AF2393,2,false)","v":"#N/A"},{"$f":"VLOOKUP(A201,'Copy of Export'!$A$2:$AF2393,5,false)","v":"#N/A"},{"$f":"VLOOKUP(A201,'Copy of Export'!$A$2:$AF2393,8,false)","v":"#N/A"}]
[null,{"$f":"VLOOKUP(A202,'Copy of Export'!$A$2:$AF2393,5,false)","v":"#N/A"},{"$f":"VLOOKUP(A202,'Copy of Export'!$A$2:$AF2393,13,false)","v":"#N/A"},{"$f":"VLOOKUP(A202,'Copy of Export'!$A$2:$AF2393,2,false)","v":"#N/A"},{"$f":"VLOOKUP(A202,'Copy of Export'!$A$2:$AF2393,5,false)","v":"#N/A"},{"$f":"VLOOKUP(A202,'Copy of Export'!$A$2:$AF2393,8,false)","v":"#N/A"}]
[null,{"$f":"VLOOKUP(A203,'Copy of Export'!$A$2:$AF2393,5,false)","v":"#N/A"},{"$f":"VLOOKUP(A203,'Copy of Export'!$A$2:$AF2393,13,false)","v":"#N/A"},{"$f":"VLOOKUP(A203,'Copy of Export'!$A$2:$AF2393,2,false)","v":"#N/A"},{"$f":"VLOOKUP(A203,'Copy of Export'!$A$2:$AF2393,5,false)","v":"#N/A"},{"$f":"VLOOKUP(A203,'Copy of Export'!$A$2:$AF2393,8,false)","v":"#N/A"}]
[null,{"$f":"VLOOKUP(A204,'Copy of Export'!$A$2:$AF2393,5,false)","v":"#N/A"},{"$f":"VLOOKUP(A204,'Copy of Export'!$A$2:$AF2393,13,false)","v":"#N/A"},{"$f":"VLOOKUP(A204,'Copy of Export'!$A$2:$AF2393,2,false)","v":"#N/A"},{"$f":"VLOOKUP(A204,'Copy of Export'!$A$2:$AF2393,5,false)","v":"#N/A"},{"$f":"VLOOKUP(A204,'Copy of Export'!$A$2:$AF2393,8,false)","v":"#N/A"}]
[null,{"$f":"VLOOKUP(A205,'Copy of Export'!$A$2:$AF2393,5,false)","v":"#N/A"},{"$f":"VLOOKUP(A205,'Copy of Export'!$A$2:$AF2393,13,false)","v":"#N/A"},{"$f":"VLOOKUP(A205,'Copy of Export'!$A$2:$AF2393,2,false)","v":"#N/A"},{"$f":"VLOOKUP(A205,'Copy of Export'!$A$2:$AF2393,5,false)","v":"#N/A"},{"$f":"VLOOKUP(A205,'Copy of Export'!$A$2:$AF2393,8,false)","v":"#N/A"}]
[null,{"$f":"VLOOKUP(A206,'Copy of Export'!$A$2:$AF2393,5,false)","v":"#N/A"},{"$f":"VLOOKUP(A206,'Copy of Export'!$A$2:$AF2393,13,false)","v":"#N/A"},{"$f":"VLOOKUP(A206,'Copy of Export'!$A$2:$AF2393,2,false)","v":"#N/A"},{"$f":"VLOOKUP(A206,'Copy of Export'!$A$2:$AF2393,5,false)","v":"#N/A"},{"$f":"VLOOKUP(A206,'Copy of Export'!$A$2:$AF2393,8,false)","v":"#N/A"}]
[null,{"$f":"VLOOKUP(A207,'Copy of Export'!$A$2:$AF2393,5,false)","v":"#N/A"},{"$f":"VLOOKUP(A207,'Copy of Export'!$A$2:$AF2393,13,false)","v":"#N/A"},{"$f":"VLOOKUP(A207,'Copy of Export'!$A$2:$AF2393,2,false)","v":"#N/A"},{"$f":"VLOOKUP(A207,'Copy of Export'!$A$2:$AF2393,5,false)","v":"#N/A"},{"$f":"VLOOKUP(A207,'Copy of Export'!$A$2:$AF2393,8,false)","v":"#N/A"}]
[null,{"$f":"VLOOKUP(A208,'Copy of Export'!$A$2:$AF2393,5,false)","v":"#N/A"},{"$f":"VLOOKUP(A208,'Copy of Export'!$A$2:$AF2393,13,false)","v":"#N/A"},{"$f":"VLOOKUP(A208,'Copy of Export'!$A$2:$AF2393,2,false)","v":"#N/A"},{"$f":"VLOOKUP(A208,'Copy of Export'!$A$2:$AF2393,5,false)","v":"#N/A"},{"$f":"VLOOKUP(A208,'Copy of Export'!$A$2:$AF2393,8,false)","v":"#N/A"}]
[null,{"$f":"VLOOKUP(A209,'Copy of Export'!$A$2:$AF2393,5,false)","v":"#N/A"},{"$f":"VLOOKUP(A209,'Copy of Export'!$A$2:$AF2393,13,false)","v":"#N/A"},{"$f":"VLOOKUP(A209,'Copy of Export'!$A$2:$AF2393,2,false)","v":"#N/A"},{"$f":"VLOOKUP(A209,'Copy of Export'!$A$2:$AF2393,5,false)","v":"#N/A"},{"$f":"VLOOKUP(A209,'Copy of Export'!$A$2:$AF2393,8,false)","v":"#N/A"}]
[null,{"$f":"VLOOKUP(A210,'Copy of Export'!$A$2:$AF2393,5,false)","v":"#N/A"},{"$f":"VLOOKUP(A210,'Copy of Export'!$A$2:$AF2393,13,false)","v":"#N/A"},{"$f":"VLOOKUP(A210,'Copy of Export'!$A$2:$AF2393,2,false)","v":"#N/A"},{"$f":"VLOOKUP(A210,'Copy of Export'!$A$2:$AF2393,5,false)","v":"#N/A"},{"$f":"VLOOKUP(A210,'Copy of Export'!$A$2:$AF2393,8,false)","v":"#N/A"}]
[null,{"$f":"VLOOKUP(A211,'Copy of Export'!$A$2:$AF2393,5,false)","v":"#N/A"},{"$f":"VLOOKUP(A211,'Copy of Export'!$A$2:$AF2393,13,false)","v":"#N/A"},{"$f":"VLOOKUP(A211,'Copy of Export'!$A$2:$AF2393,2,false)","v":"#N/A"},{"$f":"VLOOKUP(A211,'Copy of Export'!$A$2:$AF2393,5,false)","v":"#N/A"},{"$f":"VLOOKUP(A211,'Copy of Export'!$A$2:$AF2393,8,false)","v":"#N/A"}]
[null,{"$f":"VLOOKUP(A212,'Copy of Export'!$A$2:$AF2393,5,false)","v":"#N/A"},{"$f":"VLOOKUP(A212,'Copy of Export'!$A$2:$AF2393,13,false)","v":"#N/A"},{"$f":"VLOOKUP(A212,'Copy of Export'!$A$2:$AF2393,2,false)","v":"#N/A"},{"$f":"VLOOKUP(A212,'Copy of Export'!$A$2:$AF2393,5,false)","v":"#N/A"},{"$f":"VLOOKUP(A212,'Copy of Export'!$A$2:$AF2393,8,false)","v":"#N/A"}]
[null,{"$f":"VLOOKUP(A213,'Copy of Export'!$A$2:$AF2393,5,false)","v":"#N/A"},{"$f":"VLOOKUP(A213,'Copy of Export'!$A$2:$AF2393,13,false)","v":"#N/A"},{"$f":"VLOOKUP(A213,'Copy of Export'!$A$2:$AF2393,2,false)","v":"#N/A"},{"$f":"VLOOKUP(A213,'Copy of Export'!$A$2:$AF2393,5,false)","v":"#N/A"},{"$f":"VLOOKUP(A213,'Copy of Export'!$A$2:$AF2393,8,false)","v":"#N/A"}]
[null,{"$f":"VLOOKUP(A214,'Copy of Export'!$A$2:$AF2393,5,false)","v":"#N/A"},{"$f":"VLOOKUP(A214,'Copy of Export'!$A$2:$AF2393,13,false)","v":"#N/A"},{"$f":"VLOOKUP(A214,'Copy of Export'!$A$2:$AF2393,2,false)","v":"#N/A"},{"$f":"VLOOKUP(A214,'Copy of Export'!$A$2:$AF2393,5,false)","v":"#N/A"},{"$f":"VLOOKUP(A214,'Copy of Export'!$A$2:$AF2393,8,false)","v":"#N/A"}]
[null,{"$f":"VLOOKUP(A215,'Copy of Export'!$A$2:$AF2393,5,false)","v":"#N/A"},{"$f":"VLOOKUP(A215,'Copy of Export'!$A$2:$AF2393,13,false)","v":"#N/A"},{"$f":"VLOOKUP(A215,'Copy of Export'!$A$2:$AF2393,2,false)","v":"#N/A"},{"$f":"VLOOKUP(A215,'Copy of Export'!$A$2:$AF2393,5,false)","v":"#N/A"},{"$f":"VLOOKUP(A215,'Copy of Export'!$A$2:$AF2393,8,false)","v":"#N/A"}]
[null,{"$f":"VLOOKUP(A216,'Copy of Export'!$A$2:$AF2393,5,false)","v":"#N/A"},{"$f":"VLOOKUP(A216,'Copy of Export'!$A$2:$AF2393,13,false)","v":"#N/A"},{"$f":"VLOOKUP(A216,'Copy of Export'!$A$2:$AF2393,2,false)","v":"#N/A"},{"$f":"VLOOKUP(A216,'Copy of Export'!$A$2:$AF2393,5,false)","v":"#N/A"},{"$f":"VLOOKUP(A216,'Copy of Export'!$A$2:$AF2393,8,false)","v":"#N/A"}]
[null,{"$f":"VLOOKUP(A217,'Copy of Export'!$A$2:$AF2393,5,false)","v":"#N/A"},{"$f":"VLOOKUP(A217,'Copy of Export'!$A$2:$AF2393,13,false)","v":"#N/A"},{"$f":"VLOOKUP(A217,'Copy of Export'!$A$2:$AF2393,2,false)","v":"#N/A"},{"$f":"VLOOKUP(A217,'Copy of Export'!$A$2:$AF2393,5,false)","v":"#N/A"},{"$f":"VLOOKUP(A217,'Copy of Export'!$A$2:$AF2393,8,false)","v":"#N/A"}]
[null,{"$f":"VLOOKUP(A218,'Copy of Export'!$A$2:$AF2393,5,false)","v":"#N/A"},{"$f":"VLOOKUP(A218,'Copy of Export'!$A$2:$AF2393,13,false)","v":"#N/A"},{"$f":"VLOOKUP(A218,'Copy of Export'!$A$2:$AF2393,2,false)","v":"#N/A"},{"$f":"VLOOKUP(A218,'Copy of Export'!$A$2:$AF2393,5,false)","v":"#N/A"},{"$f":"VLOOKUP(A218,'Copy of Export'!$A$2:$AF2393,8,false)","v":"#N/A"}]
[null,{"$f":"VLOOKUP(A219,'Copy of Export'!$A$2:$AF2393,5,false)","v":"#N/A"},{"$f":"VLOOKUP(A219,'Copy of Export'!$A$2:$AF2393,13,false)","v":"#N/A"},{"$f":"VLOOKUP(A219,'Copy of Export'!$A$2:$AF2393,2,false)","v":"#N/A"},{"$f":"VLOOKUP(A219,'Copy of Export'!$A$2:$AF2393,5,false)","v":"#N/A"},{"$f":"VLOOKUP(A219,'Copy of Export'!$A$2:$AF2393,8,false)","v":"#N/A"}]
[null,{"$f":"VLOOKUP(A220,'Copy of Export'!$A$2:$AF2393,5,false)","v":"#N/A"},{"$f":"VLOOKUP(A220,'Copy of Export'!$A$2:$AF2393,13,false)","v":"#N/A"},{"$f":"VLOOKUP(A220,'Copy of Export'!$A$2:$AF2393,2,false)","v":"#N/A"},{"$f":"VLOOKUP(A220,'Copy of Export'!$A$2:$AF2393,5,false)","v":"#N/A"},{"$f":"VLOOKUP(A220,'Copy of Export'!$A$2:$AF2393,8,false)","v":"#N/A"}]
[null,{"$f":"VLOOKUP(A221,'Copy of Export'!$A$2:$AF2393,5,false)","v":"#N/A"},{"$f":"VLOOKUP(A221,'Copy of Export'!$A$2:$AF2393,13,false)","v":"#N/A"},{"$f":"VLOOKUP(A221,'Copy of Export'!$A$2:$AF2393,2,false)","v":"#N/A"},{"$f":"VLOOKUP(A221,'Copy of Export'!$A$2:$AF2393,5,false)","v":"#N/A"},{"$f":"VLOOKUP(A221,'Copy of Export'!$A$2:$AF2393,8,false)","v":"#N/A"}]
[null,{"$f":"VLOOKUP(A222,'Copy of Export'!$A$2:$AF2393,5,false)","v":"#N/A"},{"$f":"VLOOKUP(A222,'Copy of Export'!$A$2:$AF2393,13,false)","v":"#N/A"},{"$f":"VLOOKUP(A222,'Copy of Export'!$A$2:$AF2393,2,false)","v":"#N/A"},{"$f":"VLOOKUP(A222,'Copy of Export'!$A$2:$AF2393,5,false)","v":"#N/A"},{"$f":"VLOOKUP(A222,'Copy of Export'!$A$2:$AF2393,8,false)","v":"#N/A"}]
[null,{"$f":"VLOOKUP(A223,'Copy of Export'!$A$2:$AF2393,5,false)","v":"#N/A"},{"$f":"VLOOKUP(A223,'Copy of Export'!$A$2:$AF2393,13,false)","v":"#N/A"},{"$f":"VLOOKUP(A223,'Copy of Export'!$A$2:$AF2393,2,false)","v":"#N/A"},{"$f":"VLOOKUP(A223,'Copy of Export'!$A$2:$AF2393,5,false)","v":"#N/A"},{"$f":"VLOOKUP(A223,'Copy of Export'!$A$2:$AF2393,8,false)","v":"#N/A"}]
[null,{"$f":"VLOOKUP(A224,'Copy of Export'!$A$2:$AF2393,5,false)","v":"#N/A"},{"$f":"VLOOKUP(A224,'Copy of Export'!$A$2:$AF2393,13,false)","v":"#N/A"},{"$f":"VLOOKUP(A224,'Copy of Export'!$A$2:$AF2393,2,false)","v":"#N/A"},{"$f":"VLOOKUP(A224,'Copy of Export'!$A$2:$AF2393,5,false)","v":"#N/A"},{"$f":"VLOOKUP(A224,'Copy of Export'!$A$2:$AF2393,8,false)","v":"#N/A"}]
[null,{"$f":"VLOOKUP(A225,'Copy of Export'!$A$2:$AF2393,5,false)","v":"#N/A"},{"$f":"VLOOKUP(A225,'Copy of Export'!$A$2:$AF2393,13,false)","v":"#N/A"},{"$f":"VLOOKUP(A225,'Copy of Export'!$A$2:$AF2393,2,false)","v":"#N/A"},{"$f":"VLOOKUP(A225,'Copy of Export'!$A$2:$AF2393,5,false)","v":"#N/A"},{"$f":"VLOOKUP(A225,'Copy of Export'!$A$2:$AF2393,8,false)","v":"#N/A"}]
[null,{"$f":"VLOOKUP(A226,'Copy of Export'!$A$2:$AF2393,5,false)","v":"#N/A"},{"$f":"VLOOKUP(A226,'Copy of Export'!$A$2:$AF2393,13,false)","v":"#N/A"},{"$f":"VLOOKUP(A226,'Copy of Export'!$A$2:$AF2393,2,false)","v":"#N/A"},{"$f":"VLOOKUP(A226,'Copy of Export'!$A$2:$AF2393,5,false)","v":"#N/A"},{"$f":"VLOOKUP(A226,'Copy of Export'!$A$2:$AF2393,8,false)","v":"#N/A"}]
[null,{"$f":"VLOOKUP(A227,'Copy of Export'!$A$2:$AF2393,5,false)","v":"#N/A"},{"$f":"VLOOKUP(A227,'Copy of Export'!$A$2:$AF2393,13,false)","v":"#N/A"},{"$f":"VLOOKUP(A227,'Copy of Export'!$A$2:$AF2393,2,false)","v":"#N/A"},{"$f":"VLOOKUP(A227,'Copy of Export'!$A$2:$AF2393,5,false)","v":"#N/A"},{"$f":"VLOOKUP(A227,'Copy of Export'!$A$2:$AF2393,8,false)","v":"#N/A"}]
[null,{"$f":"VLOOKUP(A228,'Copy of Export'!$A$2:$AF2393,5,false)","v":"#N/A"},{"$f":"VLOOKUP(A228,'Copy of Export'!$A$2:$AF2393,13,false)","v":"#N/A"},{"$f":"VLOOKUP(A228,'Copy of Export'!$A$2:$AF2393,2,false)","v":"#N/A"},{"$f":"VLOOKUP(A228,'Copy of Export'!$A$2:$AF2393,5,false)","v":"#N/A"},{"$f":"VLOOKUP(A228,'Copy of Export'!$A$2:$AF2393,8,false)","v":"#N/A"}]
[null,{"$f":"VLOOKUP(A229,'Copy of Export'!$A$2:$AF2393,5,false)","v":"#N/A"},{"$f":"VLOOKUP(A229,'Copy of Export'!$A$2:$AF2393,13,false)","v":"#N/A"},{"$f":"VLOOKUP(A229,'Copy of Export'!$A$2:$AF2393,2,false)","v":"#N/A"},{"$f":"VLOOKUP(A229,'Copy of Export'!$A$2:$AF2393,5,false)","v":"#N/A"},{"$f":"VLOOKUP(A229,'Copy of Export'!$A$2:$AF2393,8,false)","v":"#N/A"}]
[null,{"$f":"VLOOKUP(A230,'Copy of Export'!$A$2:$AF2393,5,false)","v":"#N/A"},{"$f":"VLOOKUP(A230,'Copy of Export'!$A$2:$AF2393,13,false)","v":"#N/A"},{"$f":"VLOOKUP(A230,'Copy of Export'!$A$2:$AF2393,2,false)","v":"#N/A"},{"$f":"VLOOKUP(A230,'Copy of Export'!$A$2:$AF2393,5,false)","v":"#N/A"},{"$f":"VLOOKUP(A230,'Copy of Export'!$A$2:$AF2393,8,false)","v":"#N/A"}]
[null,{"$f":"VLOOKUP(A231,'Copy of Export'!$A$2:$AF2393,5,false)","v":"#N/A"},{"$f":"VLOOKUP(A231,'Copy of Export'!$A$2:$AF2393,13,false)","v":"#N/A"},{"$f":"VLOOKUP(A231,'Copy of Export'!$A$2:$AF2393,2,false)","v":"#N/A"},{"$f":"VLOOKUP(A231,'Copy of Export'!$A$2:$AF2393,5,false)","v":"#N/A"},{"$f":"VLOOKUP(A231,'Copy of Export'!$A$2:$AF2393,8,false)","v":"#N/A"}]
[null,{"$f":"VLOOKUP(A232,'Copy of Export'!$A$2:$AF2393,5,false)","v":"#N/A"},{"$f":"VLOOKUP(A232,'Copy of Export'!$A$2:$AF2393,13,false)","v":"#N/A"},{"$f":"VLOOKUP(A232,'Copy of Export'!$A$2:$AF2393,2,false)","v":"#N/A"},{"$f":"VLOOKUP(A232,'Copy of Export'!$A$2:$AF2393,5,false)","v":"#N/A"},{"$f":"VLOOKUP(A232,'Copy of Export'!$A$2:$AF2393,8,false)","v":"#N/A"}]
[null,{"$f":"VLOOKUP(A233,'Copy of Export'!$A$2:$AF2393,5,false)","v":"#N/A"},{"$f":"VLOOKUP(A233,'Copy of Export'!$A$2:$AF2393,13,false)","v":"#N/A"},{"$f":"VLOOKUP(A233,'Copy of Export'!$A$2:$AF2393,2,false)","v":"#N/A"},{"$f":"VLOOKUP(A233,'Copy of Export'!$A$2:$AF2393,5,false)","v":"#N/A"},{"$f":"VLOOKUP(A233,'Copy of Export'!$A$2:$AF2393,8,false)","v":"#N/A"}]
[null,{"$f":"VLOOKUP(A234,'Copy of Export'!$A$2:$AF2393,5,false)","v":"#N/A"},{"$f":"VLOOKUP(A234,'Copy of Export'!$A$2:$AF2393,13,false)","v":"#N/A"},{"$f":"VLOOKUP(A234,'Copy of Export'!$A$2:$AF2393,2,false)","v":"#N/A"},{"$f":"VLOOKUP(A234,'Copy of Export'!$A$2:$AF2393,5,false)","v":"#N/A"},{"$f":"VLOOKUP(A234,'Copy of Export'!$A$2:$AF2393,8,false)","v":"#N/A"}]
[null,{"$f":"VLOOKUP(A235,'Copy of Export'!$A$2:$AF2393,5,false)","v":"#N/A"},{"$f":"VLOOKUP(A235,'Copy of Export'!$A$2:$AF2393,13,false)","v":"#N/A"},{"$f":"VLOOKUP(A235,'Copy of Export'!$A$2:$AF2393,2,false)","v":"#N/A"},{"$f":"VLOOKUP(A235,'Copy of Export'!$A$2:$AF2393,5,false)","v":"#N/A"},{"$f":"VLOOKUP(A235,'Copy of Export'!$A$2:$AF2393,8,false)","v":"#N/A"}]
[null,{"$f":"VLOOKUP(A236,'Copy of Export'!$A$2:$AF2393,5,false)","v":"#N/A"},{"$f":"VLOOKUP(A236,'Copy of Export'!$A$2:$AF2393,13,false)","v":"#N/A"},{"$f":"VLOOKUP(A236,'Copy of Export'!$A$2:$AF2393,2,false)","v":"#N/A"},{"$f":"VLOOKUP(A236,'Copy of Export'!$A$2:$AF2393,5,false)","v":"#N/A"},{"$f":"VLOOKUP(A236,'Copy of Export'!$A$2:$AF2393,8,false)","v":"#N/A"}]
[null,{"$f":"VLOOKUP(A237,'Copy of Export'!$A$2:$AF2393,5,false)","v":"#N/A"},{"$f":"VLOOKUP(A237,'Copy of Export'!$A$2:$AF2393,13,false)","v":"#N/A"},{"$f":"VLOOKUP(A237,'Copy of Export'!$A$2:$AF2393,2,false)","v":"#N/A"},{"$f":"VLOOKUP(A237,'Copy of Export'!$A$2:$AF2393,5,false)","v":"#N/A"},{"$f":"VLOOKUP(A237,'Copy of Export'!$A$2:$AF2393,8,false)","v":"#N/A"}]
[null,{"$f":"VLOOKUP(A238,'Copy of Export'!$A$2:$AF2393,5,false)","v":"#N/A"},{"$f":"VLOOKUP(A238,'Copy of Export'!$A$2:$AF2393,13,false)","v":"#N/A"},{"$f":"VLOOKUP(A238,'Copy of Export'!$A$2:$AF2393,2,false)","v":"#N/A"},{"$f":"VLOOKUP(A238,'Copy of Export'!$A$2:$AF2393,5,false)","v":"#N/A"},{"$f":"VLOOKUP(A238,'Copy of Export'!$A$2:$AF2393,8,false)","v":"#N/A"}]
[null,{"$f":"VLOOKUP(A239,'Copy of Export'!$A$2:$AF2393,5,false)","v":"#N/A"},{"$f":"VLOOKUP(A239,'Copy of Export'!$A$2:$AF2393,13,false)","v":"#N/A"},{"$f":"VLOOKUP(A239,'Copy of Export'!$A$2:$AF2393,2,false)","v":"#N/A"},{"$f":"VLOOKUP(A239,'Copy of Export'!$A$2:$AF2393,5,false)","v":"#N/A"},{"$f":"VLOOKUP(A239,'Copy of Export'!$A$2:$AF2393,8,false)","v":"#N/A"}]
[null,{"$f":"VLOOKUP(A240,'Copy of Export'!$A$2:$AF2393,5,false)","v":"#N/A"},{"$f":"VLOOKUP(A240,'Copy of Export'!$A$2:$AF2393,13,false)","v":"#N/A"},{"$f":"VLOOKUP(A240,'Copy of Export'!$A$2:$AF2393,2,false)","v":"#N/A"},{"$f":"VLOOKUP(A240,'Copy of Export'!$A$2:$AF2393,5,false)","v":"#N/A"},{"$f":"VLOOKUP(A240,'Copy of Export'!$A$2:$AF2393,8,false)","v":"#N/A"}]
[null,{"$f":"VLOOKUP(A241,'Copy of Export'!$A$2:$AF2393,5,false)","v":"#N/A"},{"$f":"VLOOKUP(A241,'Copy of Export'!$A$2:$AF2393,13,false)","v":"#N/A"},{"$f":"VLOOKUP(A241,'Copy of Export'!$A$2:$AF2393,2,false)","v":"#N/A"},{"$f":"VLOOKUP(A241,'Copy of Export'!$A$2:$AF2393,5,false)","v":"#N/A"},{"$f":"VLOOKUP(A241,'Copy of Export'!$A$2:$AF2393,8,false)","v":"#N/A"}]
[null,{"$f":"VLOOKUP(A242,'Copy of Export'!$A$2:$AF2393,5,false)","v":"#N/A"},{"$f":"VLOOKUP(A242,'Copy of Export'!$A$2:$AF2393,13,false)","v":"#N/A"},{"$f":"VLOOKUP(A242,'Copy of Export'!$A$2:$AF2393,2,false)","v":"#N/A"},{"$f":"VLOOKUP(A242,'Copy of Export'!$A$2:$AF2393,5,false)","v":"#N/A"},{"$f":"VLOOKUP(A242,'Copy of Export'!$A$2:$AF2393,8,false)","v":"#N/A"}]
[null,{"$f":"VLOOKUP(A243,'Copy of Export'!$A$2:$AF2393,5,false)","v":"#N/A"},{"$f":"VLOOKUP(A243,'Copy of Export'!$A$2:$AF2393,13,false)","v":"#N/A"},{"$f":"VLOOKUP(A243,'Copy of Export'!$A$2:$AF2393,2,false)","v":"#N/A"},{"$f":"VLOOKUP(A243,'Copy of Export'!$A$2:$AF2393,5,false)","v":"#N/A"},{"$f":"VLOOKUP(A243,'Copy of Export'!$A$2:$AF2393,8,false)","v":"#N/A"}]
[null,{"$f":"VLOOKUP(A244,'Copy of Export'!$A$2:$AF2393,5,false)","v":"#N/A"},{"$f":"VLOOKUP(A244,'Copy of Export'!$A$2:$AF2393,13,false)","v":"#N/A"},{"$f":"VLOOKUP(A244,'Copy of Export'!$A$2:$AF2393,2,false)","v":"#N/A"},{"$f":"VLOOKUP(A244,'Copy of Export'!$A$2:$AF2393,5,false)","v":"#N/A"},{"$f":"VLOOKUP(A244,'Copy of Export'!$A$2:$AF2393,8,false)","v":"#N/A"}]
[null,{"$f":"VLOOKUP(A245,'Copy of Export'!$A$2:$AF2393,5,false)","v":"#N/A"},{"$f":"VLOOKUP(A245,'Copy of Export'!$A$2:$AF2393,13,false)","v":"#N/A"},{"$f":"VLOOKUP(A245,'Copy of Export'!$A$2:$AF2393,2,false)","v":"#N/A"},{"$f":"VLOOKUP(A245,'Copy of Export'!$A$2:$AF2393,5,false)","v":"#N/A"},{"$f":"VLOOKUP(A245,'Copy of Export'!$A$2:$AF2393,8,false)","v":"#N/A"}]
[null,{"$f":"VLOOKUP(A246,'Copy of Export'!$A$2:$AF2393,5,false)","v":"#N/A"},{"$f":"VLOOKUP(A246,'Copy of Export'!$A$2:$AF2393,13,false)","v":"#N/A"},{"$f":"VLOOKUP(A246,'Copy of Export'!$A$2:$AF2393,2,false)","v":"#N/A"},{"$f":"VLOOKUP(A246,'Copy of Export'!$A$2:$AF2393,5,false)","v":"#N/A"},{"$f":"VLOOKUP(A246,'Copy of Export'!$A$2:$AF2393,8,false)","v":"#N/A"}]
[null,{"$f":"VLOOKUP(A247,'Copy of Export'!$A$2:$AF2393,5,false)","v":"#N/A"},{"$f":"VLOOKUP(A247,'Copy of Export'!$A$2:$AF2393,13,false)","v":"#N/A"},{"$f":"VLOOKUP(A247,'Copy of Export'!$A$2:$AF2393,2,false)","v":"#N/A"},{"$f":"VLOOKUP(A247,'Copy of Export'!$A$2:$AF2393,5,false)","v":"#N/A"},{"$f":"VLOOKUP(A247,'Copy of Export'!$A$2:$AF2393,8,false)","v":"#N/A"}]
[null,{"$f":"VLOOKUP(A248,'Copy of Export'!$A$2:$AF2393,5,false)","v":"#N/A"},{"$f":"VLOOKUP(A248,'Copy of Export'!$A$2:$AF2393,13,false)","v":"#N/A"},{"$f":"VLOOKUP(A248,'Copy of Export'!$A$2:$AF2393,2,false)","v":"#N/A"},{"$f":"VLOOKUP(A248,'Copy of Export'!$A$2:$AF2393,5,false)","v":"#N/A"},{"$f":"VLOOKUP(A248,'Copy of Export'!$A$2:$AF2393,8,false)","v":"#N/A"}]
[null,{"$f":"VLOOKUP(A249,'Copy of Export'!$A$2:$AF2393,5,false)","v":"#N/A"},{"$f":"VLOOKUP(A249,'Copy of Export'!$A$2:$AF2393,13,false)","v":"#N/A"},{"$f":"VLOOKUP(A249,'Copy of Export'!$A$2:$AF2393,2,false)","v":"#N/A"},{"$f":"VLOOKUP(A249,'Copy of Export'!$A$2:$AF2393,5,false)","v":"#N/A"},{"$f":"VLOOKUP(A249,'Copy of Export'!$A$2:$AF2393,8,false)","v":"#N/A"}]
[null,{"$f":"VLOOKUP(A250,'Copy of Export'!$A$2:$AF2393,5,false)","v":"#N/A"},{"$f":"VLOOKUP(A250,'Copy of Export'!$A$2:$AF2393,13,false)","v":"#N/A"},{"$f":"VLOOKUP(A250,'Copy of Export'!$A$2:$AF2393,2,false)","v":"#N/A"},{"$f":"VLOOKUP(A250,'Copy of Export'!$A$2:$AF2393,5,false)","v":"#N/A"},{"$f":"VLOOKUP(A250,'Copy of Export'!$A$2:$AF2393,8,false)","v":"#N/A"}]
[null,{"$f":"VLOOKUP(A251,'Copy of Export'!$A$2:$AF2393,5,false)","v":"#N/A"},{"$f":"VLOOKUP(A251,'Copy of Export'!$A$2:$AF2393,13,false)","v":"#N/A"},{"$f":"VLOOKUP(A251,'Copy of Export'!$A$2:$AF2393,2,false)","v":"#N/A"},{"$f":"VLOOKUP(A251,'Copy of Export'!$A$2:$AF2393,5,false)","v":"#N/A"},{"$f":"VLOOKUP(A251,'Copy of Export'!$A$2:$AF2393,8,false)","v":"#N/A"}]
[null,{"$f":"VLOOKUP(A252,'Copy of Export'!$A$2:$AF2393,5,false)","v":"#N/A"},{"$f":"VLOOKUP(A252,'Copy of Export'!$A$2:$AF2393,13,false)","v":"#N/A"},{"$f":"VLOOKUP(A252,'Copy of Export'!$A$2:$AF2393,2,false)","v":"#N/A"},{"$f":"VLOOKUP(A252,'Copy of Export'!$A$2:$AF2393,5,false)","v":"#N/A"},{"$f":"VLOOKUP(A252,'Copy of Export'!$A$2:$AF2393,8,false)","v":"#N/A"}]
[null,{"$f":"VLOOKUP(A253,'Copy of Export'!$A$2:$AF2393,5,false)","v":"#N/A"},{"$f":"VLOOKUP(A253,'Copy of Export'!$A$2:$AF2393,13,false)","v":"#N/A"},{"$f":"VLOOKUP(A253,'Copy of Export'!$A$2:$AF2393,2,false)","v":"#N/A"},{"$f":"VLOOKUP(A253,'Copy of Export'!$A$2:$AF2393,5,false)","v":"#N/A"},{"$f":"VLOOKUP(A253,'Copy of Export'!$A$2:$AF2393,8,false)","v":"#N/A"}]
[null,{"$f":"VLOOKUP(A254,'Copy of Export'!$A$2:$AF2393,5,false)","v":"#N/A"},{"$f":"VLOOKUP(A254,'Copy of Export'!$A$2:$AF2393,13,false)","v":"#N/A"},{"$f":"VLOOKUP(A254,'Copy of Export'!$A$2:$AF2393,2,false)","v":"#N/A"},{"$f":"VLOOKUP(A254,'Copy of Export'!$A$2:$AF2393,5,false)","v":"#N/A"},{"$f":"VLOOKUP(A254,'Copy of Export'!$A$2:$AF2393,8,false)","v":"#N/A"}]
[null,{"$f":"VLOOKUP(A255,'Copy of Export'!$A$2:$AF2393,5,false)","v":"#N/A"},{"$f":"VLOOKUP(A255,'Copy of Export'!$A$2:$AF2393,13,false)","v":"#N/A"},{"$f":"VLOOKUP(A255,'Copy of Export'!$A$2:$AF2393,2,false)","v":"#N/A"},{"$f":"VLOOKUP(A255,'Copy of Export'!$A$2:$AF2393,5,false)","v":"#N/A"},{"$f":"VLOOKUP(A255,'Copy of Export'!$A$2:$AF2393,8,false)","v":"#N/A"}]
[null,{"$f":"VLOOKUP(A256,'Copy of Export'!$A$2:$AF2393,5,false)","v":"#N/A"},{"$f":"VLOOKUP(A256,'Copy of Export'!$A$2:$AF2393,13,false)","v":"#N/A"},{"$f":"VLOOKUP(A256,'Copy of Export'!$A$2:$AF2393,2,false)","v":"#N/A"},{"$f":"VLOOKUP(A256,'Copy of Export'!$A$2:$AF2393,5,false)","v":"#N/A"},{"$f":"VLOOKUP(A256,'Copy of Export'!$A$2:$AF2393,8,false)","v":"#N/A"}]
[null,{"$f":"VLOOKUP(A257,'Copy of Export'!$A$2:$AF2393,5,false)","v":"#N/A"},{"$f":"VLOOKUP(A257,'Copy of Export'!$A$2:$AF2393,13,false)","v":"#N/A"},{"$f":"VLOOKUP(A257,'Copy of Export'!$A$2:$AF2393,2,false)","v":"#N/A"},{"$f":"VLOOKUP(A257,'Copy of Export'!$A$2:$AF2393,5,false)","v":"#N/A"},{"$f":"VLOOKUP(A257,'Copy of Export'!$A$2:$AF2393,8,false)","v":"#N/A"}]
[null,{"$f":"VLOOKUP(A258,'Copy of Export'!$A$2:$AF2393,5,false)","v":"#N/A"},{"$f":"VLOOKUP(A258,'Copy of Export'!$A$2:$AF2393,13,false)","v":"#N/A"},{"$f":"VLOOKUP(A258,'Copy of Export'!$A$2:$AF2393,2,false)","v":"#N/A"},{"$f":"VLOOKUP(A258,'Copy of Export'!$A$2:$AF2393,5,false)","v":"#N/A"},{"$f":"VLOOKUP(A258,'Copy of Export'!$A$2:$AF2393,8,false)","v":"#N/A"}]
[null,{"$f":"VLOOKUP(A259,'Copy of Export'!$A$2:$AF2393,5,false)","v":"#N/A"},{"$f":"VLOOKUP(A259,'Copy of Export'!$A$2:$AF2393,13,false)","v":"#N/A"},{"$f":"VLOOKUP(A259,'Copy of Export'!$A$2:$AF2393,2,false)","v":"#N/A"},{"$f":"VLOOKUP(A259,'Copy of Export'!$A$2:$AF2393,5,false)","v":"#N/A"},{"$f":"VLOOKUP(A259,'Copy of Export'!$A$2:$AF2393,8,false)","v":"#N/A"}]
[null,{"$f":"VLOOKUP(A260,'Copy of Export'!$A$2:$AF2393,5,false)","v":"#N/A"},{"$f":"VLOOKUP(A260,'Copy of Export'!$A$2:$AF2393,13,false)","v":"#N/A"},{"$f":"VLOOKUP(A260,'Copy of Export'!$A$2:$AF2393,2,false)","v":"#N/A"},{"$f":"VLOOKUP(A260,'Copy of Export'!$A$2:$AF2393,5,false)","v":"#N/A"},{"$f":"VLOOKUP(A260,'Copy of Export'!$A$2:$AF2393,8,false)","v":"#N/A"}]
[null,{"$f":"VLOOKUP(A261,'Copy of Export'!$A$2:$AF2393,5,false)","v":"#N/A"},{"$f":"VLOOKUP(A261,'Copy of Export'!$A$2:$AF2393,13,false)","v":"#N/A"},{"$f":"VLOOKUP(A261,'Copy of Export'!$A$2:$AF2393,2,false)","v":"#N/A"},{"$f":"VLOOKUP(A261,'Copy of Export'!$A$2:$AF2393,5,false)","v":"#N/A"},{"$f":"VLOOKUP(A261,'Copy of Export'!$A$2:$AF2393,8,false)","v":"#N/A"}]
[null,{"$f":"VLOOKUP(A262,'Copy of Export'!$A$2:$AF2393,5,false)","v":"#N/A"},{"$f":"VLOOKUP(A262,'Copy of Export'!$A$2:$AF2393,13,false)","v":"#N/A"},{"$f":"VLOOKUP(A262,'Copy of Export'!$A$2:$AF2393,2,false)","v":"#N/A"},{"$f":"VLOOKUP(A262,'Copy of Export'!$A$2:$AF2393,5,false)","v":"#N/A"},{"$f":"VLOOKUP(A262,'Copy of Export'!$A$2:$AF2393,8,false)","v":"#N/A"}]
[null,{"$f":"VLOOKUP(A263,'Copy of Export'!$A$2:$AF2393,5,false)","v":"#N/A"},{"$f":"VLOOKUP(A263,'Copy of Export'!$A$2:$AF2393,13,false)","v":"#N/A"},{"$f":"VLOOKUP(A263,'Copy of Export'!$A$2:$AF2393,2,false)","v":"#N/A"},{"$f":"VLOOKUP(A263,'Copy of Export'!$A$2:$AF2393,5,false)","v":"#N/A"},{"$f":"VLOOKUP(A263,'Copy of Export'!$A$2:$AF2393,8,false)","v":"#N/A"}]
[null,{"$f":"VLOOKUP(A264,'Copy of Export'!$A$2:$AF2393,5,false)","v":"#N/A"},{"$f":"VLOOKUP(A264,'Copy of Export'!$A$2:$AF2393,13,false)","v":"#N/A"},{"$f":"VLOOKUP(A264,'Copy of Export'!$A$2:$AF2393,2,false)","v":"#N/A"},{"$f":"VLOOKUP(A264,'Copy of Export'!$A$2:$AF2393,5,false)","v":"#N/A"},{"$f":"VLOOKUP(A264,'Copy of Export'!$A$2:$AF2393,8,false)","v":"#N/A"}]
[null,{"$f":"VLOOKUP(A265,'Copy of Export'!$A$2:$AF2393,5,false)","v":"#N/A"},{"$f":"VLOOKUP(A265,'Copy of Export'!$A$2:$AF2393,13,false)","v":"#N/A"},{"$f":"VLOOKUP(A265,'Copy of Export'!$A$2:$AF2393,2,false)","v":"#N/A"},{"$f":"VLOOKUP(A265,'Copy of Export'!$A$2:$AF2393,5,false)","v":"#N/A"},{"$f":"VLOOKUP(A265,'Copy of Export'!$A$2:$AF2393,8,false)","v":"#N/A"}]
[null,{"$f":"VLOOKUP(A266,'Copy of Export'!$A$2:$AF2393,5,false)","v":"#N/A"},{"$f":"VLOOKUP(A266,'Copy of Export'!$A$2:$AF2393,13,false)","v":"#N/A"},{"$f":"VLOOKUP(A266,'Copy of Export'!$A$2:$AF2393,2,false)","v":"#N/A"},{"$f":"VLOOKUP(A266,'Copy of Export'!$A$2:$AF2393,5,false)","v":"#N/A"},{"$f":"VLOOKUP(A266,'Copy of Export'!$A$2:$AF2393,8,false)","v":"#N/A"}]
[null,{"$f":"VLOOKUP(A267,'Copy of Export'!$A$2:$AF2393,5,false)","v":"#N/A"},{"$f":"VLOOKUP(A267,'Copy of Export'!$A$2:$AF2393,13,false)","v":"#N/A"},{"$f":"VLOOKUP(A267,'Copy of Export'!$A$2:$AF2393,2,false)","v":"#N/A"},{"$f":"VLOOKUP(A267,'Copy of Export'!$A$2:$AF2393,5,false)","v":"#N/A"},{"$f":"VLOOKUP(A267,'Copy of Export'!$A$2:$AF2393,8,false)","v":"#N/A"}]
[null,{"$f":"VLOOKUP(A268,'Copy of Export'!$A$2:$AF2393,5,false)","v":"#N/A"},{"$f":"VLOOKUP(A268,'Copy of Export'!$A$2:$AF2393,13,false)","v":"#N/A"},{"$f":"VLOOKUP(A268,'Copy of Export'!$A$2:$AF2393,2,false)","v":"#N/A"},{"$f":"VLOOKUP(A268,'Copy of Export'!$A$2:$AF2393,5,false)","v":"#N/A"},{"$f":"VLOOKUP(A268,'Copy of Export'!$A$2:$AF2393,8,false)","v":"#N/A"}]
[null,{"$f":"VLOOKUP(A269,'Copy of Export'!$A$2:$AF2393,5,false)","v":"#N/A"},{"$f":"VLOOKUP(A269,'Copy of Export'!$A$2:$AF2393,13,false)","v":"#N/A"},{"$f":"VLOOKUP(A269,'Copy of Export'!$A$2:$AF2393,2,false)","v":"#N/A"},{"$f":"VLOOKUP(A269,'Copy of Export'!$A$2:$AF2393,5,false)","v":"#N/A"},{"$f":"VLOOKUP(A269,'Copy of Export'!$A$2:$AF2393,8,false)","v":"#N/A"}]
[null,{"$f":"VLOOKUP(A270,'Copy of Export'!$A$2:$AF2393,5,false)","v":"#N/A"},{"$f":"VLOOKUP(A270,'Copy of Export'!$A$2:$AF2393,13,false)","v":"#N/A"},{"$f":"VLOOKUP(A270,'Copy of Export'!$A$2:$AF2393,2,false)","v":"#N/A"},{"$f":"VLOOKUP(A270,'Copy of Export'!$A$2:$AF2393,5,false)","v":"#N/A"},{"$f":"VLOOKUP(A270,'Copy of Export'!$A$2:$AF2393,8,false)","v":"#N/A"}]
[null,{"$f":"VLOOKUP(A271,'Copy of Export'!$A$2:$AF2393,5,false)","v":"#N/A"},{"$f":"VLOOKUP(A271,'Copy of Export'!$A$2:$AF2393,13,false)","v":"#N/A"},{"$f":"VLOOKUP(A271,'Copy of Export'!$A$2:$AF2393,2,false)","v":"#N/A"},{"$f":"VLOOKUP(A271,'Copy of Export'!$A$2:$AF2393,5,false)","v":"#N/A"},{"$f":"VLOOKUP(A271,'Copy of Export'!$A$2:$AF2393,8,false)","v":"#N/A"}]
[null,{"$f":"VLOOKUP(A272,'Copy of Export'!$A$2:$AF2393,5,false)","v":"#N/A"},{"$f":"VLOOKUP(A272,'Copy of Export'!$A$2:$AF2393,13,false)","v":"#N/A"},{"$f":"VLOOKUP(A272,'Copy of Export'!$A$2:$AF2393,2,false)","v":"#N/A"},{"$f":"VLOOKUP(A272,'Copy of Export'!$A$2:$AF2393,5,false)","v":"#N/A"},{"$f":"VLOOKUP(A272,'Copy of Export'!$A$2:$AF2393,8,false)","v":"#N/A"}]
[null,{"$f":"VLOOKUP(A273,'Copy of Export'!$A$2:$AF2393,5,false)","v":"#N/A"},{"$f":"VLOOKUP(A273,'Copy of Export'!$A$2:$AF2393,13,false)","v":"#N/A"},{"$f":"VLOOKUP(A273,'Copy of Export'!$A$2:$AF2393,2,false)","v":"#N/A"},{"$f":"VLOOKUP(A273,'Copy of Export'!$A$2:$AF2393,5,false)","v":"#N/A"},{"$f":"VLOOKUP(A273,'Copy of Export'!$A$2:$AF2393,8,false)","v":"#N/A"}]
[null,{"$f":"VLOOKUP(A274,'Copy of Export'!$A$2:$AF2393,5,false)","v":"#N/A"},{"$f":"VLOOKUP(A274,'Copy of Export'!$A$2:$AF2393,13,false)","v":"#N/A"},{"$f":"VLOOKUP(A274,'Copy of Export'!$A$2:$AF2393,2,false)","v":"#N/A"},{"$f":"VLOOKUP(A274,'Copy of Export'!$A$2:$AF2393,5,false)","v":"#N/A"},{"$f":"VLOOKUP(A274,'Copy of Export'!$A$2:$AF2393,8,false)","v":"#N/A"}]
[null,{"$f":"VLOOKUP(A275,'Copy of Export'!$A$2:$AF2393,5,false)","v":"#N/A"},{"$f":"VLOOKUP(A275,'Copy of Export'!$A$2:$AF2393,13,false)","v":"#N/A"},{"$f":"VLOOKUP(A275,'Copy of Export'!$A$2:$AF2393,2,false)","v":"#N/A"},{"$f":"VLOOKUP(A275,'Copy of Export'!$A$2:$AF2393,5,false)","v":"#N/A"},{"$f":"VLOOKUP(A275,'Copy of Export'!$A$2:$AF2393,8,false)","v":"#N/A"}]
[null,{"$f":"VLOOKUP(A276,'Copy of Export'!$A$2:$AF2393,5,false)","v":"#N/A"},{"$f":"VLOOKUP(A276,'Copy of Export'!$A$2:$AF2393,13,false)","v":"#N/A"},{"$f":"VLOOKUP(A276,'Copy of Export'!$A$2:$AF2393,2,false)","v":"#N/A"},{"$f":"VLOOKUP(A276,'Copy of Export'!$A$2:$AF2393,5,false)","v":"#N/A"},{"$f":"VLOOKUP(A276,'Copy of Export'!$A$2:$AF2393,8,false)","v":"#N/A"}]
[null,{"$f":"VLOOKUP(A277,'Copy of Export'!$A$2:$AF2393,5,false)","v":"#N/A"},{"$f":"VLOOKUP(A277,'Copy of Export'!$A$2:$AF2393,13,false)","v":"#N/A"},{"$f":"VLOOKUP(A277,'Copy of Export'!$A$2:$AF2393,2,false)","v":"#N/A"},{"$f":"VLOOKUP(A277,'Copy of Export'!$A$2:$AF2393,5,false)","v":"#N/A"},{"$f":"VLOOKUP(A277,'Copy of Export'!$A$2:$AF2393,8,false)","v":"#N/A"}]
[null,{"$f":"VLOOKUP(A278,'Copy of Export'!$A$2:$AF2393,5,false)","v":"#N/A"},{"$f":"VLOOKUP(A278,'Copy of Export'!$A$2:$AF2393,13,false)","v":"#N/A"},{"$f":"VLOOKUP(A278,'Copy of Export'!$A$2:$AF2393,2,false)","v":"#N/A"},{"$f":"VLOOKUP(A278,'Copy of Export'!$A$2:$AF2393,5,false)","v":"#N/A"},{"$f":"VLOOKUP(A278,'Copy of Export'!$A$2:$AF2393,8,false)","v":"#N/A"}]
[null,{"$f":"VLOOKUP(A279,'Copy of Export'!$A$2:$AF2393,5,false)","v":"#N/A"},{"$f":"VLOOKUP(A279,'Copy of Export'!$A$2:$AF2393,13,false)","v":"#N/A"},{"$f":"VLOOKUP(A279,'Copy of Export'!$A$2:$AF2393,2,false)","v":"#N/A"},{"$f":"VLOOKUP(A279,'Copy of Export'!$A$2:$AF2393,5,false)","v":"#N/A"},{"$f":"VLOOKUP(A279,'Copy of Export'!$A$2:$AF2393,8,false)","v":"#N/A"}]
[null,{"$f":"VLOOKUP(A280,'Copy of Export'!$A$2:$AF2393,5,false)","v":"#N/A"},{"$f":"VLOOKUP(A280,'Copy of Export'!$A$2:$AF2393,13,false)","v":"#N/A"},{"$f":"VLOOKUP(A280,'Copy of Export'!$A$2:$AF2393,2,false)","v":"#N/A"},{"$f":"VLOOKUP(A280,'Copy of Export'!$A$2:$AF2393,5,false)","v":"#N/A"},{"$f":"VLOOKUP(A280,'Copy of Export'!$A$2:$AF2393,8,false)","v":"#N/A"}]
[null,{"$f":"VLOOKUP(A281,'Copy of Export'!$A$2:$AF2393,5,false)","v":"#N/A"},{"$f":"VLOOKUP(A281,'Copy of Export'!$A$2:$AF2393,13,false)","v":"#N/A"},{"$f":"VLOOKUP(A281,'Copy of Export'!$A$2:$AF2393,2,false)","v":"#N/A"},{"$f":"VLOOKUP(A281,'Copy of Export'!$A$2:$AF2393,5,false)","v":"#N/A"},{"$f":"VLOOKUP(A281,'Copy of Export'!$A$2:$AF2393,8,false)","v":"#N/A"}]
[null,{"$f":"VLOOKUP(A282,'Copy of Export'!$A$2:$AF2393,5,false)","v":"#N/A"},{"$f":"VLOOKUP(A282,'Copy of Export'!$A$2:$AF2393,13,false)","v":"#N/A"},{"$f":"VLOOKUP(A282,'Copy of Export'!$A$2:$AF2393,2,false)","v":"#N/A"},{"$f":"VLOOKUP(A282,'Copy of Export'!$A$2:$AF2393,5,false)","v":"#N/A"},{"$f":"VLOOKUP(A282,'Copy of Export'!$A$2:$AF2393,8,false)","v":"#N/A"}]
[null,{"$f":"VLOOKUP(A283,'Copy of Export'!$A$2:$AF2393,5,false)","v":"#N/A"},{"$f":"VLOOKUP(A283,'Copy of Export'!$A$2:$AF2393,13,false)","v":"#N/A"},{"$f":"VLOOKUP(A283,'Copy of Export'!$A$2:$AF2393,2,false)","v":"#N/A"},{"$f":"VLOOKUP(A283,'Copy of Export'!$A$2:$AF2393,5,false)","v":"#N/A"},{"$f":"VLOOKUP(A283,'Copy of Export'!$A$2:$AF2393,8,false)","v":"#N/A"}]
[null,{"$f":"VLOOKUP(A284,'Copy of Export'!$A$2:$AF2393,5,false)","v":"#N/A"},{"$f":"VLOOKUP(A284,'Copy of Export'!$A$2:$AF2393,13,false)","v":"#N/A"},{"$f":"VLOOKUP(A284,'Copy of Export'!$A$2:$AF2393,2,false)","v":"#N/A"},{"$f":"VLOOKUP(A284,'Copy of Export'!$A$2:$AF2393,5,false)","v":"#N/A"},{"$f":"VLOOKUP(A284,'Copy of Export'!$A$2:$AF2393,8,false)","v":"#N/A"}]
[null,{"$f":"VLOOKUP(A285,'Copy of Export'!$A$2:$AF2393,5,false)","v":"#N/A"},{"$f":"VLOOKUP(A285,'Copy of Export'!$A$2:$AF2393,13,false)","v":"#N/A"},{"$f":"VLOOKUP(A285,'Copy of Export'!$A$2:$AF2393,2,false)","v":"#N/A"},{"$f":"VLOOKUP(A285,'Copy of Export'!$A$2:$AF2393,5,false)","v":"#N/A"},{"$f":"VLOOKUP(A285,'Copy of Export'!$A$2:$AF2393,8,false)","v":"#N/A"}]
[null,{"$f":"VLOOKUP(A286,'Copy of Export'!$A$2:$AF2393,5,false)","v":"#N/A"},{"$f":"VLOOKUP(A286,'Copy of Export'!$A$2:$AF2393,13,false)","v":"#N/A"},{"$f":"VLOOKUP(A286,'Copy of Export'!$A$2:$AF2393,2,false)","v":"#N/A"},{"$f":"VLOOKUP(A286,'Copy of Export'!$A$2:$AF2393,5,false)","v":"#N/A"},{"$f":"VLOOKUP(A286,'Copy of Export'!$A$2:$AF2393,8,false)","v":"#N/A"}]
[null,{"$f":"VLOOKUP(A287,'Copy of Export'!$A$2:$AF2393,5,false)","v":"#N/A"},{"$f":"VLOOKUP(A287,'Copy of Export'!$A$2:$AF2393,13,false)","v":"#N/A"},{"$f":"VLOOKUP(A287,'Copy of Export'!$A$2:$AF2393,2,false)","v":"#N/A"},{"$f":"VLOOKUP(A287,'Copy of Export'!$A$2:$AF2393,5,false)","v":"#N/A"},{"$f":"VLOOKUP(A287,'Copy of Export'!$A$2:$AF2393,8,false)","v":"#N/A"}]
[null,{"$f":"VLOOKUP(A288,'Copy of Export'!$A$2:$AF2393,5,false)","v":"#N/A"},{"$f":"VLOOKUP(A288,'Copy of Export'!$A$2:$AF2393,13,false)","v":"#N/A"},{"$f":"VLOOKUP(A288,'Copy of Export'!$A$2:$AF2393,2,false)","v":"#N/A"},{"$f":"VLOOKUP(A288,'Copy of Export'!$A$2:$AF2393,5,false)","v":"#N/A"},{"$f":"VLOOKUP(A288,'Copy of Export'!$A$2:$AF2393,8,false)","v":"#N/A"}]
[null,{"$f":"VLOOKUP(A289,'Copy of Export'!$A$2:$AF2393,5,false)","v":"#N/A"},{"$f":"VLOOKUP(A289,'Copy of Export'!$A$2:$AF2393,13,false)","v":"#N/A"},{"$f":"VLOOKUP(A289,'Copy of Export'!$A$2:$AF2393,2,false)","v":"#N/A"},{"$f":"VLOOKUP(A289,'Copy of Export'!$A$2:$AF2393,5,false)","v":"#N/A"},{"$f":"VLOOKUP(A289,'Copy of Export'!$A$2:$AF2393,8,false)","v":"#N/A"}]
[null,{"$f":"VLOOKUP(A290,'Copy of Export'!$A$2:$AF2393,5,false)","v":"#N/A"},{"$f":"VLOOKUP(A290,'Copy of Export'!$A$2:$AF2393,13,false)","v":"#N/A"},{"$f":"VLOOKUP(A290,'Copy of Export'!$A$2:$AF2393,2,false)","v":"#N/A"},{"$f":"VLOOKUP(A290,'Copy of Export'!$A$2:$AF2393,5,false)","v":"#N/A"},{"$f":"VLOOKUP(A290,'Copy of Export'!$A$2:$AF2393,8,false)","v":"#N/A"}]
[null,{"$f":"VLOOKUP(A291,'Copy of Export'!$A$2:$AF2393,5,false)","v":"#N/A"},{"$f":"VLOOKUP(A291,'Copy of Export'!$A$2:$AF2393,13,false)","v":"#N/A"},{"$f":"VLOOKUP(A291,'Copy of Export'!$A$2:$AF2393,2,false)","v":"#N/A"},{"$f":"VLOOKUP(A291,'Copy of Export'!$A$2:$AF2393,5,false)","v":"#N/A"},{"$f":"VLOOKUP(A291,'Copy of Export'!$A$2:$AF2393,8,false)","v":"#N/A"}]
[null,{"$f":"VLOOKUP(A292,'Copy of Export'!$A$2:$AF2393,5,false)","v":"#N/A"},{"$f":"VLOOKUP(A292,'Copy of Export'!$A$2:$AF2393,13,false)","v":"#N/A"},{"$f":"VLOOKUP(A292,'Copy of Export'!$A$2:$AF2393,2,false)","v":"#N/A"},{"$f":"VLOOKUP(A292,'Copy of Export'!$A$2:$AF2393,5,false)","v":"#N/A"},{"$f":"VLOOKUP(A292,'Copy of Export'!$A$2:$AF2393,8,false)","v":"#N/A"}]
[null,{"$f":"VLOOKUP(A293,'Copy of Export'!$A$2:$AF2393,5,false)","v":"#N/A"},{"$f":"VLOOKUP(A293,'Copy of Export'!$A$2:$AF2393,13,false)","v":"#N/A"},{"$f":"VLOOKUP(A293,'Copy of Export'!$A$2:$AF2393,2,false)","v":"#N/A"},{"$f":"VLOOKUP(A293,'Copy of Export'!$A$2:$AF2393,5,false)","v":"#N/A"},{"$f":"VLOOKUP(A293,'Copy of Export'!$A$2:$AF2393,8,false)","v":"#N/A"}]
[null,{"$f":"VLOOKUP(A294,'Copy of Export'!$A$2:$AF2393,5,false)","v":"#N/A"},{"$f":"VLOOKUP(A294,'Copy of Export'!$A$2:$AF2393,13,false)","v":"#N/A"},{"$f":"VLOOKUP(A294,'Copy of Export'!$A$2:$AF2393,2,false)","v":"#N/A"},{"$f":"VLOOKUP(A294,'Copy of Export'!$A$2:$AF2393,5,false)","v":"#N/A"},{"$f":"VLOOKUP(A294,'Copy of Export'!$A$2:$AF2393,8,false)","v":"#N/A"}]
[null,{"$f":"VLOOKUP(A295,'Copy of Export'!$A$2:$AF2393,5,false)","v":"#N/A"},{"$f":"VLOOKUP(A295,'Copy of Export'!$A$2:$AF2393,13,false)","v":"#N/A"},{"$f":"VLOOKUP(A295,'Copy of Export'!$A$2:$AF2393,2,false)","v":"#N/A"},{"$f":"VLOOKUP(A295,'Copy of Export'!$A$2:$AF2393,5,false)","v":"#N/A"},{"$f":"VLOOKUP(A295,'Copy of Export'!$A$2:$AF2393,8,false)","v":"#N/A"}]
[null,{"$f":"VLOOKUP(A296,'Copy of Export'!$A$2:$AF2393,5,false)","v":"#N/A"},{"$f":"VLOOKUP(A296,'Copy of Export'!$A$2:$AF2393,13,false)","v":"#N/A"},{"$f":"VLOOKUP(A296,'Copy of Export'!$A$2:$AF2393,2,false)","v":"#N/A"},{"$f":"VLOOKUP(A296,'Copy of Export'!$A$2:$AF2393,5,false)","v":"#N/A"},{"$f":"VLOOKUP(A296,'Copy of Export'!$A$2:$AF2393,8,false)","v":"#N/A"}]
[null,{"$f":"VLOOKUP(A297,'Copy of Export'!$A$2:$AF2393,5,false)","v":"#N/A"},{"$f":"VLOOKUP(A297,'Copy of Export'!$A$2:$AF2393,13,false)","v":"#N/A"},{"$f":"VLOOKUP(A297,'Copy of Export'!$A$2:$AF2393,2,false)","v":"#N/A"},{"$f":"VLOOKUP(A297,'Copy of Export'!$A$2:$AF2393,5,false)","v":"#N/A"},{"$f":"VLOOKUP(A297,'Copy of Export'!$A$2:$AF2393,8,false)","v":"#N/A"}]
[null,{"$f":"VLOOKUP(A298,'Copy of Export'!$A$2:$AF2393,5,false)","v":"#N/A"},{"$f":"VLOOKUP(A298,'Copy of Export'!$A$2:$AF2393,13,false)","v":"#N/A"},{"$f":"VLOOKUP(A298,'Copy of Export'!$A$2:$AF2393,2,false)","v":"#N/A"},{"$f":"VLOOKUP(A298,'Copy of Export'!$A$2:$AF2393,5,false)","v":"#N/A"},{"$f":"VLOOKUP(A298,'Copy of Export'!$A$2:$AF2393,8,false)","v":"#N/A"}]
[null,{"$f":"VLOOKUP(A299,'Copy of Export'!$A$2:$AF2393,5,false)","v":"#N/A"},{"$f":"VLOOKUP(A299,'Copy of Export'!$A$2:$AF2393,13,false)","v":"#N/A"},{"$f":"VLOOKUP(A299,'Copy of Export'!$A$2:$AF2393,2,false)","v":"#N/A"},{"$f":"VLOOKUP(A299,'Copy of Export'!$A$2:$AF2393,5,false)","v":"#N/A"},{"$f":"VLOOKUP(A299,'Copy of Export'!$A$2:$AF2393,8,false)","v":"#N/A"}]
[null,{"$f":"VLOOKUP(A300,'Copy of Export'!$A$2:$AF2393,5,false)","v":"#N/A"},{"$f":"VLOOKUP(A300,'Copy of Export'!$A$2:$AF2393,13,false)","v":"#N/A"},{"$f":"VLOOKUP(A300,'Copy of Export'!$A$2:$AF2393,2,false)","v":"#N/A"},{"$f":"VLOOKUP(A300,'Copy of Export'!$A$2:$AF2393,5,false)","v":"#N/A"},{"$f":"VLOOKUP(A300,'Copy of Export'!$A$2:$AF2393,8,false)","v":"#N/A"}]
[null,{"$f":"VLOOKUP(A301,'Copy of Export'!$A$2:$AF2393,5,false)","v":"#N/A"},{"$f":"VLOOKUP(A301,'Copy of Export'!$A$2:$AF2393,13,false)","v":"#N/A"},{"$f":"VLOOKUP(A301,'Copy of Export'!$A$2:$AF2393,2,false)","v":"#N/A"},{"$f":"VLOOKUP(A301,'Copy of Export'!$A$2:$AF2393,5,false)","v":"#N/A"},{"$f":"VLOOKUP(A301,'Copy of Export'!$A$2:$AF2393,8,false)","v":"#N/A"}]
[null,{"$f":"VLOOKUP(A302,'Copy of Export'!$A$2:$AF2393,5,false)","v":"#N/A"},{"$f":"VLOOKUP(A302,'Copy of Export'!$A$2:$AF2393,13,false)","v":"#N/A"},{"$f":"VLOOKUP(A302,'Copy of Export'!$A$2:$AF2393,2,false)","v":"#N/A"},{"$f":"VLOOKUP(A302,'Copy of Export'!$A$2:$AF2393,5,false)","v":"#N/A"},{"$f":"VLOOKUP(A302,'Copy of Export'!$A$2:$AF2393,8,false)","v":"#N/A"}]
[null,{"$f":"VLOOKUP(A303,'Copy of Export'!$A$2:$AF2393,5,false)","v":"#N/A"},{"$f":"VLOOKUP(A303,'Copy of Export'!$A$2:$AF2393,13,false)","v":"#N/A"},{"$f":"VLOOKUP(A303,'Copy of Export'!$A$2:$AF2393,2,false)","v":"#N/A"},{"$f":"VLOOKUP(A303,'Copy of Export'!$A$2:$AF2393,5,false)","v":"#N/A"},{"$f":"VLOOKUP(A303,'Copy of Export'!$A$2:$AF2393,8,false)","v":"#N/A"}]
[null,{"$f":"VLOOKUP(A304,'Copy of Export'!$A$2:$AF2393,5,false)","v":"#N/A"},{"$f":"VLOOKUP(A304,'Copy of Export'!$A$2:$AF2393,13,false)","v":"#N/A"},{"$f":"VLOOKUP(A304,'Copy of Export'!$A$2:$AF2393,2,false)","v":"#N/A"},{"$f":"VLOOKUP(A304,'Copy of Export'!$A$2:$AF2393,5,false)","v":"#N/A"},{"$f":"VLOOKUP(A304,'Copy of Export'!$A$2:$AF2393,8,false)","v":"#N/A"}]
[null,{"$f":"VLOOKUP(A305,'Copy of Export'!$A$2:$AF2393,5,false)","v":"#N/A"},{"$f":"VLOOKUP(A305,'Copy of Export'!$A$2:$AF2393,13,false)","v":"#N/A"},{"$f":"VLOOKUP(A305,'Copy of Export'!$A$2:$AF2393,2,false)","v":"#N/A"},{"$f":"VLOOKUP(A305,'Copy of Export'!$A$2:$AF2393,5,false)","v":"#N/A"},{"$f":"VLOOKUP(A305,'Copy of Export'!$A$2:$AF2393,8,false)","v":"#N/A"}]
[null,{"$f":"VLOOKUP(A306,'Copy of Export'!$A$2:$AF2393,5,false)","v":"#N/A"},{"$f":"VLOOKUP(A306,'Copy of Export'!$A$2:$AF2393,13,false)","v":"#N/A"},{"$f":"VLOOKUP(A306,'Copy of Export'!$A$2:$AF2393,2,false)","v":"#N/A"},{"$f":"VLOOKUP(A306,'Copy of Export'!$A$2:$AF2393,5,false)","v":"#N/A"},{"$f":"VLOOKUP(A306,'Copy of Export'!$A$2:$AF2393,8,false)","v":"#N/A"}]
[null,{"$f":"VLOOKUP(A307,'Copy of Export'!$A$2:$AF2393,5,false)","v":"#N/A"},{"$f":"VLOOKUP(A307,'Copy of Export'!$A$2:$AF2393,13,false)","v":"#N/A"},{"$f":"VLOOKUP(A307,'Copy of Export'!$A$2:$AF2393,2,false)","v":"#N/A"},{"$f":"VLOOKUP(A307,'Copy of Export'!$A$2:$AF2393,5,false)","v":"#N/A"},{"$f":"VLOOKUP(A307,'Copy of Export'!$A$2:$AF2393,8,false)","v":"#N/A"}]
[null,{"$f":"VLOOKUP(A308,'Copy of Export'!$A$2:$AF2393,5,false)","v":"#N/A"},{"$f":"VLOOKUP(A308,'Copy of Export'!$A$2:$AF2393,13,false)","v":"#N/A"},{"$f":"VLOOKUP(A308,'Copy of Export'!$A$2:$AF2393,2,false)","v":"#N/A"},{"$f":"VLOOKUP(A308,'Copy of Export'!$A$2:$AF2393,5,false)","v":"#N/A"},{"$f":"VLOOKUP(A308,'Copy of Export'!$A$2:$AF2393,8,false)","v":"#N/A"}]
[null,{"$f":"VLOOKUP(A309,'Copy of Export'!$A$2:$AF2393,5,false)","v":"#N/A"},{"$f":"VLOOKUP(A309,'Copy of Export'!$A$2:$AF2393,13,false)","v":"#N/A"},{"$f":"VLOOKUP(A309,'Copy of Export'!$A$2:$AF2393,2,false)","v":"#N/A"},{"$f":"VLOOKUP(A309,'Copy of Export'!$A$2:$AF2393,5,false)","v":"#N/A"},{"$f":"VLOOKUP(A309,'Copy of Export'!$A$2:$AF2393,8,false)","v":"#N/A"}]
[null,{"$f":"VLOOKUP(A310,'Copy of Export'!$A$2:$AF2393,5,false)","v":"#N/A"},{"$f":"VLOOKUP(A310,'Copy of Export'!$A$2:$AF2393,13,false)","v":"#N/A"},{"$f":"VLOOKUP(A310,'Copy of Export'!$A$2:$AF2393,2,false)","v":"#N/A"},{"$f":"VLOOKUP(A310,'Copy of Export'!$A$2:$AF2393,5,false)","v":"#N/A"},{"$f":"VLOOKUP(A310,'Copy of Export'!$A$2:$AF2393,8,false)","v":"#N/A"}]
[null,{"$f":"VLOOKUP(A311,'Copy of Export'!$A$2:$AF2393,5,false)","v":"#N/A"},{"$f":"VLOOKUP(A311,'Copy of Export'!$A$2:$AF2393,13,false)","v":"#N/A"},{"$f":"VLOOKUP(A311,'Copy of Export'!$A$2:$AF2393,2,false)","v":"#N/A"},{"$f":"VLOOKUP(A311,'Copy of Export'!$A$2:$AF2393,5,false)","v":"#N/A"},{"$f":"VLOOKUP(A311,'Copy of Export'!$A$2:$AF2393,8,false)","v":"#N/A"}]
[null,{"$f":"VLOOKUP(A312,'Copy of Export'!$A$2:$AF2393,5,false)","v":"#N/A"},{"$f":"VLOOKUP(A312,'Copy of Export'!$A$2:$AF2393,13,false)","v":"#N/A"},{"$f":"VLOOKUP(A312,'Copy of Export'!$A$2:$AF2393,2,false)","v":"#N/A"},{"$f":"VLOOKUP(A312,'Copy of Export'!$A$2:$AF2393,5,false)","v":"#N/A"},{"$f":"VLOOKUP(A312,'Copy of Export'!$A$2:$AF2393,8,false)","v":"#N/A"}]
[null,{"$f":"VLOOKUP(A313,'Copy of Export'!$A$2:$AF2393,5,false)","v":"#N/A"},{"$f":"VLOOKUP(A313,'Copy of Export'!$A$2:$AF2393,13,false)","v":"#N/A"},{"$f":"VLOOKUP(A313,'Copy of Export'!$A$2:$AF2393,2,false)","v":"#N/A"},{"$f":"VLOOKUP(A313,'Copy of Export'!$A$2:$AF2393,5,false)","v":"#N/A"},{"$f":"VLOOKUP(A313,'Copy of Export'!$A$2:$AF2393,8,false)","v":"#N/A"}]
[null,{"$f":"VLOOKUP(A314,'Copy of Export'!$A$2:$AF2393,5,false)","v":"#N/A"},{"$f":"VLOOKUP(A314,'Copy of Export'!$A$2:$AF2393,13,false)","v":"#N/A"},{"$f":"VLOOKUP(A314,'Copy of Export'!$A$2:$AF2393,2,false)","v":"#N/A"},{"$f":"VLOOKUP(A314,'Copy of Export'!$A$2:$AF2393,5,false)","v":"#N/A"},{"$f":"VLOOKUP(A314,'Copy of Export'!$A$2:$AF2393,8,false)","v":"#N/A"}]
[null,{"$f":"VLOOKUP(A315,'Copy of Export'!$A$2:$AF2393,5,false)","v":"#N/A"},{"$f":"VLOOKUP(A315,'Copy of Export'!$A$2:$AF2393,13,false)","v":"#N/A"},{"$f":"VLOOKUP(A315,'Copy of Export'!$A$2:$AF2393,2,false)","v":"#N/A"},{"$f":"VLOOKUP(A315,'Copy of Export'!$A$2:$AF2393,5,false)","v":"#N/A"},{"$f":"VLOOKUP(A315,'Copy of Export'!$A$2:$AF2393,8,false)","v":"#N/A"}]
[null,{"$f":"VLOOKUP(A316,'Copy of Export'!$A$2:$AF2393,5,false)","v":"#N/A"},{"$f":"VLOOKUP(A316,'Copy of Export'!$A$2:$AF2393,13,false)","v":"#N/A"},{"$f":"VLOOKUP(A316,'Copy of Export'!$A$2:$AF2393,2,false)","v":"#N/A"},{"$f":"VLOOKUP(A316,'Copy of Export'!$A$2:$AF2393,5,false)","v":"#N/A"},{"$f":"VLOOKUP(A316,'Copy of Export'!$A$2:$AF2393,8,false)","v":"#N/A"}]
[null,{"$f":"VLOOKUP(A317,'Copy of Export'!$A$2:$AF2393,5,false)","v":"#N/A"},{"$f":"VLOOKUP(A317,'Copy of Export'!$A$2:$AF2393,13,false)","v":"#N/A"},{"$f":"VLOOKUP(A317,'Copy of Export'!$A$2:$AF2393,2,false)","v":"#N/A"},{"$f":"VLOOKUP(A317,'Copy of Export'!$A$2:$AF2393,5,false)","v":"#N/A"},{"$f":"VLOOKUP(A317,'Copy of Export'!$A$2:$AF2393,8,false)","v":"#N/A"}]
[null,{"$f":"VLOOKUP(A318,'Copy of Export'!$A$2:$AF2393,5,false)","v":"#N/A"},{"$f":"VLOOKUP(A318,'Copy of Export'!$A$2:$AF2393,13,false)","v":"#N/A"},{"$f":"VLOOKUP(A318,'Copy of Export'!$A$2:$AF2393,2,false)","v":"#N/A"},{"$f":"VLOOKUP(A318,'Copy of Export'!$A$2:$AF2393,5,false)","v":"#N/A"},{"$f":"VLOOKUP(A318,'Copy of Export'!$A$2:$AF2393,8,false)","v":"#N/A"}]
[null,{"$f":"VLOOKUP(A319,'Copy of Export'!$A$2:$AF2393,5,false)","v":"#N/A"},{"$f":"VLOOKUP(A319,'Copy of Export'!$A$2:$AF2393,13,false)","v":"#N/A"},{"$f":"VLOOKUP(A319,'Copy of Export'!$A$2:$AF2393,2,false)","v":"#N/A"},{"$f":"VLOOKUP(A319,'Copy of Export'!$A$2:$AF2393,5,false)","v":"#N/A"},{"$f":"VLOOKUP(A319,'Copy of Export'!$A$2:$AF2393,8,false)","v":"#N/A"}]
[null,{"$f":"VLOOKUP(A320,'Copy of Export'!$A$2:$AF2393,5,false)","v":"#N/A"},{"$f":"VLOOKUP(A320,'Copy of Export'!$A$2:$AF2393,13,false)","v":"#N/A"},{"$f":"VLOOKUP(A320,'Copy of Export'!$A$2:$AF2393,2,false)","v":"#N/A"},{"$f":"VLOOKUP(A320,'Copy of Export'!$A$2:$AF2393,5,false)","v":"#N/A"},{"$f":"VLOOKUP(A320,'Copy of Export'!$A$2:$AF2393,8,false)","v":"#N/A"}]
[null,{"$f":"VLOOKUP(A321,'Copy of Export'!$A$2:$AF2393,5,false)","v":"#N/A"},{"$f":"VLOOKUP(A321,'Copy of Export'!$A$2:$AF2393,13,false)","v":"#N/A"},{"$f":"VLOOKUP(A321,'Copy of Export'!$A$2:$AF2393,2,false)","v":"#N/A"},{"$f":"VLOOKUP(A321,'Copy of Export'!$A$2:$AF2393,5,false)","v":"#N/A"},{"$f":"VLOOKUP(A321,'Copy of Export'!$A$2:$AF2393,8,false)","v":"#N/A"}]
[null,{"$f":"VLOOKUP(A322,'Copy of Export'!$A$2:$AF2393,5,false)","v":"#N/A"},{"$f":"VLOOKUP(A322,'Copy of Export'!$A$2:$AF2393,13,false)","v":"#N/A"},{"$f":"VLOOKUP(A322,'Copy of Export'!$A$2:$AF2393,2,false)","v":"#N/A"},{"$f":"VLOOKUP(A322,'Copy of Export'!$A$2:$AF2393,5,false)","v":"#N/A"},{"$f":"VLOOKUP(A322,'Copy of Export'!$A$2:$AF2393,8,false)","v":"#N/A"}]
[null,{"$f":"VLOOKUP(A323,'Copy of Export'!$A$2:$AF2393,5,false)","v":"#N/A"},{"$f":"VLOOKUP(A323,'Copy of Export'!$A$2:$AF2393,13,false)","v":"#N/A"},{"$f":"VLOOKUP(A323,'Copy of Export'!$A$2:$AF2393,2,false)","v":"#N/A"},{"$f":"VLOOKUP(A323,'Copy of Export'!$A$2:$AF2393,5,false)","v":"#N/A"},{"$f":"VLOOKUP(A323,'Copy of Export'!$A$2:$AF2393,8,false)","v":"#N/A"}]
[null,{"$f":"VLOOKUP(A324,'Copy of Export'!$A$2:$AF2393,5,false)","v":"#N/A"},{"$f":"VLOOKUP(A324,'Copy of Export'!$A$2:$AF2393,13,false)","v":"#N/A"},{"$f":"VLOOKUP(A324,'Copy of Export'!$A$2:$AF2393,2,false)","v":"#N/A"},{"$f":"VLOOKUP(A324,'Copy of Export'!$A$2:$AF2393,5,false)","v":"#N/A"},{"$f":"VLOOKUP(A324,'Copy of Export'!$A$2:$AF2393,8,false)","v":"#N/A"}]
[null,{"$f":"VLOOKUP(A325,'Copy of Export'!$A$2:$AF2393,5,false)","v":"#N/A"},{"$f":"VLOOKUP(A325,'Copy of Export'!$A$2:$AF2393,13,false)","v":"#N/A"},{"$f":"VLOOKUP(A325,'Copy of Export'!$A$2:$AF2393,2,false)","v":"#N/A"},{"$f":"VLOOKUP(A325,'Copy of Export'!$A$2:$AF2393,5,false)","v":"#N/A"},{"$f":"VLOOKUP(A325,'Copy of Export'!$A$2:$AF2393,8,false)","v":"#N/A"}]
[null,{"$f":"VLOOKUP(A326,'Copy of Export'!$A$2:$AF2393,5,false)","v":"#N/A"},{"$f":"VLOOKUP(A326,'Copy of Export'!$A$2:$AF2393,13,false)","v":"#N/A"},{"$f":"VLOOKUP(A326,'Copy of Export'!$A$2:$AF2393,2,false)","v":"#N/A"},{"$f":"VLOOKUP(A326,'Copy of Export'!$A$2:$AF2393,5,false)","v":"#N/A"},{"$f":"VLOOKUP(A326,'Copy of Export'!$A$2:$AF2393,8,false)","v":"#N/A"}]
[null,{"$f":"VLOOKUP(A327,'Copy of Export'!$A$2:$AF2393,5,false)","v":"#N/A"},{"$f":"VLOOKUP(A327,'Copy of Export'!$A$2:$AF2393,13,false)","v":"#N/A"},{"$f":"VLOOKUP(A327,'Copy of Export'!$A$2:$AF2393,2,false)","v":"#N/A"},{"$f":"VLOOKUP(A327,'Copy of Export'!$A$2:$AF2393,5,false)","v":"#N/A"},{"$f":"VLOOKUP(A327,'Copy of Export'!$A$2:$AF2393,8,false)","v":"#N/A"}]
[null,{"$f":"VLOOKUP(A328,'Copy of Export'!$A$2:$AF2393,5,false)","v":"#N/A"},{"$f":"VLOOKUP(A328,'Copy of Export'!$A$2:$AF2393,13,false)","v":"#N/A"},{"$f":"VLOOKUP(A328,'Copy of Export'!$A$2:$AF2393,2,false)","v":"#N/A"},{"$f":"VLOOKUP(A328,'Copy of Export'!$A$2:$AF2393,5,false)","v":"#N/A"},{"$f":"VLOOKUP(A328,'Copy of Export'!$A$2:$AF2393,8,false)","v":"#N/A"}]
[null,{"$f":"VLOOKUP(A329,'Copy of Export'!$A$2:$AF2393,5,false)","v":"#N/A"},{"$f":"VLOOKUP(A329,'Copy of Export'!$A$2:$AF2393,13,false)","v":"#N/A"},{"$f":"VLOOKUP(A329,'Copy of Export'!$A$2:$AF2393,2,false)","v":"#N/A"},{"$f":"VLOOKUP(A329,'Copy of Export'!$A$2:$AF2393,5,false)","v":"#N/A"},{"$f":"VLOOKUP(A329,'Copy of Export'!$A$2:$AF2393,8,false)","v":"#N/A"}]
[null,{"$f":"VLOOKUP(A330,'Copy of Export'!$A$2:$AF2393,5,false)","v":"#N/A"},{"$f":"VLOOKUP(A330,'Copy of Export'!$A$2:$AF2393,13,false)","v":"#N/A"},{"$f":"VLOOKUP(A330,'Copy of Export'!$A$2:$AF2393,2,false)","v":"#N/A"},{"$f":"VLOOKUP(A330,'Copy of Export'!$A$2:$AF2393,5,false)","v":"#N/A"},{"$f":"VLOOKUP(A330,'Copy of Export'!$A$2:$AF2393,8,false)","v":"#N/A"}]
[null,{"$f":"VLOOKUP(A331,'Copy of Export'!$A$2:$AF2393,5,false)","v":"#N/A"},{"$f":"VLOOKUP(A331,'Copy of Export'!$A$2:$AF2393,13,false)","v":"#N/A"},{"$f":"VLOOKUP(A331,'Copy of Export'!$A$2:$AF2393,2,false)","v":"#N/A"},{"$f":"VLOOKUP(A331,'Copy of Export'!$A$2:$AF2393,5,false)","v":"#N/A"},{"$f":"VLOOKUP(A331,'Copy of Export'!$A$2:$AF2393,8,false)","v":"#N/A"}]
[null,{"$f":"VLOOKUP(A332,'Copy of Export'!$A$2:$AF2393,5,false)","v":"#N/A"},{"$f":"VLOOKUP(A332,'Copy of Export'!$A$2:$AF2393,13,false)","v":"#N/A"},{"$f":"VLOOKUP(A332,'Copy of Export'!$A$2:$AF2393,2,false)","v":"#N/A"},{"$f":"VLOOKUP(A332,'Copy of Export'!$A$2:$AF2393,5,false)","v":"#N/A"},{"$f":"VLOOKUP(A332,'Copy of Export'!$A$2:$AF2393,8,false)","v":"#N/A"}]
[null,{"$f":"VLOOKUP(A333,'Copy of Export'!$A$2:$AF2393,5,false)","v":"#N/A"},{"$f":"VLOOKUP(A333,'Copy of Export'!$A$2:$AF2393,13,false)","v":"#N/A"},{"$f":"VLOOKUP(A333,'Copy of Export'!$A$2:$AF2393,2,false)","v":"#N/A"},{"$f":"VLOOKUP(A333,'Copy of Export'!$A$2:$AF2393,5,false)","v":"#N/A"},{"$f":"VLOOKUP(A333,'Copy of Export'!$A$2:$AF2393,8,false)","v":"#N/A"}]
[null,{"$f":"VLOOKUP(A334,'Copy of Export'!$A$2:$AF2393,5,false)","v":"#N/A"},{"$f":"VLOOKUP(A334,'Copy of Export'!$A$2:$AF2393,13,false)","v":"#N/A"},{"$f":"VLOOKUP(A334,'Copy of Export'!$A$2:$AF2393,2,false)","v":"#N/A"},{"$f":"VLOOKUP(A334,'Copy of Export'!$A$2:$AF2393,5,false)","v":"#N/A"},{"$f":"VLOOKUP(A334,'Copy of Export'!$A$2:$AF2393,8,false)","v":"#N/A"}]
[null,{"$f":"VLOOKUP(A335,'Copy of Export'!$A$2:$AF2393,5,false)","v":"#N/A"},{"$f":"VLOOKUP(A335,'Copy of Export'!$A$2:$AF2393,13,false)","v":"#N/A"},{"$f":"VLOOKUP(A335,'Copy of Export'!$A$2:$AF2393,2,false)","v":"#N/A"},{"$f":"VLOOKUP(A335,'Copy of Export'!$A$2:$AF2393,5,false)","v":"#N/A"},{"$f":"VLOOKUP(A335,'Copy of Export'!$A$2:$AF2393,8,false)","v":"#N/A"}]
[null,{"$f":"VLOOKUP(A336,'Copy of Export'!$A$2:$AF2393,5,false)","v":"#N/A"},{"$f":"VLOOKUP(A336,'Copy of Export'!$A$2:$AF2393,13,false)","v":"#N/A"},{"$f":"VLOOKUP(A336,'Copy of Export'!$A$2:$AF2393,2,false)","v":"#N/A"},{"$f":"VLOOKUP(A336,'Copy of Export'!$A$2:$AF2393,5,false)","v":"#N/A"},{"$f":"VLOOKUP(A336,'Copy of Export'!$A$2:$AF2393,8,false)","v":"#N/A"}]
[null,{"$f":"VLOOKUP(A337,'Copy of Export'!$A$2:$AF2393,5,false)","v":"#N/A"},{"$f":"VLOOKUP(A337,'Copy of Export'!$A$2:$AF2393,13,false)","v":"#N/A"},{"$f":"VLOOKUP(A337,'Copy of Export'!$A$2:$AF2393,2,false)","v":"#N/A"},{"$f":"VLOOKUP(A337,'Copy of Export'!$A$2:$AF2393,5,false)","v":"#N/A"},{"$f":"VLOOKUP(A337,'Copy of Export'!$A$2:$AF2393,8,false)","v":"#N/A"}]
[null,{"$f":"VLOOKUP(A338,'Copy of Export'!$A$2:$AF2393,5,false)","v":"#N/A"},{"$f":"VLOOKUP(A338,'Copy of Export'!$A$2:$AF2393,13,false)","v":"#N/A"},{"$f":"VLOOKUP(A338,'Copy of Export'!$A$2:$AF2393,2,false)","v":"#N/A"},{"$f":"VLOOKUP(A338,'Copy of Export'!$A$2:$AF2393,5,false)","v":"#N/A"},{"$f":"VLOOKUP(A338,'Copy of Export'!$A$2:$AF2393,8,false)","v":"#N/A"}]
[null,{"$f":"VLOOKUP(A339,'Copy of Export'!$A$2:$AF2393,5,false)","v":"#N/A"},{"$f":"VLOOKUP(A339,'Copy of Export'!$A$2:$AF2393,13,false)","v":"#N/A"},{"$f":"VLOOKUP(A339,'Copy of Export'!$A$2:$AF2393,2,false)","v":"#N/A"},{"$f":"VLOOKUP(A339,'Copy of Export'!$A$2:$AF2393,5,false)","v":"#N/A"},{"$f":"VLOOKUP(A339,'Copy of Export'!$A$2:$AF2393,8,false)","v":"#N/A"}]
[null,{"$f":"VLOOKUP(A340,'Copy of Export'!$A$2:$AF2393,5,false)","v":"#N/A"},{"$f":"VLOOKUP(A340,'Copy of Export'!$A$2:$AF2393,13,false)","v":"#N/A"},{"$f":"VLOOKUP(A340,'Copy of Export'!$A$2:$AF2393,2,false)","v":"#N/A"},{"$f":"VLOOKUP(A340,'Copy of Export'!$A$2:$AF2393,5,false)","v":"#N/A"},{"$f":"VLOOKUP(A340,'Copy of Export'!$A$2:$AF2393,8,false)","v":"#N/A"}]
[null,{"$f":"VLOOKUP(A341,'Copy of Export'!$A$2:$AF2393,5,false)","v":"#N/A"},{"$f":"VLOOKUP(A341,'Copy of Export'!$A$2:$AF2393,13,false)","v":"#N/A"},{"$f":"VLOOKUP(A341,'Copy of Export'!$A$2:$AF2393,2,false)","v":"#N/A"},{"$f":"VLOOKUP(A341,'Copy of Export'!$A$2:$AF2393,5,false)","v":"#N/A"},{"$f":"VLOOKUP(A341,'Copy of Export'!$A$2:$AF2393,8,false)","v":"#N/A"}]
[null,{"$f":"VLOOKUP(A342,'Copy of Export'!$A$2:$AF2393,5,false)","v":"#N/A"},{"$f":"VLOOKUP(A342,'Copy of Export'!$A$2:$AF2393,13,false)","v":"#N/A"},{"$f":"VLOOKUP(A342,'Copy of Export'!$A$2:$AF2393,2,false)","v":"#N/A"},{"$f":"VLOOKUP(A342,'Copy of Export'!$A$2:$AF2393,5,false)","v":"#N/A"},{"$f":"VLOOKUP(A342,'Copy of Export'!$A$2:$AF2393,8,false)","v":"#N/A"}]
[null,{"$f":"VLOOKUP(A343,'Copy of Export'!$A$2:$AF2393,5,false)","v":"#N/A"},{"$f":"VLOOKUP(A343,'Copy of Export'!$A$2:$AF2393,13,false)","v":"#N/A"},{"$f":"VLOOKUP(A343,'Copy of Export'!$A$2:$AF2393,2,false)","v":"#N/A"},{"$f":"VLOOKUP(A343,'Copy of Export'!$A$2:$AF2393,5,false)","v":"#N/A"},{"$f":"VLOOKUP(A343,'Copy of Export'!$A$2:$AF2393,8,false)","v":"#N/A"}]
[null,{"$f":"VLOOKUP(A344,'Copy of Export'!$A$2:$AF2393,5,false)","v":"#N/A"},{"$f":"VLOOKUP(A344,'Copy of Export'!$A$2:$AF2393,13,false)","v":"#N/A"},{"$f":"VLOOKUP(A344,'Copy of Export'!$A$2:$AF2393,2,false)","v":"#N/A"},{"$f":"VLOOKUP(A344,'Copy of Export'!$A$2:$AF2393,5,false)","v":"#N/A"},{"$f":"VLOOKUP(A344,'Copy of Export'!$A$2:$AF2393,8,false)","v":"#N/A"}]
[null,{"$f":"VLOOKUP(A345,'Copy of Export'!$A$2:$AF2393,5,false)","v":"#N/A"},{"$f":"VLOOKUP(A345,'Copy of Export'!$A$2:$AF2393,13,false)","v":"#N/A"},{"$f":"VLOOKUP(A345,'Copy of Export'!$A$2:$AF2393,2,false)","v":"#N/A"},{"$f":"VLOOKUP(A345,'Copy of Export'!$A$2:$AF2393,5,false)","v":"#N/A"},{"$f":"VLOOKUP(A345,'Copy of Export'!$A$2:$AF2393,8,false)","v":"#N/A"}]
[null,{"$f":"VLOOKUP(A346,'Copy of Export'!$A$2:$AF2393,5,false)","v":"#N/A"},{"$f":"VLOOKUP(A346,'Copy of Export'!$A$2:$AF2393,13,false)","v":"#N/A"},{"$f":"VLOOKUP(A346,'Copy of Export'!$A$2:$AF2393,2,false)","v":"#N/A"},{"$f":"VLOOKUP(A346,'Copy of Export'!$A$2:$AF2393,5,false)","v":"#N/A"},{"$f":"VLOOKUP(A346,'Copy of Export'!$A$2:$AF2393,8,false)","v":"#N/A"}]
[null,{"$f":"VLOOKUP(A347,'Copy of Export'!$A$2:$AF2393,5,false)","v":"#N/A"},{"$f":"VLOOKUP(A347,'Copy of Export'!$A$2:$AF2393,13,false)","v":"#N/A"},{"$f":"VLOOKUP(A347,'Copy of Export'!$A$2:$AF2393,2,false)","v":"#N/A"},{"$f":"VLOOKUP(A347,'Copy of Export'!$A$2:$AF2393,5,false)","v":"#N/A"},{"$f":"VLOOKUP(A347,'Copy of Export'!$A$2:$AF2393,8,false)","v":"#N/A"}]
[null,{"$f":"VLOOKUP(A348,'Copy of Export'!$A$2:$AF2393,5,false)","v":"#N/A"},{"$f":"VLOOKUP(A348,'Copy of Export'!$A$2:$AF2393,13,false)","v":"#N/A"},{"$f":"VLOOKUP(A348,'Copy of Export'!$A$2:$AF2393,2,false)","v":"#N/A"},{"$f":"VLOOKUP(A348,'Copy of Export'!$A$2:$AF2393,5,false)","v":"#N/A"},{"$f":"VLOOKUP(A348,'Copy of Export'!$A$2:$AF2393,8,false)","v":"#N/A"}]
[null,{"$f":"VLOOKUP(A349,'Copy of Export'!$A$2:$AF2393,5,false)","v":"#N/A"},{"$f":"VLOOKUP(A349,'Copy of Export'!$A$2:$AF2393,13,false)","v":"#N/A"},{"$f":"VLOOKUP(A349,'Copy of Export'!$A$2:$AF2393,2,false)","v":"#N/A"},{"$f":"VLOOKUP(A349,'Copy of Export'!$A$2:$AF2393,5,false)","v":"#N/A"},{"$f":"VLOOKUP(A349,'Copy of Export'!$A$2:$AF2393,8,false)","v":"#N/A"}]
[null,{"$f":"VLOOKUP(A350,'Copy of Export'!$A$2:$AF2393,5,false)","v":"#N/A"},{"$f":"VLOOKUP(A350,'Copy of Export'!$A$2:$AF2393,13,false)","v":"#N/A"},{"$f":"VLOOKUP(A350,'Copy of Export'!$A$2:$AF2393,2,false)","v":"#N/A"},{"$f":"VLOOKUP(A350,'Copy of Export'!$A$2:$AF2393,5,false)","v":"#N/A"},{"$f":"VLOOKUP(A350,'Copy of Export'!$A$2:$AF2393,8,false)","v":"#N/A"}]
[null,{"$f":"VLOOKUP(A351,'Copy of Export'!$A$2:$AF2393,5,false)","v":"#N/A"},{"$f":"VLOOKUP(A351,'Copy of Export'!$A$2:$AF2393,13,false)","v":"#N/A"},{"$f":"VLOOKUP(A351,'Copy of Export'!$A$2:$AF2393,2,false)","v":"#N/A"},{"$f":"VLOOKUP(A351,'Copy of Export'!$A$2:$AF2393,5,false)","v":"#N/A"},{"$f":"VLOOKUP(A351,'Copy of Export'!$A$2:$AF2393,8,false)","v":"#N/A"}]
[null,{"$f":"VLOOKUP(A352,'Copy of Export'!$A$2:$AF2393,5,false)","v":"#N/A"},{"$f":"VLOOKUP(A352,'Copy of Export'!$A$2:$AF2393,13,false)","v":"#N/A"},{"$f":"VLOOKUP(A352,'Copy of Export'!$A$2:$AF2393,2,false)","v":"#N/A"},{"$f":"VLOOKUP(A352,'Copy of Export'!$A$2:$AF2393,5,false)","v":"#N/A"},{"$f":"VLOOKUP(A352,'Copy of Export'!$A$2:$AF2393,8,false)","v":"#N/A"}]
[null,{"$f":"VLOOKUP(A353,'Copy of Export'!$A$2:$AF2393,5,false)","v":"#N/A"},{"$f":"VLOOKUP(A353,'Copy of Export'!$A$2:$AF2393,13,false)","v":"#N/A"},{"$f":"VLOOKUP(A353,'Copy of Export'!$A$2:$AF2393,2,false)","v":"#N/A"},{"$f":"VLOOKUP(A353,'Copy of Export'!$A$2:$AF2393,5,false)","v":"#N/A"},{"$f":"VLOOKUP(A353,'Copy of Export'!$A$2:$AF2393,8,false)","v":"#N/A"}]
[null,{"$f":"VLOOKUP(A354,'Copy of Export'!$A$2:$AF2393,5,false)","v":"#N/A"},{"$f":"VLOOKUP(A354,'Copy of Export'!$A$2:$AF2393,13,false)","v":"#N/A"},{"$f":"VLOOKUP(A354,'Copy of Export'!$A$2:$AF2393,2,false)","v":"#N/A"},{"$f":"VLOOKUP(A354,'Copy of Export'!$A$2:$AF2393,5,false)","v":"#N/A"},{"$f":"VLOOKUP(A354,'Copy of Export'!$A$2:$AF2393,8,false)","v":"#N/A"}]
[null,{"$f":"VLOOKUP(A355,'Copy of Export'!$A$2:$AF2393,5,false)","v":"#N/A"},{"$f":"VLOOKUP(A355,'Copy of Export'!$A$2:$AF2393,13,false)","v":"#N/A"},{"$f":"VLOOKUP(A355,'Copy of Export'!$A$2:$AF2393,2,false)","v":"#N/A"},{"$f":"VLOOKUP(A355,'Copy of Export'!$A$2:$AF2393,5,false)","v":"#N/A"},{"$f":"VLOOKUP(A355,'Copy of Export'!$A$2:$AF2393,8,false)","v":"#N/A"}]
[null,{"$f":"VLOOKUP(A356,'Copy of Export'!$A$2:$AF2393,5,false)","v":"#N/A"},{"$f":"VLOOKUP(A356,'Copy of Export'!$A$2:$AF2393,13,false)","v":"#N/A"},{"$f":"VLOOKUP(A356,'Copy of Export'!$A$2:$AF2393,2,false)","v":"#N/A"},{"$f":"VLOOKUP(A356,'Copy of Export'!$A$2:$AF2393,5,false)","v":"#N/A"},{"$f":"VLOOKUP(A356,'Copy of Export'!$A$2:$AF2393,8,false)","v":"#N/A"}]
[null,{"$f":"VLOOKUP(A357,'Copy of Export'!$A$2:$AF2393,5,false)","v":"#N/A"},{"$f":"VLOOKUP(A357,'Copy of Export'!$A$2:$AF2393,13,false)","v":"#N/A"},{"$f":"VLOOKUP(A357,'Copy of Export'!$A$2:$AF2393,2,false)","v":"#N/A"},{"$f":"VLOOKUP(A357,'Copy of Export'!$A$2:$AF2393,5,false)","v":"#N/A"},{"$f":"VLOOKUP(A357,'Copy of Export'!$A$2:$AF2393,8,false)","v":"#N/A"}]
[null,{"$f":"VLOOKUP(A358,'Copy of Export'!$A$2:$AF2393,5,false)","v":"#N/A"},{"$f":"VLOOKUP(A358,'Copy of Export'!$A$2:$AF2393,13,false)","v":"#N/A"},{"$f":"VLOOKUP(A358,'Copy of Export'!$A$2:$AF2393,2,false)","v":"#N/A"},{"$f":"VLOOKUP(A358,'Copy of Export'!$A$2:$AF2393,5,false)","v":"#N/A"},{"$f":"VLOOKUP(A358,'Copy of Export'!$A$2:$AF2393,8,false)","v":"#N/A"}]
[null,{"$f":"VLOOKUP(A359,'Copy of Export'!$A$2:$AF2393,5,false)","v":"#N/A"},{"$f":"VLOOKUP(A359,'Copy of Export'!$A$2:$AF2393,13,false)","v":"#N/A"},{"$f":"VLOOKUP(A359,'Copy of Export'!$A$2:$AF2393,2,false)","v":"#N/A"},{"$f":"VLOOKUP(A359,'Copy of Export'!$A$2:$AF2393,5,false)","v":"#N/A"},{"$f":"VLOOKUP(A359,'Copy of Export'!$A$2:$AF2393,8,false)","v":"#N/A"}]
[null,{"$f":"VLOOKUP(A360,'Copy of Export'!$A$2:$AF2393,5,false)","v":"#N/A"},{"$f":"VLOOKUP(A360,'Copy of Export'!$A$2:$AF2393,13,false)","v":"#N/A"},{"$f":"VLOOKUP(A360,'Copy of Export'!$A$2:$AF2393,2,false)","v":"#N/A"},{"$f":"VLOOKUP(A360,'Copy of Export'!$A$2:$AF2393,5,false)","v":"#N/A"},{"$f":"VLOOKUP(A360,'Copy of Export'!$A$2:$AF2393,8,false)","v":"#N/A"}]
[null,{"$f":"VLOOKUP(A361,'Copy of Export'!$A$2:$AF2393,5,false)","v":"#N/A"},{"$f":"VLOOKUP(A361,'Copy of Export'!$A$2:$AF2393,13,false)","v":"#N/A"},{"$f":"VLOOKUP(A361,'Copy of Export'!$A$2:$AF2393,2,false)","v":"#N/A"},{"$f":"VLOOKUP(A361,'Copy of Export'!$A$2:$AF2393,5,false)","v":"#N/A"},{"$f":"VLOOKUP(A361,'Copy of Export'!$A$2:$AF2393,8,false)","v":"#N/A"}]
[null,{"$f":"VLOOKUP(A362,'Copy of Export'!$A$2:$AF2393,5,false)","v":"#N/A"},{"$f":"VLOOKUP(A362,'Copy of Export'!$A$2:$AF2393,13,false)","v":"#N/A"},{"$f":"VLOOKUP(A362,'Copy of Export'!$A$2:$AF2393,2,false)","v":"#N/A"},{"$f":"VLOOKUP(A362,'Copy of Export'!$A$2:$AF2393,5,false)","v":"#N/A"},{"$f":"VLOOKUP(A362,'Copy of Export'!$A$2:$AF2393,8,false)","v":"#N/A"}]
[null,{"$f":"VLOOKUP(A363,'Copy of Export'!$A$2:$AF2393,5,false)","v":"#N/A"},{"$f":"VLOOKUP(A363,'Copy of Export'!$A$2:$AF2393,13,false)","v":"#N/A"},{"$f":"VLOOKUP(A363,'Copy of Export'!$A$2:$AF2393,2,false)","v":"#N/A"},{"$f":"VLOOKUP(A363,'Copy of Export'!$A$2:$AF2393,5,false)","v":"#N/A"},{"$f":"VLOOKUP(A363,'Copy of Export'!$A$2:$AF2393,8,false)","v":"#N/A"}]
[null,{"$f":"VLOOKUP(A364,'Copy of Export'!$A$2:$AF2393,5,false)","v":"#N/A"},{"$f":"VLOOKUP(A364,'Copy of Export'!$A$2:$AF2393,13,false)","v":"#N/A"},{"$f":"VLOOKUP(A364,'Copy of Export'!$A$2:$AF2393,2,false)","v":"#N/A"},{"$f":"VLOOKUP(A364,'Copy of Export'!$A$2:$AF2393,5,false)","v":"#N/A"},{"$f":"VLOOKUP(A364,'Copy of Export'!$A$2:$AF2393,8,false)","v":"#N/A"}]
[null,{"$f":"VLOOKUP(A365,'Copy of Export'!$A$2:$AF2393,5,false)","v":"#N/A"},{"$f":"VLOOKUP(A365,'Copy of Export'!$A$2:$AF2393,13,false)","v":"#N/A"},{"$f":"VLOOKUP(A365,'Copy of Export'!$A$2:$AF2393,2,false)","v":"#N/A"},{"$f":"VLOOKUP(A365,'Copy of Export'!$A$2:$AF2393,5,false)","v":"#N/A"},{"$f":"VLOOKUP(A365,'Copy of Export'!$A$2:$AF2393,8,false)","v":"#N/A"}]
[null,{"$f":"VLOOKUP(A366,'Copy of Export'!$A$2:$AF2393,5,false)","v":"#N/A"},{"$f":"VLOOKUP(A366,'Copy of Export'!$A$2:$AF2393,13,false)","v":"#N/A"},{"$f":"VLOOKUP(A366,'Copy of Export'!$A$2:$AF2393,2,false)","v":"#N/A"},{"$f":"VLOOKUP(A366,'Copy of Export'!$A$2:$AF2393,5,false)","v":"#N/A"},{"$f":"VLOOKUP(A366,'Copy of Export'!$A$2:$AF2393,8,false)","v":"#N/A"}]
[null,{"$f":"VLOOKUP(A367,'Copy of Export'!$A$2:$AF2393,5,false)","v":"#N/A"},{"$f":"VLOOKUP(A367,'Copy of Export'!$A$2:$AF2393,13,false)","v":"#N/A"},{"$f":"VLOOKUP(A367,'Copy of Export'!$A$2:$AF2393,2,false)","v":"#N/A"},{"$f":"VLOOKUP(A367,'Copy of Export'!$A$2:$AF2393,5,false)","v":"#N/A"},{"$f":"VLOOKUP(A367,'Copy of Export'!$A$2:$AF2393,8,false)","v":"#N/A"}]
[null,{"$f":"VLOOKUP(A368,'Copy of Export'!$A$2:$AF2393,5,false)","v":"#N/A"},{"$f":"VLOOKUP(A368,'Copy of Export'!$A$2:$AF2393,13,false)","v":"#N/A"},{"$f":"VLOOKUP(A368,'Copy of Export'!$A$2:$AF2393,2,false)","v":"#N/A"},{"$f":"VLOOKUP(A368,'Copy of Export'!$A$2:$AF2393,5,false)","v":"#N/A"},{"$f":"VLOOKUP(A368,'Copy of Export'!$A$2:$AF2393,8,false)","v":"#N/A"}]
[null,{"$f":"VLOOKUP(A369,'Copy of Export'!$A$2:$AF2393,5,false)","v":"#N/A"},{"$f":"VLOOKUP(A369,'Copy of Export'!$A$2:$AF2393,13,false)","v":"#N/A"},{"$f":"VLOOKUP(A369,'Copy of Export'!$A$2:$AF2393,2,false)","v":"#N/A"},{"$f":"VLOOKUP(A369,'Copy of Export'!$A$2:$AF2393,5,false)","v":"#N/A"},{"$f":"VLOOKUP(A369,'Copy of Export'!$A$2:$AF2393,8,false)","v":"#N/A"}]
[null,{"$f":"VLOOKUP(A370,'Copy of Export'!$A$2:$AF2393,5,false)","v":"#N/A"},{"$f":"VLOOKUP(A370,'Copy of Export'!$A$2:$AF2393,13,false)","v":"#N/A"},{"$f":"VLOOKUP(A370,'Copy of Export'!$A$2:$AF2393,2,false)","v":"#N/A"},{"$f":"VLOOKUP(A370,'Copy of Export'!$A$2:$AF2393,5,false)","v":"#N/A"},{"$f":"VLOOKUP(A370,'Copy of Export'!$A$2:$AF2393,8,false)","v":"#N/A"}]
[null,{"$f":"VLOOKUP(A371,'Copy of Export'!$A$2:$AF2393,5,false)","v":"#N/A"},{"$f":"VLOOKUP(A371,'Copy of Export'!$A$2:$AF2393,13,false)","v":"#N/A"},{"$f":"VLOOKUP(A371,'Copy of Export'!$A$2:$AF2393,2,false)","v":"#N/A"},{"$f":"VLOOKUP(A371,'Copy of Export'!$A$2:$AF2393,5,false)","v":"#N/A"},{"$f":"VLOOKUP(A371,'Copy of Export'!$A$2:$AF2393,8,false)","v":"#N/A"}]
[null,{"$f":"VLOOKUP(A372,'Copy of Export'!$A$2:$AF2393,5,false)","v":"#N/A"},{"$f":"VLOOKUP(A372,'Copy of Export'!$A$2:$AF2393,13,false)","v":"#N/A"},{"$f":"VLOOKUP(A372,'Copy of Export'!$A$2:$AF2393,2,false)","v":"#N/A"},{"$f":"VLOOKUP(A372,'Copy of Export'!$A$2:$AF2393,5,false)","v":"#N/A"},{"$f":"VLOOKUP(A372,'Copy of Export'!$A$2:$AF2393,8,false)","v":"#N/A"}]
[null,{"$f":"VLOOKUP(A373,'Copy of Export'!$A$2:$AF2393,5,false)","v":"#N/A"},{"$f":"VLOOKUP(A373,'Copy of Export'!$A$2:$AF2393,13,false)","v":"#N/A"},{"$f":"VLOOKUP(A373,'Copy of Export'!$A$2:$AF2393,2,false)","v":"#N/A"},{"$f":"VLOOKUP(A373,'Copy of Export'!$A$2:$AF2393,5,false)","v":"#N/A"},{"$f":"VLOOKUP(A373,'Copy of Export'!$A$2:$AF2393,8,false)","v":"#N/A"}]
[null,{"$f":"VLOOKUP(A374,'Copy of Export'!$A$2:$AF2393,5,false)","v":"#N/A"},{"$f":"VLOOKUP(A374,'Copy of Export'!$A$2:$AF2393,13,false)","v":"#N/A"},{"$f":"VLOOKUP(A374,'Copy of Export'!$A$2:$AF2393,2,false)","v":"#N/A"},{"$f":"VLOOKUP(A374,'Copy of Export'!$A$2:$AF2393,5,false)","v":"#N/A"},{"$f":"VLOOKUP(A374,'Copy of Export'!$A$2:$AF2393,8,false)","v":"#N/A"}]
[null,{"$f":"VLOOKUP(A375,'Copy of Export'!$A$2:$AF2393,5,false)","v":"#N/A"},{"$f":"VLOOKUP(A375,'Copy of Export'!$A$2:$AF2393,13,false)","v":"#N/A"},{"$f":"VLOOKUP(A375,'Copy of Export'!$A$2:$AF2393,2,false)","v":"#N/A"},{"$f":"VLOOKUP(A375,'Copy of Export'!$A$2:$AF2393,5,false)","v":"#N/A"},{"$f":"VLOOKUP(A375,'Copy of Export'!$A$2:$AF2393,8,false)","v":"#N/A"}]
[null,{"$f":"VLOOKUP(A376,'Copy of Export'!$A$2:$AF2393,5,false)","v":"#N/A"},{"$f":"VLOOKUP(A376,'Copy of Export'!$A$2:$AF2393,13,false)","v":"#N/A"},{"$f":"VLOOKUP(A376,'Copy of Export'!$A$2:$AF2393,2,false)","v":"#N/A"},{"$f":"VLOOKUP(A376,'Copy of Export'!$A$2:$AF2393,5,false)","v":"#N/A"},{"$f":"VLOOKUP(A376,'Copy of Export'!$A$2:$AF2393,8,false)","v":"#N/A"}]
[null,{"$f":"VLOOKUP(A377,'Copy of Export'!$A$2:$AF2393,5,false)","v":"#N/A"},{"$f":"VLOOKUP(A377,'Copy of Export'!$A$2:$AF2393,13,false)","v":"#N/A"},{"$f":"VLOOKUP(A377,'Copy of Export'!$A$2:$AF2393,2,false)","v":"#N/A"},{"$f":"VLOOKUP(A377,'Copy of Export'!$A$2:$AF2393,5,false)","v":"#N/A"},{"$f":"VLOOKUP(A377,'Copy of Export'!$A$2:$AF2393,8,false)","v":"#N/A"}]
[null,{"$f":"VLOOKUP(A378,'Copy of Export'!$A$2:$AF2393,5,false)","v":"#N/A"},{"$f":"VLOOKUP(A378,'Copy of Export'!$A$2:$AF2393,13,false)","v":"#N/A"},{"$f":"VLOOKUP(A378,'Copy of Export'!$A$2:$AF2393,2,false)","v":"#N/A"},{"$f":"VLOOKUP(A378,'Copy of Export'!$A$2:$AF2393,5,false)","v":"#N/A"},{"$f":"VLOOKUP(A378,'Copy of Export'!$A$2:$AF2393,8,false)","v":"#N/A"}]
[null,{"$f":"VLOOKUP(A379,'Copy of Export'!$A$2:$AF2393,5,false)","v":"#N/A"},{"$f":"VLOOKUP(A379,'Copy of Export'!$A$2:$AF2393,13,false)","v":"#N/A"},{"$f":"VLOOKUP(A379,'Copy of Export'!$A$2:$AF2393,2,false)","v":"#N/A"},{"$f":"VLOOKUP(A379,'Copy of Export'!$A$2:$AF2393,5,false)","v":"#N/A"},{"$f":"VLOOKUP(A379,'Copy of Export'!$A$2:$AF2393,8,false)","v":"#N/A"}]
[null,{"$f":"VLOOKUP(A380,'Copy of Export'!$A$2:$AF2393,5,false)","v":"#N/A"},{"$f":"VLOOKUP(A380,'Copy of Export'!$A$2:$AF2393,13,false)","v":"#N/A"},{"$f":"VLOOKUP(A380,'Copy of Export'!$A$2:$AF2393,2,false)","v":"#N/A"},{"$f":"VLOOKUP(A380,'Copy of Export'!$A$2:$AF2393,5,false)","v":"#N/A"},{"$f":"VLOOKUP(A380,'Copy of Export'!$A$2:$AF2393,8,false)","v":"#N/A"}]
[null,{"$f":"VLOOKUP(A381,'Copy of Export'!$A$2:$AF2393,5,false)","v":"#N/A"},{"$f":"VLOOKUP(A381,'Copy of Export'!$A$2:$AF2393,13,false)","v":"#N/A"},{"$f":"VLOOKUP(A381,'Copy of Export'!$A$2:$AF2393,2,false)","v":"#N/A"},{"$f":"VLOOKUP(A381,'Copy of Export'!$A$2:$AF2393,5,false)","v":"#N/A"},{"$f":"VLOOKUP(A381,'Copy of Export'!$A$2:$AF2393,8,false)","v":"#N/A"}]
[null,{"$f":"VLOOKUP(A382,'Copy of Export'!$A$2:$AF2393,5,false)","v":"#N/A"},{"$f":"VLOOKUP(A382,'Copy of Export'!$A$2:$AF2393,13,false)","v":"#N/A"},{"$f":"VLOOKUP(A382,'Copy of Export'!$A$2:$AF2393,2,false)","v":"#N/A"},{"$f":"VLOOKUP(A382,'Copy of Export'!$A$2:$AF2393,5,false)","v":"#N/A"},{"$f":"VLOOKUP(A382,'Copy of Export'!$A$2:$AF2393,8,false)","v":"#N/A"}]
[null,{"$f":"VLOOKUP(A383,'Copy of Export'!$A$2:$AF2393,5,false)","v":"#N/A"},{"$f":"VLOOKUP(A383,'Copy of Export'!$A$2:$AF2393,13,false)","v":"#N/A"},{"$f":"VLOOKUP(A383,'Copy of Export'!$A$2:$AF2393,2,false)","v":"#N/A"},{"$f":"VLOOKUP(A383,'Copy of Export'!$A$2:$AF2393,5,false)","v":"#N/A"},{"$f":"VLOOKUP(A383,'Copy of Export'!$A$2:$AF2393,8,false)","v":"#N/A"}]
[null,{"$f":"VLOOKUP(A384,'Copy of Export'!$A$2:$AF2393,5,false)","v":"#N/A"},{"$f":"VLOOKUP(A384,'Copy of Export'!$A$2:$AF2393,13,false)","v":"#N/A"},{"$f":"VLOOKUP(A384,'Copy of Export'!$A$2:$AF2393,2,false)","v":"#N/A"},{"$f":"VLOOKUP(A384,'Copy of Export'!$A$2:$AF2393,5,false)","v":"#N/A"},{"$f":"VLOOKUP(A384,'Copy of Export'!$A$2:$AF2393,8,false)","v":"#N/A"}]
[null,{"$f":"VLOOKUP(A385,'Copy of Export'!$A$2:$AF2393,5,false)","v":"#N/A"},{"$f":"VLOOKUP(A385,'Copy of Export'!$A$2:$AF2393,13,false)","v":"#N/A"},{"$f":"VLOOKUP(A385,'Copy of Export'!$A$2:$AF2393,2,false)","v":"#N/A"},{"$f":"VLOOKUP(A385,'Copy of Export'!$A$2:$AF2393,5,false)","v":"#N/A"},{"$f":"VLOOKUP(A385,'Copy of Export'!$A$2:$AF2393,8,false)","v":"#N/A"}]
[null,{"$f":"VLOOKUP(A386,'Copy of Export'!$A$2:$AF2393,5,false)","v":"#N/A"},{"$f":"VLOOKUP(A386,'Copy of Export'!$A$2:$AF2393,13,false)","v":"#N/A"},{"$f":"VLOOKUP(A386,'Copy of Export'!$A$2:$AF2393,2,false)","v":"#N/A"},{"$f":"VLOOKUP(A386,'Copy of Export'!$A$2:$AF2393,5,false)","v":"#N/A"},{"$f":"VLOOKUP(A386,'Copy of Export'!$A$2:$AF2393,8,false)","v":"#N/A"}]
[null,{"$f":"VLOOKUP(A387,'Copy of Export'!$A$2:$AF2393,5,false)","v":"#N/A"},{"$f":"VLOOKUP(A387,'Copy of Export'!$A$2:$AF2393,13,false)","v":"#N/A"},{"$f":"VLOOKUP(A387,'Copy of Export'!$A$2:$AF2393,2,false)","v":"#N/A"},{"$f":"VLOOKUP(A387,'Copy of Export'!$A$2:$AF2393,5,false)","v":"#N/A"},{"$f":"VLOOKUP(A387,'Copy of Export'!$A$2:$AF2393,8,false)","v":"#N/A"}]
[null,{"$f":"VLOOKUP(A388,'Copy of Export'!$A$2:$AF2393,5,false)","v":"#N/A"},{"$f":"VLOOKUP(A388,'Copy of Export'!$A$2:$AF2393,13,false)","v":"#N/A"},{"$f":"VLOOKUP(A388,'Copy of Export'!$A$2:$AF2393,2,false)","v":"#N/A"},{"$f":"VLOOKUP(A388,'Copy of Export'!$A$2:$AF2393,5,false)","v":"#N/A"},{"$f":"VLOOKUP(A388,'Copy of Export'!$A$2:$AF2393,8,false)","v":"#N/A"}]
[null,{"$f":"VLOOKUP(A389,'Copy of Export'!$A$2:$AF2393,5,false)","v":"#N/A"},{"$f":"VLOOKUP(A389,'Copy of Export'!$A$2:$AF2393,13,false)","v":"#N/A"},{"$f":"VLOOKUP(A389,'Copy of Export'!$A$2:$AF2393,2,false)","v":"#N/A"},{"$f":"VLOOKUP(A389,'Copy of Export'!$A$2:$AF2393,5,false)","v":"#N/A"},{"$f":"VLOOKUP(A389,'Copy of Export'!$A$2:$AF2393,8,false)","v":"#N/A"}]
[null,{"$f":"VLOOKUP(A390,'Copy of Export'!$A$2:$AF2393,5,false)","v":"#N/A"},{"$f":"VLOOKUP(A390,'Copy of Export'!$A$2:$AF2393,13,false)","v":"#N/A"},{"$f":"VLOOKUP(A390,'Copy of Export'!$A$2:$AF2393,2,false)","v":"#N/A"},{"$f":"VLOOKUP(A390,'Copy of Export'!$A$2:$AF2393,5,false)","v":"#N/A"},{"$f":"VLOOKUP(A390,'Copy of Export'!$A$2:$AF2393,8,false)","v":"#N/A"}]
[null,{"$f":"VLOOKUP(A391,'Copy of Export'!$A$2:$AF2393,5,false)","v":"#N/A"},{"$f":"VLOOKUP(A391,'Copy of Export'!$A$2:$AF2393,13,false)","v":"#N/A"},{"$f":"VLOOKUP(A391,'Copy of Export'!$A$2:$AF2393,2,false)","v":"#N/A"},{"$f":"VLOOKUP(A391,'Copy of Export'!$A$2:$AF2393,5,false)","v":"#N/A"},{"$f":"VLOOKUP(A391,'Copy of Export'!$A$2:$AF2393,8,false)","v":"#N/A"}]
[null,{"$f":"VLOOKUP(A392,'Copy of Export'!$A$2:$AF2393,5,false)","v":"#N/A"},{"$f":"VLOOKUP(A392,'Copy of Export'!$A$2:$AF2393,13,false)","v":"#N/A"},{"$f":"VLOOKUP(A392,'Copy of Export'!$A$2:$AF2393,2,false)","v":"#N/A"},{"$f":"VLOOKUP(A392,'Copy of Export'!$A$2:$AF2393,5,false)","v":"#N/A"},{"$f":"VLOOKUP(A392,'Copy of Export'!$A$2:$AF2393,8,false)","v":"#N/A"}]
[null,{"$f":"VLOOKUP(A393,'Copy of Export'!$A$2:$AF2393,5,false)","v":"#N/A"},{"$f":"VLOOKUP(A393,'Copy of Export'!$A$2:$AF2393,13,false)","v":"#N/A"},{"$f":"VLOOKUP(A393,'Copy of Export'!$A$2:$AF2393,2,false)","v":"#N/A"},{"$f":"VLOOKUP(A393,'Copy of Export'!$A$2:$AF2393,5,false)","v":"#N/A"},{"$f":"VLOOKUP(A393,'Copy of Export'!$A$2:$AF2393,8,false)","v":"#N/A"}]
[null,{"$f":"VLOOKUP(A394,'Copy of Export'!$A$2:$AF2393,5,false)","v":"#N/A"},{"$f":"VLOOKUP(A394,'Copy of Export'!$A$2:$AF2393,13,false)","v":"#N/A"},{"$f":"VLOOKUP(A394,'Copy of Export'!$A$2:$AF2393,2,false)","v":"#N/A"},{"$f":"VLOOKUP(A394,'Copy of Export'!$A$2:$AF2393,5,false)","v":"#N/A"},{"$f":"VLOOKUP(A394,'Copy of Export'!$A$2:$AF2393,8,false)","v":"#N/A"}]
[null,{"$f":"VLOOKUP(A395,'Copy of Export'!$A$2:$AF2393,5,false)","v":"#N/A"},{"$f":"VLOOKUP(A395,'Copy of Export'!$A$2:$AF2393,13,false)","v":"#N/A"},{"$f":"VLOOKUP(A395,'Copy of Export'!$A$2:$AF2393,2,false)","v":"#N/A"},{"$f":"VLOOKUP(A395,'Copy of Export'!$A$2:$AF2393,5,false)","v":"#N/A"},{"$f":"VLOOKUP(A395,'Copy of Export'!$A$2:$AF2393,8,false)","v":"#N/A"}]
[null,{"$f":"VLOOKUP(A396,'Copy of Export'!$A$2:$AF2393,5,false)","v":"#N/A"},{"$f":"VLOOKUP(A396,'Copy of Export'!$A$2:$AF2393,13,false)","v":"#N/A"},{"$f":"VLOOKUP(A396,'Copy of Export'!$A$2:$AF2393,2,false)","v":"#N/A"},{"$f":"VLOOKUP(A396,'Copy of Export'!$A$2:$AF2393,5,false)","v":"#N/A"},{"$f":"VLOOKUP(A396,'Copy of Export'!$A$2:$AF2393,8,false)","v":"#N/A"}]
[null,{"$f":"VLOOKUP(A397,'Copy of Export'!$A$2:$AF2393,5,false)","v":"#N/A"},{"$f":"VLOOKUP(A397,'Copy of Export'!$A$2:$AF2393,13,false)","v":"#N/A"},{"$f":"VLOOKUP(A397,'Copy of Export'!$A$2:$AF2393,2,false)","v":"#N/A"},{"$f":"VLOOKUP(A397,'Copy of Export'!$A$2:$AF2393,5,false)","v":"#N/A"},{"$f":"VLOOKUP(A397,'Copy of Export'!$A$2:$AF2393,8,false)","v":"#N/A"}]
[null,{"$f":"VLOOKUP(A398,'Copy of Export'!$A$2:$AF2393,5,false)","v":"#N/A"},{"$f":"VLOOKUP(A398,'Copy of Export'!$A$2:$AF2393,13,false)","v":"#N/A"},{"$f":"VLOOKUP(A398,'Copy of Export'!$A$2:$AF2393,2,false)","v":"#N/A"},{"$f":"VLOOKUP(A398,'Copy of Export'!$A$2:$AF2393,5,false)","v":"#N/A"},{"$f":"VLOOKUP(A398,'Copy of Export'!$A$2:$AF2393,8,false)","v":"#N/A"}]
[null,{"$f":"VLOOKUP(A399,'Copy of Export'!$A$2:$AF2393,5,false)","v":"#N/A"},{"$f":"VLOOKUP(A399,'Copy of Export'!$A$2:$AF2393,13,false)","v":"#N/A"},{"$f":"VLOOKUP(A399,'Copy of Export'!$A$2:$AF2393,2,false)","v":"#N/A"},{"$f":"VLOOKUP(A399,'Copy of Export'!$A$2:$AF2393,5,false)","v":"#N/A"},{"$f":"VLOOKUP(A399,'Copy of Export'!$A$2:$AF2393,8,false)","v":"#N/A"}]
[null,{"$f":"VLOOKUP(A400,'Copy of Export'!$A$2:$AF2393,5,false)","v":"#N/A"},{"$f":"VLOOKUP(A400,'Copy of Export'!$A$2:$AF2393,13,false)","v":"#N/A"},{"$f":"VLOOKUP(A400,'Copy of Export'!$A$2:$AF2393,2,false)","v":"#N/A"},{"$f":"VLOOKUP(A400,'Copy of Export'!$A$2:$AF2393,5,false)","v":"#N/A"},{"$f":"VLOOKUP(A400,'Copy of Export'!$A$2:$AF2393,8,false)","v":"#N/A"}]
[null,{"$f":"VLOOKUP(A401,'Copy of Export'!$A$2:$AF2393,5,false)","v":"#N/A"},{"$f":"VLOOKUP(A401,'Copy of Export'!$A$2:$AF2393,13,false)","v":"#N/A"},{"$f":"VLOOKUP(A401,'Copy of Export'!$A$2:$AF2393,2,false)","v":"#N/A"},{"$f":"VLOOKUP(A401,'Copy of Export'!$A$2:$AF2393,5,false)","v":"#N/A"},{"$f":"VLOOKUP(A401,'Copy of Export'!$A$2:$AF2393,8,false)","v":"#N/A"}]
[null,{"$f":"VLOOKUP(A402,'Copy of Export'!$A$2:$AF2393,5,false)","v":"#N/A"},{"$f":"VLOOKUP(A402,'Copy of Export'!$A$2:$AF2393,13,false)","v":"#N/A"},{"$f":"VLOOKUP(A402,'Copy of Export'!$A$2:$AF2393,2,false)","v":"#N/A"},{"$f":"VLOOKUP(A402,'Copy of Export'!$A$2:$AF2393,5,false)","v":"#N/A"},{"$f":"VLOOKUP(A402,'Copy of Export'!$A$2:$AF2393,8,false)","v":"#N/A"}]
[null,{"$f":"VLOOKUP(A403,'Copy of Export'!$A$2:$AF2393,5,false)","v":"#N/A"},{"$f":"VLOOKUP(A403,'Copy of Export'!$A$2:$AF2393,13,false)","v":"#N/A"},{"$f":"VLOOKUP(A403,'Copy of Export'!$A$2:$AF2393,2,false)","v":"#N/A"},{"$f":"VLOOKUP(A403,'Copy of Export'!$A$2:$AF2393,5,false)","v":"#N/A"},{"$f":"VLOOKUP(A403,'Copy of Export'!$A$2:$AF2393,8,false)","v":"#N/A"}]
[null,{"$f":"VLOOKUP(A404,'Copy of Export'!$A$2:$AF2393,5,false)","v":"#N/A"},{"$f":"VLOOKUP(A404,'Copy of Export'!$A$2:$AF2393,13,false)","v":"#N/A"},{"$f":"VLOOKUP(A404,'Copy of Export'!$A$2:$AF2393,2,false)","v":"#N/A"},{"$f":"VLOOKUP(A404,'Copy of Export'!$A$2:$AF2393,5,false)","v":"#N/A"},{"$f":"VLOOKUP(A404,'Copy of Export'!$A$2:$AF2393,8,false)","v":"#N/A"}]
[null,{"$f":"VLOOKUP(A405,'Copy of Export'!$A$2:$AF2393,5,false)","v":"#N/A"},{"$f":"VLOOKUP(A405,'Copy of Export'!$A$2:$AF2393,13,false)","v":"#N/A"},{"$f":"VLOOKUP(A405,'Copy of Export'!$A$2:$AF2393,2,false)","v":"#N/A"},{"$f":"VLOOKUP(A405,'Copy of Export'!$A$2:$AF2393,5,false)","v":"#N/A"},{"$f":"VLOOKUP(A405,'Copy of Export'!$A$2:$AF2393,8,false)","v":"#N/A"}]
[null,{"$f":"VLOOKUP(A406,'Copy of Export'!$A$2:$AF2393,5,false)","v":"#N/A"},{"$f":"VLOOKUP(A406,'Copy of Export'!$A$2:$AF2393,13,false)","v":"#N/A"},{"$f":"VLOOKUP(A406,'Copy of Export'!$A$2:$AF2393,2,false)","v":"#N/A"},{"$f":"VLOOKUP(A406,'Copy of Export'!$A$2:$AF2393,5,false)","v":"#N/A"},{"$f":"VLOOKUP(A406,'Copy of Export'!$A$2:$AF2393,8,false)","v":"#N/A"}]
[null,{"$f":"VLOOKUP(A407,'Copy of Export'!$A$2:$AF2393,5,false)","v":"#N/A"},{"$f":"VLOOKUP(A407,'Copy of Export'!$A$2:$AF2393,13,false)","v":"#N/A"},{"$f":"VLOOKUP(A407,'Copy of Export'!$A$2:$AF2393,2,false)","v":"#N/A"},{"$f":"VLOOKUP(A407,'Copy of Export'!$A$2:$AF2393,5,false)","v":"#N/A"},{"$f":"VLOOKUP(A407,'Copy of Export'!$A$2:$AF2393,8,false)","v":"#N/A"}]
[null,{"$f":"VLOOKUP(A408,'Copy of Export'!$A$2:$AF2393,5,false)","v":"#N/A"},{"$f":"VLOOKUP(A408,'Copy of Export'!$A$2:$AF2393,13,false)","v":"#N/A"},{"$f":"VLOOKUP(A408,'Copy of Export'!$A$2:$AF2393,2,false)","v":"#N/A"},{"$f":"VLOOKUP(A408,'Copy of Export'!$A$2:$AF2393,5,false)","v":"#N/A"},{"$f":"VLOOKUP(A408,'Copy of Export'!$A$2:$AF2393,8,false)","v":"#N/A"}]
[null,{"$f":"VLOOKUP(A409,'Copy of Export'!$A$2:$AF2393,5,false)","v":"#N/A"},{"$f":"VLOOKUP(A409,'Copy of Export'!$A$2:$AF2393,13,false)","v":"#N/A"},{"$f":"VLOOKUP(A409,'Copy of Export'!$A$2:$AF2393,2,false)","v":"#N/A"},{"$f":"VLOOKUP(A409,'Copy of Export'!$A$2:$AF2393,5,false)","v":"#N/A"},{"$f":"VLOOKUP(A409,'Copy of Export'!$A$2:$AF2393,8,false)","v":"#N/A"}]
[null,{"$f":"VLOOKUP(A410,'Copy of Export'!$A$2:$AF2393,5,false)","v":"#N/A"},{"$f":"VLOOKUP(A410,'Copy of Export'!$A$2:$AF2393,13,false)","v":"#N/A"},{"$f":"VLOOKUP(A410,'Copy of Export'!$A$2:$AF2393,2,false)","v":"#N/A"},{"$f":"VLOOKUP(A410,'Copy of Export'!$A$2:$AF2393,5,false)","v":"#N/A"},{"$f":"VLOOKUP(A410,'Copy of Export'!$A$2:$AF2393,8,false)","v":"#N/A"}]
[null,{"$f":"VLOOKUP(A411,'Copy of Export'!$A$2:$AF2393,5,false)","v":"#N/A"},{"$f":"VLOOKUP(A411,'Copy of Export'!$A$2:$AF2393,13,false)","v":"#N/A"},{"$f":"VLOOKUP(A411,'Copy of Export'!$A$2:$AF2393,2,false)","v":"#N/A"},{"$f":"VLOOKUP(A411,'Copy of Export'!$A$2:$AF2393,5,false)","v":"#N/A"},{"$f":"VLOOKUP(A411,'Copy of Export'!$A$2:$AF2393,8,false)","v":"#N/A"}]
[null,{"$f":"VLOOKUP(A412,'Copy of Export'!$A$2:$AF2393,5,false)","v":"#N/A"},{"$f":"VLOOKUP(A412,'Copy of Export'!$A$2:$AF2393,13,false)","v":"#N/A"},{"$f":"VLOOKUP(A412,'Copy of Export'!$A$2:$AF2393,2,false)","v":"#N/A"},{"$f":"VLOOKUP(A412,'Copy of Export'!$A$2:$AF2393,5,false)","v":"#N/A"},{"$f":"VLOOKUP(A412,'Copy of Export'!$A$2:$AF2393,8,false)","v":"#N/A"}]
[null,{"$f":"VLOOKUP(A413,'Copy of Export'!$A$2:$AF2393,5,false)","v":"#N/A"},{"$f":"VLOOKUP(A413,'Copy of Export'!$A$2:$AF2393,13,false)","v":"#N/A"},{"$f":"VLOOKUP(A413,'Copy of Export'!$A$2:$AF2393,2,false)","v":"#N/A"},{"$f":"VLOOKUP(A413,'Copy of Export'!$A$2:$AF2393,5,false)","v":"#N/A"},{"$f":"VLOOKUP(A413,'Copy of Export'!$A$2:$AF2393,8,false)","v":"#N/A"}]
[null,{"$f":"VLOOKUP(A414,'Copy of Export'!$A$2:$AF2393,5,false)","v":"#N/A"},{"$f":"VLOOKUP(A414,'Copy of Export'!$A$2:$AF2393,13,false)","v":"#N/A"},{"$f":"VLOOKUP(A414,'Copy of Export'!$A$2:$AF2393,2,false)","v":"#N/A"},{"$f":"VLOOKUP(A414,'Copy of Export'!$A$2:$AF2393,5,false)","v":"#N/A"},{"$f":"VLOOKUP(A414,'Copy of Export'!$A$2:$AF2393,8,false)","v":"#N/A"}]
[null,{"$f":"VLOOKUP(A415,'Copy of Export'!$A$2:$AF2393,5,false)","v":"#N/A"},{"$f":"VLOOKUP(A415,'Copy of Export'!$A$2:$AF2393,13,false)","v":"#N/A"},{"$f":"VLOOKUP(A415,'Copy of Export'!$A$2:$AF2393,2,false)","v":"#N/A"},{"$f":"VLOOKUP(A415,'Copy of Export'!$A$2:$AF2393,5,false)","v":"#N/A"},{"$f":"VLOOKUP(A415,'Copy of Export'!$A$2:$AF2393,8,false)","v":"#N/A"}]
[null,{"$f":"VLOOKUP(A416,'Copy of Export'!$A$2:$AF2393,5,false)","v":"#N/A"},{"$f":"VLOOKUP(A416,'Copy of Export'!$A$2:$AF2393,13,false)","v":"#N/A"},{"$f":"VLOOKUP(A416,'Copy of Export'!$A$2:$AF2393,2,false)","v":"#N/A"},{"$f":"VLOOKUP(A416,'Copy of Export'!$A$2:$AF2393,5,false)","v":"#N/A"},{"$f":"VLOOKUP(A416,'Copy of Export'!$A$2:$AF2393,8,false)","v":"#N/A"}]
[null,{"$f":"VLOOKUP(A417,'Copy of Export'!$A$2:$AF2393,5,false)","v":"#N/A"},{"$f":"VLOOKUP(A417,'Copy of Export'!$A$2:$AF2393,13,false)","v":"#N/A"},{"$f":"VLOOKUP(A417,'Copy of Export'!$A$2:$AF2393,2,false)","v":"#N/A"},{"$f":"VLOOKUP(A417,'Copy of Export'!$A$2:$AF2393,5,false)","v":"#N/A"},{"$f":"VLOOKUP(A417,'Copy of Export'!$A$2:$AF2393,8,false)","v":"#N/A"}]
[null,{"$f":"VLOOKUP(A418,'Copy of Export'!$A$2:$AF2393,5,false)","v":"#N/A"},{"$f":"VLOOKUP(A418,'Copy of Export'!$A$2:$AF2393,13,false)","v":"#N/A"},{"$f":"VLOOKUP(A418,'Copy of Export'!$A$2:$AF2393,2,false)","v":"#N/A"},{"$f":"VLOOKUP(A418,'Copy of Export'!$A$2:$AF2393,5,false)","v":"#N/A"},{"$f":"VLOOKUP(A418,'Copy of Export'!$A$2:$AF2393,8,false)","v":"#N/A"}]
[null,{"$f":"VLOOKUP(A419,'Copy of Export'!$A$2:$AF2393,5,false)","v":"#N/A"},{"$f":"VLOOKUP(A419,'Copy of Export'!$A$2:$AF2393,13,false)","v":"#N/A"},{"$f":"VLOOKUP(A419,'Copy of Export'!$A$2:$AF2393,2,false)","v":"#N/A"},{"$f":"VLOOKUP(A419,'Copy of Export'!$A$2:$AF2393,5,false)","v":"#N/A"},{"$f":"VLOOKUP(A419,'Copy of Export'!$A$2:$AF2393,8,false)","v":"#N/A"}]
[null,{"$f":"VLOOKUP(A420,'Copy of Export'!$A$2:$AF2393,5,false)","v":"#N/A"},{"$f":"VLOOKUP(A420,'Copy of Export'!$A$2:$AF2393,13,false)","v":"#N/A"},{"$f":"VLOOKUP(A420,'Copy of Export'!$A$2:$AF2393,2,false)","v":"#N/A"},{"$f":"VLOOKUP(A420,'Copy of Export'!$A$2:$AF2393,5,false)","v":"#N/A"},{"$f":"VLOOKUP(A420,'Copy of Export'!$A$2:$AF2393,8,false)","v":"#N/A"}]
[null,{"$f":"VLOOKUP(A421,'Copy of Export'!$A$2:$AF2393,5,false)","v":"#N/A"},{"$f":"VLOOKUP(A421,'Copy of Export'!$A$2:$AF2393,13,false)","v":"#N/A"},{"$f":"VLOOKUP(A421,'Copy of Export'!$A$2:$AF2393,2,false)","v":"#N/A"},{"$f":"VLOOKUP(A421,'Copy of Export'!$A$2:$AF2393,5,false)","v":"#N/A"},{"$f":"VLOOKUP(A421,'Copy of Export'!$A$2:$AF2393,8,false)","v":"#N/A"}]
[null,{"$f":"VLOOKUP(A422,'Copy of Export'!$A$2:$AF2393,5,false)","v":"#N/A"},{"$f":"VLOOKUP(A422,'Copy of Export'!$A$2:$AF2393,13,false)","v":"#N/A"},{"$f":"VLOOKUP(A422,'Copy of Export'!$A$2:$AF2393,2,false)","v":"#N/A"},{"$f":"VLOOKUP(A422,'Copy of Export'!$A$2:$AF2393,5,false)","v":"#N/A"},{"$f":"VLOOKUP(A422,'Copy of Export'!$A$2:$AF2393,8,false)","v":"#N/A"}]
[null,{"$f":"VLOOKUP(A423,'Copy of Export'!$A$2:$AF2393,5,false)","v":"#N/A"},{"$f":"VLOOKUP(A423,'Copy of Export'!$A$2:$AF2393,13,false)","v":"#N/A"},{"$f":"VLOOKUP(A423,'Copy of Export'!$A$2:$AF2393,2,false)","v":"#N/A"},{"$f":"VLOOKUP(A423,'Copy of Export'!$A$2:$AF2393,5,false)","v":"#N/A"},{"$f":"VLOOKUP(A423,'Copy of Export'!$A$2:$AF2393,8,false)","v":"#N/A"}]
[null,{"$f":"VLOOKUP(A424,'Copy of Export'!$A$2:$AF2393,5,false)","v":"#N/A"},{"$f":"VLOOKUP(A424,'Copy of Export'!$A$2:$AF2393,13,false)","v":"#N/A"},{"$f":"VLOOKUP(A424,'Copy of Export'!$A$2:$AF2393,2,false)","v":"#N/A"},{"$f":"VLOOKUP(A424,'Copy of Export'!$A$2:$AF2393,5,false)","v":"#N/A"},{"$f":"VLOOKUP(A424,'Copy of Export'!$A$2:$AF2393,8,false)","v":"#N/A"}]
[null,{"$f":"VLOOKUP(A425,'Copy of Export'!$A$2:$AF2393,5,false)","v":"#N/A"},{"$f":"VLOOKUP(A425,'Copy of Export'!$A$2:$AF2393,13,false)","v":"#N/A"},{"$f":"VLOOKUP(A425,'Copy of Export'!$A$2:$AF2393,2,false)","v":"#N/A"},{"$f":"VLOOKUP(A425,'Copy of Export'!$A$2:$AF2393,5,false)","v":"#N/A"},{"$f":"VLOOKUP(A425,'Copy of Export'!$A$2:$AF2393,8,false)","v":"#N/A"}]
[null,{"$f":"VLOOKUP(A426,'Copy of Export'!$A$2:$AF2393,5,false)","v":"#N/A"},{"$f":"VLOOKUP(A426,'Copy of Export'!$A$2:$AF2393,13,false)","v":"#N/A"},{"$f":"VLOOKUP(A426,'Copy of Export'!$A$2:$AF2393,2,false)","v":"#N/A"},{"$f":"VLOOKUP(A426,'Copy of Export'!$A$2:$AF2393,5,false)","v":"#N/A"},{"$f":"VLOOKUP(A426,'Copy of Export'!$A$2:$AF2393,8,false)","v":"#N/A"}]
[null,{"$f":"VLOOKUP(A427,'Copy of Export'!$A$2:$AF2393,5,false)","v":"#N/A"},{"$f":"VLOOKUP(A427,'Copy of Export'!$A$2:$AF2393,13,false)","v":"#N/A"},{"$f":"VLOOKUP(A427,'Copy of Export'!$A$2:$AF2393,2,false)","v":"#N/A"},{"$f":"VLOOKUP(A427,'Copy of Export'!$A$2:$AF2393,5,false)","v":"#N/A"},{"$f":"VLOOKUP(A427,'Copy of Export'!$A$2:$AF2393,8,false)","v":"#N/A"}]
[null,{"$f":"VLOOKUP(A428,'Copy of Export'!$A$2:$AF2393,5,false)","v":"#N/A"},{"$f":"VLOOKUP(A428,'Copy of Export'!$A$2:$AF2393,13,false)","v":"#N/A"},{"$f":"VLOOKUP(A428,'Copy of Export'!$A$2:$AF2393,2,false)","v":"#N/A"},{"$f":"VLOOKUP(A428,'Copy of Export'!$A$2:$AF2393,5,false)","v":"#N/A"},{"$f":"VLOOKUP(A428,'Copy of Export'!$A$2:$AF2393,8,false)","v":"#N/A"}]
[null,{"$f":"VLOOKUP(A429,'Copy of Export'!$A$2:$AF2393,5,false)","v":"#N/A"},{"$f":"VLOOKUP(A429,'Copy of Export'!$A$2:$AF2393,13,false)","v":"#N/A"},{"$f":"VLOOKUP(A429,'Copy of Export'!$A$2:$AF2393,2,false)","v":"#N/A"},{"$f":"VLOOKUP(A429,'Copy of Export'!$A$2:$AF2393,5,false)","v":"#N/A"},{"$f":"VLOOKUP(A429,'Copy of Export'!$A$2:$AF2393,8,false)","v":"#N/A"}]
[null,{"$f":"VLOOKUP(A430,'Copy of Export'!$A$2:$AF2393,5,false)","v":"#N/A"},{"$f":"VLOOKUP(A430,'Copy of Export'!$A$2:$AF2393,13,false)","v":"#N/A"},{"$f":"VLOOKUP(A430,'Copy of Export'!$A$2:$AF2393,2,false)","v":"#N/A"},{"$f":"VLOOKUP(A430,'Copy of Export'!$A$2:$AF2393,5,false)","v":"#N/A"},{"$f":"VLOOKUP(A430,'Copy of Export'!$A$2:$AF2393,8,false)","v":"#N/A"}]
[null,{"$f":"VLOOKUP(A431,'Copy of Export'!$A$2:$AF2393,5,false)","v":"#N/A"},{"$f":"VLOOKUP(A431,'Copy of Export'!$A$2:$AF2393,13,false)","v":"#N/A"},{"$f":"VLOOKUP(A431,'Copy of Export'!$A$2:$AF2393,2,false)","v":"#N/A"},{"$f":"VLOOKUP(A431,'Copy of Export'!$A$2:$AF2393,5,false)","v":"#N/A"},{"$f":"VLOOKUP(A431,'Copy of Export'!$A$2:$AF2393,8,false)","v":"#N/A"}]
[null,{"$f":"VLOOKUP(A432,'Copy of Export'!$A$2:$AF2393,5,false)","v":"#N/A"},{"$f":"VLOOKUP(A432,'Copy of Export'!$A$2:$AF2393,13,false)","v":"#N/A"},{"$f":"VLOOKUP(A432,'Copy of Export'!$A$2:$AF2393,2,false)","v":"#N/A"},{"$f":"VLOOKUP(A432,'Copy of Export'!$A$2:$AF2393,5,false)","v":"#N/A"},{"$f":"VLOOKUP(A432,'Copy of Export'!$A$2:$AF2393,8,false)","v":"#N/A"}]
[null,{"$f":"VLOOKUP(A433,'Copy of Export'!$A$2:$AF2393,5,false)","v":"#N/A"},{"$f":"VLOOKUP(A433,'Copy of Export'!$A$2:$AF2393,13,false)","v":"#N/A"},{"$f":"VLOOKUP(A433,'Copy of Export'!$A$2:$AF2393,2,false)","v":"#N/A"},{"$f":"VLOOKUP(A433,'Copy of Export'!$A$2:$AF2393,5,false)","v":"#N/A"},{"$f":"VLOOKUP(A433,'Copy of Export'!$A$2:$AF2393,8,false)","v":"#N/A"}]
[null,{"$f":"VLOOKUP(A434,'Copy of Export'!$A$2:$AF2393,5,false)","v":"#N/A"},{"$f":"VLOOKUP(A434,'Copy of Export'!$A$2:$AF2393,13,false)","v":"#N/A"},{"$f":"VLOOKUP(A434,'Copy of Export'!$A$2:$AF2393,2,false)","v":"#N/A"},{"$f":"VLOOKUP(A434,'Copy of Export'!$A$2:$AF2393,5,false)","v":"#N/A"},{"$f":"VLOOKUP(A434,'Copy of Export'!$A$2:$AF2393,8,false)","v":"#N/A"}]
[null,{"$f":"VLOOKUP(A435,'Copy of Export'!$A$2:$AF2393,5,false)","v":"#N/A"},{"$f":"VLOOKUP(A435,'Copy of Export'!$A$2:$AF2393,13,false)","v":"#N/A"},{"$f":"VLOOKUP(A435,'Copy of Export'!$A$2:$AF2393,2,false)","v":"#N/A"},{"$f":"VLOOKUP(A435,'Copy of Export'!$A$2:$AF2393,5,false)","v":"#N/A"},{"$f":"VLOOKUP(A435,'Copy of Export'!$A$2:$AF2393,8,false)","v":"#N/A"}]
[null,{"$f":"VLOOKUP(A436,'Copy of Export'!$A$2:$AF2393,5,false)","v":"#N/A"},{"$f":"VLOOKUP(A436,'Copy of Export'!$A$2:$AF2393,13,false)","v":"#N/A"},{"$f":"VLOOKUP(A436,'Copy of Export'!$A$2:$AF2393,2,false)","v":"#N/A"},{"$f":"VLOOKUP(A436,'Copy of Export'!$A$2:$AF2393,5,false)","v":"#N/A"},{"$f":"VLOOKUP(A436,'Copy of Export'!$A$2:$AF2393,8,false)","v":"#N/A"}]
[null,{"$f":"VLOOKUP(A437,'Copy of Export'!$A$2:$AF2393,5,false)","v":"#N/A"},{"$f":"VLOOKUP(A437,'Copy of Export'!$A$2:$AF2393,13,false)","v":"#N/A"},{"$f":"VLOOKUP(A437,'Copy of Export'!$A$2:$AF2393,2,false)","v":"#N/A"},{"$f":"VLOOKUP(A437,'Copy of Export'!$A$2:$AF2393,5,false)","v":"#N/A"},{"$f":"VLOOKUP(A437,'Copy of Export'!$A$2:$AF2393,8,false)","v":"#N/A"}]
[null,{"$f":"VLOOKUP(A438,'Copy of Export'!$A$2:$AF2393,5,false)","v":"#N/A"},{"$f":"VLOOKUP(A438,'Copy of Export'!$A$2:$AF2393,13,false)","v":"#N/A"},{"$f":"VLOOKUP(A438,'Copy of Export'!$A$2:$AF2393,2,false)","v":"#N/A"},{"$f":"VLOOKUP(A438,'Copy of Export'!$A$2:$AF2393,5,false)","v":"#N/A"},{"$f":"VLOOKUP(A438,'Copy of Export'!$A$2:$AF2393,8,false)","v":"#N/A"}]
[null,{"$f":"VLOOKUP(A439,'Copy of Export'!$A$2:$AF2393,5,false)","v":"#N/A"},{"$f":"VLOOKUP(A439,'Copy of Export'!$A$2:$AF2393,13,false)","v":"#N/A"},{"$f":"VLOOKUP(A439,'Copy of Export'!$A$2:$AF2393,2,false)","v":"#N/A"},{"$f":"VLOOKUP(A439,'Copy of Export'!$A$2:$AF2393,5,false)","v":"#N/A"},{"$f":"VLOOKUP(A439,'Copy of Export'!$A$2:$AF2393,8,false)","v":"#N/A"}]
[null,{"$f":"VLOOKUP(A440,'Copy of Export'!$A$2:$AF2393,5,false)","v":"#N/A"},{"$f":"VLOOKUP(A440,'Copy of Export'!$A$2:$AF2393,13,false)","v":"#N/A"},{"$f":"VLOOKUP(A440,'Copy of Export'!$A$2:$AF2393,2,false)","v":"#N/A"},{"$f":"VLOOKUP(A440,'Copy of Export'!$A$2:$AF2393,5,false)","v":"#N/A"},{"$f":"VLOOKUP(A440,'Copy of Export'!$A$2:$AF2393,8,false)","v":"#N/A"}]
[null,{"$f":"VLOOKUP(A441,'Copy of Export'!$A$2:$AF2393,5,false)","v":"#N/A"},{"$f":"VLOOKUP(A441,'Copy of Export'!$A$2:$AF2393,13,false)","v":"#N/A"},{"$f":"VLOOKUP(A441,'Copy of Export'!$A$2:$AF2393,2,false)","v":"#N/A"},{"$f":"VLOOKUP(A441,'Copy of Export'!$A$2:$AF2393,5,false)","v":"#N/A"},{"$f":"VLOOKUP(A441,'Copy of Export'!$A$2:$AF2393,8,false)","v":"#N/A"}]
[null,{"$f":"VLOOKUP(A442,'Copy of Export'!$A$2:$AF2393,5,false)","v":"#N/A"},{"$f":"VLOOKUP(A442,'Copy of Export'!$A$2:$AF2393,13,false)","v":"#N/A"},{"$f":"VLOOKUP(A442,'Copy of Export'!$A$2:$AF2393,2,false)","v":"#N/A"},{"$f":"VLOOKUP(A442,'Copy of Export'!$A$2:$AF2393,5,false)","v":"#N/A"},{"$f":"VLOOKUP(A442,'Copy of Export'!$A$2:$AF2393,8,false)","v":"#N/A"}]
[null,{"$f":"VLOOKUP(A443,'Copy of Export'!$A$2:$AF2393,5,false)","v":"#N/A"},{"$f":"VLOOKUP(A443,'Copy of Export'!$A$2:$AF2393,13,false)","v":"#N/A"},{"$f":"VLOOKUP(A443,'Copy of Export'!$A$2:$AF2393,2,false)","v":"#N/A"},{"$f":"VLOOKUP(A443,'Copy of Export'!$A$2:$AF2393,5,false)","v":"#N/A"},{"$f":"VLOOKUP(A443,'Copy of Export'!$A$2:$AF2393,8,false)","v":"#N/A"}]
[null,{"$f":"VLOOKUP(A444,'Copy of Export'!$A$2:$AF2393,5,false)","v":"#N/A"},{"$f":"VLOOKUP(A444,'Copy of Export'!$A$2:$AF2393,13,false)","v":"#N/A"},{"$f":"VLOOKUP(A444,'Copy of Export'!$A$2:$AF2393,2,false)","v":"#N/A"},{"$f":"VLOOKUP(A444,'Copy of Export'!$A$2:$AF2393,5,false)","v":"#N/A"},{"$f":"VLOOKUP(A444,'Copy of Export'!$A$2:$AF2393,8,false)","v":"#N/A"}]
[null,{"$f":"VLOOKUP(A445,'Copy of Export'!$A$2:$AF2393,5,false)","v":"#N/A"},{"$f":"VLOOKUP(A445,'Copy of Export'!$A$2:$AF2393,13,false)","v":"#N/A"},{"$f":"VLOOKUP(A445,'Copy of Export'!$A$2:$AF2393,2,false)","v":"#N/A"},{"$f":"VLOOKUP(A445,'Copy of Export'!$A$2:$AF2393,5,false)","v":"#N/A"},{"$f":"VLOOKUP(A445,'Copy of Export'!$A$2:$AF2393,8,false)","v":"#N/A"}]
[null,{"$f":"VLOOKUP(A446,'Copy of Export'!$A$2:$AF2393,5,false)","v":"#N/A"},{"$f":"VLOOKUP(A446,'Copy of Export'!$A$2:$AF2393,13,false)","v":"#N/A"},{"$f":"VLOOKUP(A446,'Copy of Export'!$A$2:$AF2393,2,false)","v":"#N/A"},{"$f":"VLOOKUP(A446,'Copy of Export'!$A$2:$AF2393,5,false)","v":"#N/A"},{"$f":"VLOOKUP(A446,'Copy of Export'!$A$2:$AF2393,8,false)","v":"#N/A"}]
[null,{"$f":"VLOOKUP(A447,'Copy of Export'!$A$2:$AF2393,5,false)","v":"#N/A"},{"$f":"VLOOKUP(A447,'Copy of Export'!$A$2:$AF2393,13,false)","v":"#N/A"},{"$f":"VLOOKUP(A447,'Copy of Export'!$A$2:$AF2393,2,false)","v":"#N/A"},{"$f":"VLOOKUP(A447,'Copy of Export'!$A$2:$AF2393,5,false)","v":"#N/A"},{"$f":"VLOOKUP(A447,'Copy of Export'!$A$2:$AF2393,8,false)","v":"#N/A"}]
[null,{"$f":"VLOOKUP(A448,'Copy of Export'!$A$2:$AF2393,5,false)","v":"#N/A"},{"$f":"VLOOKUP(A448,'Copy of Export'!$A$2:$AF2393,13,false)","v":"#N/A"},{"$f":"VLOOKUP(A448,'Copy of Export'!$A$2:$AF2393,2,false)","v":"#N/A"},{"$f":"VLOOKUP(A448,'Copy of Export'!$A$2:$AF2393,5,false)","v":"#N/A"},{"$f":"VLOOKUP(A448,'Copy of Export'!$A$2:$AF2393,8,false)","v":"#N/A"}]
[null,{"$f":"VLOOKUP(A449,'Copy of Export'!$A$2:$AF2393,5,false)","v":"#N/A"},{"$f":"VLOOKUP(A449,'Copy of Export'!$A$2:$AF2393,13,false)","v":"#N/A"},{"$f":"VLOOKUP(A449,'Copy of Export'!$A$2:$AF2393,2,false)","v":"#N/A"},{"$f":"VLOOKUP(A449,'Copy of Export'!$A$2:$AF2393,5,false)","v":"#N/A"},{"$f":"VLOOKUP(A449,'Copy of Export'!$A$2:$AF2393,8,false)","v":"#N/A"}]
[null,{"$f":"VLOOKUP(A450,'Copy of Export'!$A$2:$AF2393,5,false)","v":"#N/A"},{"$f":"VLOOKUP(A450,'Copy of Export'!$A$2:$AF2393,13,false)","v":"#N/A"},{"$f":"VLOOKUP(A450,'Copy of Export'!$A$2:$AF2393,2,false)","v":"#N/A"},{"$f":"VLOOKUP(A450,'Copy of Export'!$A$2:$AF2393,5,false)","v":"#N/A"},{"$f":"VLOOKUP(A450,'Copy of Export'!$A$2:$AF2393,8,false)","v":"#N/A"}]
[null,{"$f":"VLOOKUP(A451,'Copy of Export'!$A$2:$AF2393,5,false)","v":"#N/A"},{"$f":"VLOOKUP(A451,'Copy of Export'!$A$2:$AF2393,13,false)","v":"#N/A"},{"$f":"VLOOKUP(A451,'Copy of Export'!$A$2:$AF2393,2,false)","v":"#N/A"},{"$f":"VLOOKUP(A451,'Copy of Export'!$A$2:$AF2393,5,false)","v":"#N/A"},{"$f":"VLOOKUP(A451,'Copy of Export'!$A$2:$AF2393,8,false)","v":"#N/A"}]
[null,{"$f":"VLOOKUP(A452,'Copy of Export'!$A$2:$AF2393,5,false)","v":"#N/A"},{"$f":"VLOOKUP(A452,'Copy of Export'!$A$2:$AF2393,13,false)","v":"#N/A"},{"$f":"VLOOKUP(A452,'Copy of Export'!$A$2:$AF2393,2,false)","v":"#N/A"},{"$f":"VLOOKUP(A452,'Copy of Export'!$A$2:$AF2393,5,false)","v":"#N/A"},{"$f":"VLOOKUP(A452,'Copy of Export'!$A$2:$AF2393,8,false)","v":"#N/A"}]
[null,{"$f":"VLOOKUP(A453,'Copy of Export'!$A$2:$AF2393,5,false)","v":"#N/A"},{"$f":"VLOOKUP(A453,'Copy of Export'!$A$2:$AF2393,13,false)","v":"#N/A"},{"$f":"VLOOKUP(A453,'Copy of Export'!$A$2:$AF2393,2,false)","v":"#N/A"},{"$f":"VLOOKUP(A453,'Copy of Export'!$A$2:$AF2393,5,false)","v":"#N/A"},{"$f":"VLOOKUP(A453,'Copy of Export'!$A$2:$AF2393,8,false)","v":"#N/A"}]
[null,{"$f":"VLOOKUP(A454,'Copy of Export'!$A$2:$AF2393,5,false)","v":"#N/A"},{"$f":"VLOOKUP(A454,'Copy of Export'!$A$2:$AF2393,13,false)","v":"#N/A"},{"$f":"VLOOKUP(A454,'Copy of Export'!$A$2:$AF2393,2,false)","v":"#N/A"},{"$f":"VLOOKUP(A454,'Copy of Export'!$A$2:$AF2393,5,false)","v":"#N/A"},{"$f":"VLOOKUP(A454,'Copy of Export'!$A$2:$AF2393,8,false)","v":"#N/A"}]
[null,{"$f":"VLOOKUP(A455,'Copy of Export'!$A$2:$AF2393,5,false)","v":"#N/A"},{"$f":"VLOOKUP(A455,'Copy of Export'!$A$2:$AF2393,13,false)","v":"#N/A"},{"$f":"VLOOKUP(A455,'Copy of Export'!$A$2:$AF2393,2,false)","v":"#N/A"},{"$f":"VLOOKUP(A455,'Copy of Export'!$A$2:$AF2393,5,false)","v":"#N/A"},{"$f":"VLOOKUP(A455,'Copy of Export'!$A$2:$AF2393,8,false)","v":"#N/A"}]
[null,{"$f":"VLOOKUP(A456,'Copy of Export'!$A$2:$AF2393,5,false)","v":"#N/A"},{"$f":"VLOOKUP(A456,'Copy of Export'!$A$2:$AF2393,13,false)","v":"#N/A"},{"$f":"VLOOKUP(A456,'Copy of Export'!$A$2:$AF2393,2,false)","v":"#N/A"},{"$f":"VLOOKUP(A456,'Copy of Export'!$A$2:$AF2393,5,false)","v":"#N/A"},{"$f":"VLOOKUP(A456,'Copy of Export'!$A$2:$AF2393,8,false)","v":"#N/A"}]
[null,{"$f":"VLOOKUP(A457,'Copy of Export'!$A$2:$AF2393,5,false)","v":"#N/A"},{"$f":"VLOOKUP(A457,'Copy of Export'!$A$2:$AF2393,13,false)","v":"#N/A"},{"$f":"VLOOKUP(A457,'Copy of Export'!$A$2:$AF2393,2,false)","v":"#N/A"},{"$f":"VLOOKUP(A457,'Copy of Export'!$A$2:$AF2393,5,false)","v":"#N/A"},{"$f":"VLOOKUP(A457,'Copy of Export'!$A$2:$AF2393,8,false)","v":"#N/A"}]
[null,{"$f":"VLOOKUP(A458,'Copy of Export'!$A$2:$AF2393,5,false)","v":"#N/A"},{"$f":"VLOOKUP(A458,'Copy of Export'!$A$2:$AF2393,13,false)","v":"#N/A"},{"$f":"VLOOKUP(A458,'Copy of Export'!$A$2:$AF2393,2,false)","v":"#N/A"},{"$f":"VLOOKUP(A458,'Copy of Export'!$A$2:$AF2393,5,false)","v":"#N/A"},{"$f":"VLOOKUP(A458,'Copy of Export'!$A$2:$AF2393,8,false)","v":"#N/A"}]
[null,{"$f":"VLOOKUP(A459,'Copy of Export'!$A$2:$AF2393,5,false)","v":"#N/A"},{"$f":"VLOOKUP(A459,'Copy of Export'!$A$2:$AF2393,13,false)","v":"#N/A"},{"$f":"VLOOKUP(A459,'Copy of Export'!$A$2:$AF2393,2,false)","v":"#N/A"},{"$f":"VLOOKUP(A459,'Copy of Export'!$A$2:$AF2393,5,false)","v":"#N/A"},{"$f":"VLOOKUP(A459,'Copy of Export'!$A$2:$AF2393,8,false)","v":"#N/A"}]
[null,{"$f":"VLOOKUP(A460,'Copy of Export'!$A$2:$AF2393,5,false)","v":"#N/A"},{"$f":"VLOOKUP(A460,'Copy of Export'!$A$2:$AF2393,13,false)","v":"#N/A"},{"$f":"VLOOKUP(A460,'Copy of Export'!$A$2:$AF2393,2,false)","v":"#N/A"},{"$f":"VLOOKUP(A460,'Copy of Export'!$A$2:$AF2393,5,false)","v":"#N/A"},{"$f":"VLOOKUP(A460,'Copy of Export'!$A$2:$AF2393,8,false)","v":"#N/A"}]
[null,{"$f":"VLOOKUP(A461,'Copy of Export'!$A$2:$AF2393,5,false)","v":"#N/A"},{"$f":"VLOOKUP(A461,'Copy of Export'!$A$2:$AF2393,13,false)","v":"#N/A"},{"$f":"VLOOKUP(A461,'Copy of Export'!$A$2:$AF2393,2,false)","v":"#N/A"},{"$f":"VLOOKUP(A461,'Copy of Export'!$A$2:$AF2393,5,false)","v":"#N/A"},{"$f":"VLOOKUP(A461,'Copy of Export'!$A$2:$AF2393,8,false)","v":"#N/A"}]
[null,{"$f":"VLOOKUP(A462,'Copy of Export'!$A$2:$AF2393,5,false)","v":"#N/A"},{"$f":"VLOOKUP(A462,'Copy of Export'!$A$2:$AF2393,13,false)","v":"#N/A"},{"$f":"VLOOKUP(A462,'Copy of Export'!$A$2:$AF2393,2,false)","v":"#N/A"},{"$f":"VLOOKUP(A462,'Copy of Export'!$A$2:$AF2393,5,false)","v":"#N/A"},{"$f":"VLOOKUP(A462,'Copy of Export'!$A$2:$AF2393,8,false)","v":"#N/A"}]
[null,{"$f":"VLOOKUP(A463,'Copy of Export'!$A$2:$AF2393,5,false)","v":"#N/A"},{"$f":"VLOOKUP(A463,'Copy of Export'!$A$2:$AF2393,13,false)","v":"#N/A"},{"$f":"VLOOKUP(A463,'Copy of Export'!$A$2:$AF2393,2,false)","v":"#N/A"},{"$f":"VLOOKUP(A463,'Copy of Export'!$A$2:$AF2393,5,false)","v":"#N/A"},{"$f":"VLOOKUP(A463,'Copy of Export'!$A$2:$AF2393,8,false)","v":"#N/A"}]
[null,{"$f":"VLOOKUP(A464,'Copy of Export'!$A$2:$AF2393,5,false)","v":"#N/A"},{"$f":"VLOOKUP(A464,'Copy of Export'!$A$2:$AF2393,13,false)","v":"#N/A"},{"$f":"VLOOKUP(A464,'Copy of Export'!$A$2:$AF2393,2,false)","v":"#N/A"},{"$f":"VLOOKUP(A464,'Copy of Export'!$A$2:$AF2393,5,false)","v":"#N/A"},{"$f":"VLOOKUP(A464,'Copy of Export'!$A$2:$AF2393,8,false)","v":"#N/A"}]
[null,{"$f":"VLOOKUP(A465,'Copy of Export'!$A$2:$AF2393,5,false)","v":"#N/A"},{"$f":"VLOOKUP(A465,'Copy of Export'!$A$2:$AF2393,13,false)","v":"#N/A"},{"$f":"VLOOKUP(A465,'Copy of Export'!$A$2:$AF2393,2,false)","v":"#N/A"},{"$f":"VLOOKUP(A465,'Copy of Export'!$A$2:$AF2393,5,false)","v":"#N/A"},{"$f":"VLOOKUP(A465,'Copy of Export'!$A$2:$AF2393,8,false)","v":"#N/A"}]
[null,{"$f":"VLOOKUP(A466,'Copy of Export'!$A$2:$AF2393,5,false)","v":"#N/A"},{"$f":"VLOOKUP(A466,'Copy of Export'!$A$2:$AF2393,13,false)","v":"#N/A"},{"$f":"VLOOKUP(A466,'Copy of Export'!$A$2:$AF2393,2,false)","v":"#N/A"},{"$f":"VLOOKUP(A466,'Copy of Export'!$A$2:$AF2393,5,false)","v":"#N/A"},{"$f":"VLOOKUP(A466,'Copy of Export'!$A$2:$AF2393,8,false)","v":"#N/A"}]
[null,{"$f":"VLOOKUP(A467,'Copy of Export'!$A$2:$AF2393,5,false)","v":"#N/A"},{"$f":"VLOOKUP(A467,'Copy of Export'!$A$2:$AF2393,13,false)","v":"#N/A"},{"$f":"VLOOKUP(A467,'Copy of Export'!$A$2:$AF2393,2,false)","v":"#N/A"},{"$f":"VLOOKUP(A467,'Copy of Export'!$A$2:$AF2393,5,false)","v":"#N/A"},{"$f":"VLOOKUP(A467,'Copy of Export'!$A$2:$AF2393,8,false)","v":"#N/A"}]
[null,{"$f":"VLOOKUP(A468,'Copy of Export'!$A$2:$AF2393,5,false)","v":"#N/A"},{"$f":"VLOOKUP(A468,'Copy of Export'!$A$2:$AF2393,13,false)","v":"#N/A"},{"$f":"VLOOKUP(A468,'Copy of Export'!$A$2:$AF2393,2,false)","v":"#N/A"},{"$f":"VLOOKUP(A468,'Copy of Export'!$A$2:$AF2393,5,false)","v":"#N/A"},{"$f":"VLOOKUP(A468,'Copy of Export'!$A$2:$AF2393,8,false)","v":"#N/A"}]
[null,{"$f":"VLOOKUP(A469,'Copy of Export'!$A$2:$AF2393,5,false)","v":"#N/A"},{"$f":"VLOOKUP(A469,'Copy of Export'!$A$2:$AF2393,13,false)","v":"#N/A"},{"$f":"VLOOKUP(A469,'Copy of Export'!$A$2:$AF2393,2,false)","v":"#N/A"},{"$f":"VLOOKUP(A469,'Copy of Export'!$A$2:$AF2393,5,false)","v":"#N/A"},{"$f":"VLOOKUP(A469,'Copy of Export'!$A$2:$AF2393,8,false)","v":"#N/A"}]
[null,{"$f":"VLOOKUP(A470,'Copy of Export'!$A$2:$AF2393,5,false)","v":"#N/A"},{"$f":"VLOOKUP(A470,'Copy of Export'!$A$2:$AF2393,13,false)","v":"#N/A"},{"$f":"VLOOKUP(A470,'Copy of Export'!$A$2:$AF2393,2,false)","v":"#N/A"},{"$f":"VLOOKUP(A470,'Copy of Export'!$A$2:$AF2393,5,false)","v":"#N/A"},{"$f":"VLOOKUP(A470,'Copy of Export'!$A$2:$AF2393,8,false)","v":"#N/A"}]
[null,{"$f":"VLOOKUP(A471,'Copy of Export'!$A$2:$AF2393,5,false)","v":"#N/A"},{"$f":"VLOOKUP(A471,'Copy of Export'!$A$2:$AF2393,13,false)","v":"#N/A"},{"$f":"VLOOKUP(A471,'Copy of Export'!$A$2:$AF2393,2,false)","v":"#N/A"},{"$f":"VLOOKUP(A471,'Copy of Export'!$A$2:$AF2393,5,false)","v":"#N/A"},{"$f":"VLOOKUP(A471,'Copy of Export'!$A$2:$AF2393,8,false)","v":"#N/A"}]
[null,{"$f":"VLOOKUP(A472,'Copy of Export'!$A$2:$AF2393,5,false)","v":"#N/A"},{"$f":"VLOOKUP(A472,'Copy of Export'!$A$2:$AF2393,13,false)","v":"#N/A"},{"$f":"VLOOKUP(A472,'Copy of Export'!$A$2:$AF2393,2,false)","v":"#N/A"},{"$f":"VLOOKUP(A472,'Copy of Export'!$A$2:$AF2393,5,false)","v":"#N/A"},{"$f":"VLOOKUP(A472,'Copy of Export'!$A$2:$AF2393,8,false)","v":"#N/A"}]
[null,{"$f":"VLOOKUP(A473,'Copy of Export'!$A$2:$AF2393,5,false)","v":"#N/A"},{"$f":"VLOOKUP(A473,'Copy of Export'!$A$2:$AF2393,13,false)","v":"#N/A"},{"$f":"VLOOKUP(A473,'Copy of Export'!$A$2:$AF2393,2,false)","v":"#N/A"},{"$f":"VLOOKUP(A473,'Copy of Export'!$A$2:$AF2393,5,false)","v":"#N/A"},{"$f":"VLOOKUP(A473,'Copy of Export'!$A$2:$AF2393,8,false)","v":"#N/A"}]
[null,{"$f":"VLOOKUP(A474,'Copy of Export'!$A$2:$AF2393,5,false)","v":"#N/A"},{"$f":"VLOOKUP(A474,'Copy of Export'!$A$2:$AF2393,13,false)","v":"#N/A"},{"$f":"VLOOKUP(A474,'Copy of Export'!$A$2:$AF2393,2,false)","v":"#N/A"},{"$f":"VLOOKUP(A474,'Copy of Export'!$A$2:$AF2393,5,false)","v":"#N/A"},{"$f":"VLOOKUP(A474,'Copy of Export'!$A$2:$AF2393,8,false)","v":"#N/A"}]
[null,{"$f":"VLOOKUP(A475,'Copy of Export'!$A$2:$AF2393,5,false)","v":"#N/A"},{"$f":"VLOOKUP(A475,'Copy of Export'!$A$2:$AF2393,13,false)","v":"#N/A"},{"$f":"VLOOKUP(A475,'Copy of Export'!$A$2:$AF2393,2,false)","v":"#N/A"},{"$f":"VLOOKUP(A475,'Copy of Export'!$A$2:$AF2393,5,false)","v":"#N/A"},{"$f":"VLOOKUP(A475,'Copy of Export'!$A$2:$AF2393,8,false)","v":"#N/A"}]
[null,{"$f":"VLOOKUP(A476,'Copy of Export'!$A$2:$AF2393,5,false)","v":"#N/A"},{"$f":"VLOOKUP(A476,'Copy of Export'!$A$2:$AF2393,13,false)","v":"#N/A"},{"$f":"VLOOKUP(A476,'Copy of Export'!$A$2:$AF2393,2,false)","v":"#N/A"},{"$f":"VLOOKUP(A476,'Copy of Export'!$A$2:$AF2393,5,false)","v":"#N/A"},{"$f":"VLOOKUP(A476,'Copy of Export'!$A$2:$AF2393,8,false)","v":"#N/A"}]
[null,{"$f":"VLOOKUP(A477,'Copy of Export'!$A$2:$AF2393,5,false)","v":"#N/A"},{"$f":"VLOOKUP(A477,'Copy of Export'!$A$2:$AF2393,13,false)","v":"#N/A"},{"$f":"VLOOKUP(A477,'Copy of Export'!$A$2:$AF2393,2,false)","v":"#N/A"},{"$f":"VLOOKUP(A477,'Copy of Export'!$A$2:$AF2393,5,false)","v":"#N/A"},{"$f":"VLOOKUP(A477,'Copy of Export'!$A$2:$AF2393,8,false)","v":"#N/A"}]
[null,{"$f":"VLOOKUP(A478,'Copy of Export'!$A$2:$AF2393,5,false)","v":"#N/A"},{"$f":"VLOOKUP(A478,'Copy of Export'!$A$2:$AF2393,13,false)","v":"#N/A"},{"$f":"VLOOKUP(A478,'Copy of Export'!$A$2:$AF2393,2,false)","v":"#N/A"},{"$f":"VLOOKUP(A478,'Copy of Export'!$A$2:$AF2393,5,false)","v":"#N/A"},{"$f":"VLOOKUP(A478,'Copy of Export'!$A$2:$AF2393,8,false)","v":"#N/A"}]
[null,{"$f":"VLOOKUP(A479,'Copy of Export'!$A$2:$AF2393,5,false)","v":"#N/A"},{"$f":"VLOOKUP(A479,'Copy of Export'!$A$2:$AF2393,13,false)","v":"#N/A"},{"$f":"VLOOKUP(A479,'Copy of Export'!$A$2:$AF2393,2,false)","v":"#N/A"},{"$f":"VLOOKUP(A479,'Copy of Export'!$A$2:$AF2393,5,false)","v":"#N/A"},{"$f":"VLOOKUP(A479,'Copy of Export'!$A$2:$AF2393,8,false)","v":"#N/A"}]
[null,{"$f":"VLOOKUP(A480,'Copy of Export'!$A$2:$AF2393,5,false)","v":"#N/A"},{"$f":"VLOOKUP(A480,'Copy of Export'!$A$2:$AF2393,13,false)","v":"#N/A"},{"$f":"VLOOKUP(A480,'Copy of Export'!$A$2:$AF2393,2,false)","v":"#N/A"},{"$f":"VLOOKUP(A480,'Copy of Export'!$A$2:$AF2393,5,false)","v":"#N/A"},{"$f":"VLOOKUP(A480,'Copy of Export'!$A$2:$AF2393,8,false)","v":"#N/A"}]
[null,{"$f":"VLOOKUP(A481,'Copy of Export'!$A$2:$AF2393,5,false)","v":"#N/A"},{"$f":"VLOOKUP(A481,'Copy of Export'!$A$2:$AF2393,13,false)","v":"#N/A"},{"$f":"VLOOKUP(A481,'Copy of Export'!$A$2:$AF2393,2,false)","v":"#N/A"},{"$f":"VLOOKUP(A481,'Copy of Export'!$A$2:$AF2393,5,false)","v":"#N/A"},{"$f":"VLOOKUP(A481,'Copy of Export'!$A$2:$AF2393,8,false)","v":"#N/A"}]
[null,{"$f":"VLOOKUP(A482,'Copy of Export'!$A$2:$AF2393,5,false)","v":"#N/A"},{"$f":"VLOOKUP(A482,'Copy of Export'!$A$2:$AF2393,13,false)","v":"#N/A"},{"$f":"VLOOKUP(A482,'Copy of Export'!$A$2:$AF2393,2,false)","v":"#N/A"},{"$f":"VLOOKUP(A482,'Copy of Export'!$A$2:$AF2393,5,false)","v":"#N/A"},{"$f":"VLOOKUP(A482,'Copy of Export'!$A$2:$AF2393,8,false)","v":"#N/A"}]
[null,{"$f":"VLOOKUP(A483,'Copy of Export'!$A$2:$AF2393,5,false)","v":"#N/A"},{"$f":"VLOOKUP(A483,'Copy of Export'!$A$2:$AF2393,13,false)","v":"#N/A"},{"$f":"VLOOKUP(A483,'Copy of Export'!$A$2:$AF2393,2,false)","v":"#N/A"},{"$f":"VLOOKUP(A483,'Copy of Export'!$A$2:$AF2393,5,false)","v":"#N/A"},{"$f":"VLOOKUP(A483,'Copy of Export'!$A$2:$AF2393,8,false)","v":"#N/A"}]
[null,{"$f":"VLOOKUP(A484,'Copy of Export'!$A$2:$AF2393,5,false)","v":"#N/A"},{"$f":"VLOOKUP(A484,'Copy of Export'!$A$2:$AF2393,13,false)","v":"#N/A"},{"$f":"VLOOKUP(A484,'Copy of Export'!$A$2:$AF2393,2,false)","v":"#N/A"},{"$f":"VLOOKUP(A484,'Copy of Export'!$A$2:$AF2393,5,false)","v":"#N/A"},{"$f":"VLOOKUP(A484,'Copy of Export'!$A$2:$AF2393,8,false)","v":"#N/A"}]
[null,{"$f":"VLOOKUP(A485,'Copy of Export'!$A$2:$AF2393,5,false)","v":"#N/A"},{"$f":"VLOOKUP(A485,'Copy of Export'!$A$2:$AF2393,13,false)","v":"#N/A"},{"$f":"VLOOKUP(A485,'Copy of Export'!$A$2:$AF2393,2,false)","v":"#N/A"},{"$f":"VLOOKUP(A485,'Copy of Export'!$A$2:$AF2393,5,false)","v":"#N/A"},{"$f":"VLOOKUP(A485,'Copy of Export'!$A$2:$AF2393,8,false)","v":"#N/A"}]
[null,{"$f":"VLOOKUP(A486,'Copy of Export'!$A$2:$AF2393,5,false)","v":"#N/A"},{"$f":"VLOOKUP(A486,'Copy of Export'!$A$2:$AF2393,13,false)","v":"#N/A"},{"$f":"VLOOKUP(A486,'Copy of Export'!$A$2:$AF2393,2,false)","v":"#N/A"},{"$f":"VLOOKUP(A486,'Copy of Export'!$A$2:$AF2393,5,false)","v":"#N/A"},{"$f":"VLOOKUP(A486,'Copy of Export'!$A$2:$AF2393,8,false)","v":"#N/A"}]
[null,{"$f":"VLOOKUP(A487,'Copy of Export'!$A$2:$AF2393,5,false)","v":"#N/A"},{"$f":"VLOOKUP(A487,'Copy of Export'!$A$2:$AF2393,13,false)","v":"#N/A"},{"$f":"VLOOKUP(A487,'Copy of Export'!$A$2:$AF2393,2,false)","v":"#N/A"},{"$f":"VLOOKUP(A487,'Copy of Export'!$A$2:$AF2393,5,false)","v":"#N/A"},{"$f":"VLOOKUP(A487,'Copy of Export'!$A$2:$AF2393,8,false)","v":"#N/A"}]
[null,{"$f":"VLOOKUP(A488,'Copy of Export'!$A$2:$AF2393,5,false)","v":"#N/A"},{"$f":"VLOOKUP(A488,'Copy of Export'!$A$2:$AF2393,13,false)","v":"#N/A"},{"$f":"VLOOKUP(A488,'Copy of Export'!$A$2:$AF2393,2,false)","v":"#N/A"},{"$f":"VLOOKUP(A488,'Copy of Export'!$A$2:$AF2393,5,false)","v":"#N/A"},{"$f":"VLOOKUP(A488,'Copy of Export'!$A$2:$AF2393,8,false)","v":"#N/A"}]
[null,{"$f":"VLOOKUP(A489,'Copy of Export'!$A$2:$AF2393,5,false)","v":"#N/A"},{"$f":"VLOOKUP(A489,'Copy of Export'!$A$2:$AF2393,13,false)","v":"#N/A"},{"$f":"VLOOKUP(A489,'Copy of Export'!$A$2:$AF2393,2,false)","v":"#N/A"},{"$f":"VLOOKUP(A489,'Copy of Export'!$A$2:$AF2393,5,false)","v":"#N/A"},{"$f":"VLOOKUP(A489,'Copy of Export'!$A$2:$AF2393,8,false)","v":"#N/A"}]
[null,{"$f":"VLOOKUP(A490,'Copy of Export'!$A$2:$AF2393,5,false)","v":"#N/A"},{"$f":"VLOOKUP(A490,'Copy of Export'!$A$2:$AF2393,13,false)","v":"#N/A"},{"$f":"VLOOKUP(A490,'Copy of Export'!$A$2:$AF2393,2,false)","v":"#N/A"},{"$f":"VLOOKUP(A490,'Copy of Export'!$A$2:$AF2393,5,false)","v":"#N/A"},{"$f":"VLOOKUP(A490,'Copy of Export'!$A$2:$AF2393,8,false)","v":"#N/A"}]
[null,{"$f":"VLOOKUP(A491,'Copy of Export'!$A$2:$AF2393,5,false)","v":"#N/A"},{"$f":"VLOOKUP(A491,'Copy of Export'!$A$2:$AF2393,13,false)","v":"#N/A"},{"$f":"VLOOKUP(A491,'Copy of Export'!$A$2:$AF2393,2,false)","v":"#N/A"},{"$f":"VLOOKUP(A491,'Copy of Export'!$A$2:$AF2393,5,false)","v":"#N/A"},{"$f":"VLOOKUP(A491,'Copy of Export'!$A$2:$AF2393,8,false)","v":"#N/A"}]
[null,{"$f":"VLOOKUP(A492,'Copy of Export'!$A$2:$AF2393,5,false)","v":"#N/A"},{"$f":"VLOOKUP(A492,'Copy of Export'!$A$2:$AF2393,13,false)","v":"#N/A"},{"$f":"VLOOKUP(A492,'Copy of Export'!$A$2:$AF2393,2,false)","v":"#N/A"},{"$f":"VLOOKUP(A492,'Copy of Export'!$A$2:$AF2393,5,false)","v":"#N/A"},{"$f":"VLOOKUP(A492,'Copy of Export'!$A$2:$AF2393,8,false)","v":"#N/A"}]
[null,{"$f":"VLOOKUP(A493,'Copy of Export'!$A$2:$AF2393,5,false)","v":"#N/A"},{"$f":"VLOOKUP(A493,'Copy of Export'!$A$2:$AF2393,13,false)","v":"#N/A"},{"$f":"VLOOKUP(A493,'Copy of Export'!$A$2:$AF2393,2,false)","v":"#N/A"},{"$f":"VLOOKUP(A493,'Copy of Export'!$A$2:$AF2393,5,false)","v":"#N/A"},{"$f":"VLOOKUP(A493,'Copy of Export'!$A$2:$AF2393,8,false)","v":"#N/A"}]
[null,{"$f":"VLOOKUP(A494,'Copy of Export'!$A$2:$AF2393,5,false)","v":"#N/A"},{"$f":"VLOOKUP(A494,'Copy of Export'!$A$2:$AF2393,13,false)","v":"#N/A"},{"$f":"VLOOKUP(A494,'Copy of Export'!$A$2:$AF2393,2,false)","v":"#N/A"},{"$f":"VLOOKUP(A494,'Copy of Export'!$A$2:$AF2393,5,false)","v":"#N/A"},{"$f":"VLOOKUP(A494,'Copy of Export'!$A$2:$AF2393,8,false)","v":"#N/A"}]
[null,{"$f":"VLOOKUP(A495,'Copy of Export'!$A$2:$AF2393,5,false)","v":"#N/A"},{"$f":"VLOOKUP(A495,'Copy of Export'!$A$2:$AF2393,13,false)","v":"#N/A"},{"$f":"VLOOKUP(A495,'Copy of Export'!$A$2:$AF2393,2,false)","v":"#N/A"},{"$f":"VLOOKUP(A495,'Copy of Export'!$A$2:$AF2393,5,false)","v":"#N/A"},{"$f":"VLOOKUP(A495,'Copy of Export'!$A$2:$AF2393,8,false)","v":"#N/A"}]
[null,{"$f":"VLOOKUP(A496,'Copy of Export'!$A$2:$AF2393,5,false)","v":"#N/A"},{"$f":"VLOOKUP(A496,'Copy of Export'!$A$2:$AF2393,13,false)","v":"#N/A"},{"$f":"VLOOKUP(A496,'Copy of Export'!$A$2:$AF2393,2,false)","v":"#N/A"},{"$f":"VLOOKUP(A496,'Copy of Export'!$A$2:$AF2393,5,false)","v":"#N/A"},{"$f":"VLOOKUP(A496,'Copy of Export'!$A$2:$AF2393,8,false)","v":"#N/A"}]
[null,{"$f":"VLOOKUP(A497,'Copy of Export'!$A$2:$AF2393,5,false)","v":"#N/A"},{"$f":"VLOOKUP(A497,'Copy of Export'!$A$2:$AF2393,13,false)","v":"#N/A"},{"$f":"VLOOKUP(A497,'Copy of Export'!$A$2:$AF2393,2,false)","v":"#N/A"},{"$f":"VLOOKUP(A497,'Copy of Export'!$A$2:$AF2393,5,false)","v":"#N/A"},{"$f":"VLOOKUP(A497,'Copy of Export'!$A$2:$AF2393,8,false)","v":"#N/A"}]
[null,{"$f":"VLOOKUP(A498,'Copy of Export'!$A$2:$AF2393,5,false)","v":"#N/A"},{"$f":"VLOOKUP(A498,'Copy of Export'!$A$2:$AF2393,13,false)","v":"#N/A"},{"$f":"VLOOKUP(A498,'Copy of Export'!$A$2:$AF2393,2,false)","v":"#N/A"},{"$f":"VLOOKUP(A498,'Copy of Export'!$A$2:$AF2393,5,false)","v":"#N/A"},{"$f":"VLOOKUP(A498,'Copy of Export'!$A$2:$AF2393,8,false)","v":"#N/A"}]
[null,{"$f":"VLOOKUP(A499,'Copy of Export'!$A$2:$AF2393,5,false)","v":"#N/A"},{"$f":"VLOOKUP(A499,'Copy of Export'!$A$2:$AF2393,13,false)","v":"#N/A"},{"$f":"VLOOKUP(A499,'Copy of Export'!$A$2:$AF2393,2,false)","v":"#N/A"},{"$f":"VLOOKUP(A499,'Copy of Export'!$A$2:$AF2393,5,false)","v":"#N/A"},{"$f":"VLOOKUP(A499,'Copy of Export'!$A$2:$AF2393,8,false)","v":"#N/A"}]
[null,{"$f":"VLOOKUP(A500,'Copy of Export'!$A$2:$AF2393,5,false)","v":"#N/A"},{"$f":"VLOOKUP(A500,'Copy of Export'!$A$2:$AF2393,13,false)","v":"#N/A"},{"$f":"VLOOKUP(A500,'Copy of Export'!$A$2:$AF2393,2,false)","v":"#N/A"},{"$f":"VLOOKUP(A500,'Copy of Export'!$A$2:$AF2393,5,false)","v":"#N/A"},{"$f":"VLOOKUP(A500,'Copy of Export'!$A$2:$AF2393,8,false)","v":"#N/A"}]
[null,{"$f":"VLOOKUP(A501,'Copy of Export'!$A$2:$AF2393,5,false)","v":"#N/A"},{"$f":"VLOOKUP(A501,'Copy of Export'!$A$2:$AF2393,13,false)","v":"#N/A"},{"$f":"VLOOKUP(A501,'Copy of Export'!$A$2:$AF2393,2,false)","v":"#N/A"},{"$f":"VLOOKUP(A501,'Copy of Export'!$A$2:$AF2393,5,false)","v":"#N/A"},{"$f":"VLOOKUP(A501,'Copy of Export'!$A$2:$AF2393,8,false)","v":"#N/A"}]
[null,{"$f":"VLOOKUP(A502,'Copy of Export'!$A$2:$AF2393,5,false)","v":"#N/A"},{"$f":"VLOOKUP(A502,'Copy of Export'!$A$2:$AF2393,13,false)","v":"#N/A"},{"$f":"VLOOKUP(A502,'Copy of Export'!$A$2:$AF2393,2,false)","v":"#N/A"},{"$f":"VLOOKUP(A502,'Copy of Export'!$A$2:$AF2393,5,false)","v":"#N/A"},{"$f":"VLOOKUP(A502,'Copy of Export'!$A$2:$AF2393,8,false)","v":"#N/A"}]
[null,{"$f":"VLOOKUP(A503,'Copy of Export'!$A$2:$AF2393,5,false)","v":"#N/A"},{"$f":"VLOOKUP(A503,'Copy of Export'!$A$2:$AF2393,13,false)","v":"#N/A"},{"$f":"VLOOKUP(A503,'Copy of Export'!$A$2:$AF2393,2,false)","v":"#N/A"},{"$f":"VLOOKUP(A503,'Copy of Export'!$A$2:$AF2393,5,false)","v":"#N/A"},{"$f":"VLOOKUP(A503,'Copy of Export'!$A$2:$AF2393,8,false)","v":"#N/A"}]
[null,{"$f":"VLOOKUP(A504,'Copy of Export'!$A$2:$AF2393,5,false)","v":"#N/A"},{"$f":"VLOOKUP(A504,'Copy of Export'!$A$2:$AF2393,13,false)","v":"#N/A"},{"$f":"VLOOKUP(A504,'Copy of Export'!$A$2:$AF2393,2,false)","v":"#N/A"},{"$f":"VLOOKUP(A504,'Copy of Export'!$A$2:$AF2393,5,false)","v":"#N/A"},{"$f":"VLOOKUP(A504,'Copy of Export'!$A$2:$AF2393,8,false)","v":"#N/A"}]
[null,{"$f":"VLOOKUP(A505,'Copy of Export'!$A$2:$AF2393,5,false)","v":"#N/A"},{"$f":"VLOOKUP(A505,'Copy of Export'!$A$2:$AF2393,13,false)","v":"#N/A"},{"$f":"VLOOKUP(A505,'Copy of Export'!$A$2:$AF2393,2,false)","v":"#N/A"},{"$f":"VLOOKUP(A505,'Copy of Export'!$A$2:$AF2393,5,false)","v":"#N/A"},{"$f":"VLOOKUP(A505,'Copy of Export'!$A$2:$AF2393,8,false)","v":"#N/A"}]
[null,{"$f":"VLOOKUP(A506,'Copy of Export'!$A$2:$AF2393,5,false)","v":"#N/A"},{"$f":"VLOOKUP(A506,'Copy of Export'!$A$2:$AF2393,13,false)","v":"#N/A"},{"$f":"VLOOKUP(A506,'Copy of Export'!$A$2:$AF2393,2,false)","v":"#N/A"},{"$f":"VLOOKUP(A506,'Copy of Export'!$A$2:$AF2393,5,false)","v":"#N/A"},{"$f":"VLOOKUP(A506,'Copy of Export'!$A$2:$AF2393,8,false)","v":"#N/A"}]
[null,{"$f":"VLOOKUP(A507,'Copy of Export'!$A$2:$AF2393,5,false)","v":"#N/A"},{"$f":"VLOOKUP(A507,'Copy of Export'!$A$2:$AF2393,13,false)","v":"#N/A"},{"$f":"VLOOKUP(A507,'Copy of Export'!$A$2:$AF2393,2,false)","v":"#N/A"},{"$f":"VLOOKUP(A507,'Copy of Export'!$A$2:$AF2393,5,false)","v":"#N/A"},{"$f":"VLOOKUP(A507,'Copy of Export'!$A$2:$AF2393,8,false)","v":"#N/A"}]
[null,{"$f":"VLOOKUP(A508,'Copy of Export'!$A$2:$AF2393,5,false)","v":"#N/A"},{"$f":"VLOOKUP(A508,'Copy of Export'!$A$2:$AF2393,13,false)","v":"#N/A"},{"$f":"VLOOKUP(A508,'Copy of Export'!$A$2:$AF2393,2,false)","v":"#N/A"},{"$f":"VLOOKUP(A508,'Copy of Export'!$A$2:$AF2393,5,false)","v":"#N/A"},{"$f":"VLOOKUP(A508,'Copy of Export'!$A$2:$AF2393,8,false)","v":"#N/A"}]
[null,{"$f":"VLOOKUP(A509,'Copy of Export'!$A$2:$AF2393,5,false)","v":"#N/A"},{"$f":"VLOOKUP(A509,'Copy of Export'!$A$2:$AF2393,13,false)","v":"#N/A"},{"$f":"VLOOKUP(A509,'Copy of Export'!$A$2:$AF2393,2,false)","v":"#N/A"},{"$f":"VLOOKUP(A509,'Copy of Export'!$A$2:$AF2393,5,false)","v":"#N/A"},{"$f":"VLOOKUP(A509,'Copy of Export'!$A$2:$AF2393,8,false)","v":"#N/A"}]
[null,{"$f":"VLOOKUP(A510,'Copy of Export'!$A$2:$AF2393,5,false)","v":"#N/A"},{"$f":"VLOOKUP(A510,'Copy of Export'!$A$2:$AF2393,13,false)","v":"#N/A"},{"$f":"VLOOKUP(A510,'Copy of Export'!$A$2:$AF2393,2,false)","v":"#N/A"},{"$f":"VLOOKUP(A510,'Copy of Export'!$A$2:$AF2393,5,false)","v":"#N/A"},{"$f":"VLOOKUP(A510,'Copy of Export'!$A$2:$AF2393,8,false)","v":"#N/A"}]
[null,{"$f":"VLOOKUP(A511,'Copy of Export'!$A$2:$AF2393,5,false)","v":"#N/A"},{"$f":"VLOOKUP(A511,'Copy of Export'!$A$2:$AF2393,13,false)","v":"#N/A"},{"$f":"VLOOKUP(A511,'Copy of Export'!$A$2:$AF2393,2,false)","v":"#N/A"},{"$f":"VLOOKUP(A511,'Copy of Export'!$A$2:$AF2393,5,false)","v":"#N/A"},{"$f":"VLOOKUP(A511,'Copy of Export'!$A$2:$AF2393,8,false)","v":"#N/A"}]
[null,{"$f":"VLOOKUP(A512,'Copy of Export'!$A$2:$AF2393,5,false)","v":"#N/A"},{"$f":"VLOOKUP(A512,'Copy of Export'!$A$2:$AF2393,13,false)","v":"#N/A"},{"$f":"VLOOKUP(A512,'Copy of Export'!$A$2:$AF2393,2,false)","v":"#N/A"},{"$f":"VLOOKUP(A512,'Copy of Export'!$A$2:$AF2393,5,false)","v":"#N/A"},{"$f":"VLOOKUP(A512,'Copy of Export'!$A$2:$AF2393,8,false)","v":"#N/A"}]
[null,{"$f":"VLOOKUP(A513,'Copy of Export'!$A$2:$AF2393,5,false)","v":"#N/A"},{"$f":"VLOOKUP(A513,'Copy of Export'!$A$2:$AF2393,13,false)","v":"#N/A"},{"$f":"VLOOKUP(A513,'Copy of Export'!$A$2:$AF2393,2,false)","v":"#N/A"},{"$f":"VLOOKUP(A513,'Copy of Export'!$A$2:$AF2393,5,false)","v":"#N/A"},{"$f":"VLOOKUP(A513,'Copy of Export'!$A$2:$AF2393,8,false)","v":"#N/A"}]
[null,{"$f":"VLOOKUP(A514,'Copy of Export'!$A$2:$AF2393,5,false)","v":"#N/A"},{"$f":"VLOOKUP(A514,'Copy of Export'!$A$2:$AF2393,13,false)","v":"#N/A"},{"$f":"VLOOKUP(A514,'Copy of Export'!$A$2:$AF2393,2,false)","v":"#N/A"},{"$f":"VLOOKUP(A514,'Copy of Export'!$A$2:$AF2393,5,false)","v":"#N/A"},{"$f":"VLOOKUP(A514,'Copy of Export'!$A$2:$AF2393,8,false)","v":"#N/A"}]
[null,{"$f":"VLOOKUP(A515,'Copy of Export'!$A$2:$AF2393,5,false)","v":"#N/A"},{"$f":"VLOOKUP(A515,'Copy of Export'!$A$2:$AF2393,13,false)","v":"#N/A"},{"$f":"VLOOKUP(A515,'Copy of Export'!$A$2:$AF2393,2,false)","v":"#N/A"},{"$f":"VLOOKUP(A515,'Copy of Export'!$A$2:$AF2393,5,false)","v":"#N/A"},{"$f":"VLOOKUP(A515,'Copy of Export'!$A$2:$AF2393,8,false)","v":"#N/A"}]
[null,{"$f":"VLOOKUP(A516,'Copy of Export'!$A$2:$AF2393,5,false)","v":"#N/A"},{"$f":"VLOOKUP(A516,'Copy of Export'!$A$2:$AF2393,13,false)","v":"#N/A"},{"$f":"VLOOKUP(A516,'Copy of Export'!$A$2:$AF2393,2,false)","v":"#N/A"},{"$f":"VLOOKUP(A516,'Copy of Export'!$A$2:$AF2393,5,false)","v":"#N/A"},{"$f":"VLOOKUP(A516,'Copy of Export'!$A$2:$AF2393,8,false)","v":"#N/A"}]
[null,{"$f":"VLOOKUP(A517,'Copy of Export'!$A$2:$AF2393,5,false)","v":"#N/A"},{"$f":"VLOOKUP(A517,'Copy of Export'!$A$2:$AF2393,13,false)","v":"#N/A"},{"$f":"VLOOKUP(A517,'Copy of Export'!$A$2:$AF2393,2,false)","v":"#N/A"},{"$f":"VLOOKUP(A517,'Copy of Export'!$A$2:$AF2393,5,false)","v":"#N/A"},{"$f":"VLOOKUP(A517,'Copy of Export'!$A$2:$AF2393,8,false)","v":"#N/A"}]
[null,{"$f":"VLOOKUP(A518,'Copy of Export'!$A$2:$AF2393,5,false)","v":"#N/A"},{"$f":"VLOOKUP(A518,'Copy of Export'!$A$2:$AF2393,13,false)","v":"#N/A"},{"$f":"VLOOKUP(A518,'Copy of Export'!$A$2:$AF2393,2,false)","v":"#N/A"},{"$f":"VLOOKUP(A518,'Copy of Export'!$A$2:$AF2393,5,false)","v":"#N/A"},{"$f":"VLOOKUP(A518,'Copy of Export'!$A$2:$AF2393,8,false)","v":"#N/A"}]
[null,{"$f":"VLOOKUP(A519,'Copy of Export'!$A$2:$AF2393,5,false)","v":"#N/A"},{"$f":"VLOOKUP(A519,'Copy of Export'!$A$2:$AF2393,13,false)","v":"#N/A"},{"$f":"VLOOKUP(A519,'Copy of Export'!$A$2:$AF2393,2,false)","v":"#N/A"},{"$f":"VLOOKUP(A519,'Copy of Export'!$A$2:$AF2393,5,false)","v":"#N/A"},{"$f":"VLOOKUP(A519,'Copy of Export'!$A$2:$AF2393,8,false)","v":"#N/A"}]
[null,{"$f":"VLOOKUP(A520,'Copy of Export'!$A$2:$AF2393,5,false)","v":"#N/A"},{"$f":"VLOOKUP(A520,'Copy of Export'!$A$2:$AF2393,13,false)","v":"#N/A"},{"$f":"VLOOKUP(A520,'Copy of Export'!$A$2:$AF2393,2,false)","v":"#N/A"},{"$f":"VLOOKUP(A520,'Copy of Export'!$A$2:$AF2393,5,false)","v":"#N/A"},{"$f":"VLOOKUP(A520,'Copy of Export'!$A$2:$AF2393,8,false)","v":"#N/A"}]
[null,{"$f":"VLOOKUP(A521,'Copy of Export'!$A$2:$AF2393,5,false)","v":"#N/A"},{"$f":"VLOOKUP(A521,'Copy of Export'!$A$2:$AF2393,13,false)","v":"#N/A"},{"$f":"VLOOKUP(A521,'Copy of Export'!$A$2:$AF2393,2,false)","v":"#N/A"},{"$f":"VLOOKUP(A521,'Copy of Export'!$A$2:$AF2393,5,false)","v":"#N/A"},{"$f":"VLOOKUP(A521,'Copy of Export'!$A$2:$AF2393,8,false)","v":"#N/A"}]
[null,{"$f":"VLOOKUP(A522,'Copy of Export'!$A$2:$AF2393,5,false)","v":"#N/A"},{"$f":"VLOOKUP(A522,'Copy of Export'!$A$2:$AF2393,13,false)","v":"#N/A"},{"$f":"VLOOKUP(A522,'Copy of Export'!$A$2:$AF2393,2,false)","v":"#N/A"},{"$f":"VLOOKUP(A522,'Copy of Export'!$A$2:$AF2393,5,false)","v":"#N/A"},{"$f":"VLOOKUP(A522,'Copy of Export'!$A$2:$AF2393,8,false)","v":"#N/A"}]
[null,{"$f":"VLOOKUP(A523,'Copy of Export'!$A$2:$AF2393,5,false)","v":"#N/A"},{"$f":"VLOOKUP(A523,'Copy of Export'!$A$2:$AF2393,13,false)","v":"#N/A"},{"$f":"VLOOKUP(A523,'Copy of Export'!$A$2:$AF2393,2,false)","v":"#N/A"},{"$f":"VLOOKUP(A523,'Copy of Export'!$A$2:$AF2393,5,false)","v":"#N/A"},{"$f":"VLOOKUP(A523,'Copy of Export'!$A$2:$AF2393,8,false)","v":"#N/A"}]
[null,{"$f":"VLOOKUP(A524,'Copy of Export'!$A$2:$AF2393,5,false)","v":"#N/A"},{"$f":"VLOOKUP(A524,'Copy of Export'!$A$2:$AF2393,13,false)","v":"#N/A"},{"$f":"VLOOKUP(A524,'Copy of Export'!$A$2:$AF2393,2,false)","v":"#N/A"},{"$f":"VLOOKUP(A524,'Copy of Export'!$A$2:$AF2393,5,false)","v":"#N/A"},{"$f":"VLOOKUP(A524,'Copy of Export'!$A$2:$AF2393,8,false)","v":"#N/A"}]
[null,{"$f":"VLOOKUP(A525,'Copy of Export'!$A$2:$AF2393,5,false)","v":"#N/A"},{"$f":"VLOOKUP(A525,'Copy of Export'!$A$2:$AF2393,13,false)","v":"#N/A"},{"$f":"VLOOKUP(A525,'Copy of Export'!$A$2:$AF2393,2,false)","v":"#N/A"},{"$f":"VLOOKUP(A525,'Copy of Export'!$A$2:$AF2393,5,false)","v":"#N/A"},{"$f":"VLOOKUP(A525,'Copy of Export'!$A$2:$AF2393,8,false)","v":"#N/A"}]
[null,{"$f":"VLOOKUP(A526,'Copy of Export'!$A$2:$AF2393,5,false)","v":"#N/A"},{"$f":"VLOOKUP(A526,'Copy of Export'!$A$2:$AF2393,13,false)","v":"#N/A"},{"$f":"VLOOKUP(A526,'Copy of Export'!$A$2:$AF2393,2,false)","v":"#N/A"},{"$f":"VLOOKUP(A526,'Copy of Export'!$A$2:$AF2393,5,false)","v":"#N/A"},{"$f":"VLOOKUP(A526,'Copy of Export'!$A$2:$AF2393,8,false)","v":"#N/A"}]
[null,{"$f":"VLOOKUP(A527,'Copy of Export'!$A$2:$AF2393,5,false)","v":"#N/A"},{"$f":"VLOOKUP(A527,'Copy of Export'!$A$2:$AF2393,13,false)","v":"#N/A"},{"$f":"VLOOKUP(A527,'Copy of Export'!$A$2:$AF2393,2,false)","v":"#N/A"},{"$f":"VLOOKUP(A527,'Copy of Export'!$A$2:$AF2393,5,false)","v":"#N/A"},{"$f":"VLOOKUP(A527,'Copy of Export'!$A$2:$AF2393,8,false)","v":"#N/A"}]
[null,{"$f":"VLOOKUP(A528,'Copy of Export'!$A$2:$AF2393,5,false)","v":"#N/A"},{"$f":"VLOOKUP(A528,'Copy of Export'!$A$2:$AF2393,13,false)","v":"#N/A"},{"$f":"VLOOKUP(A528,'Copy of Export'!$A$2:$AF2393,2,false)","v":"#N/A"},{"$f":"VLOOKUP(A528,'Copy of Export'!$A$2:$AF2393,5,false)","v":"#N/A"},{"$f":"VLOOKUP(A528,'Copy of Export'!$A$2:$AF2393,8,false)","v":"#N/A"}]
[null,{"$f":"VLOOKUP(A529,'Copy of Export'!$A$2:$AF2393,5,false)","v":"#N/A"},{"$f":"VLOOKUP(A529,'Copy of Export'!$A$2:$AF2393,13,false)","v":"#N/A"},{"$f":"VLOOKUP(A529,'Copy of Export'!$A$2:$AF2393,2,false)","v":"#N/A"},{"$f":"VLOOKUP(A529,'Copy of Export'!$A$2:$AF2393,5,false)","v":"#N/A"},{"$f":"VLOOKUP(A529,'Copy of Export'!$A$2:$AF2393,8,false)","v":"#N/A"}]
[null,{"$f":"VLOOKUP(A530,'Copy of Export'!$A$2:$AF2393,5,false)","v":"#N/A"},{"$f":"VLOOKUP(A530,'Copy of Export'!$A$2:$AF2393,13,false)","v":"#N/A"},{"$f":"VLOOKUP(A530,'Copy of Export'!$A$2:$AF2393,2,false)","v":"#N/A"},{"$f":"VLOOKUP(A530,'Copy of Export'!$A$2:$AF2393,5,false)","v":"#N/A"},{"$f":"VLOOKUP(A530,'Copy of Export'!$A$2:$AF2393,8,false)","v":"#N/A"}]
[null,{"$f":"VLOOKUP(A531,'Copy of Export'!$A$2:$AF2393,5,false)","v":"#N/A"},{"$f":"VLOOKUP(A531,'Copy of Export'!$A$2:$AF2393,13,false)","v":"#N/A"},{"$f":"VLOOKUP(A531,'Copy of Export'!$A$2:$AF2393,2,false)","v":"#N/A"},{"$f":"VLOOKUP(A531,'Copy of Export'!$A$2:$AF2393,5,false)","v":"#N/A"},{"$f":"VLOOKUP(A531,'Copy of Export'!$A$2:$AF2393,8,false)","v":"#N/A"}]
[null,{"$f":"VLOOKUP(A532,'Copy of Export'!$A$2:$AF2393,5,false)","v":"#N/A"},{"$f":"VLOOKUP(A532,'Copy of Export'!$A$2:$AF2393,13,false)","v":"#N/A"},{"$f":"VLOOKUP(A532,'Copy of Export'!$A$2:$AF2393,2,false)","v":"#N/A"},{"$f":"VLOOKUP(A532,'Copy of Export'!$A$2:$AF2393,5,false)","v":"#N/A"},{"$f":"VLOOKUP(A532,'Copy of Export'!$A$2:$AF2393,8,false)","v":"#N/A"}]
[null,{"$f":"VLOOKUP(A533,'Copy of Export'!$A$2:$AF2393,5,false)","v":"#N/A"},{"$f":"VLOOKUP(A533,'Copy of Export'!$A$2:$AF2393,13,false)","v":"#N/A"},{"$f":"VLOOKUP(A533,'Copy of Export'!$A$2:$AF2393,2,false)","v":"#N/A"},{"$f":"VLOOKUP(A533,'Copy of Export'!$A$2:$AF2393,5,false)","v":"#N/A"},{"$f":"VLOOKUP(A533,'Copy of Export'!$A$2:$AF2393,8,false)","v":"#N/A"}]
[null,{"$f":"VLOOKUP(A534,'Copy of Export'!$A$2:$AF2393,5,false)","v":"#N/A"},{"$f":"VLOOKUP(A534,'Copy of Export'!$A$2:$AF2393,13,false)","v":"#N/A"},{"$f":"VLOOKUP(A534,'Copy of Export'!$A$2:$AF2393,2,false)","v":"#N/A"},{"$f":"VLOOKUP(A534,'Copy of Export'!$A$2:$AF2393,5,false)","v":"#N/A"},{"$f":"VLOOKUP(A534,'Copy of Export'!$A$2:$AF2393,8,false)","v":"#N/A"}]
[null,{"$f":"VLOOKUP(A535,'Copy of Export'!$A$2:$AF2393,5,false)","v":"#N/A"},{"$f":"VLOOKUP(A535,'Copy of Export'!$A$2:$AF2393,13,false)","v":"#N/A"},{"$f":"VLOOKUP(A535,'Copy of Export'!$A$2:$AF2393,2,false)","v":"#N/A"},{"$f":"VLOOKUP(A535,'Copy of Export'!$A$2:$AF2393,5,false)","v":"#N/A"},{"$f":"VLOOKUP(A535,'Copy of Export'!$A$2:$AF2393,8,false)","v":"#N/A"}]
[null,{"$f":"VLOOKUP(A536,'Copy of Export'!$A$2:$AF2393,5,false)","v":"#N/A"},{"$f":"VLOOKUP(A536,'Copy of Export'!$A$2:$AF2393,13,false)","v":"#N/A"},{"$f":"VLOOKUP(A536,'Copy of Export'!$A$2:$AF2393,2,false)","v":"#N/A"},{"$f":"VLOOKUP(A536,'Copy of Export'!$A$2:$AF2393,5,false)","v":"#N/A"},{"$f":"VLOOKUP(A536,'Copy of Export'!$A$2:$AF2393,8,false)","v":"#N/A"}]
[null,{"$f":"VLOOKUP(A537,'Copy of Export'!$A$2:$AF2393,5,false)","v":"#N/A"},{"$f":"VLOOKUP(A537,'Copy of Export'!$A$2:$AF2393,13,false)","v":"#N/A"},{"$f":"VLOOKUP(A537,'Copy of Export'!$A$2:$AF2393,2,false)","v":"#N/A"},{"$f":"VLOOKUP(A537,'Copy of Export'!$A$2:$AF2393,5,false)","v":"#N/A"},{"$f":"VLOOKUP(A537,'Copy of Export'!$A$2:$AF2393,8,false)","v":"#N/A"}]
[null,{"$f":"VLOOKUP(A538,'Copy of Export'!$A$2:$AF2393,5,false)","v":"#N/A"},{"$f":"VLOOKUP(A538,'Copy of Export'!$A$2:$AF2393,13,false)","v":"#N/A"},{"$f":"VLOOKUP(A538,'Copy of Export'!$A$2:$AF2393,2,false)","v":"#N/A"},{"$f":"VLOOKUP(A538,'Copy of Export'!$A$2:$AF2393,5,false)","v":"#N/A"},{"$f":"VLOOKUP(A538,'Copy of Export'!$A$2:$AF2393,8,false)","v":"#N/A"}]
[null,{"$f":"VLOOKUP(A539,'Copy of Export'!$A$2:$AF2393,5,false)","v":"#N/A"},{"$f":"VLOOKUP(A539,'Copy of Export'!$A$2:$AF2393,13,false)","v":"#N/A"},{"$f":"VLOOKUP(A539,'Copy of Export'!$A$2:$AF2393,2,false)","v":"#N/A"},{"$f":"VLOOKUP(A539,'Copy of Export'!$A$2:$AF2393,5,false)","v":"#N/A"},{"$f":"VLOOKUP(A539,'Copy of Export'!$A$2:$AF2393,8,false)","v":"#N/A"}]
[null,{"$f":"VLOOKUP(A540,'Copy of Export'!$A$2:$AF2393,5,false)","v":"#N/A"},{"$f":"VLOOKUP(A540,'Copy of Export'!$A$2:$AF2393,13,false)","v":"#N/A"},{"$f":"VLOOKUP(A540,'Copy of Export'!$A$2:$AF2393,2,false)","v":"#N/A"},{"$f":"VLOOKUP(A540,'Copy of Export'!$A$2:$AF2393,5,false)","v":"#N/A"},{"$f":"VLOOKUP(A540,'Copy of Export'!$A$2:$AF2393,8,false)","v":"#N/A"}]
[null,{"$f":"VLOOKUP(A541,'Copy of Export'!$A$2:$AF2393,5,false)","v":"#N/A"},{"$f":"VLOOKUP(A541,'Copy of Export'!$A$2:$AF2393,13,false)","v":"#N/A"},{"$f":"VLOOKUP(A541,'Copy of Export'!$A$2:$AF2393,2,false)","v":"#N/A"},{"$f":"VLOOKUP(A541,'Copy of Export'!$A$2:$AF2393,5,false)","v":"#N/A"},{"$f":"VLOOKUP(A541,'Copy of Export'!$A$2:$AF2393,8,false)","v":"#N/A"}]
[null,{"$f":"VLOOKUP(A542,'Copy of Export'!$A$2:$AF2393,5,false)","v":"#N/A"},{"$f":"VLOOKUP(A542,'Copy of Export'!$A$2:$AF2393,13,false)","v":"#N/A"},{"$f":"VLOOKUP(A542,'Copy of Export'!$A$2:$AF2393,2,false)","v":"#N/A"},{"$f":"VLOOKUP(A542,'Copy of Export'!$A$2:$AF2393,5,false)","v":"#N/A"},{"$f":"VLOOKUP(A542,'Copy of Export'!$A$2:$AF2393,8,false)","v":"#N/A"}]
[null,{"$f":"VLOOKUP(A543,'Copy of Export'!$A$2:$AF2393,5,false)","v":"#N/A"},{"$f":"VLOOKUP(A543,'Copy of Export'!$A$2:$AF2393,13,false)","v":"#N/A"},{"$f":"VLOOKUP(A543,'Copy of Export'!$A$2:$AF2393,2,false)","v":"#N/A"},{"$f":"VLOOKUP(A543,'Copy of Export'!$A$2:$AF2393,5,false)","v":"#N/A"},{"$f":"VLOOKUP(A543,'Copy of Export'!$A$2:$AF2393,8,false)","v":"#N/A"}]
[null,{"$f":"VLOOKUP(A544,'Copy of Export'!$A$2:$AF2393,5,false)","v":"#N/A"},{"$f":"VLOOKUP(A544,'Copy of Export'!$A$2:$AF2393,13,false)","v":"#N/A"},{"$f":"VLOOKUP(A544,'Copy of Export'!$A$2:$AF2393,2,false)","v":"#N/A"},{"$f":"VLOOKUP(A544,'Copy of Export'!$A$2:$AF2393,5,false)","v":"#N/A"},{"$f":"VLOOKUP(A544,'Copy of Export'!$A$2:$AF2393,8,false)","v":"#N/A"}]
[null,{"$f":"VLOOKUP(A545,'Copy of Export'!$A$2:$AF2393,5,false)","v":"#N/A"},{"$f":"VLOOKUP(A545,'Copy of Export'!$A$2:$AF2393,13,false)","v":"#N/A"},{"$f":"VLOOKUP(A545,'Copy of Export'!$A$2:$AF2393,2,false)","v":"#N/A"},{"$f":"VLOOKUP(A545,'Copy of Export'!$A$2:$AF2393,5,false)","v":"#N/A"},{"$f":"VLOOKUP(A545,'Copy of Export'!$A$2:$AF2393,8,false)","v":"#N/A"}]
[null,{"$f":"VLOOKUP(A546,'Copy of Export'!$A$2:$AF2393,5,false)","v":"#N/A"},{"$f":"VLOOKUP(A546,'Copy of Export'!$A$2:$AF2393,13,false)","v":"#N/A"},{"$f":"VLOOKUP(A546,'Copy of Export'!$A$2:$AF2393,2,false)","v":"#N/A"},{"$f":"VLOOKUP(A546,'Copy of Export'!$A$2:$AF2393,5,false)","v":"#N/A"},{"$f":"VLOOKUP(A546,'Copy of Export'!$A$2:$AF2393,8,false)","v":"#N/A"}]
[null,{"$f":"VLOOKUP(A547,'Copy of Export'!$A$2:$AF2393,5,false)","v":"#N/A"},{"$f":"VLOOKUP(A547,'Copy of Export'!$A$2:$AF2393,13,false)","v":"#N/A"},{"$f":"VLOOKUP(A547,'Copy of Export'!$A$2:$AF2393,2,false)","v":"#N/A"},{"$f":"VLOOKUP(A547,'Copy of Export'!$A$2:$AF2393,5,false)","v":"#N/A"},{"$f":"VLOOKUP(A547,'Copy of Export'!$A$2:$AF2393,8,false)","v":"#N/A"}]
[null,{"$f":"VLOOKUP(A548,'Copy of Export'!$A$2:$AF2393,5,false)","v":"#N/A"},{"$f":"VLOOKUP(A548,'Copy of Export'!$A$2:$AF2393,13,false)","v":"#N/A"},{"$f":"VLOOKUP(A548,'Copy of Export'!$A$2:$AF2393,2,false)","v":"#N/A"},{"$f":"VLOOKUP(A548,'Copy of Export'!$A$2:$AF2393,5,false)","v":"#N/A"},{"$f":"VLOOKUP(A548,'Copy of Export'!$A$2:$AF2393,8,false)","v":"#N/A"}]
[null,{"$f":"VLOOKUP(A549,'Copy of Export'!$A$2:$AF2393,5,false)","v":"#N/A"},{"$f":"VLOOKUP(A549,'Copy of Export'!$A$2:$AF2393,13,false)","v":"#N/A"},{"$f":"VLOOKUP(A549,'Copy of Export'!$A$2:$AF2393,2,false)","v":"#N/A"},{"$f":"VLOOKUP(A549,'Copy of Export'!$A$2:$AF2393,5,false)","v":"#N/A"},{"$f":"VLOOKUP(A549,'Copy of Export'!$A$2:$AF2393,8,false)","v":"#N/A"}]
[null,{"$f":"VLOOKUP(A550,'Copy of Export'!$A$2:$AF2393,5,false)","v":"#N/A"},{"$f":"VLOOKUP(A550,'Copy of Export'!$A$2:$AF2393,13,false)","v":"#N/A"},{"$f":"VLOOKUP(A550,'Copy of Export'!$A$2:$AF2393,2,false)","v":"#N/A"},{"$f":"VLOOKUP(A550,'Copy of Export'!$A$2:$AF2393,5,false)","v":"#N/A"},{"$f":"VLOOKUP(A550,'Copy of Export'!$A$2:$AF2393,8,false)","v":"#N/A"}]
[null,{"$f":"VLOOKUP(A551,'Copy of Export'!$A$2:$AF2393,5,false)","v":"#N/A"},{"$f":"VLOOKUP(A551,'Copy of Export'!$A$2:$AF2393,13,false)","v":"#N/A"},{"$f":"VLOOKUP(A551,'Copy of Export'!$A$2:$AF2393,2,false)","v":"#N/A"},{"$f":"VLOOKUP(A551,'Copy of Export'!$A$2:$AF2393,5,false)","v":"#N/A"},{"$f":"VLOOKUP(A551,'Copy of Export'!$A$2:$AF2393,8,false)","v":"#N/A"}]
[null,{"$f":"VLOOKUP(A552,'Copy of Export'!$A$2:$AF2393,5,false)","v":"#N/A"},{"$f":"VLOOKUP(A552,'Copy of Export'!$A$2:$AF2393,13,false)","v":"#N/A"},{"$f":"VLOOKUP(A552,'Copy of Export'!$A$2:$AF2393,2,false)","v":"#N/A"},{"$f":"VLOOKUP(A552,'Copy of Export'!$A$2:$AF2393,5,false)","v":"#N/A"},{"$f":"VLOOKUP(A552,'Copy of Export'!$A$2:$AF2393,8,false)","v":"#N/A"}]
[null,{"$f":"VLOOKUP(A553,'Copy of Export'!$A$2:$AF2393,5,false)","v":"#N/A"},{"$f":"VLOOKUP(A553,'Copy of Export'!$A$2:$AF2393,13,false)","v":"#N/A"},{"$f":"VLOOKUP(A553,'Copy of Export'!$A$2:$AF2393,2,false)","v":"#N/A"},{"$f":"VLOOKUP(A553,'Copy of Export'!$A$2:$AF2393,5,false)","v":"#N/A"},{"$f":"VLOOKUP(A553,'Copy of Export'!$A$2:$AF2393,8,false)","v":"#N/A"}]
[null,{"$f":"VLOOKUP(A554,'Copy of Export'!$A$2:$AF2393,5,false)","v":"#N/A"},{"$f":"VLOOKUP(A554,'Copy of Export'!$A$2:$AF2393,13,false)","v":"#N/A"},{"$f":"VLOOKUP(A554,'Copy of Export'!$A$2:$AF2393,2,false)","v":"#N/A"},{"$f":"VLOOKUP(A554,'Copy of Export'!$A$2:$AF2393,5,false)","v":"#N/A"},{"$f":"VLOOKUP(A554,'Copy of Export'!$A$2:$AF2393,8,false)","v":"#N/A"}]
[null,{"$f":"VLOOKUP(A555,'Copy of Export'!$A$2:$AF2393,5,false)","v":"#N/A"},{"$f":"VLOOKUP(A555,'Copy of Export'!$A$2:$AF2393,13,false)","v":"#N/A"},{"$f":"VLOOKUP(A555,'Copy of Export'!$A$2:$AF2393,2,false)","v":"#N/A"},{"$f":"VLOOKUP(A555,'Copy of Export'!$A$2:$AF2393,5,false)","v":"#N/A"},{"$f":"VLOOKUP(A555,'Copy of Export'!$A$2:$AF2393,8,false)","v":"#N/A"}]
[null,{"$f":"VLOOKUP(A556,'Copy of Export'!$A$2:$AF2393,5,false)","v":"#N/A"},{"$f":"VLOOKUP(A556,'Copy of Export'!$A$2:$AF2393,13,false)","v":"#N/A"},{"$f":"VLOOKUP(A556,'Copy of Export'!$A$2:$AF2393,2,false)","v":"#N/A"},{"$f":"VLOOKUP(A556,'Copy of Export'!$A$2:$AF2393,5,false)","v":"#N/A"},{"$f":"VLOOKUP(A556,'Copy of Export'!$A$2:$AF2393,8,false)","v":"#N/A"}]
[null,{"$f":"VLOOKUP(A557,'Copy of Export'!$A$2:$AF2393,5,false)","v":"#N/A"},{"$f":"VLOOKUP(A557,'Copy of Export'!$A$2:$AF2393,13,false)","v":"#N/A"},{"$f":"VLOOKUP(A557,'Copy of Export'!$A$2:$AF2393,2,false)","v":"#N/A"},{"$f":"VLOOKUP(A557,'Copy of Export'!$A$2:$AF2393,5,false)","v":"#N/A"},{"$f":"VLOOKUP(A557,'Copy of Export'!$A$2:$AF2393,8,false)","v":"#N/A"}]
[null,{"$f":"VLOOKUP(A558,'Copy of Export'!$A$2:$AF2393,5,false)","v":"#N/A"},{"$f":"VLOOKUP(A558,'Copy of Export'!$A$2:$AF2393,13,false)","v":"#N/A"},{"$f":"VLOOKUP(A558,'Copy of Export'!$A$2:$AF2393,2,false)","v":"#N/A"},{"$f":"VLOOKUP(A558,'Copy of Export'!$A$2:$AF2393,5,false)","v":"#N/A"},{"$f":"VLOOKUP(A558,'Copy of Export'!$A$2:$AF2393,8,false)","v":"#N/A"}]
[null,{"$f":"VLOOKUP(A559,'Copy of Export'!$A$2:$AF2393,5,false)","v":"#N/A"},{"$f":"VLOOKUP(A559,'Copy of Export'!$A$2:$AF2393,13,false)","v":"#N/A"},{"$f":"VLOOKUP(A559,'Copy of Export'!$A$2:$AF2393,2,false)","v":"#N/A"},{"$f":"VLOOKUP(A559,'Copy of Export'!$A$2:$AF2393,5,false)","v":"#N/A"},{"$f":"VLOOKUP(A559,'Copy of Export'!$A$2:$AF2393,8,false)","v":"#N/A"}]
[null,{"$f":"VLOOKUP(A560,'Copy of Export'!$A$2:$AF2393,5,false)","v":"#N/A"},{"$f":"VLOOKUP(A560,'Copy of Export'!$A$2:$AF2393,13,false)","v":"#N/A"},{"$f":"VLOOKUP(A560,'Copy of Export'!$A$2:$AF2393,2,false)","v":"#N/A"},{"$f":"VLOOKUP(A560,'Copy of Export'!$A$2:$AF2393,5,false)","v":"#N/A"},{"$f":"VLOOKUP(A560,'Copy of Export'!$A$2:$AF2393,8,false)","v":"#N/A"}]
[null,{"$f":"VLOOKUP(A561,'Copy of Export'!$A$2:$AF2393,5,false)","v":"#N/A"},{"$f":"VLOOKUP(A561,'Copy of Export'!$A$2:$AF2393,13,false)","v":"#N/A"},{"$f":"VLOOKUP(A561,'Copy of Export'!$A$2:$AF2393,2,false)","v":"#N/A"},{"$f":"VLOOKUP(A561,'Copy of Export'!$A$2:$AF2393,5,false)","v":"#N/A"},{"$f":"VLOOKUP(A561,'Copy of Export'!$A$2:$AF2393,8,false)","v":"#N/A"}]
[null,{"$f":"VLOOKUP(A562,'Copy of Export'!$A$2:$AF2393,5,false)","v":"#N/A"},{"$f":"VLOOKUP(A562,'Copy of Export'!$A$2:$AF2393,13,false)","v":"#N/A"},{"$f":"VLOOKUP(A562,'Copy of Export'!$A$2:$AF2393,2,false)","v":"#N/A"},{"$f":"VLOOKUP(A562,'Copy of Export'!$A$2:$AF2393,5,false)","v":"#N/A"},{"$f":"VLOOKUP(A562,'Copy of Export'!$A$2:$AF2393,8,false)","v":"#N/A"}]
[null,{"$f":"VLOOKUP(A563,'Copy of Export'!$A$2:$AF2393,5,false)","v":"#N/A"},{"$f":"VLOOKUP(A563,'Copy of Export'!$A$2:$AF2393,13,false)","v":"#N/A"},{"$f":"VLOOKUP(A563,'Copy of Export'!$A$2:$AF2393,2,false)","v":"#N/A"},{"$f":"VLOOKUP(A563,'Copy of Export'!$A$2:$AF2393,5,false)","v":"#N/A"},{"$f":"VLOOKUP(A563,'Copy of Export'!$A$2:$AF2393,8,false)","v":"#N/A"}]
[null,{"$f":"VLOOKUP(A564,'Copy of Export'!$A$2:$AF2393,5,false)","v":"#N/A"},{"$f":"VLOOKUP(A564,'Copy of Export'!$A$2:$AF2393,13,false)","v":"#N/A"},{"$f":"VLOOKUP(A564,'Copy of Export'!$A$2:$AF2393,2,false)","v":"#N/A"},{"$f":"VLOOKUP(A564,'Copy of Export'!$A$2:$AF2393,5,false)","v":"#N/A"},{"$f":"VLOOKUP(A564,'Copy of Export'!$A$2:$AF2393,8,false)","v":"#N/A"}]
[null,{"$f":"VLOOKUP(A565,'Copy of Export'!$A$2:$AF2393,5,false)","v":"#N/A"},{"$f":"VLOOKUP(A565,'Copy of Export'!$A$2:$AF2393,13,false)","v":"#N/A"},{"$f":"VLOOKUP(A565,'Copy of Export'!$A$2:$AF2393,2,false)","v":"#N/A"},{"$f":"VLOOKUP(A565,'Copy of Export'!$A$2:$AF2393,5,false)","v":"#N/A"},{"$f":"VLOOKUP(A565,'Copy of Export'!$A$2:$AF2393,8,false)","v":"#N/A"}]
[null,{"$f":"VLOOKUP(A566,'Copy of Export'!$A$2:$AF2393,5,false)","v":"#N/A"},{"$f":"VLOOKUP(A566,'Copy of Export'!$A$2:$AF2393,13,false)","v":"#N/A"},{"$f":"VLOOKUP(A566,'Copy of Export'!$A$2:$AF2393,2,false)","v":"#N/A"},{"$f":"VLOOKUP(A566,'Copy of Export'!$A$2:$AF2393,5,false)","v":"#N/A"},{"$f":"VLOOKUP(A566,'Copy of Export'!$A$2:$AF2393,8,false)","v":"#N/A"}]
[null,{"$f":"VLOOKUP(A567,'Copy of Export'!$A$2:$AF2393,5,false)","v":"#N/A"},{"$f":"VLOOKUP(A567,'Copy of Export'!$A$2:$AF2393,13,false)","v":"#N/A"},{"$f":"VLOOKUP(A567,'Copy of Export'!$A$2:$AF2393,2,false)","v":"#N/A"},{"$f":"VLOOKUP(A567,'Copy of Export'!$A$2:$AF2393,5,false)","v":"#N/A"},{"$f":"VLOOKUP(A567,'Copy of Export'!$A$2:$AF2393,8,false)","v":"#N/A"}]
[null,{"$f":"VLOOKUP(A568,'Copy of Export'!$A$2:$AF2393,5,false)","v":"#N/A"},{"$f":"VLOOKUP(A568,'Copy of Export'!$A$2:$AF2393,13,false)","v":"#N/A"},{"$f":"VLOOKUP(A568,'Copy of Export'!$A$2:$AF2393,2,false)","v":"#N/A"},{"$f":"VLOOKUP(A568,'Copy of Export'!$A$2:$AF2393,5,false)","v":"#N/A"},{"$f":"VLOOKUP(A568,'Copy of Export'!$A$2:$AF2393,8,false)","v":"#N/A"}]
[null,{"$f":"VLOOKUP(A569,'Copy of Export'!$A$2:$AF2393,5,false)","v":"#N/A"},{"$f":"VLOOKUP(A569,'Copy of Export'!$A$2:$AF2393,13,false)","v":"#N/A"},{"$f":"VLOOKUP(A569,'Copy of Export'!$A$2:$AF2393,2,false)","v":"#N/A"},{"$f":"VLOOKUP(A569,'Copy of Export'!$A$2:$AF2393,5,false)","v":"#N/A"},{"$f":"VLOOKUP(A569,'Copy of Export'!$A$2:$AF2393,8,false)","v":"#N/A"}]
[null,{"$f":"VLOOKUP(A570,'Copy of Export'!$A$2:$AF2393,5,false)","v":"#N/A"},{"$f":"VLOOKUP(A570,'Copy of Export'!$A$2:$AF2393,13,false)","v":"#N/A"},{"$f":"VLOOKUP(A570,'Copy of Export'!$A$2:$AF2393,2,false)","v":"#N/A"},{"$f":"VLOOKUP(A570,'Copy of Export'!$A$2:$AF2393,5,false)","v":"#N/A"},{"$f":"VLOOKUP(A570,'Copy of Export'!$A$2:$AF2393,8,false)","v":"#N/A"}]
[null,{"$f":"VLOOKUP(A571,'Copy of Export'!$A$2:$AF2393,5,false)","v":"#N/A"},{"$f":"VLOOKUP(A571,'Copy of Export'!$A$2:$AF2393,13,false)","v":"#N/A"},{"$f":"VLOOKUP(A571,'Copy of Export'!$A$2:$AF2393,2,false)","v":"#N/A"},{"$f":"VLOOKUP(A571,'Copy of Export'!$A$2:$AF2393,5,false)","v":"#N/A"},{"$f":"VLOOKUP(A571,'Copy of Export'!$A$2:$AF2393,8,false)","v":"#N/A"}]
[null,{"$f":"VLOOKUP(A572,'Copy of Export'!$A$2:$AF2393,5,false)","v":"#N/A"},{"$f":"VLOOKUP(A572,'Copy of Export'!$A$2:$AF2393,13,false)","v":"#N/A"},{"$f":"VLOOKUP(A572,'Copy of Export'!$A$2:$AF2393,2,false)","v":"#N/A"},{"$f":"VLOOKUP(A572,'Copy of Export'!$A$2:$AF2393,5,false)","v":"#N/A"},{"$f":"VLOOKUP(A572,'Copy of Export'!$A$2:$AF2393,8,false)","v":"#N/A"}]
[null,{"$f":"VLOOKUP(A573,'Copy of Export'!$A$2:$AF2393,5,false)","v":"#N/A"},{"$f":"VLOOKUP(A573,'Copy of Export'!$A$2:$AF2393,13,false)","v":"#N/A"},{"$f":"VLOOKUP(A573,'Copy of Export'!$A$2:$AF2393,2,false)","v":"#N/A"},{"$f":"VLOOKUP(A573,'Copy of Export'!$A$2:$AF2393,5,false)","v":"#N/A"},{"$f":"VLOOKUP(A573,'Copy of Export'!$A$2:$AF2393,8,false)","v":"#N/A"}]
[null,{"$f":"VLOOKUP(A574,'Copy of Export'!$A$2:$AF2393,5,false)","v":"#N/A"},{"$f":"VLOOKUP(A574,'Copy of Export'!$A$2:$AF2393,13,false)","v":"#N/A"},{"$f":"VLOOKUP(A574,'Copy of Export'!$A$2:$AF2393,2,false)","v":"#N/A"},{"$f":"VLOOKUP(A574,'Copy of Export'!$A$2:$AF2393,5,false)","v":"#N/A"},{"$f":"VLOOKUP(A574,'Copy of Export'!$A$2:$AF2393,8,false)","v":"#N/A"}]
[null,{"$f":"VLOOKUP(A575,'Copy of Export'!$A$2:$AF2393,5,false)","v":"#N/A"},{"$f":"VLOOKUP(A575,'Copy of Export'!$A$2:$AF2393,13,false)","v":"#N/A"},{"$f":"VLOOKUP(A575,'Copy of Export'!$A$2:$AF2393,2,false)","v":"#N/A"},{"$f":"VLOOKUP(A575,'Copy of Export'!$A$2:$AF2393,5,false)","v":"#N/A"},{"$f":"VLOOKUP(A575,'Copy of Export'!$A$2:$AF2393,8,false)","v":"#N/A"}]
[null,{"$f":"VLOOKUP(A576,'Copy of Export'!$A$2:$AF2393,5,false)","v":"#N/A"},{"$f":"VLOOKUP(A576,'Copy of Export'!$A$2:$AF2393,13,false)","v":"#N/A"},{"$f":"VLOOKUP(A576,'Copy of Export'!$A$2:$AF2393,2,false)","v":"#N/A"},{"$f":"VLOOKUP(A576,'Copy of Export'!$A$2:$AF2393,5,false)","v":"#N/A"},{"$f":"VLOOKUP(A576,'Copy of Export'!$A$2:$AF2393,8,false)","v":"#N/A"}]
[null,{"$f":"VLOOKUP(A577,'Copy of Export'!$A$2:$AF2393,5,false)","v":"#N/A"},{"$f":"VLOOKUP(A577,'Copy of Export'!$A$2:$AF2393,13,false)","v":"#N/A"},{"$f":"VLOOKUP(A577,'Copy of Export'!$A$2:$AF2393,2,false)","v":"#N/A"},{"$f":"VLOOKUP(A577,'Copy of Export'!$A$2:$AF2393,5,false)","v":"#N/A"},{"$f":"VLOOKUP(A577,'Copy of Export'!$A$2:$AF2393,8,false)","v":"#N/A"}]
[null,{"$f":"VLOOKUP(A578,'Copy of Export'!$A$2:$AF2393,5,false)","v":"#N/A"},{"$f":"VLOOKUP(A578,'Copy of Export'!$A$2:$AF2393,13,false)","v":"#N/A"},{"$f":"VLOOKUP(A578,'Copy of Export'!$A$2:$AF2393,2,false)","v":"#N/A"},{"$f":"VLOOKUP(A578,'Copy of Export'!$A$2:$AF2393,5,false)","v":"#N/A"},{"$f":"VLOOKUP(A578,'Copy of Export'!$A$2:$AF2393,8,false)","v":"#N/A"}]
[null,{"$f":"VLOOKUP(A579,'Copy of Export'!$A$2:$AF2393,5,false)","v":"#N/A"},{"$f":"VLOOKUP(A579,'Copy of Export'!$A$2:$AF2393,13,false)","v":"#N/A"},{"$f":"VLOOKUP(A579,'Copy of Export'!$A$2:$AF2393,2,false)","v":"#N/A"},{"$f":"VLOOKUP(A579,'Copy of Export'!$A$2:$AF2393,5,false)","v":"#N/A"},{"$f":"VLOOKUP(A579,'Copy of Export'!$A$2:$AF2393,8,false)","v":"#N/A"}]
[null,{"$f":"VLOOKUP(A580,'Copy of Export'!$A$2:$AF2393,5,false)","v":"#N/A"},{"$f":"VLOOKUP(A580,'Copy of Export'!$A$2:$AF2393,13,false)","v":"#N/A"},{"$f":"VLOOKUP(A580,'Copy of Export'!$A$2:$AF2393,2,false)","v":"#N/A"},{"$f":"VLOOKUP(A580,'Copy of Export'!$A$2:$AF2393,5,false)","v":"#N/A"},{"$f":"VLOOKUP(A580,'Copy of Export'!$A$2:$AF2393,8,false)","v":"#N/A"}]

{"sheet":"DONT USE-ELMOs","index":2,"n_rows":580,"n_cols":9,"rows_kept":580,"hidden":true}
["Asset Tag","Description","Model","S/N","Brand","Category","Condition","Marked as Ready to Declare (if in IIQ)","Deprovisioned in Google Admin"]
["36186",{"$f":"VLOOKUP(A2,'Copy of Export'!$A$2:$AF2393,5,false)","v":"#N/A"},{"$f":"VLOOKUP(A2,'Copy of Export'!$A$2:$AF2393,13,false)","v":"#N/A"},{"$f":"VLOOKUP(A2,'Copy of Export'!$A$2:$AF2393,2,false)","v":"#N/A"},{"$f":"VLOOKUP(A2,'Copy of Export'!$A$2:$AF2393,5,false)","v":"#N/A"},{"$f":"VLOOKUP(A2,'Copy of Export'!$A$2:$AF2393,8,false)","v":"#N/A"},"Working"]
["52255",{"$f":"VLOOKUP(A3,'Copy of Export'!$A$2:$AF2393,5,false)","v":"#N/A"},{"$f":"VLOOKUP(A3,'Copy of Export'!$A$2:$AF2393,13,false)","v":"#N/A"},{"$f":"VLOOKUP(A3,'Copy of Export'!$A$2:$AF2393,2,false)","v":"#N/A"},{"$f":"VLOOKUP(A3,'Copy of Export'!$A$2:$AF2393,5,false)","v":"#N/A"},{"$f":"VLOOKUP(A3,'Copy of Export'!$A$2:$AF2393,8,false)","v":"#N/A"},"Broken"]
["36704",{"$f":"VLOOKUP(A4,'Copy of Export'!$A$2:$AF2393,5,false)","v":"#N/A"},{"$f":"VLOOKUP(A4,'Copy of Export'!$A$2:$AF2393,13,false)","v":"#N/A"},{"$f":"VLOOKUP(A4,'Copy of Export'!$A$2:$AF2393,2,false)","v":"#N/A"},{"$f":"VLOOKUP(A4,'Copy of Export'!$A$2:$AF2393,5,false)","v":"#N/A"},{"$f":"VLOOKUP(A4,'Copy of Export'!$A$2:$AF2393,8,false)","v":"#N/A"},"Broken"]
["42349",{"$f":"VLOOKUP(A5,'Copy of Export'!$A$2:$AF2393,5,false)","v":"#N/A"},{"$f":"VLOOKUP(A5,'Copy of Export'!$A$2:$AF2393,13,false)","v":"#N/A"},{"$f":"VLOOKUP(A5,'Copy of Export'!$A$2:$AF2393,2,false)","v":"#N/A"},{"$f":"VLOOKUP(A5,'Copy of Export'!$A$2:$AF2393,5,false)","v":"#N/A"},{"$f":"VLOOKUP(A5,'Copy of Export'!$A$2:$AF2393,8,false)","v":"#N/A"},"Broken"]
["39019",{"$f":"VLOOKUP(A6,'Copy of Export'!$A$2:$AF2393,5,false)","v":"#N/A"},{"$f":"VLOOKUP(A6,'Copy of Export'!$A$2:$AF2393,13,false)","v":"#N/A"},{"$f":"VLOOKUP(A6,'Copy of Export'!$A$2:$AF2393,2,false)","v":"#N/A"},{"$f":"VLOOKUP(A6,'Copy of Export'!$A$2:$AF2393,5,false)","v":"#N/A"},{"$f":"VLOOKUP(A6,'Copy of Export'!$A$2:$AF2393,8,false)","v":"#N/A"},"Broken"]
["54571",{"$f":"VLOOKUP(A7,'Copy of Export'!$A$2:$AF2393,5,false)","v":"ELMO TT-12iD Document Camera"},{"$f":"VLOOKUP(A7,'Copy of Export'!$A$2:$AF2393,13,false)","v":"TT-12iD"},{"$f":"VLOOKUP(A7,'Copy of Export'!$A$2:$AF2393,2,false)","v":"1415524"},{"$f":"VLOOKUP(A7,'Copy of Export'!$A$2:$AF2393,5,false)","v":"ELMO TT-12iD Document Camera"},{"$f":"VLOOKUP(A7,'Copy of Export'!$A$2:$AF2393,8,false)","v":"Document Camera"},"Broken"]
["52342",{"$f":"VLOOKUP(A8,'Copy of Export'!$A$2:$AF2393,5,false)","v":"#N/A"},{"$f":"VLOOKUP(A8,'Copy of Export'!$A$2:$AF2393,13,false)","v":"#N/A"},{"$f":"VLOOKUP(A8,'Copy of Export'!$A$2:$AF2393,2,false)","v":"#N/A"},{"$f":"VLOOKUP(A8,'Copy of Export'!$A$2:$AF2393,5,false)","v":"#N/A"},{"$f":"VLOOKUP(A8,'Copy of Export'!$A$2:$AF2393,8,false)","v":"#N/A"},"Broken"]
["54569",{"$f":"VLOOKUP(A9,'Copy of Export'!$A$2:$AF2393,5,false)","v":"ELMO TT-12iD Document Camera"},{"$f":"VLOOKUP(A9,'Copy of Export'!$A$2:$AF2393,13,false)","v":"TT-12iD"},{"$f":"VLOOKUP(A9,'Copy of Export'!$A$2:$AF2393,2,false)","v":"1415553"},{"$f":"VLOOKUP(A9,'Copy of Export'!$A$2:$AF2393,5,false)","v":"ELMO TT-12iD Document Camera"},{"$f":"VLOOKUP(A9,'Copy of Export'!$A$2:$AF2393,8,false)","v":"Document Camera"},"Broken"]
[null,"ELMO TT12i","TT-12iD",1510027,"ELMO TT12i","Document Camera","Broken"]
[null,"ELMO TT-02RX Document Camera","TT-02RX",646244,"ELMO TT02RX","Document Camera","Broken"]
["48307",{"$f":"VLOOKUP(A12,'Copy of Export'!$A$2:$AF2393,5,false)","v":"#N/A"},{"$f":"VLOOKUP(A12,'Copy of Export'!$A$2:$AF2393,13,false)","v":"#N/A"},{"$f":"VLOOKUP(A12,'Copy of Export'!$A$2:$AF2393,2,false)","v":"#N/A"},{"$f":"VLOOKUP(A12,'Copy of Export'!$A$2:$AF2393,5,false)","v":"#N/A"},{"$f":"VLOOKUP(A12,'Copy of Export'!$A$2:$AF2393,8,false)","v":"#N/A"},"Working"]
["47527",{"$f":"VLOOKUP(A13,'Copy of Export'!$A$2:$AF2393,5,false)","v":"ELMO TT-12iD Document Camera"},{"$f":"VLOOKUP(A13,'Copy of Export'!$A$2:$AF2393,13,false)","v":"TT-12iD"},{"$f":"VLOOKUP(A13,'Copy of Export'!$A$2:$AF2393,2,false)","v":"1317496"},{"$f":"VLOOKUP(A13,'Copy of Export'!$A$2:$AF2393,5,false)","v":"ELMO TT-12iD Document Camera"},{"$f":"VLOOKUP(A13,'Copy of Export'!$A$2:$AF2393,8,false)","v":"Document Camera"},"Working"]
["48387",{"$f":"VLOOKUP(A14,'Copy of Export'!$A$2:$AF2393,5,false)","v":"#N/A"},{"$f":"VLOOKUP(A14,'Copy of Export'!$A$2:$AF2393,13,false)","v":"#N/A"},{"$f":"VLOOKUP(A14,'Copy of Export'!$A$2:$AF2393,2,false)","v":"#N/A"},{"$f":"VLOOKUP(A14,'Copy of Export'!$A$2:$AF2393,5,false)","v":"#N/A"},{"$f":"VLOOKUP(A14,'Copy of Export'!$A$2:$AF2393,8,false)","v":"#N/A"},"Working"]
["36663",{"$f":"VLOOKUP(A15,'Copy of Export'!$A$2:$AF2393,5,false)","v":"#N/A"},{"$f":"VLOOKUP(A15,'Copy of Export'!$A$2:$AF2393,13,false)","v":"#N/A"},{"$f":"VLOOKUP(A15,'Copy of Export'!$A$2:$AF2393,2,false)","v":"#N/A"},{"$f":"VLOOKUP(A15,'Copy of Export'!$A$2:$AF2393,5,false)","v":"#N/A"},{"$f":"VLOOKUP(A15,'Copy of Export'!$A$2:$AF2393,8,false)","v":"#N/A"},"Working"]
["44945",{"$f":"VLOOKUP(A16,'Copy of Export'!$A$2:$AF2393,5,false)","v":"#N/A"},{"$f":"VLOOKUP(A16,'Copy of Export'!$A$2:$AF2393,13,false)","v":"#N/A"},{"$f":"VLOOKUP(A16,'Copy of Export'!$A$2:$AF2393,2,false)","v":"#N/A"},{"$f":"VLOOKUP(A16,'Copy of Export'!$A$2:$AF2393,5,false)","v":"#N/A"},{"$f":"VLOOKUP(A16,'Copy of Export'!$A$2:$AF2393,8,false)","v":"#N/A"},"Working"]
["39159",{"$f":"VLOOKUP(A17,'Copy of Export'!$A$2:$AF2393,5,false)","v":"ELMO TT-02s Document Camera"},{"$f":"VLOOKUP(A17,'Copy of Export'!$A$2:$AF2393,13,false)","v":"TT-02s"},{"$f":"VLOOKUP(A17,'Copy of Export'!$A$2:$AF2393,2,false)","v":"108326"},{"$f":"VLOOKUP(A17,'Copy of Export'!$A$2:$AF2393,5,false)","v":"ELMO TT-02s Document Camera"},{"$f":"VLOOKUP(A17,'Copy of Export'!$A$2:$AF2393,8,false)","v":"Document Camera"},"Working"]
["40795",{"$f":"VLOOKUP(A18,'Copy of Export'!$A$2:$AF2393,5,false)","v":"#N/A"},{"$f":"VLOOKUP(A18,'Copy of Export'!$A$2:$AF2393,13,false)","v":"#N/A"},{"$f":"VLOOKUP(A18,'Copy of Export'!$A$2:$AF2393,2,false)","v":"#N/A"},{"$f":"VLOOKUP(A18,'Copy of Export'!$A$2:$AF2393,5,false)","v":"#N/A"},{"$f":"VLOOKUP(A18,'Copy of Export'!$A$2:$AF2393,8,false)","v":"#N/A"},"Working"]
["47475",{"$f":"VLOOKUP(A19,'Copy of Export'!$A$2:$AF2393,5,false)","v":"ELMO TT-12 Document Camera"},{"$f":"VLOOKUP(A19,'Copy of Export'!$A$2:$AF2393,13,false)","v":"TT-12"},{"$f":"VLOOKUP(A19,'Copy of Export'!$A$2:$AF2393,2,false)","v":""},{"$f":"VLOOKUP(A19,'Copy of Export'!$A$2:$AF2393,5,false)","v":"ELMO TT-12 Document Camera"},{"$f":"VLOOKUP(A19,'Copy of Export'!$A$2:$AF2393,8,false)","v":"Document Camera"},"Working"]
["53455",{"$f":"VLOOKUP(A20,'Copy of Export'!$A$2:$AF2393,5,false)","v":"#N/A"},{"$f":"VLOOKUP(A20,'Copy of Export'!$A$2:$AF2393,13,false)","v":"#N/A"},{"$f":"VLOOKUP(A20,'Copy of Export'!$A$2:$AF2393,2,false)","v":"#N/A"},{"$f":"VLOOKUP(A20,'Copy of Export'!$A$2:$AF2393,5,false)","v":"#N/A"},{"$f":"VLOOKUP(A20,'Copy of Export'!$A$2:$AF2393,8,false)","v":"#N/A"},"Working"]
["36348",{"$f":"VLOOKUP(A21,'Copy of Export'!$A$2:$AF2393,5,false)","v":"ELMO TT-02s Document Camera"},{"$f":"VLOOKUP(A21,'Copy of Export'!$A$2:$AF2393,13,false)","v":"TT-02s"},{"$f":"VLOOKUP(A21,'Copy of Export'!$A$2:$AF2393,2,false)","v":"500621"},{"$f":"VLOOKUP(A21,'Copy of Export'!$A$2:$AF2393,5,false)","v":"ELMO TT-02s Document Camera"},{"$f":"VLOOKUP(A21,'Copy of Export'!$A$2:$AF2393,8,false)","v":"Document Camera"},"Working"]
["40676",{"$f":"VLOOKUP(A22,'Copy of Export'!$A$2:$AF2393,5,false)","v":"ELMO TT-02RX Document Camera"},{"$f":"VLOOKUP(A22,'Copy of Export'!$A$2:$AF2393,13,false)","v":"TT-02RX"},{"$f":"VLOOKUP(A22,'Copy of Export'!$A$2:$AF2393,2,false)","v":"557792"},{"$f":"VLOOKUP(A22,'Copy of Export'!$A$2:$AF2393,5,false)","v":"ELMO TT-02RX Document Camera"},{"$f":"VLOOKUP(A22,'Copy of Export'!$A$2:$AF2393,8,false)","v":"Document Camera"},"Working"]
["52253",{"$f":"VLOOKUP(A23,'Copy of Export'!$A$2:$AF2393,5,false)","v":"#N/A"},{"$f":"VLOOKUP(A23,'Copy of Export'!$A$2:$AF2393,13,false)","v":"#N/A"},{"$f":"VLOOKUP(A23,'Copy of Export'!$A$2:$AF2393,2,false)","v":"#N/A"},{"$f":"VLOOKUP(A23,'Copy of Export'!$A$2:$AF2393,5,false)","v":"#N/A"},{"$f":"VLOOKUP(A23,'Copy of Export'!$A$2:$AF2393,8,false)","v":"#N/A"},"Working"]
["39564",{"$f":"VLOOKUP(A24,'Copy of Export'!$A$2:$AF2393,5,false)","v":"ELMO TT-02s Document Camera"},{"$f":"VLOOKUP(A24,'Copy of Export'!$A$2:$AF2393,13,false)","v":"TT-02s"},{"$f":"VLOOKUP(A24,'Copy of Export'!$A$2:$AF2393,2,false)","v":"108338"},{"$f":"VLOOKUP(A24,'Copy of Export'!$A$2:$AF2393,5,false)","v":"ELMO TT-02s Document Camera"},{"$f":"VLOOKUP(A24,'Copy of Export'!$A$2:$AF2393,8,false)","v":"Document Camera"},"Working"]
["48431",{"$f":"VLOOKUP(A25,'Copy of Export'!$A$2:$AF2393,5,false)","v":"#N/A"},{"$f":"VLOOKUP(A25,'Copy of Export'!$A$2:$AF2393,13,false)","v":"#N/A"},{"$f":"VLOOKUP(A25,'Copy of Export'!$A$2:$AF2393,2,false)","v":"#N/A"},{"$f":"VLOOKUP(A25,'Copy of Export'!$A$2:$AF2393,5,false)","v":"#N/A"},{"$f":"VLOOKUP(A25,'Copy of Export'!$A$2:$AF2393,8,false)","v":"#N/A"},"Working"]
["46166",{"$f":"VLOOKUP(A26,'Copy of Export'!$A$2:$AF2393,5,false)","v":"#N/A"},{"$f":"VLOOKUP(A26,'Copy of Export'!$A$2:$AF2393,13,false)","v":"#N/A"},{"$f":"VLOOKUP(A26,'Copy of Export'!$A$2:$AF2393,2,false)","v":"#N/A"},{"$f":"VLOOKUP(A26,'Copy of Export'!$A$2:$AF2393,5,false)","v":"#N/A"},{"$f":"VLOOKUP(A26,'Copy of Export'!$A$2:$AF2393,8,false)","v":"#N/A"},"Working"]
["48406",{"$f":"VLOOKUP(A27,'Copy of Export'!$A$2:$AF2393,5,false)","v":"ELMO TT-02RX Document Camera"},{"$f":"VLOOKUP(A27,'Copy of Export'!$A$2:$AF2393,13,false)","v":"TT-02RX"},{"$f":"VLOOKUP(A27,'Copy of Export'!$A$2:$AF2393,2,false)","v":""},{"$f":"VLOOKUP(A27,'Copy of Export'!$A$2:$AF2393,5,false)","v":"ELMO TT-02RX Document Camera"},{"$f":"VLOOKUP(A27,'Copy of Export'!$A$2:$AF2393,8,false)","v":"Document Camera"},"Working"]
["40692",{"$f":"VLOOKUP(A28,'Copy of Export'!$A$2:$AF2393,5,false)","v":"#N/A"},{"$f":"VLOOKUP(A28,'Copy of Export'!$A$2:$AF2393,13,false)","v":"#N/A"},{"$f":"VLOOKUP(A28,'Copy of Export'!$A$2:$AF2393,2,false)","v":"#N/A"},{"$f":"VLOOKUP(A28,'Copy of Export'!$A$2:$AF2393,5,false)","v":"#N/A"},{"$f":"VLOOKUP(A28,'Copy of Export'!$A$2:$AF2393,8,false)","v":"#N/A"},"Working"]
["54577",{"$f":"VLOOKUP(A29,'Copy of Export'!$A$2:$AF2393,5,false)","v":"ELMO TT-12iD Document Camera"},{"$f":"VLOOKUP(A29,'Copy of Export'!$A$2:$AF2393,13,false)","v":"TT-12iD"},{"$f":"VLOOKUP(A29,'Copy of Export'!$A$2:$AF2393,2,false)","v":"1415523"},{"$f":"VLOOKUP(A29,'Copy of Export'!$A$2:$AF2393,5,false)","v":"ELMO TT-12iD Document Camera"},{"$f":"VLOOKUP(A29,'Copy of Export'!$A$2:$AF2393,8,false)","v":"Document Camera"},"Working"]
["46197",{"$f":"VLOOKUP(A30,'Copy of Export'!$A$2:$AF2393,5,false)","v":"#N/A"},{"$f":"VLOOKUP(A30,'Copy of Export'!$A$2:$AF2393,13,false)","v":"#N/A"},{"$f":"VLOOKUP(A30,'Copy of Export'!$A$2:$AF2393,2,false)","v":"#N/A"},{"$f":"VLOOKUP(A30,'Copy of Export'!$A$2:$AF2393,5,false)","v":"#N/A"},{"$f":"VLOOKUP(A30,'Copy of Export'!$A$2:$AF2393,8,false)","v":"#N/A"},"Working"]
["46277",{"$f":"VLOOKUP(A31,'Copy of Export'!$A$2:$AF2393,5,false)","v":"ELMO TT-02RX Document Camera"},{"$f":"VLOOKUP(A31,'Copy of Export'!$A$2:$AF2393,13,false)","v":"TT-02RX"},{"$f":"VLOOKUP(A31,'Copy of Export'!$A$2:$AF2393,2,false)","v":"514080"},{"$f":"VLOOKUP(A31,'Copy of Export'!$A$2:$AF2393,5,false)","v":"ELMO TT-02RX Document Camera"},{"$f":"VLOOKUP(A31,'Copy of Export'!$A$2:$AF2393,8,false)","v":"Document Camera"},"Broken"]
["47737","ELMO TT-12",{"$f":"VLOOKUP(A32,'Copy of Export'!$A$2:$AF2393,13,false)","v":"#N/A"},1285698,{"$f":"VLOOKUP(A32,'Copy of Export'!$A$2:$AF2393,5,false)","v":"#N/A"},{"$f":"VLOOKUP(A32,'Copy of Export'!$A$2:$AF2393,8,false)","v":"#N/A"},"Working"]
["42100",{"$f":"VLOOKUP(A33,'Copy of Export'!$A$2:$AF2393,5,false)","v":"#N/A"},{"$f":"VLOOKUP(A33,'Copy of Export'!$A$2:$AF2393,13,false)","v":"#N/A"},{"$f":"VLOOKUP(A33,'Copy of Export'!$A$2:$AF2393,2,false)","v":"#N/A"},{"$f":"VLOOKUP(A33,'Copy of Export'!$A$2:$AF2393,5,false)","v":"#N/A"},{"$f":"VLOOKUP(A33,'Copy of Export'!$A$2:$AF2393,8,false)","v":"#N/A"},"Working"]
["52254",{"$f":"VLOOKUP(A34,'Copy of Export'!$A$2:$AF2393,5,false)","v":"#N/A"},{"$f":"VLOOKUP(A34,'Copy of Export'!$A$2:$AF2393,13,false)","v":"#N/A"},{"$f":"VLOOKUP(A34,'Copy of Export'!$A$2:$AF2393,2,false)","v":"#N/A"},{"$f":"VLOOKUP(A34,'Copy of Export'!$A$2:$AF2393,5,false)","v":"#N/A"},{"$f":"VLOOKUP(A34,'Copy of Export'!$A$2:$AF2393,8,false)","v":"#N/A"},"Working"]
["46214",{"$f":"VLOOKUP(A35,'Copy of Export'!$A$2:$AF2393,5,false)","v":"#N/A"},{"$f":"VLOOKUP(A35,'Copy of Export'!$A$2:$AF2393,13,false)","v":"#N/A"},{"$f":"VLOOKUP(A35,'Copy of Export'!$A$2:$AF2393,2,false)","v":"#N/A"},{"$f":"VLOOKUP(A35,'Copy of Export'!$A$2:$AF2393,5,false)","v":"#N/A"},{"$f":"VLOOKUP(A35,'Copy of Export'!$A$2:$AF2393,8,false)","v":"#N/A"},"Working"]
["35024",{"$f":"VLOOKUP(A36,'Copy of Export'!$A$2:$AF2393,5,false)","v":"#N/A"},{"$f":"VLOOKUP(A36,'Copy of Export'!$A$2:$AF2393,13,false)","v":"#N/A"},{"$f":"VLOOKUP(A36,'Copy of Export'!$A$2:$AF2393,2,false)","v":"#N/A"},{"$f":"VLOOKUP(A36,'Copy of Export'!$A$2:$AF2393,5,false)","v":"#N/A"},{"$f":"VLOOKUP(A36,'Copy of Export'!$A$2:$AF2393,8,false)","v":"#N/A"},"Working"]
[null,{"$f":"VLOOKUP(A37,'Copy of Export'!$A$2:$AF2393,5,false)","v":"#N/A"},{"$f":"VLOOKUP(A37,'Copy of Export'!$A$2:$AF2393,13,false)","v":"#N/A"},{"$f":"VLOOKUP(A37,'Copy of Export'!$A$2:$AF2393,2,false)","v":"#N/A"},{"$f":"VLOOKUP(A37,'Copy of Export'!$A$2:$AF2393,5,false)","v":"#N/A"},{"$f":"VLOOKUP(A37,'Copy of Export'!$A$2:$AF2393,8,false)","v":"#N/A"},"Working"]
["69421",{"$f":"VLOOKUP(A38,'Copy of Export'!$A$2:$AF2393,5,false)","v":"Dell 19\" Widescreen Monitor"},{"$f":"VLOOKUP(A38,'Copy of Export'!$A$2:$AF2393,13,false)","v":"P2419h"},{"$f":"VLOOKUP(A38,'Copy of Export'!$A$2:$AF2393,2,false)","v":"C4092"},{"$f":"VLOOKUP(A38,'Copy of Export'!$A$2:$AF2393,5,false)","v":"Dell 19\" Widescreen Monitor"},{"$f":"VLOOKUP(A38,'Copy of Export'!$A$2:$AF2393,8,false)","v":"Monitor"},"Working"]
["30649",{"$f":"VLOOKUP(A39,'Copy of Export'!$A$2:$AF2393,5,false)","v":"#N/A"},{"$f":"VLOOKUP(A39,'Copy of Export'!$A$2:$AF2393,13,false)","v":"#N/A"},{"$f":"VLOOKUP(A39,'Copy of Export'!$A$2:$AF2393,2,false)","v":"#N/A"},{"$f":"VLOOKUP(A39,'Copy of Export'!$A$2:$AF2393,5,false)","v":"#N/A"},{"$f":"VLOOKUP(A39,'Copy of Export'!$A$2:$AF2393,8,false)","v":"#N/A"},"Broken"]
["40406",{"$f":"VLOOKUP(A40,'Copy of Export'!$A$2:$AF2393,5,false)","v":"Lenovo ThinkVision 22\" LCD Monitor"},{"$f":"VLOOKUP(A40,'Copy of Export'!$A$2:$AF2393,13,false)","v":"L2250p"},{"$f":"VLOOKUP(A40,'Copy of Export'!$A$2:$AF2393,2,false)","v":"V6-X4416"},{"$f":"VLOOKUP(A40,'Copy of Export'!$A$2:$AF2393,5,false)","v":"Lenovo ThinkVision 22\" LCD Monitor"},{"$f":"VLOOKUP(A40,'Copy of Export'!$A$2:$AF2393,8,false)","v":"Monitor"},"Broken"]
["42072",{"$f":"VLOOKUP(A41,'Copy of Export'!$A$2:$AF2393,5,false)","v":"#N/A"},{"$f":"VLOOKUP(A41,'Copy of Export'!$A$2:$AF2393,13,false)","v":"#N/A"},{"$f":"VLOOKUP(A41,'Copy of Export'!$A$2:$AF2393,2,false)","v":"#N/A"},{"$f":"VLOOKUP(A41,'Copy of Export'!$A$2:$AF2393,5,false)","v":"#N/A"},{"$f":"VLOOKUP(A41,'Copy of Export'!$A$2:$AF2393,8,false)","v":"#N/A"},"Broken"]
["41998",{"$f":"VLOOKUP(A42,'Copy of Export'!$A$2:$AF2393,5,false)","v":"#N/A"},{"$f":"VLOOKUP(A42,'Copy of Export'!$A$2:$AF2393,13,false)","v":"#N/A"},{"$f":"VLOOKUP(A42,'Copy of Export'!$A$2:$AF2393,2,false)","v":"#N/A"},{"$f":"VLOOKUP(A42,'Copy of Export'!$A$2:$AF2393,5,false)","v":"#N/A"},{"$f":"VLOOKUP(A42,'Copy of Export'!$A$2:$AF2393,8,false)","v":"#N/A"},"Working"]
["46046",{"$f":"VLOOKUP(A43,'Copy of Export'!$A$2:$AF2393,5,false)","v":"Lenovo ThinkCentre M92z 3311 (Core i5-3470T, 4GB, 500GB HDD)"},{"$f":"VLOOKUP(A43,'Copy of Export'!$A$2:$AF2393,13,false)","v":"M92z"},{"$f":"VLOOKUP(A43,'Copy of Export'!$A$2:$AF2393,2,false)","v":"MJVZZOT"},{"$f":"VLOOKUP(A43,'Copy of Export'!$A$2:$AF2393,5,false)","v":"Lenovo ThinkCentre M92z 3311 (Core i5-3470T, 4GB, 500GB HDD)"},{"$f":"VLOOKUP(A43,'Copy of Export'!$A$2:$AF2393,8,false)","v":"Desktop"},"Working"]
[null,"Dell 19\" Widescreen Monitor","Model2208",{"$f":"VLOOKUP(A44,'Copy of Export'!$A$2:$AF2393,2,false)","v":"#N/A"},{"$f":"VLOOKUP(A44,'Copy of Export'!$A$2:$AF2393,5,false)","v":"#N/A"},{"$f":"VLOOKUP(A44,'Copy of Export'!$A$2:$AF2393,8,false)","v":"#N/A"},"Working"]
[null,"Dell 19\" Widescreen Monitor","Model unk",{"$f":"VLOOKUP(A45,'Copy of Export'!$A$2:$AF2393,2,false)","v":"#N/A"},{"$f":"VLOOKUP(A45,'Copy of Export'!$A$2:$AF2393,5,false)","v":"#N/A"},{"$f":"VLOOKUP(A45,'Copy of Export'!$A$2:$AF2393,8,false)","v":"#N/A"},"Working"]
["54786",{"$f":"VLOOKUP(A46,'Copy of Export'!$A$2:$AF2393,5,false)","v":"#N/A"},{"$f":"VLOOKUP(A46,'Copy of Export'!$A$2:$AF2393,13,false)","v":"#N/A"},{"$f":"VLOOKUP(A46,'Copy of Export'!$A$2:$AF2393,2,false)","v":"#N/A"},{"$f":"VLOOKUP(A46,'Copy of Export'!$A$2:$AF2393,5,false)","v":"#N/A"},{"$f":"VLOOKUP(A46,'Copy of Export'!$A$2:$AF2393,8,false)","v":"#N/A"},"Working"]
["46049",{"$f":"VLOOKUP(A47,'Copy of Export'!$A$2:$AF2393,5,false)","v":"Lenovo ThinkCentre M92z 3311 (Core i5-3470T, 4GB, 500GB HDD)"},{"$f":"VLOOKUP(A47,'Copy of Export'!$A$2:$AF2393,13,false)","v":"M92z"},{"$f":"VLOOKUP(A47,'Copy of Export'!$A$2:$AF2393,2,false)","v":"MJVXYWN"},{"$f":"VLOOKUP(A47,'Copy of Export'!$A$2:$AF2393,5,false)","v":"Lenovo ThinkCentre M92z 3311 (Core i5-3470T, 4GB, 500GB HDD)"},{"$f":"VLOOKUP(A47,'Copy of Export'!$A$2:$AF2393,8,false)","v":"Desktop"},"Working"]
["68793",{"$f":"VLOOKUP(A48,'Copy of Export'!$A$2:$AF2393,5,false)","v":"#N/A"},{"$f":"VLOOKUP(A48,'Copy of Export'!$A$2:$AF2393,13,false)","v":"#N/A"},{"$f":"VLOOKUP(A48,'Copy of Export'!$A$2:$AF2393,2,false)","v":"#N/A"},{"$f":"VLOOKUP(A48,'Copy of Export'!$A$2:$AF2393,5,false)","v":"#N/A"},{"$f":"VLOOKUP(A48,'Copy of Export'!$A$2:$AF2393,8,false)","v":"#N/A"},"Broken"]
["54785",{"$f":"VLOOKUP(A49,'Copy of Export'!$A$2:$AF2393,5,false)","v":"#N/A"},{"$f":"VLOOKUP(A49,'Copy of Export'!$A$2:$AF2393,13,false)","v":"#N/A"},{"$f":"VLOOKUP(A49,'Copy of Export'!$A$2:$AF2393,2,false)","v":"#N/A"},{"$f":"VLOOKUP(A49,'Copy of Export'!$A$2:$AF2393,5,false)","v":"#N/A"},{"$f":"VLOOKUP(A49,'Copy of Export'!$A$2:$AF2393,8,false)","v":"#N/A"},"Working"]
["41221",{"$f":"VLOOKUP(A50,'Copy of Export'!$A$2:$AF2393,5,false)","v":"#N/A"},{"$f":"VLOOKUP(A50,'Copy of Export'!$A$2:$AF2393,13,false)","v":"#N/A"},{"$f":"VLOOKUP(A50,'Copy of Export'!$A$2:$AF2393,2,false)","v":"#N/A"},{"$f":"VLOOKUP(A50,'Copy of Export'!$A$2:$AF2393,5,false)","v":"#N/A"},{"$f":"VLOOKUP(A50,'Copy of Export'!$A$2:$AF2393,8,false)","v":"#N/A"},"Broken"]
[null,"Dell 19\" Widescreen Monitor","model??",{"$f":"VLOOKUP(A51,'Copy of Export'!$A$2:$AF2393,2,false)","v":"#N/A"},{"$f":"VLOOKUP(A51,'Copy of Export'!$A$2:$AF2393,5,false)","v":"#N/A"},{"$f":"VLOOKUP(A51,'Copy of Export'!$A$2:$AF2393,8,false)","v":"#N/A"},"Working"]
["41380",{"$f":"VLOOKUP(A52,'Copy of Export'!$A$2:$AF2393,5,false)","v":"#N/A"},{"$f":"VLOOKUP(A52,'Copy of Export'!$A$2:$AF2393,13,false)","v":"#N/A"},{"$f":"VLOOKUP(A52,'Copy of Export'!$A$2:$AF2393,2,false)","v":"#N/A"},{"$f":"VLOOKUP(A52,'Copy of Export'!$A$2:$AF2393,5,false)","v":"#N/A"},{"$f":"VLOOKUP(A52,'Copy of Export'!$A$2:$AF2393,8,false)","v":"#N/A"},"Broken"]
["48047",{"$f":"VLOOKUP(A53,'Copy of Export'!$A$2:$AF2393,5,false)","v":"#N/A"},{"$f":"VLOOKUP(A53,'Copy of Export'!$A$2:$AF2393,13,false)","v":"#N/A"},{"$f":"VLOOKUP(A53,'Copy of Export'!$A$2:$AF2393,2,false)","v":"#N/A"},{"$f":"VLOOKUP(A53,'Copy of Export'!$A$2:$AF2393,5,false)","v":"#N/A"},{"$f":"VLOOKUP(A53,'Copy of Export'!$A$2:$AF2393,8,false)","v":"#N/A"},"Working"]
[null,"Dell","P223",{"$f":"VLOOKUP(A54,'Copy of Export'!$A$2:$AF2393,2,false)","v":"#N/A"},{"$f":"VLOOKUP(A54,'Copy of Export'!$A$2:$AF2393,5,false)","v":"#N/A"},{"$f":"VLOOKUP(A54,'Copy of Export'!$A$2:$AF2393,8,false)","v":"#N/A"},"Working"]
["48334",{"$f":"VLOOKUP(A55,'Copy of Export'!$A$2:$AF2393,5,false)","v":"Lenovo ThinkCentre M93z 10AF All In One"},{"$f":"VLOOKUP(A55,'Copy of Export'!$A$2:$AF2393,13,false)","v":"M93p"},{"$f":"VLOOKUP(A55,'Copy of Export'!$A$2:$AF2393,2,false)","v":"MJ00SKCP"},{"$f":"VLOOKUP(A55,'Copy of Export'!$A$2:$AF2393,5,false)","v":"Lenovo ThinkCentre M93z 10AF All In One"},{"$f":"VLOOKUP(A55,'Copy of Export'!$A$2:$AF2393,8,false)","v":"Desktop"},"Working"]
["43516",{"$f":"VLOOKUP(A56,'Copy of Export'!$A$2:$AF2393,5,false)","v":"#N/A"},{"$f":"VLOOKUP(A56,'Copy of Export'!$A$2:$AF2393,13,false)","v":"#N/A"},{"$f":"VLOOKUP(A56,'Copy of Export'!$A$2:$AF2393,2,false)","v":"#N/A"},{"$f":"VLOOKUP(A56,'Copy of Export'!$A$2:$AF2393,5,false)","v":"#N/A"},{"$f":"VLOOKUP(A56,'Copy of Export'!$A$2:$AF2393,8,false)","v":"#N/A"},"Working"]
[null,"Lenovo Think","2572-HB6","V8-W3284",{"$f":"VLOOKUP(A57,'Copy of Export'!$A$2:$AF2393,5,false)","v":"#N/A"},{"$f":"VLOOKUP(A57,'Copy of Export'!$A$2:$AF2393,8,false)","v":"#N/A"},"Working"]
["72320","Dell 22\" Monitor",{"$f":"VLOOKUP(A58,'Copy of Export'!$A$2:$AF2393,13,false)","v":"#N/A"},"u2412mb",{"$f":"VLOOKUP(A58,'Copy of Export'!$A$2:$AF2393,5,false)","v":"#N/A"},{"$f":"VLOOKUP(A58,'Copy of Export'!$A$2:$AF2393,8,false)","v":"#N/A"},"Working"]
["46047",{"$f":"VLOOKUP(A59,'Copy of Export'!$A$2:$AF2393,5,false)","v":"Lenovo ThinkCentre M92z 3311 (Core i5-3470T, 4GB, 500GB HDD)"},{"$f":"VLOOKUP(A59,'Copy of Export'!$A$2:$AF2393,13,false)","v":"M92z"},{"$f":"VLOOKUP(A59,'Copy of Export'!$A$2:$AF2393,2,false)","v":"MJVXYWM"},{"$f":"VLOOKUP(A59,'Copy of Export'!$A$2:$AF2393,5,false)","v":"Lenovo ThinkCentre M92z 3311 (Core i5-3470T, 4GB, 500GB HDD)"},{"$f":"VLOOKUP(A59,'Copy of Export'!$A$2:$AF2393,8,false)","v":"Desktop"},"Working"]
["72344","Lenovo ThinkCenter All in One",{"$f":"VLOOKUP(A60,'Copy of Export'!$A$2:$AF2393,13,false)","v":"#N/A"},{"$f":"VLOOKUP(A60,'Copy of Export'!$A$2:$AF2393,2,false)","v":"#N/A"},{"$f":"VLOOKUP(A60,'Copy of Export'!$A$2:$AF2393,5,false)","v":"#N/A"},"Desktop","Working"]
["54852",{"$f":"VLOOKUP(A61,'Copy of Export'!$A$2:$AF2393,5,false)","v":"#N/A"},{"$f":"VLOOKUP(A61,'Copy of Export'!$A$2:$AF2393,13,false)","v":"#N/A"},{"$f":"VLOOKUP(A61,'Copy of Export'!$A$2:$AF2393,2,false)","v":"#N/A"},{"$f":"VLOOKUP(A61,'Copy of Export'!$A$2:$AF2393,5,false)","v":"#N/A"},{"$f":"VLOOKUP(A61,'Copy of Export'!$A$2:$AF2393,8,false)","v":"#N/A"},"Working"]
["47789",{"$f":"VLOOKUP(A62,'Copy of Export'!$A$2:$AF2393,5,false)","v":"Lenovo ThinkCentre M92z 3311 (Core i5-3470T, 4GB, 500GB HDD)"},{"$f":"VLOOKUP(A62,'Copy of Export'!$A$2:$AF2393,13,false)","v":"M92z"},{"$f":"VLOOKUP(A62,'Copy of Export'!$A$2:$AF2393,2,false)","v":"MJ38WA6"},{"$f":"VLOOKUP(A62,'Copy of Export'!$A$2:$AF2393,5,false)","v":"Lenovo ThinkCentre M92z 3311 (Core i5-3470T, 4GB, 500GB HDD)"},{"$f":"VLOOKUP(A62,'Copy of Export'!$A$2:$AF2393,8,false)","v":"Desktop"},"Working"]
["39721",{"$f":"VLOOKUP(A63,'Copy of Export'!$A$2:$AF2393,5,false)","v":"Lenovo ThinkCentre M92z 3311 (Core i5-3470T, 4GB, 500GB HDD)"},{"$f":"VLOOKUP(A63,'Copy of Export'!$A$2:$AF2393,13,false)","v":"M92z"},{"$f":"VLOOKUP(A63,'Copy of Export'!$A$2:$AF2393,2,false)","v":"MJVXYVT"},{"$f":"VLOOKUP(A63,'Copy of Export'!$A$2:$AF2393,5,false)","v":"Lenovo ThinkCentre M92z 3311 (Core i5-3470T, 4GB, 500GB HDD)"},{"$f":"VLOOKUP(A63,'Copy of Export'!$A$2:$AF2393,8,false)","v":"Desktop"},"Working"]
["54784",{"$f":"VLOOKUP(A64,'Copy of Export'!$A$2:$AF2393,5,false)","v":"#N/A"},{"$f":"VLOOKUP(A64,'Copy of Export'!$A$2:$AF2393,13,false)","v":"#N/A"},{"$f":"VLOOKUP(A64,'Copy of Export'!$A$2:$AF2393,2,false)","v":"#N/A"},{"$f":"VLOOKUP(A64,'Copy of Export'!$A$2:$AF2393,5,false)","v":"#N/A"},{"$f":"VLOOKUP(A64,'Copy of Export'!$A$2:$AF2393,8,false)","v":"#N/A"},"Working"]
[null,"Dell","22in",{"$f":"VLOOKUP(A65,'Copy of Export'!$A$2:$AF2393,2,false)","v":"#N/A"},{"$f":"VLOOKUP(A65,'Copy of Export'!$A$2:$AF2393,5,false)","v":"#N/A"},{"$f":"VLOOKUP(A65,'Copy of Export'!$A$2:$AF2393,8,false)","v":"#N/A"},"Working"]
[null,"Dell 19\" Widescreen Monitor",{"$f":"VLOOKUP(A66,'Copy of Export'!$A$2:$AF2393,13,false)","v":"#N/A"},{"$f":"VLOOKUP(A66,'Copy of Export'!$A$2:$AF2393,2,false)","v":"#N/A"},{"$f":"VLOOKUP(A66,'Copy of Export'!$A$2:$AF2393,5,false)","v":"#N/A"},{"$f":"VLOOKUP(A66,'Copy of Export'!$A$2:$AF2393,8,false)","v":"#N/A"},"Broken"]
["42270",{"$f":"VLOOKUP(A67,'Copy of Export'!$A$2:$AF2393,5,false)","v":"#N/A"},{"$f":"VLOOKUP(A67,'Copy of Export'!$A$2:$AF2393,13,false)","v":"#N/A"},{"$f":"VLOOKUP(A67,'Copy of Export'!$A$2:$AF2393,2,false)","v":"#N/A"},{"$f":"VLOOKUP(A67,'Copy of Export'!$A$2:$AF2393,5,false)","v":"#N/A"},{"$f":"VLOOKUP(A67,'Copy of Export'!$A$2:$AF2393,8,false)","v":"#N/A"},"Broken"]
[null,"Tosiba","32HL67US","AM390047803",{"$f":"VLOOKUP(A68,'Copy of Export'!$A$2:$AF2393,5,false)","v":"#N/A"},{"$f":"VLOOKUP(A68,'Copy of Export'!$A$2:$AF2393,8,false)","v":"#N/A"},"Unknown"]
["29433",{"$f":"VLOOKUP(A69,'Copy of Export'!$A$2:$AF2393,5,false)","v":"#N/A"},{"$f":"VLOOKUP(B69,'Copy of Export'!$A$2:$AF2393,5,false)","v":"#N/A"},{"$f":"VLOOKUP(A69,'Copy of Export'!$A$2:$AF2393,2,false)","v":"#N/A"},{"$f":"VLOOKUP(A69,'Copy of Export'!$A$2:$AF2393,5,false)","v":"#N/A"},{"$f":"VLOOKUP(A69,'Copy of Export'!$A$2:$AF2393,8,false)","v":"#N/A"},"Unknown"]
["28602","Concord Amp",{"$f":"VLOOKUP(A70,'Copy of Export'!$A$2:$AF2393,13,false)","v":"#N/A"},{"$f":"VLOOKUP(A70,'Copy of Export'!$A$2:$AF2393,2,false)","v":"#N/A"},{"$f":"VLOOKUP(A70,'Copy of Export'!$A$2:$AF2393,5,false)","v":"#N/A"},{"$f":"VLOOKUP(A70,'Copy of Export'!$A$2:$AF2393,8,false)","v":"#N/A"},"Broken"]
["40633",{"$f":"VLOOKUP(A71,'Copy of Export'!$A$2:$AF2393,5,false)","v":"#N/A"},{"$f":"VLOOKUP(A71,'Copy of Export'!$A$2:$AF2393,13,false)","v":"#N/A"},{"$f":"VLOOKUP(A71,'Copy of Export'!$A$2:$AF2393,2,false)","v":"#N/A"},{"$f":"VLOOKUP(A71,'Copy of Export'!$A$2:$AF2393,5,false)","v":"#N/A"},{"$f":"VLOOKUP(A71,'Copy of Export'!$A$2:$AF2393,8,false)","v":"#N/A"},"Working"]
["27092",{"$f":"VLOOKUP(A72,'Copy of Export'!$A$2:$AF2393,5,false)","v":"#N/A"},{"$f":"VLOOKUP(A72,'Copy of Export'!$A$2:$AF2393,13,false)","v":"#N/A"},{"$f":"VLOOKUP(A72,'Copy of Export'!$A$2:$AF2393,2,false)","v":"#N/A"},{"$f":"VLOOKUP(A72,'Copy of Export'!$A$2:$AF2393,5,false)","v":"#N/A"},{"$f":"VLOOKUP(A72,'Copy of Export'!$A$2:$AF2393,8,false)","v":"#N/A"},"Working"]
["27520",{"$f":"VLOOKUP(A73,'Copy of Export'!$A$2:$AF2393,5,false)","v":"#N/A"},{"$f":"VLOOKUP(A73,'Copy of Export'!$A$2:$AF2393,13,false)","v":"#N/A"},{"$f":"VLOOKUP(A73,'Copy of Export'!$A$2:$AF2393,2,false)","v":"#N/A"},{"$f":"VLOOKUP(A73,'Copy of Export'!$A$2:$AF2393,5,false)","v":"#N/A"},{"$f":"VLOOKUP(A73,'Copy of Export'!$A$2:$AF2393,8,false)","v":"#N/A"},"Working"]
["27512",{"$f":"VLOOKUP(A74,'Copy of Export'!$A$2:$AF2393,5,false)","v":"#N/A"},{"$f":"VLOOKUP(A74,'Copy of Export'!$A$2:$AF2393,13,false)","v":"#N/A"},{"$f":"VLOOKUP(A74,'Copy of Export'!$A$2:$AF2393,2,false)","v":"#N/A"},{"$f":"VLOOKUP(A74,'Copy of Export'!$A$2:$AF2393,5,false)","v":"#N/A"},{"$f":"VLOOKUP(A74,'Copy of Export'!$A$2:$AF2393,8,false)","v":"#N/A"},"Working"]
["33530",{"$f":"VLOOKUP(A75,'Copy of Export'!$A$2:$AF2393,5,false)","v":"Sony DVD/VCR Combo Player Unit"},{"$f":"VLOOKUP(A75,'Copy of Export'!$A$2:$AF2393,13,false)","v":"SLV-D370P"},{"$f":"VLOOKUP(A75,'Copy of Export'!$A$2:$AF2393,2,false)","v":"416020"},{"$f":"VLOOKUP(A75,'Copy of Export'!$A$2:$AF2393,5,false)","v":"Sony DVD/VCR Combo Player Unit"},{"$f":"VLOOKUP(A75,'Copy of Export'!$A$2:$AF2393,8,false)","v":"DVD Player"},"Working"]
["29186",{"$f":"VLOOKUP(A76,'Copy of Export'!$A$2:$AF2393,5,false)","v":"#N/A"},{"$f":"VLOOKUP(A76,'Copy of Export'!$A$2:$AF2393,13,false)","v":"#N/A"},{"$f":"VLOOKUP(A76,'Copy of Export'!$A$2:$AF2393,2,false)","v":"#N/A"},{"$f":"VLOOKUP(A76,'Copy of Export'!$A$2:$AF2393,5,false)","v":"#N/A"},{"$f":"VLOOKUP(A76,'Copy of Export'!$A$2:$AF2393,8,false)","v":"#N/A"},"Working"]
["33531",{"$f":"VLOOKUP(A77,'Copy of Export'!$A$2:$AF2393,5,false)","v":"#N/A"},{"$f":"VLOOKUP(A77,'Copy of Export'!$A$2:$AF2393,13,false)","v":"#N/A"},{"$f":"VLOOKUP(A77,'Copy of Export'!$A$2:$AF2393,2,false)","v":"#N/A"},{"$f":"VLOOKUP(A77,'Copy of Export'!$A$2:$AF2393,5,false)","v":"#N/A"},{"$f":"VLOOKUP(A77,'Copy of Export'!$A$2:$AF2393,8,false)","v":"#N/A"},"Working"]
["33514",{"$f":"VLOOKUP(A78,'Copy of Export'!$A$2:$AF2393,5,false)","v":"#N/A"},{"$f":"VLOOKUP(A78,'Copy of Export'!$A$2:$AF2393,13,false)","v":"#N/A"},{"$f":"VLOOKUP(A78,'Copy of Export'!$A$2:$AF2393,2,false)","v":"#N/A"},{"$f":"VLOOKUP(A78,'Copy of Export'!$A$2:$AF2393,5,false)","v":"#N/A"},{"$f":"VLOOKUP(A78,'Copy of Export'!$A$2:$AF2393,8,false)","v":"#N/A"},"Working"]
["33529",{"$f":"VLOOKUP(A79,'Copy of Export'!$A$2:$AF2393,5,false)","v":"#N/A"},{"$f":"VLOOKUP(A79,'Copy of Export'!$A$2:$AF2393,13,false)","v":"#N/A"},{"$f":"VLOOKUP(A79,'Copy of Export'!$A$2:$AF2393,2,false)","v":"#N/A"},{"$f":"VLOOKUP(A79,'Copy of Export'!$A$2:$AF2393,5,false)","v":"#N/A"},{"$f":"VLOOKUP(A79,'Copy of Export'!$A$2:$AF2393,8,false)","v":"#N/A"},"Working"]
["29763",{"$f":"VLOOKUP(A80,'Copy of Export'!$A$2:$AF2393,5,false)","v":"#N/A"},{"$f":"VLOOKUP(A80,'Copy of Export'!$A$2:$AF2393,13,false)","v":"#N/A"},{"$f":"VLOOKUP(A80,'Copy of Export'!$A$2:$AF2393,2,false)","v":"#N/A"},{"$f":"VLOOKUP(A80,'Copy of Export'!$A$2:$AF2393,5,false)","v":"#N/A"},{"$f":"VLOOKUP(A80,'Copy of Export'!$A$2:$AF2393,8,false)","v":"#N/A"},"Working"]
["28867",{"$f":"VLOOKUP(A81,'Copy of Export'!$A$2:$AF2393,5,false)","v":"#N/A"},{"$f":"VLOOKUP(A81,'Copy of Export'!$A$2:$AF2393,13,false)","v":"#N/A"},{"$f":"VLOOKUP(A81,'Copy of Export'!$A$2:$AF2393,2,false)","v":"#N/A"},{"$f":"VLOOKUP(A81,'Copy of Export'!$A$2:$AF2393,5,false)","v":"#N/A"},{"$f":"VLOOKUP(A81,'Copy of Export'!$A$2:$AF2393,8,false)","v":"#N/A"},"Working"]
[null,"Sony DVD Player","dvp-sr200p",1935269,{"$f":"VLOOKUP(A82,'Copy of Export'!$A$2:$AF2393,5,false)","v":"#N/A"},{"$f":"VLOOKUP(A82,'Copy of Export'!$A$2:$AF2393,8,false)","v":"#N/A"},"Working"]
["10446","Zenith Video Recorder",{"$f":"VLOOKUP(A83,'Copy of Export'!$A$2:$AF2393,13,false)","v":"#N/A"},4010467,{"$f":"VLOOKUP(A83,'Copy of Export'!$A$2:$AF2393,5,false)","v":"#N/A"},{"$f":"VLOOKUP(A83,'Copy of Export'!$A$2:$AF2393,8,false)","v":"#N/A"},"Working"]
["28867",{"$f":"VLOOKUP(A84,'Copy of Export'!$A$2:$AF2393,5,false)","v":"#N/A"},{"$f":"VLOOKUP(A84,'Copy of Export'!$A$2:$AF2393,13,false)","v":"#N/A"},{"$f":"VLOOKUP(A84,'Copy of Export'!$A$2:$AF2393,2,false)","v":"#N/A"},{"$f":"VLOOKUP(A84,'Copy of Export'!$A$2:$AF2393,5,false)","v":"#N/A"},{"$f":"VLOOKUP(A84,'Copy of Export'!$A$2:$AF2393,8,false)","v":"#N/A"},"Working"]
[null,"Sony Compact Disc Player, 300 Disc Changer Capacity","Sony Compact Disc Player, 300 Disc Changer Capacity",8840195,{"$f":"VLOOKUP(A85,'Copy of Export'!$A$2:$AF2393,5,false)","v":"#N/A"},{"$f":"VLOOKUP(A85,'Copy of Export'!$A$2:$AF2393,8,false)","v":"#N/A"},"Working"]
[null,"Sony Compact Disc Player, 300 Disc Changer Capacity",{"$f":"VLOOKUP(A86,'Copy of Export'!$A$2:$AF2393,13,false)","v":"#N/A"},8836027,{"$f":"VLOOKUP(A86,'Copy of Export'!$A$2:$AF2393,5,false)","v":"#N/A"},{"$f":"VLOOKUP(A86,'Copy of Export'!$A$2:$AF2393,8,false)","v":"#N/A"},"Working"]
["26537",{"$f":"VLOOKUP(A87,'Copy of Export'!$A$2:$AF2393,5,false)","v":"Tascam CD Cassette Player"},{"$f":"VLOOKUP(A87,'Copy of Export'!$A$2:$AF2393,13,false)","v":"CD-A500"},{"$f":"VLOOKUP(A87,'Copy of Export'!$A$2:$AF2393,2,false)","v":"360166"},{"$f":"VLOOKUP(A87,'Copy of Export'!$A$2:$AF2393,5,false)","v":"Tascam CD Cassette Player"},{"$f":"VLOOKUP(A87,'Copy of Export'!$A$2:$AF2393,8,false)","v":"CD Player"},"Working"]
["23271","ShureLX","MICrophone receiver",{"$f":"VLOOKUP(A88,'Copy of Export'!$A$2:$AF2393,2,false)","v":"#N/A"},{"$f":"VLOOKUP(A88,'Copy of Export'!$A$2:$AF2393,5,false)","v":"#N/A"},{"$f":"VLOOKUP(A88,'Copy of Export'!$A$2:$AF2393,8,false)","v":"#N/A"},"Working"]
[null,"DBX166XL Compressor-Limiter",{"$f":"VLOOKUP(A89,'Copy of Export'!$A$2:$AF2393,13,false)","v":"#N/A"},{"$f":"VLOOKUP(A89,'Copy of Export'!$A$2:$AF2393,2,false)","v":"#N/A"},{"$f":"VLOOKUP(A89,'Copy of Export'!$A$2:$AF2393,5,false)","v":"#N/A"},{"$f":"VLOOKUP(A89,'Copy of Export'!$A$2:$AF2393,8,false)","v":"#N/A"},"Working"]
[null,"ShureLX","Microphone receiver",{"$f":"VLOOKUP(A90,'Copy of Export'!$A$2:$AF2393,2,false)","v":"#N/A"},{"$f":"VLOOKUP(A90,'Copy of Export'!$A$2:$AF2393,5,false)","v":"#N/A"},{"$f":"VLOOKUP(A90,'Copy of Export'!$A$2:$AF2393,8,false)","v":"#N/A"},"Working"]
[null,"DODSR231QX","Graphic Equalizer",{"$f":"VLOOKUP(A91,'Copy of Export'!$A$2:$AF2393,2,false)","v":"#N/A"},{"$f":"VLOOKUP(A91,'Copy of Export'!$A$2:$AF2393,5,false)","v":"#N/A"},{"$f":"VLOOKUP(A91,'Copy of Export'!$A$2:$AF2393,8,false)","v":"#N/A"},"Working"]
["68792",{"$f":"VLOOKUP(A92,'Copy of Export'!$A$2:$AF2393,5,false)","v":"#N/A"},{"$f":"VLOOKUP(A92,'Copy of Export'!$A$2:$AF2393,13,false)","v":"#N/A"},{"$f":"VLOOKUP(A92,'Copy of Export'!$A$2:$AF2393,2,false)","v":"#N/A"},{"$f":"VLOOKUP(A92,'Copy of Export'!$A$2:$AF2393,5,false)","v":"#N/A"},{"$f":"VLOOKUP(A92,'Copy of Export'!$A$2:$AF2393,8,false)","v":"#N/A"},"Working"]
["33144","Sony Compact Disc Player, 300 Disc Changer Capacity",{"$f":"VLOOKUP(A93,'Copy of Export'!$A$2:$AF2393,13,false)","v":"#N/A"},{"$f":"VLOOKUP(A93,'Copy of Export'!$A$2:$AF2393,2,false)","v":"#N/A"},{"$f":"VLOOKUP(A93,'Copy of Export'!$A$2:$AF2393,5,false)","v":"#N/A"},{"$f":"VLOOKUP(A93,'Copy of Export'!$A$2:$AF2393,8,false)","v":"#N/A"},"Working"]
[null,"Samsung 75\" TV",{"$f":"VLOOKUP(A94,'Copy of Export'!$A$2:$AF2393,13,false)","v":"#N/A"},{"$f":"VLOOKUP(A94,'Copy of Export'!$A$2:$AF2393,2,false)","v":"#N/A"},{"$f":"VLOOKUP(A94,'Copy of Export'!$A$2:$AF2393,5,false)","v":"#N/A"},{"$f":"VLOOKUP(A94,'Copy of Export'!$A$2:$AF2393,8,false)","v":"#N/A"},"Broken on delivery"]
[null,"Samsung 75\" TV",{"$f":"VLOOKUP(A95,'Copy of Export'!$A$2:$AF2393,13,false)","v":"#N/A"},{"$f":"VLOOKUP(A95,'Copy of Export'!$A$2:$AF2393,2,false)","v":"#N/A"},{"$f":"VLOOKUP(A95,'Copy of Export'!$A$2:$AF2393,5,false)","v":"#N/A"},{"$f":"VLOOKUP(A95,'Copy of Export'!$A$2:$AF2393,8,false)","v":"#N/A"},"Broken on delivery"]
[null,"Samsung 75\" TV",{"$f":"VLOOKUP(A96,'Copy of Export'!$A$2:$AF2393,13,false)","v":"#N/A"},{"$f":"VLOOKUP(A96,'Copy of Export'!$A$2:$AF2393,2,false)","v":"#N/A"},{"$f":"VLOOKUP(A96,'Copy of Export'!$A$2:$AF2393,5,false)","v":"#N/A"},{"$f":"VLOOKUP(A96,'Copy of Export'!$A$2:$AF2393,8,false)","v":"#N/A"},"Broken on delivery"]
[null,"Security Camera","A-54V2",{"$f":"VLOOKUP(A97,'Copy of Export'!$A$2:$AF2393,2,false)","v":"#N/A"},{"$f":"VLOOKUP(A97,'Copy of Export'!$A$2:$AF2393,5,false)","v":"#N/A"},{"$f":"VLOOKUP(A97,'Copy of Export'!$A$2:$AF2393,8,false)","v":"#N/A"},"Broken"]
[null,"Security Camera","A-54V2",{"$f":"VLOOKUP(A98,'Copy of Export'!$A$2:$AF2393,2,false)","v":"#N/A"},{"$f":"VLOOKUP(A98,'Copy of Export'!$A$2:$AF2393,5,false)","v":"#N/A"},{"$f":"VLOOKUP(A98,'Copy of Export'!$A$2:$AF2393,8,false)","v":"#N/A"},"Broken"]
[null,"Security Camera","A-54V2",{"$f":"VLOOKUP(A99,'Copy of Export'!$A$2:$AF2393,2,false)","v":"#N/A"},{"$f":"VLOOKUP(A99,'Copy of Export'!$A$2:$AF2393,5,false)","v":"#N/A"},{"$f":"VLOOKUP(A99,'Copy of Export'!$A$2:$AF2393,8,false)","v":"#N/A"},"Broken"]
[null,"Security Camera","A-54V2",{"$f":"VLOOKUP(A100,'Copy of Export'!$A$2:$AF2393,2,false)","v":"#N/A"},{"$f":"VLOOKUP(A100,'Copy of Export'!$A$2:$AF2393,5,false)","v":"#N/A"},{"$f":"VLOOKUP(A100,'Copy of Export'!$A$2:$AF2393,8,false)","v":"#N/A"},"Broken"]
[null,"2 boxes Elmo Accessories",{"$f":"VLOOKUP(A101,'Copy of Export'!$A$2:$AF2393,13,false)","v":"#N/A"},{"$f":"VLOOKUP(A101,'Copy of Export'!$A$2:$AF2393,2,false)","v":"#N/A"},{"$f":"VLOOKUP(A101,'Copy of Export'!$A$2:$AF2393,5,false)","v":"#N/A"},{"$f":"VLOOKUP(A101,'Copy of Export'!$A$2:$AF2393,8,false)","v":"#N/A"},"Working"]
["51368",{"$f":"VLOOKUP(A102,'Copy of Export'!$A$2:$AF2393,5,false)","v":"#N/A"},{"$f":"VLOOKUP(A102,'Copy of Export'!$A$2:$AF2393,13,false)","v":"#N/A"},{"$f":"VLOOKUP(A102,'Copy of Export'!$A$2:$AF2393,2,false)","v":"#N/A"},{"$f":"VLOOKUP(A102,'Copy of Export'!$A$2:$AF2393,5,false)","v":"#N/A"},{"$f":"VLOOKUP(A102,'Copy of Export'!$A$2:$AF2393,8,false)","v":"#N/A"},"Working"]
[null,"Monoprice 3D Printer",{"$f":"VLOOKUP(A103,'Copy of Export'!$A$2:$AF2393,13,false)","v":"#N/A"},{"$f":"VLOOKUP(A103,'Copy of Export'!$A$2:$AF2393,2,false)","v":"#N/A"},{"$f":"VLOOKUP(A103,'Copy of Export'!$A$2:$AF2393,5,false)","v":"#N/A"},{"$f":"VLOOKUP(A103,'Copy of Export'!$A$2:$AF2393,8,false)","v":"#N/A"},"Unknown"]
[null,"Monoprice 3D Printer",{"$f":"VLOOKUP(A104,'Copy of Export'!$A$2:$AF2393,13,false)","v":"#N/A"},{"$f":"VLOOKUP(A104,'Copy of Export'!$A$2:$AF2393,2,false)","v":"#N/A"},{"$f":"VLOOKUP(A104,'Copy of Export'!$A$2:$AF2393,5,false)","v":"#N/A"},{"$f":"VLOOKUP(A104,'Copy of Export'!$A$2:$AF2393,8,false)","v":"#N/A"},"Unknown"]
[null,"Makers 3D Printer",{"$f":"VLOOKUP(A105,'Copy of Export'!$A$2:$AF2393,13,false)","v":"#N/A"},{"$f":"VLOOKUP(A105,'Copy of Export'!$A$2:$AF2393,2,false)","v":"#N/A"},{"$f":"VLOOKUP(A105,'Copy of Export'!$A$2:$AF2393,5,false)","v":"#N/A"},{"$f":"VLOOKUP(A105,'Copy of Export'!$A$2:$AF2393,8,false)","v":"#N/A"},"Unknown"]
[null,{"$f":"VLOOKUP(A106,'Copy of Export'!$A$2:$AF2393,5,false)","v":"#N/A"},{"$f":"VLOOKUP(A106,'Copy of Export'!$A$2:$AF2393,13,false)","v":"#N/A"},{"$f":"VLOOKUP(A106,'Copy of Export'!$A$2:$AF2393,2,false)","v":"#N/A"},{"$f":"VLOOKUP(A106,'Copy of Export'!$A$2:$AF2393,5,false)","v":"#N/A"},{"$f":"VLOOKUP(A106,'Copy of Export'!$A$2:$AF2393,8,false)","v":"#N/A"}]
[null,{"$f":"VLOOKUP(A107,'Copy of Export'!$A$2:$AF2393,5,false)","v":"#N/A"},{"$f":"VLOOKUP(A107,'Copy of Export'!$A$2:$AF2393,13,false)","v":"#N/A"},{"$f":"VLOOKUP(A107,'Copy of Export'!$A$2:$AF2393,2,false)","v":"#N/A"},{"$f":"VLOOKUP(A107,'Copy of Export'!$A$2:$AF2393,5,false)","v":"#N/A"},{"$f":"VLOOKUP(A107,'Copy of Export'!$A$2:$AF2393,8,false)","v":"#N/A"}]
[null,{"$f":"VLOOKUP(A108,'Copy of Export'!$A$2:$AF2393,5,false)","v":"#N/A"},{"$f":"VLOOKUP(A108,'Copy of Export'!$A$2:$AF2393,13,false)","v":"#N/A"},{"$f":"VLOOKUP(A108,'Copy of Export'!$A$2:$AF2393,2,false)","v":"#N/A"},{"$f":"VLOOKUP(A108,'Copy of Export'!$A$2:$AF2393,5,false)","v":"#N/A"},{"$f":"VLOOKUP(A108,'Copy of Export'!$A$2:$AF2393,8,false)","v":"#N/A"}]
[null,{"$f":"VLOOKUP(A109,'Copy of Export'!$A$2:$AF2393,5,false)","v":"#N/A"},{"$f":"VLOOKUP(A109,'Copy of Export'!$A$2:$AF2393,13,false)","v":"#N/A"},{"$f":"VLOOKUP(A109,'Copy of Export'!$A$2:$AF2393,2,false)","v":"#N/A"},{"$f":"VLOOKUP(A109,'Copy of Export'!$A$2:$AF2393,5,false)","v":"#N/A"},{"$f":"VLOOKUP(A109,'Copy of Export'!$A$2:$AF2393,8,false)","v":"#N/A"}]
[null,{"$f":"VLOOKUP(A110,'Copy of Export'!$A$2:$AF2393,5,false)","v":"#N/A"},{"$f":"VLOOKUP(A110,'Copy of Export'!$A$2:$AF2393,13,false)","v":"#N/A"},{"$f":"VLOOKUP(A110,'Copy of Export'!$A$2:$AF2393,2,false)","v":"#N/A"},{"$f":"VLOOKUP(A110,'Copy of Export'!$A$2:$AF2393,5,false)","v":"#N/A"},{"$f":"VLOOKUP(A110,'Copy of Export'!$A$2:$AF2393,8,false)","v":"#N/A"}]
[null,{"$f":"VLOOKUP(A111,'Copy of Export'!$A$2:$AF2393,5,false)","v":"#N/A"},{"$f":"VLOOKUP(A111,'Copy of Export'!$A$2:$AF2393,13,false)","v":"#N/A"},{"$f":"VLOOKUP(A111,'Copy of Export'!$A$2:$AF2393,2,false)","v":"#N/A"},{"$f":"VLOOKUP(A111,'Copy of Export'!$A$2:$AF2393,5,false)","v":"#N/A"},{"$f":"VLOOKUP(A111,'Copy of Export'!$A$2:$AF2393,8,false)","v":"#N/A"}]
[null,{"$f":"VLOOKUP(A112,'Copy of Export'!$A$2:$AF2393,5,false)","v":"#N/A"},{"$f":"VLOOKUP(A112,'Copy of Export'!$A$2:$AF2393,13,false)","v":"#N/A"},{"$f":"VLOOKUP(A112,'Copy of Export'!$A$2:$AF2393,2,false)","v":"#N/A"},{"$f":"VLOOKUP(A112,'Copy of Export'!$A$2:$AF2393,5,false)","v":"#N/A"},{"$f":"VLOOKUP(A112,'Copy of Export'!$A$2:$AF2393,8,false)","v":"#N/A"}]
[null,{"$f":"VLOOKUP(A113,'Copy of Export'!$A$2:$AF2393,5,false)","v":"#N/A"},{"$f":"VLOOKUP(A113,'Copy of Export'!$A$2:$AF2393,13,false)","v":"#N/A"},{"$f":"VLOOKUP(A113,'Copy of Export'!$A$2:$AF2393,2,false)","v":"#N/A"},{"$f":"VLOOKUP(A113,'Copy of Export'!$A$2:$AF2393,5,false)","v":"#N/A"},{"$f":"VLOOKUP(A113,'Copy of Export'!$A$2:$AF2393,8,false)","v":"#N/A"}]
[null,{"$f":"VLOOKUP(A114,'Copy of Export'!$A$2:$AF2393,5,false)","v":"#N/A"},{"$f":"VLOOKUP(A114,'Copy of Export'!$A$2:$AF2393,13,false)","v":"#N/A"},{"$f":"VLOOKUP(A114,'Copy of Export'!$A$2:$AF2393,2,false)","v":"#N/A"},{"$f":"VLOOKUP(A114,'Copy of Export'!$A$2:$AF2393,5,false)","v":"#N/A"},{"$f":"VLOOKUP(A114,'Copy of Export'!$A$2:$AF2393,8,false)","v":"#N/A"}]
[null,{"$f":"VLOOKUP(A115,'Copy of Export'!$A$2:$AF2393,5,false)","v":"#N/A"},{"$f":"VLOOKUP(A115,'Copy of Export'!$A$2:$AF2393,13,false)","v":"#N/A"},{"$f":"VLOOKUP(A115,'Copy of Export'!$A$2:$AF2393,2,false)","v":"#N/A"},{"$f":"VLOOKUP(A115,'Copy of Export'!$A$2:$AF2393,5,false)","v":"#N/A"},{"$f":"VLOOKUP(A115,'Copy of Export'!$A$2:$AF2393,8,false)","v":"#N/A"}]
[null,{"$f":"VLOOKUP(A116,'Copy of Export'!$A$2:$AF2393,5,false)","v":"#N/A"},{"$f":"VLOOKUP(A116,'Copy of Export'!$A$2:$AF2393,13,false)","v":"#N/A"},{"$f":"VLOOKUP(A116,'Copy of Export'!$A$2:$AF2393,2,false)","v":"#N/A"},{"$f":"VLOOKUP(A116,'Copy of Export'!$A$2:$AF2393,5,false)","v":"#N/A"},{"$f":"VLOOKUP(A116,'Copy of Export'!$A$2:$AF2393,8,false)","v":"#N/A"}]
[null,{"$f":"VLOOKUP(A117,'Copy of Export'!$A$2:$AF2393,5,false)","v":"#N/A"},{"$f":"VLOOKUP(A117,'Copy of Export'!$A$2:$AF2393,13,false)","v":"#N/A"},{"$f":"VLOOKUP(A117,'Copy of Export'!$A$2:$AF2393,2,false)","v":"#N/A"},{"$f":"VLOOKUP(A117,'Copy of Export'!$A$2:$AF2393,5,false)","v":"#N/A"},{"$f":"VLOOKUP(A117,'Copy of Export'!$A$2:$AF2393,8,false)","v":"#N/A"}]
[null,{"$f":"VLOOKUP(A118,'Copy of Export'!$A$2:$AF2393,5,false)","v":"#N/A"},{"$f":"VLOOKUP(A118,'Copy of Export'!$A$2:$AF2393,13,false)","v":"#N/A"},{"$f":"VLOOKUP(A118,'Copy of Export'!$A$2:$AF2393,2,false)","v":"#N/A"},{"$f":"VLOOKUP(A118,'Copy of Export'!$A$2:$AF2393,5,false)","v":"#N/A"},{"$f":"VLOOKUP(A118,'Copy of Export'!$A$2:$AF2393,8,false)","v":"#N/A"}]
[null,{"$f":"VLOOKUP(A119,'Copy of Export'!$A$2:$AF2393,5,false)","v":"#N/A"},{"$f":"VLOOKUP(A119,'Copy of Export'!$A$2:$AF2393,13,false)","v":"#N/A"},{"$f":"VLOOKUP(A119,'Copy of Export'!$A$2:$AF2393,2,false)","v":"#N/A"},{"$f":"VLOOKUP(A119,'Copy of Export'!$A$2:$AF2393,5,false)","v":"#N/A"},{"$f":"VLOOKUP(A119,'Copy of Export'!$A$2:$AF2393,8,false)","v":"#N/A"}]
[null,{"$f":"VLOOKUP(A120,'Copy of Export'!$A$2:$AF2393,5,false)","v":"#N/A"},{"$f":"VLOOKUP(A120,'Copy of Export'!$A$2:$AF2393,13,false)","v":"#N/A"},{"$f":"VLOOKUP(A120,'Copy of Export'!$A$2:$AF2393,2,false)","v":"#N/A"},{"$f":"VLOOKUP(A120,'Copy of Export'!$A$2:$AF2393,5,false)","v":"#N/A"},{"$f":"VLOOKUP(A120,'Copy of Export'!$A$2:$AF2393,8,false)","v":"#N/A"}]
[null,{"$f":"VLOOKUP(A121,'Copy of Export'!$A$2:$AF2393,5,false)","v":"#N/A"},{"$f":"VLOOKUP(A121,'Copy of Export'!$A$2:$AF2393,13,false)","v":"#N/A"},{"$f":"VLOOKUP(A121,'Copy of Export'!$A$2:$AF2393,2,false)","v":"#N/A"},{"$f":"VLOOKUP(A121,'Copy of Export'!$A$2:$AF2393,5,false)","v":"#N/A"},{"$f":"VLOOKUP(A121,'Copy of Export'!$A$2:$AF2393,8,false)","v":"#N/A"}]
[null,{"$f":"VLOOKUP(A122,'Copy of Export'!$A$2:$AF2393,5,false)","v":"#N/A"},{"$f":"VLOOKUP(A122,'Copy of Export'!$A$2:$AF2393,13,false)","v":"#N/A"},{"$f":"VLOOKUP(A122,'Copy of Export'!$A$2:$AF2393,2,false)","v":"#N/A"},{"$f":"VLOOKUP(A122,'Copy of Export'!$A$2:$AF2393,5,false)","v":"#N/A"},{"$f":"VLOOKUP(A122,'Copy of Export'!$A$2:$AF2393,8,false)","v":"#N/A"}]
[null,{"$f":"VLOOKUP(A123,'Copy of Export'!$A$2:$AF2393,5,false)","v":"#N/A"},{"$f":"VLOOKUP(A123,'Copy of Export'!$A$2:$AF2393,13,false)","v":"#N/A"},{"$f":"VLOOKUP(A123,'Copy of Export'!$A$2:$AF2393,2,false)","v":"#N/A"},{"$f":"VLOOKUP(A123,'Copy of Export'!$A$2:$AF2393,5,false)","v":"#N/A"},{"$f":"VLOOKUP(A123,'Copy of Export'!$A$2:$AF2393,8,false)","v":"#N/A"}]
[null,{"$f":"VLOOKUP(A124,'Copy of Export'!$A$2:$AF2393,5,false)","v":"#N/A"},{"$f":"VLOOKUP(A124,'Copy of Export'!$A$2:$AF2393,13,false)","v":"#N/A"},{"$f":"VLOOKUP(A124,'Copy of Export'!$A$2:$AF2393,2,false)","v":"#N/A"},{"$f":"VLOOKUP(A124,'Copy of Export'!$A$2:$AF2393,5,false)","v":"#N/A"},{"$f":"VLOOKUP(A124,'Copy of Export'!$A$2:$AF2393,8,false)","v":"#N/A"}]
[null,{"$f":"VLOOKUP(A125,'Copy of Export'!$A$2:$AF2393,5,false)","v":"#N/A"},{"$f":"VLOOKUP(A125,'Copy of Export'!$A$2:$AF2393,13,false)","v":"#N/A"},{"$f":"VLOOKUP(A125,'Copy of Export'!$A$2:$AF2393,2,false)","v":"#N/A"},{"$f":"VLOOKUP(A125,'Copy of Export'!$A$2:$AF2393,5,false)","v":"#N/A"},{"$f":"VLOOKUP(A125,'Copy of Export'!$A$2:$AF2393,8,false)","v":"#N/A"}]
[null,{"$f":"VLOOKUP(A126,'Copy of Export'!$A$2:$AF2393,5,false)","v":"#N/A"},{"$f":"VLOOKUP(A126,'Copy of Export'!$A$2:$AF2393,13,false)","v":"#N/A"},{"$f":"VLOOKUP(A126,'Copy of Export'!$A$2:$AF2393,2,false)","v":"#N/A"},{"$f":"VLOOKUP(A126,'Copy of Export'!$A$2:$AF2393,5,false)","v":"#N/A"},{"$f":"VLOOKUP(A126,'Copy of Export'!$A$2:$AF2393,8,false)","v":"#N/A"}]
[null,{"$f":"VLOOKUP(A127,'Copy of Export'!$A$2:$AF2393,5,false)","v":"#N/A"},{"$f":"VLOOKUP(A127,'Copy of Export'!$A$2:$AF2393,13,false)","v":"#N/A"},{"$f":"VLOOKUP(A127,'Copy of Export'!$A$2:$AF2393,2,false)","v":"#N/A"},{"$f":"VLOOKUP(A127,'Copy of Export'!$A$2:$AF2393,5,false)","v":"#N/A"},{"$f":"VLOOKUP(A127,'Copy of Export'!$A$2:$AF2393,8,false)","v":"#N/A"}]
[null,{"$f":"VLOOKUP(A128,'Copy of Export'!$A$2:$AF2393,5,false)","v":"#N/A"},{"$f":"VLOOKUP(A128,'Copy of Export'!$A$2:$AF2393,13,false)","v":"#N/A"},{"$f":"VLOOKUP(A128,'Copy of Export'!$A$2:$AF2393,2,false)","v":"#N/A"},{"$f":"VLOOKUP(A128,'Copy of Export'!$A$2:$AF2393,5,false)","v":"#N/A"},{"$f":"VLOOKUP(A128,'Copy of Export'!$A$2:$AF2393,8,false)","v":"#N/A"}]
[null,{"$f":"VLOOKUP(A129,'Copy of Export'!$A$2:$AF2393,5,false)","v":"#N/A"},{"$f":"VLOOKUP(A129,'Copy of Export'!$A$2:$AF2393,13,false)","v":"#N/A"},{"$f":"VLOOKUP(A129,'Copy of Export'!$A$2:$AF2393,2,false)","v":"#N/A"},{"$f":"VLOOKUP(A129,'Copy of Export'!$A$2:$AF2393,5,false)","v":"#N/A"},{"$f":"VLOOKUP(A129,'Copy of Export'!$A$2:$AF2393,8,false)","v":"#N/A"}]
[null,{"$f":"VLOOKUP(A130,'Copy of Export'!$A$2:$AF2393,5,false)","v":"#N/A"},{"$f":"VLOOKUP(A130,'Copy of Export'!$A$2:$AF2393,13,false)","v":"#N/A"},{"$f":"VLOOKUP(A130,'Copy of Export'!$A$2:$AF2393,2,false)","v":"#N/A"},{"$f":"VLOOKUP(A130,'Copy of Export'!$A$2:$AF2393,5,false)","v":"#N/A"},{"$f":"VLOOKUP(A130,'Copy of Export'!$A$2:$AF2393,8,false)","v":"#N/A"}]
[null,{"$f":"VLOOKUP(A131,'Copy of Export'!$A$2:$AF2393,5,false)","v":"#N/A"},{"$f":"VLOOKUP(A131,'Copy of Export'!$A$2:$AF2393,13,false)","v":"#N/A"},{"$f":"VLOOKUP(A131,'Copy of Export'!$A$2:$AF2393,2,false)","v":"#N/A"},{"$f":"VLOOKUP(A131,'Copy of Export'!$A$2:$AF2393,5,false)","v":"#N/A"},{"$f":"VLOOKUP(A131,'Copy of Export'!$A$2:$AF2393,8,false)","v":"#N/A"}]
[null,{"$f":"VLOOKUP(A132,'Copy of Export'!$A$2:$AF2393,5,false)","v":"#N/A"},{"$f":"VLOOKUP(A132,'Copy of Export'!$A$2:$AF2393,13,false)","v":"#N/A"},{"$f":"VLOOKUP(A132,'Copy of Export'!$A$2:$AF2393,2,false)","v":"#N/A"},{"$f":"VLOOKUP(A132,'Copy of Export'!$A$2:$AF2393,5,false)","v":"#N/A"},{"$f":"VLOOKUP(A132,'Copy of Export'!$A$2:$AF2393,8,false)","v":"#N/A"}]
[null,{"$f":"VLOOKUP(A133,'Copy of Export'!$A$2:$AF2393,5,false)","v":"#N/A"},{"$f":"VLOOKUP(A133,'Copy of Export'!$A$2:$AF2393,13,false)","v":"#N/A"},{"$f":"VLOOKUP(A133,'Copy of Export'!$A$2:$AF2393,2,false)","v":"#N/A"},{"$f":"VLOOKUP(A133,'Copy of Export'!$A$2:$AF2393,5,false)","v":"#N/A"},{"$f":"VLOOKUP(A133,'Copy of Export'!$A$2:$AF2393,8,false)","v":"#N/A"}]
[null,{"$f":"VLOOKUP(A134,'Copy of Export'!$A$2:$AF2393,5,false)","v":"#N/A"},{"$f":"VLOOKUP(A134,'Copy of Export'!$A$2:$AF2393,13,false)","v":"#N/A"},{"$f":"VLOOKUP(A134,'Copy of Export'!$A$2:$AF2393,2,false)","v":"#N/A"},{"$f":"VLOOKUP(A134,'Copy of Export'!$A$2:$AF2393,5,false)","v":"#N/A"},{"$f":"VLOOKUP(A134,'Copy of Export'!$A$2:$AF2393,8,false)","v":"#N/A"}]
[null,{"$f":"VLOOKUP(A135,'Copy of Export'!$A$2:$AF2393,5,false)","v":"#N/A"},{"$f":"VLOOKUP(A135,'Copy of Export'!$A$2:$AF2393,13,false)","v":"#N/A"},{"$f":"VLOOKUP(A135,'Copy of Export'!$A$2:$AF2393,2,false)","v":"#N/A"},{"$f":"VLOOKUP(A135,'Copy of Export'!$A$2:$AF2393,5,false)","v":"#N/A"},{"$f":"VLOOKUP(A135,'Copy of Export'!$A$2:$AF2393,8,false)","v":"#N/A"}]
[null,{"$f":"VLOOKUP(A136,'Copy of Export'!$A$2:$AF2393,5,false)","v":"#N/A"},{"$f":"VLOOKUP(A136,'Copy of Export'!$A$2:$AF2393,13,false)","v":"#N/A"},{"$f":"VLOOKUP(A136,'Copy of Export'!$A$2:$AF2393,2,false)","v":"#N/A"},{"$f":"VLOOKUP(A136,'Copy of Export'!$A$2:$AF2393,5,false)","v":"#N/A"},{"$f":"VLOOKUP(A136,'Copy of Export'!$A$2:$AF2393,8,false)","v":"#N/A"}]
[null,{"$f":"VLOOKUP(A137,'Copy of Export'!$A$2:$AF2393,5,false)","v":"#N/A"},{"$f":"VLOOKUP(A137,'Copy of Export'!$A$2:$AF2393,13,false)","v":"#N/A"},{"$f":"VLOOKUP(A137,'Copy of Export'!$A$2:$AF2393,2,false)","v":"#N/A"},{"$f":"VLOOKUP(A137,'Copy of Export'!$A$2:$AF2393,5,false)","v":"#N/A"},{"$f":"VLOOKUP(A137,'Copy of Export'!$A$2:$AF2393,8,false)","v":"#N/A"}]
[null,{"$f":"VLOOKUP(A138,'Copy of Export'!$A$2:$AF2393,5,false)","v":"#N/A"},{"$f":"VLOOKUP(A138,'Copy of Export'!$A$2:$AF2393,13,false)","v":"#N/A"},{"$f":"VLOOKUP(A138,'Copy of Export'!$A$2:$AF2393,2,false)","v":"#N/A"},{"$f":"VLOOKUP(A138,'Copy of Export'!$A$2:$AF2393,5,false)","v":"#N/A"},{"$f":"VLOOKUP(A138,'Copy of Export'!$A$2:$AF2393,8,false)","v":"#N/A"}]
[null,{"$f":"VLOOKUP(A139,'Copy of Export'!$A$2:$AF2393,5,false)","v":"#N/A"},{"$f":"VLOOKUP(A139,'Copy of Export'!$A$2:$AF2393,13,false)","v":"#N/A"},{"$f":"VLOOKUP(A139,'Copy of Export'!$A$2:$AF2393,2,false)","v":"#N/A"},{"$f":"VLOOKUP(A139,'Copy of Export'!$A$2:$AF2393,5,false)","v":"#N/A"},{"$f":"VLOOKUP(A139,'Copy of Export'!$A$2:$AF2393,8,false)","v":"#N/A"}]
[null,{"$f":"VLOOKUP(A140,'Copy of Export'!$A$2:$AF2393,5,false)","v":"#N/A"},{"$f":"VLOOKUP(A140,'Copy of Export'!$A$2:$AF2393,13,false)","v":"#N/A"},{"$f":"VLOOKUP(A140,'Copy of Export'!$A$2:$AF2393,2,false)","v":"#N/A"},{"$f":"VLOOKUP(A140,'Copy of Export'!$A$2:$AF2393,5,false)","v":"#N/A"},{"$f":"VLOOKUP(A140,'Copy of Export'!$A$2:$AF2393,8,false)","v":"#N/A"}]
[null,{"$f":"VLOOKUP(A141,'Copy of Export'!$A$2:$AF2393,5,false)","v":"#N/A"},{"$f":"VLOOKUP(A141,'Copy of Export'!$A$2:$AF2393,13,false)","v":"#N/A"},{"$f":"VLOOKUP(A141,'Copy of Export'!$A$2:$AF2393,2,false)","v":"#N/A"},{"$f":"VLOOKUP(A141,'Copy of Export'!$A$2:$AF2393,5,false)","v":"#N/A"},{"$f":"VLOOKUP(A141,'Copy of Export'!$A$2:$AF2393,8,false)","v":"#N/A"}]
[null,{"$f":"VLOOKUP(A142,'Copy of Export'!$A$2:$AF2393,5,false)","v":"#N/A"},{"$f":"VLOOKUP(A142,'Copy of Export'!$A$2:$AF2393,13,false)","v":"#N/A"},{"$f":"VLOOKUP(A142,'Copy of Export'!$A$2:$AF2393,2,false)","v":"#N/A"},{"$f":"VLOOKUP(A142,'Copy of Export'!$A$2:$AF2393,5,false)","v":"#N/A"},{"$f":"VLOOKUP(A142,'Copy of Export'!$A$2:$AF2393,8,false)","v":"#N/A"}]
[null,{"$f":"VLOOKUP(A143,'Copy of Export'!$A$2:$AF2393,5,false)","v":"#N/A"},{"$f":"VLOOKUP(A143,'Copy of Export'!$A$2:$AF2393,13,false)","v":"#N/A"},{"$f":"VLOOKUP(A143,'Copy of Export'!$A$2:$AF2393,2,false)","v":"#N/A"},{"$f":"VLOOKUP(A143,'Copy of Export'!$A$2:$AF2393,5,false)","v":"#N/A"},{"$f":"VLOOKUP(A143,'Copy of Export'!$A$2:$AF2393,8,false)","v":"#N/A"}]
[null,{"$f":"VLOOKUP(A144,'Copy of Export'!$A$2:$AF2393,5,false)","v":"#N/A"},{"$f":"VLOOKUP(A144,'Copy of Export'!$A$2:$AF2393,13,false)","v":"#N/A"},{"$f":"VLOOKUP(A144,'Copy of Export'!$A$2:$AF2393,2,false)","v":"#N/A"},{"$f":"VLOOKUP(A144,'Copy of Export'!$A$2:$AF2393,5,false)","v":"#N/A"},{"$f":"VLOOKUP(A144,'Copy of Export'!$A$2:$AF2393,8,false)","v":"#N/A"}]
[null,{"$f":"VLOOKUP(A145,'Copy of Export'!$A$2:$AF2393,5,false)","v":"#N/A"},{"$f":"VLOOKUP(A145,'Copy of Export'!$A$2:$AF2393,13,false)","v":"#N/A"},{"$f":"VLOOKUP(A145,'Copy of Export'!$A$2:$AF2393,2,false)","v":"#N/A"},{"$f":"VLOOKUP(A145,'Copy of Export'!$A$2:$AF2393,5,false)","v":"#N/A"},{"$f":"VLOOKUP(A145,'Copy of Export'!$A$2:$AF2393,8,false)","v":"#N/A"}]
[null,{"$f":"VLOOKUP(A146,'Copy of Export'!$A$2:$AF2393,5,false)","v":"#N/A"},{"$f":"VLOOKUP(A146,'Copy of Export'!$A$2:$AF2393,13,false)","v":"#N/A"},{"$f":"VLOOKUP(A146,'Copy of Export'!$A$2:$AF2393,2,false)","v":"#N/A"},{"$f":"VLOOKUP(A146,'Copy of Export'!$A$2:$AF2393,5,false)","v":"#N/A"},{"$f":"VLOOKUP(A146,'Copy of Export'!$A$2:$AF2393,8,false)","v":"#N/A"}]
[null,{"$f":"VLOOKUP(A147,'Copy of Export'!$A$2:$AF2393,5,false)","v":"#N/A"},{"$f":"VLOOKUP(A147,'Copy of Export'!$A$2:$AF2393,13,false)","v":"#N/A"},{"$f":"VLOOKUP(A147,'Copy of Export'!$A$2:$AF2393,2,false)","v":"#N/A"},{"$f":"VLOOKUP(A147,'Copy of Export'!$A$2:$AF2393,5,false)","v":"#N/A"},{"$f":"VLOOKUP(A147,'Copy of Export'!$A$2:$AF2393,8,false)","v":"#N/A"}]
[null,{"$f":"VLOOKUP(A148,'Copy of Export'!$A$2:$AF2393,5,false)","v":"#N/A"},{"$f":"VLOOKUP(A148,'Copy of Export'!$A$2:$AF2393,13,false)","v":"#N/A"},{"$f":"VLOOKUP(A148,'Copy of Export'!$A$2:$AF2393,2,false)","v":"#N/A"},{"$f":"VLOOKUP(A148,'Copy of Export'!$A$2:$AF2393,5,false)","v":"#N/A"},{"$f":"VLOOKUP(A148,'Copy of Export'!$A$2:$AF2393,8,false)","v":"#N/A"}]
[null,{"$f":"VLOOKUP(A149,'Copy of Export'!$A$2:$AF2393,5,false)","v":"#N/A"},{"$f":"VLOOKUP(A149,'Copy of Export'!$A$2:$AF2393,13,false)","v":"#N/A"},{"$f":"VLOOKUP(A149,'Copy of Export'!$A$2:$AF2393,2,false)","v":"#N/A"},{"$f":"VLOOKUP(A149,'Copy of Export'!$A$2:$AF2393,5,false)","v":"#N/A"},{"$f":"VLOOKUP(A149,'Copy of Export'!$A$2:$AF2393,8,false)","v":"#N/A"}]
[null,{"$f":"VLOOKUP(A150,'Copy of Export'!$A$2:$AF2393,5,false)","v":"#N/A"},{"$f":"VLOOKUP(A150,'Copy of Export'!$A$2:$AF2393,13,false)","v":"#N/A"},{"$f":"VLOOKUP(A150,'Copy of Export'!$A$2:$AF2393,2,false)","v":"#N/A"},{"$f":"VLOOKUP(A150,'Copy of Export'!$A$2:$AF2393,5,false)","v":"#N/A"},{"$f":"VLOOKUP(A150,'Copy of Export'!$A$2:$AF2393,8,false)","v":"#N/A"}]
[null,{"$f":"VLOOKUP(A151,'Copy of Export'!$A$2:$AF2393,5,false)","v":"#N/A"},{"$f":"VLOOKUP(A151,'Copy of Export'!$A$2:$AF2393,13,false)","v":"#N/A"},{"$f":"VLOOKUP(A151,'Copy of Export'!$A$2:$AF2393,2,false)","v":"#N/A"},{"$f":"VLOOKUP(A151,'Copy of Export'!$A$2:$AF2393,5,false)","v":"#N/A"},{"$f":"VLOOKUP(A151,'Copy of Export'!$A$2:$AF2393,8,false)","v":"#N/A"}]
[null,{"$f":"VLOOKUP(A152,'Copy of Export'!$A$2:$AF2393,5,false)","v":"#N/A"},{"$f":"VLOOKUP(A152,'Copy of Export'!$A$2:$AF2393,13,false)","v":"#N/A"},{"$f":"VLOOKUP(A152,'Copy of Export'!$A$2:$AF2393,2,false)","v":"#N/A"},{"$f":"VLOOKUP(A152,'Copy of Export'!$A$2:$AF2393,5,false)","v":"#N/A"},{"$f":"VLOOKUP(A152,'Copy of Export'!$A$2:$AF2393,8,false)","v":"#N/A"}]
[null,{"$f":"VLOOKUP(A153,'Copy of Export'!$A$2:$AF2393,5,false)","v":"#N/A"},{"$f":"VLOOKUP(A153,'Copy of Export'!$A$2:$AF2393,13,false)","v":"#N/A"},{"$f":"VLOOKUP(A153,'Copy of Export'!$A$2:$AF2393,2,false)","v":"#N/A"},{"$f":"VLOOKUP(A153,'Copy of Export'!$A$2:$AF2393,5,false)","v":"#N/A"},{"$f":"VLOOKUP(A153,'Copy of Export'!$A$2:$AF2393,8,false)","v":"#N/A"}]
[null,{"$f":"VLOOKUP(A154,'Copy of Export'!$A$2:$AF2393,5,false)","v":"#N/A"},{"$f":"VLOOKUP(A154,'Copy of Export'!$A$2:$AF2393,13,false)","v":"#N/A"},{"$f":"VLOOKUP(A154,'Copy of Export'!$A$2:$AF2393,2,false)","v":"#N/A"},{"$f":"VLOOKUP(A154,'Copy of Export'!$A$2:$AF2393,5,false)","v":"#N/A"},{"$f":"VLOOKUP(A154,'Copy of Export'!$A$2:$AF2393,8,false)","v":"#N/A"}]
[null,{"$f":"VLOOKUP(A155,'Copy of Export'!$A$2:$AF2393,5,false)","v":"#N/A"},{"$f":"VLOOKUP(A155,'Copy of Export'!$A$2:$AF2393,13,false)","v":"#N/A"},{"$f":"VLOOKUP(A155,'Copy of Export'!$A$2:$AF2393,2,false)","v":"#N/A"},{"$f":"VLOOKUP(A155,'Copy of Export'!$A$2:$AF2393,5,false)","v":"#N/A"},{"$f":"VLOOKUP(A155,'Copy of Export'!$A$2:$AF2393,8,false)","v":"#N/A"}]
[null,{"$f":"VLOOKUP(A156,'Copy of Export'!$A$2:$AF2393,5,false)","v":"#N/A"},{"$f":"VLOOKUP(A156,'Copy of Export'!$A$2:$AF2393,13,false)","v":"#N/A"},{"$f":"VLOOKUP(A156,'Copy of Export'!$A$2:$AF2393,2,false)","v":"#N/A"},{"$f":"VLOOKUP(A156,'Copy of Export'!$A$2:$AF2393,5,false)","v":"#N/A"},{"$f":"VLOOKUP(A156,'Copy of Export'!$A$2:$AF2393,8,false)","v":"#N/A"}]
[null,{"$f":"VLOOKUP(A157,'Copy of Export'!$A$2:$AF2393,5,false)","v":"#N/A"},{"$f":"VLOOKUP(A157,'Copy of Export'!$A$2:$AF2393,13,false)","v":"#N/A"},{"$f":"VLOOKUP(A157,'Copy of Export'!$A$2:$AF2393,2,false)","v":"#N/A"},{"$f":"VLOOKUP(A157,'Copy of Export'!$A$2:$AF2393,5,false)","v":"#N/A"},{"$f":"VLOOKUP(A157,'Copy of Export'!$A$2:$AF2393,8,false)","v":"#N/A"}]
[null,{"$f":"VLOOKUP(A158,'Copy of Export'!$A$2:$AF2393,5,false)","v":"#N/A"},{"$f":"VLOOKUP(A158,'Copy of Export'!$A$2:$AF2393,13,false)","v":"#N/A"},{"$f":"VLOOKUP(A158,'Copy of Export'!$A$2:$AF2393,2,false)","v":"#N/A"},{"$f":"VLOOKUP(A158,'Copy of Export'!$A$2:$AF2393,5,false)","v":"#N/A"},{"$f":"VLOOKUP(A158,'Copy of Export'!$A$2:$AF2393,8,false)","v":"#N/A"}]
[null,{"$f":"VLOOKUP(A159,'Copy of Export'!$A$2:$AF2393,5,false)","v":"#N/A"},{"$f":"VLOOKUP(A159,'Copy of Export'!$A$2:$AF2393,13,false)","v":"#N/A"},{"$f":"VLOOKUP(A159,'Copy of Export'!$A$2:$AF2393,2,false)","v":"#N/A"},{"$f":"VLOOKUP(A159,'Copy of Export'!$A$2:$AF2393,5,false)","v":"#N/A"},{"$f":"VLOOKUP(A159,'Copy of Export'!$A$2:$AF2393,8,false)","v":"#N/A"}]
[null,{"$f":"VLOOKUP(A160,'Copy of Export'!$A$2:$AF2393,5,false)","v":"#N/A"},{"$f":"VLOOKUP(A160,'Copy of Export'!$A$2:$AF2393,13,false)","v":"#N/A"},{"$f":"VLOOKUP(A160,'Copy of Export'!$A$2:$AF2393,2,false)","v":"#N/A"},{"$f":"VLOOKUP(A160,'Copy of Export'!$A$2:$AF2393,5,false)","v":"#N/A"},{"$f":"VLOOKUP(A160,'Copy of Export'!$A$2:$AF2393,8,false)","v":"#N/A"}]
[null,{"$f":"VLOOKUP(A161,'Copy of Export'!$A$2:$AF2393,5,false)","v":"#N/A"},{"$f":"VLOOKUP(A161,'Copy of Export'!$A$2:$AF2393,13,false)","v":"#N/A"},{"$f":"VLOOKUP(A161,'Copy of Export'!$A$2:$AF2393,2,false)","v":"#N/A"},{"$f":"VLOOKUP(A161,'Copy of Export'!$A$2:$AF2393,5,false)","v":"#N/A"},{"$f":"VLOOKUP(A161,'Copy of Export'!$A$2:$AF2393,8,false)","v":"#N/A"}]
[null,{"$f":"VLOOKUP(A162,'Copy of Export'!$A$2:$AF2393,5,false)","v":"#N/A"},{"$f":"VLOOKUP(A162,'Copy of Export'!$A$2:$AF2393,13,false)","v":"#N/A"},{"$f":"VLOOKUP(A162,'Copy of Export'!$A$2:$AF2393,2,false)","v":"#N/A"},{"$f":"VLOOKUP(A162,'Copy of Export'!$A$2:$AF2393,5,false)","v":"#N/A"},{"$f":"VLOOKUP(A162,'Copy of Export'!$A$2:$AF2393,8,false)","v":"#N/A"}]
[null,{"$f":"VLOOKUP(A163,'Copy of Export'!$A$2:$AF2393,5,false)","v":"#N/A"},{"$f":"VLOOKUP(A163,'Copy of Export'!$A$2:$AF2393,13,false)","v":"#N/A"},{"$f":"VLOOKUP(A163,'Copy of Export'!$A$2:$AF2393,2,false)","v":"#N/A"},{"$f":"VLOOKUP(A163,'Copy of Export'!$A$2:$AF2393,5,false)","v":"#N/A"},{"$f":"VLOOKUP(A163,'Copy of Export'!$A$2:$AF2393,8,false)","v":"#N/A"}]
[null,{"$f":"VLOOKUP(A164,'Copy of Export'!$A$2:$AF2393,5,false)","v":"#N/A"},{"$f":"VLOOKUP(A164,'Copy of Export'!$A$2:$AF2393,13,false)","v":"#N/A"},{"$f":"VLOOKUP(A164,'Copy of Export'!$A$2:$AF2393,2,false)","v":"#N/A"},{"$f":"VLOOKUP(A164,'Copy of Export'!$A$2:$AF2393,5,false)","v":"#N/A"},{"$f":"VLOOKUP(A164,'Copy of Export'!$A$2:$AF2393,8,false)","v":"#N/A"}]
[null,{"$f":"VLOOKUP(A165,'Copy of Export'!$A$2:$AF2393,5,false)","v":"#N/A"},{"$f":"VLOOKUP(A165,'Copy of Export'!$A$2:$AF2393,13,false)","v":"#N/A"},{"$f":"VLOOKUP(A165,'Copy of Export'!$A$2:$AF2393,2,false)","v":"#N/A"},{"$f":"VLOOKUP(A165,'Copy of Export'!$A$2:$AF2393,5,false)","v":"#N/A"},{"$f":"VLOOKUP(A165,'Copy of Export'!$A$2:$AF2393,8,false)","v":"#N/A"}]
[null,{"$f":"VLOOKUP(A166,'Copy of Export'!$A$2:$AF2393,5,false)","v":"#N/A"},{"$f":"VLOOKUP(A166,'Copy of Export'!$A$2:$AF2393,13,false)","v":"#N/A"},{"$f":"VLOOKUP(A166,'Copy of Export'!$A$2:$AF2393,2,false)","v":"#N/A"},{"$f":"VLOOKUP(A166,'Copy of Export'!$A$2:$AF2393,5,false)","v":"#N/A"},{"$f":"VLOOKUP(A166,'Copy of Export'!$A$2:$AF2393,8,false)","v":"#N/A"}]
[null,{"$f":"VLOOKUP(A167,'Copy of Export'!$A$2:$AF2393,5,false)","v":"#N/A"},{"$f":"VLOOKUP(A167,'Copy of Export'!$A$2:$AF2393,13,false)","v":"#N/A"},{"$f":"VLOOKUP(A167,'Copy of Export'!$A$2:$AF2393,2,false)","v":"#N/A"},{"$f":"VLOOKUP(A167,'Copy of Export'!$A$2:$AF2393,5,false)","v":"#N/A"},{"$f":"VLOOKUP(A167,'Copy of Export'!$A$2:$AF2393,8,false)","v":"#N/A"}]
[null,{"$f":"VLOOKUP(A168,'Copy of Export'!$A$2:$AF2393,5,false)","v":"#N/A"},{"$f":"VLOOKUP(A168,'Copy of Export'!$A$2:$AF2393,13,false)","v":"#N/A"},{"$f":"VLOOKUP(A168,'Copy of Export'!$A$2:$AF2393,2,false)","v":"#N/A"},{"$f":"VLOOKUP(A168,'Copy of Export'!$A$2:$AF2393,5,false)","v":"#N/A"},{"$f":"VLOOKUP(A168,'Copy of Export'!$A$2:$AF2393,8,false)","v":"#N/A"}]
[null,{"$f":"VLOOKUP(A169,'Copy of Export'!$A$2:$AF2393,5,false)","v":"#N/A"},{"$f":"VLOOKUP(A169,'Copy of Export'!$A$2:$AF2393,13,false)","v":"#N/A"},{"$f":"VLOOKUP(A169,'Copy of Export'!$A$2:$AF2393,2,false)","v":"#N/A"},{"$f":"VLOOKUP(A169,'Copy of Export'!$A$2:$AF2393,5,false)","v":"#N/A"},{"$f":"VLOOKUP(A169,'Copy of Export'!$A$2:$AF2393,8,false)","v":"#N/A"}]
[null,{"$f":"VLOOKUP(A170,'Copy of Export'!$A$2:$AF2393,5,false)","v":"#N/A"},{"$f":"VLOOKUP(A170,'Copy of Export'!$A$2:$AF2393,13,false)","v":"#N/A"},{"$f":"VLOOKUP(A170,'Copy of Export'!$A$2:$AF2393,2,false)","v":"#N/A"},{"$f":"VLOOKUP(A170,'Copy of Export'!$A$2:$AF2393,5,false)","v":"#N/A"},{"$f":"VLOOKUP(A170,'Copy of Export'!$A$2:$AF2393,8,false)","v":"#N/A"}]
[null,{"$f":"VLOOKUP(A171,'Copy of Export'!$A$2:$AF2393,5,false)","v":"#N/A"},{"$f":"VLOOKUP(A171,'Copy of Export'!$A$2:$AF2393,13,false)","v":"#N/A"},{"$f":"VLOOKUP(A171,'Copy of Export'!$A$2:$AF2393,2,false)","v":"#N/A"},{"$f":"VLOOKUP(A171,'Copy of Export'!$A$2:$AF2393,5,false)","v":"#N/A"},{"$f":"VLOOKUP(A171,'Copy of Export'!$A$2:$AF2393,8,false)","v":"#N/A"}]
[null,{"$f":"VLOOKUP(A172,'Copy of Export'!$A$2:$AF2393,5,false)","v":"#N/A"},{"$f":"VLOOKUP(A172,'Copy of Export'!$A$2:$AF2393,13,false)","v":"#N/A"},{"$f":"VLOOKUP(A172,'Copy of Export'!$A$2:$AF2393,2,false)","v":"#N/A"},{"$f":"VLOOKUP(A172,'Copy of Export'!$A$2:$AF2393,5,false)","v":"#N/A"},{"$f":"VLOOKUP(A172,'Copy of Export'!$A$2:$AF2393,8,false)","v":"#N/A"}]
[null,{"$f":"VLOOKUP(A173,'Copy of Export'!$A$2:$AF2393,5,false)","v":"#N/A"},{"$f":"VLOOKUP(A173,'Copy of Export'!$A$2:$AF2393,13,false)","v":"#N/A"},{"$f":"VLOOKUP(A173,'Copy of Export'!$A$2:$AF2393,2,false)","v":"#N/A"},{"$f":"VLOOKUP(A173,'Copy of Export'!$A$2:$AF2393,5,false)","v":"#N/A"},{"$f":"VLOOKUP(A173,'Copy of Export'!$A$2:$AF2393,8,false)","v":"#N/A"}]
[null,{"$f":"VLOOKUP(A174,'Copy of Export'!$A$2:$AF2393,5,false)","v":"#N/A"},{"$f":"VLOOKUP(A174,'Copy of Export'!$A$2:$AF2393,13,false)","v":"#N/A"},{"$f":"VLOOKUP(A174,'Copy of Export'!$A$2:$AF2393,2,false)","v":"#N/A"},{"$f":"VLOOKUP(A174,'Copy of Export'!$A$2:$AF2393,5,false)","v":"#N/A"},{"$f":"VLOOKUP(A174,'Copy of Export'!$A$2:$AF2393,8,false)","v":"#N/A"}]
[null,{"$f":"VLOOKUP(A175,'Copy of Export'!$A$2:$AF2393,5,false)","v":"#N/A"},{"$f":"VLOOKUP(A175,'Copy of Export'!$A$2:$AF2393,13,false)","v":"#N/A"},{"$f":"VLOOKUP(A175,'Copy of Export'!$A$2:$AF2393,2,false)","v":"#N/A"},{"$f":"VLOOKUP(A175,'Copy of Export'!$A$2:$AF2393,5,false)","v":"#N/A"},{"$f":"VLOOKUP(A175,'Copy of Export'!$A$2:$AF2393,8,false)","v":"#N/A"}]
[null,{"$f":"VLOOKUP(A176,'Copy of Export'!$A$2:$AF2393,5,false)","v":"#N/A"},{"$f":"VLOOKUP(A176,'Copy of Export'!$A$2:$AF2393,13,false)","v":"#N/A"},{"$f":"VLOOKUP(A176,'Copy of Export'!$A$2:$AF2393,2,false)","v":"#N/A"},{"$f":"VLOOKUP(A176,'Copy of Export'!$A$2:$AF2393,5,false)","v":"#N/A"},{"$f":"VLOOKUP(A176,'Copy of Export'!$A$2:$AF2393,8,false)","v":"#N/A"}]
[null,{"$f":"VLOOKUP(A177,'Copy of Export'!$A$2:$AF2393,5,false)","v":"#N/A"},{"$f":"VLOOKUP(A177,'Copy of Export'!$A$2:$AF2393,13,false)","v":"#N/A"},{"$f":"VLOOKUP(A177,'Copy of Export'!$A$2:$AF2393,2,false)","v":"#N/A"},{"$f":"VLOOKUP(A177,'Copy of Export'!$A$2:$AF2393,5,false)","v":"#N/A"},{"$f":"VLOOKUP(A177,'Copy of Export'!$A$2:$AF2393,8,false)","v":"#N/A"}]
[null,{"$f":"VLOOKUP(A178,'Copy of Export'!$A$2:$AF2393,5,false)","v":"#N/A"},{"$f":"VLOOKUP(A178,'Copy of Export'!$A$2:$AF2393,13,false)","v":"#N/A"},{"$f":"VLOOKUP(A178,'Copy of Export'!$A$2:$AF2393,2,false)","v":"#N/A"},{"$f":"VLOOKUP(A178,'Copy of Export'!$A$2:$AF2393,5,false)","v":"#N/A"},{"$f":"VLOOKUP(A178,'Copy of Export'!$A$2:$AF2393,8,false)","v":"#N/A"}]
[null,{"$f":"VLOOKUP(A179,'Copy of Export'!$A$2:$AF2393,5,false)","v":"#N/A"},{"$f":"VLOOKUP(A179,'Copy of Export'!$A$2:$AF2393,13,false)","v":"#N/A"},{"$f":"VLOOKUP(A179,'Copy of Export'!$A$2:$AF2393,2,false)","v":"#N/A"},{"$f":"VLOOKUP(A179,'Copy of Export'!$A$2:$AF2393,5,false)","v":"#N/A"},{"$f":"VLOOKUP(A179,'Copy of Export'!$A$2:$AF2393,8,false)","v":"#N/A"}]
[null,{"$f":"VLOOKUP(A180,'Copy of Export'!$A$2:$AF2393,5,false)","v":"#N/A"},{"$f":"VLOOKUP(A180,'Copy of Export'!$A$2:$AF2393,13,false)","v":"#N/A"},{"$f":"VLOOKUP(A180,'Copy of Export'!$A$2:$AF2393,2,false)","v":"#N/A"},{"$f":"VLOOKUP(A180,'Copy of Export'!$A$2:$AF2393,5,false)","v":"#N/A"},{"$f":"VLOOKUP(A180,'Copy of Export'!$A$2:$AF2393,8,false)","v":"#N/A"}]
[null,{"$f":"VLOOKUP(A181,'Copy of Export'!$A$2:$AF2393,5,false)","v":"#N/A"},{"$f":"VLOOKUP(A181,'Copy of Export'!$A$2:$AF2393,13,false)","v":"#N/A"},{"$f":"VLOOKUP(A181,'Copy of Export'!$A$2:$AF2393,2,false)","v":"#N/A"},{"$f":"VLOOKUP(A181,'Copy of Export'!$A$2:$AF2393,5,false)","v":"#N/A"},{"$f":"VLOOKUP(A181,'Copy of Export'!$A$2:$AF2393,8,false)","v":"#N/A"}]
[null,{"$f":"VLOOKUP(A182,'Copy of Export'!$A$2:$AF2393,5,false)","v":"#N/A"},{"$f":"VLOOKUP(A182,'Copy of Export'!$A$2:$AF2393,13,false)","v":"#N/A"},{"$f":"VLOOKUP(A182,'Copy of Export'!$A$2:$AF2393,2,false)","v":"#N/A"},{"$f":"VLOOKUP(A182,'Copy of Export'!$A$2:$AF2393,5,false)","v":"#N/A"},{"$f":"VLOOKUP(A182,'Copy of Export'!$A$2:$AF2393,8,false)","v":"#N/A"}]
[null,{"$f":"VLOOKUP(A183,'Copy of Export'!$A$2:$AF2393,5,false)","v":"#N/A"},{"$f":"VLOOKUP(A183,'Copy of Export'!$A$2:$AF2393,13,false)","v":"#N/A"},{"$f":"VLOOKUP(A183,'Copy of Export'!$A$2:$AF2393,2,false)","v":"#N/A"},{"$f":"VLOOKUP(A183,'Copy of Export'!$A$2:$AF2393,5,false)","v":"#N/A"},{"$f":"VLOOKUP(A183,'Copy of Export'!$A$2:$AF2393,8,false)","v":"#N/A"}]
[null,{"$f":"VLOOKUP(A184,'Copy of Export'!$A$2:$AF2393,5,false)","v":"#N/A"},{"$f":"VLOOKUP(A184,'Copy of Export'!$A$2:$AF2393,13,false)","v":"#N/A"},{"$f":"VLOOKUP(A184,'Copy of Export'!$A$2:$AF2393,2,false)","v":"#N/A"},{"$f":"VLOOKUP(A184,'Copy of Export'!$A$2:$AF2393,5,false)","v":"#N/A"},{"$f":"VLOOKUP(A184,'Copy of Export'!$A$2:$AF2393,8,false)","v":"#N/A"}]
[null,{"$f":"VLOOKUP(A185,'Copy of Export'!$A$2:$AF2393,5,false)","v":"#N/A"},{"$f":"VLOOKUP(A185,'Copy of Export'!$A$2:$AF2393,13,false)","v":"#N/A"},{"$f":"VLOOKUP(A185,'Copy of Export'!$A$2:$AF2393,2,false)","v":"#N/A"},{"$f":"VLOOKUP(A185,'Copy of Export'!$A$2:$AF2393,5,false)","v":"#N/A"},{"$f":"VLOOKUP(A185,'Copy of Export'!$A$2:$AF2393,8,false)","v":"#N/A"}]
[null,{"$f":"VLOOKUP(A186,'Copy of Export'!$A$2:$AF2393,5,false)","v":"#N/A"},{"$f":"VLOOKUP(A186,'Copy of Export'!$A$2:$AF2393,13,false)","v":"#N/A"},{"$f":"VLOOKUP(A186,'Copy of Export'!$A$2:$AF2393,2,false)","v":"#N/A"},{"$f":"VLOOKUP(A186,'Copy of Export'!$A$2:$AF2393,5,false)","v":"#N/A"},{"$f":"VLOOKUP(A186,'Copy of Export'!$A$2:$AF2393,8,false)","v":"#N/A"}]
[null,{"$f":"VLOOKUP(A187,'Copy of Export'!$A$2:$AF2393,5,false)","v":"#N/A"},{"$f":"VLOOKUP(A187,'Copy of Export'!$A$2:$AF2393,13,false)","v":"#N/A"},{"$f":"VLOOKUP(A187,'Copy of Export'!$A$2:$AF2393,2,false)","v":"#N/A"},{"$f":"VLOOKUP(A187,'Copy of Export'!$A$2:$AF2393,5,false)","v":"#N/A"},{"$f":"VLOOKUP(A187,'Copy of Export'!$A$2:$AF2393,8,false)","v":"#N/A"}]
[null,{"$f":"VLOOKUP(A188,'Copy of Export'!$A$2:$AF2393,5,false)","v":"#N/A"},{"$f":"VLOOKUP(A188,'Copy of Export'!$A$2:$AF2393,13,false)","v":"#N/A"},{"$f":"VLOOKUP(A188,'Copy of Export'!$A$2:$AF2393,2,false)","v":"#N/A"},{"$f":"VLOOKUP(A188,'Copy of Export'!$A$2:$AF2393,5,false)","v":"#N/A"},{"$f":"VLOOKUP(A188,'Copy of Export'!$A$2:$AF2393,8,false)","v":"#N/A"}]
[null,{"$f":"VLOOKUP(A189,'Copy of Export'!$A$2:$AF2393,5,false)","v":"#N/A"},{"$f":"VLOOKUP(A189,'Copy of Export'!$A$2:$AF2393,13,false)","v":"#N/A"},{"$f":"VLOOKUP(A189,'Copy of Export'!$A$2:$AF2393,2,false)","v":"#N/A"},{"$f":"VLOOKUP(A189,'Copy of Export'!$A$2:$AF2393,5,false)","v":"#N/A"},{"$f":"VLOOKUP(A189,'Copy of Export'!$A$2:$AF2393,8,false)","v":"#N/A"}]
[null,{"$f":"VLOOKUP(A190,'Copy of Export'!$A$2:$AF2393,5,false)","v":"#N/A"},{"$f":"VLOOKUP(A190,'Copy of Export'!$A$2:$AF2393,13,false)","v":"#N/A"},{"$f":"VLOOKUP(A190,'Copy of Export'!$A$2:$AF2393,2,false)","v":"#N/A"},{"$f":"VLOOKUP(A190,'Copy of Export'!$A$2:$AF2393,5,false)","v":"#N/A"},{"$f":"VLOOKUP(A190,'Copy of Export'!$A$2:$AF2393,8,false)","v":"#N/A"}]
[null,{"$f":"VLOOKUP(A191,'Copy of Export'!$A$2:$AF2393,5,false)","v":"#N/A"},{"$f":"VLOOKUP(A191,'Copy of Export'!$A$2:$AF2393,13,false)","v":"#N/A"},{"$f":"VLOOKUP(A191,'Copy of Export'!$A$2:$AF2393,2,false)","v":"#N/A"},{"$f":"VLOOKUP(A191,'Copy of Export'!$A$2:$AF2393,5,false)","v":"#N/A"},{"$f":"VLOOKUP(A191,'Copy of Export'!$A$2:$AF2393,8,false)","v":"#N/A"}]
[null,{"$f":"VLOOKUP(A192,'Copy of Export'!$A$2:$AF2393,5,false)","v":"#N/A"},{"$f":"VLOOKUP(A192,'Copy of Export'!$A$2:$AF2393,13,false)","v":"#N/A"},{"$f":"VLOOKUP(A192,'Copy of Export'!$A$2:$AF2393,2,false)","v":"#N/A"},{"$f":"VLOOKUP(A192,'Copy of Export'!$A$2:$AF2393,5,false)","v":"#N/A"},{"$f":"VLOOKUP(A192,'Copy of Export'!$A$2:$AF2393,8,false)","v":"#N/A"}]
[null,{"$f":"VLOOKUP(A193,'Copy of Export'!$A$2:$AF2393,5,false)","v":"#N/A"},{"$f":"VLOOKUP(A193,'Copy of Export'!$A$2:$AF2393,13,false)","v":"#N/A"},{"$f":"VLOOKUP(A193,'Copy of Export'!$A$2:$AF2393,2,false)","v":"#N/A"},{"$f":"VLOOKUP(A193,'Copy of Export'!$A$2:$AF2393,5,false)","v":"#N/A"},{"$f":"VLOOKUP(A193,'Copy of Export'!$A$2:$AF2393,8,false)","v":"#N/A"}]
[null,{"$f":"VLOOKUP(A194,'Copy of Export'!$A$2:$AF2393,5,false)","v":"#N/A"},{"$f":"VLOOKUP(A194,'Copy of Export'!$A$2:$AF2393,13,false)","v":"#N/A"},{"$f":"VLOOKUP(A194,'Copy of Export'!$A$2:$AF2393,2,false)","v":"#N/A"},{"$f":"VLOOKUP(A194,'Copy of Export'!$A$2:$AF2393,5,false)","v":"#N/A"},{"$f":"VLOOKUP(A194,'Copy of Export'!$A$2:$AF2393,8,false)","v":"#N/A"}]
[null,{"$f":"VLOOKUP(A195,'Copy of Export'!$A$2:$AF2393,5,false)","v":"#N/A"},{"$f":"VLOOKUP(A195,'Copy of Export'!$A$2:$AF2393,13,false)","v":"#N/A"},{"$f":"VLOOKUP(A195,'Copy of Export'!$A$2:$AF2393,2,false)","v":"#N/A"},{"$f":"VLOOKUP(A195,'Copy of Export'!$A$2:$AF2393,5,false)","v":"#N/A"},{"$f":"VLOOKUP(A195,'Copy of Export'!$A$2:$AF2393,8,false)","v":"#N/A"}]
[null,{"$f":"VLOOKUP(A196,'Copy of Export'!$A$2:$AF2393,5,false)","v":"#N/A"},{"$f":"VLOOKUP(A196,'Copy of Export'!$A$2:$AF2393,13,false)","v":"#N/A"},{"$f":"VLOOKUP(A196,'Copy of Export'!$A$2:$AF2393,2,false)","v":"#N/A"},{"$f":"VLOOKUP(A196,'Copy of Export'!$A$2:$AF2393,5,false)","v":"#N/A"},{"$f":"VLOOKUP(A196,'Copy of Export'!$A$2:$AF2393,8,false)","v":"#N/A"}]
[null,{"$f":"VLOOKUP(A197,'Copy of Export'!$A$2:$AF2393,5,false)","v":"#N/A"},{"$f":"VLOOKUP(A197,'Copy of Export'!$A$2:$AF2393,13,false)","v":"#N/A"},{"$f":"VLOOKUP(A197,'Copy of Export'!$A$2:$AF2393,2,false)","v":"#N/A"},{"$f":"VLOOKUP(A197,'Copy of Export'!$A$2:$AF2393,5,false)","v":"#N/A"},{"$f":"VLOOKUP(A197,'Copy of Export'!$A$2:$AF2393,8,false)","v":"#N/A"}]
[null,{"$f":"VLOOKUP(A198,'Copy of Export'!$A$2:$AF2393,5,false)","v":"#N/A"},{"$f":"VLOOKUP(A198,'Copy of Export'!$A$2:$AF2393,13,false)","v":"#N/A"},{"$f":"VLOOKUP(A198,'Copy of Export'!$A$2:$AF2393,2,false)","v":"#N/A"},{"$f":"VLOOKUP(A198,'Copy of Export'!$A$2:$AF2393,5,false)","v":"#N/A"},{"$f":"VLOOKUP(A198,'Copy of Export'!$A$2:$AF2393,8,false)","v":"#N/A"}]
[null,{"$f":"VLOOKUP(A199,'Copy of Export'!$A$2:$AF2393,5,false)","v":"#N/A"},{"$f":"VLOOKUP(A199,'Copy of Export'!$A$2:$AF2393,13,false)","v":"#N/A"},{"$f":"VLOOKUP(A199,'Copy of Export'!$A$2:$AF2393,2,false)","v":"#N/A"},{"$f":"VLOOKUP(A199,'Copy of Export'!$A$2:$AF2393,5,false)","v":"#N/A"},{"$f":"VLOOKUP(A199,'Copy of Export'!$A$2:$AF2393,8,false)","v":"#N/A"}]
[null,{"$f":"VLOOKUP(A200,'Copy of Export'!$A$2:$AF2393,5,false)","v":"#N/A"},{"$f":"VLOOKUP(A200,'Copy of Export'!$A$2:$AF2393,13,false)","v":"#N/A"},{"$f":"VLOOKUP(A200,'Copy of Export'!$A$2:$AF2393,2,false)","v":"#N/A"},{"$f":"VLOOKUP(A200,'Copy of Export'!$A$2:$AF2393,5,false)","v":"#N/A"},{"$f":"VLOOKUP(A200,'Copy of Export'!$A$2:$AF2393,8,false)","v":"#N/A"}]
[null,{"$f":"VLOOKUP(A201,'Copy of Export'!$A$2:$AF2393,5,false)","v":"#N/A"},{"$f":"VLOOKUP(A201,'Copy of Export'!$A$2:$AF2393,13,false)","v":"#N/A"},{"$f":"VLOOKUP(A201,'Copy of Export'!$A$2:$AF2393,2,false)","v":"#N/A"},{"$f":"VLOOKUP(A201,'Copy of Export'!$A$2:$AF2393,5,false)","v":"#N/A"},{"$f":"VLOOKUP(A201,'Copy of Export'!$A$2:$AF2393,8,false)","v":"#N/A"}]
[null,{"$f":"VLOOKUP(A202,'Copy of Export'!$A$2:$AF2393,5,false)","v":"#N/A"},{"$f":"VLOOKUP(A202,'Copy of Export'!$A$2:$AF2393,13,false)","v":"#N/A"},{"$f":"VLOOKUP(A202,'Copy of Export'!$A$2:$AF2393,2,false)","v":"#N/A"},{"$f":"VLOOKUP(A202,'Copy of Export'!$A$2:$AF2393,5,false)","v":"#N/A"},{"$f":"VLOOKUP(A202,'Copy of Export'!$A$2:$AF2393,8,false)","v":"#N/A"}]
[null,{"$f":"VLOOKUP(A203,'Copy of Export'!$A$2:$AF2393,5,false)","v":"#N/A"},{"$f":"VLOOKUP(A203,'Copy of Export'!$A$2:$AF2393,13,false)","v":"#N/A"},{"$f":"VLOOKUP(A203,'Copy of Export'!$A$2:$AF2393,2,false)","v":"#N/A"},{"$f":"VLOOKUP(A203,'Copy of Export'!$A$2:$AF2393,5,false)","v":"#N/A"},{"$f":"VLOOKUP(A203,'Copy of Export'!$A$2:$AF2393,8,false)","v":"#N/A"}]
[null,{"$f":"VLOOKUP(A204,'Copy of Export'!$A$2:$AF2393,5,false)","v":"#N/A"},{"$f":"VLOOKUP(A204,'Copy of Export'!$A$2:$AF2393,13,false)","v":"#N/A"},{"$f":"VLOOKUP(A204,'Copy of Export'!$A$2:$AF2393,2,false)","v":"#N/A"},{"$f":"VLOOKUP(A204,'Copy of Export'!$A$2:$AF2393,5,false)","v":"#N/A"},{"$f":"VLOOKUP(A204,'Copy of Export'!$A$2:$AF2393,8,false)","v":"#N/A"}]
[null,{"$f":"VLOOKUP(A205,'Copy of Export'!$A$2:$AF2393,5,false)","v":"#N/A"},{"$f":"VLOOKUP(A205,'Copy of Export'!$A$2:$AF2393,13,false)","v":"#N/A"},{"$f":"VLOOKUP(A205,'Copy of Export'!$A$2:$AF2393,2,false)","v":"#N/A"},{"$f":"VLOOKUP(A205,'Copy of Export'!$A$2:$AF2393,5,false)","v":"#N/A"},{"$f":"VLOOKUP(A205,'Copy of Export'!$A$2:$AF2393,8,false)","v":"#N/A"}]
[null,{"$f":"VLOOKUP(A206,'Copy of Export'!$A$2:$AF2393,5,false)","v":"#N/A"},{"$f":"VLOOKUP(A206,'Copy of Export'!$A$2:$AF2393,13,false)","v":"#N/A"},{"$f":"VLOOKUP(A206,'Copy of Export'!$A$2:$AF2393,2,false)","v":"#N/A"},{"$f":"VLOOKUP(A206,'Copy of Export'!$A$2:$AF2393,5,false)","v":"#N/A"},{"$f":"VLOOKUP(A206,'Copy of Export'!$A$2:$AF2393,8,false)","v":"#N/A"}]
[null,{"$f":"VLOOKUP(A207,'Copy of Export'!$A$2:$AF2393,5,false)","v":"#N/A"},{"$f":"VLOOKUP(A207,'Copy of Export'!$A$2:$AF2393,13,false)","v":"#N/A"},{"$f":"VLOOKUP(A207,'Copy of Export'!$A$2:$AF2393,2,false)","v":"#N/A"},{"$f":"VLOOKUP(A207,'Copy of Export'!$A$2:$AF2393,5,false)","v":"#N/A"},{"$f":"VLOOKUP(A207,'Copy of Export'!$A$2:$AF2393,8,false)","v":"#N/A"}]
[null,{"$f":"VLOOKUP(A208,'Copy of Export'!$A$2:$AF2393,5,false)","v":"#N/A"},{"$f":"VLOOKUP(A208,'Copy of Export'!$A$2:$AF2393,13,false)","v":"#N/A"},{"$f":"VLOOKUP(A208,'Copy of Export'!$A$2:$AF2393,2,false)","v":"#N/A"},{"$f":"VLOOKUP(A208,'Copy of Export'!$A$2:$AF2393,5,false)","v":"#N/A"},{"$f":"VLOOKUP(A208,'Copy of Export'!$A$2:$AF2393,8,false)","v":"#N/A"}]
[null,{"$f":"VLOOKUP(A209,'Copy of Export'!$A$2:$AF2393,5,false)","v":"#N/A"},{"$f":"VLOOKUP(A209,'Copy of Export'!$A$2:$AF2393,13,false)","v":"#N/A"},{"$f":"VLOOKUP(A209,'Copy of Export'!$A$2:$AF2393,2,false)","v":"#N/A"},{"$f":"VLOOKUP(A209,'Copy of Export'!$A$2:$AF2393,5,false)","v":"#N/A"},{"$f":"VLOOKUP(A209,'Copy of Export'!$A$2:$AF2393,8,false)","v":"#N/A"}]
[null,{"$f":"VLOOKUP(A210,'Copy of Export'!$A$2:$AF2393,5,false)","v":"#N/A"},{"$f":"VLOOKUP(A210,'Copy of Export'!$A$2:$AF2393,13,false)","v":"#N/A"},{"$f":"VLOOKUP(A210,'Copy of Export'!$A$2:$AF2393,2,false)","v":"#N/A"},{"$f":"VLOOKUP(A210,'Copy of Export'!$A$2:$AF2393,5,false)","v":"#N/A"},{"$f":"VLOOKUP(A210,'Copy of Export'!$A$2:$AF2393,8,false)","v":"#N/A"}]
[null,{"$f":"VLOOKUP(A211,'Copy of Export'!$A$2:$AF2393,5,false)","v":"#N/A"},{"$f":"VLOOKUP(A211,'Copy of Export'!$A$2:$AF2393,13,false)","v":"#N/A"},{"$f":"VLOOKUP(A211,'Copy of Export'!$A$2:$AF2393,2,false)","v":"#N/A"},{"$f":"VLOOKUP(A211,'Copy of Export'!$A$2:$AF2393,5,false)","v":"#N/A"},{"$f":"VLOOKUP(A211,'Copy of Export'!$A$2:$AF2393,8,false)","v":"#N/A"}]
[null,{"$f":"VLOOKUP(A212,'Copy of Export'!$A$2:$AF2393,5,false)","v":"#N/A"},{"$f":"VLOOKUP(A212,'Copy of Export'!$A$2:$AF2393,13,false)","v":"#N/A"},{"$f":"VLOOKUP(A212,'Copy of Export'!$A$2:$AF2393,2,false)","v":"#N/A"},{"$f":"VLOOKUP(A212,'Copy of Export'!$A$2:$AF2393,5,false)","v":"#N/A"},{"$f":"VLOOKUP(A212,'Copy of Export'!$A$2:$AF2393,8,false)","v":"#N/A"}]
[null,{"$f":"VLOOKUP(A213,'Copy of Export'!$A$2:$AF2393,5,false)","v":"#N/A"},{"$f":"VLOOKUP(A213,'Copy of Export'!$A$2:$AF2393,13,false)","v":"#N/A"},{"$f":"VLOOKUP(A213,'Copy of Export'!$A$2:$AF2393,2,false)","v":"#N/A"},{"$f":"VLOOKUP(A213,'Copy of Export'!$A$2:$AF2393,5,false)","v":"#N/A"},{"$f":"VLOOKUP(A213,'Copy of Export'!$A$2:$AF2393,8,false)","v":"#N/A"}]
[null,{"$f":"VLOOKUP(A214,'Copy of Export'!$A$2:$AF2393,5,false)","v":"#N/A"},{"$f":"VLOOKUP(A214,'Copy of Export'!$A$2:$AF2393,13,false)","v":"#N/A"},{"$f":"VLOOKUP(A214,'Copy of Export'!$A$2:$AF2393,2,false)","v":"#N/A"},{"$f":"VLOOKUP(A214,'Copy of Export'!$A$2:$AF2393,5,false)","v":"#N/A"},{"$f":"VLOOKUP(A214,'Copy of Export'!$A$2:$AF2393,8,false)","v":"#N/A"}]
[null,{"$f":"VLOOKUP(A215,'Copy of Export'!$A$2:$AF2393,5,false)","v":"#N/A"},{"$f":"VLOOKUP(A215,'Copy of Export'!$A$2:$AF2393,13,false)","v":"#N/A"},{"$f":"VLOOKUP(A215,'Copy of Export'!$A$2:$AF2393,2,false)","v":"#N/A"},{"$f":"VLOOKUP(A215,'Copy of Export'!$A$2:$AF2393,5,false)","v":"#N/A"},{"$f":"VLOOKUP(A215,'Copy of Export'!$A$2:$AF2393,8,false)","v":"#N/A"}]
[null,{"$f":"VLOOKUP(A216,'Copy of Export'!$A$2:$AF2393,5,false)","v":"#N/A"},{"$f":"VLOOKUP(A216,'Copy of Export'!$A$2:$AF2393,13,false)","v":"#N/A"},{"$f":"VLOOKUP(A216,'Copy of Export'!$A$2:$AF2393,2,false)","v":"#N/A"},{"$f":"VLOOKUP(A216,'Copy of Export'!$A$2:$AF2393,5,false)","v":"#N/A"},{"$f":"VLOOKUP(A216,'Copy of Export'!$A$2:$AF2393,8,false)","v":"#N/A"}]
[null,{"$f":"VLOOKUP(A217,'Copy of Export'!$A$2:$AF2393,5,false)","v":"#N/A"},{"$f":"VLOOKUP(A217,'Copy of Export'!$A$2:$AF2393,13,false)","v":"#N/A"},{"$f":"VLOOKUP(A217,'Copy of Export'!$A$2:$AF2393,2,false)","v":"#N/A"},{"$f":"VLOOKUP(A217,'Copy of Export'!$A$2:$AF2393,5,false)","v":"#N/A"},{"$f":"VLOOKUP(A217,'Copy of Export'!$A$2:$AF2393,8,false)","v":"#N/A"}]
[null,{"$f":"VLOOKUP(A218,'Copy of Export'!$A$2:$AF2393,5,false)","v":"#N/A"},{"$f":"VLOOKUP(A218,'Copy of Export'!$A$2:$AF2393,13,false)","v":"#N/A"},{"$f":"VLOOKUP(A218,'Copy of Export'!$A$2:$AF2393,2,false)","v":"#N/A"},{"$f":"VLOOKUP(A218,'Copy of Export'!$A$2:$AF2393,5,false)","v":"#N/A"},{"$f":"VLOOKUP(A218,'Copy of Export'!$A$2:$AF2393,8,false)","v":"#N/A"}]
[null,{"$f":"VLOOKUP(A219,'Copy of Export'!$A$2:$AF2393,5,false)","v":"#N/A"},{"$f":"VLOOKUP(A219,'Copy of Export'!$A$2:$AF2393,13,false)","v":"#N/A"},{"$f":"VLOOKUP(A219,'Copy of Export'!$A$2:$AF2393,2,false)","v":"#N/A"},{"$f":"VLOOKUP(A219,'Copy of Export'!$A$2:$AF2393,5,false)","v":"#N/A"},{"$f":"VLOOKUP(A219,'Copy of Export'!$A$2:$AF2393,8,false)","v":"#N/A"}]
[null,{"$f":"VLOOKUP(A220,'Copy of Export'!$A$2:$AF2393,5,false)","v":"#N/A"},{"$f":"VLOOKUP(A220,'Copy of Export'!$A$2:$AF2393,13,false)","v":"#N/A"},{"$f":"VLOOKUP(A220,'Copy of Export'!$A$2:$AF2393,2,false)","v":"#N/A"},{"$f":"VLOOKUP(A220,'Copy of Export'!$A$2:$AF2393,5,false)","v":"#N/A"},{"$f":"VLOOKUP(A220,'Copy of Export'!$A$2:$AF2393,8,false)","v":"#N/A"}]
[null,{"$f":"VLOOKUP(A221,'Copy of Export'!$A$2:$AF2393,5,false)","v":"#N/A"},{"$f":"VLOOKUP(A221,'Copy of Export'!$A$2:$AF2393,13,false)","v":"#N/A"},{"$f":"VLOOKUP(A221,'Copy of Export'!$A$2:$AF2393,2,false)","v":"#N/A"},{"$f":"VLOOKUP(A221,'Copy of Export'!$A$2:$AF2393,5,false)","v":"#N/A"},{"$f":"VLOOKUP(A221,'Copy of Export'!$A$2:$AF2393,8,false)","v":"#N/A"}]
[null,{"$f":"VLOOKUP(A222,'Copy of Export'!$A$2:$AF2393,5,false)","v":"#N/A"},{"$f":"VLOOKUP(A222,'Copy of Export'!$A$2:$AF2393,13,false)","v":"#N/A"},{"$f":"VLOOKUP(A222,'Copy of Export'!$A$2:$AF2393,2,false)","v":"#N/A"},{"$f":"VLOOKUP(A222,'Copy of Export'!$A$2:$AF2393,5,false)","v":"#N/A"},{"$f":"VLOOKUP(A222,'Copy of Export'!$A$2:$AF2393,8,false)","v":"#N/A"}]
[null,{"$f":"VLOOKUP(A223,'Copy of Export'!$A$2:$AF2393,5,false)","v":"#N/A"},{"$f":"VLOOKUP(A223,'Copy of Export'!$A$2:$AF2393,13,false)","v":"#N/A"},{"$f":"VLOOKUP(A223,'Copy of Export'!$A$2:$AF2393,2,false)","v":"#N/A"},{"$f":"VLOOKUP(A223,'Copy of Export'!$A$2:$AF2393,5,false)","v":"#N/A"},{"$f":"VLOOKUP(A223,'Copy of Export'!$A$2:$AF2393,8,false)","v":"#N/A"}]
[null,{"$f":"VLOOKUP(A224,'Copy of Export'!$A$2:$AF2393,5,false)","v":"#N/A"},{"$f":"VLOOKUP(A224,'Copy of Export'!$A$2:$AF2393,13,false)","v":"#N/A"},{"$f":"VLOOKUP(A224,'Copy of Export'!$A$2:$AF2393,2,false)","v":"#N/A"},{"$f":"VLOOKUP(A224,'Copy of Export'!$A$2:$AF2393,5,false)","v":"#N/A"},{"$f":"VLOOKUP(A224,'Copy of Export'!$A$2:$AF2393,8,false)","v":"#N/A"}]
[null,{"$f":"VLOOKUP(A225,'Copy of Export'!$A$2:$AF2393,5,false)","v":"#N/A"},{"$f":"VLOOKUP(A225,'Copy of Export'!$A$2:$AF2393,13,false)","v":"#N/A"},{"$f":"VLOOKUP(A225,'Copy of Export'!$A$2:$AF2393,2,false)","v":"#N/A"},{"$f":"VLOOKUP(A225,'Copy of Export'!$A$2:$AF2393,5,false)","v":"#N/A"},{"$f":"VLOOKUP(A225,'Copy of Export'!$A$2:$AF2393,8,false)","v":"#N/A"}]
[null,{"$f":"VLOOKUP(A226,'Copy of Export'!$A$2:$AF2393,5,false)","v":"#N/A"},{"$f":"VLOOKUP(A226,'Copy of Export'!$A$2:$AF2393,13,false)","v":"#N/A"},{"$f":"VLOOKUP(A226,'Copy of Export'!$A$2:$AF2393,2,false)","v":"#N/A"},{"$f":"VLOOKUP(A226,'Copy of Export'!$A$2:$AF2393,5,false)","v":"#N/A"},{"$f":"VLOOKUP(A226,'Copy of Export'!$A$2:$AF2393,8,false)","v":"#N/A"}]
[null,{"$f":"VLOOKUP(A227,'Copy of Export'!$A$2:$AF2393,5,false)","v":"#N/A"},{"$f":"VLOOKUP(A227,'Copy of Export'!$A$2:$AF2393,13,false)","v":"#N/A"},{"$f":"VLOOKUP(A227,'Copy of Export'!$A$2:$AF2393,2,false)","v":"#N/A"},{"$f":"VLOOKUP(A227,'Copy of Export'!$A$2:$AF2393,5,false)","v":"#N/A"},{"$f":"VLOOKUP(A227,'Copy of Export'!$A$2:$AF2393,8,false)","v":"#N/A"}]
[null,{"$f":"VLOOKUP(A228,'Copy of Export'!$A$2:$AF2393,5,false)","v":"#N/A"},{"$f":"VLOOKUP(A228,'Copy of Export'!$A$2:$AF2393,13,false)","v":"#N/A"},{"$f":"VLOOKUP(A228,'Copy of Export'!$A$2:$AF2393,2,false)","v":"#N/A"},{"$f":"VLOOKUP(A228,'Copy of Export'!$A$2:$AF2393,5,false)","v":"#N/A"},{"$f":"VLOOKUP(A228,'Copy of Export'!$A$2:$AF2393,8,false)","v":"#N/A"}]
[null,{"$f":"VLOOKUP(A229,'Copy of Export'!$A$2:$AF2393,5,false)","v":"#N/A"},{"$f":"VLOOKUP(A229,'Copy of Export'!$A$2:$AF2393,13,false)","v":"#N/A"},{"$f":"VLOOKUP(A229,'Copy of Export'!$A$2:$AF2393,2,false)","v":"#N/A"},{"$f":"VLOOKUP(A229,'Copy of Export'!$A$2:$AF2393,5,false)","v":"#N/A"},{"$f":"VLOOKUP(A229,'Copy of Export'!$A$2:$AF2393,8,false)","v":"#N/A"}]
[null,{"$f":"VLOOKUP(A230,'Copy of Export'!$A$2:$AF2393,5,false)","v":"#N/A"},{"$f":"VLOOKUP(A230,'Copy of Export'!$A$2:$AF2393,13,false)","v":"#N/A"},{"$f":"VLOOKUP(A230,'Copy of Export'!$A$2:$AF2393,2,false)","v":"#N/A"},{"$f":"VLOOKUP(A230,'Copy of Export'!$A$2:$AF2393,5,false)","v":"#N/A"},{"$f":"VLOOKUP(A230,'Copy of Export'!$A$2:$AF2393,8,false)","v":"#N/A"}]
[null,{"$f":"VLOOKUP(A231,'Copy of Export'!$A$2:$AF2393,5,false)","v":"#N/A"},{"$f":"VLOOKUP(A231,'Copy of Export'!$A$2:$AF2393,13,false)","v":"#N/A"},{"$f":"VLOOKUP(A231,'Copy of Export'!$A$2:$AF2393,2,false)","v":"#N/A"},{"$f":"VLOOKUP(A231,'Copy of Export'!$A$2:$AF2393,5,false)","v":"#N/A"},{"$f":"VLOOKUP(A231,'Copy of Export'!$A$2:$AF2393,8,false)","v":"#N/A"}]
[null,{"$f":"VLOOKUP(A232,'Copy of Export'!$A$2:$AF2393,5,false)","v":"#N/A"},{"$f":"VLOOKUP(A232,'Copy of Export'!$A$2:$AF2393,13,false)","v":"#N/A"},{"$f":"VLOOKUP(A232,'Copy of Export'!$A$2:$AF2393,2,false)","v":"#N/A"},{"$f":"VLOOKUP(A232,'Copy of Export'!$A$2:$AF2393,5,false)","v":"#N/A"},{"$f":"VLOOKUP(A232,'Copy of Export'!$A$2:$AF2393,8,false)","v":"#N/A"}]
[null,{"$f":"VLOOKUP(A233,'Copy of Export'!$A$2:$AF2393,5,false)","v":"#N/A"},{"$f":"VLOOKUP(A233,'Copy of Export'!$A$2:$AF2393,13,false)","v":"#N/A"},{"$f":"VLOOKUP(A233,'Copy of Export'!$A$2:$AF2393,2,false)","v":"#N/A"},{"$f":"VLOOKUP(A233,'Copy of Export'!$A$2:$AF2393,5,false)","v":"#N/A"},{"$f":"VLOOKUP(A233,'Copy of Export'!$A$2:$AF2393,8,false)","v":"#N/A"}]
[null,{"$f":"VLOOKUP(A234,'Copy of Export'!$A$2:$AF2393,5,false)","v":"#N/A"},{"$f":"VLOOKUP(A234,'Copy of Export'!$A$2:$AF2393,13,false)","v":"#N/A"},{"$f":"VLOOKUP(A234,'Copy of Export'!$A$2:$AF2393,2,false)","v":"#N/A"},{"$f":"VLOOKUP(A234,'Copy of Export'!$A$2:$AF2393,5,false)","v":"#N/A"},{"$f":"VLOOKUP(A234,'Copy of Export'!$A$2:$AF2393,8,false)","v":"#N/A"}]
[null,{"$f":"VLOOKUP(A235,'Copy of Export'!$A$2:$AF2393,5,false)","v":"#N/A"},{"$f":"VLOOKUP(A235,'Copy of Export'!$A$2:$AF2393,13,false)","v":"#N/A"},{"$f":"VLOOKUP(A235,'Copy of Export'!$A$2:$AF2393,2,false)","v":"#N/A"},{"$f":"VLOOKUP(A235,'Copy of Export'!$A$2:$AF2393,5,false)","v":"#N/A"},{"$f":"VLOOKUP(A235,'Copy of Export'!$A$2:$AF2393,8,false)","v":"#N/A"}]
[null,{"$f":"VLOOKUP(A236,'Copy of Export'!$A$2:$AF2393,5,false)","v":"#N/A"},{"$f":"VLOOKUP(A236,'Copy of Export'!$A$2:$AF2393,13,false)","v":"#N/A"},{"$f":"VLOOKUP(A236,'Copy of Export'!$A$2:$AF2393,2,false)","v":"#N/A"},{"$f":"VLOOKUP(A236,'Copy of Export'!$A$2:$AF2393,5,false)","v":"#N/A"},{"$f":"VLOOKUP(A236,'Copy of Export'!$A$2:$AF2393,8,false)","v":"#N/A"}]
[null,{"$f":"VLOOKUP(A237,'Copy of Export'!$A$2:$AF2393,5,false)","v":"#N/A"},{"$f":"VLOOKUP(A237,'Copy of Export'!$A$2:$AF2393,13,false)","v":"#N/A"},{"$f":"VLOOKUP(A237,'Copy of Export'!$A$2:$AF2393,2,false)","v":"#N/A"},{"$f":"VLOOKUP(A237,'Copy of Export'!$A$2:$AF2393,5,false)","v":"#N/A"},{"$f":"VLOOKUP(A237,'Copy of Export'!$A$2:$AF2393,8,false)","v":"#N/A"}]
[null,{"$f":"VLOOKUP(A238,'Copy of Export'!$A$2:$AF2393,5,false)","v":"#N/A"},{"$f":"VLOOKUP(A238,'Copy of Export'!$A$2:$AF2393,13,false)","v":"#N/A"},{"$f":"VLOOKUP(A238,'Copy of Export'!$A$2:$AF2393,2,false)","v":"#N/A"},{"$f":"VLOOKUP(A238,'Copy of Export'!$A$2:$AF2393,5,false)","v":"#N/A"},{"$f":"VLOOKUP(A238,'Copy of Export'!$A$2:$AF2393,8,false)","v":"#N/A"}]
[null,{"$f":"VLOOKUP(A239,'Copy of Export'!$A$2:$AF2393,5,false)","v":"#N/A"},{"$f":"VLOOKUP(A239,'Copy of Export'!$A$2:$AF2393,13,false)","v":"#N/A"},{"$f":"VLOOKUP(A239,'Copy of Export'!$A$2:$AF2393,2,false)","v":"#N/A"},{"$f":"VLOOKUP(A239,'Copy of Export'!$A$2:$AF2393,5,false)","v":"#N/A"},{"$f":"VLOOKUP(A239,'Copy of Export'!$A$2:$AF2393,8,false)","v":"#N/A"}]
[null,{"$f":"VLOOKUP(A240,'Copy of Export'!$A$2:$AF2393,5,false)","v":"#N/A"},{"$f":"VLOOKUP(A240,'Copy of Export'!$A$2:$AF2393,13,false)","v":"#N/A"},{"$f":"VLOOKUP(A240,'Copy of Export'!$A$2:$AF2393,2,false)","v":"#N/A"},{"$f":"VLOOKUP(A240,'Copy of Export'!$A$2:$AF2393,5,false)","v":"#N/A"},{"$f":"VLOOKUP(A240,'Copy of Export'!$A$2:$AF2393,8,false)","v":"#N/A"}]
[null,{"$f":"VLOOKUP(A241,'Copy of Export'!$A$2:$AF2393,5,false)","v":"#N/A"},{"$f":"VLOOKUP(A241,'Copy of Export'!$A$2:$AF2393,13,false)","v":"#N/A"},{"$f":"VLOOKUP(A241,'Copy of Export'!$A$2:$AF2393,2,false)","v":"#N/A"},{"$f":"VLOOKUP(A241,'Copy of Export'!$A$2:$AF2393,5,false)","v":"#N/A"},{"$f":"VLOOKUP(A241,'Copy of Export'!$A$2:$AF2393,8,false)","v":"#N/A"}]
[null,{"$f":"VLOOKUP(A242,'Copy of Export'!$A$2:$AF2393,5,false)","v":"#N/A"},{"$f":"VLOOKUP(A242,'Copy of Export'!$A$2:$AF2393,13,false)","v":"#N/A"},{"$f":"VLOOKUP(A242,'Copy of Export'!$A$2:$AF2393,2,false)","v":"#N/A"},{"$f":"VLOOKUP(A242,'Copy of Export'!$A$2:$AF2393,5,false)","v":"#N/A"},{"$f":"VLOOKUP(A242,'Copy of Export'!$A$2:$AF2393,8,false)","v":"#N/A"}]
[null,{"$f":"VLOOKUP(A243,'Copy of Export'!$A$2:$AF2393,5,false)","v":"#N/A"},{"$f":"VLOOKUP(A243,'Copy of Export'!$A$2:$AF2393,13,false)","v":"#N/A"},{"$f":"VLOOKUP(A243,'Copy of Export'!$A$2:$AF2393,2,false)","v":"#N/A"},{"$f":"VLOOKUP(A243,'Copy of Export'!$A$2:$AF2393,5,false)","v":"#N/A"},{"$f":"VLOOKUP(A243,'Copy of Export'!$A$2:$AF2393,8,false)","v":"#N/A"}]
[null,{"$f":"VLOOKUP(A244,'Copy of Export'!$A$2:$AF2393,5,false)","v":"#N/A"},{"$f":"VLOOKUP(A244,'Copy of Export'!$A$2:$AF2393,13,false)","v":"#N/A"},{"$f":"VLOOKUP(A244,'Copy of Export'!$A$2:$AF2393,2,false)","v":"#N/A"},{"$f":"VLOOKUP(A244,'Copy of Export'!$A$2:$AF2393,5,false)","v":"#N/A"},{"$f":"VLOOKUP(A244,'Copy of Export'!$A$2:$AF2393,8,false)","v":"#N/A"}]
[null,{"$f":"VLOOKUP(A245,'Copy of Export'!$A$2:$AF2393,5,false)","v":"#N/A"},{"$f":"VLOOKUP(A245,'Copy of Export'!$A$2:$AF2393,13,false)","v":"#N/A"},{"$f":"VLOOKUP(A245,'Copy of Export'!$A$2:$AF2393,2,false)","v":"#N/A"},{"$f":"VLOOKUP(A245,'Copy of Export'!$A$2:$AF2393,5,false)","v":"#N/A"},{"$f":"VLOOKUP(A245,'Copy of Export'!$A$2:$AF2393,8,false)","v":"#N/A"}]
[null,{"$f":"VLOOKUP(A246,'Copy of Export'!$A$2:$AF2393,5,false)","v":"#N/A"},{"$f":"VLOOKUP(A246,'Copy of Export'!$A$2:$AF2393,13,false)","v":"#N/A"},{"$f":"VLOOKUP(A246,'Copy of Export'!$A$2:$AF2393,2,false)","v":"#N/A"},{"$f":"VLOOKUP(A246,'Copy of Export'!$A$2:$AF2393,5,false)","v":"#N/A"},{"$f":"VLOOKUP(A246,'Copy of Export'!$A$2:$AF2393,8,false)","v":"#N/A"}]
[null,{"$f":"VLOOKUP(A247,'Copy of Export'!$A$2:$AF2393,5,false)","v":"#N/A"},{"$f":"VLOOKUP(A247,'Copy of Export'!$A$2:$AF2393,13,false)","v":"#N/A"},{"$f":"VLOOKUP(A247,'Copy of Export'!$A$2:$AF2393,2,false)","v":"#N/A"},{"$f":"VLOOKUP(A247,'Copy of Export'!$A$2:$AF2393,5,false)","v":"#N/A"},{"$f":"VLOOKUP(A247,'Copy of Export'!$A$2:$AF2393,8,false)","v":"#N/A"}]
[null,{"$f":"VLOOKUP(A248,'Copy of Export'!$A$2:$AF2393,5,false)","v":"#N/A"},{"$f":"VLOOKUP(A248,'Copy of Export'!$A$2:$AF2393,13,false)","v":"#N/A"},{"$f":"VLOOKUP(A248,'Copy of Export'!$A$2:$AF2393,2,false)","v":"#N/A"},{"$f":"VLOOKUP(A248,'Copy of Export'!$A$2:$AF2393,5,false)","v":"#N/A"},{"$f":"VLOOKUP(A248,'Copy of Export'!$A$2:$AF2393,8,false)","v":"#N/A"}]
[null,{"$f":"VLOOKUP(A249,'Copy of Export'!$A$2:$AF2393,5,false)","v":"#N/A"},{"$f":"VLOOKUP(A249,'Copy of Export'!$A$2:$AF2393,13,false)","v":"#N/A"},{"$f":"VLOOKUP(A249,'Copy of Export'!$A$2:$AF2393,2,false)","v":"#N/A"},{"$f":"VLOOKUP(A249,'Copy of Export'!$A$2:$AF2393,5,false)","v":"#N/A"},{"$f":"VLOOKUP(A249,'Copy of Export'!$A$2:$AF2393,8,false)","v":"#N/A"}]
[null,{"$f":"VLOOKUP(A250,'Copy of Export'!$A$2:$AF2393,5,false)","v":"#N/A"},{"$f":"VLOOKUP(A250,'Copy of Export'!$A$2:$AF2393,13,false)","v":"#N/A"},{"$f":"VLOOKUP(A250,'Copy of Export'!$A$2:$AF2393,2,false)","v":"#N/A"},{"$f":"VLOOKUP(A250,'Copy of Export'!$A$2:$AF2393,5,false)","v":"#N/A"},{"$f":"VLOOKUP(A250,'Copy of Export'!$A$2:$AF2393,8,false)","v":"#N/A"}]
[null,{"$f":"VLOOKUP(A251,'Copy of Export'!$A$2:$AF2393,5,false)","v":"#N/A"},{"$f":"VLOOKUP(A251,'Copy of Export'!$A$2:$AF2393,13,false)","v":"#N/A"},{"$f":"VLOOKUP(A251,'Copy of Export'!$A$2:$AF2393,2,false)","v":"#N/A"},{"$f":"VLOOKUP(A251,'Copy of Export'!$A$2:$AF2393,5,false)","v":"#N/A"},{"$f":"VLOOKUP(A251,'Copy of Export'!$A$2:$AF2393,8,false)","v":"#N/A"}]
[null,{"$f":"VLOOKUP(A252,'Copy of Export'!$A$2:$AF2393,5,false)","v":"#N/A"},{"$f":"VLOOKUP(A252,'Copy of Export'!$A$2:$AF2393,13,false)","v":"#N/A"},{"$f":"VLOOKUP(A252,'Copy of Export'!$A$2:$AF2393,2,false)","v":"#N/A"},{"$f":"VLOOKUP(A252,'Copy of Export'!$A$2:$AF2393,5,false)","v":"#N/A"},{"$f":"VLOOKUP(A252,'Copy of Export'!$A$2:$AF2393,8,false)","v":"#N/A"}]
[null,{"$f":"VLOOKUP(A253,'Copy of Export'!$A$2:$AF2393,5,false)","v":"#N/A"},{"$f":"VLOOKUP(A253,'Copy of Export'!$A$2:$AF2393,13,false)","v":"#N/A"},{"$f":"VLOOKUP(A253,'Copy of Export'!$A$2:$AF2393,2,false)","v":"#N/A"},{"$f":"VLOOKUP(A253,'Copy of Export'!$A$2:$AF2393,5,false)","v":"#N/A"},{"$f":"VLOOKUP(A253,'Copy of Export'!$A$2:$AF2393,8,false)","v":"#N/A"}]
[null,{"$f":"VLOOKUP(A254,'Copy of Export'!$A$2:$AF2393,5,false)","v":"#N/A"},{"$f":"VLOOKUP(A254,'Copy of Export'!$A$2:$AF2393,13,false)","v":"#N/A"},{"$f":"VLOOKUP(A254,'Copy of Export'!$A$2:$AF2393,2,false)","v":"#N/A"},{"$f":"VLOOKUP(A254,'Copy of Export'!$A$2:$AF2393,5,false)","v":"#N/A"},{"$f":"VLOOKUP(A254,'Copy of Export'!$A$2:$AF2393,8,false)","v":"#N/A"}]
[null,{"$f":"VLOOKUP(A255,'Copy of Export'!$A$2:$AF2393,5,false)","v":"#N/A"},{"$f":"VLOOKUP(A255,'Copy of Export'!$A$2:$AF2393,13,false)","v":"#N/A"},{"$f":"VLOOKUP(A255,'Copy of Export'!$A$2:$AF2393,2,false)","v":"#N/A"},{"$f":"VLOOKUP(A255,'Copy of Export'!$A$2:$AF2393,5,false)","v":"#N/A"},{"$f":"VLOOKUP(A255,'Copy of Export'!$A$2:$AF2393,8,false)","v":"#N/A"}]
[null,{"$f":"VLOOKUP(A256,'Copy of Export'!$A$2:$AF2393,5,false)","v":"#N/A"},{"$f":"VLOOKUP(A256,'Copy of Export'!$A$2:$AF2393,13,false)","v":"#N/A"},{"$f":"VLOOKUP(A256,'Copy of Export'!$A$2:$AF2393,2,false)","v":"#N/A"},{"$f":"VLOOKUP(A256,'Copy of Export'!$A$2:$AF2393,5,false)","v":"#N/A"},{"$f":"VLOOKUP(A256,'Copy of Export'!$A$2:$AF2393,8,false)","v":"#N/A"}]
[null,{"$f":"VLOOKUP(A257,'Copy of Export'!$A$2:$AF2393,5,false)","v":"#N/A"},{"$f":"VLOOKUP(A257,'Copy of Export'!$A$2:$AF2393,13,false)","v":"#N/A"},{"$f":"VLOOKUP(A257,'Copy of Export'!$A$2:$AF2393,2,false)","v":"#N/A"},{"$f":"VLOOKUP(A257,'Copy of Export'!$A$2:$AF2393,5,false)","v":"#N/A"},{"$f":"VLOOKUP(A257,'Copy of Export'!$A$2:$AF2393,8,false)","v":"#N/A"}]
[null,{"$f":"VLOOKUP(A258,'Copy of Export'!$A$2:$AF2393,5,false)","v":"#N/A"},{"$f":"VLOOKUP(A258,'Copy of Export'!$A$2:$AF2393,13,false)","v":"#N/A"},{"$f":"VLOOKUP(A258,'Copy of Export'!$A$2:$AF2393,2,false)","v":"#N/A"},{"$f":"VLOOKUP(A258,'Copy of Export'!$A$2:$AF2393,5,false)","v":"#N/A"},{"$f":"VLOOKUP(A258,'Copy of Export'!$A$2:$AF2393,8,false)","v":"#N/A"}]
[null,{"$f":"VLOOKUP(A259,'Copy of Export'!$A$2:$AF2393,5,false)","v":"#N/A"},{"$f":"VLOOKUP(A259,'Copy of Export'!$A$2:$AF2393,13,false)","v":"#N/A"},{"$f":"VLOOKUP(A259,'Copy of Export'!$A$2:$AF2393,2,false)","v":"#N/A"},{"$f":"VLOOKUP(A259,'Copy of Export'!$A$2:$AF2393,5,false)","v":"#N/A"},{"$f":"VLOOKUP(A259,'Copy of Export'!$A$2:$AF2393,8,false)","v":"#N/A"}]
[null,{"$f":"VLOOKUP(A260,'Copy of Export'!$A$2:$AF2393,5,false)","v":"#N/A"},{"$f":"VLOOKUP(A260,'Copy of Export'!$A$2:$AF2393,13,false)","v":"#N/A"},{"$f":"VLOOKUP(A260,'Copy of Export'!$A$2:$AF2393,2,false)","v":"#N/A"},{"$f":"VLOOKUP(A260,'Copy of Export'!$A$2:$AF2393,5,false)","v":"#N/A"},{"$f":"VLOOKUP(A260,'Copy of Export'!$A$2:$AF2393,8,false)","v":"#N/A"}]
[null,{"$f":"VLOOKUP(A261,'Copy of Export'!$A$2:$AF2393,5,false)","v":"#N/A"},{"$f":"VLOOKUP(A261,'Copy of Export'!$A$2:$AF2393,13,false)","v":"#N/A"},{"$f":"VLOOKUP(A261,'Copy of Export'!$A$2:$AF2393,2,false)","v":"#N/A"},{"$f":"VLOOKUP(A261,'Copy of Export'!$A$2:$AF2393,5,false)","v":"#N/A"},{"$f":"VLOOKUP(A261,'Copy of Export'!$A$2:$AF2393,8,false)","v":"#N/A"}]
[null,{"$f":"VLOOKUP(A262,'Copy of Export'!$A$2:$AF2393,5,false)","v":"#N/A"},{"$f":"VLOOKUP(A262,'Copy of Export'!$A$2:$AF2393,13,false)","v":"#N/A"},{"$f":"VLOOKUP(A262,'Copy of Export'!$A$2:$AF2393,2,false)","v":"#N/A"},{"$f":"VLOOKUP(A262,'Copy of Export'!$A$2:$AF2393,5,false)","v":"#N/A"},{"$f":"VLOOKUP(A262,'Copy of Export'!$A$2:$AF2393,8,false)","v":"#N/A"}]
[null,{"$f":"VLOOKUP(A263,'Copy of Export'!$A$2:$AF2393,5,false)","v":"#N/A"},{"$f":"VLOOKUP(A263,'Copy of Export'!$A$2:$AF2393,13,false)","v":"#N/A"},{"$f":"VLOOKUP(A263,'Copy of Export'!$A$2:$AF2393,2,false)","v":"#N/A"},{"$f":"VLOOKUP(A263,'Copy of Export'!$A$2:$AF2393,5,false)","v":"#N/A"},{"$f":"VLOOKUP(A263,'Copy of Export'!$A$2:$AF2393,8,false)","v":"#N/A"}]
[null,{"$f":"VLOOKUP(A264,'Copy of Export'!$A$2:$AF2393,5,false)","v":"#N/A"},{"$f":"VLOOKUP(A264,'Copy of Export'!$A$2:$AF2393,13,false)","v":"#N/A"},{"$f":"VLOOKUP(A264,'Copy of Export'!$A$2:$AF2393,2,false)","v":"#N/A"},{"$f":"VLOOKUP(A264,'Copy of Export'!$A$2:$AF2393,5,false)","v":"#N/A"},{"$f":"VLOOKUP(A264,'Copy of Export'!$A$2:$AF2393,8,false)","v":"#N/A"}]
[null,{"$f":"VLOOKUP(A265,'Copy of Export'!$A$2:$AF2393,5,false)","v":"#N/A"},{"$f":"VLOOKUP(A265,'Copy of Export'!$A$2:$AF2393,13,false)","v":"#N/A"},{"$f":"VLOOKUP(A265,'Copy of Export'!$A$2:$AF2393,2,false)","v":"#N/A"},{"$f":"VLOOKUP(A265,'Copy of Export'!$A$2:$AF2393,5,false)","v":"#N/A"},{"$f":"VLOOKUP(A265,'Copy of Export'!$A$2:$AF2393,8,false)","v":"#N/A"}]
[null,{"$f":"VLOOKUP(A266,'Copy of Export'!$A$2:$AF2393,5,false)","v":"#N/A"},{"$f":"VLOOKUP(A266,'Copy of Export'!$A$2:$AF2393,13,false)","v":"#N/A"},{"$f":"VLOOKUP(A266,'Copy of Export'!$A$2:$AF2393,2,false)","v":"#N/A"},{"$f":"VLOOKUP(A266,'Copy of Export'!$A$2:$AF2393,5,false)","v":"#N/A"},{"$f":"VLOOKUP(A266,'Copy of Export'!$A$2:$AF2393,8,false)","v":"#N/A"}]
[null,{"$f":"VLOOKUP(A267,'Copy of Export'!$A$2:$AF2393,5,false)","v":"#N/A"},{"$f":"VLOOKUP(A267,'Copy of Export'!$A$2:$AF2393,13,false)","v":"#N/A"},{"$f":"VLOOKUP(A267,'Copy of Export'!$A$2:$AF2393,2,false)","v":"#N/A"},{"$f":"VLOOKUP(A267,'Copy of Export'!$A$2:$AF2393,5,false)","v":"#N/A"},{"$f":"VLOOKUP(A267,'Copy of Export'!$A$2:$AF2393,8,false)","v":"#N/A"}]
[null,{"$f":"VLOOKUP(A268,'Copy of Export'!$A$2:$AF2393,5,false)","v":"#N/A"},{"$f":"VLOOKUP(A268,'Copy of Export'!$A$2:$AF2393,13,false)","v":"#N/A"},{"$f":"VLOOKUP(A268,'Copy of Export'!$A$2:$AF2393,2,false)","v":"#N/A"},{"$f":"VLOOKUP(A268,'Copy of Export'!$A$2:$AF2393,5,false)","v":"#N/A"},{"$f":"VLOOKUP(A268,'Copy of Export'!$A$2:$AF2393,8,false)","v":"#N/A"}]
[null,{"$f":"VLOOKUP(A269,'Copy of Export'!$A$2:$AF2393,5,false)","v":"#N/A"},{"$f":"VLOOKUP(A269,'Copy of Export'!$A$2:$AF2393,13,false)","v":"#N/A"},{"$f":"VLOOKUP(A269,'Copy of Export'!$A$2:$AF2393,2,false)","v":"#N/A"},{"$f":"VLOOKUP(A269,'Copy of Export'!$A$2:$AF2393,5,false)","v":"#N/A"},{"$f":"VLOOKUP(A269,'Copy of Export'!$A$2:$AF2393,8,false)","v":"#N/A"}]
[null,{"$f":"VLOOKUP(A270,'Copy of Export'!$A$2:$AF2393,5,false)","v":"#N/A"},{"$f":"VLOOKUP(A270,'Copy of Export'!$A$2:$AF2393,13,false)","v":"#N/A"},{"$f":"VLOOKUP(A270,'Copy of Export'!$A$2:$AF2393,2,false)","v":"#N/A"},{"$f":"VLOOKUP(A270,'Copy of Export'!$A$2:$AF2393,5,false)","v":"#N/A"},{"$f":"VLOOKUP(A270,'Copy of Export'!$A$2:$AF2393,8,false)","v":"#N/A"}]
[null,{"$f":"VLOOKUP(A271,'Copy of Export'!$A$2:$AF2393,5,false)","v":"#N/A"},{"$f":"VLOOKUP(A271,'Copy of Export'!$A$2:$AF2393,13,false)","v":"#N/A"},{"$f":"VLOOKUP(A271,'Copy of Export'!$A$2:$AF2393,2,false)","v":"#N/A"},{"$f":"VLOOKUP(A271,'Copy of Export'!$A$2:$AF2393,5,false)","v":"#N/A"},{"$f":"VLOOKUP(A271,'Copy of Export'!$A$2:$AF2393,8,false)","v":"#N/A"}]
[null,{"$f":"VLOOKUP(A272,'Copy of Export'!$A$2:$AF2393,5,false)","v":"#N/A"},{"$f":"VLOOKUP(A272,'Copy of Export'!$A$2:$AF2393,13,false)","v":"#N/A"},{"$f":"VLOOKUP(A272,'Copy of Export'!$A$2:$AF2393,2,false)","v":"#N/A"},{"$f":"VLOOKUP(A272,'Copy of Export'!$A$2:$AF2393,5,false)","v":"#N/A"},{"$f":"VLOOKUP(A272,'Copy of Export'!$A$2:$AF2393,8,false)","v":"#N/A"}]
[null,{"$f":"VLOOKUP(A273,'Copy of Export'!$A$2:$AF2393,5,false)","v":"#N/A"},{"$f":"VLOOKUP(A273,'Copy of Export'!$A$2:$AF2393,13,false)","v":"#N/A"},{"$f":"VLOOKUP(A273,'Copy of Export'!$A$2:$AF2393,2,false)","v":"#N/A"},{"$f":"VLOOKUP(A273,'Copy of Export'!$A$2:$AF2393,5,false)","v":"#N/A"},{"$f":"VLOOKUP(A273,'Copy of Export'!$A$2:$AF2393,8,false)","v":"#N/A"}]
[null,{"$f":"VLOOKUP(A274,'Copy of Export'!$A$2:$AF2393,5,false)","v":"#N/A"},{"$f":"VLOOKUP(A274,'Copy of Export'!$A$2:$AF2393,13,false)","v":"#N/A"},{"$f":"VLOOKUP(A274,'Copy of Export'!$A$2:$AF2393,2,false)","v":"#N/A"},{"$f":"VLOOKUP(A274,'Copy of Export'!$A$2:$AF2393,5,false)","v":"#N/A"},{"$f":"VLOOKUP(A274,'Copy of Export'!$A$2:$AF2393,8,false)","v":"#N/A"}]
[null,{"$f":"VLOOKUP(A275,'Copy of Export'!$A$2:$AF2393,5,false)","v":"#N/A"},{"$f":"VLOOKUP(A275,'Copy of Export'!$A$2:$AF2393,13,false)","v":"#N/A"},{"$f":"VLOOKUP(A275,'Copy of Export'!$A$2:$AF2393,2,false)","v":"#N/A"},{"$f":"VLOOKUP(A275,'Copy of Export'!$A$2:$AF2393,5,false)","v":"#N/A"},{"$f":"VLOOKUP(A275,'Copy of Export'!$A$2:$AF2393,8,false)","v":"#N/A"}]
[null,{"$f":"VLOOKUP(A276,'Copy of Export'!$A$2:$AF2393,5,false)","v":"#N/A"},{"$f":"VLOOKUP(A276,'Copy of Export'!$A$2:$AF2393,13,false)","v":"#N/A"},{"$f":"VLOOKUP(A276,'Copy of Export'!$A$2:$AF2393,2,false)","v":"#N/A"},{"$f":"VLOOKUP(A276,'Copy of Export'!$A$2:$AF2393,5,false)","v":"#N/A"},{"$f":"VLOOKUP(A276,'Copy of Export'!$A$2:$AF2393,8,false)","v":"#N/A"}]
[null,{"$f":"VLOOKUP(A277,'Copy of Export'!$A$2:$AF2393,5,false)","v":"#N/A"},{"$f":"VLOOKUP(A277,'Copy of Export'!$A$2:$AF2393,13,false)","v":"#N/A"},{"$f":"VLOOKUP(A277,'Copy of Export'!$A$2:$AF2393,2,false)","v":"#N/A"},{"$f":"VLOOKUP(A277,'Copy of Export'!$A$2:$AF2393,5,false)","v":"#N/A"},{"$f":"VLOOKUP(A277,'Copy of Export'!$A$2:$AF2393,8,false)","v":"#N/A"}]
[null,{"$f":"VLOOKUP(A278,'Copy of Export'!$A$2:$AF2393,5,false)","v":"#N/A"},{"$f":"VLOOKUP(A278,'Copy of Export'!$A$2:$AF2393,13,false)","v":"#N/A"},{"$f":"VLOOKUP(A278,'Copy of Export'!$A$2:$AF2393,2,false)","v":"#N/A"},{"$f":"VLOOKUP(A278,'Copy of Export'!$A$2:$AF2393,5,false)","v":"#N/A"},{"$f":"VLOOKUP(A278,'Copy of Export'!$A$2:$AF2393,8,false)","v":"#N/A"}]
[null,{"$f":"VLOOKUP(A279,'Copy of Export'!$A$2:$AF2393,5,false)","v":"#N/A"},{"$f":"VLOOKUP(A279,'Copy of Export'!$A$2:$AF2393,13,false)","v":"#N/A"},{"$f":"VLOOKUP(A279,'Copy of Export'!$A$2:$AF2393,2,false)","v":"#N/A"},{"$f":"VLOOKUP(A279,'Copy of Export'!$A$2:$AF2393,5,false)","v":"#N/A"},{"$f":"VLOOKUP(A279,'Copy of Export'!$A$2:$AF2393,8,false)","v":"#N/A"}]
[null,{"$f":"VLOOKUP(A280,'Copy of Export'!$A$2:$AF2393,5,false)","v":"#N/A"},{"$f":"VLOOKUP(A280,'Copy of Export'!$A$2:$AF2393,13,false)","v":"#N/A"},{"$f":"VLOOKUP(A280,'Copy of Export'!$A$2:$AF2393,2,false)","v":"#N/A"},{"$f":"VLOOKUP(A280,'Copy of Export'!$A$2:$AF2393,5,false)","v":"#N/A"},{"$f":"VLOOKUP(A280,'Copy of Export'!$A$2:$AF2393,8,false)","v":"#N/A"}]
[null,{"$f":"VLOOKUP(A281,'Copy of Export'!$A$2:$AF2393,5,false)","v":"#N/A"},{"$f":"VLOOKUP(A281,'Copy of Export'!$A$2:$AF2393,13,false)","v":"#N/A"},{"$f":"VLOOKUP(A281,'Copy of Export'!$A$2:$AF2393,2,false)","v":"#N/A"},{"$f":"VLOOKUP(A281,'Copy of Export'!$A$2:$AF2393,5,false)","v":"#N/A"},{"$f":"VLOOKUP(A281,'Copy of Export'!$A$2:$AF2393,8,false)","v":"#N/A"}]
[null,{"$f":"VLOOKUP(A282,'Copy of Export'!$A$2:$AF2393,5,false)","v":"#N/A"},{"$f":"VLOOKUP(A282,'Copy of Export'!$A$2:$AF2393,13,false)","v":"#N/A"},{"$f":"VLOOKUP(A282,'Copy of Export'!$A$2:$AF2393,2,false)","v":"#N/A"},{"$f":"VLOOKUP(A282,'Copy of Export'!$A$2:$AF2393,5,false)","v":"#N/A"},{"$f":"VLOOKUP(A282,'Copy of Export'!$A$2:$AF2393,8,false)","v":"#N/A"}]
[null,{"$f":"VLOOKUP(A283,'Copy of Export'!$A$2:$AF2393,5,false)","v":"#N/A"},{"$f":"VLOOKUP(A283,'Copy of Export'!$A$2:$AF2393,13,false)","v":"#N/A"},{"$f":"VLOOKUP(A283,'Copy of Export'!$A$2:$AF2393,2,false)","v":"#N/A"},{"$f":"VLOOKUP(A283,'Copy of Export'!$A$2:$AF2393,5,false)","v":"#N/A"},{"$f":"VLOOKUP(A283,'Copy of Export'!$A$2:$AF2393,8,false)","v":"#N/A"}]
[null,{"$f":"VLOOKUP(A284,'Copy of Export'!$A$2:$AF2393,5,false)","v":"#N/A"},{"$f":"VLOOKUP(A284,'Copy of Export'!$A$2:$AF2393,13,false)","v":"#N/A"},{"$f":"VLOOKUP(A284,'Copy of Export'!$A$2:$AF2393,2,false)","v":"#N/A"},{"$f":"VLOOKUP(A284,'Copy of Export'!$A$2:$AF2393,5,false)","v":"#N/A"},{"$f":"VLOOKUP(A284,'Copy of Export'!$A$2:$AF2393,8,false)","v":"#N/A"}]
[null,{"$f":"VLOOKUP(A285,'Copy of Export'!$A$2:$AF2393,5,false)","v":"#N/A"},{"$f":"VLOOKUP(A285,'Copy of Export'!$A$2:$AF2393,13,false)","v":"#N/A"},{"$f":"VLOOKUP(A285,'Copy of Export'!$A$2:$AF2393,2,false)","v":"#N/A"},{"$f":"VLOOKUP(A285,'Copy of Export'!$A$2:$AF2393,5,false)","v":"#N/A"},{"$f":"VLOOKUP(A285,'Copy of Export'!$A$2:$AF2393,8,false)","v":"#N/A"}]
[null,{"$f":"VLOOKUP(A286,'Copy of Export'!$A$2:$AF2393,5,false)","v":"#N/A"},{"$f":"VLOOKUP(A286,'Copy of Export'!$A$2:$AF2393,13,false)","v":"#N/A"},{"$f":"VLOOKUP(A286,'Copy of Export'!$A$2:$AF2393,2,false)","v":"#N/A"},{"$f":"VLOOKUP(A286,'Copy of Export'!$A$2:$AF2393,5,false)","v":"#N/A"},{"$f":"VLOOKUP(A286,'Copy of Export'!$A$2:$AF2393,8,false)","v":"#N/A"}]
[null,{"$f":"VLOOKUP(A287,'Copy of Export'!$A$2:$AF2393,5,false)","v":"#N/A"},{"$f":"VLOOKUP(A287,'Copy of Export'!$A$2:$AF2393,13,false)","v":"#N/A"},{"$f":"VLOOKUP(A287,'Copy of Export'!$A$2:$AF2393,2,false)","v":"#N/A"},{"$f":"VLOOKUP(A287,'Copy of Export'!$A$2:$AF2393,5,false)","v":"#N/A"},{"$f":"VLOOKUP(A287,'Copy of Export'!$A$2:$AF2393,8,false)","v":"#N/A"}]
[null,{"$f":"VLOOKUP(A288,'Copy of Export'!$A$2:$AF2393,5,false)","v":"#N/A"},{"$f":"VLOOKUP(A288,'Copy of Export'!$A$2:$AF2393,13,false)","v":"#N/A"},{"$f":"VLOOKUP(A288,'Copy of Export'!$A$2:$AF2393,2,false)","v":"#N/A"},{"$f":"VLOOKUP(A288,'Copy of Export'!$A$2:$AF2393,5,false)","v":"#N/A"},{"$f":"VLOOKUP(A288,'Copy of Export'!$A$2:$AF2393,8,false)","v":"#N/A"}]
[null,{"$f":"VLOOKUP(A289,'Copy of Export'!$A$2:$AF2393,5,false)","v":"#N/A"},{"$f":"VLOOKUP(A289,'Copy of Export'!$A$2:$AF2393,13,false)","v":"#N/A"},{"$f":"VLOOKUP(A289,'Copy of Export'!$A$2:$AF2393,2,false)","v":"#N/A"},{"$f":"VLOOKUP(A289,'Copy of Export'!$A$2:$AF2393,5,false)","v":"#N/A"},{"$f":"VLOOKUP(A289,'Copy of Export'!$A$2:$AF2393,8,false)","v":"#N/A"}]
[null,{"$f":"VLOOKUP(A290,'Copy of Export'!$A$2:$AF2393,5,false)","v":"#N/A"},{"$f":"VLOOKUP(A290,'Copy of Export'!$A$2:$AF2393,13,false)","v":"#N/A"},{"$f":"VLOOKUP(A290,'Copy of Export'!$A$2:$AF2393,2,false)","v":"#N/A"},{"$f":"VLOOKUP(A290,'Copy of Export'!$A$2:$AF2393,5,false)","v":"#N/A"},{"$f":"VLOOKUP(A290,'Copy of Export'!$A$2:$AF2393,8,false)","v":"#N/A"}]
[null,{"$f":"VLOOKUP(A291,'Copy of Export'!$A$2:$AF2393,5,false)","v":"#N/A"},{"$f":"VLOOKUP(A291,'Copy of Export'!$A$2:$AF2393,13,false)","v":"#N/A"},{"$f":"VLOOKUP(A291,'Copy of Export'!$A$2:$AF2393,2,false)","v":"#N/A"},{"$f":"VLOOKUP(A291,'Copy of Export'!$A$2:$AF2393,5,false)","v":"#N/A"},{"$f":"VLOOKUP(A291,'Copy of Export'!$A$2:$AF2393,8,false)","v":"#N/A"}]
[null,{"$f":"VLOOKUP(A292,'Copy of Export'!$A$2:$AF2393,5,false)","v":"#N/A"},{"$f":"VLOOKUP(A292,'Copy of Export'!$A$2:$AF2393,13,false)","v":"#N/A"},{"$f":"VLOOKUP(A292,'Copy of Export'!$A$2:$AF2393,2,false)","v":"#N/A"},{"$f":"VLOOKUP(A292,'Copy of Export'!$A$2:$AF2393,5,false)","v":"#N/A"},{"$f":"VLOOKUP(A292,'Copy of Export'!$A$2:$AF2393,8,false)","v":"#N/A"}]
[null,{"$f":"VLOOKUP(A293,'Copy of Export'!$A$2:$AF2393,5,false)","v":"#N/A"},{"$f":"VLOOKUP(A293,'Copy of Export'!$A$2:$AF2393,13,false)","v":"#N/A"},{"$f":"VLOOKUP(A293,'Copy of Export'!$A$2:$AF2393,2,false)","v":"#N/A"},{"$f":"VLOOKUP(A293,'Copy of Export'!$A$2:$AF2393,5,false)","v":"#N/A"},{"$f":"VLOOKUP(A293,'Copy of Export'!$A$2:$AF2393,8,false)","v":"#N/A"}]
[null,{"$f":"VLOOKUP(A294,'Copy of Export'!$A$2:$AF2393,5,false)","v":"#N/A"},{"$f":"VLOOKUP(A294,'Copy of Export'!$A$2:$AF2393,13,false)","v":"#N/A"},{"$f":"VLOOKUP(A294,'Copy of Export'!$A$2:$AF2393,2,false)","v":"#N/A"},{"$f":"VLOOKUP(A294,'Copy of Export'!$A$2:$AF2393,5,false)","v":"#N/A"},{"$f":"VLOOKUP(A294,'Copy of Export'!$A$2:$AF2393,8,false)","v":"#N/A"}]
[null,{"$f":"VLOOKUP(A295,'Copy of Export'!$A$2:$AF2393,5,false)","v":"#N/A"},{"$f":"VLOOKUP(A295,'Copy of Export'!$A$2:$AF2393,13,false)","v":"#N/A"},{"$f":"VLOOKUP(A295,'Copy of Export'!$A$2:$AF2393,2,false)","v":"#N/A"},{"$f":"VLOOKUP(A295,'Copy of Export'!$A$2:$AF2393,5,false)","v":"#N/A"},{"$f":"VLOOKUP(A295,'Copy of Export'!$A$2:$AF2393,8,false)","v":"#N/A"}]
[null,{"$f":"VLOOKUP(A296,'Copy of Export'!$A$2:$AF2393,5,false)","v":"#N/A"},{"$f":"VLOOKUP(A296,'Copy of Export'!$A$2:$AF2393,13,false)","v":"#N/A"},{"$f":"VLOOKUP(A296,'Copy of Export'!$A$2:$AF2393,2,false)","v":"#N/A"},{"$f":"VLOOKUP(A296,'Copy of Export'!$A$2:$AF2393,5,false)","v":"#N/A"},{"$f":"VLOOKUP(A296,'Copy of Export'!$A$2:$AF2393,8,false)","v":"#N/A"}]
[null,{"$f":"VLOOKUP(A297,'Copy of Export'!$A$2:$AF2393,5,false)","v":"#N/A"},{"$f":"VLOOKUP(A297,'Copy of Export'!$A$2:$AF2393,13,false)","v":"#N/A"},{"$f":"VLOOKUP(A297,'Copy of Export'!$A$2:$AF2393,2,false)","v":"#N/A"},{"$f":"VLOOKUP(A297,'Copy of Export'!$A$2:$AF2393,5,false)","v":"#N/A"},{"$f":"VLOOKUP(A297,'Copy of Export'!$A$2:$AF2393,8,false)","v":"#N/A"}]
[null,{"$f":"VLOOKUP(A298,'Copy of Export'!$A$2:$AF2393,5,false)","v":"#N/A"},{"$f":"VLOOKUP(A298,'Copy of Export'!$A$2:$AF2393,13,false)","v":"#N/A"},{"$f":"VLOOKUP(A298,'Copy of Export'!$A$2:$AF2393,2,false)","v":"#N/A"},{"$f":"VLOOKUP(A298,'Copy of Export'!$A$2:$AF2393,5,false)","v":"#N/A"},{"$f":"VLOOKUP(A298,'Copy of Export'!$A$2:$AF2393,8,false)","v":"#N/A"}]
[null,{"$f":"VLOOKUP(A299,'Copy of Export'!$A$2:$AF2393,5,false)","v":"#N/A"},{"$f":"VLOOKUP(A299,'Copy of Export'!$A$2:$AF2393,13,false)","v":"#N/A"},{"$f":"VLOOKUP(A299,'Copy of Export'!$A$2:$AF2393,2,false)","v":"#N/A"},{"$f":"VLOOKUP(A299,'Copy of Export'!$A$2:$AF2393,5,false)","v":"#N/A"},{"$f":"VLOOKUP(A299,'Copy of Export'!$A$2:$AF2393,8,false)","v":"#N/A"}]
[null,{"$f":"VLOOKUP(A300,'Copy of Export'!$A$2:$AF2393,5,false)","v":"#N/A"},{"$f":"VLOOKUP(A300,'Copy of Export'!$A$2:$AF2393,13,false)","v":"#N/A"},{"$f":"VLOOKUP(A300,'Copy of Export'!$A$2:$AF2393,2,false)","v":"#N/A"},{"$f":"VLOOKUP(A300,'Copy of Export'!$A$2:$AF2393,5,false)","v":"#N/A"},{"$f":"VLOOKUP(A300,'Copy of Export'!$A$2:$AF2393,8,false)","v":"#N/A"}]
[null,{"$f":"VLOOKUP(A301,'Copy of Export'!$A$2:$AF2393,5,false)","v":"#N/A"},{"$f":"VLOOKUP(A301,'Copy of Export'!$A$2:$AF2393,13,false)","v":"#N/A"},{"$f":"VLOOKUP(A301,'Copy of Export'!$A$2:$AF2393,2,false)","v":"#N/A"},{"$f":"VLOOKUP(A301,'Copy of Export'!$A$2:$AF2393,5,false)","v":"#N/A"},{"$f":"VLOOKUP(A301,'Copy of Export'!$A$2:$AF2393,8,false)","v":"#N/A"}]
[null,{"$f":"VLOOKUP(A302,'Copy of Export'!$A$2:$AF2393,5,false)","v":"#N/A"},{"$f":"VLOOKUP(A302,'Copy of Export'!$A$2:$AF2393,13,false)","v":"#N/A"},{"$f":"VLOOKUP(A302,'Copy of Export'!$A$2:$AF2393,2,false)","v":"#N/A"},{"$f":"VLOOKUP(A302,'Copy of Export'!$A$2:$AF2393,5,false)","v":"#N/A"},{"$f":"VLOOKUP(A302,'Copy of Export'!$A$2:$AF2393,8,false)","v":"#N/A"}]
[null,{"$f":"VLOOKUP(A303,'Copy of Export'!$A$2:$AF2393,5,false)","v":"#N/A"},{"$f":"VLOOKUP(A303,'Copy of Export'!$A$2:$AF2393,13,false)","v":"#N/A"},{"$f":"VLOOKUP(A303,'Copy of Export'!$A$2:$AF2393,2,false)","v":"#N/A"},{"$f":"VLOOKUP(A303,'Copy of Export'!$A$2:$AF2393,5,false)","v":"#N/A"},{"$f":"VLOOKUP(A303,'Copy of Export'!$A$2:$AF2393,8,false)","v":"#N/A"}]
[null,{"$f":"VLOOKUP(A304,'Copy of Export'!$A$2:$AF2393,5,false)","v":"#N/A"},{"$f":"VLOOKUP(A304,'Copy of Export'!$A$2:$AF2393,13,false)","v":"#N/A"},{"$f":"VLOOKUP(A304,'Copy of Export'!$A$2:$AF2393,2,false)","v":"#N/A"},{"$f":"VLOOKUP(A304,'Copy of Export'!$A$2:$AF2393,5,false)","v":"#N/A"},{"$f":"VLOOKUP(A304,'Copy of Export'!$A$2:$AF2393,8,false)","v":"#N/A"}]
[null,{"$f":"VLOOKUP(A305,'Copy of Export'!$A$2:$AF2393,5,false)","v":"#N/A"},{"$f":"VLOOKUP(A305,'Copy of Export'!$A$2:$AF2393,13,false)","v":"#N/A"},{"$f":"VLOOKUP(A305,'Copy of Export'!$A$2:$AF2393,2,false)","v":"#N/A"},{"$f":"VLOOKUP(A305,'Copy of Export'!$A$2:$AF2393,5,false)","v":"#N/A"},{"$f":"VLOOKUP(A305,'Copy of Export'!$A$2:$AF2393,8,false)","v":"#N/A"}]
[null,{"$f":"VLOOKUP(A306,'Copy of Export'!$A$2:$AF2393,5,false)","v":"#N/A"},{"$f":"VLOOKUP(A306,'Copy of Export'!$A$2:$AF2393,13,false)","v":"#N/A"},{"$f":"VLOOKUP(A306,'Copy of Export'!$A$2:$AF2393,2,false)","v":"#N/A"},{"$f":"VLOOKUP(A306,'Copy of Export'!$A$2:$AF2393,5,false)","v":"#N/A"},{"$f":"VLOOKUP(A306,'Copy of Export'!$A$2:$AF2393,8,false)","v":"#N/A"}]
[null,{"$f":"VLOOKUP(A307,'Copy of Export'!$A$2:$AF2393,5,false)","v":"#N/A"},{"$f":"VLOOKUP(A307,'Copy of Export'!$A$2:$AF2393,13,false)","v":"#N/A"},{"$f":"VLOOKUP(A307,'Copy of Export'!$A$2:$AF2393,2,false)","v":"#N/A"},{"$f":"VLOOKUP(A307,'Copy of Export'!$A$2:$AF2393,5,false)","v":"#N/A"},{"$f":"VLOOKUP(A307,'Copy of Export'!$A$2:$AF2393,8,false)","v":"#N/A"}]
[null,{"$f":"VLOOKUP(A308,'Copy of Export'!$A$2:$AF2393,5,false)","v":"#N/A"},{"$f":"VLOOKUP(A308,'Copy of Export'!$A$2:$AF2393,13,false)","v":"#N/A"},{"$f":"VLOOKUP(A308,'Copy of Export'!$A$2:$AF2393,2,false)","v":"#N/A"},{"$f":"VLOOKUP(A308,'Copy of Export'!$A$2:$AF2393,5,false)","v":"#N/A"},{"$f":"VLOOKUP(A308,'Copy of Export'!$A$2:$AF2393,8,false)","v":"#N/A"}]
[null,{"$f":"VLOOKUP(A309,'Copy of Export'!$A$2:$AF2393,5,false)","v":"#N/A"},{"$f":"VLOOKUP(A309,'Copy of Export'!$A$2:$AF2393,13,false)","v":"#N/A"},{"$f":"VLOOKUP(A309,'Copy of Export'!$A$2:$AF2393,2,false)","v":"#N/A"},{"$f":"VLOOKUP(A309,'Copy of Export'!$A$2:$AF2393,5,false)","v":"#N/A"},{"$f":"VLOOKUP(A309,'Copy of Export'!$A$2:$AF2393,8,false)","v":"#N/A"}]
[null,{"$f":"VLOOKUP(A310,'Copy of Export'!$A$2:$AF2393,5,false)","v":"#N/A"},{"$f":"VLOOKUP(A310,'Copy of Export'!$A$2:$AF2393,13,false)","v":"#N/A"},{"$f":"VLOOKUP(A310,'Copy of Export'!$A$2:$AF2393,2,false)","v":"#N/A"},{"$f":"VLOOKUP(A310,'Copy of Export'!$A$2:$AF2393,5,false)","v":"#N/A"},{"$f":"VLOOKUP(A310,'Copy of Export'!$A$2:$AF2393,8,false)","v":"#N/A"}]
[null,{"$f":"VLOOKUP(A311,'Copy of Export'!$A$2:$AF2393,5,false)","v":"#N/A"},{"$f":"VLOOKUP(A311,'Copy of Export'!$A$2:$AF2393,13,false)","v":"#N/A"},{"$f":"VLOOKUP(A311,'Copy of Export'!$A$2:$AF2393,2,false)","v":"#N/A"},{"$f":"VLOOKUP(A311,'Copy of Export'!$A$2:$AF2393,5,false)","v":"#N/A"},{"$f":"VLOOKUP(A311,'Copy of Export'!$A$2:$AF2393,8,false)","v":"#N/A"}]
[null,{"$f":"VLOOKUP(A312,'Copy of Export'!$A$2:$AF2393,5,false)","v":"#N/A"},{"$f":"VLOOKUP(A312,'Copy of Export'!$A$2:$AF2393,13,false)","v":"#N/A"},{"$f":"VLOOKUP(A312,'Copy of Export'!$A$2:$AF2393,2,false)","v":"#N/A"},{"$f":"VLOOKUP(A312,'Copy of Export'!$A$2:$AF2393,5,false)","v":"#N/A"},{"$f":"VLOOKUP(A312,'Copy of Export'!$A$2:$AF2393,8,false)","v":"#N/A"}]
[null,{"$f":"VLOOKUP(A313,'Copy of Export'!$A$2:$AF2393,5,false)","v":"#N/A"},{"$f":"VLOOKUP(A313,'Copy of Export'!$A$2:$AF2393,13,false)","v":"#N/A"},{"$f":"VLOOKUP(A313,'Copy of Export'!$A$2:$AF2393,2,false)","v":"#N/A"},{"$f":"VLOOKUP(A313,'Copy of Export'!$A$2:$AF2393,5,false)","v":"#N/A"},{"$f":"VLOOKUP(A313,'Copy of Export'!$A$2:$AF2393,8,false)","v":"#N/A"}]
[null,{"$f":"VLOOKUP(A314,'Copy of Export'!$A$2:$AF2393,5,false)","v":"#N/A"},{"$f":"VLOOKUP(A314,'Copy of Export'!$A$2:$AF2393,13,false)","v":"#N/A"},{"$f":"VLOOKUP(A314,'Copy of Export'!$A$2:$AF2393,2,false)","v":"#N/A"},{"$f":"VLOOKUP(A314,'Copy of Export'!$A$2:$AF2393,5,false)","v":"#N/A"},{"$f":"VLOOKUP(A314,'Copy of Export'!$A$2:$AF2393,8,false)","v":"#N/A"}]
[null,{"$f":"VLOOKUP(A315,'Copy of Export'!$A$2:$AF2393,5,false)","v":"#N/A"},{"$f":"VLOOKUP(A315,'Copy of Export'!$A$2:$AF2393,13,false)","v":"#N/A"},{"$f":"VLOOKUP(A315,'Copy of Export'!$A$2:$AF2393,2,false)","v":"#N/A"},{"$f":"VLOOKUP(A315,'Copy of Export'!$A$2:$AF2393,5,false)","v":"#N/A"},{"$f":"VLOOKUP(A315,'Copy of Export'!$A$2:$AF2393,8,false)","v":"#N/A"}]
[null,{"$f":"VLOOKUP(A316,'Copy of Export'!$A$2:$AF2393,5,false)","v":"#N/A"},{"$f":"VLOOKUP(A316,'Copy of Export'!$A$2:$AF2393,13,false)","v":"#N/A"},{"$f":"VLOOKUP(A316,'Copy of Export'!$A$2:$AF2393,2,false)","v":"#N/A"},{"$f":"VLOOKUP(A316,'Copy of Export'!$A$2:$AF2393,5,false)","v":"#N/A"},{"$f":"VLOOKUP(A316,'Copy of Export'!$A$2:$AF2393,8,false)","v":"#N/A"}]
[null,{"$f":"VLOOKUP(A317,'Copy of Export'!$A$2:$AF2393,5,false)","v":"#N/A"},{"$f":"VLOOKUP(A317,'Copy of Export'!$A$2:$AF2393,13,false)","v":"#N/A"},{"$f":"VLOOKUP(A317,'Copy of Export'!$A$2:$AF2393,2,false)","v":"#N/A"},{"$f":"VLOOKUP(A317,'Copy of Export'!$A$2:$AF2393,5,false)","v":"#N/A"},{"$f":"VLOOKUP(A317,'Copy of Export'!$A$2:$AF2393,8,false)","v":"#N/A"}]
[null,{"$f":"VLOOKUP(A318,'Copy of Export'!$A$2:$AF2393,5,false)","v":"#N/A"},{"$f":"VLOOKUP(A318,'Copy of Export'!$A$2:$AF2393,13,false)","v":"#N/A"},{"$f":"VLOOKUP(A318,'Copy of Export'!$A$2:$AF2393,2,false)","v":"#N/A"},{"$f":"VLOOKUP(A318,'Copy of Export'!$A$2:$AF2393,5,false)","v":"#N/A"},{"$f":"VLOOKUP(A318,'Copy of Export'!$A$2:$AF2393,8,false)","v":"#N/A"}]
[null,{"$f":"VLOOKUP(A319,'Copy of Export'!$A$2:$AF2393,5,false)","v":"#N/A"},{"$f":"VLOOKUP(A319,'Copy of Export'!$A$2:$AF2393,13,false)","v":"#N/A"},{"$f":"VLOOKUP(A319,'Copy of Export'!$A$2:$AF2393,2,false)","v":"#N/A"},{"$f":"VLOOKUP(A319,'Copy of Export'!$A$2:$AF2393,5,false)","v":"#N/A"},{"$f":"VLOOKUP(A319,'Copy of Export'!$A$2:$AF2393,8,false)","v":"#N/A"}]
[null,{"$f":"VLOOKUP(A320,'Copy of Export'!$A$2:$AF2393,5,false)","v":"#N/A"},{"$f":"VLOOKUP(A320,'Copy of Export'!$A$2:$AF2393,13,false)","v":"#N/A"},{"$f":"VLOOKUP(A320,'Copy of Export'!$A$2:$AF2393,2,false)","v":"#N/A"},{"$f":"VLOOKUP(A320,'Copy of Export'!$A$2:$AF2393,5,false)","v":"#N/A"},{"$f":"VLOOKUP(A320,'Copy of Export'!$A$2:$AF2393,8,false)","v":"#N/A"}]
[null,{"$f":"VLOOKUP(A321,'Copy of Export'!$A$2:$AF2393,5,false)","v":"#N/A"},{"$f":"VLOOKUP(A321,'Copy of Export'!$A$2:$AF2393,13,false)","v":"#N/A"},{"$f":"VLOOKUP(A321,'Copy of Export'!$A$2:$AF2393,2,false)","v":"#N/A"},{"$f":"VLOOKUP(A321,'Copy of Export'!$A$2:$AF2393,5,false)","v":"#N/A"},{"$f":"VLOOKUP(A321,'Copy of Export'!$A$2:$AF2393,8,false)","v":"#N/A"}]
[null,{"$f":"VLOOKUP(A322,'Copy of Export'!$A$2:$AF2393,5,false)","v":"#N/A"},{"$f":"VLOOKUP(A322,'Copy of Export'!$A$2:$AF2393,13,false)","v":"#N/A"},{"$f":"VLOOKUP(A322,'Copy of Export'!$A$2:$AF2393,2,false)","v":"#N/A"},{"$f":"VLOOKUP(A322,'Copy of Export'!$A$2:$AF2393,5,false)","v":"#N/A"},{"$f":"VLOOKUP(A322,'Copy of Export'!$A$2:$AF2393,8,false)","v":"#N/A"}]
[null,{"$f":"VLOOKUP(A323,'Copy of Export'!$A$2:$AF2393,5,false)","v":"#N/A"},{"$f":"VLOOKUP(A323,'Copy of Export'!$A$2:$AF2393,13,false)","v":"#N/A"},{"$f":"VLOOKUP(A323,'Copy of Export'!$A$2:$AF2393,2,false)","v":"#N/A"},{"$f":"VLOOKUP(A323,'Copy of Export'!$A$2:$AF2393,5,false)","v":"#N/A"},{"$f":"VLOOKUP(A323,'Copy of Export'!$A$2:$AF2393,8,false)","v":"#N/A"}]
[null,{"$f":"VLOOKUP(A324,'Copy of Export'!$A$2:$AF2393,5,false)","v":"#N/A"},{"$f":"VLOOKUP(A324,'Copy of Export'!$A$2:$AF2393,13,false)","v":"#N/A"},{"$f":"VLOOKUP(A324,'Copy of Export'!$A$2:$AF2393,2,false)","v":"#N/A"},{"$f":"VLOOKUP(A324,'Copy of Export'!$A$2:$AF2393,5,false)","v":"#N/A"},{"$f":"VLOOKUP(A324,'Copy of Export'!$A$2:$AF2393,8,false)","v":"#N/A"}]
[null,{"$f":"VLOOKUP(A325,'Copy of Export'!$A$2:$AF2393,5,false)","v":"#N/A"},{"$f":"VLOOKUP(A325,'Copy of Export'!$A$2:$AF2393,13,false)","v":"#N/A"},{"$f":"VLOOKUP(A325,'Copy of Export'!$A$2:$AF2393,2,false)","v":"#N/A"},{"$f":"VLOOKUP(A325,'Copy of Export'!$A$2:$AF2393,5,false)","v":"#N/A"},{"$f":"VLOOKUP(A325,'Copy of Export'!$A$2:$AF2393,8,false)","v":"#N/A"}]
[null,{"$f":"VLOOKUP(A326,'Copy of Export'!$A$2:$AF2393,5,false)","v":"#N/A"},{"$f":"VLOOKUP(A326,'Copy of Export'!$A$2:$AF2393,13,false)","v":"#N/A"},{"$f":"VLOOKUP(A326,'Copy of Export'!$A$2:$AF2393,2,false)","v":"#N/A"},{"$f":"VLOOKUP(A326,'Copy of Export'!$A$2:$AF2393,5,false)","v":"#N/A"},{"$f":"VLOOKUP(A326,'Copy of Export'!$A$2:$AF2393,8,false)","v":"#N/A"}]
[null,{"$f":"VLOOKUP(A327,'Copy of Export'!$A$2:$AF2393,5,false)","v":"#N/A"},{"$f":"VLOOKUP(A327,'Copy of Export'!$A$2:$AF2393,13,false)","v":"#N/A"},{"$f":"VLOOKUP(A327,'Copy of Export'!$A$2:$AF2393,2,false)","v":"#N/A"},{"$f":"VLOOKUP(A327,'Copy of Export'!$A$2:$AF2393,5,false)","v":"#N/A"},{"$f":"VLOOKUP(A327,'Copy of Export'!$A$2:$AF2393,8,false)","v":"#N/A"}]
[null,{"$f":"VLOOKUP(A328,'Copy of Export'!$A$2:$AF2393,5,false)","v":"#N/A"},{"$f":"VLOOKUP(A328,'Copy of Export'!$A$2:$AF2393,13,false)","v":"#N/A"},{"$f":"VLOOKUP(A328,'Copy of Export'!$A$2:$AF2393,2,false)","v":"#N/A"},{"$f":"VLOOKUP(A328,'Copy of Export'!$A$2:$AF2393,5,false)","v":"#N/A"},{"$f":"VLOOKUP(A328,'Copy of Export'!$A$2:$AF2393,8,false)","v":"#N/A"}]
[null,{"$f":"VLOOKUP(A329,'Copy of Export'!$A$2:$AF2393,5,false)","v":"#N/A"},{"$f":"VLOOKUP(A329,'Copy of Export'!$A$2:$AF2393,13,false)","v":"#N/A"},{"$f":"VLOOKUP(A329,'Copy of Export'!$A$2:$AF2393,2,false)","v":"#N/A"},{"$f":"VLOOKUP(A329,'Copy of Export'!$A$2:$AF2393,5,false)","v":"#N/A"},{"$f":"VLOOKUP(A329,'Copy of Export'!$A$2:$AF2393,8,false)","v":"#N/A"}]
[null,{"$f":"VLOOKUP(A330,'Copy of Export'!$A$2:$AF2393,5,false)","v":"#N/A"},{"$f":"VLOOKUP(A330,'Copy of Export'!$A$2:$AF2393,13,false)","v":"#N/A"},{"$f":"VLOOKUP(A330,'Copy of Export'!$A$2:$AF2393,2,false)","v":"#N/A"},{"$f":"VLOOKUP(A330,'Copy of Export'!$A$2:$AF2393,5,false)","v":"#N/A"},{"$f":"VLOOKUP(A330,'Copy of Export'!$A$2:$AF2393,8,false)","v":"#N/A"}]
[null,{"$f":"VLOOKUP(A331,'Copy of Export'!$A$2:$AF2393,5,false)","v":"#N/A"},{"$f":"VLOOKUP(A331,'Copy of Export'!$A$2:$AF2393,13,false)","v":"#N/A"},{"$f":"VLOOKUP(A331,'Copy of Export'!$A$2:$AF2393,2,false)","v":"#N/A"},{"$f":"VLOOKUP(A331,'Copy of Export'!$A$2:$AF2393,5,false)","v":"#N/A"},{"$f":"VLOOKUP(A331,'Copy of Export'!$A$2:$AF2393,8,false)","v":"#N/A"}]
[null,{"$f":"VLOOKUP(A332,'Copy of Export'!$A$2:$AF2393,5,false)","v":"#N/A"},{"$f":"VLOOKUP(A332,'Copy of Export'!$A$2:$AF2393,13,false)","v":"#N/A"},{"$f":"VLOOKUP(A332,'Copy of Export'!$A$2:$AF2393,2,false)","v":"#N/A"},{"$f":"VLOOKUP(A332,'Copy of Export'!$A$2:$AF2393,5,false)","v":"#N/A"},{"$f":"VLOOKUP(A332,'Copy of Export'!$A$2:$AF2393,8,false)","v":"#N/A"}]
[null,{"$f":"VLOOKUP(A333,'Copy of Export'!$A$2:$AF2393,5,false)","v":"#N/A"},{"$f":"VLOOKUP(A333,'Copy of Export'!$A$2:$AF2393,13,false)","v":"#N/A"},{"$f":"VLOOKUP(A333,'Copy of Export'!$A$2:$AF2393,2,false)","v":"#N/A"},{"$f":"VLOOKUP(A333,'Copy of Export'!$A$2:$AF2393,5,false)","v":"#N/A"},{"$f":"VLOOKUP(A333,'Copy of Export'!$A$2:$AF2393,8,false)","v":"#N/A"}]
[null,{"$f":"VLOOKUP(A334,'Copy of Export'!$A$2:$AF2393,5,false)","v":"#N/A"},{"$f":"VLOOKUP(A334,'Copy of Export'!$A$2:$AF2393,13,false)","v":"#N/A"},{"$f":"VLOOKUP(A334,'Copy of Export'!$A$2:$AF2393,2,false)","v":"#N/A"},{"$f":"VLOOKUP(A334,'Copy of Export'!$A$2:$AF2393,5,false)","v":"#N/A"},{"$f":"VLOOKUP(A334,'Copy of Export'!$A$2:$AF2393,8,false)","v":"#N/A"}]
[null,{"$f":"VLOOKUP(A335,'Copy of Export'!$A$2:$AF2393,5,false)","v":"#N/A"},{"$f":"VLOOKUP(A335,'Copy of Export'!$A$2:$AF2393,13,false)","v":"#N/A"},{"$f":"VLOOKUP(A335,'Copy of Export'!$A$2:$AF2393,2,false)","v":"#N/A"},{"$f":"VLOOKUP(A335,'Copy of Export'!$A$2:$AF2393,5,false)","v":"#N/A"},{"$f":"VLOOKUP(A335,'Copy of Export'!$A$2:$AF2393,8,false)","v":"#N/A"}]
[null,{"$f":"VLOOKUP(A336,'Copy of Export'!$A$2:$AF2393,5,false)","v":"#N/A"},{"$f":"VLOOKUP(A336,'Copy of Export'!$A$2:$AF2393,13,false)","v":"#N/A"},{"$f":"VLOOKUP(A336,'Copy of Export'!$A$2:$AF2393,2,false)","v":"#N/A"},{"$f":"VLOOKUP(A336,'Copy of Export'!$A$2:$AF2393,5,false)","v":"#N/A"},{"$f":"VLOOKUP(A336,'Copy of Export'!$A$2:$AF2393,8,false)","v":"#N/A"}]
[null,{"$f":"VLOOKUP(A337,'Copy of Export'!$A$2:$AF2393,5,false)","v":"#N/A"},{"$f":"VLOOKUP(A337,'Copy of Export'!$A$2:$AF2393,13,false)","v":"#N/A"},{"$f":"VLOOKUP(A337,'Copy of Export'!$A$2:$AF2393,2,false)","v":"#N/A"},{"$f":"VLOOKUP(A337,'Copy of Export'!$A$2:$AF2393,5,false)","v":"#N/A"},{"$f":"VLOOKUP(A337,'Copy of Export'!$A$2:$AF2393,8,false)","v":"#N/A"}]
[null,{"$f":"VLOOKUP(A338,'Copy of Export'!$A$2:$AF2393,5,false)","v":"#N/A"},{"$f":"VLOOKUP(A338,'Copy of Export'!$A$2:$AF2393,13,false)","v":"#N/A"},{"$f":"VLOOKUP(A338,'Copy of Export'!$A$2:$AF2393,2,false)","v":"#N/A"},{"$f":"VLOOKUP(A338,'Copy of Export'!$A$2:$AF2393,5,false)","v":"#N/A"},{"$f":"VLOOKUP(A338,'Copy of Export'!$A$2:$AF2393,8,false)","v":"#N/A"}]
[null,{"$f":"VLOOKUP(A339,'Copy of Export'!$A$2:$AF2393,5,false)","v":"#N/A"},{"$f":"VLOOKUP(A339,'Copy of Export'!$A$2:$AF2393,13,false)","v":"#N/A"},{"$f":"VLOOKUP(A339,'Copy of Export'!$A$2:$AF2393,2,false)","v":"#N/A"},{"$f":"VLOOKUP(A339,'Copy of Export'!$A$2:$AF2393,5,false)","v":"#N/A"},{"$f":"VLOOKUP(A339,'Copy of Export'!$A$2:$AF2393,8,false)","v":"#N/A"}]
[null,{"$f":"VLOOKUP(A340,'Copy of Export'!$A$2:$AF2393,5,false)","v":"#N/A"},{"$f":"VLOOKUP(A340,'Copy of Export'!$A$2:$AF2393,13,false)","v":"#N/A"},{"$f":"VLOOKUP(A340,'Copy of Export'!$A$2:$AF2393,2,false)","v":"#N/A"},{"$f":"VLOOKUP(A340,'Copy of Export'!$A$2:$AF2393,5,false)","v":"#N/A"},{"$f":"VLOOKUP(A340,'Copy of Export'!$A$2:$AF2393,8,false)","v":"#N/A"}]
[null,{"$f":"VLOOKUP(A341,'Copy of Export'!$A$2:$AF2393,5,false)","v":"#N/A"},{"$f":"VLOOKUP(A341,'Copy of Export'!$A$2:$AF2393,13,false)","v":"#N/A"},{"$f":"VLOOKUP(A341,'Copy of Export'!$A$2:$AF2393,2,false)","v":"#N/A"},{"$f":"VLOOKUP(A341,'Copy of Export'!$A$2:$AF2393,5,false)","v":"#N/A"},{"$f":"VLOOKUP(A341,'Copy of Export'!$A$2:$AF2393,8,false)","v":"#N/A"}]
[null,{"$f":"VLOOKUP(A342,'Copy of Export'!$A$2:$AF2393,5,false)","v":"#N/A"},{"$f":"VLOOKUP(A342,'Copy of Export'!$A$2:$AF2393,13,false)","v":"#N/A"},{"$f":"VLOOKUP(A342,'Copy of Export'!$A$2:$AF2393,2,false)","v":"#N/A"},{"$f":"VLOOKUP(A342,'Copy of Export'!$A$2:$AF2393,5,false)","v":"#N/A"},{"$f":"VLOOKUP(A342,'Copy of Export'!$A$2:$AF2393,8,false)","v":"#N/A"}]
[null,{"$f":"VLOOKUP(A343,'Copy of Export'!$A$2:$AF2393,5,false)","v":"#N/A"},{"$f":"VLOOKUP(A343,'Copy of Export'!$A$2:$AF2393,13,false)","v":"#N/A"},{"$f":"VLOOKUP(A343,'Copy of Export'!$A$2:$AF2393,2,false)","v":"#N/A"},{"$f":"VLOOKUP(A343,'Copy of Export'!$A$2:$AF2393,5,false)","v":"#N/A"},{"$f":"VLOOKUP(A343,'Copy of Export'!$A$2:$AF2393,8,false)","v":"#N/A"}]
[null,{"$f":"VLOOKUP(A344,'Copy of Export'!$A$2:$AF2393,5,false)","v":"#N/A"},{"$f":"VLOOKUP(A344,'Copy of Export'!$A$2:$AF2393,13,false)","v":"#N/A"},{"$f":"VLOOKUP(A344,'Copy of Export'!$A$2:$AF2393,2,false)","v":"#N/A"},{"$f":"VLOOKUP(A344,'Copy of Export'!$A$2:$AF2393,5,false)","v":"#N/A"},{"$f":"VLOOKUP(A344,'Copy of Export'!$A$2:$AF2393,8,false)","v":"#N/A"}]
[null,{"$f":"VLOOKUP(A345,'Copy of Export'!$A$2:$AF2393,5,false)","v":"#N/A"},{"$f":"VLOOKUP(A345,'Copy of Export'!$A$2:$AF2393,13,false)","v":"#N/A"},{"$f":"VLOOKUP(A345,'Copy of Export'!$A$2:$AF2393,2,false)","v":"#N/A"},{"$f":"VLOOKUP(A345,'Copy of Export'!$A$2:$AF2393,5,false)","v":"#N/A"},{"$f":"VLOOKUP(A345,'Copy of Export'!$A$2:$AF2393,8,false)","v":"#N/A"}]
[null,{"$f":"VLOOKUP(A346,'Copy of Export'!$A$2:$AF2393,5,false)","v":"#N/A"},{"$f":"VLOOKUP(A346,'Copy of Export'!$A$2:$AF2393,13,false)","v":"#N/A"},{"$f":"VLOOKUP(A346,'Copy of Export'!$A$2:$AF2393,2,false)","v":"#N/A"},{"$f":"VLOOKUP(A346,'Copy of Export'!$A$2:$AF2393,5,false)","v":"#N/A"},{"$f":"VLOOKUP(A346,'Copy of Export'!$A$2:$AF2393,8,false)","v":"#N/A"}]
[null,{"$f":"VLOOKUP(A347,'Copy of Export'!$A$2:$AF2393,5,false)","v":"#N/A"},{"$f":"VLOOKUP(A347,'Copy of Export'!$A$2:$AF2393,13,false)","v":"#N/A"},{"$f":"VLOOKUP(A347,'Copy of Export'!$A$2:$AF2393,2,false)","v":"#N/A"},{"$f":"VLOOKUP(A347,'Copy of Export'!$A$2:$AF2393,5,false)","v":"#N/A"},{"$f":"VLOOKUP(A347,'Copy of Export'!$A$2:$AF2393,8,false)","v":"#N/A"}]
[null,{"$f":"VLOOKUP(A348,'Copy of Export'!$A$2:$AF2393,5,false)","v":"#N/A"},{"$f":"VLOOKUP(A348,'Copy of Export'!$A$2:$AF2393,13,false)","v":"#N/A"},{"$f":"VLOOKUP(A348,'Copy of Export'!$A$2:$AF2393,2,false)","v":"#N/A"},{"$f":"VLOOKUP(A348,'Copy of Export'!$A$2:$AF2393,5,false)","v":"#N/A"},{"$f":"VLOOKUP(A348,'Copy of Export'!$A$2:$AF2393,8,false)","v":"#N/A"}]
[null,{"$f":"VLOOKUP(A349,'Copy of Export'!$A$2:$AF2393,5,false)","v":"#N/A"},{"$f":"VLOOKUP(A349,'Copy of Export'!$A$2:$AF2393,13,false)","v":"#N/A"},{"$f":"VLOOKUP(A349,'Copy of Export'!$A$2:$AF2393,2,false)","v":"#N/A"},{"$f":"VLOOKUP(A349,'Copy of Export'!$A$2:$AF2393,5,false)","v":"#N/A"},{"$f":"VLOOKUP(A349,'Copy of Export'!$A$2:$AF2393,8,false)","v":"#N/A"}]
[null,{"$f":"VLOOKUP(A350,'Copy of Export'!$A$2:$AF2393,5,false)","v":"#N/A"},{"$f":"VLOOKUP(A350,'Copy of Export'!$A$2:$AF2393,13,false)","v":"#N/A"},{"$f":"VLOOKUP(A350,'Copy of Export'!$A$2:$AF2393,2,false)","v":"#N/A"},{"$f":"VLOOKUP(A350,'Copy of Export'!$A$2:$AF2393,5,false)","v":"#N/A"},{"$f":"VLOOKUP(A350,'Copy of Export'!$A$2:$AF2393,8,false)","v":"#N/A"}]
[null,{"$f":"VLOOKUP(A351,'Copy of Export'!$A$2:$AF2393,5,false)","v":"#N/A"},{"$f":"VLOOKUP(A351,'Copy of Export'!$A$2:$AF2393,13,false)","v":"#N/A"},{"$f":"VLOOKUP(A351,'Copy of Export'!$A$2:$AF2393,2,false)","v":"#N/A"},{"$f":"VLOOKUP(A351,'Copy of Export'!$A$2:$AF2393,5,false)","v":"#N/A"},{"$f":"VLOOKUP(A351,'Copy of Export'!$A$2:$AF2393,8,false)","v":"#N/A"}]
[null,{"$f":"VLOOKUP(A352,'Copy of Export'!$A$2:$AF2393,5,false)","v":"#N/A"},{"$f":"VLOOKUP(A352,'Copy of Export'!$A$2:$AF2393,13,false)","v":"#N/A"},{"$f":"VLOOKUP(A352,'Copy of Export'!$A$2:$AF2393,2,false)","v":"#N/A"},{"$f":"VLOOKUP(A352,'Copy of Export'!$A$2:$AF2393,5,false)","v":"#N/A"},{"$f":"VLOOKUP(A352,'Copy of Export'!$A$2:$AF2393,8,false)","v":"#N/A"}]
[null,{"$f":"VLOOKUP(A353,'Copy of Export'!$A$2:$AF2393,5,false)","v":"#N/A"},{"$f":"VLOOKUP(A353,'Copy of Export'!$A$2:$AF2393,13,false)","v":"#N/A"},{"$f":"VLOOKUP(A353,'Copy of Export'!$A$2:$AF2393,2,false)","v":"#N/A"},{"$f":"VLOOKUP(A353,'Copy of Export'!$A$2:$AF2393,5,false)","v":"#N/A"},{"$f":"VLOOKUP(A353,'Copy of Export'!$A$2:$AF2393,8,false)","v":"#N/A"}]
[null,{"$f":"VLOOKUP(A354,'Copy of Export'!$A$2:$AF2393,5,false)","v":"#N/A"},{"$f":"VLOOKUP(A354,'Copy of Export'!$A$2:$AF2393,13,false)","v":"#N/A"},{"$f":"VLOOKUP(A354,'Copy of Export'!$A$2:$AF2393,2,false)","v":"#N/A"},{"$f":"VLOOKUP(A354,'Copy of Export'!$A$2:$AF2393,5,false)","v":"#N/A"},{"$f":"VLOOKUP(A354,'Copy of Export'!$A$2:$AF2393,8,false)","v":"#N/A"}]
[null,{"$f":"VLOOKUP(A355,'Copy of Export'!$A$2:$AF2393,5,false)","v":"#N/A"},{"$f":"VLOOKUP(A355,'Copy of Export'!$A$2:$AF2393,13,false)","v":"#N/A"},{"$f":"VLOOKUP(A355,'Copy of Export'!$A$2:$AF2393,2,false)","v":"#N/A"},{"$f":"VLOOKUP(A355,'Copy of Export'!$A$2:$AF2393,5,false)","v":"#N/A"},{"$f":"VLOOKUP(A355,'Copy of Export'!$A$2:$AF2393,8,false)","v":"#N/A"}]
[null,{"$f":"VLOOKUP(A356,'Copy of Export'!$A$2:$AF2393,5,false)","v":"#N/A"},{"$f":"VLOOKUP(A356,'Copy of Export'!$A$2:$AF2393,13,false)","v":"#N/A"},{"$f":"VLOOKUP(A356,'Copy of Export'!$A$2:$AF2393,2,false)","v":"#N/A"},{"$f":"VLOOKUP(A356,'Copy of Export'!$A$2:$AF2393,5,false)","v":"#N/A"},{"$f":"VLOOKUP(A356,'Copy of Export'!$A$2:$AF2393,8,false)","v":"#N/A"}]
[null,{"$f":"VLOOKUP(A357,'Copy of Export'!$A$2:$AF2393,5,false)","v":"#N/A"},{"$f":"VLOOKUP(A357,'Copy of Export'!$A$2:$AF2393,13,false)","v":"#N/A"},{"$f":"VLOOKUP(A357,'Copy of Export'!$A$2:$AF2393,2,false)","v":"#N/A"},{"$f":"VLOOKUP(A357,'Copy of Export'!$A$2:$AF2393,5,false)","v":"#N/A"},{"$f":"VLOOKUP(A357,'Copy of Export'!$A$2:$AF2393,8,false)","v":"#N/A"}]
[null,{"$f":"VLOOKUP(A358,'Copy of Export'!$A$2:$AF2393,5,false)","v":"#N/A"},{"$f":"VLOOKUP(A358,'Copy of Export'!$A$2:$AF2393,13,false)","v":"#N/A"},{"$f":"VLOOKUP(A358,'Copy of Export'!$A$2:$AF2393,2,false)","v":"#N/A"},{"$f":"VLOOKUP(A358,'Copy of Export'!$A$2:$AF2393,5,false)","v":"#N/A"},{"$f":"VLOOKUP(A358,'Copy of Export'!$A$2:$AF2393,8,false)","v":"#N/A"}]
[null,{"$f":"VLOOKUP(A359,'Copy of Export'!$A$2:$AF2393,5,false)","v":"#N/A"},{"$f":"VLOOKUP(A359,'Copy of Export'!$A$2:$AF2393,13,false)","v":"#N/A"},{"$f":"VLOOKUP(A359,'Copy of Export'!$A$2:$AF2393,2,false)","v":"#N/A"},{"$f":"VLOOKUP(A359,'Copy of Export'!$A$2:$AF2393,5,false)","v":"#N/A"},{"$f":"VLOOKUP(A359,'Copy of Export'!$A$2:$AF2393,8,false)","v":"#N/A"}]
[null,{"$f":"VLOOKUP(A360,'Copy of Export'!$A$2:$AF2393,5,false)","v":"#N/A"},{"$f":"VLOOKUP(A360,'Copy of Export'!$A$2:$AF2393,13,false)","v":"#N/A"},{"$f":"VLOOKUP(A360,'Copy of Export'!$A$2:$AF2393,2,false)","v":"#N/A"},{"$f":"VLOOKUP(A360,'Copy of Export'!$A$2:$AF2393,5,false)","v":"#N/A"},{"$f":"VLOOKUP(A360,'Copy of Export'!$A$2:$AF2393,8,false)","v":"#N/A"}]
[null,{"$f":"VLOOKUP(A361,'Copy of Export'!$A$2:$AF2393,5,false)","v":"#N/A"},{"$f":"VLOOKUP(A361,'Copy of Export'!$A$2:$AF2393,13,false)","v":"#N/A"},{"$f":"VLOOKUP(A361,'Copy of Export'!$A$2:$AF2393,2,false)","v":"#N/A"},{"$f":"VLOOKUP(A361,'Copy of Export'!$A$2:$AF2393,5,false)","v":"#N/A"},{"$f":"VLOOKUP(A361,'Copy of Export'!$A$2:$AF2393,8,false)","v":"#N/A"}]
[null,{"$f":"VLOOKUP(A362,'Copy of Export'!$A$2:$AF2393,5,false)","v":"#N/A"},{"$f":"VLOOKUP(A362,'Copy of Export'!$A$2:$AF2393,13,false)","v":"#N/A"},{"$f":"VLOOKUP(A362,'Copy of Export'!$A$2:$AF2393,2,false)","v":"#N/A"},{"$f":"VLOOKUP(A362,'Copy of Export'!$A$2:$AF2393,5,false)","v":"#N/A"},{"$f":"VLOOKUP(A362,'Copy of Export'!$A$2:$AF2393,8,false)","v":"#N/A"}]
[null,{"$f":"VLOOKUP(A363,'Copy of Export'!$A$2:$AF2393,5,false)","v":"#N/A"},{"$f":"VLOOKUP(A363,'Copy of Export'!$A$2:$AF2393,13,false)","v":"#N/A"},{"$f":"VLOOKUP(A363,'Copy of Export'!$A$2:$AF2393,2,false)","v":"#N/A"},{"$f":"VLOOKUP(A363,'Copy of Export'!$A$2:$AF2393,5,false)","v":"#N/A"},{"$f":"VLOOKUP(A363,'Copy of Export'!$A$2:$AF2393,8,false)","v":"#N/A"}]
[null,{"$f":"VLOOKUP(A364,'Copy of Export'!$A$2:$AF2393,5,false)","v":"#N/A"},{"$f":"VLOOKUP(A364,'Copy of Export'!$A$2:$AF2393,13,false)","v":"#N/A"},{"$f":"VLOOKUP(A364,'Copy of Export'!$A$2:$AF2393,2,false)","v":"#N/A"},{"$f":"VLOOKUP(A364,'Copy of Export'!$A$2:$AF2393,5,false)","v":"#N/A"},{"$f":"VLOOKUP(A364,'Copy of Export'!$A$2:$AF2393,8,false)","v":"#N/A"}]
[null,{"$f":"VLOOKUP(A365,'Copy of Export'!$A$2:$AF2393,5,false)","v":"#N/A"},{"$f":"VLOOKUP(A365,'Copy of Export'!$A$2:$AF2393,13,false)","v":"#N/A"},{"$f":"VLOOKUP(A365,'Copy of Export'!$A$2:$AF2393,2,false)","v":"#N/A"},{"$f":"VLOOKUP(A365,'Copy of Export'!$A$2:$AF2393,5,false)","v":"#N/A"},{"$f":"VLOOKUP(A365,'Copy of Export'!$A$2:$AF2393,8,false)","v":"#N/A"}]
[null,{"$f":"VLOOKUP(A366,'Copy of Export'!$A$2:$AF2393,5,false)","v":"#N/A"},{"$f":"VLOOKUP(A366,'Copy of Export'!$A$2:$AF2393,13,false)","v":"#N/A"},{"$f":"VLOOKUP(A366,'Copy of Export'!$A$2:$AF2393,2,false)","v":"#N/A"},{"$f":"VLOOKUP(A366,'Copy of Export'!$A$2:$AF2393,5,false)","v":"#N/A"},{"$f":"VLOOKUP(A366,'Copy of Export'!$A$2:$AF2393,8,false)","v":"#N/A"}]
[null,{"$f":"VLOOKUP(A367,'Copy of Export'!$A$2:$AF2393,5,false)","v":"#N/A"},{"$f":"VLOOKUP(A367,'Copy of Export'!$A$2:$AF2393,13,false)","v":"#N/A"},{"$f":"VLOOKUP(A367,'Copy of Export'!$A$2:$AF2393,2,false)","v":"#N/A"},{"$f":"VLOOKUP(A367,'Copy of Export'!$A$2:$AF2393,5,false)","v":"#N/A"},{"$f":"VLOOKUP(A367,'Copy of Export'!$A$2:$AF2393,8,false)","v":"#N/A"}]
[null,{"$f":"VLOOKUP(A368,'Copy of Export'!$A$2:$AF2393,5,false)","v":"#N/A"},{"$f":"VLOOKUP(A368,'Copy of Export'!$A$2:$AF2393,13,false)","v":"#N/A"},{"$f":"VLOOKUP(A368,'Copy of Export'!$A$2:$AF2393,2,false)","v":"#N/A"},{"$f":"VLOOKUP(A368,'Copy of Export'!$A$2:$AF2393,5,false)","v":"#N/A"},{"$f":"VLOOKUP(A368,'Copy of Export'!$A$2:$AF2393,8,false)","v":"#N/A"}]
[null,{"$f":"VLOOKUP(A369,'Copy of Export'!$A$2:$AF2393,5,false)","v":"#N/A"},{"$f":"VLOOKUP(A369,'Copy of Export'!$A$2:$AF2393,13,false)","v":"#N/A"},{"$f":"VLOOKUP(A369,'Copy of Export'!$A$2:$AF2393,2,false)","v":"#N/A"},{"$f":"VLOOKUP(A369,'Copy of Export'!$A$2:$AF2393,5,false)","v":"#N/A"},{"$f":"VLOOKUP(A369,'Copy of Export'!$A$2:$AF2393,8,false)","v":"#N/A"}]
[null,{"$f":"VLOOKUP(A370,'Copy of Export'!$A$2:$AF2393,5,false)","v":"#N/A"},{"$f":"VLOOKUP(A370,'Copy of Export'!$A$2:$AF2393,13,false)","v":"#N/A"},{"$f":"VLOOKUP(A370,'Copy of Export'!$A$2:$AF2393,2,false)","v":"#N/A"},{"$f":"VLOOKUP(A370,'Copy of Export'!$A$2:$AF2393,5,false)","v":"#N/A"},{"$f":"VLOOKUP(A370,'Copy of Export'!$A$2:$AF2393,8,false)","v":"#N/A"}]
[null,{"$f":"VLOOKUP(A371,'Copy of Export'!$A$2:$AF2393,5,false)","v":"#N/A"},{"$f":"VLOOKUP(A371,'Copy of Export'!$A$2:$AF2393,13,false)","v":"#N/A"},{"$f":"VLOOKUP(A371,'Copy of Export'!$A$2:$AF2393,2,false)","v":"#N/A"},{"$f":"VLOOKUP(A371,'Copy of Export'!$A$2:$AF2393,5,false)","v":"#N/A"},{"$f":"VLOOKUP(A371,'Copy of Export'!$A$2:$AF2393,8,false)","v":"#N/A"}]
[null,{"$f":"VLOOKUP(A372,'Copy of Export'!$A$2:$AF2393,5,false)","v":"#N/A"},{"$f":"VLOOKUP(A372,'Copy of Export'!$A$2:$AF2393,13,false)","v":"#N/A"},{"$f":"VLOOKUP(A372,'Copy of Export'!$A$2:$AF2393,2,false)","v":"#N/A"},{"$f":"VLOOKUP(A372,'Copy of Export'!$A$2:$AF2393,5,false)","v":"#N/A"},{"$f":"VLOOKUP(A372,'Copy of Export'!$A$2:$AF2393,8,false)","v":"#N/A"}]
[null,{"$f":"VLOOKUP(A373,'Copy of Export'!$A$2:$AF2393,5,false)","v":"#N/A"},{"$f":"VLOOKUP(A373,'Copy of Export'!$A$2:$AF2393,13,false)","v":"#N/A"},{"$f":"VLOOKUP(A373,'Copy of Export'!$A$2:$AF2393,2,false)","v":"#N/A"},{"$f":"VLOOKUP(A373,'Copy of Export'!$A$2:$AF2393,5,false)","v":"#N/A"},{"$f":"VLOOKUP(A373,'Copy of Export'!$A$2:$AF2393,8,false)","v":"#N/A"}]
[null,{"$f":"VLOOKUP(A374,'Copy of Export'!$A$2:$AF2393,5,false)","v":"#N/A"},{"$f":"VLOOKUP(A374,'Copy of Export'!$A$2:$AF2393,13,false)","v":"#N/A"},{"$f":"VLOOKUP(A374,'Copy of Export'!$A$2:$AF2393,2,false)","v":"#N/A"},{"$f":"VLOOKUP(A374,'Copy of Export'!$A$2:$AF2393,5,false)","v":"#N/A"},{"$f":"VLOOKUP(A374,'Copy of Export'!$A$2:$AF2393,8,false)","v":"#N/A"}]
[null,{"$f":"VLOOKUP(A375,'Copy of Export'!$A$2:$AF2393,5,false)","v":"#N/A"},{"$f":"VLOOKUP(A375,'Copy of Export'!$A$2:$AF2393,13,false)","v":"#N/A"},{"$f":"VLOOKUP(A375,'Copy of Export'!$A$2:$AF2393,2,false)","v":"#N/A"},{"$f":"VLOOKUP(A375,'Copy of Export'!$A$2:$AF2393,5,false)","v":"#N/A"},{"$f":"VLOOKUP(A375,'Copy of Export'!$A$2:$AF2393,8,false)","v":"#N/A"}]
[null,{"$f":"VLOOKUP(A376,'Copy of Export'!$A$2:$AF2393,5,false)","v":"#N/A"},{"$f":"VLOOKUP(A376,'Copy of Export'!$A$2:$AF2393,13,false)","v":"#N/A"},{"$f":"VLOOKUP(A376,'Copy of Export'!$A$2:$AF2393,2,false)","v":"#N/A"},{"$f":"VLOOKUP(A376,'Copy of Export'!$A$2:$AF2393,5,false)","v":"#N/A"},{"$f":"VLOOKUP(A376,'Copy of Export'!$A$2:$AF2393,8,false)","v":"#N/A"}]
[null,{"$f":"VLOOKUP(A377,'Copy of Export'!$A$2:$AF2393,5,false)","v":"#N/A"},{"$f":"VLOOKUP(A377,'Copy of Export'!$A$2:$AF2393,13,false)","v":"#N/A"},{"$f":"VLOOKUP(A377,'Copy of Export'!$A$2:$AF2393,2,false)","v":"#N/A"},{"$f":"VLOOKUP(A377,'Copy of Export'!$A$2:$AF2393,5,false)","v":"#N/A"},{"$f":"VLOOKUP(A377,'Copy of Export'!$A$2:$AF2393,8,false)","v":"#N/A"}]
[null,{"$f":"VLOOKUP(A378,'Copy of Export'!$A$2:$AF2393,5,false)","v":"#N/A"},{"$f":"VLOOKUP(A378,'Copy of Export'!$A$2:$AF2393,13,false)","v":"#N/A"},{"$f":"VLOOKUP(A378,'Copy of Export'!$A$2:$AF2393,2,false)","v":"#N/A"},{"$f":"VLOOKUP(A378,'Copy of Export'!$A$2:$AF2393,5,false)","v":"#N/A"},{"$f":"VLOOKUP(A378,'Copy of Export'!$A$2:$AF2393,8,false)","v":"#N/A"}]
[null,{"$f":"VLOOKUP(A379,'Copy of Export'!$A$2:$AF2393,5,false)","v":"#N/A"},{"$f":"VLOOKUP(A379,'Copy of Export'!$A$2:$AF2393,13,false)","v":"#N/A"},{"$f":"VLOOKUP(A379,'Copy of Export'!$A$2:$AF2393,2,false)","v":"#N/A"},{"$f":"VLOOKUP(A379,'Copy of Export'!$A$2:$AF2393,5,false)","v":"#N/A"},{"$f":"VLOOKUP(A379,'Copy of Export'!$A$2:$AF2393,8,false)","v":"#N/A"}]
[null,{"$f":"VLOOKUP(A380,'Copy of Export'!$A$2:$AF2393,5,false)","v":"#N/A"},{"$f":"VLOOKUP(A380,'Copy of Export'!$A$2:$AF2393,13,false)","v":"#N/A"},{"$f":"VLOOKUP(A380,'Copy of Export'!$A$2:$AF2393,2,false)","v":"#N/A"},{"$f":"VLOOKUP(A380,'Copy of Export'!$A$2:$AF2393,5,false)","v":"#N/A"},{"$f":"VLOOKUP(A380,'Copy of Export'!$A$2:$AF2393,8,false)","v":"#N/A"}]
[null,{"$f":"VLOOKUP(A381,'Copy of Export'!$A$2:$AF2393,5,false)","v":"#N/A"},{"$f":"VLOOKUP(A381,'Copy of Export'!$A$2:$AF2393,13,false)","v":"#N/A"},{"$f":"VLOOKUP(A381,'Copy of Export'!$A$2:$AF2393,2,false)","v":"#N/A"},{"$f":"VLOOKUP(A381,'Copy of Export'!$A$2:$AF2393,5,false)","v":"#N/A"},{"$f":"VLOOKUP(A381,'Copy of Export'!$A$2:$AF2393,8,false)","v":"#N/A"}]
[null,{"$f":"VLOOKUP(A382,'Copy of Export'!$A$2:$AF2393,5,false)","v":"#N/A"},{"$f":"VLOOKUP(A382,'Copy of Export'!$A$2:$AF2393,13,false)","v":"#N/A"},{"$f":"VLOOKUP(A382,'Copy of Export'!$A$2:$AF2393,2,false)","v":"#N/A"},{"$f":"VLOOKUP(A382,'Copy of Export'!$A$2:$AF2393,5,false)","v":"#N/A"},{"$f":"VLOOKUP(A382,'Copy of Export'!$A$2:$AF2393,8,false)","v":"#N/A"}]
[null,{"$f":"VLOOKUP(A383,'Copy of Export'!$A$2:$AF2393,5,false)","v":"#N/A"},{"$f":"VLOOKUP(A383,'Copy of Export'!$A$2:$AF2393,13,false)","v":"#N/A"},{"$f":"VLOOKUP(A383,'Copy of Export'!$A$2:$AF2393,2,false)","v":"#N/A"},{"$f":"VLOOKUP(A383,'Copy of Export'!$A$2:$AF2393,5,false)","v":"#N/A"},{"$f":"VLOOKUP(A383,'Copy of Export'!$A$2:$AF2393,8,false)","v":"#N/A"}]
[null,{"$f":"VLOOKUP(A384,'Copy of Export'!$A$2:$AF2393,5,false)","v":"#N/A"},{"$f":"VLOOKUP(A384,'Copy of Export'!$A$2:$AF2393,13,false)","v":"#N/A"},{"$f":"VLOOKUP(A384,'Copy of Export'!$A$2:$AF2393,2,false)","v":"#N/A"},{"$f":"VLOOKUP(A384,'Copy of Export'!$A$2:$AF2393,5,false)","v":"#N/A"},{"$f":"VLOOKUP(A384,'Copy of Export'!$A$2:$AF2393,8,false)","v":"#N/A"}]
[null,{"$f":"VLOOKUP(A385,'Copy of Export'!$A$2:$AF2393,5,false)","v":"#N/A"},{"$f":"VLOOKUP(A385,'Copy of Export'!$A$2:$AF2393,13,false)","v":"#N/A"},{"$f":"VLOOKUP(A385,'Copy of Export'!$A$2:$AF2393,2,false)","v":"#N/A"},{"$f":"VLOOKUP(A385,'Copy of Export'!$A$2:$AF2393,5,false)","v":"#N/A"},{"$f":"VLOOKUP(A385,'Copy of Export'!$A$2:$AF2393,8,false)","v":"#N/A"}]
[null,{"$f":"VLOOKUP(A386,'Copy of Export'!$A$2:$AF2393,5,false)","v":"#N/A"},{"$f":"VLOOKUP(A386,'Copy of Export'!$A$2:$AF2393,13,false)","v":"#N/A"},{"$f":"VLOOKUP(A386,'Copy of Export'!$A$2:$AF2393,2,false)","v":"#N/A"},{"$f":"VLOOKUP(A386,'Copy of Export'!$A$2:$AF2393,5,false)","v":"#N/A"},{"$f":"VLOOKUP(A386,'Copy of Export'!$A$2:$AF2393,8,false)","v":"#N/A"}]
[null,{"$f":"VLOOKUP(A387,'Copy of Export'!$A$2:$AF2393,5,false)","v":"#N/A"},{"$f":"VLOOKUP(A387,'Copy of Export'!$A$2:$AF2393,13,false)","v":"#N/A"},{"$f":"VLOOKUP(A387,'Copy of Export'!$A$2:$AF2393,2,false)","v":"#N/A"},{"$f":"VLOOKUP(A387,'Copy of Export'!$A$2:$AF2393,5,false)","v":"#N/A"},{"$f":"VLOOKUP(A387,'Copy of Export'!$A$2:$AF2393,8,false)","v":"#N/A"}]
[null,{"$f":"VLOOKUP(A388,'Copy of Export'!$A$2:$AF2393,5,false)","v":"#N/A"},{"$f":"VLOOKUP(A388,'Copy of Export'!$A$2:$AF2393,13,false)","v":"#N/A"},{"$f":"VLOOKUP(A388,'Copy of Export'!$A$2:$AF2393,2,false)","v":"#N/A"},{"$f":"VLOOKUP(A388,'Copy of Export'!$A$2:$AF2393,5,false)","v":"#N/A"},{"$f":"VLOOKUP(A388,'Copy of Export'!$A$2:$AF2393,8,false)","v":"#N/A"}]
[null,{"$f":"VLOOKUP(A389,'Copy of Export'!$A$2:$AF2393,5,false)","v":"#N/A"},{"$f":"VLOOKUP(A389,'Copy of Export'!$A$2:$AF2393,13,false)","v":"#N/A"},{"$f":"VLOOKUP(A389,'Copy of Export'!$A$2:$AF2393,2,false)","v":"#N/A"},{"$f":"VLOOKUP(A389,'Copy of Export'!$A$2:$AF2393,5,false)","v":"#N/A"},{"$f":"VLOOKUP(A389,'Copy of Export'!$A$2:$AF2393,8,false)","v":"#N/A"}]
[null,{"$f":"VLOOKUP(A390,'Copy of Export'!$A$2:$AF2393,5,false)","v":"#N/A"},{"$f":"VLOOKUP(A390,'Copy of Export'!$A$2:$AF2393,13,false)","v":"#N/A"},{"$f":"VLOOKUP(A390,'Copy of Export'!$A$2:$AF2393,2,false)","v":"#N/A"},{"$f":"VLOOKUP(A390,'Copy of Export'!$A$2:$AF2393,5,false)","v":"#N/A"},{"$f":"VLOOKUP(A390,'Copy of Export'!$A$2:$AF2393,8,false)","v":"#N/A"}]
[null,{"$f":"VLOOKUP(A391,'Copy of Export'!$A$2:$AF2393,5,false)","v":"#N/A"},{"$f":"VLOOKUP(A391,'Copy of Export'!$A$2:$AF2393,13,false)","v":"#N/A"},{"$f":"VLOOKUP(A391,'Copy of Export'!$A$2:$AF2393,2,false)","v":"#N/A"},{"$f":"VLOOKUP(A391,'Copy of Export'!$A$2:$AF2393,5,false)","v":"#N/A"},{"$f":"VLOOKUP(A391,'Copy of Export'!$A$2:$AF2393,8,false)","v":"#N/A"}]
[null,{"$f":"VLOOKUP(A392,'Copy of Export'!$A$2:$AF2393,5,false)","v":"#N/A"},{"$f":"VLOOKUP(A392,'Copy of Export'!$A$2:$AF2393,13,false)","v":"#N/A"},{"$f":"VLOOKUP(A392,'Copy of Export'!$A$2:$AF2393,2,false)","v":"#N/A"},{"$f":"VLOOKUP(A392,'Copy of Export'!$A$2:$AF2393,5,false)","v":"#N/A"},{"$f":"VLOOKUP(A392,'Copy of Export'!$A$2:$AF2393,8,false)","v":"#N/A"}]
[null,{"$f":"VLOOKUP(A393,'Copy of Export'!$A$2:$AF2393,5,false)","v":"#N/A"},{"$f":"VLOOKUP(A393,'Copy of Export'!$A$2:$AF2393,13,false)","v":"#N/A"},{"$f":"VLOOKUP(A393,'Copy of Export'!$A$2:$AF2393,2,false)","v":"#N/A"},{"$f":"VLOOKUP(A393,'Copy of Export'!$A$2:$AF2393,5,false)","v":"#N/A"},{"$f":"VLOOKUP(A393,'Copy of Export'!$A$2:$AF2393,8,false)","v":"#N/A"}]
[null,{"$f":"VLOOKUP(A394,'Copy of Export'!$A$2:$AF2393,5,false)","v":"#N/A"},{"$f":"VLOOKUP(A394,'Copy of Export'!$A$2:$AF2393,13,false)","v":"#N/A"},{"$f":"VLOOKUP(A394,'Copy of Export'!$A$2:$AF2393,2,false)","v":"#N/A"},{"$f":"VLOOKUP(A394,'Copy of Export'!$A$2:$AF2393,5,false)","v":"#N/A"},{"$f":"VLOOKUP(A394,'Copy of Export'!$A$2:$AF2393,8,false)","v":"#N/A"}]
[null,{"$f":"VLOOKUP(A395,'Copy of Export'!$A$2:$AF2393,5,false)","v":"#N/A"},{"$f":"VLOOKUP(A395,'Copy of Export'!$A$2:$AF2393,13,false)","v":"#N/A"},{"$f":"VLOOKUP(A395,'Copy of Export'!$A$2:$AF2393,2,false)","v":"#N/A"},{"$f":"VLOOKUP(A395,'Copy of Export'!$A$2:$AF2393,5,false)","v":"#N/A"},{"$f":"VLOOKUP(A395,'Copy of Export'!$A$2:$AF2393,8,false)","v":"#N/A"}]
[null,{"$f":"VLOOKUP(A396,'Copy of Export'!$A$2:$AF2393,5,false)","v":"#N/A"},{"$f":"VLOOKUP(A396,'Copy of Export'!$A$2:$AF2393,13,false)","v":"#N/A"},{"$f":"VLOOKUP(A396,'Copy of Export'!$A$2:$AF2393,2,false)","v":"#N/A"},{"$f":"VLOOKUP(A396,'Copy of Export'!$A$2:$AF2393,5,false)","v":"#N/A"},{"$f":"VLOOKUP(A396,'Copy of Export'!$A$2:$AF2393,8,false)","v":"#N/A"}]
[null,{"$f":"VLOOKUP(A397,'Copy of Export'!$A$2:$AF2393,5,false)","v":"#N/A"},{"$f":"VLOOKUP(A397,'Copy of Export'!$A$2:$AF2393,13,false)","v":"#N/A"},{"$f":"VLOOKUP(A397,'Copy of Export'!$A$2:$AF2393,2,false)","v":"#N/A"},{"$f":"VLOOKUP(A397,'Copy of Export'!$A$2:$AF2393,5,false)","v":"#N/A"},{"$f":"VLOOKUP(A397,'Copy of Export'!$A$2:$AF2393,8,false)","v":"#N/A"}]
[null,{"$f":"VLOOKUP(A398,'Copy of Export'!$A$2:$AF2393,5,false)","v":"#N/A"},{"$f":"VLOOKUP(A398,'Copy of Export'!$A$2:$AF2393,13,false)","v":"#N/A"},{"$f":"VLOOKUP(A398,'Copy of Export'!$A$2:$AF2393,2,false)","v":"#N/A"},{"$f":"VLOOKUP(A398,'Copy of Export'!$A$2:$AF2393,5,false)","v":"#N/A"},{"$f":"VLOOKUP(A398,'Copy of Export'!$A$2:$AF2393,8,false)","v":"#N/A"}]
[null,{"$f":"VLOOKUP(A399,'Copy of Export'!$A$2:$AF2393,5,false)","v":"#N/A"},{"$f":"VLOOKUP(A399,'Copy of Export'!$A$2:$AF2393,13,false)","v":"#N/A"},{"$f":"VLOOKUP(A399,'Copy of Export'!$A$2:$AF2393,2,false)","v":"#N/A"},{"$f":"VLOOKUP(A399,'Copy of Export'!$A$2:$AF2393,5,false)","v":"#N/A"},{"$f":"VLOOKUP(A399,'Copy of Export'!$A$2:$AF2393,8,false)","v":"#N/A"}]
[null,{"$f":"VLOOKUP(A400,'Copy of Export'!$A$2:$AF2393,5,false)","v":"#N/A"},{"$f":"VLOOKUP(A400,'Copy of Export'!$A$2:$AF2393,13,false)","v":"#N/A"},{"$f":"VLOOKUP(A400,'Copy of Export'!$A$2:$AF2393,2,false)","v":"#N/A"},{"$f":"VLOOKUP(A400,'Copy of Export'!$A$2:$AF2393,5,false)","v":"#N/A"},{"$f":"VLOOKUP(A400,'Copy of Export'!$A$2:$AF2393,8,false)","v":"#N/A"}]
[null,{"$f":"VLOOKUP(A401,'Copy of Export'!$A$2:$AF2393,5,false)","v":"#N/A"},{"$f":"VLOOKUP(A401,'Copy of Export'!$A$2:$AF2393,13,false)","v":"#N/A"},{"$f":"VLOOKUP(A401,'Copy of Export'!$A$2:$AF2393,2,false)","v":"#N/A"},{"$f":"VLOOKUP(A401,'Copy of Export'!$A$2:$AF2393,5,false)","v":"#N/A"},{"$f":"VLOOKUP(A401,'Copy of Export'!$A$2:$AF2393,8,false)","v":"#N/A"}]
[null,{"$f":"VLOOKUP(A402,'Copy of Export'!$A$2:$AF2393,5,false)","v":"#N/A"},{"$f":"VLOOKUP(A402,'Copy of Export'!$A$2:$AF2393,13,false)","v":"#N/A"},{"$f":"VLOOKUP(A402,'Copy of Export'!$A$2:$AF2393,2,false)","v":"#N/A"},{"$f":"VLOOKUP(A402,'Copy of Export'!$A$2:$AF2393,5,false)","v":"#N/A"},{"$f":"VLOOKUP(A402,'Copy of Export'!$A$2:$AF2393,8,false)","v":"#N/A"}]
[null,{"$f":"VLOOKUP(A403,'Copy of Export'!$A$2:$AF2393,5,false)","v":"#N/A"},{"$f":"VLOOKUP(A403,'Copy of Export'!$A$2:$AF2393,13,false)","v":"#N/A"},{"$f":"VLOOKUP(A403,'Copy of Export'!$A$2:$AF2393,2,false)","v":"#N/A"},{"$f":"VLOOKUP(A403,'Copy of Export'!$A$2:$AF2393,5,false)","v":"#N/A"},{"$f":"VLOOKUP(A403,'Copy of Export'!$A$2:$AF2393,8,false)","v":"#N/A"}]
[null,{"$f":"VLOOKUP(A404,'Copy of Export'!$A$2:$AF2393,5,false)","v":"#N/A"},{"$f":"VLOOKUP(A404,'Copy of Export'!$A$2:$AF2393,13,false)","v":"#N/A"},{"$f":"VLOOKUP(A404,'Copy of Export'!$A$2:$AF2393,2,false)","v":"#N/A"},{"$f":"VLOOKUP(A404,'Copy of Export'!$A$2:$AF2393,5,false)","v":"#N/A"},{"$f":"VLOOKUP(A404,'Copy of Export'!$A$2:$AF2393,8,false)","v":"#N/A"}]
[null,{"$f":"VLOOKUP(A405,'Copy of Export'!$A$2:$AF2393,5,false)","v":"#N/A"},{"$f":"VLOOKUP(A405,'Copy of Export'!$A$2:$AF2393,13,false)","v":"#N/A"},{"$f":"VLOOKUP(A405,'Copy of Export'!$A$2:$AF2393,2,false)","v":"#N/A"},{"$f":"VLOOKUP(A405,'Copy of Export'!$A$2:$AF2393,5,false)","v":"#N/A"},{"$f":"VLOOKUP(A405,'Copy of Export'!$A$2:$AF2393,8,false)","v":"#N/A"}]
[null,{"$f":"VLOOKUP(A406,'Copy of Export'!$A$2:$AF2393,5,false)","v":"#N/A"},{"$f":"VLOOKUP(A406,'Copy of Export'!$A$2:$AF2393,13,false)","v":"#N/A"},{"$f":"VLOOKUP(A406,'Copy of Export'!$A$2:$AF2393,2,false)","v":"#N/A"},{"$f":"VLOOKUP(A406,'Copy of Export'!$A$2:$AF2393,5,false)","v":"#N/A"},{"$f":"VLOOKUP(A406,'Copy of Export'!$A$2:$AF2393,8,false)","v":"#N/A"}]
[null,{"$f":"VLOOKUP(A407,'Copy of Export'!$A$2:$AF2393,5,false)","v":"#N/A"},{"$f":"VLOOKUP(A407,'Copy of Export'!$A$2:$AF2393,13,false)","v":"#N/A"},{"$f":"VLOOKUP(A407,'Copy of Export'!$A$2:$AF2393,2,false)","v":"#N/A"},{"$f":"VLOOKUP(A407,'Copy of Export'!$A$2:$AF2393,5,false)","v":"#N/A"},{"$f":"VLOOKUP(A407,'Copy of Export'!$A$2:$AF2393,8,false)","v":"#N/A"}]
[null,{"$f":"VLOOKUP(A408,'Copy of Export'!$A$2:$AF2393,5,false)","v":"#N/A"},{"$f":"VLOOKUP(A408,'Copy of Export'!$A$2:$AF2393,13,false)","v":"#N/A"},{"$f":"VLOOKUP(A408,'Copy of Export'!$A$2:$AF2393,2,false)","v":"#N/A"},{"$f":"VLOOKUP(A408,'Copy of Export'!$A$2:$AF2393,5,false)","v":"#N/A"},{"$f":"VLOOKUP(A408,'Copy of Export'!$A$2:$AF2393,8,false)","v":"#N/A"}]
[null,{"$f":"VLOOKUP(A409,'Copy of Export'!$A$2:$AF2393,5,false)","v":"#N/A"},{"$f":"VLOOKUP(A409,'Copy of Export'!$A$2:$AF2393,13,false)","v":"#N/A"},{"$f":"VLOOKUP(A409,'Copy of Export'!$A$2:$AF2393,2,false)","v":"#N/A"},{"$f":"VLOOKUP(A409,'Copy of Export'!$A$2:$AF2393,5,false)","v":"#N/A"},{"$f":"VLOOKUP(A409,'Copy of Export'!$A$2:$AF2393,8,false)","v":"#N/A"}]
[null,{"$f":"VLOOKUP(A410,'Copy of Export'!$A$2:$AF2393,5,false)","v":"#N/A"},{"$f":"VLOOKUP(A410,'Copy of Export'!$A$2:$AF2393,13,false)","v":"#N/A"},{"$f":"VLOOKUP(A410,'Copy of Export'!$A$2:$AF2393,2,false)","v":"#N/A"},{"$f":"VLOOKUP(A410,'Copy of Export'!$A$2:$AF2393,5,false)","v":"#N/A"},{"$f":"VLOOKUP(A410,'Copy of Export'!$A$2:$AF2393,8,false)","v":"#N/A"}]
[null,{"$f":"VLOOKUP(A411,'Copy of Export'!$A$2:$AF2393,5,false)","v":"#N/A"},{"$f":"VLOOKUP(A411,'Copy of Export'!$A$2:$AF2393,13,false)","v":"#N/A"},{"$f":"VLOOKUP(A411,'Copy of Export'!$A$2:$AF2393,2,false)","v":"#N/A"},{"$f":"VLOOKUP(A411,'Copy of Export'!$A$2:$AF2393,5,false)","v":"#N/A"},{"$f":"VLOOKUP(A411,'Copy of Export'!$A$2:$AF2393,8,false)","v":"#N/A"}]
[null,{"$f":"VLOOKUP(A412,'Copy of Export'!$A$2:$AF2393,5,false)","v":"#N/A"},{"$f":"VLOOKUP(A412,'Copy of Export'!$A$2:$AF2393,13,false)","v":"#N/A"},{"$f":"VLOOKUP(A412,'Copy of Export'!$A$2:$AF2393,2,false)","v":"#N/A"},{"$f":"VLOOKUP(A412,'Copy of Export'!$A$2:$AF2393,5,false)","v":"#N/A"},{"$f":"VLOOKUP(A412,'Copy of Export'!$A$2:$AF2393,8,false)","v":"#N/A"}]
[null,{"$f":"VLOOKUP(A413,'Copy of Export'!$A$2:$AF2393,5,false)","v":"#N/A"},{"$f":"VLOOKUP(A413,'Copy of Export'!$A$2:$AF2393,13,false)","v":"#N/A"},{"$f":"VLOOKUP(A413,'Copy of Export'!$A$2:$AF2393,2,false)","v":"#N/A"},{"$f":"VLOOKUP(A413,'Copy of Export'!$A$2:$AF2393,5,false)","v":"#N/A"},{"$f":"VLOOKUP(A413,'Copy of Export'!$A$2:$AF2393,8,false)","v":"#N/A"}]
[null,{"$f":"VLOOKUP(A414,'Copy of Export'!$A$2:$AF2393,5,false)","v":"#N/A"},{"$f":"VLOOKUP(A414,'Copy of Export'!$A$2:$AF2393,13,false)","v":"#N/A"},{"$f":"VLOOKUP(A414,'Copy of Export'!$A$2:$AF2393,2,false)","v":"#N/A"},{"$f":"VLOOKUP(A414,'Copy of Export'!$A$2:$AF2393,5,false)","v":"#N/A"},{"$f":"VLOOKUP(A414,'Copy of Export'!$A$2:$AF2393,8,false)","v":"#N/A"}]
[null,{"$f":"VLOOKUP(A415,'Copy of Export'!$A$2:$AF2393,5,false)","v":"#N/A"},{"$f":"VLOOKUP(A415,'Copy of Export'!$A$2:$AF2393,13,false)","v":"#N/A"},{"$f":"VLOOKUP(A415,'Copy of Export'!$A$2:$AF2393,2,false)","v":"#N/A"},{"$f":"VLOOKUP(A415,'Copy of Export'!$A$2:$AF2393,5,false)","v":"#N/A"},{"$f":"VLOOKUP(A415,'Copy of Export'!$A$2:$AF2393,8,false)","v":"#N/A"}]
[null,{"$f":"VLOOKUP(A416,'Copy of Export'!$A$2:$AF2393,5,false)","v":"#N/A"},{"$f":"VLOOKUP(A416,'Copy of Export'!$A$2:$AF2393,13,false)","v":"#N/A"},{"$f":"VLOOKUP(A416,'Copy of Export'!$A$2:$AF2393,2,false)","v":"#N/A"},{"$f":"VLOOKUP(A416,'Copy of Export'!$A$2:$AF2393,5,false)","v":"#N/A"},{"$f":"VLOOKUP(A416,'Copy of Export'!$A$2:$AF2393,8,false)","v":"#N/A"}]
[null,{"$f":"VLOOKUP(A417,'Copy of Export'!$A$2:$AF2393,5,false)","v":"#N/A"},{"$f":"VLOOKUP(A417,'Copy of Export'!$A$2:$AF2393,13,false)","v":"#N/A"},{"$f":"VLOOKUP(A417,'Copy of Export'!$A$2:$AF2393,2,false)","v":"#N/A"},{"$f":"VLOOKUP(A417,'Copy of Export'!$A$2:$AF2393,5,false)","v":"#N/A"},{"$f":"VLOOKUP(A417,'Copy of Export'!$A$2:$AF2393,8,false)","v":"#N/A"}]
[null,{"$f":"VLOOKUP(A418,'Copy of Export'!$A$2:$AF2393,5,false)","v":"#N/A"},{"$f":"VLOOKUP(A418,'Copy of Export'!$A$2:$AF2393,13,false)","v":"#N/A"},{"$f":"VLOOKUP(A418,'Copy of Export'!$A$2:$AF2393,2,false)","v":"#N/A"},{"$f":"VLOOKUP(A418,'Copy of Export'!$A$2:$AF2393,5,false)","v":"#N/A"},{"$f":"VLOOKUP(A418,'Copy of Export'!$A$2:$AF2393,8,false)","v":"#N/A"}]
[null,{"$f":"VLOOKUP(A419,'Copy of Export'!$A$2:$AF2393,5,false)","v":"#N/A"},{"$f":"VLOOKUP(A419,'Copy of Export'!$A$2:$AF2393,13,false)","v":"#N/A"},{"$f":"VLOOKUP(A419,'Copy of Export'!$A$2:$AF2393,2,false)","v":"#N/A"},{"$f":"VLOOKUP(A419,'Copy of Export'!$A$2:$AF2393,5,false)","v":"#N/A"},{"$f":"VLOOKUP(A419,'Copy of Export'!$A$2:$AF2393,8,false)","v":"#N/A"}]
[null,{"$f":"VLOOKUP(A420,'Copy of Export'!$A$2:$AF2393,5,false)","v":"#N/A"},{"$f":"VLOOKUP(A420,'Copy of Export'!$A$2:$AF2393,13,false)","v":"#N/A"},{"$f":"VLOOKUP(A420,'Copy of Export'!$A$2:$AF2393,2,false)","v":"#N/A"},{"$f":"VLOOKUP(A420,'Copy of Export'!$A$2:$AF2393,5,false)","v":"#N/A"},{"$f":"VLOOKUP(A420,'Copy of Export'!$A$2:$AF2393,8,false)","v":"#N/A"}]
[null,{"$f":"VLOOKUP(A421,'Copy of Export'!$A$2:$AF2393,5,false)","v":"#N/A"},{"$f":"VLOOKUP(A421,'Copy of Export'!$A$2:$AF2393,13,false)","v":"#N/A"},{"$f":"VLOOKUP(A421,'Copy of Export'!$A$2:$AF2393,2,false)","v":"#N/A"},{"$f":"VLOOKUP(A421,'Copy of Export'!$A$2:$AF2393,5,false)","v":"#N/A"},{"$f":"VLOOKUP(A421,'Copy of Export'!$A$2:$AF2393,8,false)","v":"#N/A"}]
[null,{"$f":"VLOOKUP(A422,'Copy of Export'!$A$2:$AF2393,5,false)","v":"#N/A"},{"$f":"VLOOKUP(A422,'Copy of Export'!$A$2:$AF2393,13,false)","v":"#N/A"},{"$f":"VLOOKUP(A422,'Copy of Export'!$A$2:$AF2393,2,false)","v":"#N/A"},{"$f":"VLOOKUP(A422,'Copy of Export'!$A$2:$AF2393,5,false)","v":"#N/A"},{"$f":"VLOOKUP(A422,'Copy of Export'!$A$2:$AF2393,8,false)","v":"#N/A"}]
[null,{"$f":"VLOOKUP(A423,'Copy of Export'!$A$2:$AF2393,5,false)","v":"#N/A"},{"$f":"VLOOKUP(A423,'Copy of Export'!$A$2:$AF2393,13,false)","v":"#N/A"},{"$f":"VLOOKUP(A423,'Copy of Export'!$A$2:$AF2393,2,false)","v":"#N/A"},{"$f":"VLOOKUP(A423,'Copy of Export'!$A$2:$AF2393,5,false)","v":"#N/A"},{"$f":"VLOOKUP(A423,'Copy of Export'!$A$2:$AF2393,8,false)","v":"#N/A"}]
[null,{"$f":"VLOOKUP(A424,'Copy of Export'!$A$2:$AF2393,5,false)","v":"#N/A"},{"$f":"VLOOKUP(A424,'Copy of Export'!$A$2:$AF2393,13,false)","v":"#N/A"},{"$f":"VLOOKUP(A424,'Copy of Export'!$A$2:$AF2393,2,false)","v":"#N/A"},{"$f":"VLOOKUP(A424,'Copy of Export'!$A$2:$AF2393,5,false)","v":"#N/A"},{"$f":"VLOOKUP(A424,'Copy of Export'!$A$2:$AF2393,8,false)","v":"#N/A"}]
[null,{"$f":"VLOOKUP(A425,'Copy of Export'!$A$2:$AF2393,5,false)","v":"#N/A"},{"$f":"VLOOKUP(A425,'Copy of Export'!$A$2:$AF2393,13,false)","v":"#N/A"},{"$f":"VLOOKUP(A425,'Copy of Export'!$A$2:$AF2393,2,false)","v":"#N/A"},{"$f":"VLOOKUP(A425,'Copy of Export'!$A$2:$AF2393,5,false)","v":"#N/A"},{"$f":"VLOOKUP(A425,'Copy of Export'!$A$2:$AF2393,8,false)","v":"#N/A"}]
[null,{"$f":"VLOOKUP(A426,'Copy of Export'!$A$2:$AF2393,5,false)","v":"#N/A"},{"$f":"VLOOKUP(A426,'Copy of Export'!$A$2:$AF2393,13,false)","v":"#N/A"},{"$f":"VLOOKUP(A426,'Copy of Export'!$A$2:$AF2393,2,false)","v":"#N/A"},{"$f":"VLOOKUP(A426,'Copy of Export'!$A$2:$AF2393,5,false)","v":"#N/A"},{"$f":"VLOOKUP(A426,'Copy of Export'!$A$2:$AF2393,8,false)","v":"#N/A"}]
[null,{"$f":"VLOOKUP(A427,'Copy of Export'!$A$2:$AF2393,5,false)","v":"#N/A"},{"$f":"VLOOKUP(A427,'Copy of Export'!$A$2:$AF2393,13,false)","v":"#N/A"},{"$f":"VLOOKUP(A427,'Copy of Export'!$A$2:$AF2393,2,false)","v":"#N/A"},{"$f":"VLOOKUP(A427,'Copy of Export'!$A$2:$AF2393,5,false)","v":"#N/A"},{"$f":"VLOOKUP(A427,'Copy of Export'!$A$2:$AF2393,8,false)","v":"#N/A"}]
[null,{"$f":"VLOOKUP(A428,'Copy of Export'!$A$2:$AF2393,5,false)","v":"#N/A"},{"$f":"VLOOKUP(A428,'Copy of Export'!$A$2:$AF2393,13,false)","v":"#N/A"},{"$f":"VLOOKUP(A428,'Copy of Export'!$A$2:$AF2393,2,false)","v":"#N/A"},{"$f":"VLOOKUP(A428,'Copy of Export'!$A$2:$AF2393,5,false)","v":"#N/A"},{"$f":"VLOOKUP(A428,'Copy of Export'!$A$2:$AF2393,8,false)","v":"#N/A"}]
[null,{"$f":"VLOOKUP(A429,'Copy of Export'!$A$2:$AF2393,5,false)","v":"#N/A"},{"$f":"VLOOKUP(A429,'Copy of Export'!$A$2:$AF2393,13,false)","v":"#N/A"},{"$f":"VLOOKUP(A429,'Copy of Export'!$A$2:$AF2393,2,false)","v":"#N/A"},{"$f":"VLOOKUP(A429,'Copy of Export'!$A$2:$AF2393,5,false)","v":"#N/A"},{"$f":"VLOOKUP(A429,'Copy of Export'!$A$2:$AF2393,8,false)","v":"#N/A"}]
[null,{"$f":"VLOOKUP(A430,'Copy of Export'!$A$2:$AF2393,5,false)","v":"#N/A"},{"$f":"VLOOKUP(A430,'Copy of Export'!$A$2:$AF2393,13,false)","v":"#N/A"},{"$f":"VLOOKUP(A430,'Copy of Export'!$A$2:$AF2393,2,false)","v":"#N/A"},{"$f":"VLOOKUP(A430,'Copy of Export'!$A$2:$AF2393,5,false)","v":"#N/A"},{"$f":"VLOOKUP(A430,'Copy of Export'!$A$2:$AF2393,8,false)","v":"#N/A"}]
[null,{"$f":"VLOOKUP(A431,'Copy of Export'!$A$2:$AF2393,5,false)","v":"#N/A"},{"$f":"VLOOKUP(A431,'Copy of Export'!$A$2:$AF2393,13,false)","v":"#N/A"},{"$f":"VLOOKUP(A431,'Copy of Export'!$A$2:$AF2393,2,false)","v":"#N/A"},{"$f":"VLOOKUP(A431,'Copy of Export'!$A$2:$AF2393,5,false)","v":"#N/A"},{"$f":"VLOOKUP(A431,'Copy of Export'!$A$2:$AF2393,8,false)","v":"#N/A"}]
[null,{"$f":"VLOOKUP(A432,'Copy of Export'!$A$2:$AF2393,5,false)","v":"#N/A"},{"$f":"VLOOKUP(A432,'Copy of Export'!$A$2:$AF2393,13,false)","v":"#N/A"},{"$f":"VLOOKUP(A432,'Copy of Export'!$A$2:$AF2393,2,false)","v":"#N/A"},{"$f":"VLOOKUP(A432,'Copy of Export'!$A$2:$AF2393,5,false)","v":"#N/A"},{"$f":"VLOOKUP(A432,'Copy of Export'!$A$2:$AF2393,8,false)","v":"#N/A"}]
[null,{"$f":"VLOOKUP(A433,'Copy of Export'!$A$2:$AF2393,5,false)","v":"#N/A"},{"$f":"VLOOKUP(A433,'Copy of Export'!$A$2:$AF2393,13,false)","v":"#N/A"},{"$f":"VLOOKUP(A433,'Copy of Export'!$A$2:$AF2393,2,false)","v":"#N/A"},{"$f":"VLOOKUP(A433,'Copy of Export'!$A$2:$AF2393,5,false)","v":"#N/A"},{"$f":"VLOOKUP(A433,'Copy of Export'!$A$2:$AF2393,8,false)","v":"#N/A"}]
[null,{"$f":"VLOOKUP(A434,'Copy of Export'!$A$2:$AF2393,5,false)","v":"#N/A"},{"$f":"VLOOKUP(A434,'Copy of Export'!$A$2:$AF2393,13,false)","v":"#N/A"},{"$f":"VLOOKUP(A434,'Copy of Export'!$A$2:$AF2393,2,false)","v":"#N/A"},{"$f":"VLOOKUP(A434,'Copy of Export'!$A$2:$AF2393,5,false)","v":"#N/A"},{"$f":"VLOOKUP(A434,'Copy of Export'!$A$2:$AF2393,8,false)","v":"#N/A"}]
[null,{"$f":"VLOOKUP(A435,'Copy of Export'!$A$2:$AF2393,5,false)","v":"#N/A"},{"$f":"VLOOKUP(A435,'Copy of Export'!$A$2:$AF2393,13,false)","v":"#N/A"},{"$f":"VLOOKUP(A435,'Copy of Export'!$A$2:$AF2393,2,false)","v":"#N/A"},{"$f":"VLOOKUP(A435,'Copy of Export'!$A$2:$AF2393,5,false)","v":"#N/A"},{"$f":"VLOOKUP(A435,'Copy of Export'!$A$2:$AF2393,8,false)","v":"#N/A"}]
[null,{"$f":"VLOOKUP(A436,'Copy of Export'!$A$2:$AF2393,5,false)","v":"#N/A"},{"$f":"VLOOKUP(A436,'Copy of Export'!$A$2:$AF2393,13,false)","v":"#N/A"},{"$f":"VLOOKUP(A436,'Copy of Export'!$A$2:$AF2393,2,false)","v":"#N/A"},{"$f":"VLOOKUP(A436,'Copy of Export'!$A$2:$AF2393,5,false)","v":"#N/A"},{"$f":"VLOOKUP(A436,'Copy of Export'!$A$2:$AF2393,8,false)","v":"#N/A"}]
[null,{"$f":"VLOOKUP(A437,'Copy of Export'!$A$2:$AF2393,5,false)","v":"#N/A"},{"$f":"VLOOKUP(A437,'Copy of Export'!$A$2:$AF2393,13,false)","v":"#N/A"},{"$f":"VLOOKUP(A437,'Copy of Export'!$A$2:$AF2393,2,false)","v":"#N/A"},{"$f":"VLOOKUP(A437,'Copy of Export'!$A$2:$AF2393,5,false)","v":"#N/A"},{"$f":"VLOOKUP(A437,'Copy of Export'!$A$2:$AF2393,8,false)","v":"#N/A"}]
[null,{"$f":"VLOOKUP(A438,'Copy of Export'!$A$2:$AF2393,5,false)","v":"#N/A"},{"$f":"VLOOKUP(A438,'Copy of Export'!$A$2:$AF2393,13,false)","v":"#N/A"},{"$f":"VLOOKUP(A438,'Copy of Export'!$A$2:$AF2393,2,false)","v":"#N/A"},{"$f":"VLOOKUP(A438,'Copy of Export'!$A$2:$AF2393,5,false)","v":"#N/A"},{"$f":"VLOOKUP(A438,'Copy of Export'!$A$2:$AF2393,8,false)","v":"#N/A"}]
[null,{"$f":"VLOOKUP(A439,'Copy of Export'!$A$2:$AF2393,5,false)","v":"#N/A"},{"$f":"VLOOKUP(A439,'Copy of Export'!$A$2:$AF2393,13,false)","v":"#N/A"},{"$f":"VLOOKUP(A439,'Copy of Export'!$A$2:$AF2393,2,false)","v":"#N/A"},{"$f":"VLOOKUP(A439,'Copy of Export'!$A$2:$AF2393,5,false)","v":"#N/A"},{"$f":"VLOOKUP(A439,'Copy of Export'!$A$2:$AF2393,8,false)","v":"#N/A"}]
[null,{"$f":"VLOOKUP(A440,'Copy of Export'!$A$2:$AF2393,5,false)","v":"#N/A"},{"$f":"VLOOKUP(A440,'Copy of Export'!$A$2:$AF2393,13,false)","v":"#N/A"},{"$f":"VLOOKUP(A440,'Copy of Export'!$A$2:$AF2393,2,false)","v":"#N/A"},{"$f":"VLOOKUP(A440,'Copy of Export'!$A$2:$AF2393,5,false)","v":"#N/A"},{"$f":"VLOOKUP(A440,'Copy of Export'!$A$2:$AF2393,8,false)","v":"#N/A"}]
[null,{"$f":"VLOOKUP(A441,'Copy of Export'!$A$2:$AF2393,5,false)","v":"#N/A"},{"$f":"VLOOKUP(A441,'Copy of Export'!$A$2:$AF2393,13,false)","v":"#N/A"},{"$f":"VLOOKUP(A441,'Copy of Export'!$A$2:$AF2393,2,false)","v":"#N/A"},{"$f":"VLOOKUP(A441,'Copy of Export'!$A$2:$AF2393,5,false)","v":"#N/A"},{"$f":"VLOOKUP(A441,'Copy of Export'!$A$2:$AF2393,8,false)","v":"#N/A"}]
[null,{"$f":"VLOOKUP(A442,'Copy of Export'!$A$2:$AF2393,5,false)","v":"#N/A"},{"$f":"VLOOKUP(A442,'Copy of Export'!$A$2:$AF2393,13,false)","v":"#N/A"},{"$f":"VLOOKUP(A442,'Copy of Export'!$A$2:$AF2393,2,false)","v":"#N/A"},{"$f":"VLOOKUP(A442,'Copy of Export'!$A$2:$AF2393,5,false)","v":"#N/A"},{"$f":"VLOOKUP(A442,'Copy of Export'!$A$2:$AF2393,8,false)","v":"#N/A"}]
[null,{"$f":"VLOOKUP(A443,'Copy of Export'!$A$2:$AF2393,5,false)","v":"#N/A"},{"$f":"VLOOKUP(A443,'Copy of Export'!$A$2:$AF2393,13,false)","v":"#N/A"},{"$f":"VLOOKUP(A443,'Copy of Export'!$A$2:$AF2393,2,false)","v":"#N/A"},{"$f":"VLOOKUP(A443,'Copy of Export'!$A$2:$AF2393,5,false)","v":"#N/A"},{"$f":"VLOOKUP(A443,'Copy of Export'!$A$2:$AF2393,8,false)","v":"#N/A"}]
[null,{"$f":"VLOOKUP(A444,'Copy of Export'!$A$2:$AF2393,5,false)","v":"#N/A"},{"$f":"VLOOKUP(A444,'Copy of Export'!$A$2:$AF2393,13,false)","v":"#N/A"},{"$f":"VLOOKUP(A444,'Copy of Export'!$A$2:$AF2393,2,false)","v":"#N/A"},{"$f":"VLOOKUP(A444,'Copy of Export'!$A$2:$AF2393,5,false)","v":"#N/A"},{"$f":"VLOOKUP(A444,'Copy of Export'!$A$2:$AF2393,8,false)","v":"#N/A"}]
[null,{"$f":"VLOOKUP(A445,'Copy of Export'!$A$2:$AF2393,5,false)","v":"#N/A"},{"$f":"VLOOKUP(A445,'Copy of Export'!$A$2:$AF2393,13,false)","v":"#N/A"},{"$f":"VLOOKUP(A445,'Copy of Export'!$A$2:$AF2393,2,false)","v":"#N/A"},{"$f":"VLOOKUP(A445,'Copy of Export'!$A$2:$AF2393,5,false)","v":"#N/A"},{"$f":"VLOOKUP(A445,'Copy of Export'!$A$2:$AF2393,8,false)","v":"#N/A"}]
[null,{"$f":"VLOOKUP(A446,'Copy of Export'!$A$2:$AF2393,5,false)","v":"#N/A"},{"$f":"VLOOKUP(A446,'Copy of Export'!$A$2:$AF2393,13,false)","v":"#N/A"},{"$f":"VLOOKUP(A446,'Copy of Export'!$A$2:$AF2393,2,false)","v":"#N/A"},{"$f":"VLOOKUP(A446,'Copy of Export'!$A$2:$AF2393,5,false)","v":"#N/A"},{"$f":"VLOOKUP(A446,'Copy of Export'!$A$2:$AF2393,8,false)","v":"#N/A"}]
[null,{"$f":"VLOOKUP(A447,'Copy of Export'!$A$2:$AF2393,5,false)","v":"#N/A"},{"$f":"VLOOKUP(A447,'Copy of Export'!$A$2:$AF2393,13,false)","v":"#N/A"},{"$f":"VLOOKUP(A447,'Copy of Export'!$A$2:$AF2393,2,false)","v":"#N/A"},{"$f":"VLOOKUP(A447,'Copy of Export'!$A$2:$AF2393,5,false)","v":"#N/A"},{"$f":"VLOOKUP(A447,'Copy of Export'!$A$2:$AF2393,8,false)","v":"#N/A"}]
[null,{"$f":"VLOOKUP(A448,'Copy of Export'!$A$2:$AF2393,5,false)","v":"#N/A"},{"$f":"VLOOKUP(A448,'Copy of Export'!$A$2:$AF2393,13,false)","v":"#N/A"},{"$f":"VLOOKUP(A448,'Copy of Export'!$A$2:$AF2393,2,false)","v":"#N/A"},{"$f":"VLOOKUP(A448,'Copy of Export'!$A$2:$AF2393,5,false)","v":"#N/A"},{"$f":"VLOOKUP(A448,'Copy of Export'!$A$2:$AF2393,8,false)","v":"#N/A"}]
[null,{"$f":"VLOOKUP(A449,'Copy of Export'!$A$2:$AF2393,5,false)","v":"#N/A"},{"$f":"VLOOKUP(A449,'Copy of Export'!$A$2:$AF2393,13,false)","v":"#N/A"},{"$f":"VLOOKUP(A449,'Copy of Export'!$A$2:$AF2393,2,false)","v":"#N/A"},{"$f":"VLOOKUP(A449,'Copy of Export'!$A$2:$AF2393,5,false)","v":"#N/A"},{"$f":"VLOOKUP(A449,'Copy of Export'!$A$2:$AF2393,8,false)","v":"#N/A"}]
[null,{"$f":"VLOOKUP(A450,'Copy of Export'!$A$2:$AF2393,5,false)","v":"#N/A"},{"$f":"VLOOKUP(A450,'Copy of Export'!$A$2:$AF2393,13,false)","v":"#N/A"},{"$f":"VLOOKUP(A450,'Copy of Export'!$A$2:$AF2393,2,false)","v":"#N/A"},{"$f":"VLOOKUP(A450,'Copy of Export'!$A$2:$AF2393,5,false)","v":"#N/A"},{"$f":"VLOOKUP(A450,'Copy of Export'!$A$2:$AF2393,8,false)","v":"#N/A"}]
[null,{"$f":"VLOOKUP(A451,'Copy of Export'!$A$2:$AF2393,5,false)","v":"#N/A"},{"$f":"VLOOKUP(A451,'Copy of Export'!$A$2:$AF2393,13,false)","v":"#N/A"},{"$f":"VLOOKUP(A451,'Copy of Export'!$A$2:$AF2393,2,false)","v":"#N/A"},{"$f":"VLOOKUP(A451,'Copy of Export'!$A$2:$AF2393,5,false)","v":"#N/A"},{"$f":"VLOOKUP(A451,'Copy of Export'!$A$2:$AF2393,8,false)","v":"#N/A"}]
[null,{"$f":"VLOOKUP(A452,'Copy of Export'!$A$2:$AF2393,5,false)","v":"#N/A"},{"$f":"VLOOKUP(A452,'Copy of Export'!$A$2:$AF2393,13,false)","v":"#N/A"},{"$f":"VLOOKUP(A452,'Copy of Export'!$A$2:$AF2393,2,false)","v":"#N/A"},{"$f":"VLOOKUP(A452,'Copy of Export'!$A$2:$AF2393,5,false)","v":"#N/A"},{"$f":"VLOOKUP(A452,'Copy of Export'!$A$2:$AF2393,8,false)","v":"#N/A"}]
[null,{"$f":"VLOOKUP(A453,'Copy of Export'!$A$2:$AF2393,5,false)","v":"#N/A"},{"$f":"VLOOKUP(A453,'Copy of Export'!$A$2:$AF2393,13,false)","v":"#N/A"},{"$f":"VLOOKUP(A453,'Copy of Export'!$A$2:$AF2393,2,false)","v":"#N/A"},{"$f":"VLOOKUP(A453,'Copy of Export'!$A$2:$AF2393,5,false)","v":"#N/A"},{"$f":"VLOOKUP(A453,'Copy of Export'!$A$2:$AF2393,8,false)","v":"#N/A"}]
[null,{"$f":"VLOOKUP(A454,'Copy of Export'!$A$2:$AF2393,5,false)","v":"#N/A"},{"$f":"VLOOKUP(A454,'Copy of Export'!$A$2:$AF2393,13,false)","v":"#N/A"},{"$f":"VLOOKUP(A454,'Copy of Export'!$A$2:$AF2393,2,false)","v":"#N/A"},{"$f":"VLOOKUP(A454,'Copy of Export'!$A$2:$AF2393,5,false)","v":"#N/A"},{"$f":"VLOOKUP(A454,'Copy of Export'!$A$2:$AF2393,8,false)","v":"#N/A"}]
[null,{"$f":"VLOOKUP(A455,'Copy of Export'!$A$2:$AF2393,5,false)","v":"#N/A"},{"$f":"VLOOKUP(A455,'Copy of Export'!$A$2:$AF2393,13,false)","v":"#N/A"},{"$f":"VLOOKUP(A455,'Copy of Export'!$A$2:$AF2393,2,false)","v":"#N/A"},{"$f":"VLOOKUP(A455,'Copy of Export'!$A$2:$AF2393,5,false)","v":"#N/A"},{"$f":"VLOOKUP(A455,'Copy of Export'!$A$2:$AF2393,8,false)","v":"#N/A"}]
[null,{"$f":"VLOOKUP(A456,'Copy of Export'!$A$2:$AF2393,5,false)","v":"#N/A"},{"$f":"VLOOKUP(A456,'Copy of Export'!$A$2:$AF2393,13,false)","v":"#N/A"},{"$f":"VLOOKUP(A456,'Copy of Export'!$A$2:$AF2393,2,false)","v":"#N/A"},{"$f":"VLOOKUP(A456,'Copy of Export'!$A$2:$AF2393,5,false)","v":"#N/A"},{"$f":"VLOOKUP(A456,'Copy of Export'!$A$2:$AF2393,8,false)","v":"#N/A"}]
[null,{"$f":"VLOOKUP(A457,'Copy of Export'!$A$2:$AF2393,5,false)","v":"#N/A"},{"$f":"VLOOKUP(A457,'Copy of Export'!$A$2:$AF2393,13,false)","v":"#N/A"},{"$f":"VLOOKUP(A457,'Copy of Export'!$A$2:$AF2393,2,false)","v":"#N/A"},{"$f":"VLOOKUP(A457,'Copy of Export'!$A$2:$AF2393,5,false)","v":"#N/A"},{"$f":"VLOOKUP(A457,'Copy of Export'!$A$2:$AF2393,8,false)","v":"#N/A"}]
[null,{"$f":"VLOOKUP(A458,'Copy of Export'!$A$2:$AF2393,5,false)","v":"#N/A"},{"$f":"VLOOKUP(A458,'Copy of Export'!$A$2:$AF2393,13,false)","v":"#N/A"},{"$f":"VLOOKUP(A458,'Copy of Export'!$A$2:$AF2393,2,false)","v":"#N/A"},{"$f":"VLOOKUP(A458,'Copy of Export'!$A$2:$AF2393,5,false)","v":"#N/A"},{"$f":"VLOOKUP(A458,'Copy of Export'!$A$2:$AF2393,8,false)","v":"#N/A"}]
[null,{"$f":"VLOOKUP(A459,'Copy of Export'!$A$2:$AF2393,5,false)","v":"#N/A"},{"$f":"VLOOKUP(A459,'Copy of Export'!$A$2:$AF2393,13,false)","v":"#N/A"},{"$f":"VLOOKUP(A459,'Copy of Export'!$A$2:$AF2393,2,false)","v":"#N/A"},{"$f":"VLOOKUP(A459,'Copy of Export'!$A$2:$AF2393,5,false)","v":"#N/A"},{"$f":"VLOOKUP(A459,'Copy of Export'!$A$2:$AF2393,8,false)","v":"#N/A"}]
[null,{"$f":"VLOOKUP(A460,'Copy of Export'!$A$2:$AF2393,5,false)","v":"#N/A"},{"$f":"VLOOKUP(A460,'Copy of Export'!$A$2:$AF2393,13,false)","v":"#N/A"},{"$f":"VLOOKUP(A460,'Copy of Export'!$A$2:$AF2393,2,false)","v":"#N/A"},{"$f":"VLOOKUP(A460,'Copy of Export'!$A$2:$AF2393,5,false)","v":"#N/A"},{"$f":"VLOOKUP(A460,'Copy of Export'!$A$2:$AF2393,8,false)","v":"#N/A"}]
[null,{"$f":"VLOOKUP(A461,'Copy of Export'!$A$2:$AF2393,5,false)","v":"#N/A"},{"$f":"VLOOKUP(A461,'Copy of Export'!$A$2:$AF2393,13,false)","v":"#N/A"},{"$f":"VLOOKUP(A461,'Copy of Export'!$A$2:$AF2393,2,false)","v":"#N/A"},{"$f":"VLOOKUP(A461,'Copy of Export'!$A$2:$AF2393,5,false)","v":"#N/A"},{"$f":"VLOOKUP(A461,'Copy of Export'!$A$2:$AF2393,8,false)","v":"#N/A"}]
[null,{"$f":"VLOOKUP(A462,'Copy of Export'!$A$2:$AF2393,5,false)","v":"#N/A"},{"$f":"VLOOKUP(A462,'Copy of Export'!$A$2:$AF2393,13,false)","v":"#N/A"},{"$f":"VLOOKUP(A462,'Copy of Export'!$A$2:$AF2393,2,false)","v":"#N/A"},{"$f":"VLOOKUP(A462,'Copy of Export'!$A$2:$AF2393,5,false)","v":"#N/A"},{"$f":"VLOOKUP(A462,'Copy of Export'!$A$2:$AF2393,8,false)","v":"#N/A"}]
[null,{"$f":"VLOOKUP(A463,'Copy of Export'!$A$2:$AF2393,5,false)","v":"#N/A"},{"$f":"VLOOKUP(A463,'Copy of Export'!$A$2:$AF2393,13,false)","v":"#N/A"},{"$f":"VLOOKUP(A463,'Copy of Export'!$A$2:$AF2393,2,false)","v":"#N/A"},{"$f":"VLOOKUP(A463,'Copy of Export'!$A$2:$AF2393,5,false)","v":"#N/A"},{"$f":"VLOOKUP(A463,'Copy of Export'!$A$2:$AF2393,8,false)","v":"#N/A"}]
[null,{"$f":"VLOOKUP(A464,'Copy of Export'!$A$2:$AF2393,5,false)","v":"#N/A"},{"$f":"VLOOKUP(A464,'Copy of Export'!$A$2:$AF2393,13,false)","v":"#N/A"},{"$f":"VLOOKUP(A464,'Copy of Export'!$A$2:$AF2393,2,false)","v":"#N/A"},{"$f":"VLOOKUP(A464,'Copy of Export'!$A$2:$AF2393,5,false)","v":"#N/A"},{"$f":"VLOOKUP(A464,'Copy of Export'!$A$2:$AF2393,8,false)","v":"#N/A"}]
[null,{"$f":"VLOOKUP(A465,'Copy of Export'!$A$2:$AF2393,5,false)","v":"#N/A"},{"$f":"VLOOKUP(A465,'Copy of Export'!$A$2:$AF2393,13,false)","v":"#N/A"},{"$f":"VLOOKUP(A465,'Copy of Export'!$A$2:$AF2393,2,false)","v":"#N/A"},{"$f":"VLOOKUP(A465,'Copy of Export'!$A$2:$AF2393,5,false)","v":"#N/A"},{"$f":"VLOOKUP(A465,'Copy of Export'!$A$2:$AF2393,8,false)","v":"#N/A"}]
[null,{"$f":"VLOOKUP(A466,'Copy of Export'!$A$2:$AF2393,5,false)","v":"#N/A"},{"$f":"VLOOKUP(A466,'Copy of Export'!$A$2:$AF2393,13,false)","v":"#N/A"},{"$f":"VLOOKUP(A466,'Copy of Export'!$A$2:$AF2393,2,false)","v":"#N/A"},{"$f":"VLOOKUP(A466,'Copy of Export'!$A$2:$AF2393,5,false)","v":"#N/A"},{"$f":"VLOOKUP(A466,'Copy of Export'!$A$2:$AF2393,8,false)","v":"#N/A"}]
[null,{"$f":"VLOOKUP(A467,'Copy of Export'!$A$2:$AF2393,5,false)","v":"#N/A"},{"$f":"VLOOKUP(A467,'Copy of Export'!$A$2:$AF2393,13,false)","v":"#N/A"},{"$f":"VLOOKUP(A467,'Copy of Export'!$A$2:$AF2393,2,false)","v":"#N/A"},{"$f":"VLOOKUP(A467,'Copy of Export'!$A$2:$AF2393,5,false)","v":"#N/A"},{"$f":"VLOOKUP(A467,'Copy of Export'!$A$2:$AF2393,8,false)","v":"#N/A"}]
[null,{"$f":"VLOOKUP(A468,'Copy of Export'!$A$2:$AF2393,5,false)","v":"#N/A"},{"$f":"VLOOKUP(A468,'Copy of Export'!$A$2:$AF2393,13,false)","v":"#N/A"},{"$f":"VLOOKUP(A468,'Copy of Export'!$A$2:$AF2393,2,false)","v":"#N/A"},{"$f":"VLOOKUP(A468,'Copy of Export'!$A$2:$AF2393,5,false)","v":"#N/A"},{"$f":"VLOOKUP(A468,'Copy of Export'!$A$2:$AF2393,8,false)","v":"#N/A"}]
[null,{"$f":"VLOOKUP(A469,'Copy of Export'!$A$2:$AF2393,5,false)","v":"#N/A"},{"$f":"VLOOKUP(A469,'Copy of Export'!$A$2:$AF2393,13,false)","v":"#N/A"},{"$f":"VLOOKUP(A469,'Copy of Export'!$A$2:$AF2393,2,false)","v":"#N/A"},{"$f":"VLOOKUP(A469,'Copy of Export'!$A$2:$AF2393,5,false)","v":"#N/A"},{"$f":"VLOOKUP(A469,'Copy of Export'!$A$2:$AF2393,8,false)","v":"#N/A"}]
[null,{"$f":"VLOOKUP(A470,'Copy of Export'!$A$2:$AF2393,5,false)","v":"#N/A"},{"$f":"VLOOKUP(A470,'Copy of Export'!$A$2:$AF2393,13,false)","v":"#N/A"},{"$f":"VLOOKUP(A470,'Copy of Export'!$A$2:$AF2393,2,false)","v":"#N/A"},{"$f":"VLOOKUP(A470,'Copy of Export'!$A$2:$AF2393,5,false)","v":"#N/A"},{"$f":"VLOOKUP(A470,'Copy of Export'!$A$2:$AF2393,8,false)","v":"#N/A"}]
[null,{"$f":"VLOOKUP(A471,'Copy of Export'!$A$2:$AF2393,5,false)","v":"#N/A"},{"$f":"VLOOKUP(A471,'Copy of Export'!$A$2:$AF2393,13,false)","v":"#N/A"},{"$f":"VLOOKUP(A471,'Copy of Export'!$A$2:$AF2393,2,false)","v":"#N/A"},{"$f":"VLOOKUP(A471,'Copy of Export'!$A$2:$AF2393,5,false)","v":"#N/A"},{"$f":"VLOOKUP(A471,'Copy of Export'!$A$2:$AF2393,8,false)","v":"#N/A"}]
[null,{"$f":"VLOOKUP(A472,'Copy of Export'!$A$2:$AF2393,5,false)","v":"#N/A"},{"$f":"VLOOKUP(A472,'Copy of Export'!$A$2:$AF2393,13,false)","v":"#N/A"},{"$f":"VLOOKUP(A472,'Copy of Export'!$A$2:$AF2393,2,false)","v":"#N/A"},{"$f":"VLOOKUP(A472,'Copy of Export'!$A$2:$AF2393,5,false)","v":"#N/A"},{"$f":"VLOOKUP(A472,'Copy of Export'!$A$2:$AF2393,8,false)","v":"#N/A"}]
[null,{"$f":"VLOOKUP(A473,'Copy of Export'!$A$2:$AF2393,5,false)","v":"#N/A"},{"$f":"VLOOKUP(A473,'Copy of Export'!$A$2:$AF2393,13,false)","v":"#N/A"},{"$f":"VLOOKUP(A473,'Copy of Export'!$A$2:$AF2393,2,false)","v":"#N/A"},{"$f":"VLOOKUP(A473,'Copy of Export'!$A$2:$AF2393,5,false)","v":"#N/A"},{"$f":"VLOOKUP(A473,'Copy of Export'!$A$2:$AF2393,8,false)","v":"#N/A"}]
[null,{"$f":"VLOOKUP(A474,'Copy of Export'!$A$2:$AF2393,5,false)","v":"#N/A"},{"$f":"VLOOKUP(A474,'Copy of Export'!$A$2:$AF2393,13,false)","v":"#N/A"},{"$f":"VLOOKUP(A474,'Copy of Export'!$A$2:$AF2393,2,false)","v":"#N/A"},{"$f":"VLOOKUP(A474,'Copy of Export'!$A$2:$AF2393,5,false)","v":"#N/A"},{"$f":"VLOOKUP(A474,'Copy of Export'!$A$2:$AF2393,8,false)","v":"#N/A"}]
[null,{"$f":"VLOOKUP(A475,'Copy of Export'!$A$2:$AF2393,5,false)","v":"#N/A"},{"$f":"VLOOKUP(A475,'Copy of Export'!$A$2:$AF2393,13,false)","v":"#N/A"},{"$f":"VLOOKUP(A475,'Copy of Export'!$A$2:$AF2393,2,false)","v":"#N/A"},{"$f":"VLOOKUP(A475,'Copy of Export'!$A$2:$AF2393,5,false)","v":"#N/A"},{"$f":"VLOOKUP(A475,'Copy of Export'!$A$2:$AF2393,8,false)","v":"#N/A"}]
[null,{"$f":"VLOOKUP(A476,'Copy of Export'!$A$2:$AF2393,5,false)","v":"#N/A"},{"$f":"VLOOKUP(A476,'Copy of Export'!$A$2:$AF2393,13,false)","v":"#N/A"},{"$f":"VLOOKUP(A476,'Copy of Export'!$A$2:$AF2393,2,false)","v":"#N/A"},{"$f":"VLOOKUP(A476,'Copy of Export'!$A$2:$AF2393,5,false)","v":"#N/A"},{"$f":"VLOOKUP(A476,'Copy of Export'!$A$2:$AF2393,8,false)","v":"#N/A"}]
[null,{"$f":"VLOOKUP(A477,'Copy of Export'!$A$2:$AF2393,5,false)","v":"#N/A"},{"$f":"VLOOKUP(A477,'Copy of Export'!$A$2:$AF2393,13,false)","v":"#N/A"},{"$f":"VLOOKUP(A477,'Copy of Export'!$A$2:$AF2393,2,false)","v":"#N/A"},{"$f":"VLOOKUP(A477,'Copy of Export'!$A$2:$AF2393,5,false)","v":"#N/A"},{"$f":"VLOOKUP(A477,'Copy of Export'!$A$2:$AF2393,8,false)","v":"#N/A"}]
[null,{"$f":"VLOOKUP(A478,'Copy of Export'!$A$2:$AF2393,5,false)","v":"#N/A"},{"$f":"VLOOKUP(A478,'Copy of Export'!$A$2:$AF2393,13,false)","v":"#N/A"},{"$f":"VLOOKUP(A478,'Copy of Export'!$A$2:$AF2393,2,false)","v":"#N/A"},{"$f":"VLOOKUP(A478,'Copy of Export'!$A$2:$AF2393,5,false)","v":"#N/A"},{"$f":"VLOOKUP(A478,'Copy of Export'!$A$2:$AF2393,8,false)","v":"#N/A"}]
[null,{"$f":"VLOOKUP(A479,'Copy of Export'!$A$2:$AF2393,5,false)","v":"#N/A"},{"$f":"VLOOKUP(A479,'Copy of Export'!$A$2:$AF2393,13,false)","v":"#N/A"},{"$f":"VLOOKUP(A479,'Copy of Export'!$A$2:$AF2393,2,false)","v":"#N/A"},{"$f":"VLOOKUP(A479,'Copy of Export'!$A$2:$AF2393,5,false)","v":"#N/A"},{"$f":"VLOOKUP(A479,'Copy of Export'!$A$2:$AF2393,8,false)","v":"#N/A"}]
[null,{"$f":"VLOOKUP(A480,'Copy of Export'!$A$2:$AF2393,5,false)","v":"#N/A"},{"$f":"VLOOKUP(A480,'Copy of Export'!$A$2:$AF2393,13,false)","v":"#N/A"},{"$f":"VLOOKUP(A480,'Copy of Export'!$A$2:$AF2393,2,false)","v":"#N/A"},{"$f":"VLOOKUP(A480,'Copy of Export'!$A$2:$AF2393,5,false)","v":"#N/A"},{"$f":"VLOOKUP(A480,'Copy of Export'!$A$2:$AF2393,8,false)","v":"#N/A"}]
[null,{"$f":"VLOOKUP(A481,'Copy of Export'!$A$2:$AF2393,5,false)","v":"#N/A"},{"$f":"VLOOKUP(A481,'Copy of Export'!$A$2:$AF2393,13,false)","v":"#N/A"},{"$f":"VLOOKUP(A481,'Copy of Export'!$A$2:$AF2393,2,false)","v":"#N/A"},{"$f":"VLOOKUP(A481,'Copy of Export'!$A$2:$AF2393,5,false)","v":"#N/A"},{"$f":"VLOOKUP(A481,'Copy of Export'!$A$2:$AF2393,8,false)","v":"#N/A"}]
[null,{"$f":"VLOOKUP(A482,'Copy of Export'!$A$2:$AF2393,5,false)","v":"#N/A"},{"$f":"VLOOKUP(A482,'Copy of Export'!$A$2:$AF2393,13,false)","v":"#N/A"},{"$f":"VLOOKUP(A482,'Copy of Export'!$A$2:$AF2393,2,false)","v":"#N/A"},{"$f":"VLOOKUP(A482,'Copy of Export'!$A$2:$AF2393,5,false)","v":"#N/A"},{"$f":"VLOOKUP(A482,'Copy of Export'!$A$2:$AF2393,8,false)","v":"#N/A"}]
[null,{"$f":"VLOOKUP(A483,'Copy of Export'!$A$2:$AF2393,5,false)","v":"#N/A"},{"$f":"VLOOKUP(A483,'Copy of Export'!$A$2:$AF2393,13,false)","v":"#N/A"},{"$f":"VLOOKUP(A483,'Copy of Export'!$A$2:$AF2393,2,false)","v":"#N/A"},{"$f":"VLOOKUP(A483,'Copy of Export'!$A$2:$AF2393,5,false)","v":"#N/A"},{"$f":"VLOOKUP(A483,'Copy of Export'!$A$2:$AF2393,8,false)","v":"#N/A"}]
[null,{"$f":"VLOOKUP(A484,'Copy of Export'!$A$2:$AF2393,5,false)","v":"#N/A"},{"$f":"VLOOKUP(A484,'Copy of Export'!$A$2:$AF2393,13,false)","v":"#N/A"},{"$f":"VLOOKUP(A484,'Copy of Export'!$A$2:$AF2393,2,false)","v":"#N/A"},{"$f":"VLOOKUP(A484,'Copy of Export'!$A$2:$AF2393,5,false)","v":"#N/A"},{"$f":"VLOOKUP(A484,'Copy of Export'!$A$2:$AF2393,8,false)","v":"#N/A"}]
[null,{"$f":"VLOOKUP(A485,'Copy of Export'!$A$2:$AF2393,5,false)","v":"#N/A"},{"$f":"VLOOKUP(A485,'Copy of Export'!$A$2:$AF2393,13,false)","v":"#N/A"},{"$f":"VLOOKUP(A485,'Copy of Export'!$A$2:$AF2393,2,false)","v":"#N/A"},{"$f":"VLOOKUP(A485,'Copy of Export'!$A$2:$AF2393,5,false)","v":"#N/A"},{"$f":"VLOOKUP(A485,'Copy of Export'!$A$2:$AF2393,8,false)","v":"#N/A"}]
[null,{"$f":"VLOOKUP(A486,'Copy of Export'!$A$2:$AF2393,5,false)","v":"#N/A"},{"$f":"VLOOKUP(A486,'Copy of Export'!$A$2:$AF2393,13,false)","v":"#N/A"},{"$f":"VLOOKUP(A486,'Copy of Export'!$A$2:$AF2393,2,false)","v":"#N/A"},{"$f":"VLOOKUP(A486,'Copy of Export'!$A$2:$AF2393,5,false)","v":"#N/A"},{"$f":"VLOOKUP(A486,'Copy of Export'!$A$2:$AF2393,8,false)","v":"#N/A"}]
[null,{"$f":"VLOOKUP(A487,'Copy of Export'!$A$2:$AF2393,5,false)","v":"#N/A"},{"$f":"VLOOKUP(A487,'Copy of Export'!$A$2:$AF2393,13,false)","v":"#N/A"},{"$f":"VLOOKUP(A487,'Copy of Export'!$A$2:$AF2393,2,false)","v":"#N/A"},{"$f":"VLOOKUP(A487,'Copy of Export'!$A$2:$AF2393,5,false)","v":"#N/A"},{"$f":"VLOOKUP(A487,'Copy of Export'!$A$2:$AF2393,8,false)","v":"#N/A"}]
[null,{"$f":"VLOOKUP(A488,'Copy of Export'!$A$2:$AF2393,5,false)","v":"#N/A"},{"$f":"VLOOKUP(A488,'Copy of Export'!$A$2:$AF2393,13,false)","v":"#N/A"},{"$f":"VLOOKUP(A488,'Copy of Export'!$A$2:$AF2393,2,false)","v":"#N/A"},{"$f":"VLOOKUP(A488,'Copy of Export'!$A$2:$AF2393,5,false)","v":"#N/A"},{"$f":"VLOOKUP(A488,'Copy of Export'!$A$2:$AF2393,8,false)","v":"#N/A"}]
[null,{"$f":"VLOOKUP(A489,'Copy of Export'!$A$2:$AF2393,5,false)","v":"#N/A"},{"$f":"VLOOKUP(A489,'Copy of Export'!$A$2:$AF2393,13,false)","v":"#N/A"},{"$f":"VLOOKUP(A489,'Copy of Export'!$A$2:$AF2393,2,false)","v":"#N/A"},{"$f":"VLOOKUP(A489,'Copy of Export'!$A$2:$AF2393,5,false)","v":"#N/A"},{"$f":"VLOOKUP(A489,'Copy of Export'!$A$2:$AF2393,8,false)","v":"#N/A"}]
[null,{"$f":"VLOOKUP(A490,'Copy of Export'!$A$2:$AF2393,5,false)","v":"#N/A"},{"$f":"VLOOKUP(A490,'Copy of Export'!$A$2:$AF2393,13,false)","v":"#N/A"},{"$f":"VLOOKUP(A490,'Copy of Export'!$A$2:$AF2393,2,false)","v":"#N/A"},{"$f":"VLOOKUP(A490,'Copy of Export'!$A$2:$AF2393,5,false)","v":"#N/A"},{"$f":"VLOOKUP(A490,'Copy of Export'!$A$2:$AF2393,8,false)","v":"#N/A"}]
[null,{"$f":"VLOOKUP(A491,'Copy of Export'!$A$2:$AF2393,5,false)","v":"#N/A"},{"$f":"VLOOKUP(A491,'Copy of Export'!$A$2:$AF2393,13,false)","v":"#N/A"},{"$f":"VLOOKUP(A491,'Copy of Export'!$A$2:$AF2393,2,false)","v":"#N/A"},{"$f":"VLOOKUP(A491,'Copy of Export'!$A$2:$AF2393,5,false)","v":"#N/A"},{"$f":"VLOOKUP(A491,'Copy of Export'!$A$2:$AF2393,8,false)","v":"#N/A"}]
[null,{"$f":"VLOOKUP(A492,'Copy of Export'!$A$2:$AF2393,5,false)","v":"#N/A"},{"$f":"VLOOKUP(A492,'Copy of Export'!$A$2:$AF2393,13,false)","v":"#N/A"},{"$f":"VLOOKUP(A492,'Copy of Export'!$A$2:$AF2393,2,false)","v":"#N/A"},{"$f":"VLOOKUP(A492,'Copy of Export'!$A$2:$AF2393,5,false)","v":"#N/A"},{"$f":"VLOOKUP(A492,'Copy of Export'!$A$2:$AF2393,8,false)","v":"#N/A"}]
[null,{"$f":"VLOOKUP(A493,'Copy of Export'!$A$2:$AF2393,5,false)","v":"#N/A"},{"$f":"VLOOKUP(A493,'Copy of Export'!$A$2:$AF2393,13,false)","v":"#N/A"},{"$f":"VLOOKUP(A493,'Copy of Export'!$A$2:$AF2393,2,false)","v":"#N/A"},{"$f":"VLOOKUP(A493,'Copy of Export'!$A$2:$AF2393,5,false)","v":"#N/A"},{"$f":"VLOOKUP(A493,'Copy of Export'!$A$2:$AF2393,8,false)","v":"#N/A"}]
[null,{"$f":"VLOOKUP(A494,'Copy of Export'!$A$2:$AF2393,5,false)","v":"#N/A"},{"$f":"VLOOKUP(A494,'Copy of Export'!$A$2:$AF2393,13,false)","v":"#N/A"},{"$f":"VLOOKUP(A494,'Copy of Export'!$A$2:$AF2393,2,false)","v":"#N/A"},{"$f":"VLOOKUP(A494,'Copy of Export'!$A$2:$AF2393,5,false)","v":"#N/A"},{"$f":"VLOOKUP(A494,'Copy of Export'!$A$2:$AF2393,8,false)","v":"#N/A"}]
[null,{"$f":"VLOOKUP(A495,'Copy of Export'!$A$2:$AF2393,5,false)","v":"#N/A"},{"$f":"VLOOKUP(A495,'Copy of Export'!$A$2:$AF2393,13,false)","v":"#N/A"},{"$f":"VLOOKUP(A495,'Copy of Export'!$A$2:$AF2393,2,false)","v":"#N/A"},{"$f":"VLOOKUP(A495,'Copy of Export'!$A$2:$AF2393,5,false)","v":"#N/A"},{"$f":"VLOOKUP(A495,'Copy of Export'!$A$2:$AF2393,8,false)","v":"#N/A"}]
[null,{"$f":"VLOOKUP(A496,'Copy of Export'!$A$2:$AF2393,5,false)","v":"#N/A"},{"$f":"VLOOKUP(A496,'Copy of Export'!$A$2:$AF2393,13,false)","v":"#N/A"},{"$f":"VLOOKUP(A496,'Copy of Export'!$A$2:$AF2393,2,false)","v":"#N/A"},{"$f":"VLOOKUP(A496,'Copy of Export'!$A$2:$AF2393,5,false)","v":"#N/A"},{"$f":"VLOOKUP(A496,'Copy of Export'!$A$2:$AF2393,8,false)","v":"#N/A"}]
[null,{"$f":"VLOOKUP(A497,'Copy of Export'!$A$2:$AF2393,5,false)","v":"#N/A"},{"$f":"VLOOKUP(A497,'Copy of Export'!$A$2:$AF2393,13,false)","v":"#N/A"},{"$f":"VLOOKUP(A497,'Copy of Export'!$A$2:$AF2393,2,false)","v":"#N/A"},{"$f":"VLOOKUP(A497,'Copy of Export'!$A$2:$AF2393,5,false)","v":"#N/A"},{"$f":"VLOOKUP(A497,'Copy of Export'!$A$2:$AF2393,8,false)","v":"#N/A"}]
[null,{"$f":"VLOOKUP(A498,'Copy of Export'!$A$2:$AF2393,5,false)","v":"#N/A"},{"$f":"VLOOKUP(A498,'Copy of Export'!$A$2:$AF2393,13,false)","v":"#N/A"},{"$f":"VLOOKUP(A498,'Copy of Export'!$A$2:$AF2393,2,false)","v":"#N/A"},{"$f":"VLOOKUP(A498,'Copy of Export'!$A$2:$AF2393,5,false)","v":"#N/A"},{"$f":"VLOOKUP(A498,'Copy of Export'!$A$2:$AF2393,8,false)","v":"#N/A"}]
[null,{"$f":"VLOOKUP(A499,'Copy of Export'!$A$2:$AF2393,5,false)","v":"#N/A"},{"$f":"VLOOKUP(A499,'Copy of Export'!$A$2:$AF2393,13,false)","v":"#N/A"},{"$f":"VLOOKUP(A499,'Copy of Export'!$A$2:$AF2393,2,false)","v":"#N/A"},{"$f":"VLOOKUP(A499,'Copy of Export'!$A$2:$AF2393,5,false)","v":"#N/A"},{"$f":"VLOOKUP(A499,'Copy of Export'!$A$2:$AF2393,8,false)","v":"#N/A"}]
[null,{"$f":"VLOOKUP(A500,'Copy of Export'!$A$2:$AF2393,5,false)","v":"#N/A"},{"$f":"VLOOKUP(A500,'Copy of Export'!$A$2:$AF2393,13,false)","v":"#N/A"},{"$f":"VLOOKUP(A500,'Copy of Export'!$A$2:$AF2393,2,false)","v":"#N/A"},{"$f":"VLOOKUP(A500,'Copy of Export'!$A$2:$AF2393,5,false)","v":"#N/A"},{"$f":"VLOOKUP(A500,'Copy of Export'!$A$2:$AF2393,8,false)","v":"#N/A"}]
[null,{"$f":"VLOOKUP(A501,'Copy of Export'!$A$2:$AF2393,5,false)","v":"#N/A"},{"$f":"VLOOKUP(A501,'Copy of Export'!$A$2:$AF2393,13,false)","v":"#N/A"},{"$f":"VLOOKUP(A501,'Copy of Export'!$A$2:$AF2393,2,false)","v":"#N/A"},{"$f":"VLOOKUP(A501,'Copy of Export'!$A$2:$AF2393,5,false)","v":"#N/A"},{"$f":"VLOOKUP(A501,'Copy of Export'!$A$2:$AF2393,8,false)","v":"#N/A"}]
[null,{"$f":"VLOOKUP(A502,'Copy of Export'!$A$2:$AF2393,5,false)","v":"#N/A"},{"$f":"VLOOKUP(A502,'Copy of Export'!$A$2:$AF2393,13,false)","v":"#N/A"},{"$f":"VLOOKUP(A502,'Copy of Export'!$A$2:$AF2393,2,false)","v":"#N/A"},{"$f":"VLOOKUP(A502,'Copy of Export'!$A$2:$AF2393,5,false)","v":"#N/A"},{"$f":"VLOOKUP(A502,'Copy of Export'!$A$2:$AF2393,8,false)","v":"#N/A"}]
[null,{"$f":"VLOOKUP(A503,'Copy of Export'!$A$2:$AF2393,5,false)","v":"#N/A"},{"$f":"VLOOKUP(A503,'Copy of Export'!$A$2:$AF2393,13,false)","v":"#N/A"},{"$f":"VLOOKUP(A503,'Copy of Export'!$A$2:$AF2393,2,false)","v":"#N/A"},{"$f":"VLOOKUP(A503,'Copy of Export'!$A$2:$AF2393,5,false)","v":"#N/A"},{"$f":"VLOOKUP(A503,'Copy of Export'!$A$2:$AF2393,8,false)","v":"#N/A"}]
[null,{"$f":"VLOOKUP(A504,'Copy of Export'!$A$2:$AF2393,5,false)","v":"#N/A"},{"$f":"VLOOKUP(A504,'Copy of Export'!$A$2:$AF2393,13,false)","v":"#N/A"},{"$f":"VLOOKUP(A504,'Copy of Export'!$A$2:$AF2393,2,false)","v":"#N/A"},{"$f":"VLOOKUP(A504,'Copy of Export'!$A$2:$AF2393,5,false)","v":"#N/A"},{"$f":"VLOOKUP(A504,'Copy of Export'!$A$2:$AF2393,8,false)","v":"#N/A"}]
[null,{"$f":"VLOOKUP(A505,'Copy of Export'!$A$2:$AF2393,5,false)","v":"#N/A"},{"$f":"VLOOKUP(A505,'Copy of Export'!$A$2:$AF2393,13,false)","v":"#N/A"},{"$f":"VLOOKUP(A505,'Copy of Export'!$A$2:$AF2393,2,false)","v":"#N/A"},{"$f":"VLOOKUP(A505,'Copy of Export'!$A$2:$AF2393,5,false)","v":"#N/A"},{"$f":"VLOOKUP(A505,'Copy of Export'!$A$2:$AF2393,8,false)","v":"#N/A"}]
[null,{"$f":"VLOOKUP(A506,'Copy of Export'!$A$2:$AF2393,5,false)","v":"#N/A"},{"$f":"VLOOKUP(A506,'Copy of Export'!$A$2:$AF2393,13,false)","v":"#N/A"},{"$f":"VLOOKUP(A506,'Copy of Export'!$A$2:$AF2393,2,false)","v":"#N/A"},{"$f":"VLOOKUP(A506,'Copy of Export'!$A$2:$AF2393,5,false)","v":"#N/A"},{"$f":"VLOOKUP(A506,'Copy of Export'!$A$2:$AF2393,8,false)","v":"#N/A"}]
[null,{"$f":"VLOOKUP(A507,'Copy of Export'!$A$2:$AF2393,5,false)","v":"#N/A"},{"$f":"VLOOKUP(A507,'Copy of Export'!$A$2:$AF2393,13,false)","v":"#N/A"},{"$f":"VLOOKUP(A507,'Copy of Export'!$A$2:$AF2393,2,false)","v":"#N/A"},{"$f":"VLOOKUP(A507,'Copy of Export'!$A$2:$AF2393,5,false)","v":"#N/A"},{"$f":"VLOOKUP(A507,'Copy of Export'!$A$2:$AF2393,8,false)","v":"#N/A"}]
[null,{"$f":"VLOOKUP(A508,'Copy of Export'!$A$2:$AF2393,5,false)","v":"#N/A"},{"$f":"VLOOKUP(A508,'Copy of Export'!$A$2:$AF2393,13,false)","v":"#N/A"},{"$f":"VLOOKUP(A508,'Copy of Export'!$A$2:$AF2393,2,false)","v":"#N/A"},{"$f":"VLOOKUP(A508,'Copy of Export'!$A$2:$AF2393,5,false)","v":"#N/A"},{"$f":"VLOOKUP(A508,'Copy of Export'!$A$2:$AF2393,8,false)","v":"#N/A"}]
[null,{"$f":"VLOOKUP(A509,'Copy of Export'!$A$2:$AF2393,5,false)","v":"#N/A"},{"$f":"VLOOKUP(A509,'Copy of Export'!$A$2:$AF2393,13,false)","v":"#N/A"},{"$f":"VLOOKUP(A509,'Copy of Export'!$A$2:$AF2393,2,false)","v":"#N/A"},{"$f":"VLOOKUP(A509,'Copy of Export'!$A$2:$AF2393,5,false)","v":"#N/A"},{"$f":"VLOOKUP(A509,'Copy of Export'!$A$2:$AF2393,8,false)","v":"#N/A"}]
[null,{"$f":"VLOOKUP(A510,'Copy of Export'!$A$2:$AF2393,5,false)","v":"#N/A"},{"$f":"VLOOKUP(A510,'Copy of Export'!$A$2:$AF2393,13,false)","v":"#N/A"},{"$f":"VLOOKUP(A510,'Copy of Export'!$A$2:$AF2393,2,false)","v":"#N/A"},{"$f":"VLOOKUP(A510,'Copy of Export'!$A$2:$AF2393,5,false)","v":"#N/A"},{"$f":"VLOOKUP(A510,'Copy of Export'!$A$2:$AF2393,8,false)","v":"#N/A"}]
[null,{"$f":"VLOOKUP(A511,'Copy of Export'!$A$2:$AF2393,5,false)","v":"#N/A"},{"$f":"VLOOKUP(A511,'Copy of Export'!$A$2:$AF2393,13,false)","v":"#N/A"},{"$f":"VLOOKUP(A511,'Copy of Export'!$A$2:$AF2393,2,false)","v":"#N/A"},{"$f":"VLOOKUP(A511,'Copy of Export'!$A$2:$AF2393,5,false)","v":"#N/A"},{"$f":"VLOOKUP(A511,'Copy of Export'!$A$2:$AF2393,8,false)","v":"#N/A"}]
[null,{"$f":"VLOOKUP(A512,'Copy of Export'!$A$2:$AF2393,5,false)","v":"#N/A"},{"$f":"VLOOKUP(A512,'Copy of Export'!$A$2:$AF2393,13,false)","v":"#N/A"},{"$f":"VLOOKUP(A512,'Copy of Export'!$A$2:$AF2393,2,false)","v":"#N/A"},{"$f":"VLOOKUP(A512,'Copy of Export'!$A$2:$AF2393,5,false)","v":"#N/A"},{"$f":"VLOOKUP(A512,'Copy of Export'!$A$2:$AF2393,8,false)","v":"#N/A"}]
[null,{"$f":"VLOOKUP(A513,'Copy of Export'!$A$2:$AF2393,5,false)","v":"#N/A"},{"$f":"VLOOKUP(A513,'Copy of Export'!$A$2:$AF2393,13,false)","v":"#N/A"},{"$f":"VLOOKUP(A513,'Copy of Export'!$A$2:$AF2393,2,false)","v":"#N/A"},{"$f":"VLOOKUP(A513,'Copy of Export'!$A$2:$AF2393,5,false)","v":"#N/A"},{"$f":"VLOOKUP(A513,'Copy of Export'!$A$2:$AF2393,8,false)","v":"#N/A"}]
[null,{"$f":"VLOOKUP(A514,'Copy of Export'!$A$2:$AF2393,5,false)","v":"#N/A"},{"$f":"VLOOKUP(A514,'Copy of Export'!$A$2:$AF2393,13,false)","v":"#N/A"},{"$f":"VLOOKUP(A514,'Copy of Export'!$A$2:$AF2393,2,false)","v":"#N/A"},{"$f":"VLOOKUP(A514,'Copy of Export'!$A$2:$AF2393,5,false)","v":"#N/A"},{"$f":"VLOOKUP(A514,'Copy of Export'!$A$2:$AF2393,8,false)","v":"#N/A"}]
[null,{"$f":"VLOOKUP(A515,'Copy of Export'!$A$2:$AF2393,5,false)","v":"#N/A"},{"$f":"VLOOKUP(A515,'Copy of Export'!$A$2:$AF2393,13,false)","v":"#N/A"},{"$f":"VLOOKUP(A515,'Copy of Export'!$A$2:$AF2393,2,false)","v":"#N/A"},{"$f":"VLOOKUP(A515,'Copy of Export'!$A$2:$AF2393,5,false)","v":"#N/A"},{"$f":"VLOOKUP(A515,'Copy of Export'!$A$2:$AF2393,8,false)","v":"#N/A"}]
[null,{"$f":"VLOOKUP(A516,'Copy of Export'!$A$2:$AF2393,5,false)","v":"#N/A"},{"$f":"VLOOKUP(A516,'Copy of Export'!$A$2:$AF2393,13,false)","v":"#N/A"},{"$f":"VLOOKUP(A516,'Copy of Export'!$A$2:$AF2393,2,false)","v":"#N/A"},{"$f":"VLOOKUP(A516,'Copy of Export'!$A$2:$AF2393,5,false)","v":"#N/A"},{"$f":"VLOOKUP(A516,'Copy of Export'!$A$2:$AF2393,8,false)","v":"#N/A"}]
[null,{"$f":"VLOOKUP(A517,'Copy of Export'!$A$2:$AF2393,5,false)","v":"#N/A"},{"$f":"VLOOKUP(A517,'Copy of Export'!$A$2:$AF2393,13,false)","v":"#N/A"},{"$f":"VLOOKUP(A517,'Copy of Export'!$A$2:$AF2393,2,false)","v":"#N/A"},{"$f":"VLOOKUP(A517,'Copy of Export'!$A$2:$AF2393,5,false)","v":"#N/A"},{"$f":"VLOOKUP(A517,'Copy of Export'!$A$2:$AF2393,8,false)","v":"#N/A"}]
[null,{"$f":"VLOOKUP(A518,'Copy of Export'!$A$2:$AF2393,5,false)","v":"#N/A"},{"$f":"VLOOKUP(A518,'Copy of Export'!$A$2:$AF2393,13,false)","v":"#N/A"},{"$f":"VLOOKUP(A518,'Copy of Export'!$A$2:$AF2393,2,false)","v":"#N/A"},{"$f":"VLOOKUP(A518,'Copy of Export'!$A$2:$AF2393,5,false)","v":"#N/A"},{"$f":"VLOOKUP(A518,'Copy of Export'!$A$2:$AF2393,8,false)","v":"#N/A"}]
[null,{"$f":"VLOOKUP(A519,'Copy of Export'!$A$2:$AF2393,5,false)","v":"#N/A"},{"$f":"VLOOKUP(A519,'Copy of Export'!$A$2:$AF2393,13,false)","v":"#N/A"},{"$f":"VLOOKUP(A519,'Copy of Export'!$A$2:$AF2393,2,false)","v":"#N/A"},{"$f":"VLOOKUP(A519,'Copy of Export'!$A$2:$AF2393,5,false)","v":"#N/A"},{"$f":"VLOOKUP(A519,'Copy of Export'!$A$2:$AF2393,8,false)","v":"#N/A"}]
[null,{"$f":"VLOOKUP(A520,'Copy of Export'!$A$2:$AF2393,5,false)","v":"#N/A"},{"$f":"VLOOKUP(A520,'Copy of Export'!$A$2:$AF2393,13,false)","v":"#N/A"},{"$f":"VLOOKUP(A520,'Copy of Export'!$A$2:$AF2393,2,false)","v":"#N/A"},{"$f":"VLOOKUP(A520,'Copy of Export'!$A$2:$AF2393,5,false)","v":"#N/A"},{"$f":"VLOOKUP(A520,'Copy of Export'!$A$2:$AF2393,8,false)","v":"#N/A"}]
[null,{"$f":"VLOOKUP(A521,'Copy of Export'!$A$2:$AF2393,5,false)","v":"#N/A"},{"$f":"VLOOKUP(A521,'Copy of Export'!$A$2:$AF2393,13,false)","v":"#N/A"},{"$f":"VLOOKUP(A521,'Copy of Export'!$A$2:$AF2393,2,false)","v":"#N/A"},{"$f":"VLOOKUP(A521,'Copy of Export'!$A$2:$AF2393,5,false)","v":"#N/A"},{"$f":"VLOOKUP(A521,'Copy of Export'!$A$2:$AF2393,8,false)","v":"#N/A"}]
[null,{"$f":"VLOOKUP(A522,'Copy of Export'!$A$2:$AF2393,5,false)","v":"#N/A"},{"$f":"VLOOKUP(A522,'Copy of Export'!$A$2:$AF2393,13,false)","v":"#N/A"},{"$f":"VLOOKUP(A522,'Copy of Export'!$A$2:$AF2393,2,false)","v":"#N/A"},{"$f":"VLOOKUP(A522,'Copy of Export'!$A$2:$AF2393,5,false)","v":"#N/A"},{"$f":"VLOOKUP(A522,'Copy of Export'!$A$2:$AF2393,8,false)","v":"#N/A"}]
[null,{"$f":"VLOOKUP(A523,'Copy of Export'!$A$2:$AF2393,5,false)","v":"#N/A"},{"$f":"VLOOKUP(A523,'Copy of Export'!$A$2:$AF2393,13,false)","v":"#N/A"},{"$f":"VLOOKUP(A523,'Copy of Export'!$A$2:$AF2393,2,false)","v":"#N/A"},{"$f":"VLOOKUP(A523,'Copy of Export'!$A$2:$AF2393,5,false)","v":"#N/A"},{"$f":"VLOOKUP(A523,'Copy of Export'!$A$2:$AF2393,8,false)","v":"#N/A"}]
[null,{"$f":"VLOOKUP(A524,'Copy of Export'!$A$2:$AF2393,5,false)","v":"#N/A"},{"$f":"VLOOKUP(A524,'Copy of Export'!$A$2:$AF2393,13,false)","v":"#N/A"},{"$f":"VLOOKUP(A524,'Copy of Export'!$A$2:$AF2393,2,false)","v":"#N/A"},{"$f":"VLOOKUP(A524,'Copy of Export'!$A$2:$AF2393,5,false)","v":"#N/A"},{"$f":"VLOOKUP(A524,'Copy of Export'!$A$2:$AF2393,8,false)","v":"#N/A"}]
[null,{"$f":"VLOOKUP(A525,'Copy of Export'!$A$2:$AF2393,5,false)","v":"#N/A"},{"$f":"VLOOKUP(A525,'Copy of Export'!$A$2:$AF2393,13,false)","v":"#N/A"},{"$f":"VLOOKUP(A525,'Copy of Export'!$A$2:$AF2393,2,false)","v":"#N/A"},{"$f":"VLOOKUP(A525,'Copy of Export'!$A$2:$AF2393,5,false)","v":"#N/A"},{"$f":"VLOOKUP(A525,'Copy of Export'!$A$2:$AF2393,8,false)","v":"#N/A"}]
[null,{"$f":"VLOOKUP(A526,'Copy of Export'!$A$2:$AF2393,5,false)","v":"#N/A"},{"$f":"VLOOKUP(A526,'Copy of Export'!$A$2:$AF2393,13,false)","v":"#N/A"},{"$f":"VLOOKUP(A526,'Copy of Export'!$A$2:$AF2393,2,false)","v":"#N/A"},{"$f":"VLOOKUP(A526,'Copy of Export'!$A$2:$AF2393,5,false)","v":"#N/A"},{"$f":"VLOOKUP(A526,'Copy of Export'!$A$2:$AF2393,8,false)","v":"#N/A"}]
[null,{"$f":"VLOOKUP(A527,'Copy of Export'!$A$2:$AF2393,5,false)","v":"#N/A"},{"$f":"VLOOKUP(A527,'Copy of Export'!$A$2:$AF2393,13,false)","v":"#N/A"},{"$f":"VLOOKUP(A527,'Copy of Export'!$A$2:$AF2393,2,false)","v":"#N/A"},{"$f":"VLOOKUP(A527,'Copy of Export'!$A$2:$AF2393,5,false)","v":"#N/A"},{"$f":"VLOOKUP(A527,'Copy of Export'!$A$2:$AF2393,8,false)","v":"#N/A"}]
[null,{"$f":"VLOOKUP(A528,'Copy of Export'!$A$2:$AF2393,5,false)","v":"#N/A"},{"$f":"VLOOKUP(A528,'Copy of Export'!$A$2:$AF2393,13,false)","v":"#N/A"},{"$f":"VLOOKUP(A528,'Copy of Export'!$A$2:$AF2393,2,false)","v":"#N/A"},{"$f":"VLOOKUP(A528,'Copy of Export'!$A$2:$AF2393,5,false)","v":"#N/A"},{"$f":"VLOOKUP(A528,'Copy of Export'!$A$2:$AF2393,8,false)","v":"#N/A"}]
[null,{"$f":"VLOOKUP(A529,'Copy of Export'!$A$2:$AF2393,5,false)","v":"#N/A"},{"$f":"VLOOKUP(A529,'Copy of Export'!$A$2:$AF2393,13,false)","v":"#N/A"},{"$f":"VLOOKUP(A529,'Copy of Export'!$A$2:$AF2393,2,false)","v":"#N/A"},{"$f":"VLOOKUP(A529,'Copy of Export'!$A$2:$AF2393,5,false)","v":"#N/A"},{"$f":"VLOOKUP(A529,'Copy of Export'!$A$2:$AF2393,8,false)","v":"#N/A"}]
[null,{"$f":"VLOOKUP(A530,'Copy of Export'!$A$2:$AF2393,5,false)","v":"#N/A"},{"$f":"VLOOKUP(A530,'Copy of Export'!$A$2:$AF2393,13,false)","v":"#N/A"},{"$f":"VLOOKUP(A530,'Copy of Export'!$A$2:$AF2393,2,false)","v":"#N/A"},{"$f":"VLOOKUP(A530,'Copy of Export'!$A$2:$AF2393,5,false)","v":"#N/A"},{"$f":"VLOOKUP(A530,'Copy of Export'!$A$2:$AF2393,8,false)","v":"#N/A"}]
[null,{"$f":"VLOOKUP(A531,'Copy of Export'!$A$2:$AF2393,5,false)","v":"#N/A"},{"$f":"VLOOKUP(A531,'Copy of Export'!$A$2:$AF2393,13,false)","v":"#N/A"},{"$f":"VLOOKUP(A531,'Copy of Export'!$A$2:$AF2393,2,false)","v":"#N/A"},{"$f":"VLOOKUP(A531,'Copy of Export'!$A$2:$AF2393,5,false)","v":"#N/A"},{"$f":"VLOOKUP(A531,'Copy of Export'!$A$2:$AF2393,8,false)","v":"#N/A"}]
[null,{"$f":"VLOOKUP(A532,'Copy of Export'!$A$2:$AF2393,5,false)","v":"#N/A"},{"$f":"VLOOKUP(A532,'Copy of Export'!$A$2:$AF2393,13,false)","v":"#N/A"},{"$f":"VLOOKUP(A532,'Copy of Export'!$A$2:$AF2393,2,false)","v":"#N/A"},{"$f":"VLOOKUP(A532,'Copy of Export'!$A$2:$AF2393,5,false)","v":"#N/A"},{"$f":"VLOOKUP(A532,'Copy of Export'!$A$2:$AF2393,8,false)","v":"#N/A"}]
[null,{"$f":"VLOOKUP(A533,'Copy of Export'!$A$2:$AF2393,5,false)","v":"#N/A"},{"$f":"VLOOKUP(A533,'Copy of Export'!$A$2:$AF2393,13,false)","v":"#N/A"},{"$f":"VLOOKUP(A533,'Copy of Export'!$A$2:$AF2393,2,false)","v":"#N/A"},{"$f":"VLOOKUP(A533,'Copy of Export'!$A$2:$AF2393,5,false)","v":"#N/A"},{"$f":"VLOOKUP(A533,'Copy of Export'!$A$2:$AF2393,8,false)","v":"#N/A"}]
[null,{"$f":"VLOOKUP(A534,'Copy of Export'!$A$2:$AF2393,5,false)","v":"#N/A"},{"$f":"VLOOKUP(A534,'Copy of Export'!$A$2:$AF2393,13,false)","v":"#N/A"},{"$f":"VLOOKUP(A534,'Copy of Export'!$A$2:$AF2393,2,false)","v":"#N/A"},{"$f":"VLOOKUP(A534,'Copy of Export'!$A$2:$AF2393,5,false)","v":"#N/A"},{"$f":"VLOOKUP(A534,'Copy of Export'!$A$2:$AF2393,8,false)","v":"#N/A"}]
[null,{"$f":"VLOOKUP(A535,'Copy of Export'!$A$2:$AF2393,5,false)","v":"#N/A"},{"$f":"VLOOKUP(A535,'Copy of Export'!$A$2:$AF2393,13,false)","v":"#N/A"},{"$f":"VLOOKUP(A535,'Copy of Export'!$A$2:$AF2393,2,false)","v":"#N/A"},{"$f":"VLOOKUP(A535,'Copy of Export'!$A$2:$AF2393,5,false)","v":"#N/A"},{"$f":"VLOOKUP(A535,'Copy of Export'!$A$2:$AF2393,8,false)","v":"#N/A"}]
[null,{"$f":"VLOOKUP(A536,'Copy of Export'!$A$2:$AF2393,5,false)","v":"#N/A"},{"$f":"VLOOKUP(A536,'Copy of Export'!$A$2:$AF2393,13,false)","v":"#N/A"},{"$f":"VLOOKUP(A536,'Copy of Export'!$A$2:$AF2393,2,false)","v":"#N/A"},{"$f":"VLOOKUP(A536,'Copy of Export'!$A$2:$AF2393,5,false)","v":"#N/A"},{"$f":"VLOOKUP(A536,'Copy of Export'!$A$2:$AF2393,8,false)","v":"#N/A"}]
[null,{"$f":"VLOOKUP(A537,'Copy of Export'!$A$2:$AF2393,5,false)","v":"#N/A"},{"$f":"VLOOKUP(A537,'Copy of Export'!$A$2:$AF2393,13,false)","v":"#N/A"},{"$f":"VLOOKUP(A537,'Copy of Export'!$A$2:$AF2393,2,false)","v":"#N/A"},{"$f":"VLOOKUP(A537,'Copy of Export'!$A$2:$AF2393,5,false)","v":"#N/A"},{"$f":"VLOOKUP(A537,'Copy of Export'!$A$2:$AF2393,8,false)","v":"#N/A"}]
[null,{"$f":"VLOOKUP(A538,'Copy of Export'!$A$2:$AF2393,5,false)","v":"#N/A"},{"$f":"VLOOKUP(A538,'Copy of Export'!$A$2:$AF2393,13,false)","v":"#N/A"},{"$f":"VLOOKUP(A538,'Copy of Export'!$A$2:$AF2393,2,false)","v":"#N/A"},{"$f":"VLOOKUP(A538,'Copy of Export'!$A$2:$AF2393,5,false)","v":"#N/A"},{"$f":"VLOOKUP(A538,'Copy of Export'!$A$2:$AF2393,8,false)","v":"#N/A"}]
[null,{"$f":"VLOOKUP(A539,'Copy of Export'!$A$2:$AF2393,5,false)","v":"#N/A"},{"$f":"VLOOKUP(A539,'Copy of Export'!$A$2:$AF2393,13,false)","v":"#N/A"},{"$f":"VLOOKUP(A539,'Copy of Export'!$A$2:$AF2393,2,false)","v":"#N/A"},{"$f":"VLOOKUP(A539,'Copy of Export'!$A$2:$AF2393,5,false)","v":"#N/A"},{"$f":"VLOOKUP(A539,'Copy of Export'!$A$2:$AF2393,8,false)","v":"#N/A"}]
[null,{"$f":"VLOOKUP(A540,'Copy of Export'!$A$2:$AF2393,5,false)","v":"#N/A"},{"$f":"VLOOKUP(A540,'Copy of Export'!$A$2:$AF2393,13,false)","v":"#N/A"},{"$f":"VLOOKUP(A540,'Copy of Export'!$A$2:$AF2393,2,false)","v":"#N/A"},{"$f":"VLOOKUP(A540,'Copy of Export'!$A$2:$AF2393,5,false)","v":"#N/A"},{"$f":"VLOOKUP(A540,'Copy of Export'!$A$2:$AF2393,8,false)","v":"#N/A"}]
[null,{"$f":"VLOOKUP(A541,'Copy of Export'!$A$2:$AF2393,5,false)","v":"#N/A"},{"$f":"VLOOKUP(A541,'Copy of Export'!$A$2:$AF2393,13,false)","v":"#N/A"},{"$f":"VLOOKUP(A541,'Copy of Export'!$A$2:$AF2393,2,false)","v":"#N/A"},{"$f":"VLOOKUP(A541,'Copy of Export'!$A$2:$AF2393,5,false)","v":"#N/A"},{"$f":"VLOOKUP(A541,'Copy of Export'!$A$2:$AF2393,8,false)","v":"#N/A"}]
[null,{"$f":"VLOOKUP(A542,'Copy of Export'!$A$2:$AF2393,5,false)","v":"#N/A"},{"$f":"VLOOKUP(A542,'Copy of Export'!$A$2:$AF2393,13,false)","v":"#N/A"},{"$f":"VLOOKUP(A542,'Copy of Export'!$A$2:$AF2393,2,false)","v":"#N/A"},{"$f":"VLOOKUP(A542,'Copy of Export'!$A$2:$AF2393,5,false)","v":"#N/A"},{"$f":"VLOOKUP(A542,'Copy of Export'!$A$2:$AF2393,8,false)","v":"#N/A"}]
[null,{"$f":"VLOOKUP(A543,'Copy of Export'!$A$2:$AF2393,5,false)","v":"#N/A"},{"$f":"VLOOKUP(A543,'Copy of Export'!$A$2:$AF2393,13,false)","v":"#N/A"},{"$f":"VLOOKUP(A543,'Copy of Export'!$A$2:$AF2393,2,false)","v":"#N/A"},{"$f":"VLOOKUP(A543,'Copy of Export'!$A$2:$AF2393,5,false)","v":"#N/A"},{"$f":"VLOOKUP(A543,'Copy of Export'!$A$2:$AF2393,8,false)","v":"#N/A"}]
[null,{"$f":"VLOOKUP(A544,'Copy of Export'!$A$2:$AF2393,5,false)","v":"#N/A"},{"$f":"VLOOKUP(A544,'Copy of Export'!$A$2:$AF2393,13,false)","v":"#N/A"},{"$f":"VLOOKUP(A544,'Copy of Export'!$A$2:$AF2393,2,false)","v":"#N/A"},{"$f":"VLOOKUP(A544,'Copy of Export'!$A$2:$AF2393,5,false)","v":"#N/A"},{"$f":"VLOOKUP(A544,'Copy of Export'!$A$2:$AF2393,8,false)","v":"#N/A"}]
[null,{"$f":"VLOOKUP(A545,'Copy of Export'!$A$2:$AF2393,5,false)","v":"#N/A"},{"$f":"VLOOKUP(A545,'Copy of Export'!$A$2:$AF2393,13,false)","v":"#N/A"},{"$f":"VLOOKUP(A545,'Copy of Export'!$A$2:$AF2393,2,false)","v":"#N/A"},{"$f":"VLOOKUP(A545,'Copy of Export'!$A$2:$AF2393,5,false)","v":"#N/A"},{"$f":"VLOOKUP(A545,'Copy of Export'!$A$2:$AF2393,8,false)","v":"#N/A"}]
[null,{"$f":"VLOOKUP(A546,'Copy of Export'!$A$2:$AF2393,5,false)","v":"#N/A"},{"$f":"VLOOKUP(A546,'Copy of Export'!$A$2:$AF2393,13,false)","v":"#N/A"},{"$f":"VLOOKUP(A546,'Copy of Export'!$A$2:$AF2393,2,false)","v":"#N/A"},{"$f":"VLOOKUP(A546,'Copy of Export'!$A$2:$AF2393,5,false)","v":"#N/A"},{"$f":"VLOOKUP(A546,'Copy of Export'!$A$2:$AF2393,8,false)","v":"#N/A"}]
[null,{"$f":"VLOOKUP(A547,'Copy of Export'!$A$2:$AF2393,5,false)","v":"#N/A"},{"$f":"VLOOKUP(A547,'Copy of Export'!$A$2:$AF2393,13,false)","v":"#N/A"},{"$f":"VLOOKUP(A547,'Copy of Export'!$A$2:$AF2393,2,false)","v":"#N/A"},{"$f":"VLOOKUP(A547,'Copy of Export'!$A$2:$AF2393,5,false)","v":"#N/A"},{"$f":"VLOOKUP(A547,'Copy of Export'!$A$2:$AF2393,8,false)","v":"#N/A"}]
[null,{"$f":"VLOOKUP(A548,'Copy of Export'!$A$2:$AF2393,5,false)","v":"#N/A"},{"$f":"VLOOKUP(A548,'Copy of Export'!$A$2:$AF2393,13,false)","v":"#N/A"},{"$f":"VLOOKUP(A548,'Copy of Export'!$A$2:$AF2393,2,false)","v":"#N/A"},{"$f":"VLOOKUP(A548,'Copy of Export'!$A$2:$AF2393,5,false)","v":"#N/A"},{"$f":"VLOOKUP(A548,'Copy of Export'!$A$2:$AF2393,8,false)","v":"#N/A"}]
[null,{"$f":"VLOOKUP(A549,'Copy of Export'!$A$2:$AF2393,5,false)","v":"#N/A"},{"$f":"VLOOKUP(A549,'Copy of Export'!$A$2:$AF2393,13,false)","v":"#N/A"},{"$f":"VLOOKUP(A549,'Copy of Export'!$A$2:$AF2393,2,false)","v":"#N/A"},{"$f":"VLOOKUP(A549,'Copy of Export'!$A$2:$AF2393,5,false)","v":"#N/A"},{"$f":"VLOOKUP(A549,'Copy of Export'!$A$2:$AF2393,8,false)","v":"#N/A"}]
[null,{"$f":"VLOOKUP(A550,'Copy of Export'!$A$2:$AF2393,5,false)","v":"#N/A"},{"$f":"VLOOKUP(A550,'Copy of Export'!$A$2:$AF2393,13,false)","v":"#N/A"},{"$f":"VLOOKUP(A550,'Copy of Export'!$A$2:$AF2393,2,false)","v":"#N/A"},{"$f":"VLOOKUP(A550,'Copy of Export'!$A$2:$AF2393,5,false)","v":"#N/A"},{"$f":"VLOOKUP(A550,'Copy of Export'!$A$2:$AF2393,8,false)","v":"#N/A"}]
[null,{"$f":"VLOOKUP(A551,'Copy of Export'!$A$2:$AF2393,5,false)","v":"#N/A"},{"$f":"VLOOKUP(A551,'Copy of Export'!$A$2:$AF2393,13,false)","v":"#N/A"},{"$f":"VLOOKUP(A551,'Copy of Export'!$A$2:$AF2393,2,false)","v":"#N/A"},{"$f":"VLOOKUP(A551,'Copy of Export'!$A$2:$AF2393,5,false)","v":"#N/A"},{"$f":"VLOOKUP(A551,'Copy of Export'!$A$2:$AF2393,8,false)","v":"#N/A"}]
[null,{"$f":"VLOOKUP(A552,'Copy of Export'!$A$2:$AF2393,5,false)","v":"#N/A"},{"$f":"VLOOKUP(A552,'Copy of Export'!$A$2:$AF2393,13,false)","v":"#N/A"},{"$f":"VLOOKUP(A552,'Copy of Export'!$A$2:$AF2393,2,false)","v":"#N/A"},{"$f":"VLOOKUP(A552,'Copy of Export'!$A$2:$AF2393,5,false)","v":"#N/A"},{"$f":"VLOOKUP(A552,'Copy of Export'!$A$2:$AF2393,8,false)","v":"#N/A"}]
[null,{"$f":"VLOOKUP(A553,'Copy of Export'!$A$2:$AF2393,5,false)","v":"#N/A"},{"$f":"VLOOKUP(A553,'Copy of Export'!$A$2:$AF2393,13,false)","v":"#N/A"},{"$f":"VLOOKUP(A553,'Copy of Export'!$A$2:$AF2393,2,false)","v":"#N/A"},{"$f":"VLOOKUP(A553,'Copy of Export'!$A$2:$AF2393,5,false)","v":"#N/A"},{"$f":"VLOOKUP(A553,'Copy of Export'!$A$2:$AF2393,8,false)","v":"#N/A"}]
[null,{"$f":"VLOOKUP(A554,'Copy of Export'!$A$2:$AF2393,5,false)","v":"#N/A"},{"$f":"VLOOKUP(A554,'Copy of Export'!$A$2:$AF2393,13,false)","v":"#N/A"},{"$f":"VLOOKUP(A554,'Copy of Export'!$A$2:$AF2393,2,false)","v":"#N/A"},{"$f":"VLOOKUP(A554,'Copy of Export'!$A$2:$AF2393,5,false)","v":"#N/A"},{"$f":"VLOOKUP(A554,'Copy of Export'!$A$2:$AF2393,8,false)","v":"#N/A"}]
[null,{"$f":"VLOOKUP(A555,'Copy of Export'!$A$2:$AF2393,5,false)","v":"#N/A"},{"$f":"VLOOKUP(A555,'Copy of Export'!$A$2:$AF2393,13,false)","v":"#N/A"},{"$f":"VLOOKUP(A555,'Copy of Export'!$A$2:$AF2393,2,false)","v":"#N/A"},{"$f":"VLOOKUP(A555,'Copy of Export'!$A$2:$AF2393,5,false)","v":"#N/A"},{"$f":"VLOOKUP(A555,'Copy of Export'!$A$2:$AF2393,8,false)","v":"#N/A"}]
[null,{"$f":"VLOOKUP(A556,'Copy of Export'!$A$2:$AF2393,5,false)","v":"#N/A"},{"$f":"VLOOKUP(A556,'Copy of Export'!$A$2:$AF2393,13,false)","v":"#N/A"},{"$f":"VLOOKUP(A556,'Copy of Export'!$A$2:$AF2393,2,false)","v":"#N/A"},{"$f":"VLOOKUP(A556,'Copy of Export'!$A$2:$AF2393,5,false)","v":"#N/A"},{"$f":"VLOOKUP(A556,'Copy of Export'!$A$2:$AF2393,8,false)","v":"#N/A"}]
[null,{"$f":"VLOOKUP(A557,'Copy of Export'!$A$2:$AF2393,5,false)","v":"#N/A"},{"$f":"VLOOKUP(A557,'Copy of Export'!$A$2:$AF2393,13,false)","v":"#N/A"},{"$f":"VLOOKUP(A557,'Copy of Export'!$A$2:$AF2393,2,false)","v":"#N/A"},{"$f":"VLOOKUP(A557,'Copy of Export'!$A$2:$AF2393,5,false)","v":"#N/A"},{"$f":"VLOOKUP(A557,'Copy of Export'!$A$2:$AF2393,8,false)","v":"#N/A"}]
[null,{"$f":"VLOOKUP(A558,'Copy of Export'!$A$2:$AF2393,5,false)","v":"#N/A"},{"$f":"VLOOKUP(A558,'Copy of Export'!$A$2:$AF2393,13,false)","v":"#N/A"},{"$f":"VLOOKUP(A558,'Copy of Export'!$A$2:$AF2393,2,false)","v":"#N/A"},{"$f":"VLOOKUP(A558,'Copy of Export'!$A$2:$AF2393,5,false)","v":"#N/A"},{"$f":"VLOOKUP(A558,'Copy of Export'!$A$2:$AF2393,8,false)","v":"#N/A"}]
[null,{"$f":"VLOOKUP(A559,'Copy of Export'!$A$2:$AF2393,5,false)","v":"#N/A"},{"$f":"VLOOKUP(A559,'Copy of Export'!$A$2:$AF2393,13,false)","v":"#N/A"},{"$f":"VLOOKUP(A559,'Copy of Export'!$A$2:$AF2393,2,false)","v":"#N/A"},{"$f":"VLOOKUP(A559,'Copy of Export'!$A$2:$AF2393,5,false)","v":"#N/A"},{"$f":"VLOOKUP(A559,'Copy of Export'!$A$2:$AF2393,8,false)","v":"#N/A"}]
[null,{"$f":"VLOOKUP(A560,'Copy of Export'!$A$2:$AF2393,5,false)","v":"#N/A"},{"$f":"VLOOKUP(A560,'Copy of Export'!$A$2:$AF2393,13,false)","v":"#N/A"},{"$f":"VLOOKUP(A560,'Copy of Export'!$A$2:$AF2393,2,false)","v":"#N/A"},{"$f":"VLOOKUP(A560,'Copy of Export'!$A$2:$AF2393,5,false)","v":"#N/A"},{"$f":"VLOOKUP(A560,'Copy of Export'!$A$2:$AF2393,8,false)","v":"#N/A"}]
[null,{"$f":"VLOOKUP(A561,'Copy of Export'!$A$2:$AF2393,5,false)","v":"#N/A"},{"$f":"VLOOKUP(A561,'Copy of Export'!$A$2:$AF2393,13,false)","v":"#N/A"},{"$f":"VLOOKUP(A561,'Copy of Export'!$A$2:$AF2393,2,false)","v":"#N/A"},{"$f":"VLOOKUP(A561,'Copy of Export'!$A$2:$AF2393,5,false)","v":"#N/A"},{"$f":"VLOOKUP(A561,'Copy of Export'!$A$2:$AF2393,8,false)","v":"#N/A"}]
[null,{"$f":"VLOOKUP(A562,'Copy of Export'!$A$2:$AF2393,5,false)","v":"#N/A"},{"$f":"VLOOKUP(A562,'Copy of Export'!$A$2:$AF2393,13,false)","v":"#N/A"},{"$f":"VLOOKUP(A562,'Copy of Export'!$A$2:$AF2393,2,false)","v":"#N/A"},{"$f":"VLOOKUP(A562,'Copy of Export'!$A$2:$AF2393,5,false)","v":"#N/A"},{"$f":"VLOOKUP(A562,'Copy of Export'!$A$2:$AF2393,8,false)","v":"#N/A"}]
[null,{"$f":"VLOOKUP(A563,'Copy of Export'!$A$2:$AF2393,5,false)","v":"#N/A"},{"$f":"VLOOKUP(A563,'Copy of Export'!$A$2:$AF2393,13,false)","v":"#N/A"},{"$f":"VLOOKUP(A563,'Copy of Export'!$A$2:$AF2393,2,false)","v":"#N/A"},{"$f":"VLOOKUP(A563,'Copy of Export'!$A$2:$AF2393,5,false)","v":"#N/A"},{"$f":"VLOOKUP(A563,'Copy of Export'!$A$2:$AF2393,8,false)","v":"#N/A"}]
[null,{"$f":"VLOOKUP(A564,'Copy of Export'!$A$2:$AF2393,5,false)","v":"#N/A"},{"$f":"VLOOKUP(A564,'Copy of Export'!$A$2:$AF2393,13,false)","v":"#N/A"},{"$f":"VLOOKUP(A564,'Copy of Export'!$A$2:$AF2393,2,false)","v":"#N/A"},{"$f":"VLOOKUP(A564,'Copy of Export'!$A$2:$AF2393,5,false)","v":"#N/A"},{"$f":"VLOOKUP(A564,'Copy of Export'!$A$2:$AF2393,8,false)","v":"#N/A"}]
[null,{"$f":"VLOOKUP(A565,'Copy of Export'!$A$2:$AF2393,5,false)","v":"#N/A"},{"$f":"VLOOKUP(A565,'Copy of Export'!$A$2:$AF2393,13,false)","v":"#N/A"},{"$f":"VLOOKUP(A565,'Copy of Export'!$A$2:$AF2393,2,false)","v":"#N/A"},{"$f":"VLOOKUP(A565,'Copy of Export'!$A$2:$AF2393,5,false)","v":"#N/A"},{"$f":"VLOOKUP(A565,'Copy of Export'!$A$2:$AF2393,8,false)","v":"#N/A"}]
[null,{"$f":"VLOOKUP(A566,'Copy of Export'!$A$2:$AF2393,5,false)","v":"#N/A"},{"$f":"VLOOKUP(A566,'Copy of Export'!$A$2:$AF2393,13,false)","v":"#N/A"},{"$f":"VLOOKUP(A566,'Copy of Export'!$A$2:$AF2393,2,false)","v":"#N/A"},{"$f":"VLOOKUP(A566,'Copy of Export'!$A$2:$AF2393,5,false)","v":"#N/A"},{"$f":"VLOOKUP(A566,'Copy of Export'!$A$2:$AF2393,8,false)","v":"#N/A"}]
[null,{"$f":"VLOOKUP(A567,'Copy of Export'!$A$2:$AF2393,5,false)","v":"#N/A"},{"$f":"VLOOKUP(A567,'Copy of Export'!$A$2:$AF2393,13,false)","v":"#N/A"},{"$f":"VLOOKUP(A567,'Copy of Export'!$A$2:$AF2393,2,false)","v":"#N/A"},{"$f":"VLOOKUP(A567,'Copy of Export'!$A$2:$AF2393,5,false)","v":"#N/A"},{"$f":"VLOOKUP(A567,'Copy of Export'!$A$2:$AF2393,8,false)","v":"#N/A"}]
[null,{"$f":"VLOOKUP(A568,'Copy of Export'!$A$2:$AF2393,5,false)","v":"#N/A"},{"$f":"VLOOKUP(A568,'Copy of Export'!$A$2:$AF2393,13,false)","v":"#N/A"},{"$f":"VLOOKUP(A568,'Copy of Export'!$A$2:$AF2393,2,false)","v":"#N/A"},{"$f":"VLOOKUP(A568,'Copy of Export'!$A$2:$AF2393,5,false)","v":"#N/A"},{"$f":"VLOOKUP(A568,'Copy of Export'!$A$2:$AF2393,8,false)","v":"#N/A"}]
[null,{"$f":"VLOOKUP(A569,'Copy of Export'!$A$2:$AF2393,5,false)","v":"#N/A"},{"$f":"VLOOKUP(A569,'Copy of Export'!$A$2:$AF2393,13,false)","v":"#N/A"},{"$f":"VLOOKUP(A569,'Copy of Export'!$A$2:$AF2393,2,false)","v":"#N/A"},{"$f":"VLOOKUP(A569,'Copy of Export'!$A$2:$AF2393,5,false)","v":"#N/A"},{"$f":"VLOOKUP(A569,'Copy of Export'!$A$2:$AF2393,8,false)","v":"#N/A"}]
[null,{"$f":"VLOOKUP(A570,'Copy of Export'!$A$2:$AF2393,5,false)","v":"#N/A"},{"$f":"VLOOKUP(A570,'Copy of Export'!$A$2:$AF2393,13,false)","v":"#N/A"},{"$f":"VLOOKUP(A570,'Copy of Export'!$A$2:$AF2393,2,false)","v":"#N/A"},{"$f":"VLOOKUP(A570,'Copy of Export'!$A$2:$AF2393,5,false)","v":"#N/A"},{"$f":"VLOOKUP(A570,'Copy of Export'!$A$2:$AF2393,8,false)","v":"#N/A"}]
[null,{"$f":"VLOOKUP(A571,'Copy of Export'!$A$2:$AF2393,5,false)","v":"#N/A"},{"$f":"VLOOKUP(A571,'Copy of Export'!$A$2:$AF2393,13,false)","v":"#N/A"},{"$f":"VLOOKUP(A571,'Copy of Export'!$A$2:$AF2393,2,false)","v":"#N/A"},{"$f":"VLOOKUP(A571,'Copy of Export'!$A$2:$AF2393,5,false)","v":"#N/A"},{"$f":"VLOOKUP(A571,'Copy of Export'!$A$2:$AF2393,8,false)","v":"#N/A"}]
[null,{"$f":"VLOOKUP(A572,'Copy of Export'!$A$2:$AF2393,5,false)","v":"#N/A"},{"$f":"VLOOKUP(A572,'Copy of Export'!$A$2:$AF2393,13,false)","v":"#N/A"},{"$f":"VLOOKUP(A572,'Copy of Export'!$A$2:$AF2393,2,false)","v":"#N/A"},{"$f":"VLOOKUP(A572,'Copy of Export'!$A$2:$AF2393,5,false)","v":"#N/A"},{"$f":"VLOOKUP(A572,'Copy of Export'!$A$2:$AF2393,8,false)","v":"#N/A"}]
[null,{"$f":"VLOOKUP(A573,'Copy of Export'!$A$2:$AF2393,5,false)","v":"#N/A"},{"$f":"VLOOKUP(A573,'Copy of Export'!$A$2:$AF2393,13,false)","v":"#N/A"},{"$f":"VLOOKUP(A573,'Copy of Export'!$A$2:$AF2393,2,false)","v":"#N/A"},{"$f":"VLOOKUP(A573,'Copy of Export'!$A$2:$AF2393,5,false)","v":"#N/A"},{"$f":"VLOOKUP(A573,'Copy of Export'!$A$2:$AF2393,8,false)","v":"#N/A"}]
[null,{"$f":"VLOOKUP(A574,'Copy of Export'!$A$2:$AF2393,5,false)","v":"#N/A"},{"$f":"VLOOKUP(A574,'Copy of Export'!$A$2:$AF2393,13,false)","v":"#N/A"},{"$f":"VLOOKUP(A574,'Copy of Export'!$A$2:$AF2393,2,false)","v":"#N/A"},{"$f":"VLOOKUP(A574,'Copy of Export'!$A$2:$AF2393,5,false)","v":"#N/A"},{"$f":"VLOOKUP(A574,'Copy of Export'!$A$2:$AF2393,8,false)","v":"#N/A"}]
[null,{"$f":"VLOOKUP(A575,'Copy of Export'!$A$2:$AF2393,5,false)","v":"#N/A"},{"$f":"VLOOKUP(A575,'Copy of Export'!$A$2:$AF2393,13,false)","v":"#N/A"},{"$f":"VLOOKUP(A575,'Copy of Export'!$A$2:$AF2393,2,false)","v":"#N/A"},{"$f":"VLOOKUP(A575,'Copy of Export'!$A$2:$AF2393,5,false)","v":"#N/A"},{"$f":"VLOOKUP(A575,'Copy of Export'!$A$2:$AF2393,8,false)","v":"#N/A"}]
[null,{"$f":"VLOOKUP(A576,'Copy of Export'!$A$2:$AF2393,5,false)","v":"#N/A"},{"$f":"VLOOKUP(A576,'Copy of Export'!$A$2:$AF2393,13,false)","v":"#N/A"},{"$f":"VLOOKUP(A576,'Copy of Export'!$A$2:$AF2393,2,false)","v":"#N/A"},{"$f":"VLOOKUP(A576,'Copy of Export'!$A$2:$AF2393,5,false)","v":"#N/A"},{"$f":"VLOOKUP(A576,'Copy of Export'!$A$2:$AF2393,8,false)","v":"#N/A"}]
[null,{"$f":"VLOOKUP(A577,'Copy of Export'!$A$2:$AF2393,5,false)","v":"#N/A"},{"$f":"VLOOKUP(A577,'Copy of Export'!$A$2:$AF2393,13,false)","v":"#N/A"},{"$f":"VLOOKUP(A577,'Copy of Export'!$A$2:$AF2393,2,false)","v":"#N/A"},{"$f":"VLOOKUP(A577,'Copy of Export'!$A$2:$AF2393,5,false)","v":"#N/A"},{"$f":"VLOOKUP(A577,'Copy of Export'!$A$2:$AF2393,8,false)","v":"#N/A"}]
[null,{"$f":"VLOOKUP(A578,'Copy of Export'!$A$2:$AF2393,5,false)","v":"#N/A"},{"$f":"VLOOKUP(A578,'Copy of Export'!$A$2:$AF2393,13,false)","v":"#N/A"},{"$f":"VLOOKUP(A578,'Copy of Export'!$A$2:$AF2393,2,false)","v":"#N/A"},{"$f":"VLOOKUP(A578,'Copy of Export'!$A$2:$AF2393,5,false)","v":"#N/A"},{"$f":"VLOOKUP(A578,'Copy of Export'!$A$2:$AF2393,8,false)","v":"#N/A"}]
[null,{"$f":"VLOOKUP(A579,'Copy of Export'!$A$2:$AF2393,5,false)","v":"#N/A"},{"$f":"VLOOKUP(A579,'Copy of Export'!$A$2:$AF2393,13,false)","v":"#N/A"},{"$f":"VLOOKUP(A579,'Copy of Export'!$A$2:$AF2393,2,false)","v":"#N/A"},{"$f":"VLOOKUP(A579,'Copy of Export'!$A$2:$AF2393,5,false)","v":"#N/A"},{"$f":"VLOOKUP(A579,'Copy of Export'!$A$2:$AF2393,8,false)","v":"#N/A"}]
[null,{"$f":"VLOOKUP(A580,'Copy of Export'!$A$2:$AF2393,5,false)","v":"#N/A"},{"$f":"VLOOKUP(A580,'Copy of Export'!$A$2:$AF2393,13,false)","v":"#N/A"},{"$f":"VLOOKUP(A580,'Copy of Export'!$A$2:$AF2393,2,false)","v":"#N/A"},{"$f":"VLOOKUP(A580,'Copy of Export'!$A$2:$AF2393,5,false)","v":"#N/A"},{"$f":"VLOOKUP(A580,'Copy of Export'!$A$2:$AF2393,8,false)","v":"#N/A"}]

{"sheet":"DONT USE-Misc. Surplus","index":3,"n_rows":711,"n_cols":7,"rows_kept":711,"hidden":true}
["Asset Tag","Description","Model","S/N","Brand","Category","Condition"]
["44397",{"$f":"VLOOKUP(A2,'Copy of Export'!$A$2:$AF2350,5,false)","v":"#N/A"},{"$f":"VLOOKUP(A2,'Copy of Export'!$A$2:$AF2350,13,false)","v":"#N/A"},{"$f":"VLOOKUP(A2,'Copy of Export'!$A$2:$AF2350,2,false)","v":"#N/A"},{"$f":"VLOOKUP(A2,'Copy of Export'!$A$2:$AF2350,5,false)","v":"#N/A"},{"$f":"VLOOKUP(A2,'Copy of Export'!$A$2:$AF2350,8,false)","v":"#N/A"},"Working"]
["45813",{"$f":"VLOOKUP(A3,'Copy of Export'!$A$2:$AF2350,5,false)","v":"#N/A"},{"$f":"VLOOKUP(A3,'Copy of Export'!$A$2:$AF2350,13,false)","v":"#N/A"},{"$f":"VLOOKUP(A3,'Copy of Export'!$A$2:$AF2350,2,false)","v":"#N/A"},{"$f":"VLOOKUP(A3,'Copy of Export'!$A$2:$AF2350,5,false)","v":"#N/A"},{"$f":"VLOOKUP(A3,'Copy of Export'!$A$2:$AF2350,8,false)","v":"#N/A"},"Working"]
["45258",{"$f":"VLOOKUP(A4,'Copy of Export'!$A$2:$AF2350,5,false)","v":"#N/A"},{"$f":"VLOOKUP(A4,'Copy of Export'!$A$2:$AF2350,13,false)","v":"#N/A"},{"$f":"VLOOKUP(A4,'Copy of Export'!$A$2:$AF2350,2,false)","v":"#N/A"},{"$f":"VLOOKUP(A4,'Copy of Export'!$A$2:$AF2350,5,false)","v":"#N/A"},{"$f":"VLOOKUP(A4,'Copy of Export'!$A$2:$AF2350,8,false)","v":"#N/A"},"Working"]
["47254",{"$f":"VLOOKUP(A5,'Copy of Export'!$A$2:$AF2350,5,false)","v":"#N/A"},{"$f":"VLOOKUP(A5,'Copy of Export'!$A$2:$AF2350,13,false)","v":"#N/A"},{"$f":"VLOOKUP(A5,'Copy of Export'!$A$2:$AF2350,2,false)","v":"#N/A"},{"$f":"VLOOKUP(A5,'Copy of Export'!$A$2:$AF2350,5,false)","v":"#N/A"},{"$f":"VLOOKUP(A5,'Copy of Export'!$A$2:$AF2350,8,false)","v":"#N/A"},"Working"]
["39739",{"$f":"VLOOKUP(A6,'Copy of Export'!$A$2:$AF2350,5,false)","v":"Lenovo ThinkPad USB 3.0 Dock"},{"$f":"VLOOKUP(A6,'Copy of Export'!$A$2:$AF2350,13,false)","v":"DU9019D1"},{"$f":"VLOOKUP(A6,'Copy of Export'!$A$2:$AF2350,2,false)","v":"K1322000455"},{"$f":"VLOOKUP(A6,'Copy of Export'!$A$2:$AF2350,5,false)","v":"Lenovo ThinkPad USB 3.0 Dock"},{"$f":"VLOOKUP(A6,'Copy of Export'!$A$2:$AF2350,8,false)","v":"Dock"},"Working"]
["46992",{"$f":"VLOOKUP(A7,'Copy of Export'!$A$2:$AF2350,5,false)","v":"#N/A"},{"$f":"VLOOKUP(A7,'Copy of Export'!$A$2:$AF2350,13,false)","v":"#N/A"},{"$f":"VLOOKUP(A7,'Copy of Export'!$A$2:$AF2350,2,false)","v":"#N/A"},{"$f":"VLOOKUP(A7,'Copy of Export'!$A$2:$AF2350,5,false)","v":"#N/A"},{"$f":"VLOOKUP(A7,'Copy of Export'!$A$2:$AF2350,8,false)","v":"#N/A"},"Working"]
["45692",{"$f":"VLOOKUP(A8,'Copy of Export'!$A$2:$AF2350,5,false)","v":"#N/A"},{"$f":"VLOOKUP(A8,'Copy of Export'!$A$2:$AF2350,13,false)","v":"#N/A"},{"$f":"VLOOKUP(A8,'Copy of Export'!$A$2:$AF2350,2,false)","v":"#N/A"},{"$f":"VLOOKUP(A8,'Copy of Export'!$A$2:$AF2350,5,false)","v":"#N/A"},{"$f":"VLOOKUP(A8,'Copy of Export'!$A$2:$AF2350,8,false)","v":"#N/A"},"Working"]
["N/A","Lenovo ThinkPad USB 3.0 Dock","DU9019D1",{"$f":"VLOOKUP(A9,'Copy of Export'!$A$2:$AF2350,2,false)","v":"#N/A"},"Lenovo ThinkPad USB 3.0 Dock","Dock","Working"]
["42095",{"$f":"VLOOKUP(A10,'Copy of Export'!$A$2:$AF2350,5,false)","v":"#N/A"},{"$f":"VLOOKUP(A10,'Copy of Export'!$A$2:$AF2350,13,false)","v":"#N/A"},{"$f":"VLOOKUP(A10,'Copy of Export'!$A$2:$AF2350,2,false)","v":"#N/A"},{"$f":"VLOOKUP(A10,'Copy of Export'!$A$2:$AF2350,5,false)","v":"#N/A"},{"$f":"VLOOKUP(A10,'Copy of Export'!$A$2:$AF2350,8,false)","v":"#N/A"},"Broken"]
["40645",{"$f":"VLOOKUP(A11,'Copy of Export'!$A$2:$AF2350,5,false)","v":"#N/A"},{"$f":"VLOOKUP(A11,'Copy of Export'!$A$2:$AF2350,13,false)","v":"#N/A"},{"$f":"VLOOKUP(A11,'Copy of Export'!$A$2:$AF2350,2,false)","v":"#N/A"},{"$f":"VLOOKUP(A11,'Copy of Export'!$A$2:$AF2350,5,false)","v":"#N/A"},{"$f":"VLOOKUP(A11,'Copy of Export'!$A$2:$AF2350,8,false)","v":"#N/A"},"Broken"]
["42097",{"$f":"VLOOKUP(A12,'Copy of Export'!$A$2:$AF2350,5,false)","v":"#N/A"},{"$f":"VLOOKUP(A12,'Copy of Export'!$A$2:$AF2350,13,false)","v":"#N/A"},{"$f":"VLOOKUP(A12,'Copy of Export'!$A$2:$AF2350,2,false)","v":"#N/A"},{"$f":"VLOOKUP(A12,'Copy of Export'!$A$2:$AF2350,5,false)","v":"#N/A"},{"$f":"VLOOKUP(A12,'Copy of Export'!$A$2:$AF2350,8,false)","v":"#N/A"},"Working"]
["68783",{"$f":"VLOOKUP(A13,'Copy of Export'!$A$2:$AF2350,5,false)","v":"#N/A"},{"$f":"VLOOKUP(A13,'Copy of Export'!$A$2:$AF2350,13,false)","v":"#N/A"},{"$f":"VLOOKUP(A13,'Copy of Export'!$A$2:$AF2350,2,false)","v":"#N/A"},{"$f":"VLOOKUP(A13,'Copy of Export'!$A$2:$AF2350,5,false)","v":"#N/A"},{"$f":"VLOOKUP(A13,'Copy of Export'!$A$2:$AF2350,8,false)","v":"#N/A"},"Working"]
["68778",{"$f":"VLOOKUP(A14,'Copy of Export'!$A$2:$AF2350,5,false)","v":"#N/A"},{"$f":"VLOOKUP(A14,'Copy of Export'!$A$2:$AF2350,13,false)","v":"#N/A"},{"$f":"VLOOKUP(A14,'Copy of Export'!$A$2:$AF2350,2,false)","v":"#N/A"},{"$f":"VLOOKUP(A14,'Copy of Export'!$A$2:$AF2350,5,false)","v":"#N/A"},{"$f":"VLOOKUP(A14,'Copy of Export'!$A$2:$AF2350,8,false)","v":"#N/A"},"Broken"]
["N/A","TeachLogic Maxim III","Maxim III",{"$f":"VLOOKUP(A15,'Copy of Export'!$A$2:$AF2350,2,false)","v":"#N/A"},"TeachLogic Maxim III","Classroom Audio","Broken"]
["S57524",{"$f":"VLOOKUP(A16,'Copy of Export'!$A$2:$AF2350,5,false)","v":"#N/A"},{"$f":"VLOOKUP(A16,'Copy of Export'!$A$2:$AF2350,13,false)","v":"#N/A"},{"$f":"VLOOKUP(A16,'Copy of Export'!$A$2:$AF2350,2,false)","v":"#N/A"},{"$f":"VLOOKUP(A16,'Copy of Export'!$A$2:$AF2350,5,false)","v":"#N/A"},{"$f":"VLOOKUP(A16,'Copy of Export'!$A$2:$AF2350,8,false)","v":"#N/A"},"Working"]
["S57530",{"$f":"VLOOKUP(A17,'Copy of Export'!$A$2:$AF2350,5,false)","v":"#N/A"},{"$f":"VLOOKUP(A17,'Copy of Export'!$A$2:$AF2350,13,false)","v":"#N/A"},{"$f":"VLOOKUP(A17,'Copy of Export'!$A$2:$AF2350,2,false)","v":"#N/A"},{"$f":"VLOOKUP(A17,'Copy of Export'!$A$2:$AF2350,5,false)","v":"#N/A"},{"$f":"VLOOKUP(A17,'Copy of Export'!$A$2:$AF2350,8,false)","v":"#N/A"},"Working"]
["S57531",{"$f":"VLOOKUP(A18,'Copy of Export'!$A$2:$AF2350,5,false)","v":"#N/A"},{"$f":"VLOOKUP(A18,'Copy of Export'!$A$2:$AF2350,13,false)","v":"#N/A"},{"$f":"VLOOKUP(A18,'Copy of Export'!$A$2:$AF2350,2,false)","v":"#N/A"},{"$f":"VLOOKUP(A18,'Copy of Export'!$A$2:$AF2350,5,false)","v":"#N/A"},{"$f":"VLOOKUP(A18,'Copy of Export'!$A$2:$AF2350,8,false)","v":"#N/A"},"Working"]
["S57527",{"$f":"VLOOKUP(A19,'Copy of Export'!$A$2:$AF2350,5,false)","v":"#N/A"},{"$f":"VLOOKUP(A19,'Copy of Export'!$A$2:$AF2350,13,false)","v":"#N/A"},{"$f":"VLOOKUP(A19,'Copy of Export'!$A$2:$AF2350,2,false)","v":"#N/A"},{"$f":"VLOOKUP(A19,'Copy of Export'!$A$2:$AF2350,5,false)","v":"#N/A"},{"$f":"VLOOKUP(A19,'Copy of Export'!$A$2:$AF2350,8,false)","v":"#N/A"},"Working"]
["S57544",{"$f":"VLOOKUP(A20,'Copy of Export'!$A$2:$AF2350,5,false)","v":"#N/A"},{"$f":"VLOOKUP(A20,'Copy of Export'!$A$2:$AF2350,13,false)","v":"#N/A"},{"$f":"VLOOKUP(A20,'Copy of Export'!$A$2:$AF2350,2,false)","v":"#N/A"},{"$f":"VLOOKUP(A20,'Copy of Export'!$A$2:$AF2350,5,false)","v":"#N/A"},{"$f":"VLOOKUP(A20,'Copy of Export'!$A$2:$AF2350,8,false)","v":"#N/A"},"Working"]
["S57547",{"$f":"VLOOKUP(A21,'Copy of Export'!$A$2:$AF2350,5,false)","v":"#N/A"},{"$f":"VLOOKUP(A21,'Copy of Export'!$A$2:$AF2350,13,false)","v":"#N/A"},{"$f":"VLOOKUP(A21,'Copy of Export'!$A$2:$AF2350,2,false)","v":"#N/A"},{"$f":"VLOOKUP(A21,'Copy of Export'!$A$2:$AF2350,5,false)","v":"#N/A"},{"$f":"VLOOKUP(A21,'Copy of Export'!$A$2:$AF2350,8,false)","v":"#N/A"},"Working"]
["S57537",{"$f":"VLOOKUP(A22,'Copy of Export'!$A$2:$AF2350,5,false)","v":"#N/A"},{"$f":"VLOOKUP(A22,'Copy of Export'!$A$2:$AF2350,13,false)","v":"#N/A"},{"$f":"VLOOKUP(A22,'Copy of Export'!$A$2:$AF2350,2,false)","v":"#N/A"},{"$f":"VLOOKUP(A22,'Copy of Export'!$A$2:$AF2350,5,false)","v":"#N/A"},{"$f":"VLOOKUP(A22,'Copy of Export'!$A$2:$AF2350,8,false)","v":"#N/A"},"Working"]
["S57526",{"$f":"VLOOKUP(A23,'Copy of Export'!$A$2:$AF2350,5,false)","v":"#N/A"},{"$f":"VLOOKUP(A23,'Copy of Export'!$A$2:$AF2350,13,false)","v":"#N/A"},{"$f":"VLOOKUP(A23,'Copy of Export'!$A$2:$AF2350,2,false)","v":"#N/A"},{"$f":"VLOOKUP(A23,'Copy of Export'!$A$2:$AF2350,5,false)","v":"#N/A"},{"$f":"VLOOKUP(A23,'Copy of Export'!$A$2:$AF2350,8,false)","v":"#N/A"},"Working"]
["S57542",{"$f":"VLOOKUP(A24,'Copy of Export'!$A$2:$AF2350,5,false)","v":"#N/A"},{"$f":"VLOOKUP(A24,'Copy of Export'!$A$2:$AF2350,13,false)","v":"#N/A"},{"$f":"VLOOKUP(A24,'Copy of Export'!$A$2:$AF2350,2,false)","v":"#N/A"},{"$f":"VLOOKUP(A24,'Copy of Export'!$A$2:$AF2350,5,false)","v":"#N/A"},{"$f":"VLOOKUP(A24,'Copy of Export'!$A$2:$AF2350,8,false)","v":"#N/A"},"Working"]
["S57546",{"$f":"VLOOKUP(A25,'Copy of Export'!$A$2:$AF2350,5,false)","v":"#N/A"},{"$f":"VLOOKUP(A25,'Copy of Export'!$A$2:$AF2350,13,false)","v":"#N/A"},{"$f":"VLOOKUP(A25,'Copy of Export'!$A$2:$AF2350,2,false)","v":"#N/A"},{"$f":"VLOOKUP(A25,'Copy of Export'!$A$2:$AF2350,5,false)","v":"#N/A"},{"$f":"VLOOKUP(A25,'Copy of Export'!$A$2:$AF2350,8,false)","v":"#N/A"},"Working"]
["S57541",{"$f":"VLOOKUP(A26,'Copy of Export'!$A$2:$AF2350,5,false)","v":"#N/A"},{"$f":"VLOOKUP(A26,'Copy of Export'!$A$2:$AF2350,13,false)","v":"#N/A"},{"$f":"VLOOKUP(A26,'Copy of Export'!$A$2:$AF2350,2,false)","v":"#N/A"},{"$f":"VLOOKUP(A26,'Copy of Export'!$A$2:$AF2350,5,false)","v":"#N/A"},{"$f":"VLOOKUP(A26,'Copy of Export'!$A$2:$AF2350,8,false)","v":"#N/A"},"Working"]
["S57539",{"$f":"VLOOKUP(A27,'Copy of Export'!$A$2:$AF2350,5,false)","v":"#N/A"},{"$f":"VLOOKUP(A27,'Copy of Export'!$A$2:$AF2350,13,false)","v":"#N/A"},{"$f":"VLOOKUP(A27,'Copy of Export'!$A$2:$AF2350,2,false)","v":"#N/A"},{"$f":"VLOOKUP(A27,'Copy of Export'!$A$2:$AF2350,5,false)","v":"#N/A"},{"$f":"VLOOKUP(A27,'Copy of Export'!$A$2:$AF2350,8,false)","v":"#N/A"},"Working"]
["S57536",{"$f":"VLOOKUP(A28,'Copy of Export'!$A$2:$AF2350,5,false)","v":"#N/A"},{"$f":"VLOOKUP(A28,'Copy of Export'!$A$2:$AF2350,13,false)","v":"#N/A"},{"$f":"VLOOKUP(A28,'Copy of Export'!$A$2:$AF2350,2,false)","v":"#N/A"},{"$f":"VLOOKUP(A28,'Copy of Export'!$A$2:$AF2350,5,false)","v":"#N/A"},{"$f":"VLOOKUP(A28,'Copy of Export'!$A$2:$AF2350,8,false)","v":"#N/A"},"Working"]
["N/A","Samsung Galaxy Tab A (2019)","SMT710NZSAXAR",{"$f":"VLOOKUP(A29,'Copy of Export'!$A$2:$AF2350,2,false)","v":"#N/A"},"Samsung Galaxy Tab A (2019)","Tablet","Working"]
["S57533",null,{"$f":"VLOOKUP(A30,'Copy of Export'!$A$2:$AF2350,13,false)","v":"#N/A"},1285698,{"$f":"VLOOKUP(A30,'Copy of Export'!$A$2:$AF2350,5,false)","v":"#N/A"},{"$f":"VLOOKUP(A30,'Copy of Export'!$A$2:$AF2350,8,false)","v":"#N/A"},"Working"]
["4 BOXES OF CABLES",{"$f":"VLOOKUP(A31,'Copy of Export'!$A$2:$AF2350,5,false)","v":"#N/A"},{"$f":"VLOOKUP(A31,'Copy of Export'!$A$2:$AF2350,13,false)","v":"#N/A"},{"$f":"VLOOKUP(A31,'Copy of Export'!$A$2:$AF2350,2,false)","v":"#N/A"},{"$f":"VLOOKUP(A31,'Copy of Export'!$A$2:$AF2350,5,false)","v":"#N/A"},{"$f":"VLOOKUP(A31,'Copy of Export'!$A$2:$AF2350,8,false)","v":"#N/A"},"Working"]
["KEYBOARD ( 12 QUANTITY)",{"$f":"VLOOKUP(A32,'Copy of Export'!$A$2:$AF2350,5,false)","v":"#N/A"},{"$f":"VLOOKUP(A32,'Copy of Export'!$A$2:$AF2350,13,false)","v":"#N/A"},{"$f":"VLOOKUP(A32,'Copy of Export'!$A$2:$AF2350,2,false)","v":"#N/A"},{"$f":"VLOOKUP(A32,'Copy of Export'!$A$2:$AF2350,5,false)","v":"#N/A"},{"$f":"VLOOKUP(A32,'Copy of Export'!$A$2:$AF2350,8,false)","v":"#N/A"},"Working"]
["2 BOXES ADAPTERS",{"$f":"VLOOKUP(A33,'Copy of Export'!$A$2:$AF2350,5,false)","v":"#N/A"},{"$f":"VLOOKUP(A33,'Copy of Export'!$A$2:$AF2350,13,false)","v":"#N/A"},{"$f":"VLOOKUP(A33,'Copy of Export'!$A$2:$AF2350,2,false)","v":"#N/A"},{"$f":"VLOOKUP(A33,'Copy of Export'!$A$2:$AF2350,5,false)","v":"#N/A"},{"$f":"VLOOKUP(A33,'Copy of Export'!$A$2:$AF2350,8,false)","v":"#N/A"},"Working"]
["1 BOX 23 MICE",{"$f":"VLOOKUP(A34,'Copy of Export'!$A$2:$AF2350,5,false)","v":"#N/A"},{"$f":"VLOOKUP(A34,'Copy of Export'!$A$2:$AF2350,13,false)","v":"#N/A"},{"$f":"VLOOKUP(A34,'Copy of Export'!$A$2:$AF2350,2,false)","v":"#N/A"},{"$f":"VLOOKUP(A34,'Copy of Export'!$A$2:$AF2350,5,false)","v":"#N/A"},{"$f":"VLOOKUP(A34,'Copy of Export'!$A$2:$AF2350,8,false)","v":"#N/A"},"Working"]
["1 BOX DONGLES",{"$f":"VLOOKUP(A35,'Copy of Export'!$A$2:$AF2350,5,false)","v":"#N/A"},{"$f":"VLOOKUP(A35,'Copy of Export'!$A$2:$AF2350,13,false)","v":"#N/A"},{"$f":"VLOOKUP(A35,'Copy of Export'!$A$2:$AF2350,2,false)","v":"#N/A"},{"$f":"VLOOKUP(A35,'Copy of Export'!$A$2:$AF2350,5,false)","v":"#N/A"},{"$f":"VLOOKUP(A35,'Copy of Export'!$A$2:$AF2350,8,false)","v":"#N/A"},"Working"]
["1 BOX MISC",{"$f":"VLOOKUP(A36,'Copy of Export'!$A$2:$AF2350,5,false)","v":"#N/A"},{"$f":"VLOOKUP(A36,'Copy of Export'!$A$2:$AF2350,13,false)","v":"#N/A"},{"$f":"VLOOKUP(A36,'Copy of Export'!$A$2:$AF2350,2,false)","v":"#N/A"},{"$f":"VLOOKUP(A36,'Copy of Export'!$A$2:$AF2350,5,false)","v":"#N/A"},{"$f":"VLOOKUP(A36,'Copy of Export'!$A$2:$AF2350,8,false)","v":"#N/A"},"Working"]
["1 BOX REMOTES",{"$f":"VLOOKUP(A37,'Copy of Export'!$A$2:$AF2350,5,false)","v":"#N/A"},{"$f":"VLOOKUP(A37,'Copy of Export'!$A$2:$AF2350,13,false)","v":"#N/A"},{"$f":"VLOOKUP(A37,'Copy of Export'!$A$2:$AF2350,2,false)","v":"#N/A"},{"$f":"VLOOKUP(A37,'Copy of Export'!$A$2:$AF2350,5,false)","v":"#N/A"},{"$f":"VLOOKUP(A37,'Copy of Export'!$A$2:$AF2350,8,false)","v":"#N/A"},"Broken"]
["1 BOX 12 KEYBOARDS",{"$f":"VLOOKUP(A38,'Copy of Export'!$A$2:$AF2350,5,false)","v":"#N/A"},{"$f":"VLOOKUP(A38,'Copy of Export'!$A$2:$AF2350,13,false)","v":"#N/A"},{"$f":"VLOOKUP(A38,'Copy of Export'!$A$2:$AF2350,2,false)","v":"#N/A"},{"$f":"VLOOKUP(A38,'Copy of Export'!$A$2:$AF2350,5,false)","v":"#N/A"},{"$f":"VLOOKUP(A38,'Copy of Export'!$A$2:$AF2350,8,false)","v":"#N/A"},"Broken"]
["1 BOX 9 HEADPHONES",{"$f":"VLOOKUP(A39,'Copy of Export'!$A$2:$AF2350,5,false)","v":"#N/A"},{"$f":"VLOOKUP(A39,'Copy of Export'!$A$2:$AF2350,13,false)","v":"#N/A"},{"$f":"VLOOKUP(A39,'Copy of Export'!$A$2:$AF2350,2,false)","v":"#N/A"},{"$f":"VLOOKUP(A39,'Copy of Export'!$A$2:$AF2350,5,false)","v":"#N/A"},{"$f":"VLOOKUP(A39,'Copy of Export'!$A$2:$AF2350,8,false)","v":"#N/A"},"Broken"]
["1 BOX MISC ELMO AND PROJECTOR",{"$f":"VLOOKUP(A40,'Copy of Export'!$A$2:$AF2350,5,false)","v":"#N/A"},{"$f":"VLOOKUP(A40,'Copy of Export'!$A$2:$AF2350,13,false)","v":"#N/A"},{"$f":"VLOOKUP(A40,'Copy of Export'!$A$2:$AF2350,2,false)","v":"#N/A"},{"$f":"VLOOKUP(A40,'Copy of Export'!$A$2:$AF2350,5,false)","v":"#N/A"},{"$f":"VLOOKUP(A40,'Copy of Export'!$A$2:$AF2350,8,false)","v":"#N/A"},"Working"]
["1 BOX LENOVO DOCKS",{"$f":"VLOOKUP(A41,'Copy of Export'!$A$2:$AF2350,5,false)","v":"#N/A"},{"$f":"VLOOKUP(A41,'Copy of Export'!$A$2:$AF2350,13,false)","v":"#N/A"},{"$f":"VLOOKUP(A41,'Copy of Export'!$A$2:$AF2350,2,false)","v":"#N/A"},{"$f":"VLOOKUP(A41,'Copy of Export'!$A$2:$AF2350,5,false)","v":"#N/A"},{"$f":"VLOOKUP(A41,'Copy of Export'!$A$2:$AF2350,8,false)","v":"#N/A"},"Working"]
["1 BOX MISC LAPTOP PARTS",{"$f":"VLOOKUP(A42,'Copy of Export'!$A$2:$AF2350,5,false)","v":"#N/A"},{"$f":"VLOOKUP(A42,'Copy of Export'!$A$2:$AF2350,13,false)","v":"#N/A"},{"$f":"VLOOKUP(A42,'Copy of Export'!$A$2:$AF2350,2,false)","v":"#N/A"},{"$f":"VLOOKUP(A42,'Copy of Export'!$A$2:$AF2350,5,false)","v":"#N/A"},{"$f":"VLOOKUP(A42,'Copy of Export'!$A$2:$AF2350,8,false)","v":"#N/A"},"Working"]
["1 BOX OF 13 TV-ATORS",{"$f":"VLOOKUP(A43,'Copy of Export'!$A$2:$AF2350,5,false)","v":"#N/A"},{"$f":"VLOOKUP(A43,'Copy of Export'!$A$2:$AF2350,13,false)","v":"#N/A"},{"$f":"VLOOKUP(A43,'Copy of Export'!$A$2:$AF2350,2,false)","v":"#N/A"},{"$f":"VLOOKUP(A43,'Copy of Export'!$A$2:$AF2350,5,false)","v":"#N/A"},{"$f":"VLOOKUP(A43,'Copy of Export'!$A$2:$AF2350,8,false)","v":"#N/A"},"Working"]
["2 BOXES OF CLICKER",{"$f":"VLOOKUP(A44,'Copy of Export'!$A$2:$AF2350,5,false)","v":"#N/A"},{"$f":"VLOOKUP(A44,'Copy of Export'!$A$2:$AF2350,13,false)","v":"#N/A"},{"$f":"VLOOKUP(A44,'Copy of Export'!$A$2:$AF2350,2,false)","v":"#N/A"},{"$f":"VLOOKUP(A44,'Copy of Export'!$A$2:$AF2350,5,false)","v":"#N/A"},{"$f":"VLOOKUP(A44,'Copy of Export'!$A$2:$AF2350,8,false)","v":"#N/A"},"Broken"]
["HP PRO CURVE SWITCH 1400",{"$f":"VLOOKUP(A45,'Copy of Export'!$A$2:$AF2350,5,false)","v":"#N/A"},{"$f":"VLOOKUP(A45,'Copy of Export'!$A$2:$AF2350,13,false)","v":"#N/A"},{"$f":"VLOOKUP(A45,'Copy of Export'!$A$2:$AF2350,2,false)","v":"#N/A"},{"$f":"VLOOKUP(A45,'Copy of Export'!$A$2:$AF2350,5,false)","v":"#N/A"},{"$f":"VLOOKUP(A45,'Copy of Export'!$A$2:$AF2350,8,false)","v":"#N/A"},"Working"]
["XIRRIUS XR600 AP",{"$f":"VLOOKUP(A46,'Copy of Export'!$A$2:$AF2350,5,false)","v":"#N/A"},{"$f":"VLOOKUP(A46,'Copy of Export'!$A$2:$AF2350,13,false)","v":"#N/A"},{"$f":"VLOOKUP(A46,'Copy of Export'!$A$2:$AF2350,2,false)","v":"#N/A"},{"$f":"VLOOKUP(A46,'Copy of Export'!$A$2:$AF2350,5,false)","v":"#N/A"},{"$f":"VLOOKUP(A46,'Copy of Export'!$A$2:$AF2350,8,false)","v":"#N/A"},"Broken"]
["LENOVO DESKTOP TOWER",null,null,{"$f":"VLOOKUP(A47,'Copy of Export'!$A$2:$AF2350,2,false)","v":"#N/A"},{"$f":"VLOOKUP(A47,'Copy of Export'!$A$2:$AF2350,5,false)","v":"#N/A"},{"$f":"VLOOKUP(A47,'Copy of Export'!$A$2:$AF2350,8,false)","v":"#N/A"},"Working"]
["1 BOX 56 Radius DTR650",{"$f":"VLOOKUP(A48,'Copy of Export'!$A$2:$AF2350,5,false)","v":"#N/A"},{"$f":"VLOOKUP(A48,'Copy of Export'!$A$2:$AF2350,13,false)","v":"#N/A"},{"$f":"VLOOKUP(A48,'Copy of Export'!$A$2:$AF2350,2,false)","v":"#N/A"},{"$f":"VLOOKUP(A48,'Copy of Export'!$A$2:$AF2350,5,false)","v":"#N/A"},{"$f":"VLOOKUP(A48,'Copy of Export'!$A$2:$AF2350,8,false)","v":"#N/A"},"Broken"]
["1 BOX 26 CHARGER BASES",{"$f":"VLOOKUP(A49,'Copy of Export'!$A$2:$AF2350,5,false)","v":"#N/A"},{"$f":"VLOOKUP(A49,'Copy of Export'!$A$2:$AF2350,13,false)","v":"#N/A"},{"$f":"VLOOKUP(A49,'Copy of Export'!$A$2:$AF2350,2,false)","v":"#N/A"},{"$f":"VLOOKUP(A49,'Copy of Export'!$A$2:$AF2350,5,false)","v":"#N/A"},{"$f":"VLOOKUP(A49,'Copy of Export'!$A$2:$AF2350,8,false)","v":"#N/A"},"Working"]
["1 BOX 40 RADIUS CHARGER BASES",null,null,{"$f":"VLOOKUP(A50,'Copy of Export'!$A$2:$AF2350,2,false)","v":"#N/A"},{"$f":"VLOOKUP(A50,'Copy of Export'!$A$2:$AF2350,5,false)","v":"#N/A"},{"$f":"VLOOKUP(A50,'Copy of Export'!$A$2:$AF2350,8,false)","v":"#N/A"},"Working"]
["1 BOX 27 CHARGER BASES",{"$f":"VLOOKUP(A51,'Copy of Export'!$A$2:$AF2350,5,false)","v":"#N/A"},{"$f":"VLOOKUP(A51,'Copy of Export'!$A$2:$AF2350,13,false)","v":"#N/A"},{"$f":"VLOOKUP(A51,'Copy of Export'!$A$2:$AF2350,2,false)","v":"#N/A"},{"$f":"VLOOKUP(A51,'Copy of Export'!$A$2:$AF2350,5,false)","v":"#N/A"},{"$f":"VLOOKUP(A51,'Copy of Export'!$A$2:$AF2350,8,false)","v":"#N/A"},"Working"]
["1 BOX 39 RADIUS DTR650",{"$f":"VLOOKUP(A52,'Copy of Export'!$A$2:$AF2350,5,false)","v":"#N/A"},{"$f":"VLOOKUP(A52,'Copy of Export'!$A$2:$AF2350,13,false)","v":"#N/A"},{"$f":"VLOOKUP(A52,'Copy of Export'!$A$2:$AF2350,2,false)","v":"#N/A"},{"$f":"VLOOKUP(A52,'Copy of Export'!$A$2:$AF2350,5,false)","v":"#N/A"},{"$f":"VLOOKUP(A52,'Copy of Export'!$A$2:$AF2350,8,false)","v":"#N/A"},"Working"]
["1 BOX 52 CHARGER BASES",{"$nulls":3},{"$f":"VLOOKUP(A53,'Copy of Export'!$A$2:$AF2350,5,false)","v":"#N/A"},{"$f":"VLOOKUP(A53,'Copy of Export'!$A$2:$AF2350,8,false)","v":"#N/A"},"Working"]
["1 BOX 52 RADIUS DTR650",null,{"$f":"VLOOKUP(A54,'Copy of Export'!$A$2:$AF2350,13,false)","v":"#N/A"},null,{"$f":"VLOOKUP(A54,'Copy of Export'!$A$2:$AF2350,5,false)","v":"#N/A"},{"$f":"VLOOKUP(A54,'Copy of Export'!$A$2:$AF2350,8,false)","v":"#N/A"},"Working"]
[null,{"$f":"VLOOKUP(A55,'Copy of Export'!$A$2:$AF2350,5,false)","v":"#N/A"},{"$f":"VLOOKUP(A55,'Copy of Export'!$A$2:$AF2350,13,false)","v":"#N/A"},{"$f":"VLOOKUP(A55,'Copy of Export'!$A$2:$AF2350,2,false)","v":"#N/A"},{"$f":"VLOOKUP(A55,'Copy of Export'!$A$2:$AF2350,5,false)","v":"#N/A"},{"$f":"VLOOKUP(A55,'Copy of Export'!$A$2:$AF2350,8,false)","v":"#N/A"},"Working"]
[null,null,{"$f":"VLOOKUP(A56,'Copy of Export'!$A$2:$AF2350,13,false)","v":"#N/A"},{"$f":"VLOOKUP(A56,'Copy of Export'!$A$2:$AF2350,2,false)","v":"#N/A"},{"$f":"VLOOKUP(A56,'Copy of Export'!$A$2:$AF2350,5,false)","v":"#N/A"},null,"Working"]
[null,{"$f":"VLOOKUP(A57,'Copy of Export'!$A$2:$AF2350,5,false)","v":"#N/A"},{"$f":"VLOOKUP(A57,'Copy of Export'!$A$2:$AF2350,13,false)","v":"#N/A"},{"$f":"VLOOKUP(A57,'Copy of Export'!$A$2:$AF2350,2,false)","v":"#N/A"},{"$f":"VLOOKUP(A57,'Copy of Export'!$A$2:$AF2350,5,false)","v":"#N/A"},{"$f":"VLOOKUP(A57,'Copy of Export'!$A$2:$AF2350,8,false)","v":"#N/A"},"Working"]
[null,{"$f":"VLOOKUP(A58,'Copy of Export'!$A$2:$AF2350,5,false)","v":"#N/A"},{"$f":"VLOOKUP(A58,'Copy of Export'!$A$2:$AF2350,13,false)","v":"#N/A"},{"$f":"VLOOKUP(A58,'Copy of Export'!$A$2:$AF2350,2,false)","v":"#N/A"},{"$f":"VLOOKUP(A58,'Copy of Export'!$A$2:$AF2350,5,false)","v":"#N/A"},{"$f":"VLOOKUP(A58,'Copy of Export'!$A$2:$AF2350,8,false)","v":"#N/A"},"Working"]
[null,{"$f":"VLOOKUP(A59,'Copy of Export'!$A$2:$AF2350,5,false)","v":"#N/A"},{"$f":"VLOOKUP(A59,'Copy of Export'!$A$2:$AF2350,13,false)","v":"#N/A"},{"$f":"VLOOKUP(A59,'Copy of Export'!$A$2:$AF2350,2,false)","v":"#N/A"},{"$f":"VLOOKUP(A59,'Copy of Export'!$A$2:$AF2350,5,false)","v":"#N/A"},{"$f":"VLOOKUP(A59,'Copy of Export'!$A$2:$AF2350,8,false)","v":"#N/A"},"Working"]
[null,{"$f":"VLOOKUP(A60,'Copy of Export'!$A$2:$AF2350,5,false)","v":"#N/A"},{"$f":"VLOOKUP(A60,'Copy of Export'!$A$2:$AF2350,13,false)","v":"#N/A"},{"$f":"VLOOKUP(A60,'Copy of Export'!$A$2:$AF2350,2,false)","v":"#N/A"},{"$f":"VLOOKUP(A60,'Copy of Export'!$A$2:$AF2350,5,false)","v":"#N/A"},{"$f":"VLOOKUP(A60,'Copy of Export'!$A$2:$AF2350,8,false)","v":"#N/A"},"Working"]
[null,"Dell","22in",{"$f":"VLOOKUP(A61,'Copy of Export'!$A$2:$AF2350,2,false)","v":"#N/A"},{"$f":"VLOOKUP(A61,'Copy of Export'!$A$2:$AF2350,5,false)","v":"#N/A"},{"$f":"VLOOKUP(A61,'Copy of Export'!$A$2:$AF2350,8,false)","v":"#N/A"},"Working"]
[null,"Dell 19\" Widescreen Monitor",{"$f":"VLOOKUP(A62,'Copy of Export'!$A$2:$AF2350,13,false)","v":"#N/A"},{"$f":"VLOOKUP(A62,'Copy of Export'!$A$2:$AF2350,2,false)","v":"#N/A"},{"$f":"VLOOKUP(A62,'Copy of Export'!$A$2:$AF2350,5,false)","v":"#N/A"},{"$f":"VLOOKUP(A62,'Copy of Export'!$A$2:$AF2350,8,false)","v":"#N/A"},"Broken"]
[null,{"$f":"VLOOKUP(A63,'Copy of Export'!$A$2:$AF2350,5,false)","v":"#N/A"},{"$f":"VLOOKUP(A63,'Copy of Export'!$A$2:$AF2350,13,false)","v":"#N/A"},{"$f":"VLOOKUP(A63,'Copy of Export'!$A$2:$AF2350,2,false)","v":"#N/A"},{"$f":"VLOOKUP(A63,'Copy of Export'!$A$2:$AF2350,5,false)","v":"#N/A"},{"$f":"VLOOKUP(A63,'Copy of Export'!$A$2:$AF2350,8,false)","v":"#N/A"},"Broken"]
[null,"Tosiba","32HL67US","AM390047803",{"$f":"VLOOKUP(A64,'Copy of Export'!$A$2:$AF2350,5,false)","v":"#N/A"},{"$f":"VLOOKUP(A64,'Copy of Export'!$A$2:$AF2350,8,false)","v":"#N/A"},"Unknown"]
[null,{"$f":"VLOOKUP(A65,'Copy of Export'!$A$2:$AF2350,5,false)","v":"#N/A"},{"$f":"VLOOKUP(A65,'Copy of Export'!$A$2:$AF2350,13,false)","v":"#N/A"},{"$f":"VLOOKUP(A65,'Copy of Export'!$A$2:$AF2350,2,false)","v":"#N/A"},{"$f":"VLOOKUP(A65,'Copy of Export'!$A$2:$AF2350,5,false)","v":"#N/A"},{"$f":"VLOOKUP(A65,'Copy of Export'!$A$2:$AF2350,8,false)","v":"#N/A"},"Unknown"]
[null,"Concord Amp",{"$f":"VLOOKUP(A66,'Copy of Export'!$A$2:$AF2350,13,false)","v":"#N/A"},{"$f":"VLOOKUP(A66,'Copy of Export'!$A$2:$AF2350,2,false)","v":"#N/A"},{"$f":"VLOOKUP(A66,'Copy of Export'!$A$2:$AF2350,5,false)","v":"#N/A"},{"$f":"VLOOKUP(A66,'Copy of Export'!$A$2:$AF2350,8,false)","v":"#N/A"},"Broken"]
[null,{"$f":"VLOOKUP(A67,'Copy of Export'!$A$2:$AF2350,5,false)","v":"#N/A"},{"$f":"VLOOKUP(A67,'Copy of Export'!$A$2:$AF2350,13,false)","v":"#N/A"},{"$f":"VLOOKUP(A67,'Copy of Export'!$A$2:$AF2350,2,false)","v":"#N/A"},{"$f":"VLOOKUP(A67,'Copy of Export'!$A$2:$AF2350,5,false)","v":"#N/A"},{"$f":"VLOOKUP(A67,'Copy of Export'!$A$2:$AF2350,8,false)","v":"#N/A"},"Working"]
[null,{"$f":"VLOOKUP(A68,'Copy of Export'!$A$2:$AF2350,5,false)","v":"#N/A"},{"$f":"VLOOKUP(A68,'Copy of Export'!$A$2:$AF2350,13,false)","v":"#N/A"},{"$f":"VLOOKUP(A68,'Copy of Export'!$A$2:$AF2350,2,false)","v":"#N/A"},{"$f":"VLOOKUP(A68,'Copy of Export'!$A$2:$AF2350,5,false)","v":"#N/A"},{"$f":"VLOOKUP(A68,'Copy of Export'!$A$2:$AF2350,8,false)","v":"#N/A"},"Working"]
[null,{"$f":"VLOOKUP(A69,'Copy of Export'!$A$2:$AF2350,5,false)","v":"#N/A"},{"$f":"VLOOKUP(A69,'Copy of Export'!$A$2:$AF2350,13,false)","v":"#N/A"},{"$f":"VLOOKUP(A69,'Copy of Export'!$A$2:$AF2350,2,false)","v":"#N/A"},{"$f":"VLOOKUP(A69,'Copy of Export'!$A$2:$AF2350,5,false)","v":"#N/A"},{"$f":"VLOOKUP(A69,'Copy of Export'!$A$2:$AF2350,8,false)","v":"#N/A"},"Working"]
[null,{"$f":"VLOOKUP(A70,'Copy of Export'!$A$2:$AF2350,5,false)","v":"#N/A"},{"$f":"VLOOKUP(A70,'Copy of Export'!$A$2:$AF2350,13,false)","v":"#N/A"},{"$f":"VLOOKUP(A70,'Copy of Export'!$A$2:$AF2350,2,false)","v":"#N/A"},{"$f":"VLOOKUP(A70,'Copy of Export'!$A$2:$AF2350,5,false)","v":"#N/A"},{"$f":"VLOOKUP(A70,'Copy of Export'!$A$2:$AF2350,8,false)","v":"#N/A"},"Working"]
[null,{"$f":"VLOOKUP(A71,'Copy of Export'!$A$2:$AF2350,5,false)","v":"#N/A"},{"$f":"VLOOKUP(A71,'Copy of Export'!$A$2:$AF2350,13,false)","v":"#N/A"},{"$f":"VLOOKUP(A71,'Copy of Export'!$A$2:$AF2350,2,false)","v":"#N/A"},{"$f":"VLOOKUP(A71,'Copy of Export'!$A$2:$AF2350,5,false)","v":"#N/A"},{"$f":"VLOOKUP(A71,'Copy of Export'!$A$2:$AF2350,8,false)","v":"#N/A"},"Working"]
[null,{"$f":"VLOOKUP(A72,'Copy of Export'!$A$2:$AF2350,5,false)","v":"#N/A"},{"$f":"VLOOKUP(A72,'Copy of Export'!$A$2:$AF2350,13,false)","v":"#N/A"},{"$f":"VLOOKUP(A72,'Copy of Export'!$A$2:$AF2350,2,false)","v":"#N/A"},{"$f":"VLOOKUP(A72,'Copy of Export'!$A$2:$AF2350,5,false)","v":"#N/A"},{"$f":"VLOOKUP(A72,'Copy of Export'!$A$2:$AF2350,8,false)","v":"#N/A"},"Working"]
[null,{"$f":"VLOOKUP(A73,'Copy of Export'!$A$2:$AF2350,5,false)","v":"#N/A"},{"$f":"VLOOKUP(A73,'Copy of Export'!$A$2:$AF2350,13,false)","v":"#N/A"},{"$f":"VLOOKUP(A73,'Copy of Export'!$A$2:$AF2350,2,false)","v":"#N/A"},{"$f":"VLOOKUP(A73,'Copy of Export'!$A$2:$AF2350,5,false)","v":"#N/A"},{"$f":"VLOOKUP(A73,'Copy of Export'!$A$2:$AF2350,8,false)","v":"#N/A"},"Working"]
[null,{"$f":"VLOOKUP(A74,'Copy of Export'!$A$2:$AF2350,5,false)","v":"#N/A"},{"$f":"VLOOKUP(A74,'Copy of Export'!$A$2:$AF2350,13,false)","v":"#N/A"},{"$f":"VLOOKUP(A74,'Copy of Export'!$A$2:$AF2350,2,false)","v":"#N/A"},{"$f":"VLOOKUP(A74,'Copy of Export'!$A$2:$AF2350,5,false)","v":"#N/A"},{"$f":"VLOOKUP(A74,'Copy of Export'!$A$2:$AF2350,8,false)","v":"#N/A"},"Working"]
[null,{"$f":"VLOOKUP(A75,'Copy of Export'!$A$2:$AF2350,5,false)","v":"#N/A"},{"$f":"VLOOKUP(A75,'Copy of Export'!$A$2:$AF2350,13,false)","v":"#N/A"},{"$f":"VLOOKUP(A75,'Copy of Export'!$A$2:$AF2350,2,false)","v":"#N/A"},{"$f":"VLOOKUP(A75,'Copy of Export'!$A$2:$AF2350,5,false)","v":"#N/A"},{"$f":"VLOOKUP(A75,'Copy of Export'!$A$2:$AF2350,8,false)","v":"#N/A"},"Working"]
[null,{"$f":"VLOOKUP(A76,'Copy of Export'!$A$2:$AF2350,5,false)","v":"#N/A"},{"$f":"VLOOKUP(A76,'Copy of Export'!$A$2:$AF2350,13,false)","v":"#N/A"},{"$f":"VLOOKUP(A76,'Copy of Export'!$A$2:$AF2350,2,false)","v":"#N/A"},{"$f":"VLOOKUP(A76,'Copy of Export'!$A$2:$AF2350,5,false)","v":"#N/A"},{"$f":"VLOOKUP(A76,'Copy of Export'!$A$2:$AF2350,8,false)","v":"#N/A"},"Working"]
[null,{"$f":"VLOOKUP(A77,'Copy of Export'!$A$2:$AF2350,5,false)","v":"#N/A"},{"$f":"VLOOKUP(A77,'Copy of Export'!$A$2:$AF2350,13,false)","v":"#N/A"},{"$f":"VLOOKUP(A77,'Copy of Export'!$A$2:$AF2350,2,false)","v":"#N/A"},{"$f":"VLOOKUP(A77,'Copy of Export'!$A$2:$AF2350,5,false)","v":"#N/A"},{"$f":"VLOOKUP(A77,'Copy of Export'!$A$2:$AF2350,8,false)","v":"#N/A"},"Working"]
[null,{"$f":"VLOOKUP(A78,'Copy of Export'!$A$2:$AF2350,5,false)","v":"#N/A"},{"$f":"VLOOKUP(A78,'Copy of Export'!$A$2:$AF2350,13,false)","v":"#N/A"},{"$f":"VLOOKUP(A78,'Copy of Export'!$A$2:$AF2350,2,false)","v":"#N/A"},{"$f":"VLOOKUP(A78,'Copy of Export'!$A$2:$AF2350,5,false)","v":"#N/A"},{"$f":"VLOOKUP(A78,'Copy of Export'!$A$2:$AF2350,8,false)","v":"#N/A"},"Working"]
[null,{"$f":"VLOOKUP(A79,'Copy of Export'!$A$2:$AF2350,5,false)","v":"#N/A"},{"$f":"VLOOKUP(A79,'Copy of Export'!$A$2:$AF2350,13,false)","v":"#N/A"},{"$f":"VLOOKUP(A79,'Copy of Export'!$A$2:$AF2350,2,false)","v":"#N/A"},{"$f":"VLOOKUP(A79,'Copy of Export'!$A$2:$AF2350,5,false)","v":"#N/A"},{"$f":"VLOOKUP(A79,'Copy of Export'!$A$2:$AF2350,8,false)","v":"#N/A"},"Working"]
[null,{"$f":"VLOOKUP(A80,'Copy of Export'!$A$2:$AF2350,5,false)","v":"#N/A"},{"$f":"VLOOKUP(A80,'Copy of Export'!$A$2:$AF2350,13,false)","v":"#N/A"},{"$f":"VLOOKUP(A80,'Copy of Export'!$A$2:$AF2350,2,false)","v":"#N/A"},{"$f":"VLOOKUP(A80,'Copy of Export'!$A$2:$AF2350,5,false)","v":"#N/A"},{"$f":"VLOOKUP(A80,'Copy of Export'!$A$2:$AF2350,8,false)","v":"#N/A"},"Working"]
["48108",{"$f":"VLOOKUP(A81,'Copy of Export'!$A$2:$AF2350,5,false)","v":"#N/A"},{"$f":"VLOOKUP(A81,'Copy of Export'!$A$2:$AF2350,13,false)","v":"#N/A"},{"$f":"VLOOKUP(A81,'Copy of Export'!$A$2:$AF2350,2,false)","v":"#N/A"},{"$f":"VLOOKUP(A81,'Copy of Export'!$A$2:$AF2350,5,false)","v":"#N/A"},{"$f":"VLOOKUP(A81,'Copy of Export'!$A$2:$AF2350,8,false)","v":"#N/A"},"Broken"]
["48098",{"$f":"VLOOKUP(A82,'Copy of Export'!$A$2:$AF2350,5,false)","v":"#N/A"},{"$f":"VLOOKUP(A82,'Copy of Export'!$A$2:$AF2350,13,false)","v":"#N/A"},{"$f":"VLOOKUP(A82,'Copy of Export'!$A$2:$AF2350,2,false)","v":"#N/A"},{"$f":"VLOOKUP(A82,'Copy of Export'!$A$2:$AF2350,5,false)","v":"#N/A"},{"$f":"VLOOKUP(A82,'Copy of Export'!$A$2:$AF2350,8,false)","v":"#N/A"}]
[null,{"$f":"VLOOKUP(A83,'Copy of Export'!$A$2:$AF2350,5,false)","v":"#N/A"},{"$f":"VLOOKUP(A83,'Copy of Export'!$A$2:$AF2350,13,false)","v":"#N/A"},{"$f":"VLOOKUP(A83,'Copy of Export'!$A$2:$AF2350,2,false)","v":"#N/A"},{"$f":"VLOOKUP(A83,'Copy of Export'!$A$2:$AF2350,5,false)","v":"#N/A"},{"$f":"VLOOKUP(A83,'Copy of Export'!$A$2:$AF2350,8,false)","v":"#N/A"}]
[null,{"$f":"VLOOKUP(A84,'Copy of Export'!$A$2:$AF2350,5,false)","v":"#N/A"},{"$f":"VLOOKUP(A84,'Copy of Export'!$A$2:$AF2350,13,false)","v":"#N/A"},{"$f":"VLOOKUP(A84,'Copy of Export'!$A$2:$AF2350,2,false)","v":"#N/A"},{"$f":"VLOOKUP(A84,'Copy of Export'!$A$2:$AF2350,5,false)","v":"#N/A"},{"$f":"VLOOKUP(A84,'Copy of Export'!$A$2:$AF2350,8,false)","v":"#N/A"}]
["S57548",{"$f":"VLOOKUP(A85,'Copy of Export'!$A$2:$AF2350,5,false)","v":"#N/A"},{"$f":"VLOOKUP(A85,'Copy of Export'!$A$2:$AF2350,13,false)","v":"#N/A"},{"$f":"VLOOKUP(A85,'Copy of Export'!$A$2:$AF2350,2,false)","v":"#N/A"},{"$f":"VLOOKUP(A85,'Copy of Export'!$A$2:$AF2350,5,false)","v":"#N/A"},{"$f":"VLOOKUP(A85,'Copy of Export'!$A$2:$AF2350,8,false)","v":"#N/A"}]
["S57545",{"$f":"VLOOKUP(A86,'Copy of Export'!$A$2:$AF2350,5,false)","v":"#N/A"},{"$f":"VLOOKUP(A86,'Copy of Export'!$A$2:$AF2350,13,false)","v":"#N/A"},{"$f":"VLOOKUP(A86,'Copy of Export'!$A$2:$AF2350,2,false)","v":"#N/A"},{"$f":"VLOOKUP(A86,'Copy of Export'!$A$2:$AF2350,5,false)","v":"#N/A"},{"$f":"VLOOKUP(A86,'Copy of Export'!$A$2:$AF2350,8,false)","v":"#N/A"}]
["S57540",{"$f":"VLOOKUP(A87,'Copy of Export'!$A$2:$AF2350,5,false)","v":"#N/A"},{"$f":"VLOOKUP(A87,'Copy of Export'!$A$2:$AF2350,13,false)","v":"#N/A"},{"$f":"VLOOKUP(A87,'Copy of Export'!$A$2:$AF2350,2,false)","v":"#N/A"},{"$f":"VLOOKUP(A87,'Copy of Export'!$A$2:$AF2350,5,false)","v":"#N/A"},{"$f":"VLOOKUP(A87,'Copy of Export'!$A$2:$AF2350,8,false)","v":"#N/A"}]
["S57543",{"$f":"VLOOKUP(A88,'Copy of Export'!$A$2:$AF2350,5,false)","v":"#N/A"},{"$f":"VLOOKUP(A88,'Copy of Export'!$A$2:$AF2350,13,false)","v":"#N/A"},{"$f":"VLOOKUP(A88,'Copy of Export'!$A$2:$AF2350,2,false)","v":"#N/A"},{"$f":"VLOOKUP(A88,'Copy of Export'!$A$2:$AF2350,5,false)","v":"#N/A"},{"$f":"VLOOKUP(A88,'Copy of Export'!$A$2:$AF2350,8,false)","v":"#N/A"}]
["S57534",{"$f":"VLOOKUP(A89,'Copy of Export'!$A$2:$AF2350,5,false)","v":"#N/A"},{"$f":"VLOOKUP(A89,'Copy of Export'!$A$2:$AF2350,13,false)","v":"#N/A"},{"$f":"VLOOKUP(A89,'Copy of Export'!$A$2:$AF2350,2,false)","v":"#N/A"},{"$f":"VLOOKUP(A89,'Copy of Export'!$A$2:$AF2350,5,false)","v":"#N/A"},{"$f":"VLOOKUP(A89,'Copy of Export'!$A$2:$AF2350,8,false)","v":"#N/A"}]
["S57525",{"$f":"VLOOKUP(A90,'Copy of Export'!$A$2:$AF2350,5,false)","v":"#N/A"},{"$f":"VLOOKUP(A90,'Copy of Export'!$A$2:$AF2350,13,false)","v":"#N/A"},{"$f":"VLOOKUP(A90,'Copy of Export'!$A$2:$AF2350,2,false)","v":"#N/A"},{"$f":"VLOOKUP(A90,'Copy of Export'!$A$2:$AF2350,5,false)","v":"#N/A"},{"$f":"VLOOKUP(A90,'Copy of Export'!$A$2:$AF2350,8,false)","v":"#N/A"}]
["S57529",{"$f":"VLOOKUP(A91,'Copy of Export'!$A$2:$AF2350,5,false)","v":"#N/A"},{"$f":"VLOOKUP(A91,'Copy of Export'!$A$2:$AF2350,13,false)","v":"#N/A"},{"$f":"VLOOKUP(A91,'Copy of Export'!$A$2:$AF2350,2,false)","v":"#N/A"},{"$f":"VLOOKUP(A91,'Copy of Export'!$A$2:$AF2350,5,false)","v":"#N/A"},{"$f":"VLOOKUP(A91,'Copy of Export'!$A$2:$AF2350,8,false)","v":"#N/A"}]
["S57549",{"$f":"VLOOKUP(A92,'Copy of Export'!$A$2:$AF2350,5,false)","v":"#N/A"},{"$f":"VLOOKUP(A92,'Copy of Export'!$A$2:$AF2350,13,false)","v":"#N/A"},{"$f":"VLOOKUP(A92,'Copy of Export'!$A$2:$AF2350,2,false)","v":"#N/A"},{"$f":"VLOOKUP(A92,'Copy of Export'!$A$2:$AF2350,5,false)","v":"#N/A"},{"$f":"VLOOKUP(A92,'Copy of Export'!$A$2:$AF2350,8,false)","v":"#N/A"}]
["S57538",{"$f":"VLOOKUP(A93,'Copy of Export'!$A$2:$AF2350,5,false)","v":"#N/A"},{"$f":"VLOOKUP(A93,'Copy of Export'!$A$2:$AF2350,13,false)","v":"#N/A"},{"$f":"VLOOKUP(A93,'Copy of Export'!$A$2:$AF2350,2,false)","v":"#N/A"},{"$f":"VLOOKUP(A93,'Copy of Export'!$A$2:$AF2350,5,false)","v":"#N/A"},{"$f":"VLOOKUP(A93,'Copy of Export'!$A$2:$AF2350,8,false)","v":"#N/A"}]
["S57522",{"$f":"VLOOKUP(A94,'Copy of Export'!$A$2:$AF2350,5,false)","v":"#N/A"},{"$f":"VLOOKUP(A94,'Copy of Export'!$A$2:$AF2350,13,false)","v":"#N/A"},{"$f":"VLOOKUP(A94,'Copy of Export'!$A$2:$AF2350,2,false)","v":"#N/A"},{"$f":"VLOOKUP(A94,'Copy of Export'!$A$2:$AF2350,5,false)","v":"#N/A"},{"$f":"VLOOKUP(A94,'Copy of Export'!$A$2:$AF2350,8,false)","v":"#N/A"}]
["S57528",{"$f":"VLOOKUP(A95,'Copy of Export'!$A$2:$AF2350,5,false)","v":"#N/A"},{"$f":"VLOOKUP(A95,'Copy of Export'!$A$2:$AF2350,13,false)","v":"#N/A"},{"$f":"VLOOKUP(A95,'Copy of Export'!$A$2:$AF2350,2,false)","v":"#N/A"},{"$f":"VLOOKUP(A95,'Copy of Export'!$A$2:$AF2350,5,false)","v":"#N/A"},{"$f":"VLOOKUP(A95,'Copy of Export'!$A$2:$AF2350,8,false)","v":"#N/A"}]
["S57535",{"$f":"VLOOKUP(A96,'Copy of Export'!$A$2:$AF2350,5,false)","v":"#N/A"},{"$f":"VLOOKUP(A96,'Copy of Export'!$A$2:$AF2350,13,false)","v":"#N/A"},{"$f":"VLOOKUP(A96,'Copy of Export'!$A$2:$AF2350,2,false)","v":"#N/A"},{"$f":"VLOOKUP(A96,'Copy of Export'!$A$2:$AF2350,5,false)","v":"#N/A"},{"$f":"VLOOKUP(A96,'Copy of Export'!$A$2:$AF2350,8,false)","v":"#N/A"}]
["S57550",{"$f":"VLOOKUP(A97,'Copy of Export'!$A$2:$AF2350,5,false)","v":"#N/A"},{"$f":"VLOOKUP(A97,'Copy of Export'!$A$2:$AF2350,13,false)","v":"#N/A"},{"$f":"VLOOKUP(A97,'Copy of Export'!$A$2:$AF2350,2,false)","v":"#N/A"},{"$f":"VLOOKUP(A97,'Copy of Export'!$A$2:$AF2350,5,false)","v":"#N/A"},{"$f":"VLOOKUP(A97,'Copy of Export'!$A$2:$AF2350,8,false)","v":"#N/A"}]
["S57532",{"$f":"VLOOKUP(A98,'Copy of Export'!$A$2:$AF2350,5,false)","v":"#N/A"},{"$f":"VLOOKUP(A98,'Copy of Export'!$A$2:$AF2350,13,false)","v":"#N/A"},{"$f":"VLOOKUP(A98,'Copy of Export'!$A$2:$AF2350,2,false)","v":"#N/A"},{"$f":"VLOOKUP(A98,'Copy of Export'!$A$2:$AF2350,5,false)","v":"#N/A"},{"$f":"VLOOKUP(A98,'Copy of Export'!$A$2:$AF2350,8,false)","v":"#N/A"}]
[" ","KEYBOARD ( 12 QUANTITY)","KEYBOARD",{"$f":"VLOOKUP(A99,'Copy of Export'!$A$2:$AF2350,2,false)","v":"#N/A"},{"$f":"VLOOKUP(A99,'Copy of Export'!$A$2:$AF2350,5,false)","v":"#N/A"},{"$f":"VLOOKUP(A99,'Copy of Export'!$A$2:$AF2350,8,false)","v":"#N/A"}]
[null,{"$f":"VLOOKUP(A100,'Copy of Export'!$A$2:$AF2350,5,false)","v":"#N/A"},{"$f":"VLOOKUP(A100,'Copy of Export'!$A$2:$AF2350,13,false)","v":"#N/A"},{"$f":"VLOOKUP(A100,'Copy of Export'!$A$2:$AF2350,2,false)","v":"#N/A"},{"$f":"VLOOKUP(A100,'Copy of Export'!$A$2:$AF2350,5,false)","v":"#N/A"},{"$f":"VLOOKUP(A100,'Copy of Export'!$A$2:$AF2350,8,false)","v":"#N/A"}]
[null,{"$f":"VLOOKUP(A101,'Copy of Export'!$A$2:$AF2350,5,false)","v":"#N/A"},{"$f":"VLOOKUP(A101,'Copy of Export'!$A$2:$AF2350,13,false)","v":"#N/A"},{"$f":"VLOOKUP(A101,'Copy of Export'!$A$2:$AF2350,2,false)","v":"#N/A"},{"$f":"VLOOKUP(A101,'Copy of Export'!$A$2:$AF2350,5,false)","v":"#N/A"},{"$f":"VLOOKUP(A101,'Copy of Export'!$A$2:$AF2350,8,false)","v":"#N/A"}]
[null,{"$f":"VLOOKUP(A102,'Copy of Export'!$A$2:$AF2350,5,false)","v":"#N/A"},{"$f":"VLOOKUP(A102,'Copy of Export'!$A$2:$AF2350,13,false)","v":"#N/A"},{"$f":"VLOOKUP(A102,'Copy of Export'!$A$2:$AF2350,2,false)","v":"#N/A"},{"$f":"VLOOKUP(A102,'Copy of Export'!$A$2:$AF2350,5,false)","v":"#N/A"},{"$f":"VLOOKUP(A102,'Copy of Export'!$A$2:$AF2350,8,false)","v":"#N/A"}]
[null,{"$f":"VLOOKUP(A103,'Copy of Export'!$A$2:$AF2350,5,false)","v":"#N/A"},{"$f":"VLOOKUP(A103,'Copy of Export'!$A$2:$AF2350,13,false)","v":"#N/A"},{"$f":"VLOOKUP(A103,'Copy of Export'!$A$2:$AF2350,2,false)","v":"#N/A"},{"$f":"VLOOKUP(A103,'Copy of Export'!$A$2:$AF2350,5,false)","v":"#N/A"},{"$f":"VLOOKUP(A103,'Copy of Export'!$A$2:$AF2350,8,false)","v":"#N/A"}]
[null,{"$f":"VLOOKUP(A104,'Copy of Export'!$A$2:$AF2350,5,false)","v":"#N/A"},{"$f":"VLOOKUP(A104,'Copy of Export'!$A$2:$AF2350,13,false)","v":"#N/A"},{"$f":"VLOOKUP(A104,'Copy of Export'!$A$2:$AF2350,2,false)","v":"#N/A"},{"$f":"VLOOKUP(A104,'Copy of Export'!$A$2:$AF2350,5,false)","v":"#N/A"},{"$f":"VLOOKUP(A104,'Copy of Export'!$A$2:$AF2350,8,false)","v":"#N/A"}]
[null,{"$f":"VLOOKUP(A105,'Copy of Export'!$A$2:$AF2350,5,false)","v":"#N/A"},{"$f":"VLOOKUP(A105,'Copy of Export'!$A$2:$AF2350,13,false)","v":"#N/A"},{"$f":"VLOOKUP(A105,'Copy of Export'!$A$2:$AF2350,2,false)","v":"#N/A"},{"$f":"VLOOKUP(A105,'Copy of Export'!$A$2:$AF2350,5,false)","v":"#N/A"},{"$f":"VLOOKUP(A105,'Copy of Export'!$A$2:$AF2350,8,false)","v":"#N/A"}]
[null,{"$f":"VLOOKUP(A106,'Copy of Export'!$A$2:$AF2350,5,false)","v":"#N/A"},{"$f":"VLOOKUP(A106,'Copy of Export'!$A$2:$AF2350,13,false)","v":"#N/A"},{"$f":"VLOOKUP(A106,'Copy of Export'!$A$2:$AF2350,2,false)","v":"#N/A"},{"$f":"VLOOKUP(A106,'Copy of Export'!$A$2:$AF2350,5,false)","v":"#N/A"},{"$f":"VLOOKUP(A106,'Copy of Export'!$A$2:$AF2350,8,false)","v":"#N/A"}]
[null,{"$f":"VLOOKUP(A107,'Copy of Export'!$A$2:$AF2350,5,false)","v":"#N/A"},{"$f":"VLOOKUP(A107,'Copy of Export'!$A$2:$AF2350,13,false)","v":"#N/A"},{"$f":"VLOOKUP(A107,'Copy of Export'!$A$2:$AF2350,2,false)","v":"#N/A"},{"$f":"VLOOKUP(A107,'Copy of Export'!$A$2:$AF2350,5,false)","v":"#N/A"},{"$f":"VLOOKUP(A107,'Copy of Export'!$A$2:$AF2350,8,false)","v":"#N/A"}]
[null,{"$f":"VLOOKUP(A108,'Copy of Export'!$A$2:$AF2350,5,false)","v":"#N/A"},{"$f":"VLOOKUP(A108,'Copy of Export'!$A$2:$AF2350,13,false)","v":"#N/A"},{"$f":"VLOOKUP(A108,'Copy of Export'!$A$2:$AF2350,2,false)","v":"#N/A"},{"$f":"VLOOKUP(A108,'Copy of Export'!$A$2:$AF2350,5,false)","v":"#N/A"},{"$f":"VLOOKUP(A108,'Copy of Export'!$A$2:$AF2350,8,false)","v":"#N/A"}]
[null,{"$f":"VLOOKUP(A109,'Copy of Export'!$A$2:$AF2350,5,false)","v":"#N/A"},{"$f":"VLOOKUP(A109,'Copy of Export'!$A$2:$AF2350,13,false)","v":"#N/A"},{"$f":"VLOOKUP(A109,'Copy of Export'!$A$2:$AF2350,2,false)","v":"#N/A"},{"$f":"VLOOKUP(A109,'Copy of Export'!$A$2:$AF2350,5,false)","v":"#N/A"},{"$f":"VLOOKUP(A109,'Copy of Export'!$A$2:$AF2350,8,false)","v":"#N/A"}]
[null,{"$f":"VLOOKUP(A110,'Copy of Export'!$A$2:$AF2350,5,false)","v":"#N/A"},{"$f":"VLOOKUP(A110,'Copy of Export'!$A$2:$AF2350,13,false)","v":"#N/A"},{"$f":"VLOOKUP(A110,'Copy of Export'!$A$2:$AF2350,2,false)","v":"#N/A"},{"$f":"VLOOKUP(A110,'Copy of Export'!$A$2:$AF2350,5,false)","v":"#N/A"},{"$f":"VLOOKUP(A110,'Copy of Export'!$A$2:$AF2350,8,false)","v":"#N/A"}]
[null,{"$f":"VLOOKUP(A111,'Copy of Export'!$A$2:$AF2350,5,false)","v":"#N/A"},{"$f":"VLOOKUP(A111,'Copy of Export'!$A$2:$AF2350,13,false)","v":"#N/A"},{"$f":"VLOOKUP(A111,'Copy of Export'!$A$2:$AF2350,2,false)","v":"#N/A"},{"$f":"VLOOKUP(A111,'Copy of Export'!$A$2:$AF2350,5,false)","v":"#N/A"},{"$f":"VLOOKUP(A111,'Copy of Export'!$A$2:$AF2350,8,false)","v":"#N/A"}]
[null,{"$f":"VLOOKUP(A112,'Copy of Export'!$A$2:$AF2350,5,false)","v":"#N/A"},{"$f":"VLOOKUP(A112,'Copy of Export'!$A$2:$AF2350,13,false)","v":"#N/A"},{"$f":"VLOOKUP(A112,'Copy of Export'!$A$2:$AF2350,2,false)","v":"#N/A"},{"$f":"VLOOKUP(A112,'Copy of Export'!$A$2:$AF2350,5,false)","v":"#N/A"},{"$f":"VLOOKUP(A112,'Copy of Export'!$A$2:$AF2350,8,false)","v":"#N/A"}]
[null,{"$f":"VLOOKUP(A113,'Copy of Export'!$A$2:$AF2350,5,false)","v":"#N/A"},{"$f":"VLOOKUP(A113,'Copy of Export'!$A$2:$AF2350,13,false)","v":"#N/A"},{"$f":"VLOOKUP(A113,'Copy of Export'!$A$2:$AF2350,2,false)","v":"#N/A"},{"$f":"VLOOKUP(A113,'Copy of Export'!$A$2:$AF2350,5,false)","v":"#N/A"},{"$f":"VLOOKUP(A113,'Copy of Export'!$A$2:$AF2350,8,false)","v":"#N/A"}]
[null,{"$f":"VLOOKUP(A114,'Copy of Export'!$A$2:$AF2350,5,false)","v":"#N/A"},{"$f":"VLOOKUP(A114,'Copy of Export'!$A$2:$AF2350,13,false)","v":"#N/A"},{"$f":"VLOOKUP(A114,'Copy of Export'!$A$2:$AF2350,2,false)","v":"#N/A"},{"$f":"VLOOKUP(A114,'Copy of Export'!$A$2:$AF2350,5,false)","v":"#N/A"},{"$f":"VLOOKUP(A114,'Copy of Export'!$A$2:$AF2350,8,false)","v":"#N/A"}]
[null,{"$f":"VLOOKUP(A115,'Copy of Export'!$A$2:$AF2350,5,false)","v":"#N/A"},{"$f":"VLOOKUP(A115,'Copy of Export'!$A$2:$AF2350,13,false)","v":"#N/A"},{"$f":"VLOOKUP(A115,'Copy of Export'!$A$2:$AF2350,2,false)","v":"#N/A"},{"$f":"VLOOKUP(A115,'Copy of Export'!$A$2:$AF2350,5,false)","v":"#N/A"},{"$f":"VLOOKUP(A115,'Copy of Export'!$A$2:$AF2350,8,false)","v":"#N/A"}]
[null,{"$f":"VLOOKUP(A116,'Copy of Export'!$A$2:$AF2350,5,false)","v":"#N/A"},{"$f":"VLOOKUP(A116,'Copy of Export'!$A$2:$AF2350,13,false)","v":"#N/A"},{"$f":"VLOOKUP(A116,'Copy of Export'!$A$2:$AF2350,2,false)","v":"#N/A"},{"$f":"VLOOKUP(A116,'Copy of Export'!$A$2:$AF2350,5,false)","v":"#N/A"},{"$f":"VLOOKUP(A116,'Copy of Export'!$A$2:$AF2350,8,false)","v":"#N/A"}]
[null,{"$f":"VLOOKUP(A117,'Copy of Export'!$A$2:$AF2350,5,false)","v":"#N/A"},{"$f":"VLOOKUP(A117,'Copy of Export'!$A$2:$AF2350,13,false)","v":"#N/A"},{"$f":"VLOOKUP(A117,'Copy of Export'!$A$2:$AF2350,2,false)","v":"#N/A"},{"$f":"VLOOKUP(A117,'Copy of Export'!$A$2:$AF2350,5,false)","v":"#N/A"},{"$f":"VLOOKUP(A117,'Copy of Export'!$A$2:$AF2350,8,false)","v":"#N/A"}]
[null,{"$f":"VLOOKUP(A118,'Copy of Export'!$A$2:$AF2350,5,false)","v":"#N/A"},{"$f":"VLOOKUP(A118,'Copy of Export'!$A$2:$AF2350,13,false)","v":"#N/A"},{"$f":"VLOOKUP(A118,'Copy of Export'!$A$2:$AF2350,2,false)","v":"#N/A"},{"$f":"VLOOKUP(A118,'Copy of Export'!$A$2:$AF2350,5,false)","v":"#N/A"},{"$f":"VLOOKUP(A118,'Copy of Export'!$A$2:$AF2350,8,false)","v":"#N/A"}]
[null,{"$f":"VLOOKUP(A119,'Copy of Export'!$A$2:$AF2350,5,false)","v":"#N/A"},{"$f":"VLOOKUP(A119,'Copy of Export'!$A$2:$AF2350,13,false)","v":"#N/A"},{"$f":"VLOOKUP(A119,'Copy of Export'!$A$2:$AF2350,2,false)","v":"#N/A"},{"$f":"VLOOKUP(A119,'Copy of Export'!$A$2:$AF2350,5,false)","v":"#N/A"},{"$f":"VLOOKUP(A119,'Copy of Export'!$A$2:$AF2350,8,false)","v":"#N/A"}]
[null,{"$f":"VLOOKUP(A120,'Copy of Export'!$A$2:$AF2350,5,false)","v":"#N/A"},{"$f":"VLOOKUP(A120,'Copy of Export'!$A$2:$AF2350,13,false)","v":"#N/A"},{"$f":"VLOOKUP(A120,'Copy of Export'!$A$2:$AF2350,2,false)","v":"#N/A"},{"$f":"VLOOKUP(A120,'Copy of Export'!$A$2:$AF2350,5,false)","v":"#N/A"},{"$f":"VLOOKUP(A120,'Copy of Export'!$A$2:$AF2350,8,false)","v":"#N/A"}]
[null,{"$f":"VLOOKUP(A121,'Copy of Export'!$A$2:$AF2350,5,false)","v":"#N/A"},{"$f":"VLOOKUP(A121,'Copy of Export'!$A$2:$AF2350,13,false)","v":"#N/A"},{"$f":"VLOOKUP(A121,'Copy of Export'!$A$2:$AF2350,2,false)","v":"#N/A"},{"$f":"VLOOKUP(A121,'Copy of Export'!$A$2:$AF2350,5,false)","v":"#N/A"},{"$f":"VLOOKUP(A121,'Copy of Export'!$A$2:$AF2350,8,false)","v":"#N/A"}]
[null,{"$f":"VLOOKUP(A122,'Copy of Export'!$A$2:$AF2350,5,false)","v":"#N/A"},{"$f":"VLOOKUP(A122,'Copy of Export'!$A$2:$AF2350,13,false)","v":"#N/A"},{"$f":"VLOOKUP(A122,'Copy of Export'!$A$2:$AF2350,2,false)","v":"#N/A"},{"$f":"VLOOKUP(A122,'Copy of Export'!$A$2:$AF2350,5,false)","v":"#N/A"},{"$f":"VLOOKUP(A122,'Copy of Export'!$A$2:$AF2350,8,false)","v":"#N/A"}]
[null,{"$f":"VLOOKUP(A123,'Copy of Export'!$A$2:$AF2350,5,false)","v":"#N/A"},{"$f":"VLOOKUP(A123,'Copy of Export'!$A$2:$AF2350,13,false)","v":"#N/A"},{"$f":"VLOOKUP(A123,'Copy of Export'!$A$2:$AF2350,2,false)","v":"#N/A"},{"$f":"VLOOKUP(A123,'Copy of Export'!$A$2:$AF2350,5,false)","v":"#N/A"},{"$f":"VLOOKUP(A123,'Copy of Export'!$A$2:$AF2350,8,false)","v":"#N/A"}]
["49533",{"$f":"VLOOKUP(A124,'Copy of Export'!$A$2:$AF2350,5,false)","v":"#N/A"},{"$f":"VLOOKUP(A124,'Copy of Export'!$A$2:$AF2350,13,false)","v":"#N/A"},{"$f":"VLOOKUP(A124,'Copy of Export'!$A$2:$AF2350,2,false)","v":"#N/A"},{"$f":"VLOOKUP(A124,'Copy of Export'!$A$2:$AF2350,5,false)","v":"#N/A"},{"$f":"VLOOKUP(A124,'Copy of Export'!$A$2:$AF2350,8,false)","v":"#N/A"},"Broken"]
["67706",{"$f":"VLOOKUP(A125,'Copy of Export'!$A$2:$AF2350,5,false)","v":"#N/A"},{"$f":"VLOOKUP(A125,'Copy of Export'!$A$2:$AF2350,13,false)","v":"#N/A"},{"$f":"VLOOKUP(A125,'Copy of Export'!$A$2:$AF2350,2,false)","v":"#N/A"},{"$f":"VLOOKUP(A125,'Copy of Export'!$A$2:$AF2350,5,false)","v":"#N/A"},{"$f":"VLOOKUP(A125,'Copy of Export'!$A$2:$AF2350,8,false)","v":"#N/A"},"Broken"]
[null,{"$f":"VLOOKUP(A126,'Copy of Export'!$A$2:$AF2350,5,false)","v":"#N/A"},{"$f":"VLOOKUP(A126,'Copy of Export'!$A$2:$AF2350,13,false)","v":"#N/A"},{"$f":"VLOOKUP(A126,'Copy of Export'!$A$2:$AF2350,2,false)","v":"#N/A"},{"$f":"VLOOKUP(A126,'Copy of Export'!$A$2:$AF2350,5,false)","v":"#N/A"},{"$f":"VLOOKUP(A126,'Copy of Export'!$A$2:$AF2350,8,false)","v":"#N/A"}]
["68977","SHARP LCD MONITOR","PN-L702B",24200780,{"$f":"VLOOKUP(A127,'Copy of Export'!$A$2:$AF2350,5,false)","v":"#N/A"},{"$f":"VLOOKUP(A127,'Copy of Export'!$A$2:$AF2350,8,false)","v":"#N/A"}]
[null,"WESTINGHOUSE TV 50 INCH","WD55FX1180",{"$f":"VLOOKUP(A128,'Copy of Export'!$A$2:$AF2350,2,false)","v":"#N/A"},{"$f":"VLOOKUP(A128,'Copy of Export'!$A$2:$AF2350,5,false)","v":"#N/A"},{"$f":"VLOOKUP(A128,'Copy of Export'!$A$2:$AF2350,8,false)","v":"#N/A"}]
[null,"SAMSUNG 46  IN TV","LN46D630M3F",{"$f":"VLOOKUP(A129,'Copy of Export'!$A$2:$AF2350,2,false)","v":"#N/A"},{"$f":"VLOOKUP(A129,'Copy of Export'!$A$2:$AF2350,5,false)","v":"#N/A"},{"$f":"VLOOKUP(A129,'Copy of Export'!$A$2:$AF2350,8,false)","v":"#N/A"}]
[null,{"$f":"VLOOKUP(A130,'Copy of Export'!$A$2:$AF2350,5,false)","v":"#N/A"},{"$f":"VLOOKUP(A130,'Copy of Export'!$A$2:$AF2350,13,false)","v":"#N/A"},{"$f":"VLOOKUP(A130,'Copy of Export'!$A$2:$AF2350,2,false)","v":"#N/A"},{"$f":"VLOOKUP(A130,'Copy of Export'!$A$2:$AF2350,5,false)","v":"#N/A"},{"$f":"VLOOKUP(A130,'Copy of Export'!$A$2:$AF2350,8,false)","v":"#N/A"}]
[null,{"$f":"VLOOKUP(A131,'Copy of Export'!$A$2:$AF2350,5,false)","v":"#N/A"},{"$f":"VLOOKUP(A131,'Copy of Export'!$A$2:$AF2350,13,false)","v":"#N/A"},{"$f":"VLOOKUP(A131,'Copy of Export'!$A$2:$AF2350,2,false)","v":"#N/A"},{"$f":"VLOOKUP(A131,'Copy of Export'!$A$2:$AF2350,5,false)","v":"#N/A"},{"$f":"VLOOKUP(A131,'Copy of Export'!$A$2:$AF2350,8,false)","v":"#N/A"}]
[null,{"$f":"VLOOKUP(A132,'Copy of Export'!$A$2:$AF2350,5,false)","v":"#N/A"},{"$f":"VLOOKUP(A132,'Copy of Export'!$A$2:$AF2350,13,false)","v":"#N/A"},{"$f":"VLOOKUP(A132,'Copy of Export'!$A$2:$AF2350,2,false)","v":"#N/A"},{"$f":"VLOOKUP(A132,'Copy of Export'!$A$2:$AF2350,5,false)","v":"#N/A"},{"$f":"VLOOKUP(A132,'Copy of Export'!$A$2:$AF2350,8,false)","v":"#N/A"}]
[null,{"$f":"VLOOKUP(A133,'Copy of Export'!$A$2:$AF2350,5,false)","v":"#N/A"},{"$f":"VLOOKUP(A133,'Copy of Export'!$A$2:$AF2350,13,false)","v":"#N/A"},{"$f":"VLOOKUP(A133,'Copy of Export'!$A$2:$AF2350,2,false)","v":"#N/A"},{"$f":"VLOOKUP(A133,'Copy of Export'!$A$2:$AF2350,5,false)","v":"#N/A"},{"$f":"VLOOKUP(A133,'Copy of Export'!$A$2:$AF2350,8,false)","v":"#N/A"}]
[null,{"$f":"VLOOKUP(A134,'Copy of Export'!$A$2:$AF2350,5,false)","v":"#N/A"},{"$f":"VLOOKUP(A134,'Copy of Export'!$A$2:$AF2350,13,false)","v":"#N/A"},{"$f":"VLOOKUP(A134,'Copy of Export'!$A$2:$AF2350,2,false)","v":"#N/A"},{"$f":"VLOOKUP(A134,'Copy of Export'!$A$2:$AF2350,5,false)","v":"#N/A"},{"$f":"VLOOKUP(A134,'Copy of Export'!$A$2:$AF2350,8,false)","v":"#N/A"}]
[null,{"$f":"VLOOKUP(A135,'Copy of Export'!$A$2:$AF2350,5,false)","v":"#N/A"},{"$f":"VLOOKUP(A135,'Copy of Export'!$A$2:$AF2350,13,false)","v":"#N/A"},{"$f":"VLOOKUP(A135,'Copy of Export'!$A$2:$AF2350,2,false)","v":"#N/A"},{"$f":"VLOOKUP(A135,'Copy of Export'!$A$2:$AF2350,5,false)","v":"#N/A"},{"$f":"VLOOKUP(A135,'Copy of Export'!$A$2:$AF2350,8,false)","v":"#N/A"}]
[null,{"$f":"VLOOKUP(A136,'Copy of Export'!$A$2:$AF2350,5,false)","v":"#N/A"},{"$f":"VLOOKUP(A136,'Copy of Export'!$A$2:$AF2350,13,false)","v":"#N/A"},{"$f":"VLOOKUP(A136,'Copy of Export'!$A$2:$AF2350,2,false)","v":"#N/A"},{"$f":"VLOOKUP(A136,'Copy of Export'!$A$2:$AF2350,5,false)","v":"#N/A"},{"$f":"VLOOKUP(A136,'Copy of Export'!$A$2:$AF2350,8,false)","v":"#N/A"}]
[null,{"$f":"VLOOKUP(A137,'Copy of Export'!$A$2:$AF2350,5,false)","v":"#N/A"},{"$f":"VLOOKUP(A137,'Copy of Export'!$A$2:$AF2350,13,false)","v":"#N/A"},{"$f":"VLOOKUP(A137,'Copy of Export'!$A$2:$AF2350,2,false)","v":"#N/A"},{"$f":"VLOOKUP(A137,'Copy of Export'!$A$2:$AF2350,5,false)","v":"#N/A"},{"$f":"VLOOKUP(A137,'Copy of Export'!$A$2:$AF2350,8,false)","v":"#N/A"}]
[null,{"$f":"VLOOKUP(A138,'Copy of Export'!$A$2:$AF2350,5,false)","v":"#N/A"},{"$f":"VLOOKUP(A138,'Copy of Export'!$A$2:$AF2350,13,false)","v":"#N/A"},{"$f":"VLOOKUP(A138,'Copy of Export'!$A$2:$AF2350,2,false)","v":"#N/A"},{"$f":"VLOOKUP(A138,'Copy of Export'!$A$2:$AF2350,5,false)","v":"#N/A"},{"$f":"VLOOKUP(A138,'Copy of Export'!$A$2:$AF2350,8,false)","v":"#N/A"}]
[null,{"$f":"VLOOKUP(A139,'Copy of Export'!$A$2:$AF2350,5,false)","v":"#N/A"},{"$f":"VLOOKUP(A139,'Copy of Export'!$A$2:$AF2350,13,false)","v":"#N/A"},{"$f":"VLOOKUP(A139,'Copy of Export'!$A$2:$AF2350,2,false)","v":"#N/A"},{"$f":"VLOOKUP(A139,'Copy of Export'!$A$2:$AF2350,5,false)","v":"#N/A"},{"$f":"VLOOKUP(A139,'Copy of Export'!$A$2:$AF2350,8,false)","v":"#N/A"}]
[null,{"$f":"VLOOKUP(A140,'Copy of Export'!$A$2:$AF2350,5,false)","v":"#N/A"},{"$f":"VLOOKUP(A140,'Copy of Export'!$A$2:$AF2350,13,false)","v":"#N/A"},{"$f":"VLOOKUP(A140,'Copy of Export'!$A$2:$AF2350,2,false)","v":"#N/A"},{"$f":"VLOOKUP(A140,'Copy of Export'!$A$2:$AF2350,5,false)","v":"#N/A"},{"$f":"VLOOKUP(A140,'Copy of Export'!$A$2:$AF2350,8,false)","v":"#N/A"}]
[null,{"$f":"VLOOKUP(A141,'Copy of Export'!$A$2:$AF2350,5,false)","v":"#N/A"},{"$f":"VLOOKUP(A141,'Copy of Export'!$A$2:$AF2350,13,false)","v":"#N/A"},{"$f":"VLOOKUP(A141,'Copy of Export'!$A$2:$AF2350,2,false)","v":"#N/A"},{"$f":"VLOOKUP(A141,'Copy of Export'!$A$2:$AF2350,5,false)","v":"#N/A"},{"$f":"VLOOKUP(A141,'Copy of Export'!$A$2:$AF2350,8,false)","v":"#N/A"}]
[null,{"$f":"VLOOKUP(A142,'Copy of Export'!$A$2:$AF2350,5,false)","v":"#N/A"},{"$f":"VLOOKUP(A142,'Copy of Export'!$A$2:$AF2350,13,false)","v":"#N/A"},{"$f":"VLOOKUP(A142,'Copy of Export'!$A$2:$AF2350,2,false)","v":"#N/A"},{"$f":"VLOOKUP(A142,'Copy of Export'!$A$2:$AF2350,5,false)","v":"#N/A"},{"$f":"VLOOKUP(A142,'Copy of Export'!$A$2:$AF2350,8,false)","v":"#N/A"}]
[null,{"$f":"VLOOKUP(A143,'Copy of Export'!$A$2:$AF2350,5,false)","v":"#N/A"},{"$f":"VLOOKUP(A143,'Copy of Export'!$A$2:$AF2350,13,false)","v":"#N/A"},{"$f":"VLOOKUP(A143,'Copy of Export'!$A$2:$AF2350,2,false)","v":"#N/A"},{"$f":"VLOOKUP(A143,'Copy of Export'!$A$2:$AF2350,5,false)","v":"#N/A"},{"$f":"VLOOKUP(A143,'Copy of Export'!$A$2:$AF2350,8,false)","v":"#N/A"}]
[null,{"$f":"VLOOKUP(A144,'Copy of Export'!$A$2:$AF2350,5,false)","v":"#N/A"},{"$f":"VLOOKUP(A144,'Copy of Export'!$A$2:$AF2350,13,false)","v":"#N/A"},{"$f":"VLOOKUP(A144,'Copy of Export'!$A$2:$AF2350,2,false)","v":"#N/A"},{"$f":"VLOOKUP(A144,'Copy of Export'!$A$2:$AF2350,5,false)","v":"#N/A"},{"$f":"VLOOKUP(A144,'Copy of Export'!$A$2:$AF2350,8,false)","v":"#N/A"}]
[null,{"$f":"VLOOKUP(A145,'Copy of Export'!$A$2:$AF2350,5,false)","v":"#N/A"},{"$f":"VLOOKUP(A145,'Copy of Export'!$A$2:$AF2350,13,false)","v":"#N/A"},{"$f":"VLOOKUP(A145,'Copy of Export'!$A$2:$AF2350,2,false)","v":"#N/A"},{"$f":"VLOOKUP(A145,'Copy of Export'!$A$2:$AF2350,5,false)","v":"#N/A"},{"$f":"VLOOKUP(A145,'Copy of Export'!$A$2:$AF2350,8,false)","v":"#N/A"}]
[null,{"$f":"VLOOKUP(A146,'Copy of Export'!$A$2:$AF2350,5,false)","v":"#N/A"},{"$f":"VLOOKUP(A146,'Copy of Export'!$A$2:$AF2350,13,false)","v":"#N/A"},{"$f":"VLOOKUP(A146,'Copy of Export'!$A$2:$AF2350,2,false)","v":"#N/A"},{"$f":"VLOOKUP(A146,'Copy of Export'!$A$2:$AF2350,5,false)","v":"#N/A"},{"$f":"VLOOKUP(A146,'Copy of Export'!$A$2:$AF2350,8,false)","v":"#N/A"}]
[null,{"$f":"VLOOKUP(A147,'Copy of Export'!$A$2:$AF2350,5,false)","v":"#N/A"},{"$f":"VLOOKUP(A147,'Copy of Export'!$A$2:$AF2350,13,false)","v":"#N/A"},{"$f":"VLOOKUP(A147,'Copy of Export'!$A$2:$AF2350,2,false)","v":"#N/A"},{"$f":"VLOOKUP(A147,'Copy of Export'!$A$2:$AF2350,5,false)","v":"#N/A"},{"$f":"VLOOKUP(A147,'Copy of Export'!$A$2:$AF2350,8,false)","v":"#N/A"}]
[null,{"$f":"VLOOKUP(A148,'Copy of Export'!$A$2:$AF2350,5,false)","v":"#N/A"},{"$f":"VLOOKUP(A148,'Copy of Export'!$A$2:$AF2350,13,false)","v":"#N/A"},{"$f":"VLOOKUP(A148,'Copy of Export'!$A$2:$AF2350,2,false)","v":"#N/A"},{"$f":"VLOOKUP(A148,'Copy of Export'!$A$2:$AF2350,5,false)","v":"#N/A"},{"$f":"VLOOKUP(A148,'Copy of Export'!$A$2:$AF2350,8,false)","v":"#N/A"}]
[null,{"$f":"VLOOKUP(A149,'Copy of Export'!$A$2:$AF2350,5,false)","v":"#N/A"},{"$f":"VLOOKUP(A149,'Copy of Export'!$A$2:$AF2350,13,false)","v":"#N/A"},{"$f":"VLOOKUP(A149,'Copy of Export'!$A$2:$AF2350,2,false)","v":"#N/A"},{"$f":"VLOOKUP(A149,'Copy of Export'!$A$2:$AF2350,5,false)","v":"#N/A"},{"$f":"VLOOKUP(A149,'Copy of Export'!$A$2:$AF2350,8,false)","v":"#N/A"}]
[null,{"$f":"VLOOKUP(A150,'Copy of Export'!$A$2:$AF2350,5,false)","v":"#N/A"},{"$f":"VLOOKUP(A150,'Copy of Export'!$A$2:$AF2350,13,false)","v":"#N/A"},{"$f":"VLOOKUP(A150,'Copy of Export'!$A$2:$AF2350,2,false)","v":"#N/A"},{"$f":"VLOOKUP(A150,'Copy of Export'!$A$2:$AF2350,5,false)","v":"#N/A"},{"$f":"VLOOKUP(A150,'Copy of Export'!$A$2:$AF2350,8,false)","v":"#N/A"}]
[null,{"$f":"VLOOKUP(A151,'Copy of Export'!$A$2:$AF2350,5,false)","v":"#N/A"},{"$f":"VLOOKUP(A151,'Copy of Export'!$A$2:$AF2350,13,false)","v":"#N/A"},{"$f":"VLOOKUP(A151,'Copy of Export'!$A$2:$AF2350,2,false)","v":"#N/A"},{"$f":"VLOOKUP(A151,'Copy of Export'!$A$2:$AF2350,5,false)","v":"#N/A"},{"$f":"VLOOKUP(A151,'Copy of Export'!$A$2:$AF2350,8,false)","v":"#N/A"}]
[null,{"$f":"VLOOKUP(A152,'Copy of Export'!$A$2:$AF2350,5,false)","v":"#N/A"},{"$f":"VLOOKUP(A152,'Copy of Export'!$A$2:$AF2350,13,false)","v":"#N/A"},{"$f":"VLOOKUP(A152,'Copy of Export'!$A$2:$AF2350,2,false)","v":"#N/A"},{"$f":"VLOOKUP(A152,'Copy of Export'!$A$2:$AF2350,5,false)","v":"#N/A"},{"$f":"VLOOKUP(A152,'Copy of Export'!$A$2:$AF2350,8,false)","v":"#N/A"}]
[null,{"$f":"VLOOKUP(A153,'Copy of Export'!$A$2:$AF2350,5,false)","v":"#N/A"},{"$f":"VLOOKUP(A153,'Copy of Export'!$A$2:$AF2350,13,false)","v":"#N/A"},{"$f":"VLOOKUP(A153,'Copy of Export'!$A$2:$AF2350,2,false)","v":"#N/A"},{"$f":"VLOOKUP(A153,'Copy of Export'!$A$2:$AF2350,5,false)","v":"#N/A"},{"$f":"VLOOKUP(A153,'Copy of Export'!$A$2:$AF2350,8,false)","v":"#N/A"}]
[null,{"$f":"VLOOKUP(A154,'Copy of Export'!$A$2:$AF2350,5,false)","v":"#N/A"},{"$f":"VLOOKUP(A154,'Copy of Export'!$A$2:$AF2350,13,false)","v":"#N/A"},{"$f":"VLOOKUP(A154,'Copy of Export'!$A$2:$AF2350,2,false)","v":"#N/A"},{"$f":"VLOOKUP(A154,'Copy of Export'!$A$2:$AF2350,5,false)","v":"#N/A"},{"$f":"VLOOKUP(A154,'Copy of Export'!$A$2:$AF2350,8,false)","v":"#N/A"}]
[null,{"$f":"VLOOKUP(A155,'Copy of Export'!$A$2:$AF2350,5,false)","v":"#N/A"},{"$f":"VLOOKUP(A155,'Copy of Export'!$A$2:$AF2350,13,false)","v":"#N/A"},{"$f":"VLOOKUP(A155,'Copy of Export'!$A$2:$AF2350,2,false)","v":"#N/A"},{"$f":"VLOOKUP(A155,'Copy of Export'!$A$2:$AF2350,5,false)","v":"#N/A"},{"$f":"VLOOKUP(A155,'Copy of Export'!$A$2:$AF2350,8,false)","v":"#N/A"}]
[null,{"$f":"VLOOKUP(A156,'Copy of Export'!$A$2:$AF2350,5,false)","v":"#N/A"},{"$f":"VLOOKUP(A156,'Copy of Export'!$A$2:$AF2350,13,false)","v":"#N/A"},{"$f":"VLOOKUP(A156,'Copy of Export'!$A$2:$AF2350,2,false)","v":"#N/A"},{"$f":"VLOOKUP(A156,'Copy of Export'!$A$2:$AF2350,5,false)","v":"#N/A"},{"$f":"VLOOKUP(A156,'Copy of Export'!$A$2:$AF2350,8,false)","v":"#N/A"}]
[null,{"$f":"VLOOKUP(A157,'Copy of Export'!$A$2:$AF2350,5,false)","v":"#N/A"},{"$f":"VLOOKUP(A157,'Copy of Export'!$A$2:$AF2350,13,false)","v":"#N/A"},{"$f":"VLOOKUP(A157,'Copy of Export'!$A$2:$AF2350,2,false)","v":"#N/A"},{"$f":"VLOOKUP(A157,'Copy of Export'!$A$2:$AF2350,5,false)","v":"#N/A"},{"$f":"VLOOKUP(A157,'Copy of Export'!$A$2:$AF2350,8,false)","v":"#N/A"}]
[null,{"$f":"VLOOKUP(A158,'Copy of Export'!$A$2:$AF2350,5,false)","v":"#N/A"},{"$f":"VLOOKUP(A158,'Copy of Export'!$A$2:$AF2350,13,false)","v":"#N/A"},{"$f":"VLOOKUP(A158,'Copy of Export'!$A$2:$AF2350,2,false)","v":"#N/A"},{"$f":"VLOOKUP(A158,'Copy of Export'!$A$2:$AF2350,5,false)","v":"#N/A"},{"$f":"VLOOKUP(A158,'Copy of Export'!$A$2:$AF2350,8,false)","v":"#N/A"}]
[null,{"$f":"VLOOKUP(A159,'Copy of Export'!$A$2:$AF2350,5,false)","v":"#N/A"},{"$f":"VLOOKUP(A159,'Copy of Export'!$A$2:$AF2350,13,false)","v":"#N/A"},{"$f":"VLOOKUP(A159,'Copy of Export'!$A$2:$AF2350,2,false)","v":"#N/A"},{"$f":"VLOOKUP(A159,'Copy of Export'!$A$2:$AF2350,5,false)","v":"#N/A"},{"$f":"VLOOKUP(A159,'Copy of Export'!$A$2:$AF2350,8,false)","v":"#N/A"}]
[null,{"$f":"VLOOKUP(A160,'Copy of Export'!$A$2:$AF2350,5,false)","v":"#N/A"},{"$f":"VLOOKUP(A160,'Copy of Export'!$A$2:$AF2350,13,false)","v":"#N/A"},{"$f":"VLOOKUP(A160,'Copy of Export'!$A$2:$AF2350,2,false)","v":"#N/A"},{"$f":"VLOOKUP(A160,'Copy of Export'!$A$2:$AF2350,5,false)","v":"#N/A"},{"$f":"VLOOKUP(A160,'Copy of Export'!$A$2:$AF2350,8,false)","v":"#N/A"}]
[null,{"$f":"VLOOKUP(A161,'Copy of Export'!$A$2:$AF2350,5,false)","v":"#N/A"},{"$f":"VLOOKUP(A161,'Copy of Export'!$A$2:$AF2350,13,false)","v":"#N/A"},{"$f":"VLOOKUP(A161,'Copy of Export'!$A$2:$AF2350,2,false)","v":"#N/A"},{"$f":"VLOOKUP(A161,'Copy of Export'!$A$2:$AF2350,5,false)","v":"#N/A"},{"$f":"VLOOKUP(A161,'Copy of Export'!$A$2:$AF2350,8,false)","v":"#N/A"}]
[null,{"$f":"VLOOKUP(A162,'Copy of Export'!$A$2:$AF2350,5,false)","v":"#N/A"},{"$f":"VLOOKUP(A162,'Copy of Export'!$A$2:$AF2350,13,false)","v":"#N/A"},{"$f":"VLOOKUP(A162,'Copy of Export'!$A$2:$AF2350,2,false)","v":"#N/A"},{"$f":"VLOOKUP(A162,'Copy of Export'!$A$2:$AF2350,5,false)","v":"#N/A"},{"$f":"VLOOKUP(A162,'Copy of Export'!$A$2:$AF2350,8,false)","v":"#N/A"}]
[null,{"$f":"VLOOKUP(A163,'Copy of Export'!$A$2:$AF2350,5,false)","v":"#N/A"},{"$f":"VLOOKUP(A163,'Copy of Export'!$A$2:$AF2350,13,false)","v":"#N/A"},{"$f":"VLOOKUP(A163,'Copy of Export'!$A$2:$AF2350,2,false)","v":"#N/A"},{"$f":"VLOOKUP(A163,'Copy of Export'!$A$2:$AF2350,5,false)","v":"#N/A"},{"$f":"VLOOKUP(A163,'Copy of Export'!$A$2:$AF2350,8,false)","v":"#N/A"}]
[null,{"$f":"VLOOKUP(A164,'Copy of Export'!$A$2:$AF2350,5,false)","v":"#N/A"},{"$f":"VLOOKUP(A164,'Copy of Export'!$A$2:$AF2350,13,false)","v":"#N/A"},{"$f":"VLOOKUP(A164,'Copy of Export'!$A$2:$AF2350,2,false)","v":"#N/A"},{"$f":"VLOOKUP(A164,'Copy of Export'!$A$2:$AF2350,5,false)","v":"#N/A"},{"$f":"VLOOKUP(A164,'Copy of Export'!$A$2:$AF2350,8,false)","v":"#N/A"}]
[null,{"$f":"VLOOKUP(A165,'Copy of Export'!$A$2:$AF2350,5,false)","v":"#N/A"},{"$f":"VLOOKUP(A165,'Copy of Export'!$A$2:$AF2350,13,false)","v":"#N/A"},{"$f":"VLOOKUP(A165,'Copy of Export'!$A$2:$AF2350,2,false)","v":"#N/A"},{"$f":"VLOOKUP(A165,'Copy of Export'!$A$2:$AF2350,5,false)","v":"#N/A"},{"$f":"VLOOKUP(A165,'Copy of Export'!$A$2:$AF2350,8,false)","v":"#N/A"}]
[null,{"$f":"VLOOKUP(A166,'Copy of Export'!$A$2:$AF2350,5,false)","v":"#N/A"},{"$f":"VLOOKUP(A166,'Copy of Export'!$A$2:$AF2350,13,false)","v":"#N/A"},{"$f":"VLOOKUP(A166,'Copy of Export'!$A$2:$AF2350,2,false)","v":"#N/A"},{"$f":"VLOOKUP(A166,'Copy of Export'!$A$2:$AF2350,5,false)","v":"#N/A"},{"$f":"VLOOKUP(A166,'Copy of Export'!$A$2:$AF2350,8,false)","v":"#N/A"}]
[null,{"$f":"VLOOKUP(A167,'Copy of Export'!$A$2:$AF2350,5,false)","v":"#N/A"},{"$f":"VLOOKUP(A167,'Copy of Export'!$A$2:$AF2350,13,false)","v":"#N/A"},{"$f":"VLOOKUP(A167,'Copy of Export'!$A$2:$AF2350,2,false)","v":"#N/A"},{"$f":"VLOOKUP(A167,'Copy of Export'!$A$2:$AF2350,5,false)","v":"#N/A"},{"$f":"VLOOKUP(A167,'Copy of Export'!$A$2:$AF2350,8,false)","v":"#N/A"}]
[null,{"$f":"VLOOKUP(A168,'Copy of Export'!$A$2:$AF2350,5,false)","v":"#N/A"},{"$f":"VLOOKUP(A168,'Copy of Export'!$A$2:$AF2350,13,false)","v":"#N/A"},{"$f":"VLOOKUP(A168,'Copy of Export'!$A$2:$AF2350,2,false)","v":"#N/A"},{"$f":"VLOOKUP(A168,'Copy of Export'!$A$2:$AF2350,5,false)","v":"#N/A"},{"$f":"VLOOKUP(A168,'Copy of Export'!$A$2:$AF2350,8,false)","v":"#N/A"}]
[null,{"$f":"VLOOKUP(A169,'Copy of Export'!$A$2:$AF2350,5,false)","v":"#N/A"},{"$f":"VLOOKUP(A169,'Copy of Export'!$A$2:$AF2350,13,false)","v":"#N/A"},{"$f":"VLOOKUP(A169,'Copy of Export'!$A$2:$AF2350,2,false)","v":"#N/A"},{"$f":"VLOOKUP(A169,'Copy of Export'!$A$2:$AF2350,5,false)","v":"#N/A"},{"$f":"VLOOKUP(A169,'Copy of Export'!$A$2:$AF2350,8,false)","v":"#N/A"}]
[null,{"$f":"VLOOKUP(A170,'Copy of Export'!$A$2:$AF2350,5,false)","v":"#N/A"},{"$f":"VLOOKUP(A170,'Copy of Export'!$A$2:$AF2350,13,false)","v":"#N/A"},{"$f":"VLOOKUP(A170,'Copy of Export'!$A$2:$AF2350,2,false)","v":"#N/A"},{"$f":"VLOOKUP(A170,'Copy of Export'!$A$2:$AF2350,5,false)","v":"#N/A"},{"$f":"VLOOKUP(A170,'Copy of Export'!$A$2:$AF2350,8,false)","v":"#N/A"}]
[null,{"$f":"VLOOKUP(A171,'Copy of Export'!$A$2:$AF2350,5,false)","v":"#N/A"},{"$f":"VLOOKUP(A171,'Copy of Export'!$A$2:$AF2350,13,false)","v":"#N/A"},{"$f":"VLOOKUP(A171,'Copy of Export'!$A$2:$AF2350,2,false)","v":"#N/A"},{"$f":"VLOOKUP(A171,'Copy of Export'!$A$2:$AF2350,5,false)","v":"#N/A"},{"$f":"VLOOKUP(A171,'Copy of Export'!$A$2:$AF2350,8,false)","v":"#N/A"}]
[null,{"$f":"VLOOKUP(A172,'Copy of Export'!$A$2:$AF2350,5,false)","v":"#N/A"},{"$f":"VLOOKUP(A172,'Copy of Export'!$A$2:$AF2350,13,false)","v":"#N/A"},{"$f":"VLOOKUP(A172,'Copy of Export'!$A$2:$AF2350,2,false)","v":"#N/A"},{"$f":"VLOOKUP(A172,'Copy of Export'!$A$2:$AF2350,5,false)","v":"#N/A"},{"$f":"VLOOKUP(A172,'Copy of Export'!$A$2:$AF2350,8,false)","v":"#N/A"}]
[null,{"$f":"VLOOKUP(A173,'Copy of Export'!$A$2:$AF2350,5,false)","v":"#N/A"},{"$f":"VLOOKUP(A173,'Copy of Export'!$A$2:$AF2350,13,false)","v":"#N/A"},{"$f":"VLOOKUP(A173,'Copy of Export'!$A$2:$AF2350,2,false)","v":"#N/A"},{"$f":"VLOOKUP(A173,'Copy of Export'!$A$2:$AF2350,5,false)","v":"#N/A"},{"$f":"VLOOKUP(A173,'Copy of Export'!$A$2:$AF2350,8,false)","v":"#N/A"}]
[null,{"$f":"VLOOKUP(A174,'Copy of Export'!$A$2:$AF2350,5,false)","v":"#N/A"},{"$f":"VLOOKUP(A174,'Copy of Export'!$A$2:$AF2350,13,false)","v":"#N/A"},{"$f":"VLOOKUP(A174,'Copy of Export'!$A$2:$AF2350,2,false)","v":"#N/A"},{"$f":"VLOOKUP(A174,'Copy of Export'!$A$2:$AF2350,5,false)","v":"#N/A"},{"$f":"VLOOKUP(A174,'Copy of Export'!$A$2:$AF2350,8,false)","v":"#N/A"}]
[null,{"$f":"VLOOKUP(A175,'Copy of Export'!$A$2:$AF2350,5,false)","v":"#N/A"},{"$f":"VLOOKUP(A175,'Copy of Export'!$A$2:$AF2350,13,false)","v":"#N/A"},{"$f":"VLOOKUP(A175,'Copy of Export'!$A$2:$AF2350,2,false)","v":"#N/A"},{"$f":"VLOOKUP(A175,'Copy of Export'!$A$2:$AF2350,5,false)","v":"#N/A"},{"$f":"VLOOKUP(A175,'Copy of Export'!$A$2:$AF2350,8,false)","v":"#N/A"}]
[null,{"$f":"VLOOKUP(A176,'Copy of Export'!$A$2:$AF2350,5,false)","v":"#N/A"},{"$f":"VLOOKUP(A176,'Copy of Export'!$A$2:$AF2350,13,false)","v":"#N/A"},{"$f":"VLOOKUP(A176,'Copy of Export'!$A$2:$AF2350,2,false)","v":"#N/A"},{"$f":"VLOOKUP(A176,'Copy of Export'!$A$2:$AF2350,5,false)","v":"#N/A"},{"$f":"VLOOKUP(A176,'Copy of Export'!$A$2:$AF2350,8,false)","v":"#N/A"}]
[null,{"$f":"VLOOKUP(A177,'Copy of Export'!$A$2:$AF2350,5,false)","v":"#N/A"},{"$f":"VLOOKUP(A177,'Copy of Export'!$A$2:$AF2350,13,false)","v":"#N/A"},{"$f":"VLOOKUP(A177,'Copy of Export'!$A$2:$AF2350,2,false)","v":"#N/A"},{"$f":"VLOOKUP(A177,'Copy of Export'!$A$2:$AF2350,5,false)","v":"#N/A"},{"$f":"VLOOKUP(A177,'Copy of Export'!$A$2:$AF2350,8,false)","v":"#N/A"}]
[null,{"$f":"VLOOKUP(A178,'Copy of Export'!$A$2:$AF2350,5,false)","v":"#N/A"},{"$f":"VLOOKUP(A178,'Copy of Export'!$A$2:$AF2350,13,false)","v":"#N/A"},{"$f":"VLOOKUP(A178,'Copy of Export'!$A$2:$AF2350,2,false)","v":"#N/A"},{"$f":"VLOOKUP(A178,'Copy of Export'!$A$2:$AF2350,5,false)","v":"#N/A"},{"$f":"VLOOKUP(A178,'Copy of Export'!$A$2:$AF2350,8,false)","v":"#N/A"}]
[null,{"$f":"VLOOKUP(A179,'Copy of Export'!$A$2:$AF2350,5,false)","v":"#N/A"},{"$f":"VLOOKUP(A179,'Copy of Export'!$A$2:$AF2350,13,false)","v":"#N/A"},{"$f":"VLOOKUP(A179,'Copy of Export'!$A$2:$AF2350,2,false)","v":"#N/A"},{"$f":"VLOOKUP(A179,'Copy of Export'!$A$2:$AF2350,5,false)","v":"#N/A"},{"$f":"VLOOKUP(A179,'Copy of Export'!$A$2:$AF2350,8,false)","v":"#N/A"}]
[null,{"$f":"VLOOKUP(A180,'Copy of Export'!$A$2:$AF2350,5,false)","v":"#N/A"},{"$f":"VLOOKUP(A180,'Copy of Export'!$A$2:$AF2350,13,false)","v":"#N/A"},{"$f":"VLOOKUP(A180,'Copy of Export'!$A$2:$AF2350,2,false)","v":"#N/A"},{"$f":"VLOOKUP(A180,'Copy of Export'!$A$2:$AF2350,5,false)","v":"#N/A"},{"$f":"VLOOKUP(A180,'Copy of Export'!$A$2:$AF2350,8,false)","v":"#N/A"}]
[null,{"$f":"VLOOKUP(A181,'Copy of Export'!$A$2:$AF2350,5,false)","v":"#N/A"},{"$f":"VLOOKUP(A181,'Copy of Export'!$A$2:$AF2350,13,false)","v":"#N/A"},{"$f":"VLOOKUP(A181,'Copy of Export'!$A$2:$AF2350,2,false)","v":"#N/A"},{"$f":"VLOOKUP(A181,'Copy of Export'!$A$2:$AF2350,5,false)","v":"#N/A"},{"$f":"VLOOKUP(A181,'Copy of Export'!$A$2:$AF2350,8,false)","v":"#N/A"}]
[null,{"$f":"VLOOKUP(A182,'Copy of Export'!$A$2:$AF2350,5,false)","v":"#N/A"},{"$f":"VLOOKUP(A182,'Copy of Export'!$A$2:$AF2350,13,false)","v":"#N/A"},{"$f":"VLOOKUP(A182,'Copy of Export'!$A$2:$AF2350,2,false)","v":"#N/A"},{"$f":"VLOOKUP(A182,'Copy of Export'!$A$2:$AF2350,5,false)","v":"#N/A"},{"$f":"VLOOKUP(A182,'Copy of Export'!$A$2:$AF2350,8,false)","v":"#N/A"}]
[null,{"$f":"VLOOKUP(A183,'Copy of Export'!$A$2:$AF2350,5,false)","v":"#N/A"},{"$f":"VLOOKUP(A183,'Copy of Export'!$A$2:$AF2350,13,false)","v":"#N/A"},{"$f":"VLOOKUP(A183,'Copy of Export'!$A$2:$AF2350,2,false)","v":"#N/A"},{"$f":"VLOOKUP(A183,'Copy of Export'!$A$2:$AF2350,5,false)","v":"#N/A"},{"$f":"VLOOKUP(A183,'Copy of Export'!$A$2:$AF2350,8,false)","v":"#N/A"}]
["39102",{"$f":"VLOOKUP(A184,'Copy of Export'!$A$2:$AF2350,5,false)","v":"Bretford A/V Learning Cart"},{"$f":"VLOOKUP(A184,'Copy of Export'!$A$2:$AF2350,13,false)","v":"ECILS3-BK"},{"$f":"VLOOKUP(A184,'Copy of Export'!$A$2:$AF2350,2,false)","v":""},{"$f":"VLOOKUP(A184,'Copy of Export'!$A$2:$AF2350,5,false)","v":"Bretford A/V Learning Cart"},{"$f":"VLOOKUP(A184,'Copy of Export'!$A$2:$AF2350,8,false)","v":"Cart"},"Working"]
["42326",{"$f":"VLOOKUP(A185,'Copy of Export'!$A$2:$AF2350,5,false)","v":"#N/A"},{"$f":"VLOOKUP(A185,'Copy of Export'!$A$2:$AF2350,13,false)","v":"#N/A"},{"$f":"VLOOKUP(A185,'Copy of Export'!$A$2:$AF2350,2,false)","v":"#N/A"},{"$f":"VLOOKUP(A185,'Copy of Export'!$A$2:$AF2350,5,false)","v":"#N/A"},{"$f":"VLOOKUP(A185,'Copy of Export'!$A$2:$AF2350,8,false)","v":"#N/A"},"Working"]
["39552",{"$f":"VLOOKUP(A186,'Copy of Export'!$A$2:$AF2350,5,false)","v":"#N/A"},{"$f":"VLOOKUP(A186,'Copy of Export'!$A$2:$AF2350,13,false)","v":"#N/A"},{"$f":"VLOOKUP(A186,'Copy of Export'!$A$2:$AF2350,2,false)","v":"#N/A"},{"$f":"VLOOKUP(A186,'Copy of Export'!$A$2:$AF2350,5,false)","v":"#N/A"},{"$f":"VLOOKUP(A186,'Copy of Export'!$A$2:$AF2350,8,false)","v":"#N/A"},"Working"]
["54172",{"$f":"VLOOKUP(A187,'Copy of Export'!$A$2:$AF2350,5,false)","v":"#N/A"},{"$f":"VLOOKUP(A187,'Copy of Export'!$A$2:$AF2350,13,false)","v":"#N/A"},{"$f":"VLOOKUP(A187,'Copy of Export'!$A$2:$AF2350,2,false)","v":"#N/A"},{"$f":"VLOOKUP(A187,'Copy of Export'!$A$2:$AF2350,5,false)","v":"#N/A"},{"$f":"VLOOKUP(A187,'Copy of Export'!$A$2:$AF2350,8,false)","v":"#N/A"},"Working"]
["46131",{"$f":"VLOOKUP(A188,'Copy of Export'!$A$2:$AF2350,5,false)","v":"Bretford A/V Learning Cart"},{"$f":"VLOOKUP(A188,'Copy of Export'!$A$2:$AF2350,13,false)","v":"ECILS3-BK"},{"$f":"VLOOKUP(A188,'Copy of Export'!$A$2:$AF2350,2,false)","v":""},{"$f":"VLOOKUP(A188,'Copy of Export'!$A$2:$AF2350,5,false)","v":"Bretford A/V Learning Cart"},{"$f":"VLOOKUP(A188,'Copy of Export'!$A$2:$AF2350,8,false)","v":"Cart"},"Working"]
["36732","Bretford A/V Learning Cart",{"$f":"VLOOKUP(A189,'Copy of Export'!$A$2:$AF2350,13,false)","v":"#N/A"},{"$f":"VLOOKUP(A189,'Copy of Export'!$A$2:$AF2350,2,false)","v":"#N/A"},{"$f":"VLOOKUP(A189,'Copy of Export'!$A$2:$AF2350,5,false)","v":"#N/A"},{"$f":"VLOOKUP(A189,'Copy of Export'!$A$2:$AF2350,8,false)","v":"#N/A"},"Working"]
["48388",{"$f":"VLOOKUP(A190,'Copy of Export'!$A$2:$AF2350,5,false)","v":"#N/A"},{"$f":"VLOOKUP(A190,'Copy of Export'!$A$2:$AF2350,13,false)","v":"#N/A"},{"$f":"VLOOKUP(A190,'Copy of Export'!$A$2:$AF2350,2,false)","v":"#N/A"},{"$f":"VLOOKUP(A190,'Copy of Export'!$A$2:$AF2350,5,false)","v":"#N/A"},{"$f":"VLOOKUP(A190,'Copy of Export'!$A$2:$AF2350,8,false)","v":"#N/A"},"Working"]
["40677",{"$f":"VLOOKUP(A191,'Copy of Export'!$A$2:$AF2350,5,false)","v":"Bretford A/V Learning Cart"},{"$f":"VLOOKUP(A191,'Copy of Export'!$A$2:$AF2350,13,false)","v":"ECILS3-BK"},{"$f":"VLOOKUP(A191,'Copy of Export'!$A$2:$AF2350,2,false)","v":""},{"$f":"VLOOKUP(A191,'Copy of Export'!$A$2:$AF2350,5,false)","v":"Bretford A/V Learning Cart"},{"$f":"VLOOKUP(A191,'Copy of Export'!$A$2:$AF2350,8,false)","v":"Cart"},"Working"]
["42325",{"$f":"VLOOKUP(A192,'Copy of Export'!$A$2:$AF2350,5,false)","v":"#N/A"},{"$f":"VLOOKUP(A192,'Copy of Export'!$A$2:$AF2350,13,false)","v":"#N/A"},{"$f":"VLOOKUP(A192,'Copy of Export'!$A$2:$AF2350,2,false)","v":"#N/A"},{"$f":"VLOOKUP(A192,'Copy of Export'!$A$2:$AF2350,5,false)","v":"#N/A"},{"$f":"VLOOKUP(A192,'Copy of Export'!$A$2:$AF2350,8,false)","v":"#N/A"},"Working"]
["40691",{"$f":"VLOOKUP(A193,'Copy of Export'!$A$2:$AF2350,5,false)","v":"#N/A"},{"$f":"VLOOKUP(A193,'Copy of Export'!$A$2:$AF2350,13,false)","v":"#N/A"},{"$f":"VLOOKUP(A193,'Copy of Export'!$A$2:$AF2350,2,false)","v":"#N/A"},{"$f":"VLOOKUP(A193,'Copy of Export'!$A$2:$AF2350,5,false)","v":"#N/A"},{"$f":"VLOOKUP(A193,'Copy of Export'!$A$2:$AF2350,8,false)","v":"#N/A"},"Working"]
[null,{"$f":"VLOOKUP(A194,'Copy of Export'!$A$2:$AF2350,5,false)","v":"#N/A"},{"$f":"VLOOKUP(A194,'Copy of Export'!$A$2:$AF2350,13,false)","v":"#N/A"},{"$f":"VLOOKUP(A194,'Copy of Export'!$A$2:$AF2350,2,false)","v":"#N/A"},{"$f":"VLOOKUP(A194,'Copy of Export'!$A$2:$AF2350,5,false)","v":"#N/A"},{"$f":"VLOOKUP(A194,'Copy of Export'!$A$2:$AF2350,8,false)","v":"#N/A"}]
[null,{"$f":"VLOOKUP(A195,'Copy of Export'!$A$2:$AF2350,5,false)","v":"#N/A"},{"$f":"VLOOKUP(A195,'Copy of Export'!$A$2:$AF2350,13,false)","v":"#N/A"},{"$f":"VLOOKUP(A195,'Copy of Export'!$A$2:$AF2350,2,false)","v":"#N/A"},{"$f":"VLOOKUP(A195,'Copy of Export'!$A$2:$AF2350,5,false)","v":"#N/A"},{"$f":"VLOOKUP(A195,'Copy of Export'!$A$2:$AF2350,8,false)","v":"#N/A"}]
[null,{"$f":"VLOOKUP(A196,'Copy of Export'!$A$2:$AF2350,5,false)","v":"#N/A"},{"$f":"VLOOKUP(A196,'Copy of Export'!$A$2:$AF2350,13,false)","v":"#N/A"},{"$f":"VLOOKUP(A196,'Copy of Export'!$A$2:$AF2350,2,false)","v":"#N/A"},{"$f":"VLOOKUP(A196,'Copy of Export'!$A$2:$AF2350,5,false)","v":"#N/A"},{"$f":"VLOOKUP(A196,'Copy of Export'!$A$2:$AF2350,8,false)","v":"#N/A"}]
[null,{"$f":"VLOOKUP(A197,'Copy of Export'!$A$2:$AF2350,5,false)","v":"#N/A"},{"$f":"VLOOKUP(A197,'Copy of Export'!$A$2:$AF2350,13,false)","v":"#N/A"},{"$f":"VLOOKUP(A197,'Copy of Export'!$A$2:$AF2350,2,false)","v":"#N/A"},{"$f":"VLOOKUP(A197,'Copy of Export'!$A$2:$AF2350,5,false)","v":"#N/A"},{"$f":"VLOOKUP(A197,'Copy of Export'!$A$2:$AF2350,8,false)","v":"#N/A"}]
[null,{"$f":"VLOOKUP(A198,'Copy of Export'!$A$2:$AF2350,5,false)","v":"#N/A"},{"$f":"VLOOKUP(A198,'Copy of Export'!$A$2:$AF2350,13,false)","v":"#N/A"},{"$f":"VLOOKUP(A198,'Copy of Export'!$A$2:$AF2350,2,false)","v":"#N/A"},{"$f":"VLOOKUP(A198,'Copy of Export'!$A$2:$AF2350,5,false)","v":"#N/A"},{"$f":"VLOOKUP(A198,'Copy of Export'!$A$2:$AF2350,8,false)","v":"#N/A"}]
[null,{"$f":"VLOOKUP(A199,'Copy of Export'!$A$2:$AF2350,5,false)","v":"#N/A"},{"$f":"VLOOKUP(A199,'Copy of Export'!$A$2:$AF2350,13,false)","v":"#N/A"},{"$f":"VLOOKUP(A199,'Copy of Export'!$A$2:$AF2350,2,false)","v":"#N/A"},{"$f":"VLOOKUP(A199,'Copy of Export'!$A$2:$AF2350,5,false)","v":"#N/A"},{"$f":"VLOOKUP(A199,'Copy of Export'!$A$2:$AF2350,8,false)","v":"#N/A"}]
[null,{"$f":"VLOOKUP(A200,'Copy of Export'!$A$2:$AF2350,5,false)","v":"#N/A"},{"$f":"VLOOKUP(A200,'Copy of Export'!$A$2:$AF2350,13,false)","v":"#N/A"},{"$f":"VLOOKUP(A200,'Copy of Export'!$A$2:$AF2350,2,false)","v":"#N/A"},{"$f":"VLOOKUP(A200,'Copy of Export'!$A$2:$AF2350,5,false)","v":"#N/A"},{"$f":"VLOOKUP(A200,'Copy of Export'!$A$2:$AF2350,8,false)","v":"#N/A"}]
[null,{"$f":"VLOOKUP(A201,'Copy of Export'!$A$2:$AF2350,5,false)","v":"#N/A"},{"$f":"VLOOKUP(A201,'Copy of Export'!$A$2:$AF2350,13,false)","v":"#N/A"},{"$f":"VLOOKUP(A201,'Copy of Export'!$A$2:$AF2350,2,false)","v":"#N/A"},{"$f":"VLOOKUP(A201,'Copy of Export'!$A$2:$AF2350,5,false)","v":"#N/A"},{"$f":"VLOOKUP(A201,'Copy of Export'!$A$2:$AF2350,8,false)","v":"#N/A"}]
[null,{"$f":"VLOOKUP(A202,'Copy of Export'!$A$2:$AF2350,5,false)","v":"#N/A"},{"$f":"VLOOKUP(A202,'Copy of Export'!$A$2:$AF2350,13,false)","v":"#N/A"},{"$f":"VLOOKUP(A202,'Copy of Export'!$A$2:$AF2350,2,false)","v":"#N/A"},{"$f":"VLOOKUP(A202,'Copy of Export'!$A$2:$AF2350,5,false)","v":"#N/A"},{"$f":"VLOOKUP(A202,'Copy of Export'!$A$2:$AF2350,8,false)","v":"#N/A"}]
[null,{"$f":"VLOOKUP(A203,'Copy of Export'!$A$2:$AF2350,5,false)","v":"#N/A"},{"$f":"VLOOKUP(A203,'Copy of Export'!$A$2:$AF2350,13,false)","v":"#N/A"},{"$f":"VLOOKUP(A203,'Copy of Export'!$A$2:$AF2350,2,false)","v":"#N/A"},{"$f":"VLOOKUP(A203,'Copy of Export'!$A$2:$AF2350,5,false)","v":"#N/A"},{"$f":"VLOOKUP(A203,'Copy of Export'!$A$2:$AF2350,8,false)","v":"#N/A"}]
[null,{"$f":"VLOOKUP(A204,'Copy of Export'!$A$2:$AF2350,5,false)","v":"#N/A"},{"$f":"VLOOKUP(A204,'Copy of Export'!$A$2:$AF2350,13,false)","v":"#N/A"},{"$f":"VLOOKUP(A204,'Copy of Export'!$A$2:$AF2350,2,false)","v":"#N/A"},{"$f":"VLOOKUP(A204,'Copy of Export'!$A$2:$AF2350,5,false)","v":"#N/A"},{"$f":"VLOOKUP(A204,'Copy of Export'!$A$2:$AF2350,8,false)","v":"#N/A"}]
[null,{"$f":"VLOOKUP(A205,'Copy of Export'!$A$2:$AF2350,5,false)","v":"#N/A"},{"$f":"VLOOKUP(A205,'Copy of Export'!$A$2:$AF2350,13,false)","v":"#N/A"},{"$f":"VLOOKUP(A205,'Copy of Export'!$A$2:$AF2350,2,false)","v":"#N/A"},{"$f":"VLOOKUP(A205,'Copy of Export'!$A$2:$AF2350,5,false)","v":"#N/A"},{"$f":"VLOOKUP(A205,'Copy of Export'!$A$2:$AF2350,8,false)","v":"#N/A"}]
[null,{"$f":"VLOOKUP(A206,'Copy of Export'!$A$2:$AF2350,5,false)","v":"#N/A"},{"$f":"VLOOKUP(A206,'Copy of Export'!$A$2:$AF2350,13,false)","v":"#N/A"},{"$f":"VLOOKUP(A206,'Copy of Export'!$A$2:$AF2350,2,false)","v":"#N/A"},{"$f":"VLOOKUP(A206,'Copy of Export'!$A$2:$AF2350,5,false)","v":"#N/A"},{"$f":"VLOOKUP(A206,'Copy of Export'!$A$2:$AF2350,8,false)","v":"#N/A"}]
[null,{"$f":"VLOOKUP(A207,'Copy of Export'!$A$2:$AF2350,5,false)","v":"#N/A"},{"$f":"VLOOKUP(A207,'Copy of Export'!$A$2:$AF2350,13,false)","v":"#N/A"},{"$f":"VLOOKUP(A207,'Copy of Export'!$A$2:$AF2350,2,false)","v":"#N/A"},{"$f":"VLOOKUP(A207,'Copy of Export'!$A$2:$AF2350,5,false)","v":"#N/A"},{"$f":"VLOOKUP(A207,'Copy of Export'!$A$2:$AF2350,8,false)","v":"#N/A"}]
[null,{"$f":"VLOOKUP(A208,'Copy of Export'!$A$2:$AF2350,5,false)","v":"#N/A"},{"$f":"VLOOKUP(A208,'Copy of Export'!$A$2:$AF2350,13,false)","v":"#N/A"},{"$f":"VLOOKUP(A208,'Copy of Export'!$A$2:$AF2350,2,false)","v":"#N/A"},{"$f":"VLOOKUP(A208,'Copy of Export'!$A$2:$AF2350,5,false)","v":"#N/A"},{"$f":"VLOOKUP(A208,'Copy of Export'!$A$2:$AF2350,8,false)","v":"#N/A"}]
[null,{"$f":"VLOOKUP(A209,'Copy of Export'!$A$2:$AF2350,5,false)","v":"#N/A"},{"$f":"VLOOKUP(A209,'Copy of Export'!$A$2:$AF2350,13,false)","v":"#N/A"},{"$f":"VLOOKUP(A209,'Copy of Export'!$A$2:$AF2350,2,false)","v":"#N/A"},{"$f":"VLOOKUP(A209,'Copy of Export'!$A$2:$AF2350,5,false)","v":"#N/A"},{"$f":"VLOOKUP(A209,'Copy of Export'!$A$2:$AF2350,8,false)","v":"#N/A"}]
[null,{"$f":"VLOOKUP(A210,'Copy of Export'!$A$2:$AF2350,5,false)","v":"#N/A"},{"$f":"VLOOKUP(A210,'Copy of Export'!$A$2:$AF2350,13,false)","v":"#N/A"},{"$f":"VLOOKUP(A210,'Copy of Export'!$A$2:$AF2350,2,false)","v":"#N/A"},{"$f":"VLOOKUP(A210,'Copy of Export'!$A$2:$AF2350,5,false)","v":"#N/A"},{"$f":"VLOOKUP(A210,'Copy of Export'!$A$2:$AF2350,8,false)","v":"#N/A"}]
[null,{"$f":"VLOOKUP(A211,'Copy of Export'!$A$2:$AF2350,5,false)","v":"#N/A"},{"$f":"VLOOKUP(A211,'Copy of Export'!$A$2:$AF2350,13,false)","v":"#N/A"},{"$f":"VLOOKUP(A211,'Copy of Export'!$A$2:$AF2350,2,false)","v":"#N/A"},{"$f":"VLOOKUP(A211,'Copy of Export'!$A$2:$AF2350,5,false)","v":"#N/A"},{"$f":"VLOOKUP(A211,'Copy of Export'!$A$2:$AF2350,8,false)","v":"#N/A"}]
[null,{"$f":"VLOOKUP(A212,'Copy of Export'!$A$2:$AF2350,5,false)","v":"#N/A"},{"$f":"VLOOKUP(A212,'Copy of Export'!$A$2:$AF2350,13,false)","v":"#N/A"},{"$f":"VLOOKUP(A212,'Copy of Export'!$A$2:$AF2350,2,false)","v":"#N/A"},{"$f":"VLOOKUP(A212,'Copy of Export'!$A$2:$AF2350,5,false)","v":"#N/A"},{"$f":"VLOOKUP(A212,'Copy of Export'!$A$2:$AF2350,8,false)","v":"#N/A"}]
[null,{"$f":"VLOOKUP(A213,'Copy of Export'!$A$2:$AF2350,5,false)","v":"#N/A"},{"$f":"VLOOKUP(A213,'Copy of Export'!$A$2:$AF2350,13,false)","v":"#N/A"},{"$f":"VLOOKUP(A213,'Copy of Export'!$A$2:$AF2350,2,false)","v":"#N/A"},{"$f":"VLOOKUP(A213,'Copy of Export'!$A$2:$AF2350,5,false)","v":"#N/A"},{"$f":"VLOOKUP(A213,'Copy of Export'!$A$2:$AF2350,8,false)","v":"#N/A"}]
[null,{"$f":"VLOOKUP(A214,'Copy of Export'!$A$2:$AF2350,5,false)","v":"#N/A"},{"$f":"VLOOKUP(A214,'Copy of Export'!$A$2:$AF2350,13,false)","v":"#N/A"},{"$f":"VLOOKUP(A214,'Copy of Export'!$A$2:$AF2350,2,false)","v":"#N/A"},{"$f":"VLOOKUP(A214,'Copy of Export'!$A$2:$AF2350,5,false)","v":"#N/A"},{"$f":"VLOOKUP(A214,'Copy of Export'!$A$2:$AF2350,8,false)","v":"#N/A"}]
[null,{"$f":"VLOOKUP(A215,'Copy of Export'!$A$2:$AF2350,5,false)","v":"#N/A"},{"$f":"VLOOKUP(A215,'Copy of Export'!$A$2:$AF2350,13,false)","v":"#N/A"},{"$f":"VLOOKUP(A215,'Copy of Export'!$A$2:$AF2350,2,false)","v":"#N/A"},{"$f":"VLOOKUP(A215,'Copy of Export'!$A$2:$AF2350,5,false)","v":"#N/A"},{"$f":"VLOOKUP(A215,'Copy of Export'!$A$2:$AF2350,8,false)","v":"#N/A"}]
[null,{"$f":"VLOOKUP(A216,'Copy of Export'!$A$2:$AF2350,5,false)","v":"#N/A"},{"$f":"VLOOKUP(A216,'Copy of Export'!$A$2:$AF2350,13,false)","v":"#N/A"},{"$f":"VLOOKUP(A216,'Copy of Export'!$A$2:$AF2350,2,false)","v":"#N/A"},{"$f":"VLOOKUP(A216,'Copy of Export'!$A$2:$AF2350,5,false)","v":"#N/A"},{"$f":"VLOOKUP(A216,'Copy of Export'!$A$2:$AF2350,8,false)","v":"#N/A"}]
[null,{"$f":"VLOOKUP(A217,'Copy of Export'!$A$2:$AF2350,5,false)","v":"#N/A"},{"$f":"VLOOKUP(A217,'Copy of Export'!$A$2:$AF2350,13,false)","v":"#N/A"},{"$f":"VLOOKUP(A217,'Copy of Export'!$A$2:$AF2350,2,false)","v":"#N/A"},{"$f":"VLOOKUP(A217,'Copy of Export'!$A$2:$AF2350,5,false)","v":"#N/A"},{"$f":"VLOOKUP(A217,'Copy of Export'!$A$2:$AF2350,8,false)","v":"#N/A"}]
[null,{"$f":"VLOOKUP(A218,'Copy of Export'!$A$2:$AF2350,5,false)","v":"#N/A"},{"$f":"VLOOKUP(A218,'Copy of Export'!$A$2:$AF2350,13,false)","v":"#N/A"},{"$f":"VLOOKUP(A218,'Copy of Export'!$A$2:$AF2350,2,false)","v":"#N/A"},{"$f":"VLOOKUP(A218,'Copy of Export'!$A$2:$AF2350,5,false)","v":"#N/A"},{"$f":"VLOOKUP(A218,'Copy of Export'!$A$2:$AF2350,8,false)","v":"#N/A"}]
[null,{"$f":"VLOOKUP(A219,'Copy of Export'!$A$2:$AF2350,5,false)","v":"#N/A"},{"$f":"VLOOKUP(A219,'Copy of Export'!$A$2:$AF2350,13,false)","v":"#N/A"},{"$f":"VLOOKUP(A219,'Copy of Export'!$A$2:$AF2350,2,false)","v":"#N/A"},{"$f":"VLOOKUP(A219,'Copy of Export'!$A$2:$AF2350,5,false)","v":"#N/A"},{"$f":"VLOOKUP(A219,'Copy of Export'!$A$2:$AF2350,8,false)","v":"#N/A"}]
[null,{"$f":"VLOOKUP(A220,'Copy of Export'!$A$2:$AF2350,5,false)","v":"#N/A"},{"$f":"VLOOKUP(A220,'Copy of Export'!$A$2:$AF2350,13,false)","v":"#N/A"},{"$f":"VLOOKUP(A220,'Copy of Export'!$A$2:$AF2350,2,false)","v":"#N/A"},{"$f":"VLOOKUP(A220,'Copy of Export'!$A$2:$AF2350,5,false)","v":"#N/A"},{"$f":"VLOOKUP(A220,'Copy of Export'!$A$2:$AF2350,8,false)","v":"#N/A"}]
[null,{"$f":"VLOOKUP(A221,'Copy of Export'!$A$2:$AF2350,5,false)","v":"#N/A"},{"$f":"VLOOKUP(A221,'Copy of Export'!$A$2:$AF2350,13,false)","v":"#N/A"},{"$f":"VLOOKUP(A221,'Copy of Export'!$A$2:$AF2350,2,false)","v":"#N/A"},{"$f":"VLOOKUP(A221,'Copy of Export'!$A$2:$AF2350,5,false)","v":"#N/A"},{"$f":"VLOOKUP(A221,'Copy of Export'!$A$2:$AF2350,8,false)","v":"#N/A"}]
[null,{"$f":"VLOOKUP(A222,'Copy of Export'!$A$2:$AF2350,5,false)","v":"#N/A"},{"$f":"VLOOKUP(A222,'Copy of Export'!$A$2:$AF2350,13,false)","v":"#N/A"},{"$f":"VLOOKUP(A222,'Copy of Export'!$A$2:$AF2350,2,false)","v":"#N/A"},{"$f":"VLOOKUP(A222,'Copy of Export'!$A$2:$AF2350,5,false)","v":"#N/A"},{"$f":"VLOOKUP(A222,'Copy of Export'!$A$2:$AF2350,8,false)","v":"#N/A"}]
[null,{"$f":"VLOOKUP(A223,'Copy of Export'!$A$2:$AF2350,5,false)","v":"#N/A"},{"$f":"VLOOKUP(A223,'Copy of Export'!$A$2:$AF2350,13,false)","v":"#N/A"},{"$f":"VLOOKUP(A223,'Copy of Export'!$A$2:$AF2350,2,false)","v":"#N/A"},{"$f":"VLOOKUP(A223,'Copy of Export'!$A$2:$AF2350,5,false)","v":"#N/A"},{"$f":"VLOOKUP(A223,'Copy of Export'!$A$2:$AF2350,8,false)","v":"#N/A"}]
[null,{"$f":"VLOOKUP(A224,'Copy of Export'!$A$2:$AF2350,5,false)","v":"#N/A"},{"$f":"VLOOKUP(A224,'Copy of Export'!$A$2:$AF2350,13,false)","v":"#N/A"},{"$f":"VLOOKUP(A224,'Copy of Export'!$A$2:$AF2350,2,false)","v":"#N/A"},{"$f":"VLOOKUP(A224,'Copy of Export'!$A$2:$AF2350,5,false)","v":"#N/A"},{"$f":"VLOOKUP(A224,'Copy of Export'!$A$2:$AF2350,8,false)","v":"#N/A"}]
[null,{"$f":"VLOOKUP(A225,'Copy of Export'!$A$2:$AF2350,5,false)","v":"#N/A"},{"$f":"VLOOKUP(A225,'Copy of Export'!$A$2:$AF2350,13,false)","v":"#N/A"},{"$f":"VLOOKUP(A225,'Copy of Export'!$A$2:$AF2350,2,false)","v":"#N/A"},{"$f":"VLOOKUP(A225,'Copy of Export'!$A$2:$AF2350,5,false)","v":"#N/A"},{"$f":"VLOOKUP(A225,'Copy of Export'!$A$2:$AF2350,8,false)","v":"#N/A"}]
[null,{"$f":"VLOOKUP(A226,'Copy of Export'!$A$2:$AF2350,5,false)","v":"#N/A"},{"$f":"VLOOKUP(A226,'Copy of Export'!$A$2:$AF2350,13,false)","v":"#N/A"},{"$f":"VLOOKUP(A226,'Copy of Export'!$A$2:$AF2350,2,false)","v":"#N/A"},{"$f":"VLOOKUP(A226,'Copy of Export'!$A$2:$AF2350,5,false)","v":"#N/A"},{"$f":"VLOOKUP(A226,'Copy of Export'!$A$2:$AF2350,8,false)","v":"#N/A"}]
[null,{"$f":"VLOOKUP(A227,'Copy of Export'!$A$2:$AF2350,5,false)","v":"#N/A"},{"$f":"VLOOKUP(A227,'Copy of Export'!$A$2:$AF2350,13,false)","v":"#N/A"},{"$f":"VLOOKUP(A227,'Copy of Export'!$A$2:$AF2350,2,false)","v":"#N/A"},{"$f":"VLOOKUP(A227,'Copy of Export'!$A$2:$AF2350,5,false)","v":"#N/A"},{"$f":"VLOOKUP(A227,'Copy of Export'!$A$2:$AF2350,8,false)","v":"#N/A"}]
[null,{"$f":"VLOOKUP(A228,'Copy of Export'!$A$2:$AF2350,5,false)","v":"#N/A"},{"$f":"VLOOKUP(A228,'Copy of Export'!$A$2:$AF2350,13,false)","v":"#N/A"},{"$f":"VLOOKUP(A228,'Copy of Export'!$A$2:$AF2350,2,false)","v":"#N/A"},{"$f":"VLOOKUP(A228,'Copy of Export'!$A$2:$AF2350,5,false)","v":"#N/A"},{"$f":"VLOOKUP(A228,'Copy of Export'!$A$2:$AF2350,8,false)","v":"#N/A"}]
[null,{"$f":"VLOOKUP(A229,'Copy of Export'!$A$2:$AF2350,5,false)","v":"#N/A"},{"$f":"VLOOKUP(A229,'Copy of Export'!$A$2:$AF2350,13,false)","v":"#N/A"},{"$f":"VLOOKUP(A229,'Copy of Export'!$A$2:$AF2350,2,false)","v":"#N/A"},{"$f":"VLOOKUP(A229,'Copy of Export'!$A$2:$AF2350,5,false)","v":"#N/A"},{"$f":"VLOOKUP(A229,'Copy of Export'!$A$2:$AF2350,8,false)","v":"#N/A"}]
[null,{"$f":"VLOOKUP(A230,'Copy of Export'!$A$2:$AF2350,5,false)","v":"#N/A"},{"$f":"VLOOKUP(A230,'Copy of Export'!$A$2:$AF2350,13,false)","v":"#N/A"},{"$f":"VLOOKUP(A230,'Copy of Export'!$A$2:$AF2350,2,false)","v":"#N/A"},{"$f":"VLOOKUP(A230,'Copy of Export'!$A$2:$AF2350,5,false)","v":"#N/A"},{"$f":"VLOOKUP(A230,'Copy of Export'!$A$2:$AF2350,8,false)","v":"#N/A"}]
[null,{"$f":"VLOOKUP(A231,'Copy of Export'!$A$2:$AF2350,5,false)","v":"#N/A"},{"$f":"VLOOKUP(A231,'Copy of Export'!$A$2:$AF2350,13,false)","v":"#N/A"},{"$f":"VLOOKUP(A231,'Copy of Export'!$A$2:$AF2350,2,false)","v":"#N/A"},{"$f":"VLOOKUP(A231,'Copy of Export'!$A$2:$AF2350,5,false)","v":"#N/A"},{"$f":"VLOOKUP(A231,'Copy of Export'!$A$2:$AF2350,8,false)","v":"#N/A"}]
[null,{"$f":"VLOOKUP(A232,'Copy of Export'!$A$2:$AF2350,5,false)","v":"#N/A"},{"$f":"VLOOKUP(A232,'Copy of Export'!$A$2:$AF2350,13,false)","v":"#N/A"},{"$f":"VLOOKUP(A232,'Copy of Export'!$A$2:$AF2350,2,false)","v":"#N/A"},{"$f":"VLOOKUP(A232,'Copy of Export'!$A$2:$AF2350,5,false)","v":"#N/A"},{"$f":"VLOOKUP(A232,'Copy of Export'!$A$2:$AF2350,8,false)","v":"#N/A"}]
[null,{"$f":"VLOOKUP(A233,'Copy of Export'!$A$2:$AF2350,5,false)","v":"#N/A"},{"$f":"VLOOKUP(A233,'Copy of Export'!$A$2:$AF2350,13,false)","v":"#N/A"},{"$f":"VLOOKUP(A233,'Copy of Export'!$A$2:$AF2350,2,false)","v":"#N/A"},{"$f":"VLOOKUP(A233,'Copy of Export'!$A$2:$AF2350,5,false)","v":"#N/A"},{"$f":"VLOOKUP(A233,'Copy of Export'!$A$2:$AF2350,8,false)","v":"#N/A"}]
[null,{"$f":"VLOOKUP(A234,'Copy of Export'!$A$2:$AF2350,5,false)","v":"#N/A"},{"$f":"VLOOKUP(A234,'Copy of Export'!$A$2:$AF2350,13,false)","v":"#N/A"},{"$f":"VLOOKUP(A234,'Copy of Export'!$A$2:$AF2350,2,false)","v":"#N/A"},{"$f":"VLOOKUP(A234,'Copy of Export'!$A$2:$AF2350,5,false)","v":"#N/A"},{"$f":"VLOOKUP(A234,'Copy of Export'!$A$2:$AF2350,8,false)","v":"#N/A"}]
[null,{"$f":"VLOOKUP(A235,'Copy of Export'!$A$2:$AF2350,5,false)","v":"#N/A"},{"$f":"VLOOKUP(A235,'Copy of Export'!$A$2:$AF2350,13,false)","v":"#N/A"},{"$f":"VLOOKUP(A235,'Copy of Export'!$A$2:$AF2350,2,false)","v":"#N/A"},{"$f":"VLOOKUP(A235,'Copy of Export'!$A$2:$AF2350,5,false)","v":"#N/A"},{"$f":"VLOOKUP(A235,'Copy of Export'!$A$2:$AF2350,8,false)","v":"#N/A"}]
[null,{"$f":"VLOOKUP(A236,'Copy of Export'!$A$2:$AF2350,5,false)","v":"#N/A"},{"$f":"VLOOKUP(A236,'Copy of Export'!$A$2:$AF2350,13,false)","v":"#N/A"},{"$f":"VLOOKUP(A236,'Copy of Export'!$A$2:$AF2350,2,false)","v":"#N/A"},{"$f":"VLOOKUP(A236,'Copy of Export'!$A$2:$AF2350,5,false)","v":"#N/A"},{"$f":"VLOOKUP(A236,'Copy of Export'!$A$2:$AF2350,8,false)","v":"#N/A"}]
[null,{"$f":"VLOOKUP(A237,'Copy of Export'!$A$2:$AF2350,5,false)","v":"#N/A"},{"$f":"VLOOKUP(A237,'Copy of Export'!$A$2:$AF2350,13,false)","v":"#N/A"},{"$f":"VLOOKUP(A237,'Copy of Export'!$A$2:$AF2350,2,false)","v":"#N/A"},{"$f":"VLOOKUP(A237,'Copy of Export'!$A$2:$AF2350,5,false)","v":"#N/A"},{"$f":"VLOOKUP(A237,'Copy of Export'!$A$2:$AF2350,8,false)","v":"#N/A"}]
[null,{"$f":"VLOOKUP(A238,'Copy of Export'!$A$2:$AF2350,5,false)","v":"#N/A"},{"$f":"VLOOKUP(A238,'Copy of Export'!$A$2:$AF2350,13,false)","v":"#N/A"},{"$f":"VLOOKUP(A238,'Copy of Export'!$A$2:$AF2350,2,false)","v":"#N/A"},{"$f":"VLOOKUP(A238,'Copy of Export'!$A$2:$AF2350,5,false)","v":"#N/A"},{"$f":"VLOOKUP(A238,'Copy of Export'!$A$2:$AF2350,8,false)","v":"#N/A"}]
[null,{"$f":"VLOOKUP(A239,'Copy of Export'!$A$2:$AF2350,5,false)","v":"#N/A"},{"$f":"VLOOKUP(A239,'Copy of Export'!$A$2:$AF2350,13,false)","v":"#N/A"},{"$f":"VLOOKUP(A239,'Copy of Export'!$A$2:$AF2350,2,false)","v":"#N/A"},{"$f":"VLOOKUP(A239,'Copy of Export'!$A$2:$AF2350,5,false)","v":"#N/A"},{"$f":"VLOOKUP(A239,'Copy of Export'!$A$2:$AF2350,8,false)","v":"#N/A"}]
[null,{"$f":"VLOOKUP(A240,'Copy of Export'!$A$2:$AF2350,5,false)","v":"#N/A"},{"$f":"VLOOKUP(A240,'Copy of Export'!$A$2:$AF2350,13,false)","v":"#N/A"},{"$f":"VLOOKUP(A240,'Copy of Export'!$A$2:$AF2350,2,false)","v":"#N/A"},{"$f":"VLOOKUP(A240,'Copy of Export'!$A$2:$AF2350,5,false)","v":"#N/A"},{"$f":"VLOOKUP(A240,'Copy of Export'!$A$2:$AF2350,8,false)","v":"#N/A"}]
[null,{"$f":"VLOOKUP(A241,'Copy of Export'!$A$2:$AF2350,5,false)","v":"#N/A"},{"$f":"VLOOKUP(A241,'Copy of Export'!$A$2:$AF2350,13,false)","v":"#N/A"},{"$f":"VLOOKUP(A241,'Copy of Export'!$A$2:$AF2350,2,false)","v":"#N/A"},{"$f":"VLOOKUP(A241,'Copy of Export'!$A$2:$AF2350,5,false)","v":"#N/A"},{"$f":"VLOOKUP(A241,'Copy of Export'!$A$2:$AF2350,8,false)","v":"#N/A"}]
[null,{"$f":"VLOOKUP(A242,'Copy of Export'!$A$2:$AF2350,5,false)","v":"#N/A"},{"$f":"VLOOKUP(A242,'Copy of Export'!$A$2:$AF2350,13,false)","v":"#N/A"},{"$f":"VLOOKUP(A242,'Copy of Export'!$A$2:$AF2350,2,false)","v":"#N/A"},{"$f":"VLOOKUP(A242,'Copy of Export'!$A$2:$AF2350,5,false)","v":"#N/A"},{"$f":"VLOOKUP(A242,'Copy of Export'!$A$2:$AF2350,8,false)","v":"#N/A"}]
[null,{"$f":"VLOOKUP(A243,'Copy of Export'!$A$2:$AF2350,5,false)","v":"#N/A"},{"$f":"VLOOKUP(A243,'Copy of Export'!$A$2:$AF2350,13,false)","v":"#N/A"},{"$f":"VLOOKUP(A243,'Copy of Export'!$A$2:$AF2350,2,false)","v":"#N/A"},{"$f":"VLOOKUP(A243,'Copy of Export'!$A$2:$AF2350,5,false)","v":"#N/A"},{"$f":"VLOOKUP(A243,'Copy of Export'!$A$2:$AF2350,8,false)","v":"#N/A"}]
[null,{"$f":"VLOOKUP(A244,'Copy of Export'!$A$2:$AF2350,5,false)","v":"#N/A"},{"$f":"VLOOKUP(A244,'Copy of Export'!$A$2:$AF2350,13,false)","v":"#N/A"},{"$f":"VLOOKUP(A244,'Copy of Export'!$A$2:$AF2350,2,false)","v":"#N/A"},{"$f":"VLOOKUP(A244,'Copy of Export'!$A$2:$AF2350,5,false)","v":"#N/A"},{"$f":"VLOOKUP(A244,'Copy of Export'!$A$2:$AF2350,8,false)","v":"#N/A"}]
[null,{"$f":"VLOOKUP(A245,'Copy of Export'!$A$2:$AF2350,5,false)","v":"#N/A"},{"$f":"VLOOKUP(A245,'Copy of Export'!$A$2:$AF2350,13,false)","v":"#N/A"},{"$f":"VLOOKUP(A245,'Copy of Export'!$A$2:$AF2350,2,false)","v":"#N/A"},{"$f":"VLOOKUP(A245,'Copy of Export'!$A$2:$AF2350,5,false)","v":"#N/A"},{"$f":"VLOOKUP(A245,'Copy of Export'!$A$2:$AF2350,8,false)","v":"#N/A"}]
[null,{"$f":"VLOOKUP(A246,'Copy of Export'!$A$2:$AF2350,5,false)","v":"#N/A"},{"$f":"VLOOKUP(A246,'Copy of Export'!$A$2:$AF2350,13,false)","v":"#N/A"},{"$f":"VLOOKUP(A246,'Copy of Export'!$A$2:$AF2350,2,false)","v":"#N/A"},{"$f":"VLOOKUP(A246,'Copy of Export'!$A$2:$AF2350,5,false)","v":"#N/A"},{"$f":"VLOOKUP(A246,'Copy of Export'!$A$2:$AF2350,8,false)","v":"#N/A"}]
[null,{"$f":"VLOOKUP(A247,'Copy of Export'!$A$2:$AF2350,5,false)","v":"#N/A"},{"$f":"VLOOKUP(A247,'Copy of Export'!$A$2:$AF2350,13,false)","v":"#N/A"},{"$f":"VLOOKUP(A247,'Copy of Export'!$A$2:$AF2350,2,false)","v":"#N/A"},{"$f":"VLOOKUP(A247,'Copy of Export'!$A$2:$AF2350,5,false)","v":"#N/A"},{"$f":"VLOOKUP(A247,'Copy of Export'!$A$2:$AF2350,8,false)","v":"#N/A"}]
[null,{"$f":"VLOOKUP(A248,'Copy of Export'!$A$2:$AF2350,5,false)","v":"#N/A"},{"$f":"VLOOKUP(A248,'Copy of Export'!$A$2:$AF2350,13,false)","v":"#N/A"},{"$f":"VLOOKUP(A248,'Copy of Export'!$A$2:$AF2350,2,false)","v":"#N/A"},{"$f":"VLOOKUP(A248,'Copy of Export'!$A$2:$AF2350,5,false)","v":"#N/A"},{"$f":"VLOOKUP(A248,'Copy of Export'!$A$2:$AF2350,8,false)","v":"#N/A"}]
[null,{"$f":"VLOOKUP(A249,'Copy of Export'!$A$2:$AF2350,5,false)","v":"#N/A"},{"$f":"VLOOKUP(A249,'Copy of Export'!$A$2:$AF2350,13,false)","v":"#N/A"},{"$f":"VLOOKUP(A249,'Copy of Export'!$A$2:$AF2350,2,false)","v":"#N/A"},{"$f":"VLOOKUP(A249,'Copy of Export'!$A$2:$AF2350,5,false)","v":"#N/A"},{"$f":"VLOOKUP(A249,'Copy of Export'!$A$2:$AF2350,8,false)","v":"#N/A"}]
[null,{"$f":"VLOOKUP(A250,'Copy of Export'!$A$2:$AF2350,5,false)","v":"#N/A"},{"$f":"VLOOKUP(A250,'Copy of Export'!$A$2:$AF2350,13,false)","v":"#N/A"},{"$f":"VLOOKUP(A250,'Copy of Export'!$A$2:$AF2350,2,false)","v":"#N/A"},{"$f":"VLOOKUP(A250,'Copy of Export'!$A$2:$AF2350,5,false)","v":"#N/A"},{"$f":"VLOOKUP(A250,'Copy of Export'!$A$2:$AF2350,8,false)","v":"#N/A"}]
[null,{"$f":"VLOOKUP(A251,'Copy of Export'!$A$2:$AF2350,5,false)","v":"#N/A"},{"$f":"VLOOKUP(A251,'Copy of Export'!$A$2:$AF2350,13,false)","v":"#N/A"},{"$f":"VLOOKUP(A251,'Copy of Export'!$A$2:$AF2350,2,false)","v":"#N/A"},{"$f":"VLOOKUP(A251,'Copy of Export'!$A$2:$AF2350,5,false)","v":"#N/A"},{"$f":"VLOOKUP(A251,'Copy of Export'!$A$2:$AF2350,8,false)","v":"#N/A"}]
[null,{"$f":"VLOOKUP(A252,'Copy of Export'!$A$2:$AF2350,5,false)","v":"#N/A"},{"$f":"VLOOKUP(A252,'Copy of Export'!$A$2:$AF2350,13,false)","v":"#N/A"},{"$f":"VLOOKUP(A252,'Copy of Export'!$A$2:$AF2350,2,false)","v":"#N/A"},{"$f":"VLOOKUP(A252,'Copy of Export'!$A$2:$AF2350,5,false)","v":"#N/A"},{"$f":"VLOOKUP(A252,'Copy of Export'!$A$2:$AF2350,8,false)","v":"#N/A"}]
[null,{"$f":"VLOOKUP(A253,'Copy of Export'!$A$2:$AF2350,5,false)","v":"#N/A"},{"$f":"VLOOKUP(A253,'Copy of Export'!$A$2:$AF2350,13,false)","v":"#N/A"},{"$f":"VLOOKUP(A253,'Copy of Export'!$A$2:$AF2350,2,false)","v":"#N/A"},{"$f":"VLOOKUP(A253,'Copy of Export'!$A$2:$AF2350,5,false)","v":"#N/A"},{"$f":"VLOOKUP(A253,'Copy of Export'!$A$2:$AF2350,8,false)","v":"#N/A"}]
[null,{"$f":"VLOOKUP(A254,'Copy of Export'!$A$2:$AF2350,5,false)","v":"#N/A"},{"$f":"VLOOKUP(A254,'Copy of Export'!$A$2:$AF2350,13,false)","v":"#N/A"},{"$f":"VLOOKUP(A254,'Copy of Export'!$A$2:$AF2350,2,false)","v":"#N/A"},{"$f":"VLOOKUP(A254,'Copy of Export'!$A$2:$AF2350,5,false)","v":"#N/A"},{"$f":"VLOOKUP(A254,'Copy of Export'!$A$2:$AF2350,8,false)","v":"#N/A"}]
[null,{"$f":"VLOOKUP(A255,'Copy of Export'!$A$2:$AF2350,5,false)","v":"#N/A"},{"$f":"VLOOKUP(A255,'Copy of Export'!$A$2:$AF2350,13,false)","v":"#N/A"},{"$f":"VLOOKUP(A255,'Copy of Export'!$A$2:$AF2350,2,false)","v":"#N/A"},{"$f":"VLOOKUP(A255,'Copy of Export'!$A$2:$AF2350,5,false)","v":"#N/A"},{"$f":"VLOOKUP(A255,'Copy of Export'!$A$2:$AF2350,8,false)","v":"#N/A"}]
[null,{"$f":"VLOOKUP(A256,'Copy of Export'!$A$2:$AF2350,5,false)","v":"#N/A"},{"$f":"VLOOKUP(A256,'Copy of Export'!$A$2:$AF2350,13,false)","v":"#N/A"},{"$f":"VLOOKUP(A256,'Copy of Export'!$A$2:$AF2350,2,false)","v":"#N/A"},{"$f":"VLOOKUP(A256,'Copy of Export'!$A$2:$AF2350,5,false)","v":"#N/A"},{"$f":"VLOOKUP(A256,'Copy of Export'!$A$2:$AF2350,8,false)","v":"#N/A"}]
[null,{"$f":"VLOOKUP(A257,'Copy of Export'!$A$2:$AF2350,5,false)","v":"#N/A"},{"$f":"VLOOKUP(A257,'Copy of Export'!$A$2:$AF2350,13,false)","v":"#N/A"},{"$f":"VLOOKUP(A257,'Copy of Export'!$A$2:$AF2350,2,false)","v":"#N/A"},{"$f":"VLOOKUP(A257,'Copy of Export'!$A$2:$AF2350,5,false)","v":"#N/A"},{"$f":"VLOOKUP(A257,'Copy of Export'!$A$2:$AF2350,8,false)","v":"#N/A"}]
[null,{"$f":"VLOOKUP(A258,'Copy of Export'!$A$2:$AF2350,5,false)","v":"#N/A"},{"$f":"VLOOKUP(A258,'Copy of Export'!$A$2:$AF2350,13,false)","v":"#N/A"},{"$f":"VLOOKUP(A258,'Copy of Export'!$A$2:$AF2350,2,false)","v":"#N/A"},{"$f":"VLOOKUP(A258,'Copy of Export'!$A$2:$AF2350,5,false)","v":"#N/A"},{"$f":"VLOOKUP(A258,'Copy of Export'!$A$2:$AF2350,8,false)","v":"#N/A"}]
[null,{"$f":"VLOOKUP(A259,'Copy of Export'!$A$2:$AF2350,5,false)","v":"#N/A"},{"$f":"VLOOKUP(A259,'Copy of Export'!$A$2:$AF2350,13,false)","v":"#N/A"},{"$f":"VLOOKUP(A259,'Copy of Export'!$A$2:$AF2350,2,false)","v":"#N/A"},{"$f":"VLOOKUP(A259,'Copy of Export'!$A$2:$AF2350,5,false)","v":"#N/A"},{"$f":"VLOOKUP(A259,'Copy of Export'!$A$2:$AF2350,8,false)","v":"#N/A"}]
[null,{"$f":"VLOOKUP(A260,'Copy of Export'!$A$2:$AF2350,5,false)","v":"#N/A"},{"$f":"VLOOKUP(A260,'Copy of Export'!$A$2:$AF2350,13,false)","v":"#N/A"},{"$f":"VLOOKUP(A260,'Copy of Export'!$A$2:$AF2350,2,false)","v":"#N/A"},{"$f":"VLOOKUP(A260,'Copy of Export'!$A$2:$AF2350,5,false)","v":"#N/A"},{"$f":"VLOOKUP(A260,'Copy of Export'!$A$2:$AF2350,8,false)","v":"#N/A"}]
[null,{"$f":"VLOOKUP(A261,'Copy of Export'!$A$2:$AF2350,5,false)","v":"#N/A"},{"$f":"VLOOKUP(A261,'Copy of Export'!$A$2:$AF2350,13,false)","v":"#N/A"},{"$f":"VLOOKUP(A261,'Copy of Export'!$A$2:$AF2350,2,false)","v":"#N/A"},{"$f":"VLOOKUP(A261,'Copy of Export'!$A$2:$AF2350,5,false)","v":"#N/A"},{"$f":"VLOOKUP(A261,'Copy of Export'!$A$2:$AF2350,8,false)","v":"#N/A"}]
[null,{"$f":"VLOOKUP(A262,'Copy of Export'!$A$2:$AF2350,5,false)","v":"#N/A"},{"$f":"VLOOKUP(A262,'Copy of Export'!$A$2:$AF2350,13,false)","v":"#N/A"},{"$f":"VLOOKUP(A262,'Copy of Export'!$A$2:$AF2350,2,false)","v":"#N/A"},{"$f":"VLOOKUP(A262,'Copy of Export'!$A$2:$AF2350,5,false)","v":"#N/A"},{"$f":"VLOOKUP(A262,'Copy of Export'!$A$2:$AF2350,8,false)","v":"#N/A"}]
[null,{"$f":"VLOOKUP(A263,'Copy of Export'!$A$2:$AF2350,5,false)","v":"#N/A"},{"$f":"VLOOKUP(A263,'Copy of Export'!$A$2:$AF2350,13,false)","v":"#N/A"},{"$f":"VLOOKUP(A263,'Copy of Export'!$A$2:$AF2350,2,false)","v":"#N/A"},{"$f":"VLOOKUP(A263,'Copy of Export'!$A$2:$AF2350,5,false)","v":"#N/A"},{"$f":"VLOOKUP(A263,'Copy of Export'!$A$2:$AF2350,8,false)","v":"#N/A"}]
[null,{"$f":"VLOOKUP(A264,'Copy of Export'!$A$2:$AF2350,5,false)","v":"#N/A"},{"$f":"VLOOKUP(A264,'Copy of Export'!$A$2:$AF2350,13,false)","v":"#N/A"},{"$f":"VLOOKUP(A264,'Copy of Export'!$A$2:$AF2350,2,false)","v":"#N/A"},{"$f":"VLOOKUP(A264,'Copy of Export'!$A$2:$AF2350,5,false)","v":"#N/A"},{"$f":"VLOOKUP(A264,'Copy of Export'!$A$2:$AF2350,8,false)","v":"#N/A"}]
[null,{"$f":"VLOOKUP(A265,'Copy of Export'!$A$2:$AF2350,5,false)","v":"#N/A"},{"$f":"VLOOKUP(A265,'Copy of Export'!$A$2:$AF2350,13,false)","v":"#N/A"},{"$f":"VLOOKUP(A265,'Copy of Export'!$A$2:$AF2350,2,false)","v":"#N/A"},{"$f":"VLOOKUP(A265,'Copy of Export'!$A$2:$AF2350,5,false)","v":"#N/A"},{"$f":"VLOOKUP(A265,'Copy of Export'!$A$2:$AF2350,8,false)","v":"#N/A"}]
[null,{"$f":"VLOOKUP(A266,'Copy of Export'!$A$2:$AF2350,5,false)","v":"#N/A"},{"$f":"VLOOKUP(A266,'Copy of Export'!$A$2:$AF2350,13,false)","v":"#N/A"},{"$f":"VLOOKUP(A266,'Copy of Export'!$A$2:$AF2350,2,false)","v":"#N/A"},{"$f":"VLOOKUP(A266,'Copy of Export'!$A$2:$AF2350,5,false)","v":"#N/A"},{"$f":"VLOOKUP(A266,'Copy of Export'!$A$2:$AF2350,8,false)","v":"#N/A"}]
[null,{"$f":"VLOOKUP(A267,'Copy of Export'!$A$2:$AF2350,5,false)","v":"#N/A"},{"$f":"VLOOKUP(A267,'Copy of Export'!$A$2:$AF2350,13,false)","v":"#N/A"},{"$f":"VLOOKUP(A267,'Copy of Export'!$A$2:$AF2350,2,false)","v":"#N/A"},{"$f":"VLOOKUP(A267,'Copy of Export'!$A$2:$AF2350,5,false)","v":"#N/A"},{"$f":"VLOOKUP(A267,'Copy of Export'!$A$2:$AF2350,8,false)","v":"#N/A"}]
[null,{"$f":"VLOOKUP(A268,'Copy of Export'!$A$2:$AF2350,5,false)","v":"#N/A"},{"$f":"VLOOKUP(A268,'Copy of Export'!$A$2:$AF2350,13,false)","v":"#N/A"},{"$f":"VLOOKUP(A268,'Copy of Export'!$A$2:$AF2350,2,false)","v":"#N/A"},{"$f":"VLOOKUP(A268,'Copy of Export'!$A$2:$AF2350,5,false)","v":"#N/A"},{"$f":"VLOOKUP(A268,'Copy of Export'!$A$2:$AF2350,8,false)","v":"#N/A"}]
[null,{"$f":"VLOOKUP(A269,'Copy of Export'!$A$2:$AF2350,5,false)","v":"#N/A"},{"$f":"VLOOKUP(A269,'Copy of Export'!$A$2:$AF2350,13,false)","v":"#N/A"},{"$f":"VLOOKUP(A269,'Copy of Export'!$A$2:$AF2350,2,false)","v":"#N/A"},{"$f":"VLOOKUP(A269,'Copy of Export'!$A$2:$AF2350,5,false)","v":"#N/A"},{"$f":"VLOOKUP(A269,'Copy of Export'!$A$2:$AF2350,8,false)","v":"#N/A"}]
[null,{"$f":"VLOOKUP(A270,'Copy of Export'!$A$2:$AF2350,5,false)","v":"#N/A"},{"$f":"VLOOKUP(A270,'Copy of Export'!$A$2:$AF2350,13,false)","v":"#N/A"},{"$f":"VLOOKUP(A270,'Copy of Export'!$A$2:$AF2350,2,false)","v":"#N/A"},{"$f":"VLOOKUP(A270,'Copy of Export'!$A$2:$AF2350,5,false)","v":"#N/A"},{"$f":"VLOOKUP(A270,'Copy of Export'!$A$2:$AF2350,8,false)","v":"#N/A"}]
[null,{"$f":"VLOOKUP(A271,'Copy of Export'!$A$2:$AF2350,5,false)","v":"#N/A"},{"$f":"VLOOKUP(A271,'Copy of Export'!$A$2:$AF2350,13,false)","v":"#N/A"},{"$f":"VLOOKUP(A271,'Copy of Export'!$A$2:$AF2350,2,false)","v":"#N/A"},{"$f":"VLOOKUP(A271,'Copy of Export'!$A$2:$AF2350,5,false)","v":"#N/A"},{"$f":"VLOOKUP(A271,'Copy of Export'!$A$2:$AF2350,8,false)","v":"#N/A"}]
[null,{"$f":"VLOOKUP(A272,'Copy of Export'!$A$2:$AF2350,5,false)","v":"#N/A"},{"$f":"VLOOKUP(A272,'Copy of Export'!$A$2:$AF2350,13,false)","v":"#N/A"},{"$f":"VLOOKUP(A272,'Copy of Export'!$A$2:$AF2350,2,false)","v":"#N/A"},{"$f":"VLOOKUP(A272,'Copy of Export'!$A$2:$AF2350,5,false)","v":"#N/A"},{"$f":"VLOOKUP(A272,'Copy of Export'!$A$2:$AF2350,8,false)","v":"#N/A"}]
[null,{"$f":"VLOOKUP(A273,'Copy of Export'!$A$2:$AF2350,5,false)","v":"#N/A"},{"$f":"VLOOKUP(A273,'Copy of Export'!$A$2:$AF2350,13,false)","v":"#N/A"},{"$f":"VLOOKUP(A273,'Copy of Export'!$A$2:$AF2350,2,false)","v":"#N/A"},{"$f":"VLOOKUP(A273,'Copy of Export'!$A$2:$AF2350,5,false)","v":"#N/A"},{"$f":"VLOOKUP(A273,'Copy of Export'!$A$2:$AF2350,8,false)","v":"#N/A"}]
[null,{"$f":"VLOOKUP(A274,'Copy of Export'!$A$2:$AF2350,5,false)","v":"#N/A"},{"$f":"VLOOKUP(A274,'Copy of Export'!$A$2:$AF2350,13,false)","v":"#N/A"},{"$f":"VLOOKUP(A274,'Copy of Export'!$A$2:$AF2350,2,false)","v":"#N/A"},{"$f":"VLOOKUP(A274,'Copy of Export'!$A$2:$AF2350,5,false)","v":"#N/A"},{"$f":"VLOOKUP(A274,'Copy of Export'!$A$2:$AF2350,8,false)","v":"#N/A"}]
[null,{"$f":"VLOOKUP(A275,'Copy of Export'!$A$2:$AF2350,5,false)","v":"#N/A"},{"$f":"VLOOKUP(A275,'Copy of Export'!$A$2:$AF2350,13,false)","v":"#N/A"},{"$f":"VLOOKUP(A275,'Copy of Export'!$A$2:$AF2350,2,false)","v":"#N/A"},{"$f":"VLOOKUP(A275,'Copy of Export'!$A$2:$AF2350,5,false)","v":"#N/A"},{"$f":"VLOOKUP(A275,'Copy of Export'!$A$2:$AF2350,8,false)","v":"#N/A"}]
[null,{"$f":"VLOOKUP(A276,'Copy of Export'!$A$2:$AF2350,5,false)","v":"#N/A"},{"$f":"VLOOKUP(A276,'Copy of Export'!$A$2:$AF2350,13,false)","v":"#N/A"},{"$f":"VLOOKUP(A276,'Copy of Export'!$A$2:$AF2350,2,false)","v":"#N/A"},{"$f":"VLOOKUP(A276,'Copy of Export'!$A$2:$AF2350,5,false)","v":"#N/A"},{"$f":"VLOOKUP(A276,'Copy of Export'!$A$2:$AF2350,8,false)","v":"#N/A"}]
[null,{"$f":"VLOOKUP(A277,'Copy of Export'!$A$2:$AF2350,5,false)","v":"#N/A"},{"$f":"VLOOKUP(A277,'Copy of Export'!$A$2:$AF2350,13,false)","v":"#N/A"},{"$f":"VLOOKUP(A277,'Copy of Export'!$A$2:$AF2350,2,false)","v":"#N/A"},{"$f":"VLOOKUP(A277,'Copy of Export'!$A$2:$AF2350,5,false)","v":"#N/A"},{"$f":"VLOOKUP(A277,'Copy of Export'!$A$2:$AF2350,8,false)","v":"#N/A"}]
[null,{"$f":"VLOOKUP(A278,'Copy of Export'!$A$2:$AF2350,5,false)","v":"#N/A"},{"$f":"VLOOKUP(A278,'Copy of Export'!$A$2:$AF2350,13,false)","v":"#N/A"},{"$f":"VLOOKUP(A278,'Copy of Export'!$A$2:$AF2350,2,false)","v":"#N/A"},{"$f":"VLOOKUP(A278,'Copy of Export'!$A$2:$AF2350,5,false)","v":"#N/A"},{"$f":"VLOOKUP(A278,'Copy of Export'!$A$2:$AF2350,8,false)","v":"#N/A"}]
[null,{"$f":"VLOOKUP(A279,'Copy of Export'!$A$2:$AF2350,5,false)","v":"#N/A"},{"$f":"VLOOKUP(A279,'Copy of Export'!$A$2:$AF2350,13,false)","v":"#N/A"},{"$f":"VLOOKUP(A279,'Copy of Export'!$A$2:$AF2350,2,false)","v":"#N/A"},{"$f":"VLOOKUP(A279,'Copy of Export'!$A$2:$AF2350,5,false)","v":"#N/A"},{"$f":"VLOOKUP(A279,'Copy of Export'!$A$2:$AF2350,8,false)","v":"#N/A"}]
[null,{"$f":"VLOOKUP(A280,'Copy of Export'!$A$2:$AF2350,5,false)","v":"#N/A"},{"$f":"VLOOKUP(A280,'Copy of Export'!$A$2:$AF2350,13,false)","v":"#N/A"},{"$f":"VLOOKUP(A280,'Copy of Export'!$A$2:$AF2350,2,false)","v":"#N/A"},{"$f":"VLOOKUP(A280,'Copy of Export'!$A$2:$AF2350,5,false)","v":"#N/A"},{"$f":"VLOOKUP(A280,'Copy of Export'!$A$2:$AF2350,8,false)","v":"#N/A"}]
[null,{"$f":"VLOOKUP(A281,'Copy of Export'!$A$2:$AF2350,5,false)","v":"#N/A"},{"$f":"VLOOKUP(A281,'Copy of Export'!$A$2:$AF2350,13,false)","v":"#N/A"},{"$f":"VLOOKUP(A281,'Copy of Export'!$A$2:$AF2350,2,false)","v":"#N/A"},{"$f":"VLOOKUP(A281,'Copy of Export'!$A$2:$AF2350,5,false)","v":"#N/A"},{"$f":"VLOOKUP(A281,'Copy of Export'!$A$2:$AF2350,8,false)","v":"#N/A"}]
[null,{"$f":"VLOOKUP(A282,'Copy of Export'!$A$2:$AF2350,5,false)","v":"#N/A"},{"$f":"VLOOKUP(A282,'Copy of Export'!$A$2:$AF2350,13,false)","v":"#N/A"},{"$f":"VLOOKUP(A282,'Copy of Export'!$A$2:$AF2350,2,false)","v":"#N/A"},{"$f":"VLOOKUP(A282,'Copy of Export'!$A$2:$AF2350,5,false)","v":"#N/A"},{"$f":"VLOOKUP(A282,'Copy of Export'!$A$2:$AF2350,8,false)","v":"#N/A"}]
[null,{"$f":"VLOOKUP(A283,'Copy of Export'!$A$2:$AF2350,5,false)","v":"#N/A"},{"$f":"VLOOKUP(A283,'Copy of Export'!$A$2:$AF2350,13,false)","v":"#N/A"},{"$f":"VLOOKUP(A283,'Copy of Export'!$A$2:$AF2350,2,false)","v":"#N/A"},{"$f":"VLOOKUP(A283,'Copy of Export'!$A$2:$AF2350,5,false)","v":"#N/A"},{"$f":"VLOOKUP(A283,'Copy of Export'!$A$2:$AF2350,8,false)","v":"#N/A"}]
[null,{"$f":"VLOOKUP(A284,'Copy of Export'!$A$2:$AF2350,5,false)","v":"#N/A"},{"$f":"VLOOKUP(A284,'Copy of Export'!$A$2:$AF2350,13,false)","v":"#N/A"},{"$f":"VLOOKUP(A284,'Copy of Export'!$A$2:$AF2350,2,false)","v":"#N/A"},{"$f":"VLOOKUP(A284,'Copy of Export'!$A$2:$AF2350,5,false)","v":"#N/A"},{"$f":"VLOOKUP(A284,'Copy of Export'!$A$2:$AF2350,8,false)","v":"#N/A"}]
[null,{"$f":"VLOOKUP(A285,'Copy of Export'!$A$2:$AF2350,5,false)","v":"#N/A"},{"$f":"VLOOKUP(A285,'Copy of Export'!$A$2:$AF2350,13,false)","v":"#N/A"},{"$f":"VLOOKUP(A285,'Copy of Export'!$A$2:$AF2350,2,false)","v":"#N/A"},{"$f":"VLOOKUP(A285,'Copy of Export'!$A$2:$AF2350,5,false)","v":"#N/A"},{"$f":"VLOOKUP(A285,'Copy of Export'!$A$2:$AF2350,8,false)","v":"#N/A"}]
[null,{"$f":"VLOOKUP(A286,'Copy of Export'!$A$2:$AF2350,5,false)","v":"#N/A"},{"$f":"VLOOKUP(A286,'Copy of Export'!$A$2:$AF2350,13,false)","v":"#N/A"},{"$f":"VLOOKUP(A286,'Copy of Export'!$A$2:$AF2350,2,false)","v":"#N/A"},{"$f":"VLOOKUP(A286,'Copy of Export'!$A$2:$AF2350,5,false)","v":"#N/A"},{"$f":"VLOOKUP(A286,'Copy of Export'!$A$2:$AF2350,8,false)","v":"#N/A"}]
[null,{"$f":"VLOOKUP(A287,'Copy of Export'!$A$2:$AF2350,5,false)","v":"#N/A"},{"$f":"VLOOKUP(A287,'Copy of Export'!$A$2:$AF2350,13,false)","v":"#N/A"},{"$f":"VLOOKUP(A287,'Copy of Export'!$A$2:$AF2350,2,false)","v":"#N/A"},{"$f":"VLOOKUP(A287,'Copy of Export'!$A$2:$AF2350,5,false)","v":"#N/A"},{"$f":"VLOOKUP(A287,'Copy of Export'!$A$2:$AF2350,8,false)","v":"#N/A"}]
[null,{"$f":"VLOOKUP(A288,'Copy of Export'!$A$2:$AF2350,5,false)","v":"#N/A"},{"$f":"VLOOKUP(A288,'Copy of Export'!$A$2:$AF2350,13,false)","v":"#N/A"},{"$f":"VLOOKUP(A288,'Copy of Export'!$A$2:$AF2350,2,false)","v":"#N/A"},{"$f":"VLOOKUP(A288,'Copy of Export'!$A$2:$AF2350,5,false)","v":"#N/A"},{"$f":"VLOOKUP(A288,'Copy of Export'!$A$2:$AF2350,8,false)","v":"#N/A"}]
[null,{"$f":"VLOOKUP(A289,'Copy of Export'!$A$2:$AF2350,5,false)","v":"#N/A"},{"$f":"VLOOKUP(A289,'Copy of Export'!$A$2:$AF2350,13,false)","v":"#N/A"},{"$f":"VLOOKUP(A289,'Copy of Export'!$A$2:$AF2350,2,false)","v":"#N/A"},{"$f":"VLOOKUP(A289,'Copy of Export'!$A$2:$AF2350,5,false)","v":"#N/A"},{"$f":"VLOOKUP(A289,'Copy of Export'!$A$2:$AF2350,8,false)","v":"#N/A"}]
[null,{"$f":"VLOOKUP(A290,'Copy of Export'!$A$2:$AF2350,5,false)","v":"#N/A"},{"$f":"VLOOKUP(A290,'Copy of Export'!$A$2:$AF2350,13,false)","v":"#N/A"},{"$f":"VLOOKUP(A290,'Copy of Export'!$A$2:$AF2350,2,false)","v":"#N/A"},{"$f":"VLOOKUP(A290,'Copy of Export'!$A$2:$AF2350,5,false)","v":"#N/A"},{"$f":"VLOOKUP(A290,'Copy of Export'!$A$2:$AF2350,8,false)","v":"#N/A"}]
[null,{"$f":"VLOOKUP(A291,'Copy of Export'!$A$2:$AF2350,5,false)","v":"#N/A"},{"$f":"VLOOKUP(A291,'Copy of Export'!$A$2:$AF2350,13,false)","v":"#N/A"},{"$f":"VLOOKUP(A291,'Copy of Export'!$A$2:$AF2350,2,false)","v":"#N/A"},{"$f":"VLOOKUP(A291,'Copy of Export'!$A$2:$AF2350,5,false)","v":"#N/A"},{"$f":"VLOOKUP(A291,'Copy of Export'!$A$2:$AF2350,8,false)","v":"#N/A"}]
[null,{"$f":"VLOOKUP(A292,'Copy of Export'!$A$2:$AF2350,5,false)","v":"#N/A"},{"$f":"VLOOKUP(A292,'Copy of Export'!$A$2:$AF2350,13,false)","v":"#N/A"},{"$f":"VLOOKUP(A292,'Copy of Export'!$A$2:$AF2350,2,false)","v":"#N/A"},{"$f":"VLOOKUP(A292,'Copy of Export'!$A$2:$AF2350,5,false)","v":"#N/A"},{"$f":"VLOOKUP(A292,'Copy of Export'!$A$2:$AF2350,8,false)","v":"#N/A"}]
[null,{"$f":"VLOOKUP(A293,'Copy of Export'!$A$2:$AF2350,5,false)","v":"#N/A"},{"$f":"VLOOKUP(A293,'Copy of Export'!$A$2:$AF2350,13,false)","v":"#N/A"},{"$f":"VLOOKUP(A293,'Copy of Export'!$A$2:$AF2350,2,false)","v":"#N/A"},{"$f":"VLOOKUP(A293,'Copy of Export'!$A$2:$AF2350,5,false)","v":"#N/A"},{"$f":"VLOOKUP(A293,'Copy of Export'!$A$2:$AF2350,8,false)","v":"#N/A"}]
[null,{"$f":"VLOOKUP(A294,'Copy of Export'!$A$2:$AF2350,5,false)","v":"#N/A"},{"$f":"VLOOKUP(A294,'Copy of Export'!$A$2:$AF2350,13,false)","v":"#N/A"},{"$f":"VLOOKUP(A294,'Copy of Export'!$A$2:$AF2350,2,false)","v":"#N/A"},{"$f":"VLOOKUP(A294,'Copy of Export'!$A$2:$AF2350,5,false)","v":"#N/A"},{"$f":"VLOOKUP(A294,'Copy of Export'!$A$2:$AF2350,8,false)","v":"#N/A"}]
[null,{"$f":"VLOOKUP(A295,'Copy of Export'!$A$2:$AF2350,5,false)","v":"#N/A"},{"$f":"VLOOKUP(A295,'Copy of Export'!$A$2:$AF2350,13,false)","v":"#N/A"},{"$f":"VLOOKUP(A295,'Copy of Export'!$A$2:$AF2350,2,false)","v":"#N/A"},{"$f":"VLOOKUP(A295,'Copy of Export'!$A$2:$AF2350,5,false)","v":"#N/A"},{"$f":"VLOOKUP(A295,'Copy of Export'!$A$2:$AF2350,8,false)","v":"#N/A"}]
[null,{"$f":"VLOOKUP(A296,'Copy of Export'!$A$2:$AF2350,5,false)","v":"#N/A"},{"$f":"VLOOKUP(A296,'Copy of Export'!$A$2:$AF2350,13,false)","v":"#N/A"},{"$f":"VLOOKUP(A296,'Copy of Export'!$A$2:$AF2350,2,false)","v":"#N/A"},{"$f":"VLOOKUP(A296,'Copy of Export'!$A$2:$AF2350,5,false)","v":"#N/A"},{"$f":"VLOOKUP(A296,'Copy of Export'!$A$2:$AF2350,8,false)","v":"#N/A"}]
[null,{"$f":"VLOOKUP(A297,'Copy of Export'!$A$2:$AF2350,5,false)","v":"#N/A"},{"$f":"VLOOKUP(A297,'Copy of Export'!$A$2:$AF2350,13,false)","v":"#N/A"},{"$f":"VLOOKUP(A297,'Copy of Export'!$A$2:$AF2350,2,false)","v":"#N/A"},{"$f":"VLOOKUP(A297,'Copy of Export'!$A$2:$AF2350,5,false)","v":"#N/A"},{"$f":"VLOOKUP(A297,'Copy of Export'!$A$2:$AF2350,8,false)","v":"#N/A"}]
[null,{"$f":"VLOOKUP(A298,'Copy of Export'!$A$2:$AF2350,5,false)","v":"#N/A"},{"$f":"VLOOKUP(A298,'Copy of Export'!$A$2:$AF2350,13,false)","v":"#N/A"},{"$f":"VLOOKUP(A298,'Copy of Export'!$A$2:$AF2350,2,false)","v":"#N/A"},{"$f":"VLOOKUP(A298,'Copy of Export'!$A$2:$AF2350,5,false)","v":"#N/A"},{"$f":"VLOOKUP(A298,'Copy of Export'!$A$2:$AF2350,8,false)","v":"#N/A"}]
[null,{"$f":"VLOOKUP(A299,'Copy of Export'!$A$2:$AF2350,5,false)","v":"#N/A"},{"$f":"VLOOKUP(A299,'Copy of Export'!$A$2:$AF2350,13,false)","v":"#N/A"},{"$f":"VLOOKUP(A299,'Copy of Export'!$A$2:$AF2350,2,false)","v":"#N/A"},{"$f":"VLOOKUP(A299,'Copy of Export'!$A$2:$AF2350,5,false)","v":"#N/A"},{"$f":"VLOOKUP(A299,'Copy of Export'!$A$2:$AF2350,8,false)","v":"#N/A"}]
[null,{"$f":"VLOOKUP(A300,'Copy of Export'!$A$2:$AF2350,5,false)","v":"#N/A"},{"$f":"VLOOKUP(A300,'Copy of Export'!$A$2:$AF2350,13,false)","v":"#N/A"},{"$f":"VLOOKUP(A300,'Copy of Export'!$A$2:$AF2350,2,false)","v":"#N/A"},{"$f":"VLOOKUP(A300,'Copy of Export'!$A$2:$AF2350,5,false)","v":"#N/A"},{"$f":"VLOOKUP(A300,'Copy of Export'!$A$2:$AF2350,8,false)","v":"#N/A"}]
[null,{"$f":"VLOOKUP(A301,'Copy of Export'!$A$2:$AF2350,5,false)","v":"#N/A"},{"$f":"VLOOKUP(A301,'Copy of Export'!$A$2:$AF2350,13,false)","v":"#N/A"},{"$f":"VLOOKUP(A301,'Copy of Export'!$A$2:$AF2350,2,false)","v":"#N/A"},{"$f":"VLOOKUP(A301,'Copy of Export'!$A$2:$AF2350,5,false)","v":"#N/A"},{"$f":"VLOOKUP(A301,'Copy of Export'!$A$2:$AF2350,8,false)","v":"#N/A"}]
[null,{"$f":"VLOOKUP(A302,'Copy of Export'!$A$2:$AF2350,5,false)","v":"#N/A"},{"$f":"VLOOKUP(A302,'Copy of Export'!$A$2:$AF2350,13,false)","v":"#N/A"},{"$f":"VLOOKUP(A302,'Copy of Export'!$A$2:$AF2350,2,false)","v":"#N/A"},{"$f":"VLOOKUP(A302,'Copy of Export'!$A$2:$AF2350,5,false)","v":"#N/A"},{"$f":"VLOOKUP(A302,'Copy of Export'!$A$2:$AF2350,8,false)","v":"#N/A"}]
[null,{"$f":"VLOOKUP(A303,'Copy of Export'!$A$2:$AF2350,5,false)","v":"#N/A"},{"$f":"VLOOKUP(A303,'Copy of Export'!$A$2:$AF2350,13,false)","v":"#N/A"},{"$f":"VLOOKUP(A303,'Copy of Export'!$A$2:$AF2350,2,false)","v":"#N/A"},{"$f":"VLOOKUP(A303,'Copy of Export'!$A$2:$AF2350,5,false)","v":"#N/A"},{"$f":"VLOOKUP(A303,'Copy of Export'!$A$2:$AF2350,8,false)","v":"#N/A"}]
[null,{"$f":"VLOOKUP(A304,'Copy of Export'!$A$2:$AF2350,5,false)","v":"#N/A"},{"$f":"VLOOKUP(A304,'Copy of Export'!$A$2:$AF2350,13,false)","v":"#N/A"},{"$f":"VLOOKUP(A304,'Copy of Export'!$A$2:$AF2350,2,false)","v":"#N/A"},{"$f":"VLOOKUP(A304,'Copy of Export'!$A$2:$AF2350,5,false)","v":"#N/A"},{"$f":"VLOOKUP(A304,'Copy of Export'!$A$2:$AF2350,8,false)","v":"#N/A"}]
[null,{"$f":"VLOOKUP(A305,'Copy of Export'!$A$2:$AF2350,5,false)","v":"#N/A"},{"$f":"VLOOKUP(A305,'Copy of Export'!$A$2:$AF2350,13,false)","v":"#N/A"},{"$f":"VLOOKUP(A305,'Copy of Export'!$A$2:$AF2350,2,false)","v":"#N/A"},{"$f":"VLOOKUP(A305,'Copy of Export'!$A$2:$AF2350,5,false)","v":"#N/A"},{"$f":"VLOOKUP(A305,'Copy of Export'!$A$2:$AF2350,8,false)","v":"#N/A"}]
[null,{"$f":"VLOOKUP(A306,'Copy of Export'!$A$2:$AF2350,5,false)","v":"#N/A"},{"$f":"VLOOKUP(A306,'Copy of Export'!$A$2:$AF2350,13,false)","v":"#N/A"},{"$f":"VLOOKUP(A306,'Copy of Export'!$A$2:$AF2350,2,false)","v":"#N/A"},{"$f":"VLOOKUP(A306,'Copy of Export'!$A$2:$AF2350,5,false)","v":"#N/A"},{"$f":"VLOOKUP(A306,'Copy of Export'!$A$2:$AF2350,8,false)","v":"#N/A"}]
[null,{"$f":"VLOOKUP(A307,'Copy of Export'!$A$2:$AF2350,5,false)","v":"#N/A"},{"$f":"VLOOKUP(A307,'Copy of Export'!$A$2:$AF2350,13,false)","v":"#N/A"},{"$f":"VLOOKUP(A307,'Copy of Export'!$A$2:$AF2350,2,false)","v":"#N/A"},{"$f":"VLOOKUP(A307,'Copy of Export'!$A$2:$AF2350,5,false)","v":"#N/A"},{"$f":"VLOOKUP(A307,'Copy of Export'!$A$2:$AF2350,8,false)","v":"#N/A"}]
[null,{"$f":"VLOOKUP(A308,'Copy of Export'!$A$2:$AF2350,5,false)","v":"#N/A"},{"$f":"VLOOKUP(A308,'Copy of Export'!$A$2:$AF2350,13,false)","v":"#N/A"},{"$f":"VLOOKUP(A308,'Copy of Export'!$A$2:$AF2350,2,false)","v":"#N/A"},{"$f":"VLOOKUP(A308,'Copy of Export'!$A$2:$AF2350,5,false)","v":"#N/A"},{"$f":"VLOOKUP(A308,'Copy of Export'!$A$2:$AF2350,8,false)","v":"#N/A"}]
[null,{"$f":"VLOOKUP(A309,'Copy of Export'!$A$2:$AF2350,5,false)","v":"#N/A"},{"$f":"VLOOKUP(A309,'Copy of Export'!$A$2:$AF2350,13,false)","v":"#N/A"},{"$f":"VLOOKUP(A309,'Copy of Export'!$A$2:$AF2350,2,false)","v":"#N/A"},{"$f":"VLOOKUP(A309,'Copy of Export'!$A$2:$AF2350,5,false)","v":"#N/A"},{"$f":"VLOOKUP(A309,'Copy of Export'!$A$2:$AF2350,8,false)","v":"#N/A"}]
[null,{"$f":"VLOOKUP(A310,'Copy of Export'!$A$2:$AF2350,5,false)","v":"#N/A"},{"$f":"VLOOKUP(A310,'Copy of Export'!$A$2:$AF2350,13,false)","v":"#N/A"},{"$f":"VLOOKUP(A310,'Copy of Export'!$A$2:$AF2350,2,false)","v":"#N/A"},{"$f":"VLOOKUP(A310,'Copy of Export'!$A$2:$AF2350,5,false)","v":"#N/A"},{"$f":"VLOOKUP(A310,'Copy of Export'!$A$2:$AF2350,8,false)","v":"#N/A"}]
[null,{"$f":"VLOOKUP(A311,'Copy of Export'!$A$2:$AF2350,5,false)","v":"#N/A"},{"$f":"VLOOKUP(A311,'Copy of Export'!$A$2:$AF2350,13,false)","v":"#N/A"},{"$f":"VLOOKUP(A311,'Copy of Export'!$A$2:$AF2350,2,false)","v":"#N/A"},{"$f":"VLOOKUP(A311,'Copy of Export'!$A$2:$AF2350,5,false)","v":"#N/A"},{"$f":"VLOOKUP(A311,'Copy of Export'!$A$2:$AF2350,8,false)","v":"#N/A"}]
[null,{"$f":"VLOOKUP(A312,'Copy of Export'!$A$2:$AF2350,5,false)","v":"#N/A"},{"$f":"VLOOKUP(A312,'Copy of Export'!$A$2:$AF2350,13,false)","v":"#N/A"},{"$f":"VLOOKUP(A312,'Copy of Export'!$A$2:$AF2350,2,false)","v":"#N/A"},{"$f":"VLOOKUP(A312,'Copy of Export'!$A$2:$AF2350,5,false)","v":"#N/A"},{"$f":"VLOOKUP(A312,'Copy of Export'!$A$2:$AF2350,8,false)","v":"#N/A"}]
[null,{"$f":"VLOOKUP(A313,'Copy of Export'!$A$2:$AF2350,5,false)","v":"#N/A"},{"$f":"VLOOKUP(A313,'Copy of Export'!$A$2:$AF2350,13,false)","v":"#N/A"},{"$f":"VLOOKUP(A313,'Copy of Export'!$A$2:$AF2350,2,false)","v":"#N/A"},{"$f":"VLOOKUP(A313,'Copy of Export'!$A$2:$AF2350,5,false)","v":"#N/A"},{"$f":"VLOOKUP(A313,'Copy of Export'!$A$2:$AF2350,8,false)","v":"#N/A"}]
[null,{"$f":"VLOOKUP(A314,'Copy of Export'!$A$2:$AF2350,5,false)","v":"#N/A"},{"$f":"VLOOKUP(A314,'Copy of Export'!$A$2:$AF2350,13,false)","v":"#N/A"},{"$f":"VLOOKUP(A314,'Copy of Export'!$A$2:$AF2350,2,false)","v":"#N/A"},{"$f":"VLOOKUP(A314,'Copy of Export'!$A$2:$AF2350,5,false)","v":"#N/A"},{"$f":"VLOOKUP(A314,'Copy of Export'!$A$2:$AF2350,8,false)","v":"#N/A"}]
[null,{"$f":"VLOOKUP(A315,'Copy of Export'!$A$2:$AF2350,5,false)","v":"#N/A"},{"$f":"VLOOKUP(A315,'Copy of Export'!$A$2:$AF2350,13,false)","v":"#N/A"},{"$f":"VLOOKUP(A315,'Copy of Export'!$A$2:$AF2350,2,false)","v":"#N/A"},{"$f":"VLOOKUP(A315,'Copy of Export'!$A$2:$AF2350,5,false)","v":"#N/A"},{"$f":"VLOOKUP(A315,'Copy of Export'!$A$2:$AF2350,8,false)","v":"#N/A"}]
[null,{"$f":"VLOOKUP(A316,'Copy of Export'!$A$2:$AF2350,5,false)","v":"#N/A"},{"$f":"VLOOKUP(A316,'Copy of Export'!$A$2:$AF2350,13,false)","v":"#N/A"},{"$f":"VLOOKUP(A316,'Copy of Export'!$A$2:$AF2350,2,false)","v":"#N/A"},{"$f":"VLOOKUP(A316,'Copy of Export'!$A$2:$AF2350,5,false)","v":"#N/A"},{"$f":"VLOOKUP(A316,'Copy of Export'!$A$2:$AF2350,8,false)","v":"#N/A"}]
[null,{"$f":"VLOOKUP(A317,'Copy of Export'!$A$2:$AF2350,5,false)","v":"#N/A"},{"$f":"VLOOKUP(A317,'Copy of Export'!$A$2:$AF2350,13,false)","v":"#N/A"},{"$f":"VLOOKUP(A317,'Copy of Export'!$A$2:$AF2350,2,false)","v":"#N/A"},{"$f":"VLOOKUP(A317,'Copy of Export'!$A$2:$AF2350,5,false)","v":"#N/A"},{"$f":"VLOOKUP(A317,'Copy of Export'!$A$2:$AF2350,8,false)","v":"#N/A"}]
[null,{"$f":"VLOOKUP(A318,'Copy of Export'!$A$2:$AF2350,5,false)","v":"#N/A"},{"$f":"VLOOKUP(A318,'Copy of Export'!$A$2:$AF2350,13,false)","v":"#N/A"},{"$f":"VLOOKUP(A318,'Copy of Export'!$A$2:$AF2350,2,false)","v":"#N/A"},{"$f":"VLOOKUP(A318,'Copy of Export'!$A$2:$AF2350,5,false)","v":"#N/A"},{"$f":"VLOOKUP(A318,'Copy of Export'!$A$2:$AF2350,8,false)","v":"#N/A"}]
[null,{"$f":"VLOOKUP(A319,'Copy of Export'!$A$2:$AF2350,5,false)","v":"#N/A"},{"$f":"VLOOKUP(A319,'Copy of Export'!$A$2:$AF2350,13,false)","v":"#N/A"},{"$f":"VLOOKUP(A319,'Copy of Export'!$A$2:$AF2350,2,false)","v":"#N/A"},{"$f":"VLOOKUP(A319,'Copy of Export'!$A$2:$AF2350,5,false)","v":"#N/A"},{"$f":"VLOOKUP(A319,'Copy of Export'!$A$2:$AF2350,8,false)","v":"#N/A"}]
[null,{"$f":"VLOOKUP(A320,'Copy of Export'!$A$2:$AF2350,5,false)","v":"#N/A"},{"$f":"VLOOKUP(A320,'Copy of Export'!$A$2:$AF2350,13,false)","v":"#N/A"},{"$f":"VLOOKUP(A320,'Copy of Export'!$A$2:$AF2350,2,false)","v":"#N/A"},{"$f":"VLOOKUP(A320,'Copy of Export'!$A$2:$AF2350,5,false)","v":"#N/A"},{"$f":"VLOOKUP(A320,'Copy of Export'!$A$2:$AF2350,8,false)","v":"#N/A"}]
[null,{"$f":"VLOOKUP(A321,'Copy of Export'!$A$2:$AF2350,5,false)","v":"#N/A"},{"$f":"VLOOKUP(A321,'Copy of Export'!$A$2:$AF2350,13,false)","v":"#N/A"},{"$f":"VLOOKUP(A321,'Copy of Export'!$A$2:$AF2350,2,false)","v":"#N/A"},{"$f":"VLOOKUP(A321,'Copy of Export'!$A$2:$AF2350,5,false)","v":"#N/A"},{"$f":"VLOOKUP(A321,'Copy of Export'!$A$2:$AF2350,8,false)","v":"#N/A"}]
[null,{"$f":"VLOOKUP(A322,'Copy of Export'!$A$2:$AF2350,5,false)","v":"#N/A"},{"$f":"VLOOKUP(A322,'Copy of Export'!$A$2:$AF2350,13,false)","v":"#N/A"},{"$f":"VLOOKUP(A322,'Copy of Export'!$A$2:$AF2350,2,false)","v":"#N/A"},{"$f":"VLOOKUP(A322,'Copy of Export'!$A$2:$AF2350,5,false)","v":"#N/A"},{"$f":"VLOOKUP(A322,'Copy of Export'!$A$2:$AF2350,8,false)","v":"#N/A"}]
[null,{"$f":"VLOOKUP(A323,'Copy of Export'!$A$2:$AF2350,5,false)","v":"#N/A"},{"$f":"VLOOKUP(A323,'Copy of Export'!$A$2:$AF2350,13,false)","v":"#N/A"},{"$f":"VLOOKUP(A323,'Copy of Export'!$A$2:$AF2350,2,false)","v":"#N/A"},{"$f":"VLOOKUP(A323,'Copy of Export'!$A$2:$AF2350,5,false)","v":"#N/A"},{"$f":"VLOOKUP(A323,'Copy of Export'!$A$2:$AF2350,8,false)","v":"#N/A"}]
[null,{"$f":"VLOOKUP(A324,'Copy of Export'!$A$2:$AF2350,5,false)","v":"#N/A"},{"$f":"VLOOKUP(A324,'Copy of Export'!$A$2:$AF2350,13,false)","v":"#N/A"},{"$f":"VLOOKUP(A324,'Copy of Export'!$A$2:$AF2350,2,false)","v":"#N/A"},{"$f":"VLOOKUP(A324,'Copy of Export'!$A$2:$AF2350,5,false)","v":"#N/A"},{"$f":"VLOOKUP(A324,'Copy of Export'!$A$2:$AF2350,8,false)","v":"#N/A"}]
[null,{"$f":"VLOOKUP(A325,'Copy of Export'!$A$2:$AF2350,5,false)","v":"#N/A"},{"$f":"VLOOKUP(A325,'Copy of Export'!$A$2:$AF2350,13,false)","v":"#N/A"},{"$f":"VLOOKUP(A325,'Copy of Export'!$A$2:$AF2350,2,false)","v":"#N/A"},{"$f":"VLOOKUP(A325,'Copy of Export'!$A$2:$AF2350,5,false)","v":"#N/A"},{"$f":"VLOOKUP(A325,'Copy of Export'!$A$2:$AF2350,8,false)","v":"#N/A"}]
[null,{"$f":"VLOOKUP(A326,'Copy of Export'!$A$2:$AF2350,5,false)","v":"#N/A"},{"$f":"VLOOKUP(A326,'Copy of Export'!$A$2:$AF2350,13,false)","v":"#N/A"},{"$f":"VLOOKUP(A326,'Copy of Export'!$A$2:$AF2350,2,false)","v":"#N/A"},{"$f":"VLOOKUP(A326,'Copy of Export'!$A$2:$AF2350,5,false)","v":"#N/A"},{"$f":"VLOOKUP(A326,'Copy of Export'!$A$2:$AF2350,8,false)","v":"#N/A"}]
[null,{"$f":"VLOOKUP(A327,'Copy of Export'!$A$2:$AF2350,5,false)","v":"#N/A"},{"$f":"VLOOKUP(A327,'Copy of Export'!$A$2:$AF2350,13,false)","v":"#N/A"},{"$f":"VLOOKUP(A327,'Copy of Export'!$A$2:$AF2350,2,false)","v":"#N/A"},{"$f":"VLOOKUP(A327,'Copy of Export'!$A$2:$AF2350,5,false)","v":"#N/A"},{"$f":"VLOOKUP(A327,'Copy of Export'!$A$2:$AF2350,8,false)","v":"#N/A"}]
[null,{"$f":"VLOOKUP(A328,'Copy of Export'!$A$2:$AF2350,5,false)","v":"#N/A"},{"$f":"VLOOKUP(A328,'Copy of Export'!$A$2:$AF2350,13,false)","v":"#N/A"},{"$f":"VLOOKUP(A328,'Copy of Export'!$A$2:$AF2350,2,false)","v":"#N/A"},{"$f":"VLOOKUP(A328,'Copy of Export'!$A$2:$AF2350,5,false)","v":"#N/A"},{"$f":"VLOOKUP(A328,'Copy of Export'!$A$2:$AF2350,8,false)","v":"#N/A"}]
[null,{"$f":"VLOOKUP(A329,'Copy of Export'!$A$2:$AF2350,5,false)","v":"#N/A"},{"$f":"VLOOKUP(A329,'Copy of Export'!$A$2:$AF2350,13,false)","v":"#N/A"},{"$f":"VLOOKUP(A329,'Copy of Export'!$A$2:$AF2350,2,false)","v":"#N/A"},{"$f":"VLOOKUP(A329,'Copy of Export'!$A$2:$AF2350,5,false)","v":"#N/A"},{"$f":"VLOOKUP(A329,'Copy of Export'!$A$2:$AF2350,8,false)","v":"#N/A"}]
[null,{"$f":"VLOOKUP(A330,'Copy of Export'!$A$2:$AF2350,5,false)","v":"#N/A"},{"$f":"VLOOKUP(A330,'Copy of Export'!$A$2:$AF2350,13,false)","v":"#N/A"},{"$f":"VLOOKUP(A330,'Copy of Export'!$A$2:$AF2350,2,false)","v":"#N/A"},{"$f":"VLOOKUP(A330,'Copy of Export'!$A$2:$AF2350,5,false)","v":"#N/A"},{"$f":"VLOOKUP(A330,'Copy of Export'!$A$2:$AF2350,8,false)","v":"#N/A"}]
[null,{"$f":"VLOOKUP(A331,'Copy of Export'!$A$2:$AF2350,5,false)","v":"#N/A"},{"$f":"VLOOKUP(A331,'Copy of Export'!$A$2:$AF2350,13,false)","v":"#N/A"},{"$f":"VLOOKUP(A331,'Copy of Export'!$A$2:$AF2350,2,false)","v":"#N/A"},{"$f":"VLOOKUP(A331,'Copy of Export'!$A$2:$AF2350,5,false)","v":"#N/A"},{"$f":"VLOOKUP(A331,'Copy of Export'!$A$2:$AF2350,8,false)","v":"#N/A"}]
[null,{"$f":"VLOOKUP(A332,'Copy of Export'!$A$2:$AF2350,5,false)","v":"#N/A"},{"$f":"VLOOKUP(A332,'Copy of Export'!$A$2:$AF2350,13,false)","v":"#N/A"},{"$f":"VLOOKUP(A332,'Copy of Export'!$A$2:$AF2350,2,false)","v":"#N/A"},{"$f":"VLOOKUP(A332,'Copy of Export'!$A$2:$AF2350,5,false)","v":"#N/A"},{"$f":"VLOOKUP(A332,'Copy of Export'!$A$2:$AF2350,8,false)","v":"#N/A"}]
[null,{"$f":"VLOOKUP(A333,'Copy of Export'!$A$2:$AF2350,5,false)","v":"#N/A"},{"$f":"VLOOKUP(A333,'Copy of Export'!$A$2:$AF2350,13,false)","v":"#N/A"},{"$f":"VLOOKUP(A333,'Copy of Export'!$A$2:$AF2350,2,false)","v":"#N/A"},{"$f":"VLOOKUP(A333,'Copy of Export'!$A$2:$AF2350,5,false)","v":"#N/A"},{"$f":"VLOOKUP(A333,'Copy of Export'!$A$2:$AF2350,8,false)","v":"#N/A"}]
[null,{"$f":"VLOOKUP(A334,'Copy of Export'!$A$2:$AF2350,5,false)","v":"#N/A"},{"$f":"VLOOKUP(A334,'Copy of Export'!$A$2:$AF2350,13,false)","v":"#N/A"},{"$f":"VLOOKUP(A334,'Copy of Export'!$A$2:$AF2350,2,false)","v":"#N/A"},{"$f":"VLOOKUP(A334,'Copy of Export'!$A$2:$AF2350,5,false)","v":"#N/A"},{"$f":"VLOOKUP(A334,'Copy of Export'!$A$2:$AF2350,8,false)","v":"#N/A"}]
[null,{"$f":"VLOOKUP(A335,'Copy of Export'!$A$2:$AF2350,5,false)","v":"#N/A"},{"$f":"VLOOKUP(A335,'Copy of Export'!$A$2:$AF2350,13,false)","v":"#N/A"},{"$f":"VLOOKUP(A335,'Copy of Export'!$A$2:$AF2350,2,false)","v":"#N/A"},{"$f":"VLOOKUP(A335,'Copy of Export'!$A$2:$AF2350,5,false)","v":"#N/A"},{"$f":"VLOOKUP(A335,'Copy of Export'!$A$2:$AF2350,8,false)","v":"#N/A"}]
[null,{"$f":"VLOOKUP(A336,'Copy of Export'!$A$2:$AF2350,5,false)","v":"#N/A"},{"$f":"VLOOKUP(A336,'Copy of Export'!$A$2:$AF2350,13,false)","v":"#N/A"},{"$f":"VLOOKUP(A336,'Copy of Export'!$A$2:$AF2350,2,false)","v":"#N/A"},{"$f":"VLOOKUP(A336,'Copy of Export'!$A$2:$AF2350,5,false)","v":"#N/A"},{"$f":"VLOOKUP(A336,'Copy of Export'!$A$2:$AF2350,8,false)","v":"#N/A"}]
[null,{"$f":"VLOOKUP(A337,'Copy of Export'!$A$2:$AF2350,5,false)","v":"#N/A"},{"$f":"VLOOKUP(A337,'Copy of Export'!$A$2:$AF2350,13,false)","v":"#N/A"},{"$f":"VLOOKUP(A337,'Copy of Export'!$A$2:$AF2350,2,false)","v":"#N/A"},{"$f":"VLOOKUP(A337,'Copy of Export'!$A$2:$AF2350,5,false)","v":"#N/A"},{"$f":"VLOOKUP(A337,'Copy of Export'!$A$2:$AF2350,8,false)","v":"#N/A"}]
[null,{"$f":"VLOOKUP(A338,'Copy of Export'!$A$2:$AF2350,5,false)","v":"#N/A"},{"$f":"VLOOKUP(A338,'Copy of Export'!$A$2:$AF2350,13,false)","v":"#N/A"},{"$f":"VLOOKUP(A338,'Copy of Export'!$A$2:$AF2350,2,false)","v":"#N/A"},{"$f":"VLOOKUP(A338,'Copy of Export'!$A$2:$AF2350,5,false)","v":"#N/A"},{"$f":"VLOOKUP(A338,'Copy of Export'!$A$2:$AF2350,8,false)","v":"#N/A"}]
[null,{"$f":"VLOOKUP(A339,'Copy of Export'!$A$2:$AF2350,5,false)","v":"#N/A"},{"$f":"VLOOKUP(A339,'Copy of Export'!$A$2:$AF2350,13,false)","v":"#N/A"},{"$f":"VLOOKUP(A339,'Copy of Export'!$A$2:$AF2350,2,false)","v":"#N/A"},{"$f":"VLOOKUP(A339,'Copy of Export'!$A$2:$AF2350,5,false)","v":"#N/A"},{"$f":"VLOOKUP(A339,'Copy of Export'!$A$2:$AF2350,8,false)","v":"#N/A"}]
[null,{"$f":"VLOOKUP(A340,'Copy of Export'!$A$2:$AF2350,5,false)","v":"#N/A"},{"$f":"VLOOKUP(A340,'Copy of Export'!$A$2:$AF2350,13,false)","v":"#N/A"},{"$f":"VLOOKUP(A340,'Copy of Export'!$A$2:$AF2350,2,false)","v":"#N/A"},{"$f":"VLOOKUP(A340,'Copy of Export'!$A$2:$AF2350,5,false)","v":"#N/A"},{"$f":"VLOOKUP(A340,'Copy of Export'!$A$2:$AF2350,8,false)","v":"#N/A"}]
[null,{"$f":"VLOOKUP(A341,'Copy of Export'!$A$2:$AF2350,5,false)","v":"#N/A"},{"$f":"VLOOKUP(A341,'Copy of Export'!$A$2:$AF2350,13,false)","v":"#N/A"},{"$f":"VLOOKUP(A341,'Copy of Export'!$A$2:$AF2350,2,false)","v":"#N/A"},{"$f":"VLOOKUP(A341,'Copy of Export'!$A$2:$AF2350,5,false)","v":"#N/A"},{"$f":"VLOOKUP(A341,'Copy of Export'!$A$2:$AF2350,8,false)","v":"#N/A"}]
[null,{"$f":"VLOOKUP(A342,'Copy of Export'!$A$2:$AF2350,5,false)","v":"#N/A"},{"$f":"VLOOKUP(A342,'Copy of Export'!$A$2:$AF2350,13,false)","v":"#N/A"},{"$f":"VLOOKUP(A342,'Copy of Export'!$A$2:$AF2350,2,false)","v":"#N/A"},{"$f":"VLOOKUP(A342,'Copy of Export'!$A$2:$AF2350,5,false)","v":"#N/A"},{"$f":"VLOOKUP(A342,'Copy of Export'!$A$2:$AF2350,8,false)","v":"#N/A"}]
[null,{"$f":"VLOOKUP(A343,'Copy of Export'!$A$2:$AF2350,5,false)","v":"#N/A"},{"$f":"VLOOKUP(A343,'Copy of Export'!$A$2:$AF2350,13,false)","v":"#N/A"},{"$f":"VLOOKUP(A343,'Copy of Export'!$A$2:$AF2350,2,false)","v":"#N/A"},{"$f":"VLOOKUP(A343,'Copy of Export'!$A$2:$AF2350,5,false)","v":"#N/A"},{"$f":"VLOOKUP(A343,'Copy of Export'!$A$2:$AF2350,8,false)","v":"#N/A"}]
[null,{"$f":"VLOOKUP(A344,'Copy of Export'!$A$2:$AF2350,5,false)","v":"#N/A"},{"$f":"VLOOKUP(A344,'Copy of Export'!$A$2:$AF2350,13,false)","v":"#N/A"},{"$f":"VLOOKUP(A344,'Copy of Export'!$A$2:$AF2350,2,false)","v":"#N/A"},{"$f":"VLOOKUP(A344,'Copy of Export'!$A$2:$AF2350,5,false)","v":"#N/A"},{"$f":"VLOOKUP(A344,'Copy of Export'!$A$2:$AF2350,8,false)","v":"#N/A"}]
[null,{"$f":"VLOOKUP(A345,'Copy of Export'!$A$2:$AF2350,5,false)","v":"#N/A"},{"$f":"VLOOKUP(A345,'Copy of Export'!$A$2:$AF2350,13,false)","v":"#N/A"},{"$f":"VLOOKUP(A345,'Copy of Export'!$A$2:$AF2350,2,false)","v":"#N/A"},{"$f":"VLOOKUP(A345,'Copy of Export'!$A$2:$AF2350,5,false)","v":"#N/A"},{"$f":"VLOOKUP(A345,'Copy of Export'!$A$2:$AF2350,8,false)","v":"#N/A"}]
[null,{"$f":"VLOOKUP(A346,'Copy of Export'!$A$2:$AF2350,5,false)","v":"#N/A"},{"$f":"VLOOKUP(A346,'Copy of Export'!$A$2:$AF2350,13,false)","v":"#N/A"},{"$f":"VLOOKUP(A346,'Copy of Export'!$A$2:$AF2350,2,false)","v":"#N/A"},{"$f":"VLOOKUP(A346,'Copy of Export'!$A$2:$AF2350,5,false)","v":"#N/A"},{"$f":"VLOOKUP(A346,'Copy of Export'!$A$2:$AF2350,8,false)","v":"#N/A"}]
[null,{"$f":"VLOOKUP(A347,'Copy of Export'!$A$2:$AF2350,5,false)","v":"#N/A"},{"$f":"VLOOKUP(A347,'Copy of Export'!$A$2:$AF2350,13,false)","v":"#N/A"},{"$f":"VLOOKUP(A347,'Copy of Export'!$A$2:$AF2350,2,false)","v":"#N/A"},{"$f":"VLOOKUP(A347,'Copy of Export'!$A$2:$AF2350,5,false)","v":"#N/A"},{"$f":"VLOOKUP(A347,'Copy of Export'!$A$2:$AF2350,8,false)","v":"#N/A"}]
[null,{"$f":"VLOOKUP(A348,'Copy of Export'!$A$2:$AF2350,5,false)","v":"#N/A"},{"$f":"VLOOKUP(A348,'Copy of Export'!$A$2:$AF2350,13,false)","v":"#N/A"},{"$f":"VLOOKUP(A348,'Copy of Export'!$A$2:$AF2350,2,false)","v":"#N/A"},{"$f":"VLOOKUP(A348,'Copy of Export'!$A$2:$AF2350,5,false)","v":"#N/A"},{"$f":"VLOOKUP(A348,'Copy of Export'!$A$2:$AF2350,8,false)","v":"#N/A"}]
[null,{"$f":"VLOOKUP(A349,'Copy of Export'!$A$2:$AF2350,5,false)","v":"#N/A"},{"$f":"VLOOKUP(A349,'Copy of Export'!$A$2:$AF2350,13,false)","v":"#N/A"},{"$f":"VLOOKUP(A349,'Copy of Export'!$A$2:$AF2350,2,false)","v":"#N/A"},{"$f":"VLOOKUP(A349,'Copy of Export'!$A$2:$AF2350,5,false)","v":"#N/A"},{"$f":"VLOOKUP(A349,'Copy of Export'!$A$2:$AF2350,8,false)","v":"#N/A"}]
[null,{"$f":"VLOOKUP(A350,'Copy of Export'!$A$2:$AF2350,5,false)","v":"#N/A"},{"$f":"VLOOKUP(A350,'Copy of Export'!$A$2:$AF2350,13,false)","v":"#N/A"},{"$f":"VLOOKUP(A350,'Copy of Export'!$A$2:$AF2350,2,false)","v":"#N/A"},{"$f":"VLOOKUP(A350,'Copy of Export'!$A$2:$AF2350,5,false)","v":"#N/A"},{"$f":"VLOOKUP(A350,'Copy of Export'!$A$2:$AF2350,8,false)","v":"#N/A"}]
[null,{"$f":"VLOOKUP(A351,'Copy of Export'!$A$2:$AF2350,5,false)","v":"#N/A"},{"$f":"VLOOKUP(A351,'Copy of Export'!$A$2:$AF2350,13,false)","v":"#N/A"},{"$f":"VLOOKUP(A351,'Copy of Export'!$A$2:$AF2350,2,false)","v":"#N/A"},{"$f":"VLOOKUP(A351,'Copy of Export'!$A$2:$AF2350,5,false)","v":"#N/A"},{"$f":"VLOOKUP(A351,'Copy of Export'!$A$2:$AF2350,8,false)","v":"#N/A"}]
[null,{"$f":"VLOOKUP(A352,'Copy of Export'!$A$2:$AF2350,5,false)","v":"#N/A"},{"$f":"VLOOKUP(A352,'Copy of Export'!$A$2:$AF2350,13,false)","v":"#N/A"},{"$f":"VLOOKUP(A352,'Copy of Export'!$A$2:$AF2350,2,false)","v":"#N/A"},{"$f":"VLOOKUP(A352,'Copy of Export'!$A$2:$AF2350,5,false)","v":"#N/A"},{"$f":"VLOOKUP(A352,'Copy of Export'!$A$2:$AF2350,8,false)","v":"#N/A"}]
[null,{"$f":"VLOOKUP(A353,'Copy of Export'!$A$2:$AF2350,5,false)","v":"#N/A"},{"$f":"VLOOKUP(A353,'Copy of Export'!$A$2:$AF2350,13,false)","v":"#N/A"},{"$f":"VLOOKUP(A353,'Copy of Export'!$A$2:$AF2350,2,false)","v":"#N/A"},{"$f":"VLOOKUP(A353,'Copy of Export'!$A$2:$AF2350,5,false)","v":"#N/A"},{"$f":"VLOOKUP(A353,'Copy of Export'!$A$2:$AF2350,8,false)","v":"#N/A"}]
[null,{"$f":"VLOOKUP(A354,'Copy of Export'!$A$2:$AF2350,5,false)","v":"#N/A"},{"$f":"VLOOKUP(A354,'Copy of Export'!$A$2:$AF2350,13,false)","v":"#N/A"},{"$f":"VLOOKUP(A354,'Copy of Export'!$A$2:$AF2350,2,false)","v":"#N/A"},{"$f":"VLOOKUP(A354,'Copy of Export'!$A$2:$AF2350,5,false)","v":"#N/A"},{"$f":"VLOOKUP(A354,'Copy of Export'!$A$2:$AF2350,8,false)","v":"#N/A"}]
[null,{"$f":"VLOOKUP(A355,'Copy of Export'!$A$2:$AF2350,5,false)","v":"#N/A"},{"$f":"VLOOKUP(A355,'Copy of Export'!$A$2:$AF2350,13,false)","v":"#N/A"},{"$f":"VLOOKUP(A355,'Copy of Export'!$A$2:$AF2350,2,false)","v":"#N/A"},{"$f":"VLOOKUP(A355,'Copy of Export'!$A$2:$AF2350,5,false)","v":"#N/A"},{"$f":"VLOOKUP(A355,'Copy of Export'!$A$2:$AF2350,8,false)","v":"#N/A"}]
[null,{"$f":"VLOOKUP(A356,'Copy of Export'!$A$2:$AF2350,5,false)","v":"#N/A"},{"$f":"VLOOKUP(A356,'Copy of Export'!$A$2:$AF2350,13,false)","v":"#N/A"},{"$f":"VLOOKUP(A356,'Copy of Export'!$A$2:$AF2350,2,false)","v":"#N/A"},{"$f":"VLOOKUP(A356,'Copy of Export'!$A$2:$AF2350,5,false)","v":"#N/A"},{"$f":"VLOOKUP(A356,'Copy of Export'!$A$2:$AF2350,8,false)","v":"#N/A"}]
[null,{"$f":"VLOOKUP(A357,'Copy of Export'!$A$2:$AF2350,5,false)","v":"#N/A"},{"$f":"VLOOKUP(A357,'Copy of Export'!$A$2:$AF2350,13,false)","v":"#N/A"},{"$f":"VLOOKUP(A357,'Copy of Export'!$A$2:$AF2350,2,false)","v":"#N/A"},{"$f":"VLOOKUP(A357,'Copy of Export'!$A$2:$AF2350,5,false)","v":"#N/A"},{"$f":"VLOOKUP(A357,'Copy of Export'!$A$2:$AF2350,8,false)","v":"#N/A"}]
[null,{"$f":"VLOOKUP(A358,'Copy of Export'!$A$2:$AF2350,5,false)","v":"#N/A"},{"$f":"VLOOKUP(A358,'Copy of Export'!$A$2:$AF2350,13,false)","v":"#N/A"},{"$f":"VLOOKUP(A358,'Copy of Export'!$A$2:$AF2350,2,false)","v":"#N/A"},{"$f":"VLOOKUP(A358,'Copy of Export'!$A$2:$AF2350,5,false)","v":"#N/A"},{"$f":"VLOOKUP(A358,'Copy of Export'!$A$2:$AF2350,8,false)","v":"#N/A"}]
[null,{"$f":"VLOOKUP(A359,'Copy of Export'!$A$2:$AF2350,5,false)","v":"#N/A"},{"$f":"VLOOKUP(A359,'Copy of Export'!$A$2:$AF2350,13,false)","v":"#N/A"},{"$f":"VLOOKUP(A359,'Copy of Export'!$A$2:$AF2350,2,false)","v":"#N/A"},{"$f":"VLOOKUP(A359,'Copy of Export'!$A$2:$AF2350,5,false)","v":"#N/A"},{"$f":"VLOOKUP(A359,'Copy of Export'!$A$2:$AF2350,8,false)","v":"#N/A"}]
[null,{"$f":"VLOOKUP(A360,'Copy of Export'!$A$2:$AF2350,5,false)","v":"#N/A"},{"$f":"VLOOKUP(A360,'Copy of Export'!$A$2:$AF2350,13,false)","v":"#N/A"},{"$f":"VLOOKUP(A360,'Copy of Export'!$A$2:$AF2350,2,false)","v":"#N/A"},{"$f":"VLOOKUP(A360,'Copy of Export'!$A$2:$AF2350,5,false)","v":"#N/A"},{"$f":"VLOOKUP(A360,'Copy of Export'!$A$2:$AF2350,8,false)","v":"#N/A"}]
[null,{"$f":"VLOOKUP(A361,'Copy of Export'!$A$2:$AF2350,5,false)","v":"#N/A"},{"$f":"VLOOKUP(A361,'Copy of Export'!$A$2:$AF2350,13,false)","v":"#N/A"},{"$f":"VLOOKUP(A361,'Copy of Export'!$A$2:$AF2350,2,false)","v":"#N/A"},{"$f":"VLOOKUP(A361,'Copy of Export'!$A$2:$AF2350,5,false)","v":"#N/A"},{"$f":"VLOOKUP(A361,'Copy of Export'!$A$2:$AF2350,8,false)","v":"#N/A"}]
[null,{"$f":"VLOOKUP(A362,'Copy of Export'!$A$2:$AF2350,5,false)","v":"#N/A"},{"$f":"VLOOKUP(A362,'Copy of Export'!$A$2:$AF2350,13,false)","v":"#N/A"},{"$f":"VLOOKUP(A362,'Copy of Export'!$A$2:$AF2350,2,false)","v":"#N/A"},{"$f":"VLOOKUP(A362,'Copy of Export'!$A$2:$AF2350,5,false)","v":"#N/A"},{"$f":"VLOOKUP(A362,'Copy of Export'!$A$2:$AF2350,8,false)","v":"#N/A"}]
[null,{"$f":"VLOOKUP(A363,'Copy of Export'!$A$2:$AF2350,5,false)","v":"#N/A"},{"$f":"VLOOKUP(A363,'Copy of Export'!$A$2:$AF2350,13,false)","v":"#N/A"},{"$f":"VLOOKUP(A363,'Copy of Export'!$A$2:$AF2350,2,false)","v":"#N/A"},{"$f":"VLOOKUP(A363,'Copy of Export'!$A$2:$AF2350,5,false)","v":"#N/A"},{"$f":"VLOOKUP(A363,'Copy of Export'!$A$2:$AF2350,8,false)","v":"#N/A"}]
[null,{"$f":"VLOOKUP(A364,'Copy of Export'!$A$2:$AF2350,5,false)","v":"#N/A"},{"$f":"VLOOKUP(A364,'Copy of Export'!$A$2:$AF2350,13,false)","v":"#N/A"},{"$f":"VLOOKUP(A364,'Copy of Export'!$A$2:$AF2350,2,false)","v":"#N/A"},{"$f":"VLOOKUP(A364,'Copy of Export'!$A$2:$AF2350,5,false)","v":"#N/A"},{"$f":"VLOOKUP(A364,'Copy of Export'!$A$2:$AF2350,8,false)","v":"#N/A"}]
[null,{"$f":"VLOOKUP(A365,'Copy of Export'!$A$2:$AF2350,5,false)","v":"#N/A"},{"$f":"VLOOKUP(A365,'Copy of Export'!$A$2:$AF2350,13,false)","v":"#N/A"},{"$f":"VLOOKUP(A365,'Copy of Export'!$A$2:$AF2350,2,false)","v":"#N/A"},{"$f":"VLOOKUP(A365,'Copy of Export'!$A$2:$AF2350,5,false)","v":"#N/A"},{"$f":"VLOOKUP(A365,'Copy of Export'!$A$2:$AF2350,8,false)","v":"#N/A"}]
[null,{"$f":"VLOOKUP(A366,'Copy of Export'!$A$2:$AF2350,5,false)","v":"#N/A"},{"$f":"VLOOKUP(A366,'Copy of Export'!$A$2:$AF2350,13,false)","v":"#N/A"},{"$f":"VLOOKUP(A366,'Copy of Export'!$A$2:$AF2350,2,false)","v":"#N/A"},{"$f":"VLOOKUP(A366,'Copy of Export'!$A$2:$AF2350,5,false)","v":"#N/A"},{"$f":"VLOOKUP(A366,'Copy of Export'!$A$2:$AF2350,8,false)","v":"#N/A"}]
[null,{"$f":"VLOOKUP(A367,'Copy of Export'!$A$2:$AF2350,5,false)","v":"#N/A"},{"$f":"VLOOKUP(A367,'Copy of Export'!$A$2:$AF2350,13,false)","v":"#N/A"},{"$f":"VLOOKUP(A367,'Copy of Export'!$A$2:$AF2350,2,false)","v":"#N/A"},{"$f":"VLOOKUP(A367,'Copy of Export'!$A$2:$AF2350,5,false)","v":"#N/A"},{"$f":"VLOOKUP(A367,'Copy of Export'!$A$2:$AF2350,8,false)","v":"#N/A"}]
[null,{"$f":"VLOOKUP(A368,'Copy of Export'!$A$2:$AF2350,5,false)","v":"#N/A"},{"$f":"VLOOKUP(A368,'Copy of Export'!$A$2:$AF2350,13,false)","v":"#N/A"},{"$f":"VLOOKUP(A368,'Copy of Export'!$A$2:$AF2350,2,false)","v":"#N/A"},{"$f":"VLOOKUP(A368,'Copy of Export'!$A$2:$AF2350,5,false)","v":"#N/A"},{"$f":"VLOOKUP(A368,'Copy of Export'!$A$2:$AF2350,8,false)","v":"#N/A"}]
[null,{"$f":"VLOOKUP(A369,'Copy of Export'!$A$2:$AF2350,5,false)","v":"#N/A"},{"$f":"VLOOKUP(A369,'Copy of Export'!$A$2:$AF2350,13,false)","v":"#N/A"},{"$f":"VLOOKUP(A369,'Copy of Export'!$A$2:$AF2350,2,false)","v":"#N/A"},{"$f":"VLOOKUP(A369,'Copy of Export'!$A$2:$AF2350,5,false)","v":"#N/A"},{"$f":"VLOOKUP(A369,'Copy of Export'!$A$2:$AF2350,8,false)","v":"#N/A"}]
[null,{"$f":"VLOOKUP(A370,'Copy of Export'!$A$2:$AF2350,5,false)","v":"#N/A"},{"$f":"VLOOKUP(A370,'Copy of Export'!$A$2:$AF2350,13,false)","v":"#N/A"},{"$f":"VLOOKUP(A370,'Copy of Export'!$A$2:$AF2350,2,false)","v":"#N/A"},{"$f":"VLOOKUP(A370,'Copy of Export'!$A$2:$AF2350,5,false)","v":"#N/A"},{"$f":"VLOOKUP(A370,'Copy of Export'!$A$2:$AF2350,8,false)","v":"#N/A"}]
[null,{"$f":"VLOOKUP(A371,'Copy of Export'!$A$2:$AF2350,5,false)","v":"#N/A"},{"$f":"VLOOKUP(A371,'Copy of Export'!$A$2:$AF2350,13,false)","v":"#N/A"},{"$f":"VLOOKUP(A371,'Copy of Export'!$A$2:$AF2350,2,false)","v":"#N/A"},{"$f":"VLOOKUP(A371,'Copy of Export'!$A$2:$AF2350,5,false)","v":"#N/A"},{"$f":"VLOOKUP(A371,'Copy of Export'!$A$2:$AF2350,8,false)","v":"#N/A"}]
[null,{"$f":"VLOOKUP(A372,'Copy of Export'!$A$2:$AF2350,5,false)","v":"#N/A"},{"$f":"VLOOKUP(A372,'Copy of Export'!$A$2:$AF2350,13,false)","v":"#N/A"},{"$f":"VLOOKUP(A372,'Copy of Export'!$A$2:$AF2350,2,false)","v":"#N/A"},{"$f":"VLOOKUP(A372,'Copy of Export'!$A$2:$AF2350,5,false)","v":"#N/A"},{"$f":"VLOOKUP(A372,'Copy of Export'!$A$2:$AF2350,8,false)","v":"#N/A"}]
[null,{"$f":"VLOOKUP(A373,'Copy of Export'!$A$2:$AF2350,5,false)","v":"#N/A"},{"$f":"VLOOKUP(A373,'Copy of Export'!$A$2:$AF2350,13,false)","v":"#N/A"},{"$f":"VLOOKUP(A373,'Copy of Export'!$A$2:$AF2350,2,false)","v":"#N/A"},{"$f":"VLOOKUP(A373,'Copy of Export'!$A$2:$AF2350,5,false)","v":"#N/A"},{"$f":"VLOOKUP(A373,'Copy of Export'!$A$2:$AF2350,8,false)","v":"#N/A"}]
[null,{"$f":"VLOOKUP(A374,'Copy of Export'!$A$2:$AF2350,5,false)","v":"#N/A"},{"$f":"VLOOKUP(A374,'Copy of Export'!$A$2:$AF2350,13,false)","v":"#N/A"},{"$f":"VLOOKUP(A374,'Copy of Export'!$A$2:$AF2350,2,false)","v":"#N/A"},{"$f":"VLOOKUP(A374,'Copy of Export'!$A$2:$AF2350,5,false)","v":"#N/A"},{"$f":"VLOOKUP(A374,'Copy of Export'!$A$2:$AF2350,8,false)","v":"#N/A"}]
[null,{"$f":"VLOOKUP(A375,'Copy of Export'!$A$2:$AF2350,5,false)","v":"#N/A"},{"$f":"VLOOKUP(A375,'Copy of Export'!$A$2:$AF2350,13,false)","v":"#N/A"},{"$f":"VLOOKUP(A375,'Copy of Export'!$A$2:$AF2350,2,false)","v":"#N/A"},{"$f":"VLOOKUP(A375,'Copy of Export'!$A$2:$AF2350,5,false)","v":"#N/A"},{"$f":"VLOOKUP(A375,'Copy of Export'!$A$2:$AF2350,8,false)","v":"#N/A"}]
[null,{"$f":"VLOOKUP(A376,'Copy of Export'!$A$2:$AF2350,5,false)","v":"#N/A"},{"$f":"VLOOKUP(A376,'Copy of Export'!$A$2:$AF2350,13,false)","v":"#N/A"},{"$f":"VLOOKUP(A376,'Copy of Export'!$A$2:$AF2350,2,false)","v":"#N/A"},{"$f":"VLOOKUP(A376,'Copy of Export'!$A$2:$AF2350,5,false)","v":"#N/A"},{"$f":"VLOOKUP(A376,'Copy of Export'!$A$2:$AF2350,8,false)","v":"#N/A"}]
[null,{"$f":"VLOOKUP(A377,'Copy of Export'!$A$2:$AF2350,5,false)","v":"#N/A"},{"$f":"VLOOKUP(A377,'Copy of Export'!$A$2:$AF2350,13,false)","v":"#N/A"},{"$f":"VLOOKUP(A377,'Copy of Export'!$A$2:$AF2350,2,false)","v":"#N/A"},{"$f":"VLOOKUP(A377,'Copy of Export'!$A$2:$AF2350,5,false)","v":"#N/A"},{"$f":"VLOOKUP(A377,'Copy of Export'!$A$2:$AF2350,8,false)","v":"#N/A"}]
[null,{"$f":"VLOOKUP(A378,'Copy of Export'!$A$2:$AF2350,5,false)","v":"#N/A"},{"$f":"VLOOKUP(A378,'Copy of Export'!$A$2:$AF2350,13,false)","v":"#N/A"},{"$f":"VLOOKUP(A378,'Copy of Export'!$A$2:$AF2350,2,false)","v":"#N/A"},{"$f":"VLOOKUP(A378,'Copy of Export'!$A$2:$AF2350,5,false)","v":"#N/A"},{"$f":"VLOOKUP(A378,'Copy of Export'!$A$2:$AF2350,8,false)","v":"#N/A"}]
[null,{"$f":"VLOOKUP(A379,'Copy of Export'!$A$2:$AF2350,5,false)","v":"#N/A"},{"$f":"VLOOKUP(A379,'Copy of Export'!$A$2:$AF2350,13,false)","v":"#N/A"},{"$f":"VLOOKUP(A379,'Copy of Export'!$A$2:$AF2350,2,false)","v":"#N/A"},{"$f":"VLOOKUP(A379,'Copy of Export'!$A$2:$AF2350,5,false)","v":"#N/A"},{"$f":"VLOOKUP(A379,'Copy of Export'!$A$2:$AF2350,8,false)","v":"#N/A"}]
[null,{"$f":"VLOOKUP(A380,'Copy of Export'!$A$2:$AF2350,5,false)","v":"#N/A"},{"$f":"VLOOKUP(A380,'Copy of Export'!$A$2:$AF2350,13,false)","v":"#N/A"},{"$f":"VLOOKUP(A380,'Copy of Export'!$A$2:$AF2350,2,false)","v":"#N/A"},{"$f":"VLOOKUP(A380,'Copy of Export'!$A$2:$AF2350,5,false)","v":"#N/A"},{"$f":"VLOOKUP(A380,'Copy of Export'!$A$2:$AF2350,8,false)","v":"#N/A"}]
[null,{"$f":"VLOOKUP(A381,'Copy of Export'!$A$2:$AF2350,5,false)","v":"#N/A"},{"$f":"VLOOKUP(A381,'Copy of Export'!$A$2:$AF2350,13,false)","v":"#N/A"},{"$f":"VLOOKUP(A381,'Copy of Export'!$A$2:$AF2350,2,false)","v":"#N/A"},{"$f":"VLOOKUP(A381,'Copy of Export'!$A$2:$AF2350,5,false)","v":"#N/A"},{"$f":"VLOOKUP(A381,'Copy of Export'!$A$2:$AF2350,8,false)","v":"#N/A"}]
[null,{"$f":"VLOOKUP(A382,'Copy of Export'!$A$2:$AF2350,5,false)","v":"#N/A"},{"$f":"VLOOKUP(A382,'Copy of Export'!$A$2:$AF2350,13,false)","v":"#N/A"},{"$f":"VLOOKUP(A382,'Copy of Export'!$A$2:$AF2350,2,false)","v":"#N/A"},{"$f":"VLOOKUP(A382,'Copy of Export'!$A$2:$AF2350,5,false)","v":"#N/A"},{"$f":"VLOOKUP(A382,'Copy of Export'!$A$2:$AF2350,8,false)","v":"#N/A"}]
[null,{"$f":"VLOOKUP(A383,'Copy of Export'!$A$2:$AF2350,5,false)","v":"#N/A"},{"$f":"VLOOKUP(A383,'Copy of Export'!$A$2:$AF2350,13,false)","v":"#N/A"},{"$f":"VLOOKUP(A383,'Copy of Export'!$A$2:$AF2350,2,false)","v":"#N/A"},{"$f":"VLOOKUP(A383,'Copy of Export'!$A$2:$AF2350,5,false)","v":"#N/A"},{"$f":"VLOOKUP(A383,'Copy of Export'!$A$2:$AF2350,8,false)","v":"#N/A"}]
[null,{"$f":"VLOOKUP(A384,'Copy of Export'!$A$2:$AF2350,5,false)","v":"#N/A"},{"$f":"VLOOKUP(A384,'Copy of Export'!$A$2:$AF2350,13,false)","v":"#N/A"},{"$f":"VLOOKUP(A384,'Copy of Export'!$A$2:$AF2350,2,false)","v":"#N/A"},{"$f":"VLOOKUP(A384,'Copy of Export'!$A$2:$AF2350,5,false)","v":"#N/A"},{"$f":"VLOOKUP(A384,'Copy of Export'!$A$2:$AF2350,8,false)","v":"#N/A"}]
[null,{"$f":"VLOOKUP(A385,'Copy of Export'!$A$2:$AF2350,5,false)","v":"#N/A"},{"$f":"VLOOKUP(A385,'Copy of Export'!$A$2:$AF2350,13,false)","v":"#N/A"},{"$f":"VLOOKUP(A385,'Copy of Export'!$A$2:$AF2350,2,false)","v":"#N/A"},{"$f":"VLOOKUP(A385,'Copy of Export'!$A$2:$AF2350,5,false)","v":"#N/A"},{"$f":"VLOOKUP(A385,'Copy of Export'!$A$2:$AF2350,8,false)","v":"#N/A"}]
[null,{"$f":"VLOOKUP(A386,'Copy of Export'!$A$2:$AF2350,5,false)","v":"#N/A"},{"$f":"VLOOKUP(A386,'Copy of Export'!$A$2:$AF2350,13,false)","v":"#N/A"},{"$f":"VLOOKUP(A386,'Copy of Export'!$A$2:$AF2350,2,false)","v":"#N/A"},{"$f":"VLOOKUP(A386,'Copy of Export'!$A$2:$AF2350,5,false)","v":"#N/A"},{"$f":"VLOOKUP(A386,'Copy of Export'!$A$2:$AF2350,8,false)","v":"#N/A"}]
[null,{"$f":"VLOOKUP(A387,'Copy of Export'!$A$2:$AF2350,5,false)","v":"#N/A"},{"$f":"VLOOKUP(A387,'Copy of Export'!$A$2:$AF2350,13,false)","v":"#N/A"},{"$f":"VLOOKUP(A387,'Copy of Export'!$A$2:$AF2350,2,false)","v":"#N/A"},{"$f":"VLOOKUP(A387,'Copy of Export'!$A$2:$AF2350,5,false)","v":"#N/A"},{"$f":"VLOOKUP(A387,'Copy of Export'!$A$2:$AF2350,8,false)","v":"#N/A"}]
[null,{"$f":"VLOOKUP(A388,'Copy of Export'!$A$2:$AF2350,5,false)","v":"#N/A"},{"$f":"VLOOKUP(A388,'Copy of Export'!$A$2:$AF2350,13,false)","v":"#N/A"},{"$f":"VLOOKUP(A388,'Copy of Export'!$A$2:$AF2350,2,false)","v":"#N/A"},{"$f":"VLOOKUP(A388,'Copy of Export'!$A$2:$AF2350,5,false)","v":"#N/A"},{"$f":"VLOOKUP(A388,'Copy of Export'!$A$2:$AF2350,8,false)","v":"#N/A"}]
[null,{"$f":"VLOOKUP(A389,'Copy of Export'!$A$2:$AF2350,5,false)","v":"#N/A"},{"$f":"VLOOKUP(A389,'Copy of Export'!$A$2:$AF2350,13,false)","v":"#N/A"},{"$f":"VLOOKUP(A389,'Copy of Export'!$A$2:$AF2350,2,false)","v":"#N/A"},{"$f":"VLOOKUP(A389,'Copy of Export'!$A$2:$AF2350,5,false)","v":"#N/A"},{"$f":"VLOOKUP(A389,'Copy of Export'!$A$2:$AF2350,8,false)","v":"#N/A"}]
[null,{"$f":"VLOOKUP(A390,'Copy of Export'!$A$2:$AF2350,5,false)","v":"#N/A"},{"$f":"VLOOKUP(A390,'Copy of Export'!$A$2:$AF2350,13,false)","v":"#N/A"},{"$f":"VLOOKUP(A390,'Copy of Export'!$A$2:$AF2350,2,false)","v":"#N/A"},{"$f":"VLOOKUP(A390,'Copy of Export'!$A$2:$AF2350,5,false)","v":"#N/A"},{"$f":"VLOOKUP(A390,'Copy of Export'!$A$2:$AF2350,8,false)","v":"#N/A"}]
[null,{"$f":"VLOOKUP(A391,'Copy of Export'!$A$2:$AF2350,5,false)","v":"#N/A"},{"$f":"VLOOKUP(A391,'Copy of Export'!$A$2:$AF2350,13,false)","v":"#N/A"},{"$f":"VLOOKUP(A391,'Copy of Export'!$A$2:$AF2350,2,false)","v":"#N/A"},{"$f":"VLOOKUP(A391,'Copy of Export'!$A$2:$AF2350,5,false)","v":"#N/A"},{"$f":"VLOOKUP(A391,'Copy of Export'!$A$2:$AF2350,8,false)","v":"#N/A"}]
[null,{"$f":"VLOOKUP(A392,'Copy of Export'!$A$2:$AF2350,5,false)","v":"#N/A"},{"$f":"VLOOKUP(A392,'Copy of Export'!$A$2:$AF2350,13,false)","v":"#N/A"},{"$f":"VLOOKUP(A392,'Copy of Export'!$A$2:$AF2350,2,false)","v":"#N/A"},{"$f":"VLOOKUP(A392,'Copy of Export'!$A$2:$AF2350,5,false)","v":"#N/A"},{"$f":"VLOOKUP(A392,'Copy of Export'!$A$2:$AF2350,8,false)","v":"#N/A"}]
[null,{"$f":"VLOOKUP(A393,'Copy of Export'!$A$2:$AF2350,5,false)","v":"#N/A"},{"$f":"VLOOKUP(A393,'Copy of Export'!$A$2:$AF2350,13,false)","v":"#N/A"},{"$f":"VLOOKUP(A393,'Copy of Export'!$A$2:$AF2350,2,false)","v":"#N/A"},{"$f":"VLOOKUP(A393,'Copy of Export'!$A$2:$AF2350,5,false)","v":"#N/A"},{"$f":"VLOOKUP(A393,'Copy of Export'!$A$2:$AF2350,8,false)","v":"#N/A"}]
[null,{"$f":"VLOOKUP(A394,'Copy of Export'!$A$2:$AF2350,5,false)","v":"#N/A"},{"$f":"VLOOKUP(A394,'Copy of Export'!$A$2:$AF2350,13,false)","v":"#N/A"},{"$f":"VLOOKUP(A394,'Copy of Export'!$A$2:$AF2350,2,false)","v":"#N/A"},{"$f":"VLOOKUP(A394,'Copy of Export'!$A$2:$AF2350,5,false)","v":"#N/A"},{"$f":"VLOOKUP(A394,'Copy of Export'!$A$2:$AF2350,8,false)","v":"#N/A"}]
[null,{"$f":"VLOOKUP(A395,'Copy of Export'!$A$2:$AF2350,5,false)","v":"#N/A"},{"$f":"VLOOKUP(A395,'Copy of Export'!$A$2:$AF2350,13,false)","v":"#N/A"},{"$f":"VLOOKUP(A395,'Copy of Export'!$A$2:$AF2350,2,false)","v":"#N/A"},{"$f":"VLOOKUP(A395,'Copy of Export'!$A$2:$AF2350,5,false)","v":"#N/A"},{"$f":"VLOOKUP(A395,'Copy of Export'!$A$2:$AF2350,8,false)","v":"#N/A"}]
[null,{"$f":"VLOOKUP(A396,'Copy of Export'!$A$2:$AF2350,5,false)","v":"#N/A"},{"$f":"VLOOKUP(A396,'Copy of Export'!$A$2:$AF2350,13,false)","v":"#N/A"},{"$f":"VLOOKUP(A396,'Copy of Export'!$A$2:$AF2350,2,false)","v":"#N/A"},{"$f":"VLOOKUP(A396,'Copy of Export'!$A$2:$AF2350,5,false)","v":"#N/A"},{"$f":"VLOOKUP(A396,'Copy of Export'!$A$2:$AF2350,8,false)","v":"#N/A"}]
[null,{"$f":"VLOOKUP(A397,'Copy of Export'!$A$2:$AF2350,5,false)","v":"#N/A"},{"$f":"VLOOKUP(A397,'Copy of Export'!$A$2:$AF2350,13,false)","v":"#N/A"},{"$f":"VLOOKUP(A397,'Copy of Export'!$A$2:$AF2350,2,false)","v":"#N/A"},{"$f":"VLOOKUP(A397,'Copy of Export'!$A$2:$AF2350,5,false)","v":"#N/A"},{"$f":"VLOOKUP(A397,'Copy of Export'!$A$2:$AF2350,8,false)","v":"#N/A"}]
[null,{"$f":"VLOOKUP(A398,'Copy of Export'!$A$2:$AF2350,5,false)","v":"#N/A"},{"$f":"VLOOKUP(A398,'Copy of Export'!$A$2:$AF2350,13,false)","v":"#N/A"},{"$f":"VLOOKUP(A398,'Copy of Export'!$A$2:$AF2350,2,false)","v":"#N/A"},{"$f":"VLOOKUP(A398,'Copy of Export'!$A$2:$AF2350,5,false)","v":"#N/A"},{"$f":"VLOOKUP(A398,'Copy of Export'!$A$2:$AF2350,8,false)","v":"#N/A"}]
[null,{"$f":"VLOOKUP(A399,'Copy of Export'!$A$2:$AF2350,5,false)","v":"#N/A"},{"$f":"VLOOKUP(A399,'Copy of Export'!$A$2:$AF2350,13,false)","v":"#N/A"},{"$f":"VLOOKUP(A399,'Copy of Export'!$A$2:$AF2350,2,false)","v":"#N/A"},{"$f":"VLOOKUP(A399,'Copy of Export'!$A$2:$AF2350,5,false)","v":"#N/A"},{"$f":"VLOOKUP(A399,'Copy of Export'!$A$2:$AF2350,8,false)","v":"#N/A"}]
[null,{"$f":"VLOOKUP(A400,'Copy of Export'!$A$2:$AF2350,5,false)","v":"#N/A"},{"$f":"VLOOKUP(A400,'Copy of Export'!$A$2:$AF2350,13,false)","v":"#N/A"},{"$f":"VLOOKUP(A400,'Copy of Export'!$A$2:$AF2350,2,false)","v":"#N/A"},{"$f":"VLOOKUP(A400,'Copy of Export'!$A$2:$AF2350,5,false)","v":"#N/A"},{"$f":"VLOOKUP(A400,'Copy of Export'!$A$2:$AF2350,8,false)","v":"#N/A"}]
[null,{"$f":"VLOOKUP(A401,'Copy of Export'!$A$2:$AF2350,5,false)","v":"#N/A"},{"$f":"VLOOKUP(A401,'Copy of Export'!$A$2:$AF2350,13,false)","v":"#N/A"},{"$f":"VLOOKUP(A401,'Copy of Export'!$A$2:$AF2350,2,false)","v":"#N/A"},{"$f":"VLOOKUP(A401,'Copy of Export'!$A$2:$AF2350,5,false)","v":"#N/A"},{"$f":"VLOOKUP(A401,'Copy of Export'!$A$2:$AF2350,8,false)","v":"#N/A"}]
[null,{"$f":"VLOOKUP(A402,'Copy of Export'!$A$2:$AF2350,5,false)","v":"#N/A"},{"$f":"VLOOKUP(A402,'Copy of Export'!$A$2:$AF2350,13,false)","v":"#N/A"},{"$f":"VLOOKUP(A402,'Copy of Export'!$A$2:$AF2350,2,false)","v":"#N/A"},{"$f":"VLOOKUP(A402,'Copy of Export'!$A$2:$AF2350,5,false)","v":"#N/A"},{"$f":"VLOOKUP(A402,'Copy of Export'!$A$2:$AF2350,8,false)","v":"#N/A"}]
[null,{"$f":"VLOOKUP(A403,'Copy of Export'!$A$2:$AF2350,5,false)","v":"#N/A"},{"$f":"VLOOKUP(A403,'Copy of Export'!$A$2:$AF2350,13,false)","v":"#N/A"},{"$f":"VLOOKUP(A403,'Copy of Export'!$A$2:$AF2350,2,false)","v":"#N/A"},{"$f":"VLOOKUP(A403,'Copy of Export'!$A$2:$AF2350,5,false)","v":"#N/A"},{"$f":"VLOOKUP(A403,'Copy of Export'!$A$2:$AF2350,8,false)","v":"#N/A"}]
[null,{"$f":"VLOOKUP(A404,'Copy of Export'!$A$2:$AF2350,5,false)","v":"#N/A"},{"$f":"VLOOKUP(A404,'Copy of Export'!$A$2:$AF2350,13,false)","v":"#N/A"},{"$f":"VLOOKUP(A404,'Copy of Export'!$A$2:$AF2350,2,false)","v":"#N/A"},{"$f":"VLOOKUP(A404,'Copy of Export'!$A$2:$AF2350,5,false)","v":"#N/A"},{"$f":"VLOOKUP(A404,'Copy of Export'!$A$2:$AF2350,8,false)","v":"#N/A"}]
[null,{"$f":"VLOOKUP(A405,'Copy of Export'!$A$2:$AF2350,5,false)","v":"#N/A"},{"$f":"VLOOKUP(A405,'Copy of Export'!$A$2:$AF2350,13,false)","v":"#N/A"},{"$f":"VLOOKUP(A405,'Copy of Export'!$A$2:$AF2350,2,false)","v":"#N/A"},{"$f":"VLOOKUP(A405,'Copy of Export'!$A$2:$AF2350,5,false)","v":"#N/A"},{"$f":"VLOOKUP(A405,'Copy of Export'!$A$2:$AF2350,8,false)","v":"#N/A"}]
[null,{"$f":"VLOOKUP(A406,'Copy of Export'!$A$2:$AF2350,5,false)","v":"#N/A"},{"$f":"VLOOKUP(A406,'Copy of Export'!$A$2:$AF2350,13,false)","v":"#N/A"},{"$f":"VLOOKUP(A406,'Copy of Export'!$A$2:$AF2350,2,false)","v":"#N/A"},{"$f":"VLOOKUP(A406,'Copy of Export'!$A$2:$AF2350,5,false)","v":"#N/A"},{"$f":"VLOOKUP(A406,'Copy of Export'!$A$2:$AF2350,8,false)","v":"#N/A"}]
[null,{"$f":"VLOOKUP(A407,'Copy of Export'!$A$2:$AF2350,5,false)","v":"#N/A"},{"$f":"VLOOKUP(A407,'Copy of Export'!$A$2:$AF2350,13,false)","v":"#N/A"},{"$f":"VLOOKUP(A407,'Copy of Export'!$A$2:$AF2350,2,false)","v":"#N/A"},{"$f":"VLOOKUP(A407,'Copy of Export'!$A$2:$AF2350,5,false)","v":"#N/A"},{"$f":"VLOOKUP(A407,'Copy of Export'!$A$2:$AF2350,8,false)","v":"#N/A"}]
[null,{"$f":"VLOOKUP(A408,'Copy of Export'!$A$2:$AF2350,5,false)","v":"#N/A"},{"$f":"VLOOKUP(A408,'Copy of Export'!$A$2:$AF2350,13,false)","v":"#N/A"},{"$f":"VLOOKUP(A408,'Copy of Export'!$A$2:$AF2350,2,false)","v":"#N/A"},{"$f":"VLOOKUP(A408,'Copy of Export'!$A$2:$AF2350,5,false)","v":"#N/A"},{"$f":"VLOOKUP(A408,'Copy of Export'!$A$2:$AF2350,8,false)","v":"#N/A"}]
[null,{"$f":"VLOOKUP(A409,'Copy of Export'!$A$2:$AF2350,5,false)","v":"#N/A"},{"$f":"VLOOKUP(A409,'Copy of Export'!$A$2:$AF2350,13,false)","v":"#N/A"},{"$f":"VLOOKUP(A409,'Copy of Export'!$A$2:$AF2350,2,false)","v":"#N/A"},{"$f":"VLOOKUP(A409,'Copy of Export'!$A$2:$AF2350,5,false)","v":"#N/A"},{"$f":"VLOOKUP(A409,'Copy of Export'!$A$2:$AF2350,8,false)","v":"#N/A"}]
[null,{"$f":"VLOOKUP(A410,'Copy of Export'!$A$2:$AF2350,5,false)","v":"#N/A"},{"$f":"VLOOKUP(A410,'Copy of Export'!$A$2:$AF2350,13,false)","v":"#N/A"},{"$f":"VLOOKUP(A410,'Copy of Export'!$A$2:$AF2350,2,false)","v":"#N/A"},{"$f":"VLOOKUP(A410,'Copy of Export'!$A$2:$AF2350,5,false)","v":"#N/A"},{"$f":"VLOOKUP(A410,'Copy of Export'!$A$2:$AF2350,8,false)","v":"#N/A"}]
[null,{"$f":"VLOOKUP(A411,'Copy of Export'!$A$2:$AF2350,5,false)","v":"#N/A"},{"$f":"VLOOKUP(A411,'Copy of Export'!$A$2:$AF2350,13,false)","v":"#N/A"},{"$f":"VLOOKUP(A411,'Copy of Export'!$A$2:$AF2350,2,false)","v":"#N/A"},{"$f":"VLOOKUP(A411,'Copy of Export'!$A$2:$AF2350,5,false)","v":"#N/A"},{"$f":"VLOOKUP(A411,'Copy of Export'!$A$2:$AF2350,8,false)","v":"#N/A"}]
[null,{"$f":"VLOOKUP(A412,'Copy of Export'!$A$2:$AF2350,5,false)","v":"#N/A"},{"$f":"VLOOKUP(A412,'Copy of Export'!$A$2:$AF2350,13,false)","v":"#N/A"},{"$f":"VLOOKUP(A412,'Copy of Export'!$A$2:$AF2350,2,false)","v":"#N/A"},{"$f":"VLOOKUP(A412,'Copy of Export'!$A$2:$AF2350,5,false)","v":"#N/A"},{"$f":"VLOOKUP(A412,'Copy of Export'!$A$2:$AF2350,8,false)","v":"#N/A"}]
[null,{"$f":"VLOOKUP(A413,'Copy of Export'!$A$2:$AF2350,5,false)","v":"#N/A"},{"$f":"VLOOKUP(A413,'Copy of Export'!$A$2:$AF2350,13,false)","v":"#N/A"},{"$f":"VLOOKUP(A413,'Copy of Export'!$A$2:$AF2350,2,false)","v":"#N/A"},{"$f":"VLOOKUP(A413,'Copy of Export'!$A$2:$AF2350,5,false)","v":"#N/A"},{"$f":"VLOOKUP(A413,'Copy of Export'!$A$2:$AF2350,8,false)","v":"#N/A"}]
[null,{"$f":"VLOOKUP(A414,'Copy of Export'!$A$2:$AF2350,5,false)","v":"#N/A"},{"$f":"VLOOKUP(A414,'Copy of Export'!$A$2:$AF2350,13,false)","v":"#N/A"},{"$f":"VLOOKUP(A414,'Copy of Export'!$A$2:$AF2350,2,false)","v":"#N/A"},{"$f":"VLOOKUP(A414,'Copy of Export'!$A$2:$AF2350,5,false)","v":"#N/A"},{"$f":"VLOOKUP(A414,'Copy of Export'!$A$2:$AF2350,8,false)","v":"#N/A"}]
[null,{"$f":"VLOOKUP(A415,'Copy of Export'!$A$2:$AF2350,5,false)","v":"#N/A"},{"$f":"VLOOKUP(A415,'Copy of Export'!$A$2:$AF2350,13,false)","v":"#N/A"},{"$f":"VLOOKUP(A415,'Copy of Export'!$A$2:$AF2350,2,false)","v":"#N/A"},{"$f":"VLOOKUP(A415,'Copy of Export'!$A$2:$AF2350,5,false)","v":"#N/A"},{"$f":"VLOOKUP(A415,'Copy of Export'!$A$2:$AF2350,8,false)","v":"#N/A"}]
[null,{"$f":"VLOOKUP(A416,'Copy of Export'!$A$2:$AF2350,5,false)","v":"#N/A"},{"$f":"VLOOKUP(A416,'Copy of Export'!$A$2:$AF2350,13,false)","v":"#N/A"},{"$f":"VLOOKUP(A416,'Copy of Export'!$A$2:$AF2350,2,false)","v":"#N/A"},{"$f":"VLOOKUP(A416,'Copy of Export'!$A$2:$AF2350,5,false)","v":"#N/A"},{"$f":"VLOOKUP(A416,'Copy of Export'!$A$2:$AF2350,8,false)","v":"#N/A"}]
[null,{"$f":"VLOOKUP(A417,'Copy of Export'!$A$2:$AF2350,5,false)","v":"#N/A"},{"$f":"VLOOKUP(A417,'Copy of Export'!$A$2:$AF2350,13,false)","v":"#N/A"},{"$f":"VLOOKUP(A417,'Copy of Export'!$A$2:$AF2350,2,false)","v":"#N/A"},{"$f":"VLOOKUP(A417,'Copy of Export'!$A$2:$AF2350,5,false)","v":"#N/A"},{"$f":"VLOOKUP(A417,'Copy of Export'!$A$2:$AF2350,8,false)","v":"#N/A"}]
[null,{"$f":"VLOOKUP(A418,'Copy of Export'!$A$2:$AF2350,5,false)","v":"#N/A"},{"$f":"VLOOKUP(A418,'Copy of Export'!$A$2:$AF2350,13,false)","v":"#N/A"},{"$f":"VLOOKUP(A418,'Copy of Export'!$A$2:$AF2350,2,false)","v":"#N/A"},{"$f":"VLOOKUP(A418,'Copy of Export'!$A$2:$AF2350,5,false)","v":"#N/A"},{"$f":"VLOOKUP(A418,'Copy of Export'!$A$2:$AF2350,8,false)","v":"#N/A"}]
[null,{"$f":"VLOOKUP(A419,'Copy of Export'!$A$2:$AF2350,5,false)","v":"#N/A"},{"$f":"VLOOKUP(A419,'Copy of Export'!$A$2:$AF2350,13,false)","v":"#N/A"},{"$f":"VLOOKUP(A419,'Copy of Export'!$A$2:$AF2350,2,false)","v":"#N/A"},{"$f":"VLOOKUP(A419,'Copy of Export'!$A$2:$AF2350,5,false)","v":"#N/A"},{"$f":"VLOOKUP(A419,'Copy of Export'!$A$2:$AF2350,8,false)","v":"#N/A"}]
[null,{"$f":"VLOOKUP(A420,'Copy of Export'!$A$2:$AF2350,5,false)","v":"#N/A"},{"$f":"VLOOKUP(A420,'Copy of Export'!$A$2:$AF2350,13,false)","v":"#N/A"},{"$f":"VLOOKUP(A420,'Copy of Export'!$A$2:$AF2350,2,false)","v":"#N/A"},{"$f":"VLOOKUP(A420,'Copy of Export'!$A$2:$AF2350,5,false)","v":"#N/A"},{"$f":"VLOOKUP(A420,'Copy of Export'!$A$2:$AF2350,8,false)","v":"#N/A"}]
[null,{"$f":"VLOOKUP(A421,'Copy of Export'!$A$2:$AF2350,5,false)","v":"#N/A"},{"$f":"VLOOKUP(A421,'Copy of Export'!$A$2:$AF2350,13,false)","v":"#N/A"},{"$f":"VLOOKUP(A421,'Copy of Export'!$A$2:$AF2350,2,false)","v":"#N/A"},{"$f":"VLOOKUP(A421,'Copy of Export'!$A$2:$AF2350,5,false)","v":"#N/A"},{"$f":"VLOOKUP(A421,'Copy of Export'!$A$2:$AF2350,8,false)","v":"#N/A"}]
[null,{"$f":"VLOOKUP(A422,'Copy of Export'!$A$2:$AF2350,5,false)","v":"#N/A"},{"$f":"VLOOKUP(A422,'Copy of Export'!$A$2:$AF2350,13,false)","v":"#N/A"},{"$f":"VLOOKUP(A422,'Copy of Export'!$A$2:$AF2350,2,false)","v":"#N/A"},{"$f":"VLOOKUP(A422,'Copy of Export'!$A$2:$AF2350,5,false)","v":"#N/A"},{"$f":"VLOOKUP(A422,'Copy of Export'!$A$2:$AF2350,8,false)","v":"#N/A"}]
[null,{"$f":"VLOOKUP(A423,'Copy of Export'!$A$2:$AF2350,5,false)","v":"#N/A"},{"$f":"VLOOKUP(A423,'Copy of Export'!$A$2:$AF2350,13,false)","v":"#N/A"},{"$f":"VLOOKUP(A423,'Copy of Export'!$A$2:$AF2350,2,false)","v":"#N/A"},{"$f":"VLOOKUP(A423,'Copy of Export'!$A$2:$AF2350,5,false)","v":"#N/A"},{"$f":"VLOOKUP(A423,'Copy of Export'!$A$2:$AF2350,8,false)","v":"#N/A"}]
[null,{"$f":"VLOOKUP(A424,'Copy of Export'!$A$2:$AF2350,5,false)","v":"#N/A"},{"$f":"VLOOKUP(A424,'Copy of Export'!$A$2:$AF2350,13,false)","v":"#N/A"},{"$f":"VLOOKUP(A424,'Copy of Export'!$A$2:$AF2350,2,false)","v":"#N/A"},{"$f":"VLOOKUP(A424,'Copy of Export'!$A$2:$AF2350,5,false)","v":"#N/A"},{"$f":"VLOOKUP(A424,'Copy of Export'!$A$2:$AF2350,8,false)","v":"#N/A"}]
[null,{"$f":"VLOOKUP(A425,'Copy of Export'!$A$2:$AF2350,5,false)","v":"#N/A"},{"$f":"VLOOKUP(A425,'Copy of Export'!$A$2:$AF2350,13,false)","v":"#N/A"},{"$f":"VLOOKUP(A425,'Copy of Export'!$A$2:$AF2350,2,false)","v":"#N/A"},{"$f":"VLOOKUP(A425,'Copy of Export'!$A$2:$AF2350,5,false)","v":"#N/A"},{"$f":"VLOOKUP(A425,'Copy of Export'!$A$2:$AF2350,8,false)","v":"#N/A"}]
[null,{"$f":"VLOOKUP(A426,'Copy of Export'!$A$2:$AF2350,5,false)","v":"#N/A"},{"$f":"VLOOKUP(A426,'Copy of Export'!$A$2:$AF2350,13,false)","v":"#N/A"},{"$f":"VLOOKUP(A426,'Copy of Export'!$A$2:$AF2350,2,false)","v":"#N/A"},{"$f":"VLOOKUP(A426,'Copy of Export'!$A$2:$AF2350,5,false)","v":"#N/A"},{"$f":"VLOOKUP(A426,'Copy of Export'!$A$2:$AF2350,8,false)","v":"#N/A"}]
[null,{"$f":"VLOOKUP(A427,'Copy of Export'!$A$2:$AF2350,5,false)","v":"#N/A"},{"$f":"VLOOKUP(A427,'Copy of Export'!$A$2:$AF2350,13,false)","v":"#N/A"},{"$f":"VLOOKUP(A427,'Copy of Export'!$A$2:$AF2350,2,false)","v":"#N/A"},{"$f":"VLOOKUP(A427,'Copy of Export'!$A$2:$AF2350,5,false)","v":"#N/A"},{"$f":"VLOOKUP(A427,'Copy of Export'!$A$2:$AF2350,8,false)","v":"#N/A"}]
[null,{"$f":"VLOOKUP(A428,'Copy of Export'!$A$2:$AF2350,5,false)","v":"#N/A"},{"$f":"VLOOKUP(A428,'Copy of Export'!$A$2:$AF2350,13,false)","v":"#N/A"},{"$f":"VLOOKUP(A428,'Copy of Export'!$A$2:$AF2350,2,false)","v":"#N/A"},{"$f":"VLOOKUP(A428,'Copy of Export'!$A$2:$AF2350,5,false)","v":"#N/A"},{"$f":"VLOOKUP(A428,'Copy of Export'!$A$2:$AF2350,8,false)","v":"#N/A"}]
[null,{"$f":"VLOOKUP(A429,'Copy of Export'!$A$2:$AF2350,5,false)","v":"#N/A"},{"$f":"VLOOKUP(A429,'Copy of Export'!$A$2:$AF2350,13,false)","v":"#N/A"},{"$f":"VLOOKUP(A429,'Copy of Export'!$A$2:$AF2350,2,false)","v":"#N/A"},{"$f":"VLOOKUP(A429,'Copy of Export'!$A$2:$AF2350,5,false)","v":"#N/A"},{"$f":"VLOOKUP(A429,'Copy of Export'!$A$2:$AF2350,8,false)","v":"#N/A"}]
[null,{"$f":"VLOOKUP(A430,'Copy of Export'!$A$2:$AF2350,5,false)","v":"#N/A"},{"$f":"VLOOKUP(A430,'Copy of Export'!$A$2:$AF2350,13,false)","v":"#N/A"},{"$f":"VLOOKUP(A430,'Copy of Export'!$A$2:$AF2350,2,false)","v":"#N/A"},{"$f":"VLOOKUP(A430,'Copy of Export'!$A$2:$AF2350,5,false)","v":"#N/A"},{"$f":"VLOOKUP(A430,'Copy of Export'!$A$2:$AF2350,8,false)","v":"#N/A"}]
[null,{"$f":"VLOOKUP(A431,'Copy of Export'!$A$2:$AF2350,5,false)","v":"#N/A"},{"$f":"VLOOKUP(A431,'Copy of Export'!$A$2:$AF2350,13,false)","v":"#N/A"},{"$f":"VLOOKUP(A431,'Copy of Export'!$A$2:$AF2350,2,false)","v":"#N/A"},{"$f":"VLOOKUP(A431,'Copy of Export'!$A$2:$AF2350,5,false)","v":"#N/A"},{"$f":"VLOOKUP(A431,'Copy of Export'!$A$2:$AF2350,8,false)","v":"#N/A"}]
[null,{"$f":"VLOOKUP(A432,'Copy of Export'!$A$2:$AF2350,5,false)","v":"#N/A"},{"$f":"VLOOKUP(A432,'Copy of Export'!$A$2:$AF2350,13,false)","v":"#N/A"},{"$f":"VLOOKUP(A432,'Copy of Export'!$A$2:$AF2350,2,false)","v":"#N/A"},{"$f":"VLOOKUP(A432,'Copy of Export'!$A$2:$AF2350,5,false)","v":"#N/A"},{"$f":"VLOOKUP(A432,'Copy of Export'!$A$2:$AF2350,8,false)","v":"#N/A"}]
[null,{"$f":"VLOOKUP(A433,'Copy of Export'!$A$2:$AF2350,5,false)","v":"#N/A"},{"$f":"VLOOKUP(A433,'Copy of Export'!$A$2:$AF2350,13,false)","v":"#N/A"},{"$f":"VLOOKUP(A433,'Copy of Export'!$A$2:$AF2350,2,false)","v":"#N/A"},{"$f":"VLOOKUP(A433,'Copy of Export'!$A$2:$AF2350,5,false)","v":"#N/A"},{"$f":"VLOOKUP(A433,'Copy of Export'!$A$2:$AF2350,8,false)","v":"#N/A"}]
[null,{"$f":"VLOOKUP(A434,'Copy of Export'!$A$2:$AF2350,5,false)","v":"#N/A"},{"$f":"VLOOKUP(A434,'Copy of Export'!$A$2:$AF2350,13,false)","v":"#N/A"},{"$f":"VLOOKUP(A434,'Copy of Export'!$A$2:$AF2350,2,false)","v":"#N/A"},{"$f":"VLOOKUP(A434,'Copy of Export'!$A$2:$AF2350,5,false)","v":"#N/A"},{"$f":"VLOOKUP(A434,'Copy of Export'!$A$2:$AF2350,8,false)","v":"#N/A"}]
[null,{"$f":"VLOOKUP(A435,'Copy of Export'!$A$2:$AF2350,5,false)","v":"#N/A"},{"$f":"VLOOKUP(A435,'Copy of Export'!$A$2:$AF2350,13,false)","v":"#N/A"},{"$f":"VLOOKUP(A435,'Copy of Export'!$A$2:$AF2350,2,false)","v":"#N/A"},{"$f":"VLOOKUP(A435,'Copy of Export'!$A$2:$AF2350,5,false)","v":"#N/A"},{"$f":"VLOOKUP(A435,'Copy of Export'!$A$2:$AF2350,8,false)","v":"#N/A"}]
[null,{"$f":"VLOOKUP(A436,'Copy of Export'!$A$2:$AF2350,5,false)","v":"#N/A"},{"$f":"VLOOKUP(A436,'Copy of Export'!$A$2:$AF2350,13,false)","v":"#N/A"},{"$f":"VLOOKUP(A436,'Copy of Export'!$A$2:$AF2350,2,false)","v":"#N/A"},{"$f":"VLOOKUP(A436,'Copy of Export'!$A$2:$AF2350,5,false)","v":"#N/A"},{"$f":"VLOOKUP(A436,'Copy of Export'!$A$2:$AF2350,8,false)","v":"#N/A"}]
[null,{"$f":"VLOOKUP(A437,'Copy of Export'!$A$2:$AF2350,5,false)","v":"#N/A"},{"$f":"VLOOKUP(A437,'Copy of Export'!$A$2:$AF2350,13,false)","v":"#N/A"},{"$f":"VLOOKUP(A437,'Copy of Export'!$A$2:$AF2350,2,false)","v":"#N/A"},{"$f":"VLOOKUP(A437,'Copy of Export'!$A$2:$AF2350,5,false)","v":"#N/A"},{"$f":"VLOOKUP(A437,'Copy of Export'!$A$2:$AF2350,8,false)","v":"#N/A"}]
[null,{"$f":"VLOOKUP(A438,'Copy of Export'!$A$2:$AF2350,5,false)","v":"#N/A"},{"$f":"VLOOKUP(A438,'Copy of Export'!$A$2:$AF2350,13,false)","v":"#N/A"},{"$f":"VLOOKUP(A438,'Copy of Export'!$A$2:$AF2350,2,false)","v":"#N/A"},{"$f":"VLOOKUP(A438,'Copy of Export'!$A$2:$AF2350,5,false)","v":"#N/A"},{"$f":"VLOOKUP(A438,'Copy of Export'!$A$2:$AF2350,8,false)","v":"#N/A"}]
[null,{"$f":"VLOOKUP(A439,'Copy of Export'!$A$2:$AF2350,5,false)","v":"#N/A"},{"$f":"VLOOKUP(A439,'Copy of Export'!$A$2:$AF2350,13,false)","v":"#N/A"},{"$f":"VLOOKUP(A439,'Copy of Export'!$A$2:$AF2350,2,false)","v":"#N/A"},{"$f":"VLOOKUP(A439,'Copy of Export'!$A$2:$AF2350,5,false)","v":"#N/A"},{"$f":"VLOOKUP(A439,'Copy of Export'!$A$2:$AF2350,8,false)","v":"#N/A"}]
[null,{"$f":"VLOOKUP(A440,'Copy of Export'!$A$2:$AF2350,5,false)","v":"#N/A"},{"$f":"VLOOKUP(A440,'Copy of Export'!$A$2:$AF2350,13,false)","v":"#N/A"},{"$f":"VLOOKUP(A440,'Copy of Export'!$A$2:$AF2350,2,false)","v":"#N/A"},{"$f":"VLOOKUP(A440,'Copy of Export'!$A$2:$AF2350,5,false)","v":"#N/A"},{"$f":"VLOOKUP(A440,'Copy of Export'!$A$2:$AF2350,8,false)","v":"#N/A"}]
[null,{"$f":"VLOOKUP(A441,'Copy of Export'!$A$2:$AF2350,5,false)","v":"#N/A"},{"$f":"VLOOKUP(A441,'Copy of Export'!$A$2:$AF2350,13,false)","v":"#N/A"},{"$f":"VLOOKUP(A441,'Copy of Export'!$A$2:$AF2350,2,false)","v":"#N/A"},{"$f":"VLOOKUP(A441,'Copy of Export'!$A$2:$AF2350,5,false)","v":"#N/A"},{"$f":"VLOOKUP(A441,'Copy of Export'!$A$2:$AF2350,8,false)","v":"#N/A"}]
[null,{"$f":"VLOOKUP(A442,'Copy of Export'!$A$2:$AF2350,5,false)","v":"#N/A"},{"$f":"VLOOKUP(A442,'Copy of Export'!$A$2:$AF2350,13,false)","v":"#N/A"},{"$f":"VLOOKUP(A442,'Copy of Export'!$A$2:$AF2350,2,false)","v":"#N/A"},{"$f":"VLOOKUP(A442,'Copy of Export'!$A$2:$AF2350,5,false)","v":"#N/A"},{"$f":"VLOOKUP(A442,'Copy of Export'!$A$2:$AF2350,8,false)","v":"#N/A"}]
[null,{"$f":"VLOOKUP(A443,'Copy of Export'!$A$2:$AF2350,5,false)","v":"#N/A"},{"$f":"VLOOKUP(A443,'Copy of Export'!$A$2:$AF2350,13,false)","v":"#N/A"},{"$f":"VLOOKUP(A443,'Copy of Export'!$A$2:$AF2350,2,false)","v":"#N/A"},{"$f":"VLOOKUP(A443,'Copy of Export'!$A$2:$AF2350,5,false)","v":"#N/A"},{"$f":"VLOOKUP(A443,'Copy of Export'!$A$2:$AF2350,8,false)","v":"#N/A"}]
[null,{"$f":"VLOOKUP(A444,'Copy of Export'!$A$2:$AF2350,5,false)","v":"#N/A"},{"$f":"VLOOKUP(A444,'Copy of Export'!$A$2:$AF2350,13,false)","v":"#N/A"},{"$f":"VLOOKUP(A444,'Copy of Export'!$A$2:$AF2350,2,false)","v":"#N/A"},{"$f":"VLOOKUP(A444,'Copy of Export'!$A$2:$AF2350,5,false)","v":"#N/A"},{"$f":"VLOOKUP(A444,'Copy of Export'!$A$2:$AF2350,8,false)","v":"#N/A"}]
[null,{"$f":"VLOOKUP(A445,'Copy of Export'!$A$2:$AF2350,5,false)","v":"#N/A"},{"$f":"VLOOKUP(A445,'Copy of Export'!$A$2:$AF2350,13,false)","v":"#N/A"},{"$f":"VLOOKUP(A445,'Copy of Export'!$A$2:$AF2350,2,false)","v":"#N/A"},{"$f":"VLOOKUP(A445,'Copy of Export'!$A$2:$AF2350,5,false)","v":"#N/A"},{"$f":"VLOOKUP(A445,'Copy of Export'!$A$2:$AF2350,8,false)","v":"#N/A"}]
[null,{"$f":"VLOOKUP(A446,'Copy of Export'!$A$2:$AF2350,5,false)","v":"#N/A"},{"$f":"VLOOKUP(A446,'Copy of Export'!$A$2:$AF2350,13,false)","v":"#N/A"},{"$f":"VLOOKUP(A446,'Copy of Export'!$A$2:$AF2350,2,false)","v":"#N/A"},{"$f":"VLOOKUP(A446,'Copy of Export'!$A$2:$AF2350,5,false)","v":"#N/A"},{"$f":"VLOOKUP(A446,'Copy of Export'!$A$2:$AF2350,8,false)","v":"#N/A"}]
[null,{"$f":"VLOOKUP(A447,'Copy of Export'!$A$2:$AF2350,5,false)","v":"#N/A"},{"$f":"VLOOKUP(A447,'Copy of Export'!$A$2:$AF2350,13,false)","v":"#N/A"},{"$f":"VLOOKUP(A447,'Copy of Export'!$A$2:$AF2350,2,false)","v":"#N/A"},{"$f":"VLOOKUP(A447,'Copy of Export'!$A$2:$AF2350,5,false)","v":"#N/A"},{"$f":"VLOOKUP(A447,'Copy of Export'!$A$2:$AF2350,8,false)","v":"#N/A"}]
[null,{"$f":"VLOOKUP(A448,'Copy of Export'!$A$2:$AF2350,5,false)","v":"#N/A"},{"$f":"VLOOKUP(A448,'Copy of Export'!$A$2:$AF2350,13,false)","v":"#N/A"},{"$f":"VLOOKUP(A448,'Copy of Export'!$A$2:$AF2350,2,false)","v":"#N/A"},{"$f":"VLOOKUP(A448,'Copy of Export'!$A$2:$AF2350,5,false)","v":"#N/A"},{"$f":"VLOOKUP(A448,'Copy of Export'!$A$2:$AF2350,8,false)","v":"#N/A"}]
[null,{"$f":"VLOOKUP(A449,'Copy of Export'!$A$2:$AF2350,5,false)","v":"#N/A"},{"$f":"VLOOKUP(A449,'Copy of Export'!$A$2:$AF2350,13,false)","v":"#N/A"},{"$f":"VLOOKUP(A449,'Copy of Export'!$A$2:$AF2350,2,false)","v":"#N/A"},{"$f":"VLOOKUP(A449,'Copy of Export'!$A$2:$AF2350,5,false)","v":"#N/A"},{"$f":"VLOOKUP(A449,'Copy of Export'!$A$2:$AF2350,8,false)","v":"#N/A"}]
[null,{"$f":"VLOOKUP(A450,'Copy of Export'!$A$2:$AF2350,5,false)","v":"#N/A"},{"$f":"VLOOKUP(A450,'Copy of Export'!$A$2:$AF2350,13,false)","v":"#N/A"},{"$f":"VLOOKUP(A450,'Copy of Export'!$A$2:$AF2350,2,false)","v":"#N/A"},{"$f":"VLOOKUP(A450,'Copy of Export'!$A$2:$AF2350,5,false)","v":"#N/A"},{"$f":"VLOOKUP(A450,'Copy of Export'!$A$2:$AF2350,8,false)","v":"#N/A"}]
[null,{"$f":"VLOOKUP(A451,'Copy of Export'!$A$2:$AF2350,5,false)","v":"#N/A"},{"$f":"VLOOKUP(A451,'Copy of Export'!$A$2:$AF2350,13,false)","v":"#N/A"},{"$f":"VLOOKUP(A451,'Copy of Export'!$A$2:$AF2350,2,false)","v":"#N/A"},{"$f":"VLOOKUP(A451,'Copy of Export'!$A$2:$AF2350,5,false)","v":"#N/A"},{"$f":"VLOOKUP(A451,'Copy of Export'!$A$2:$AF2350,8,false)","v":"#N/A"}]
[null,{"$f":"VLOOKUP(A452,'Copy of Export'!$A$2:$AF2350,5,false)","v":"#N/A"},{"$f":"VLOOKUP(A452,'Copy of Export'!$A$2:$AF2350,13,false)","v":"#N/A"},{"$f":"VLOOKUP(A452,'Copy of Export'!$A$2:$AF2350,2,false)","v":"#N/A"},{"$f":"VLOOKUP(A452,'Copy of Export'!$A$2:$AF2350,5,false)","v":"#N/A"},{"$f":"VLOOKUP(A452,'Copy of Export'!$A$2:$AF2350,8,false)","v":"#N/A"}]
[null,{"$f":"VLOOKUP(A453,'Copy of Export'!$A$2:$AF2350,5,false)","v":"#N/A"},{"$f":"VLOOKUP(A453,'Copy of Export'!$A$2:$AF2350,13,false)","v":"#N/A"},{"$f":"VLOOKUP(A453,'Copy of Export'!$A$2:$AF2350,2,false)","v":"#N/A"},{"$f":"VLOOKUP(A453,'Copy of Export'!$A$2:$AF2350,5,false)","v":"#N/A"},{"$f":"VLOOKUP(A453,'Copy of Export'!$A$2:$AF2350,8,false)","v":"#N/A"}]
[null,{"$f":"VLOOKUP(A454,'Copy of Export'!$A$2:$AF2350,5,false)","v":"#N/A"},{"$f":"VLOOKUP(A454,'Copy of Export'!$A$2:$AF2350,13,false)","v":"#N/A"},{"$f":"VLOOKUP(A454,'Copy of Export'!$A$2:$AF2350,2,false)","v":"#N/A"},{"$f":"VLOOKUP(A454,'Copy of Export'!$A$2:$AF2350,5,false)","v":"#N/A"},{"$f":"VLOOKUP(A454,'Copy of Export'!$A$2:$AF2350,8,false)","v":"#N/A"}]
[null,{"$f":"VLOOKUP(A455,'Copy of Export'!$A$2:$AF2350,5,false)","v":"#N/A"},{"$f":"VLOOKUP(A455,'Copy of Export'!$A$2:$AF2350,13,false)","v":"#N/A"},{"$f":"VLOOKUP(A455,'Copy of Export'!$A$2:$AF2350,2,false)","v":"#N/A"},{"$f":"VLOOKUP(A455,'Copy of Export'!$A$2:$AF2350,5,false)","v":"#N/A"},{"$f":"VLOOKUP(A455,'Copy of Export'!$A$2:$AF2350,8,false)","v":"#N/A"}]
[null,{"$f":"VLOOKUP(A456,'Copy of Export'!$A$2:$AF2350,5,false)","v":"#N/A"},{"$f":"VLOOKUP(A456,'Copy of Export'!$A$2:$AF2350,13,false)","v":"#N/A"},{"$f":"VLOOKUP(A456,'Copy of Export'!$A$2:$AF2350,2,false)","v":"#N/A"},{"$f":"VLOOKUP(A456,'Copy of Export'!$A$2:$AF2350,5,false)","v":"#N/A"},{"$f":"VLOOKUP(A456,'Copy of Export'!$A$2:$AF2350,8,false)","v":"#N/A"}]
[null,{"$f":"VLOOKUP(A457,'Copy of Export'!$A$2:$AF2350,5,false)","v":"#N/A"},{"$f":"VLOOKUP(A457,'Copy of Export'!$A$2:$AF2350,13,false)","v":"#N/A"},{"$f":"VLOOKUP(A457,'Copy of Export'!$A$2:$AF2350,2,false)","v":"#N/A"},{"$f":"VLOOKUP(A457,'Copy of Export'!$A$2:$AF2350,5,false)","v":"#N/A"},{"$f":"VLOOKUP(A457,'Copy of Export'!$A$2:$AF2350,8,false)","v":"#N/A"}]
[null,{"$f":"VLOOKUP(A458,'Copy of Export'!$A$2:$AF2350,5,false)","v":"#N/A"},{"$f":"VLOOKUP(A458,'Copy of Export'!$A$2:$AF2350,13,false)","v":"#N/A"},{"$f":"VLOOKUP(A458,'Copy of Export'!$A$2:$AF2350,2,false)","v":"#N/A"},{"$f":"VLOOKUP(A458,'Copy of Export'!$A$2:$AF2350,5,false)","v":"#N/A"},{"$f":"VLOOKUP(A458,'Copy of Export'!$A$2:$AF2350,8,false)","v":"#N/A"}]
[null,{"$f":"VLOOKUP(A459,'Copy of Export'!$A$2:$AF2350,5,false)","v":"#N/A"},{"$f":"VLOOKUP(A459,'Copy of Export'!$A$2:$AF2350,13,false)","v":"#N/A"},{"$f":"VLOOKUP(A459,'Copy of Export'!$A$2:$AF2350,2,false)","v":"#N/A"},{"$f":"VLOOKUP(A459,'Copy of Export'!$A$2:$AF2350,5,false)","v":"#N/A"},{"$f":"VLOOKUP(A459,'Copy of Export'!$A$2:$AF2350,8,false)","v":"#N/A"}]
[null,{"$f":"VLOOKUP(A460,'Copy of Export'!$A$2:$AF2350,5,false)","v":"#N/A"},{"$f":"VLOOKUP(A460,'Copy of Export'!$A$2:$AF2350,13,false)","v":"#N/A"},{"$f":"VLOOKUP(A460,'Copy of Export'!$A$2:$AF2350,2,false)","v":"#N/A"},{"$f":"VLOOKUP(A460,'Copy of Export'!$A$2:$AF2350,5,false)","v":"#N/A"},{"$f":"VLOOKUP(A460,'Copy of Export'!$A$2:$AF2350,8,false)","v":"#N/A"}]
[null,{"$f":"VLOOKUP(A461,'Copy of Export'!$A$2:$AF2350,5,false)","v":"#N/A"},{"$f":"VLOOKUP(A461,'Copy of Export'!$A$2:$AF2350,13,false)","v":"#N/A"},{"$f":"VLOOKUP(A461,'Copy of Export'!$A$2:$AF2350,2,false)","v":"#N/A"},{"$f":"VLOOKUP(A461,'Copy of Export'!$A$2:$AF2350,5,false)","v":"#N/A"},{"$f":"VLOOKUP(A461,'Copy of Export'!$A$2:$AF2350,8,false)","v":"#N/A"}]
[null,{"$f":"VLOOKUP(A462,'Copy of Export'!$A$2:$AF2350,5,false)","v":"#N/A"},{"$f":"VLOOKUP(A462,'Copy of Export'!$A$2:$AF2350,13,false)","v":"#N/A"},{"$f":"VLOOKUP(A462,'Copy of Export'!$A$2:$AF2350,2,false)","v":"#N/A"},{"$f":"VLOOKUP(A462,'Copy of Export'!$A$2:$AF2350,5,false)","v":"#N/A"},{"$f":"VLOOKUP(A462,'Copy of Export'!$A$2:$AF2350,8,false)","v":"#N/A"}]
[null,{"$f":"VLOOKUP(A463,'Copy of Export'!$A$2:$AF2350,5,false)","v":"#N/A"},{"$f":"VLOOKUP(A463,'Copy of Export'!$A$2:$AF2350,13,false)","v":"#N/A"},{"$f":"VLOOKUP(A463,'Copy of Export'!$A$2:$AF2350,2,false)","v":"#N/A"},{"$f":"VLOOKUP(A463,'Copy of Export'!$A$2:$AF2350,5,false)","v":"#N/A"},{"$f":"VLOOKUP(A463,'Copy of Export'!$A$2:$AF2350,8,false)","v":"#N/A"}]
[null,{"$f":"VLOOKUP(A464,'Copy of Export'!$A$2:$AF2350,5,false)","v":"#N/A"},{"$f":"VLOOKUP(A464,'Copy of Export'!$A$2:$AF2350,13,false)","v":"#N/A"},{"$f":"VLOOKUP(A464,'Copy of Export'!$A$2:$AF2350,2,false)","v":"#N/A"},{"$f":"VLOOKUP(A464,'Copy of Export'!$A$2:$AF2350,5,false)","v":"#N/A"},{"$f":"VLOOKUP(A464,'Copy of Export'!$A$2:$AF2350,8,false)","v":"#N/A"}]
[null,{"$f":"VLOOKUP(A465,'Copy of Export'!$A$2:$AF2350,5,false)","v":"#N/A"},{"$f":"VLOOKUP(A465,'Copy of Export'!$A$2:$AF2350,13,false)","v":"#N/A"},{"$f":"VLOOKUP(A465,'Copy of Export'!$A$2:$AF2350,2,false)","v":"#N/A"},{"$f":"VLOOKUP(A465,'Copy of Export'!$A$2:$AF2350,5,false)","v":"#N/A"},{"$f":"VLOOKUP(A465,'Copy of Export'!$A$2:$AF2350,8,false)","v":"#N/A"}]
[null,{"$f":"VLOOKUP(A466,'Copy of Export'!$A$2:$AF2350,5,false)","v":"#N/A"},{"$f":"VLOOKUP(A466,'Copy of Export'!$A$2:$AF2350,13,false)","v":"#N/A"},{"$f":"VLOOKUP(A466,'Copy of Export'!$A$2:$AF2350,2,false)","v":"#N/A"},{"$f":"VLOOKUP(A466,'Copy of Export'!$A$2:$AF2350,5,false)","v":"#N/A"},{"$f":"VLOOKUP(A466,'Copy of Export'!$A$2:$AF2350,8,false)","v":"#N/A"}]
[null,{"$f":"VLOOKUP(A467,'Copy of Export'!$A$2:$AF2350,5,false)","v":"#N/A"},{"$f":"VLOOKUP(A467,'Copy of Export'!$A$2:$AF2350,13,false)","v":"#N/A"},{"$f":"VLOOKUP(A467,'Copy of Export'!$A$2:$AF2350,2,false)","v":"#N/A"},{"$f":"VLOOKUP(A467,'Copy of Export'!$A$2:$AF2350,5,false)","v":"#N/A"},{"$f":"VLOOKUP(A467,'Copy of Export'!$A$2:$AF2350,8,false)","v":"#N/A"}]
[null,{"$f":"VLOOKUP(A468,'Copy of Export'!$A$2:$AF2350,5,false)","v":"#N/A"},{"$f":"VLOOKUP(A468,'Copy of Export'!$A$2:$AF2350,13,false)","v":"#N/A"},{"$f":"VLOOKUP(A468,'Copy of Export'!$A$2:$AF2350,2,false)","v":"#N/A"},{"$f":"VLOOKUP(A468,'Copy of Export'!$A$2:$AF2350,5,false)","v":"#N/A"},{"$f":"VLOOKUP(A468,'Copy of Export'!$A$2:$AF2350,8,false)","v":"#N/A"}]
[null,{"$f":"VLOOKUP(A469,'Copy of Export'!$A$2:$AF2350,5,false)","v":"#N/A"},{"$f":"VLOOKUP(A469,'Copy of Export'!$A$2:$AF2350,13,false)","v":"#N/A"},{"$f":"VLOOKUP(A469,'Copy of Export'!$A$2:$AF2350,2,false)","v":"#N/A"},{"$f":"VLOOKUP(A469,'Copy of Export'!$A$2:$AF2350,5,false)","v":"#N/A"},{"$f":"VLOOKUP(A469,'Copy of Export'!$A$2:$AF2350,8,false)","v":"#N/A"}]
[null,{"$f":"VLOOKUP(A470,'Copy of Export'!$A$2:$AF2350,5,false)","v":"#N/A"},{"$f":"VLOOKUP(A470,'Copy of Export'!$A$2:$AF2350,13,false)","v":"#N/A"},{"$f":"VLOOKUP(A470,'Copy of Export'!$A$2:$AF2350,2,false)","v":"#N/A"},{"$f":"VLOOKUP(A470,'Copy of Export'!$A$2:$AF2350,5,false)","v":"#N/A"},{"$f":"VLOOKUP(A470,'Copy of Export'!$A$2:$AF2350,8,false)","v":"#N/A"}]
[null,{"$f":"VLOOKUP(A471,'Copy of Export'!$A$2:$AF2350,5,false)","v":"#N/A"},{"$f":"VLOOKUP(A471,'Copy of Export'!$A$2:$AF2350,13,false)","v":"#N/A"},{"$f":"VLOOKUP(A471,'Copy of Export'!$A$2:$AF2350,2,false)","v":"#N/A"},{"$f":"VLOOKUP(A471,'Copy of Export'!$A$2:$AF2350,5,false)","v":"#N/A"},{"$f":"VLOOKUP(A471,'Copy of Export'!$A$2:$AF2350,8,false)","v":"#N/A"}]
[null,{"$f":"VLOOKUP(A472,'Copy of Export'!$A$2:$AF2350,5,false)","v":"#N/A"},{"$f":"VLOOKUP(A472,'Copy of Export'!$A$2:$AF2350,13,false)","v":"#N/A"},{"$f":"VLOOKUP(A472,'Copy of Export'!$A$2:$AF2350,2,false)","v":"#N/A"},{"$f":"VLOOKUP(A472,'Copy of Export'!$A$2:$AF2350,5,false)","v":"#N/A"},{"$f":"VLOOKUP(A472,'Copy of Export'!$A$2:$AF2350,8,false)","v":"#N/A"}]
[null,{"$f":"VLOOKUP(A473,'Copy of Export'!$A$2:$AF2350,5,false)","v":"#N/A"},{"$f":"VLOOKUP(A473,'Copy of Export'!$A$2:$AF2350,13,false)","v":"#N/A"},{"$f":"VLOOKUP(A473,'Copy of Export'!$A$2:$AF2350,2,false)","v":"#N/A"},{"$f":"VLOOKUP(A473,'Copy of Export'!$A$2:$AF2350,5,false)","v":"#N/A"},{"$f":"VLOOKUP(A473,'Copy of Export'!$A$2:$AF2350,8,false)","v":"#N/A"}]
[null,{"$f":"VLOOKUP(A474,'Copy of Export'!$A$2:$AF2350,5,false)","v":"#N/A"},{"$f":"VLOOKUP(A474,'Copy of Export'!$A$2:$AF2350,13,false)","v":"#N/A"},{"$f":"VLOOKUP(A474,'Copy of Export'!$A$2:$AF2350,2,false)","v":"#N/A"},{"$f":"VLOOKUP(A474,'Copy of Export'!$A$2:$AF2350,5,false)","v":"#N/A"},{"$f":"VLOOKUP(A474,'Copy of Export'!$A$2:$AF2350,8,false)","v":"#N/A"}]
[null,{"$f":"VLOOKUP(A475,'Copy of Export'!$A$2:$AF2350,5,false)","v":"#N/A"},{"$f":"VLOOKUP(A475,'Copy of Export'!$A$2:$AF2350,13,false)","v":"#N/A"},{"$f":"VLOOKUP(A475,'Copy of Export'!$A$2:$AF2350,2,false)","v":"#N/A"},{"$f":"VLOOKUP(A475,'Copy of Export'!$A$2:$AF2350,5,false)","v":"#N/A"},{"$f":"VLOOKUP(A475,'Copy of Export'!$A$2:$AF2350,8,false)","v":"#N/A"}]
[null,{"$f":"VLOOKUP(A476,'Copy of Export'!$A$2:$AF2350,5,false)","v":"#N/A"},{"$f":"VLOOKUP(A476,'Copy of Export'!$A$2:$AF2350,13,false)","v":"#N/A"},{"$f":"VLOOKUP(A476,'Copy of Export'!$A$2:$AF2350,2,false)","v":"#N/A"},{"$f":"VLOOKUP(A476,'Copy of Export'!$A$2:$AF2350,5,false)","v":"#N/A"},{"$f":"VLOOKUP(A476,'Copy of Export'!$A$2:$AF2350,8,false)","v":"#N/A"}]
[null,{"$f":"VLOOKUP(A477,'Copy of Export'!$A$2:$AF2350,5,false)","v":"#N/A"},{"$f":"VLOOKUP(A477,'Copy of Export'!$A$2:$AF2350,13,false)","v":"#N/A"},{"$f":"VLOOKUP(A477,'Copy of Export'!$A$2:$AF2350,2,false)","v":"#N/A"},{"$f":"VLOOKUP(A477,'Copy of Export'!$A$2:$AF2350,5,false)","v":"#N/A"},{"$f":"VLOOKUP(A477,'Copy of Export'!$A$2:$AF2350,8,false)","v":"#N/A"}]
[null,{"$f":"VLOOKUP(A478,'Copy of Export'!$A$2:$AF2350,5,false)","v":"#N/A"},{"$f":"VLOOKUP(A478,'Copy of Export'!$A$2:$AF2350,13,false)","v":"#N/A"},{"$f":"VLOOKUP(A478,'Copy of Export'!$A$2:$AF2350,2,false)","v":"#N/A"},{"$f":"VLOOKUP(A478,'Copy of Export'!$A$2:$AF2350,5,false)","v":"#N/A"},{"$f":"VLOOKUP(A478,'Copy of Export'!$A$2:$AF2350,8,false)","v":"#N/A"}]
[null,{"$f":"VLOOKUP(A479,'Copy of Export'!$A$2:$AF2350,5,false)","v":"#N/A"},{"$f":"VLOOKUP(A479,'Copy of Export'!$A$2:$AF2350,13,false)","v":"#N/A"},{"$f":"VLOOKUP(A479,'Copy of Export'!$A$2:$AF2350,2,false)","v":"#N/A"},{"$f":"VLOOKUP(A479,'Copy of Export'!$A$2:$AF2350,5,false)","v":"#N/A"},{"$f":"VLOOKUP(A479,'Copy of Export'!$A$2:$AF2350,8,false)","v":"#N/A"}]
[null,{"$f":"VLOOKUP(A480,'Copy of Export'!$A$2:$AF2350,5,false)","v":"#N/A"},{"$f":"VLOOKUP(A480,'Copy of Export'!$A$2:$AF2350,13,false)","v":"#N/A"},{"$f":"VLOOKUP(A480,'Copy of Export'!$A$2:$AF2350,2,false)","v":"#N/A"},{"$f":"VLOOKUP(A480,'Copy of Export'!$A$2:$AF2350,5,false)","v":"#N/A"},{"$f":"VLOOKUP(A480,'Copy of Export'!$A$2:$AF2350,8,false)","v":"#N/A"}]
[null,{"$f":"VLOOKUP(A481,'Copy of Export'!$A$2:$AF2350,5,false)","v":"#N/A"},{"$f":"VLOOKUP(A481,'Copy of Export'!$A$2:$AF2350,13,false)","v":"#N/A"},{"$f":"VLOOKUP(A481,'Copy of Export'!$A$2:$AF2350,2,false)","v":"#N/A"},{"$f":"VLOOKUP(A481,'Copy of Export'!$A$2:$AF2350,5,false)","v":"#N/A"},{"$f":"VLOOKUP(A481,'Copy of Export'!$A$2:$AF2350,8,false)","v":"#N/A"}]
[null,{"$f":"VLOOKUP(A482,'Copy of Export'!$A$2:$AF2350,5,false)","v":"#N/A"},{"$f":"VLOOKUP(A482,'Copy of Export'!$A$2:$AF2350,13,false)","v":"#N/A"},{"$f":"VLOOKUP(A482,'Copy of Export'!$A$2:$AF2350,2,false)","v":"#N/A"},{"$f":"VLOOKUP(A482,'Copy of Export'!$A$2:$AF2350,5,false)","v":"#N/A"},{"$f":"VLOOKUP(A482,'Copy of Export'!$A$2:$AF2350,8,false)","v":"#N/A"}]
[null,{"$f":"VLOOKUP(A483,'Copy of Export'!$A$2:$AF2350,5,false)","v":"#N/A"},{"$f":"VLOOKUP(A483,'Copy of Export'!$A$2:$AF2350,13,false)","v":"#N/A"},{"$f":"VLOOKUP(A483,'Copy of Export'!$A$2:$AF2350,2,false)","v":"#N/A"},{"$f":"VLOOKUP(A483,'Copy of Export'!$A$2:$AF2350,5,false)","v":"#N/A"},{"$f":"VLOOKUP(A483,'Copy of Export'!$A$2:$AF2350,8,false)","v":"#N/A"}]
[null,{"$f":"VLOOKUP(A484,'Copy of Export'!$A$2:$AF2350,5,false)","v":"#N/A"},{"$f":"VLOOKUP(A484,'Copy of Export'!$A$2:$AF2350,13,false)","v":"#N/A"},{"$f":"VLOOKUP(A484,'Copy of Export'!$A$2:$AF2350,2,false)","v":"#N/A"},{"$f":"VLOOKUP(A484,'Copy of Export'!$A$2:$AF2350,5,false)","v":"#N/A"},{"$f":"VLOOKUP(A484,'Copy of Export'!$A$2:$AF2350,8,false)","v":"#N/A"}]
[null,{"$f":"VLOOKUP(A485,'Copy of Export'!$A$2:$AF2350,5,false)","v":"#N/A"},{"$f":"VLOOKUP(A485,'Copy of Export'!$A$2:$AF2350,13,false)","v":"#N/A"},{"$f":"VLOOKUP(A485,'Copy of Export'!$A$2:$AF2350,2,false)","v":"#N/A"},{"$f":"VLOOKUP(A485,'Copy of Export'!$A$2:$AF2350,5,false)","v":"#N/A"},{"$f":"VLOOKUP(A485,'Copy of Export'!$A$2:$AF2350,8,false)","v":"#N/A"}]
[null,{"$f":"VLOOKUP(A486,'Copy of Export'!$A$2:$AF2350,5,false)","v":"#N/A"},{"$f":"VLOOKUP(A486,'Copy of Export'!$A$2:$AF2350,13,false)","v":"#N/A"},{"$f":"VLOOKUP(A486,'Copy of Export'!$A$2:$AF2350,2,false)","v":"#N/A"},{"$f":"VLOOKUP(A486,'Copy of Export'!$A$2:$AF2350,5,false)","v":"#N/A"},{"$f":"VLOOKUP(A486,'Copy of Export'!$A$2:$AF2350,8,false)","v":"#N/A"}]
[null,{"$f":"VLOOKUP(A487,'Copy of Export'!$A$2:$AF2350,5,false)","v":"#N/A"},{"$f":"VLOOKUP(A487,'Copy of Export'!$A$2:$AF2350,13,false)","v":"#N/A"},{"$f":"VLOOKUP(A487,'Copy of Export'!$A$2:$AF2350,2,false)","v":"#N/A"},{"$f":"VLOOKUP(A487,'Copy of Export'!$A$2:$AF2350,5,false)","v":"#N/A"},{"$f":"VLOOKUP(A487,'Copy of Export'!$A$2:$AF2350,8,false)","v":"#N/A"}]
[null,{"$f":"VLOOKUP(A488,'Copy of Export'!$A$2:$AF2350,5,false)","v":"#N/A"},{"$f":"VLOOKUP(A488,'Copy of Export'!$A$2:$AF2350,13,false)","v":"#N/A"},{"$f":"VLOOKUP(A488,'Copy of Export'!$A$2:$AF2350,2,false)","v":"#N/A"},{"$f":"VLOOKUP(A488,'Copy of Export'!$A$2:$AF2350,5,false)","v":"#N/A"},{"$f":"VLOOKUP(A488,'Copy of Export'!$A$2:$AF2350,8,false)","v":"#N/A"}]
[null,{"$f":"VLOOKUP(A489,'Copy of Export'!$A$2:$AF2350,5,false)","v":"#N/A"},{"$f":"VLOOKUP(A489,'Copy of Export'!$A$2:$AF2350,13,false)","v":"#N/A"},{"$f":"VLOOKUP(A489,'Copy of Export'!$A$2:$AF2350,2,false)","v":"#N/A"},{"$f":"VLOOKUP(A489,'Copy of Export'!$A$2:$AF2350,5,false)","v":"#N/A"},{"$f":"VLOOKUP(A489,'Copy of Export'!$A$2:$AF2350,8,false)","v":"#N/A"}]
[null,{"$f":"VLOOKUP(A490,'Copy of Export'!$A$2:$AF2350,5,false)","v":"#N/A"},{"$f":"VLOOKUP(A490,'Copy of Export'!$A$2:$AF2350,13,false)","v":"#N/A"},{"$f":"VLOOKUP(A490,'Copy of Export'!$A$2:$AF2350,2,false)","v":"#N/A"},{"$f":"VLOOKUP(A490,'Copy of Export'!$A$2:$AF2350,5,false)","v":"#N/A"},{"$f":"VLOOKUP(A490,'Copy of Export'!$A$2:$AF2350,8,false)","v":"#N/A"}]
[null,{"$f":"VLOOKUP(A491,'Copy of Export'!$A$2:$AF2350,5,false)","v":"#N/A"},{"$f":"VLOOKUP(A491,'Copy of Export'!$A$2:$AF2350,13,false)","v":"#N/A"},{"$f":"VLOOKUP(A491,'Copy of Export'!$A$2:$AF2350,2,false)","v":"#N/A"},{"$f":"VLOOKUP(A491,'Copy of Export'!$A$2:$AF2350,5,false)","v":"#N/A"},{"$f":"VLOOKUP(A491,'Copy of Export'!$A$2:$AF2350,8,false)","v":"#N/A"}]
[null,{"$f":"VLOOKUP(A492,'Copy of Export'!$A$2:$AF2350,5,false)","v":"#N/A"},{"$f":"VLOOKUP(A492,'Copy of Export'!$A$2:$AF2350,13,false)","v":"#N/A"},{"$f":"VLOOKUP(A492,'Copy of Export'!$A$2:$AF2350,2,false)","v":"#N/A"},{"$f":"VLOOKUP(A492,'Copy of Export'!$A$2:$AF2350,5,false)","v":"#N/A"},{"$f":"VLOOKUP(A492,'Copy of Export'!$A$2:$AF2350,8,false)","v":"#N/A"}]
[null,{"$f":"VLOOKUP(A493,'Copy of Export'!$A$2:$AF2350,5,false)","v":"#N/A"},{"$f":"VLOOKUP(A493,'Copy of Export'!$A$2:$AF2350,13,false)","v":"#N/A"},{"$f":"VLOOKUP(A493,'Copy of Export'!$A$2:$AF2350,2,false)","v":"#N/A"},{"$f":"VLOOKUP(A493,'Copy of Export'!$A$2:$AF2350,5,false)","v":"#N/A"},{"$f":"VLOOKUP(A493,'Copy of Export'!$A$2:$AF2350,8,false)","v":"#N/A"}]
[null,{"$f":"VLOOKUP(A494,'Copy of Export'!$A$2:$AF2350,5,false)","v":"#N/A"},{"$f":"VLOOKUP(A494,'Copy of Export'!$A$2:$AF2350,13,false)","v":"#N/A"},{"$f":"VLOOKUP(A494,'Copy of Export'!$A$2:$AF2350,2,false)","v":"#N/A"},{"$f":"VLOOKUP(A494,'Copy of Export'!$A$2:$AF2350,5,false)","v":"#N/A"},{"$f":"VLOOKUP(A494,'Copy of Export'!$A$2:$AF2350,8,false)","v":"#N/A"}]
[null,{"$f":"VLOOKUP(A495,'Copy of Export'!$A$2:$AF2350,5,false)","v":"#N/A"},{"$f":"VLOOKUP(A495,'Copy of Export'!$A$2:$AF2350,13,false)","v":"#N/A"},{"$f":"VLOOKUP(A495,'Copy of Export'!$A$2:$AF2350,2,false)","v":"#N/A"},{"$f":"VLOOKUP(A495,'Copy of Export'!$A$2:$AF2350,5,false)","v":"#N/A"},{"$f":"VLOOKUP(A495,'Copy of Export'!$A$2:$AF2350,8,false)","v":"#N/A"}]
[null,{"$f":"VLOOKUP(A496,'Copy of Export'!$A$2:$AF2350,5,false)","v":"#N/A"},{"$f":"VLOOKUP(A496,'Copy of Export'!$A$2:$AF2350,13,false)","v":"#N/A"},{"$f":"VLOOKUP(A496,'Copy of Export'!$A$2:$AF2350,2,false)","v":"#N/A"},{"$f":"VLOOKUP(A496,'Copy of Export'!$A$2:$AF2350,5,false)","v":"#N/A"},{"$f":"VLOOKUP(A496,'Copy of Export'!$A$2:$AF2350,8,false)","v":"#N/A"}]
[null,{"$f":"VLOOKUP(A497,'Copy of Export'!$A$2:$AF2350,5,false)","v":"#N/A"},{"$f":"VLOOKUP(A497,'Copy of Export'!$A$2:$AF2350,13,false)","v":"#N/A"},{"$f":"VLOOKUP(A497,'Copy of Export'!$A$2:$AF2350,2,false)","v":"#N/A"},{"$f":"VLOOKUP(A497,'Copy of Export'!$A$2:$AF2350,5,false)","v":"#N/A"},{"$f":"VLOOKUP(A497,'Copy of Export'!$A$2:$AF2350,8,false)","v":"#N/A"}]
[null,{"$f":"VLOOKUP(A498,'Copy of Export'!$A$2:$AF2350,5,false)","v":"#N/A"},{"$f":"VLOOKUP(A498,'Copy of Export'!$A$2:$AF2350,13,false)","v":"#N/A"},{"$f":"VLOOKUP(A498,'Copy of Export'!$A$2:$AF2350,2,false)","v":"#N/A"},{"$f":"VLOOKUP(A498,'Copy of Export'!$A$2:$AF2350,5,false)","v":"#N/A"},{"$f":"VLOOKUP(A498,'Copy of Export'!$A$2:$AF2350,8,false)","v":"#N/A"}]
[null,{"$f":"VLOOKUP(A499,'Copy of Export'!$A$2:$AF2350,5,false)","v":"#N/A"},{"$f":"VLOOKUP(A499,'Copy of Export'!$A$2:$AF2350,13,false)","v":"#N/A"},{"$f":"VLOOKUP(A499,'Copy of Export'!$A$2:$AF2350,2,false)","v":"#N/A"},{"$f":"VLOOKUP(A499,'Copy of Export'!$A$2:$AF2350,5,false)","v":"#N/A"},{"$f":"VLOOKUP(A499,'Copy of Export'!$A$2:$AF2350,8,false)","v":"#N/A"}]
[null,{"$f":"VLOOKUP(A500,'Copy of Export'!$A$2:$AF2350,5,false)","v":"#N/A"},{"$f":"VLOOKUP(A500,'Copy of Export'!$A$2:$AF2350,13,false)","v":"#N/A"},{"$f":"VLOOKUP(A500,'Copy of Export'!$A$2:$AF2350,2,false)","v":"#N/A"},{"$f":"VLOOKUP(A500,'Copy of Export'!$A$2:$AF2350,5,false)","v":"#N/A"},{"$f":"VLOOKUP(A500,'Copy of Export'!$A$2:$AF2350,8,false)","v":"#N/A"}]
[null,{"$f":"VLOOKUP(A501,'Copy of Export'!$A$2:$AF2350,5,false)","v":"#N/A"},{"$f":"VLOOKUP(A501,'Copy of Export'!$A$2:$AF2350,13,false)","v":"#N/A"},{"$f":"VLOOKUP(A501,'Copy of Export'!$A$2:$AF2350,2,false)","v":"#N/A"},{"$f":"VLOOKUP(A501,'Copy of Export'!$A$2:$AF2350,5,false)","v":"#N/A"},{"$f":"VLOOKUP(A501,'Copy of Export'!$A$2:$AF2350,8,false)","v":"#N/A"}]
[null,{"$f":"VLOOKUP(A502,'Copy of Export'!$A$2:$AF2350,5,false)","v":"#N/A"},{"$f":"VLOOKUP(A502,'Copy of Export'!$A$2:$AF2350,13,false)","v":"#N/A"},{"$f":"VLOOKUP(A502,'Copy of Export'!$A$2:$AF2350,2,false)","v":"#N/A"},{"$f":"VLOOKUP(A502,'Copy of Export'!$A$2:$AF2350,5,false)","v":"#N/A"},{"$f":"VLOOKUP(A502,'Copy of Export'!$A$2:$AF2350,8,false)","v":"#N/A"}]
[null,{"$f":"VLOOKUP(A503,'Copy of Export'!$A$2:$AF2350,5,false)","v":"#N/A"},{"$f":"VLOOKUP(A503,'Copy of Export'!$A$2:$AF2350,13,false)","v":"#N/A"},{"$f":"VLOOKUP(A503,'Copy of Export'!$A$2:$AF2350,2,false)","v":"#N/A"},{"$f":"VLOOKUP(A503,'Copy of Export'!$A$2:$AF2350,5,false)","v":"#N/A"},{"$f":"VLOOKUP(A503,'Copy of Export'!$A$2:$AF2350,8,false)","v":"#N/A"}]
[null,{"$f":"VLOOKUP(A504,'Copy of Export'!$A$2:$AF2350,5,false)","v":"#N/A"},{"$f":"VLOOKUP(A504,'Copy of Export'!$A$2:$AF2350,13,false)","v":"#N/A"},{"$f":"VLOOKUP(A504,'Copy of Export'!$A$2:$AF2350,2,false)","v":"#N/A"},{"$f":"VLOOKUP(A504,'Copy of Export'!$A$2:$AF2350,5,false)","v":"#N/A"},{"$f":"VLOOKUP(A504,'Copy of Export'!$A$2:$AF2350,8,false)","v":"#N/A"}]
[null,{"$f":"VLOOKUP(A505,'Copy of Export'!$A$2:$AF2350,5,false)","v":"#N/A"},{"$f":"VLOOKUP(A505,'Copy of Export'!$A$2:$AF2350,13,false)","v":"#N/A"},{"$f":"VLOOKUP(A505,'Copy of Export'!$A$2:$AF2350,2,false)","v":"#N/A"},{"$f":"VLOOKUP(A505,'Copy of Export'!$A$2:$AF2350,5,false)","v":"#N/A"},{"$f":"VLOOKUP(A505,'Copy of Export'!$A$2:$AF2350,8,false)","v":"#N/A"}]
[null,{"$f":"VLOOKUP(A506,'Copy of Export'!$A$2:$AF2350,5,false)","v":"#N/A"},{"$f":"VLOOKUP(A506,'Copy of Export'!$A$2:$AF2350,13,false)","v":"#N/A"},{"$f":"VLOOKUP(A506,'Copy of Export'!$A$2:$AF2350,2,false)","v":"#N/A"},{"$f":"VLOOKUP(A506,'Copy of Export'!$A$2:$AF2350,5,false)","v":"#N/A"},{"$f":"VLOOKUP(A506,'Copy of Export'!$A$2:$AF2350,8,false)","v":"#N/A"}]
[null,{"$f":"VLOOKUP(A507,'Copy of Export'!$A$2:$AF2350,5,false)","v":"#N/A"},{"$f":"VLOOKUP(A507,'Copy of Export'!$A$2:$AF2350,13,false)","v":"#N/A"},{"$f":"VLOOKUP(A507,'Copy of Export'!$A$2:$AF2350,2,false)","v":"#N/A"},{"$f":"VLOOKUP(A507,'Copy of Export'!$A$2:$AF2350,5,false)","v":"#N/A"},{"$f":"VLOOKUP(A507,'Copy of Export'!$A$2:$AF2350,8,false)","v":"#N/A"}]
[null,{"$f":"VLOOKUP(A508,'Copy of Export'!$A$2:$AF2350,5,false)","v":"#N/A"},{"$f":"VLOOKUP(A508,'Copy of Export'!$A$2:$AF2350,13,false)","v":"#N/A"},{"$f":"VLOOKUP(A508,'Copy of Export'!$A$2:$AF2350,2,false)","v":"#N/A"},{"$f":"VLOOKUP(A508,'Copy of Export'!$A$2:$AF2350,5,false)","v":"#N/A"},{"$f":"VLOOKUP(A508,'Copy of Export'!$A$2:$AF2350,8,false)","v":"#N/A"}]
[null,{"$f":"VLOOKUP(A509,'Copy of Export'!$A$2:$AF2350,5,false)","v":"#N/A"},{"$f":"VLOOKUP(A509,'Copy of Export'!$A$2:$AF2350,13,false)","v":"#N/A"},{"$f":"VLOOKUP(A509,'Copy of Export'!$A$2:$AF2350,2,false)","v":"#N/A"},{"$f":"VLOOKUP(A509,'Copy of Export'!$A$2:$AF2350,5,false)","v":"#N/A"},{"$f":"VLOOKUP(A509,'Copy of Export'!$A$2:$AF2350,8,false)","v":"#N/A"}]
[null,{"$f":"VLOOKUP(A510,'Copy of Export'!$A$2:$AF2350,5,false)","v":"#N/A"},{"$f":"VLOOKUP(A510,'Copy of Export'!$A$2:$AF2350,13,false)","v":"#N/A"},{"$f":"VLOOKUP(A510,'Copy of Export'!$A$2:$AF2350,2,false)","v":"#N/A"},{"$f":"VLOOKUP(A510,'Copy of Export'!$A$2:$AF2350,5,false)","v":"#N/A"},{"$f":"VLOOKUP(A510,'Copy of Export'!$A$2:$AF2350,8,false)","v":"#N/A"}]
[null,{"$f":"VLOOKUP(A511,'Copy of Export'!$A$2:$AF2350,5,false)","v":"#N/A"},{"$f":"VLOOKUP(A511,'Copy of Export'!$A$2:$AF2350,13,false)","v":"#N/A"},{"$f":"VLOOKUP(A511,'Copy of Export'!$A$2:$AF2350,2,false)","v":"#N/A"},{"$f":"VLOOKUP(A511,'Copy of Export'!$A$2:$AF2350,5,false)","v":"#N/A"},{"$f":"VLOOKUP(A511,'Copy of Export'!$A$2:$AF2350,8,false)","v":"#N/A"}]
[null,{"$f":"VLOOKUP(A512,'Copy of Export'!$A$2:$AF2350,5,false)","v":"#N/A"},{"$f":"VLOOKUP(A512,'Copy of Export'!$A$2:$AF2350,13,false)","v":"#N/A"},{"$f":"VLOOKUP(A512,'Copy of Export'!$A$2:$AF2350,2,false)","v":"#N/A"},{"$f":"VLOOKUP(A512,'Copy of Export'!$A$2:$AF2350,5,false)","v":"#N/A"},{"$f":"VLOOKUP(A512,'Copy of Export'!$A$2:$AF2350,8,false)","v":"#N/A"}]
[null,{"$f":"VLOOKUP(A513,'Copy of Export'!$A$2:$AF2350,5,false)","v":"#N/A"},{"$f":"VLOOKUP(A513,'Copy of Export'!$A$2:$AF2350,13,false)","v":"#N/A"},{"$f":"VLOOKUP(A513,'Copy of Export'!$A$2:$AF2350,2,false)","v":"#N/A"},{"$f":"VLOOKUP(A513,'Copy of Export'!$A$2:$AF2350,5,false)","v":"#N/A"},{"$f":"VLOOKUP(A513,'Copy of Export'!$A$2:$AF2350,8,false)","v":"#N/A"}]
[null,{"$f":"VLOOKUP(A514,'Copy of Export'!$A$2:$AF2350,5,false)","v":"#N/A"},{"$f":"VLOOKUP(A514,'Copy of Export'!$A$2:$AF2350,13,false)","v":"#N/A"},{"$f":"VLOOKUP(A514,'Copy of Export'!$A$2:$AF2350,2,false)","v":"#N/A"},{"$f":"VLOOKUP(A514,'Copy of Export'!$A$2:$AF2350,5,false)","v":"#N/A"},{"$f":"VLOOKUP(A514,'Copy of Export'!$A$2:$AF2350,8,false)","v":"#N/A"}]
[null,{"$f":"VLOOKUP(A515,'Copy of Export'!$A$2:$AF2350,5,false)","v":"#N/A"},{"$f":"VLOOKUP(A515,'Copy of Export'!$A$2:$AF2350,13,false)","v":"#N/A"},{"$f":"VLOOKUP(A515,'Copy of Export'!$A$2:$AF2350,2,false)","v":"#N/A"},{"$f":"VLOOKUP(A515,'Copy of Export'!$A$2:$AF2350,5,false)","v":"#N/A"},{"$f":"VLOOKUP(A515,'Copy of Export'!$A$2:$AF2350,8,false)","v":"#N/A"}]
[null,{"$f":"VLOOKUP(A516,'Copy of Export'!$A$2:$AF2350,5,false)","v":"#N/A"},{"$f":"VLOOKUP(A516,'Copy of Export'!$A$2:$AF2350,13,false)","v":"#N/A"},{"$f":"VLOOKUP(A516,'Copy of Export'!$A$2:$AF2350,2,false)","v":"#N/A"},{"$f":"VLOOKUP(A516,'Copy of Export'!$A$2:$AF2350,5,false)","v":"#N/A"},{"$f":"VLOOKUP(A516,'Copy of Export'!$A$2:$AF2350,8,false)","v":"#N/A"}]
[null,{"$f":"VLOOKUP(A517,'Copy of Export'!$A$2:$AF2350,5,false)","v":"#N/A"},{"$f":"VLOOKUP(A517,'Copy of Export'!$A$2:$AF2350,13,false)","v":"#N/A"},{"$f":"VLOOKUP(A517,'Copy of Export'!$A$2:$AF2350,2,false)","v":"#N/A"},{"$f":"VLOOKUP(A517,'Copy of Export'!$A$2:$AF2350,5,false)","v":"#N/A"},{"$f":"VLOOKUP(A517,'Copy of Export'!$A$2:$AF2350,8,false)","v":"#N/A"}]
[null,{"$f":"VLOOKUP(A518,'Copy of Export'!$A$2:$AF2350,5,false)","v":"#N/A"},{"$f":"VLOOKUP(A518,'Copy of Export'!$A$2:$AF2350,13,false)","v":"#N/A"},{"$f":"VLOOKUP(A518,'Copy of Export'!$A$2:$AF2350,2,false)","v":"#N/A"},{"$f":"VLOOKUP(A518,'Copy of Export'!$A$2:$AF2350,5,false)","v":"#N/A"},{"$f":"VLOOKUP(A518,'Copy of Export'!$A$2:$AF2350,8,false)","v":"#N/A"}]
[null,{"$f":"VLOOKUP(A519,'Copy of Export'!$A$2:$AF2350,5,false)","v":"#N/A"},{"$f":"VLOOKUP(A519,'Copy of Export'!$A$2:$AF2350,13,false)","v":"#N/A"},{"$f":"VLOOKUP(A519,'Copy of Export'!$A$2:$AF2350,2,false)","v":"#N/A"},{"$f":"VLOOKUP(A519,'Copy of Export'!$A$2:$AF2350,5,false)","v":"#N/A"},{"$f":"VLOOKUP(A519,'Copy of Export'!$A$2:$AF2350,8,false)","v":"#N/A"}]
[null,{"$f":"VLOOKUP(A520,'Copy of Export'!$A$2:$AF2350,5,false)","v":"#N/A"},{"$f":"VLOOKUP(A520,'Copy of Export'!$A$2:$AF2350,13,false)","v":"#N/A"},{"$f":"VLOOKUP(A520,'Copy of Export'!$A$2:$AF2350,2,false)","v":"#N/A"},{"$f":"VLOOKUP(A520,'Copy of Export'!$A$2:$AF2350,5,false)","v":"#N/A"},{"$f":"VLOOKUP(A520,'Copy of Export'!$A$2:$AF2350,8,false)","v":"#N/A"}]
[null,{"$f":"VLOOKUP(A521,'Copy of Export'!$A$2:$AF2350,5,false)","v":"#N/A"},{"$f":"VLOOKUP(A521,'Copy of Export'!$A$2:$AF2350,13,false)","v":"#N/A"},{"$f":"VLOOKUP(A521,'Copy of Export'!$A$2:$AF2350,2,false)","v":"#N/A"},{"$f":"VLOOKUP(A521,'Copy of Export'!$A$2:$AF2350,5,false)","v":"#N/A"},{"$f":"VLOOKUP(A521,'Copy of Export'!$A$2:$AF2350,8,false)","v":"#N/A"}]
[null,{"$f":"VLOOKUP(A522,'Copy of Export'!$A$2:$AF2350,5,false)","v":"#N/A"},{"$f":"VLOOKUP(A522,'Copy of Export'!$A$2:$AF2350,13,false)","v":"#N/A"},{"$f":"VLOOKUP(A522,'Copy of Export'!$A$2:$AF2350,2,false)","v":"#N/A"},{"$f":"VLOOKUP(A522,'Copy of Export'!$A$2:$AF2350,5,false)","v":"#N/A"},{"$f":"VLOOKUP(A522,'Copy of Export'!$A$2:$AF2350,8,false)","v":"#N/A"}]
[null,{"$f":"VLOOKUP(A523,'Copy of Export'!$A$2:$AF2350,5,false)","v":"#N/A"},{"$f":"VLOOKUP(A523,'Copy of Export'!$A$2:$AF2350,13,false)","v":"#N/A"},{"$f":"VLOOKUP(A523,'Copy of Export'!$A$2:$AF2350,2,false)","v":"#N/A"},{"$f":"VLOOKUP(A523,'Copy of Export'!$A$2:$AF2350,5,false)","v":"#N/A"},{"$f":"VLOOKUP(A523,'Copy of Export'!$A$2:$AF2350,8,false)","v":"#N/A"}]
[null,{"$f":"VLOOKUP(A524,'Copy of Export'!$A$2:$AF2350,5,false)","v":"#N/A"},{"$f":"VLOOKUP(A524,'Copy of Export'!$A$2:$AF2350,13,false)","v":"#N/A"},{"$f":"VLOOKUP(A524,'Copy of Export'!$A$2:$AF2350,2,false)","v":"#N/A"},{"$f":"VLOOKUP(A524,'Copy of Export'!$A$2:$AF2350,5,false)","v":"#N/A"},{"$f":"VLOOKUP(A524,'Copy of Export'!$A$2:$AF2350,8,false)","v":"#N/A"}]
[null,{"$f":"VLOOKUP(A525,'Copy of Export'!$A$2:$AF2350,5,false)","v":"#N/A"},{"$f":"VLOOKUP(A525,'Copy of Export'!$A$2:$AF2350,13,false)","v":"#N/A"},{"$f":"VLOOKUP(A525,'Copy of Export'!$A$2:$AF2350,2,false)","v":"#N/A"},{"$f":"VLOOKUP(A525,'Copy of Export'!$A$2:$AF2350,5,false)","v":"#N/A"},{"$f":"VLOOKUP(A525,'Copy of Export'!$A$2:$AF2350,8,false)","v":"#N/A"}]
[null,{"$f":"VLOOKUP(A526,'Copy of Export'!$A$2:$AF2350,5,false)","v":"#N/A"},{"$f":"VLOOKUP(A526,'Copy of Export'!$A$2:$AF2350,13,false)","v":"#N/A"},{"$f":"VLOOKUP(A526,'Copy of Export'!$A$2:$AF2350,2,false)","v":"#N/A"},{"$f":"VLOOKUP(A526,'Copy of Export'!$A$2:$AF2350,5,false)","v":"#N/A"},{"$f":"VLOOKUP(A526,'Copy of Export'!$A$2:$AF2350,8,false)","v":"#N/A"}]
[null,{"$f":"VLOOKUP(A527,'Copy of Export'!$A$2:$AF2350,5,false)","v":"#N/A"},{"$f":"VLOOKUP(A527,'Copy of Export'!$A$2:$AF2350,13,false)","v":"#N/A"},{"$f":"VLOOKUP(A527,'Copy of Export'!$A$2:$AF2350,2,false)","v":"#N/A"},{"$f":"VLOOKUP(A527,'Copy of Export'!$A$2:$AF2350,5,false)","v":"#N/A"},{"$f":"VLOOKUP(A527,'Copy of Export'!$A$2:$AF2350,8,false)","v":"#N/A"}]
[null,{"$f":"VLOOKUP(A528,'Copy of Export'!$A$2:$AF2350,5,false)","v":"#N/A"},{"$f":"VLOOKUP(A528,'Copy of Export'!$A$2:$AF2350,13,false)","v":"#N/A"},{"$f":"VLOOKUP(A528,'Copy of Export'!$A$2:$AF2350,2,false)","v":"#N/A"},{"$f":"VLOOKUP(A528,'Copy of Export'!$A$2:$AF2350,5,false)","v":"#N/A"},{"$f":"VLOOKUP(A528,'Copy of Export'!$A$2:$AF2350,8,false)","v":"#N/A"}]
[null,{"$f":"VLOOKUP(A529,'Copy of Export'!$A$2:$AF2350,5,false)","v":"#N/A"},{"$f":"VLOOKUP(A529,'Copy of Export'!$A$2:$AF2350,13,false)","v":"#N/A"},{"$f":"VLOOKUP(A529,'Copy of Export'!$A$2:$AF2350,2,false)","v":"#N/A"},{"$f":"VLOOKUP(A529,'Copy of Export'!$A$2:$AF2350,5,false)","v":"#N/A"},{"$f":"VLOOKUP(A529,'Copy of Export'!$A$2:$AF2350,8,false)","v":"#N/A"}]
[null,{"$f":"VLOOKUP(A530,'Copy of Export'!$A$2:$AF2350,5,false)","v":"#N/A"},{"$f":"VLOOKUP(A530,'Copy of Export'!$A$2:$AF2350,13,false)","v":"#N/A"},{"$f":"VLOOKUP(A530,'Copy of Export'!$A$2:$AF2350,2,false)","v":"#N/A"},{"$f":"VLOOKUP(A530,'Copy of Export'!$A$2:$AF2350,5,false)","v":"#N/A"},{"$f":"VLOOKUP(A530,'Copy of Export'!$A$2:$AF2350,8,false)","v":"#N/A"}]
[null,{"$f":"VLOOKUP(A531,'Copy of Export'!$A$2:$AF2350,5,false)","v":"#N/A"},{"$f":"VLOOKUP(A531,'Copy of Export'!$A$2:$AF2350,13,false)","v":"#N/A"},{"$f":"VLOOKUP(A531,'Copy of Export'!$A$2:$AF2350,2,false)","v":"#N/A"},{"$f":"VLOOKUP(A531,'Copy of Export'!$A$2:$AF2350,5,false)","v":"#N/A"},{"$f":"VLOOKUP(A531,'Copy of Export'!$A$2:$AF2350,8,false)","v":"#N/A"}]
[null,{"$f":"VLOOKUP(A532,'Copy of Export'!$A$2:$AF2350,5,false)","v":"#N/A"},{"$f":"VLOOKUP(A532,'Copy of Export'!$A$2:$AF2350,13,false)","v":"#N/A"},{"$f":"VLOOKUP(A532,'Copy of Export'!$A$2:$AF2350,2,false)","v":"#N/A"},{"$f":"VLOOKUP(A532,'Copy of Export'!$A$2:$AF2350,5,false)","v":"#N/A"},{"$f":"VLOOKUP(A532,'Copy of Export'!$A$2:$AF2350,8,false)","v":"#N/A"}]
[null,{"$f":"VLOOKUP(A533,'Copy of Export'!$A$2:$AF2350,5,false)","v":"#N/A"},{"$f":"VLOOKUP(A533,'Copy of Export'!$A$2:$AF2350,13,false)","v":"#N/A"},{"$f":"VLOOKUP(A533,'Copy of Export'!$A$2:$AF2350,2,false)","v":"#N/A"},{"$f":"VLOOKUP(A533,'Copy of Export'!$A$2:$AF2350,5,false)","v":"#N/A"},{"$f":"VLOOKUP(A533,'Copy of Export'!$A$2:$AF2350,8,false)","v":"#N/A"}]
[null,{"$f":"VLOOKUP(A534,'Copy of Export'!$A$2:$AF2350,5,false)","v":"#N/A"},{"$f":"VLOOKUP(A534,'Copy of Export'!$A$2:$AF2350,13,false)","v":"#N/A"},{"$f":"VLOOKUP(A534,'Copy of Export'!$A$2:$AF2350,2,false)","v":"#N/A"},{"$f":"VLOOKUP(A534,'Copy of Export'!$A$2:$AF2350,5,false)","v":"#N/A"},{"$f":"VLOOKUP(A534,'Copy of Export'!$A$2:$AF2350,8,false)","v":"#N/A"}]
[null,{"$f":"VLOOKUP(A535,'Copy of Export'!$A$2:$AF2350,5,false)","v":"#N/A"},{"$f":"VLOOKUP(A535,'Copy of Export'!$A$2:$AF2350,13,false)","v":"#N/A"},{"$f":"VLOOKUP(A535,'Copy of Export'!$A$2:$AF2350,2,false)","v":"#N/A"},{"$f":"VLOOKUP(A535,'Copy of Export'!$A$2:$AF2350,5,false)","v":"#N/A"},{"$f":"VLOOKUP(A535,'Copy of Export'!$A$2:$AF2350,8,false)","v":"#N/A"}]
[null,{"$f":"VLOOKUP(A536,'Copy of Export'!$A$2:$AF2350,5,false)","v":"#N/A"},{"$f":"VLOOKUP(A536,'Copy of Export'!$A$2:$AF2350,13,false)","v":"#N/A"},{"$f":"VLOOKUP(A536,'Copy of Export'!$A$2:$AF2350,2,false)","v":"#N/A"},{"$f":"VLOOKUP(A536,'Copy of Export'!$A$2:$AF2350,5,false)","v":"#N/A"},{"$f":"VLOOKUP(A536,'Copy of Export'!$A$2:$AF2350,8,false)","v":"#N/A"}]
[null,{"$f":"VLOOKUP(A537,'Copy of Export'!$A$2:$AF2350,5,false)","v":"#N/A"},{"$f":"VLOOKUP(A537,'Copy of Export'!$A$2:$AF2350,13,false)","v":"#N/A"},{"$f":"VLOOKUP(A537,'Copy of Export'!$A$2:$AF2350,2,false)","v":"#N/A"},{"$f":"VLOOKUP(A537,'Copy of Export'!$A$2:$AF2350,5,false)","v":"#N/A"},{"$f":"VLOOKUP(A537,'Copy of Export'!$A$2:$AF2350,8,false)","v":"#N/A"}]
[null,{"$f":"VLOOKUP(A538,'Copy of Export'!$A$2:$AF2350,5,false)","v":"#N/A"},{"$f":"VLOOKUP(A538,'Copy of Export'!$A$2:$AF2350,13,false)","v":"#N/A"},{"$f":"VLOOKUP(A538,'Copy of Export'!$A$2:$AF2350,2,false)","v":"#N/A"},{"$f":"VLOOKUP(A538,'Copy of Export'!$A$2:$AF2350,5,false)","v":"#N/A"},{"$f":"VLOOKUP(A538,'Copy of Export'!$A$2:$AF2350,8,false)","v":"#N/A"}]
[null,{"$f":"VLOOKUP(A539,'Copy of Export'!$A$2:$AF2350,5,false)","v":"#N/A"},{"$f":"VLOOKUP(A539,'Copy of Export'!$A$2:$AF2350,13,false)","v":"#N/A"},{"$f":"VLOOKUP(A539,'Copy of Export'!$A$2:$AF2350,2,false)","v":"#N/A"},{"$f":"VLOOKUP(A539,'Copy of Export'!$A$2:$AF2350,5,false)","v":"#N/A"},{"$f":"VLOOKUP(A539,'Copy of Export'!$A$2:$AF2350,8,false)","v":"#N/A"}]
[null,{"$f":"VLOOKUP(A540,'Copy of Export'!$A$2:$AF2350,5,false)","v":"#N/A"},{"$f":"VLOOKUP(A540,'Copy of Export'!$A$2:$AF2350,13,false)","v":"#N/A"},{"$f":"VLOOKUP(A540,'Copy of Export'!$A$2:$AF2350,2,false)","v":"#N/A"},{"$f":"VLOOKUP(A540,'Copy of Export'!$A$2:$AF2350,5,false)","v":"#N/A"},{"$f":"VLOOKUP(A540,'Copy of Export'!$A$2:$AF2350,8,false)","v":"#N/A"}]
[null,{"$f":"VLOOKUP(A541,'Copy of Export'!$A$2:$AF2350,5,false)","v":"#N/A"},{"$f":"VLOOKUP(A541,'Copy of Export'!$A$2:$AF2350,13,false)","v":"#N/A"},{"$f":"VLOOKUP(A541,'Copy of Export'!$A$2:$AF2350,2,false)","v":"#N/A"},{"$f":"VLOOKUP(A541,'Copy of Export'!$A$2:$AF2350,5,false)","v":"#N/A"},{"$f":"VLOOKUP(A541,'Copy of Export'!$A$2:$AF2350,8,false)","v":"#N/A"}]
[null,{"$f":"VLOOKUP(A542,'Copy of Export'!$A$2:$AF2350,5,false)","v":"#N/A"},{"$f":"VLOOKUP(A542,'Copy of Export'!$A$2:$AF2350,13,false)","v":"#N/A"},{"$f":"VLOOKUP(A542,'Copy of Export'!$A$2:$AF2350,2,false)","v":"#N/A"},{"$f":"VLOOKUP(A542,'Copy of Export'!$A$2:$AF2350,5,false)","v":"#N/A"},{"$f":"VLOOKUP(A542,'Copy of Export'!$A$2:$AF2350,8,false)","v":"#N/A"}]
[null,{"$f":"VLOOKUP(A543,'Copy of Export'!$A$2:$AF2350,5,false)","v":"#N/A"},{"$f":"VLOOKUP(A543,'Copy of Export'!$A$2:$AF2350,13,false)","v":"#N/A"},{"$f":"VLOOKUP(A543,'Copy of Export'!$A$2:$AF2350,2,false)","v":"#N/A"},{"$f":"VLOOKUP(A543,'Copy of Export'!$A$2:$AF2350,5,false)","v":"#N/A"},{"$f":"VLOOKUP(A543,'Copy of Export'!$A$2:$AF2350,8,false)","v":"#N/A"}]
[null,{"$f":"VLOOKUP(A544,'Copy of Export'!$A$2:$AF2350,5,false)","v":"#N/A"},{"$f":"VLOOKUP(A544,'Copy of Export'!$A$2:$AF2350,13,false)","v":"#N/A"},{"$f":"VLOOKUP(A544,'Copy of Export'!$A$2:$AF2350,2,false)","v":"#N/A"},{"$f":"VLOOKUP(A544,'Copy of Export'!$A$2:$AF2350,5,false)","v":"#N/A"},{"$f":"VLOOKUP(A544,'Copy of Export'!$A$2:$AF2350,8,false)","v":"#N/A"}]
[null,{"$f":"VLOOKUP(A545,'Copy of Export'!$A$2:$AF2350,5,false)","v":"#N/A"},{"$f":"VLOOKUP(A545,'Copy of Export'!$A$2:$AF2350,13,false)","v":"#N/A"},{"$f":"VLOOKUP(A545,'Copy of Export'!$A$2:$AF2350,2,false)","v":"#N/A"},{"$f":"VLOOKUP(A545,'Copy of Export'!$A$2:$AF2350,5,false)","v":"#N/A"},{"$f":"VLOOKUP(A545,'Copy of Export'!$A$2:$AF2350,8,false)","v":"#N/A"}]
[null,{"$f":"VLOOKUP(A546,'Copy of Export'!$A$2:$AF2350,5,false)","v":"#N/A"},{"$f":"VLOOKUP(A546,'Copy of Export'!$A$2:$AF2350,13,false)","v":"#N/A"},{"$f":"VLOOKUP(A546,'Copy of Export'!$A$2:$AF2350,2,false)","v":"#N/A"},{"$f":"VLOOKUP(A546,'Copy of Export'!$A$2:$AF2350,5,false)","v":"#N/A"},{"$f":"VLOOKUP(A546,'Copy of Export'!$A$2:$AF2350,8,false)","v":"#N/A"}]
[null,{"$f":"VLOOKUP(A547,'Copy of Export'!$A$2:$AF2350,5,false)","v":"#N/A"},{"$f":"VLOOKUP(A547,'Copy of Export'!$A$2:$AF2350,13,false)","v":"#N/A"},{"$f":"VLOOKUP(A547,'Copy of Export'!$A$2:$AF2350,2,false)","v":"#N/A"},{"$f":"VLOOKUP(A547,'Copy of Export'!$A$2:$AF2350,5,false)","v":"#N/A"},{"$f":"VLOOKUP(A547,'Copy of Export'!$A$2:$AF2350,8,false)","v":"#N/A"}]
[null,{"$f":"VLOOKUP(A548,'Copy of Export'!$A$2:$AF2350,5,false)","v":"#N/A"},{"$f":"VLOOKUP(A548,'Copy of Export'!$A$2:$AF2350,13,false)","v":"#N/A"},{"$f":"VLOOKUP(A548,'Copy of Export'!$A$2:$AF2350,2,false)","v":"#N/A"},{"$f":"VLOOKUP(A548,'Copy of Export'!$A$2:$AF2350,5,false)","v":"#N/A"},{"$f":"VLOOKUP(A548,'Copy of Export'!$A$2:$AF2350,8,false)","v":"#N/A"}]
[null,{"$f":"VLOOKUP(A549,'Copy of Export'!$A$2:$AF2350,5,false)","v":"#N/A"},{"$f":"VLOOKUP(A549,'Copy of Export'!$A$2:$AF2350,13,false)","v":"#N/A"},{"$f":"VLOOKUP(A549,'Copy of Export'!$A$2:$AF2350,2,false)","v":"#N/A"},{"$f":"VLOOKUP(A549,'Copy of Export'!$A$2:$AF2350,5,false)","v":"#N/A"},{"$f":"VLOOKUP(A549,'Copy of Export'!$A$2:$AF2350,8,false)","v":"#N/A"}]
[null,{"$f":"VLOOKUP(A550,'Copy of Export'!$A$2:$AF2350,5,false)","v":"#N/A"},{"$f":"VLOOKUP(A550,'Copy of Export'!$A$2:$AF2350,13,false)","v":"#N/A"},{"$f":"VLOOKUP(A550,'Copy of Export'!$A$2:$AF2350,2,false)","v":"#N/A"},{"$f":"VLOOKUP(A550,'Copy of Export'!$A$2:$AF2350,5,false)","v":"#N/A"},{"$f":"VLOOKUP(A550,'Copy of Export'!$A$2:$AF2350,8,false)","v":"#N/A"}]
[null,{"$f":"VLOOKUP(A551,'Copy of Export'!$A$2:$AF2350,5,false)","v":"#N/A"},{"$f":"VLOOKUP(A551,'Copy of Export'!$A$2:$AF2350,13,false)","v":"#N/A"},{"$f":"VLOOKUP(A551,'Copy of Export'!$A$2:$AF2350,2,false)","v":"#N/A"},{"$f":"VLOOKUP(A551,'Copy of Export'!$A$2:$AF2350,5,false)","v":"#N/A"},{"$f":"VLOOKUP(A551,'Copy of Export'!$A$2:$AF2350,8,false)","v":"#N/A"}]
[null,{"$f":"VLOOKUP(A552,'Copy of Export'!$A$2:$AF2350,5,false)","v":"#N/A"},{"$f":"VLOOKUP(A552,'Copy of Export'!$A$2:$AF2350,13,false)","v":"#N/A"},{"$f":"VLOOKUP(A552,'Copy of Export'!$A$2:$AF2350,2,false)","v":"#N/A"},{"$f":"VLOOKUP(A552,'Copy of Export'!$A$2:$AF2350,5,false)","v":"#N/A"},{"$f":"VLOOKUP(A552,'Copy of Export'!$A$2:$AF2350,8,false)","v":"#N/A"}]
[null,{"$f":"VLOOKUP(A553,'Copy of Export'!$A$2:$AF2350,5,false)","v":"#N/A"},{"$f":"VLOOKUP(A553,'Copy of Export'!$A$2:$AF2350,13,false)","v":"#N/A"},{"$f":"VLOOKUP(A553,'Copy of Export'!$A$2:$AF2350,2,false)","v":"#N/A"},{"$f":"VLOOKUP(A553,'Copy of Export'!$A$2:$AF2350,5,false)","v":"#N/A"},{"$f":"VLOOKUP(A553,'Copy of Export'!$A$2:$AF2350,8,false)","v":"#N/A"}]
[null,{"$f":"VLOOKUP(A554,'Copy of Export'!$A$2:$AF2350,5,false)","v":"#N/A"},{"$f":"VLOOKUP(A554,'Copy of Export'!$A$2:$AF2350,13,false)","v":"#N/A"},{"$f":"VLOOKUP(A554,'Copy of Export'!$A$2:$AF2350,2,false)","v":"#N/A"},{"$f":"VLOOKUP(A554,'Copy of Export'!$A$2:$AF2350,5,false)","v":"#N/A"},{"$f":"VLOOKUP(A554,'Copy of Export'!$A$2:$AF2350,8,false)","v":"#N/A"}]
[null,{"$f":"VLOOKUP(A555,'Copy of Export'!$A$2:$AF2350,5,false)","v":"#N/A"},{"$f":"VLOOKUP(A555,'Copy of Export'!$A$2:$AF2350,13,false)","v":"#N/A"},{"$f":"VLOOKUP(A555,'Copy of Export'!$A$2:$AF2350,2,false)","v":"#N/A"},{"$f":"VLOOKUP(A555,'Copy of Export'!$A$2:$AF2350,5,false)","v":"#N/A"},{"$f":"VLOOKUP(A555,'Copy of Export'!$A$2:$AF2350,8,false)","v":"#N/A"}]
[null,{"$f":"VLOOKUP(A556,'Copy of Export'!$A$2:$AF2350,5,false)","v":"#N/A"},{"$f":"VLOOKUP(A556,'Copy of Export'!$A$2:$AF2350,13,false)","v":"#N/A"},{"$f":"VLOOKUP(A556,'Copy of Export'!$A$2:$AF2350,2,false)","v":"#N/A"},{"$f":"VLOOKUP(A556,'Copy of Export'!$A$2:$AF2350,5,false)","v":"#N/A"},{"$f":"VLOOKUP(A556,'Copy of Export'!$A$2:$AF2350,8,false)","v":"#N/A"}]
[null,{"$f":"VLOOKUP(A557,'Copy of Export'!$A$2:$AF2350,5,false)","v":"#N/A"},{"$f":"VLOOKUP(A557,'Copy of Export'!$A$2:$AF2350,13,false)","v":"#N/A"},{"$f":"VLOOKUP(A557,'Copy of Export'!$A$2:$AF2350,2,false)","v":"#N/A"},{"$f":"VLOOKUP(A557,'Copy of Export'!$A$2:$AF2350,5,false)","v":"#N/A"},{"$f":"VLOOKUP(A557,'Copy of Export'!$A$2:$AF2350,8,false)","v":"#N/A"}]
[null,{"$f":"VLOOKUP(A558,'Copy of Export'!$A$2:$AF2350,5,false)","v":"#N/A"},{"$f":"VLOOKUP(A558,'Copy of Export'!$A$2:$AF2350,13,false)","v":"#N/A"},{"$f":"VLOOKUP(A558,'Copy of Export'!$A$2:$AF2350,2,false)","v":"#N/A"},{"$f":"VLOOKUP(A558,'Copy of Export'!$A$2:$AF2350,5,false)","v":"#N/A"},{"$f":"VLOOKUP(A558,'Copy of Export'!$A$2:$AF2350,8,false)","v":"#N/A"}]
[null,{"$f":"VLOOKUP(A559,'Copy of Export'!$A$2:$AF2350,5,false)","v":"#N/A"},{"$f":"VLOOKUP(A559,'Copy of Export'!$A$2:$AF2350,13,false)","v":"#N/A"},{"$f":"VLOOKUP(A559,'Copy of Export'!$A$2:$AF2350,2,false)","v":"#N/A"},{"$f":"VLOOKUP(A559,'Copy of Export'!$A$2:$AF2350,5,false)","v":"#N/A"},{"$f":"VLOOKUP(A559,'Copy of Export'!$A$2:$AF2350,8,false)","v":"#N/A"}]
[null,{"$f":"VLOOKUP(A560,'Copy of Export'!$A$2:$AF2350,5,false)","v":"#N/A"},{"$f":"VLOOKUP(A560,'Copy of Export'!$A$2:$AF2350,13,false)","v":"#N/A"},{"$f":"VLOOKUP(A560,'Copy of Export'!$A$2:$AF2350,2,false)","v":"#N/A"},{"$f":"VLOOKUP(A560,'Copy of Export'!$A$2:$AF2350,5,false)","v":"#N/A"},{"$f":"VLOOKUP(A560,'Copy of Export'!$A$2:$AF2350,8,false)","v":"#N/A"}]
[null,{"$f":"VLOOKUP(A561,'Copy of Export'!$A$2:$AF2350,5,false)","v":"#N/A"},{"$f":"VLOOKUP(A561,'Copy of Export'!$A$2:$AF2350,13,false)","v":"#N/A"},{"$f":"VLOOKUP(A561,'Copy of Export'!$A$2:$AF2350,2,false)","v":"#N/A"},{"$f":"VLOOKUP(A561,'Copy of Export'!$A$2:$AF2350,5,false)","v":"#N/A"},{"$f":"VLOOKUP(A561,'Copy of Export'!$A$2:$AF2350,8,false)","v":"#N/A"}]
[null,{"$f":"VLOOKUP(A562,'Copy of Export'!$A$2:$AF2350,5,false)","v":"#N/A"},{"$f":"VLOOKUP(A562,'Copy of Export'!$A$2:$AF2350,13,false)","v":"#N/A"},{"$f":"VLOOKUP(A562,'Copy of Export'!$A$2:$AF2350,2,false)","v":"#N/A"},{"$f":"VLOOKUP(A562,'Copy of Export'!$A$2:$AF2350,5,false)","v":"#N/A"},{"$f":"VLOOKUP(A562,'Copy of Export'!$A$2:$AF2350,8,false)","v":"#N/A"}]
[null,{"$f":"VLOOKUP(A563,'Copy of Export'!$A$2:$AF2350,5,false)","v":"#N/A"},{"$f":"VLOOKUP(A563,'Copy of Export'!$A$2:$AF2350,13,false)","v":"#N/A"},{"$f":"VLOOKUP(A563,'Copy of Export'!$A$2:$AF2350,2,false)","v":"#N/A"},{"$f":"VLOOKUP(A563,'Copy of Export'!$A$2:$AF2350,5,false)","v":"#N/A"},{"$f":"VLOOKUP(A563,'Copy of Export'!$A$2:$AF2350,8,false)","v":"#N/A"}]
[null,{"$f":"VLOOKUP(A564,'Copy of Export'!$A$2:$AF2350,5,false)","v":"#N/A"},{"$f":"VLOOKUP(A564,'Copy of Export'!$A$2:$AF2350,13,false)","v":"#N/A"},{"$f":"VLOOKUP(A564,'Copy of Export'!$A$2:$AF2350,2,false)","v":"#N/A"},{"$f":"VLOOKUP(A564,'Copy of Export'!$A$2:$AF2350,5,false)","v":"#N/A"},{"$f":"VLOOKUP(A564,'Copy of Export'!$A$2:$AF2350,8,false)","v":"#N/A"}]
[null,{"$f":"VLOOKUP(A565,'Copy of Export'!$A$2:$AF2350,5,false)","v":"#N/A"},{"$f":"VLOOKUP(A565,'Copy of Export'!$A$2:$AF2350,13,false)","v":"#N/A"},{"$f":"VLOOKUP(A565,'Copy of Export'!$A$2:$AF2350,2,false)","v":"#N/A"},{"$f":"VLOOKUP(A565,'Copy of Export'!$A$2:$AF2350,5,false)","v":"#N/A"},{"$f":"VLOOKUP(A565,'Copy of Export'!$A$2:$AF2350,8,false)","v":"#N/A"}]
[null,{"$f":"VLOOKUP(A566,'Copy of Export'!$A$2:$AF2350,5,false)","v":"#N/A"},{"$f":"VLOOKUP(A566,'Copy of Export'!$A$2:$AF2350,13,false)","v":"#N/A"},{"$f":"VLOOKUP(A566,'Copy of Export'!$A$2:$AF2350,2,false)","v":"#N/A"},{"$f":"VLOOKUP(A566,'Copy of Export'!$A$2:$AF2350,5,false)","v":"#N/A"},{"$f":"VLOOKUP(A566,'Copy of Export'!$A$2:$AF2350,8,false)","v":"#N/A"}]
[null,{"$f":"VLOOKUP(A567,'Copy of Export'!$A$2:$AF2350,5,false)","v":"#N/A"},{"$f":"VLOOKUP(A567,'Copy of Export'!$A$2:$AF2350,13,false)","v":"#N/A"},{"$f":"VLOOKUP(A567,'Copy of Export'!$A$2:$AF2350,2,false)","v":"#N/A"},{"$f":"VLOOKUP(A567,'Copy of Export'!$A$2:$AF2350,5,false)","v":"#N/A"},{"$f":"VLOOKUP(A567,'Copy of Export'!$A$2:$AF2350,8,false)","v":"#N/A"}]
[null,{"$f":"VLOOKUP(A568,'Copy of Export'!$A$2:$AF2350,5,false)","v":"#N/A"},{"$f":"VLOOKUP(A568,'Copy of Export'!$A$2:$AF2350,13,false)","v":"#N/A"},{"$f":"VLOOKUP(A568,'Copy of Export'!$A$2:$AF2350,2,false)","v":"#N/A"},{"$f":"VLOOKUP(A568,'Copy of Export'!$A$2:$AF2350,5,false)","v":"#N/A"},{"$f":"VLOOKUP(A568,'Copy of Export'!$A$2:$AF2350,8,false)","v":"#N/A"}]
[null,{"$f":"VLOOKUP(A569,'Copy of Export'!$A$2:$AF2350,5,false)","v":"#N/A"},{"$f":"VLOOKUP(A569,'Copy of Export'!$A$2:$AF2350,13,false)","v":"#N/A"},{"$f":"VLOOKUP(A569,'Copy of Export'!$A$2:$AF2350,2,false)","v":"#N/A"},{"$f":"VLOOKUP(A569,'Copy of Export'!$A$2:$AF2350,5,false)","v":"#N/A"},{"$f":"VLOOKUP(A569,'Copy of Export'!$A$2:$AF2350,8,false)","v":"#N/A"}]
[null,{"$f":"VLOOKUP(A570,'Copy of Export'!$A$2:$AF2350,5,false)","v":"#N/A"},{"$f":"VLOOKUP(A570,'Copy of Export'!$A$2:$AF2350,13,false)","v":"#N/A"},{"$f":"VLOOKUP(A570,'Copy of Export'!$A$2:$AF2350,2,false)","v":"#N/A"},{"$f":"VLOOKUP(A570,'Copy of Export'!$A$2:$AF2350,5,false)","v":"#N/A"},{"$f":"VLOOKUP(A570,'Copy of Export'!$A$2:$AF2350,8,false)","v":"#N/A"}]
[null,{"$f":"VLOOKUP(A571,'Copy of Export'!$A$2:$AF2350,5,false)","v":"#N/A"},{"$f":"VLOOKUP(A571,'Copy of Export'!$A$2:$AF2350,13,false)","v":"#N/A"},{"$f":"VLOOKUP(A571,'Copy of Export'!$A$2:$AF2350,2,false)","v":"#N/A"},{"$f":"VLOOKUP(A571,'Copy of Export'!$A$2:$AF2350,5,false)","v":"#N/A"},{"$f":"VLOOKUP(A571,'Copy of Export'!$A$2:$AF2350,8,false)","v":"#N/A"}]
[null,{"$f":"VLOOKUP(A572,'Copy of Export'!$A$2:$AF2350,5,false)","v":"#N/A"},{"$f":"VLOOKUP(A572,'Copy of Export'!$A$2:$AF2350,13,false)","v":"#N/A"},{"$f":"VLOOKUP(A572,'Copy of Export'!$A$2:$AF2350,2,false)","v":"#N/A"},{"$f":"VLOOKUP(A572,'Copy of Export'!$A$2:$AF2350,5,false)","v":"#N/A"},{"$f":"VLOOKUP(A572,'Copy of Export'!$A$2:$AF2350,8,false)","v":"#N/A"}]
[null,{"$f":"VLOOKUP(A573,'Copy of Export'!$A$2:$AF2350,5,false)","v":"#N/A"},{"$f":"VLOOKUP(A573,'Copy of Export'!$A$2:$AF2350,13,false)","v":"#N/A"},{"$f":"VLOOKUP(A573,'Copy of Export'!$A$2:$AF2350,2,false)","v":"#N/A"},{"$f":"VLOOKUP(A573,'Copy of Export'!$A$2:$AF2350,5,false)","v":"#N/A"},{"$f":"VLOOKUP(A573,'Copy of Export'!$A$2:$AF2350,8,false)","v":"#N/A"}]
[null,{"$f":"VLOOKUP(A574,'Copy of Export'!$A$2:$AF2350,5,false)","v":"#N/A"},{"$f":"VLOOKUP(A574,'Copy of Export'!$A$2:$AF2350,13,false)","v":"#N/A"},{"$f":"VLOOKUP(A574,'Copy of Export'!$A$2:$AF2350,2,false)","v":"#N/A"},{"$f":"VLOOKUP(A574,'Copy of Export'!$A$2:$AF2350,5,false)","v":"#N/A"},{"$f":"VLOOKUP(A574,'Copy of Export'!$A$2:$AF2350,8,false)","v":"#N/A"}]
[null,{"$f":"VLOOKUP(A575,'Copy of Export'!$A$2:$AF2350,5,false)","v":"#N/A"},{"$f":"VLOOKUP(A575,'Copy of Export'!$A$2:$AF2350,13,false)","v":"#N/A"},{"$f":"VLOOKUP(A575,'Copy of Export'!$A$2:$AF2350,2,false)","v":"#N/A"},{"$f":"VLOOKUP(A575,'Copy of Export'!$A$2:$AF2350,5,false)","v":"#N/A"},{"$f":"VLOOKUP(A575,'Copy of Export'!$A$2:$AF2350,8,false)","v":"#N/A"}]
[null,{"$f":"VLOOKUP(A576,'Copy of Export'!$A$2:$AF2350,5,false)","v":"#N/A"},{"$f":"VLOOKUP(A576,'Copy of Export'!$A$2:$AF2350,13,false)","v":"#N/A"},{"$f":"VLOOKUP(A576,'Copy of Export'!$A$2:$AF2350,2,false)","v":"#N/A"},{"$f":"VLOOKUP(A576,'Copy of Export'!$A$2:$AF2350,5,false)","v":"#N/A"},{"$f":"VLOOKUP(A576,'Copy of Export'!$A$2:$AF2350,8,false)","v":"#N/A"}]
{"$rows_empty":111}
["4 BOXES OF CABLES"]
["KEYBOARD ( 12 QUANTITY)",{"$nulls":4},"​"]
["2 BOXES ADAPTERS"]
["1 BOX 23 MICE"]
["1 BOX DONGLES",{"$nulls":4},"​"]
["1 BOX MISC"]
["1 BOX REMOTES",{"$nulls":4},"​"]
["1 BOX 12 KEYBOARDS"]
["1 BOX 9 HEADPHONES"]
["1 BOX MISC ELMO AND PROJECTOR"]
["1 BOX LENOVO DOCKS"]
["1 BOX MISC LAPTOP PARTS"]
["1 BOX OF 13 TV-ATORS"]
["2 BOXES OF CLICKER"]
["HP PRO CURVE SWITCH 1400"]
["XIRRIUS XR600 AP"]
["LENOVO DESKTOP TOWER"]
["1 BOX 56 Radius DTR650"]
["1 BOX 26 CHARGER BASES"]
["1 BOX 40 RADIUS CHARGER BASES"]
["1 BOX 27 CHARGER BASES"]
["1 BOX 39 RADIUS DTR650"]
["1 BOX 52 CHARGER BASES"]
["1 BOX 52 RADIUS DTR650"]

{"sheet":"Copy of Export","index":4,"n_rows":49394,"n_cols":32,"rows_kept":4500,"cut":true,"hidden":true,"bounds":{"rows_first":2000,"rows_last":500,"rows_between":2000,"halvings":0}}
["Asset Tag ID","Serial No","Site","Location","Description","Assigned to","Status","Category","Purchase Date","Cost","PO Number","Purchased from","Model","Brand","Assigned","MAC Address","Replacement Year","IP Address","Acct Code","MaintenanceType","Maintenance Date","GrantErate","Miscellaneous","Date of Exit","Reason of Exit","Comment","Model Code","Location Change Reason","Lease Start Year","Department","Date Created","Created by"]
["30301",{"$nulls":3},"Elem Issue iPad",null,"Available","iPad",{"$nulls":22},"08/12/2020 03:47 PM","Mary Plass"]
["51573",{"$nulls":3},"Intel Compute Stick",null,"Available","Compute Stick",{"$nulls":4},"STK1AW32SC","Intel",{"$nulls":15},"Technology","03/08/2019 02:16 PM","Mary Plass"]
["58505","TLJC310176",null,null,"TMO T9 TestDrive Mobile Hotspot",null,"Available","Hotspot",{"$nulls":3},"T-Mobile","T9","T-Mobile",null,"F463494B4BF2",{"$nulls":6},"IMEI: 355827103101751",{"$nulls":4},"Issued for Virtual Learning - COVID-19",null,null,"04/16/2020 02:10 PM","Mary Plass"]
["58506","TLJC310177",null,null,"TMO T9 TestDrive Mobile Hotspot",null,"Available","Hotspot",{"$nulls":3},"T-Mobile","T9","T-Mobile",null,"F463494B4BF3",{"$nulls":6},"IMEI: 355827103101769",{"$nulls":4},"Issued for Virtual Learning - COVID-19",null,null,"04/16/2020 02:10 PM","Mary Plass"]
["58508","TLJC310179",null,null,"TMO T9 TestDrive Mobile Hotspot",null,"Available","Hotspot",{"$nulls":3},"T-Mobile","T9","T-Mobile",null,"F463494B4BF5",{"$nulls":6},"IMEI: 355827103101785",{"$nulls":4},"Issued for Virtual Learning - COVID-19",null,null,"04/16/2020 02:10 PM","Mary Plass"]
["58509","TLJC310180",null,null,"TMO T9 TestDrive Mobile Hotspot",null,"Available","Hotspot",{"$nulls":3},"T-Mobile","T9","T-Mobile",null,"F463494B4BF6",{"$nulls":6},"IMEI: 355827103101793",{"$nulls":4},"Issued for Virtual Learning - COVID-19",null,null,"04/16/2020 02:10 PM","Mary Plass"]
["58513","TLJC309687",null,null,"TMO T9 TestDrive Mobile Hotspot",null,"Available","Hotspot",{"$nulls":3},"T-Mobile","T9","T-Mobile",null,"F463494B4A09",{"$nulls":6},"IMEI: 355827103096860",{"$nulls":4},"Issued for Virtual Learning - COVID-19",null,null,"04/16/2020 02:10 PM","Mary Plass"]
["58514","TLJC309686",null,null,"TMO T9 TestDrive Mobile Hotspot",null,"Available","Hotspot",{"$nulls":3},"T-Mobile","T9","T-Mobile",null,"F463494B4A08",{"$nulls":6},"IMEI: 355827103096852",{"$nulls":4},"Issued for Virtual Learning - COVID-19",null,null,"04/16/2020 02:10 PM","Mary Plass"]
["58515","TLJC307326",null,null,"TMO T9 TestDrive Mobile Hotspot",null,"Available","Hotspot",{"$nulls":3},"T-Mobile","T9","T-Mobile",null,"F463494B40D0",{"$nulls":6},"IMEI: 355827103073257",{"$nulls":7},"04/16/2020 02:10 PM","Mary Plass"]
["58516","TLJC307330",null,null,"TMO T9 TestDrive Mobile Hotspot",null,"Available","Hotspot",{"$nulls":3},"T-Mobile","T9","T-Mobile",null,"F463494B40D4",{"$nulls":6},"IMEI: 355827103073299",{"$nulls":4},"Issued for Virtual Learning - COVID-19",null,null,"04/16/2020 02:10 PM","Mary Plass"]
["58517","TLJC307327",null,null,"TMO T9 TestDrive Mobile Hotspot",null,"Available","Hotspot",{"$nulls":3},"T-Mobile","T9","T-Mobile",null,"F463494B40D1",{"$nulls":6},"IMEI: 355827103073265",{"$nulls":4},"Issued for Virtual Learning - COVID-19",null,null,"04/16/2020 02:10 PM","Mary Plass"]
["58518","TLJC307328",null,null,"TMO T9 TestDrive Mobile Hotspot",null,"Available","Hotspot",null,null,"TLJC307329","T-Mobile","T9","T-Mobile","TLJC307330","F463494B40D2",{"$nulls":6},"IMEI: 355827103073273",{"$nulls":4},"Issued for Virtual Learning - COVID-19",null,null,"04/16/2020 02:10 PM","Mary Plass"]
["58519","TLJC307329",null,null,"TMO T9 TestDrive Mobile Hotspot",null,"Available","Hotspot",{"$nulls":3},"T-Mobile","T9","T-Mobile",null,"F463494B40D3",{"$nulls":6},"IMEI: 355827103073281",{"$nulls":4},"Issued for Virtual Learning - COVID-19",null,null,"04/16/2020 02:10 PM","Mary Plass"]
["58520","TLJC306909",null,null,"TMO T9 TestDrive Mobile Hotspot",null,"Available","Hotspot",{"$nulls":3},"T-Mobile","T9","T-Mobile",null,"F463494B3F2F",{"$nulls":6},"IMEI: 355827103069081",{"$nulls":4},"Issued for Virtual Learning - COVID-19",null,null,"04/16/2020 02:10 PM","Mary Plass"]
["58521","TLJC306910",null,null,"TMO T9 TestDrive Mobile Hotspot",null,"Available","Hotspot",{"$nulls":3},"T-Mobile","T9","T-Mobile",null,"F463494B3F30",{"$nulls":6},"IMEI: 355827103069099",{"$nulls":4},"Issued for Virtual Learning - COVID-19",null,null,"04/16/2020 02:10 PM","Mary Plass"]
["58522","TLJC306908",null,null,"TMO T9 TestDrive Mobile Hotspot",null,"Available","Hotspot",{"$nulls":3},"T-Mobile","T9","T-Mobile",null,"F463494B3F2E",{"$nulls":6},"IMEI: 355827103069073",{"$nulls":4},"Issued for Virtual Learning - COVID-19",null,null,"04/16/2020 02:10 PM","Mary Plass"]
["58503","TLJC306906",null,null,"TMO T9 TestDrive Mobile Hotspot",null,"Available","Hotspot",{"$nulls":3},"T-Mobile","T9","T-Mobile",null,"F463494B3F2C",{"$nulls":6},"IMEI: 355827103069057",{"$nulls":4},"Issued for Virtual Learning - COVID-19",null,null,"04/16/2020 02:10 PM","Mary Plass"]
["58511","TLJC309689",null,null,"TMO T9 TestDrive Mobile Hotspot",null,"Available","Hotspot",{"$nulls":3},"T-Mobile","T9","T-Mobile",null,"F463494B4A0B",{"$nulls":6},"IMEI: 355827103096886",{"$nulls":4},"Issued for Virtual Learning - COVID-19",null,null,"04/16/2020 02:10 PM","Mary Plass"]
["55803","DMPYWWEWJF8J",null,null,"Apple iPad 32GB WIFI (6th Gen)",null,"Available","iPad","2019-06-25","294.00","20-57432","Apple","PR8A2LL/A","Apple","ISLAB19-16","c42ad0d037d7","2024/2025",null,"TE PD",{"$nulls":7},"A1893","IPRedistribute",null,"2nd Grade","06/27/2019 10:19 AM","Mary Plass"]
["56271","R90VG3C4","Central Office",null,"Lenovo ThinkPad L380 Yoga (Core i5-8250U, 8GB, 256GB)",null,"Available","Laptop","2019-07-24","865.00","19-58509","Firefly Computers","L380 Yoga","Lenovo","Sarah Valter","84fdd16a8263","2024/2025",null,"TE PD",{"$nulls":7},"20M7000MUS",null,null,"Teaching & Learning","07/24/2019 02:13 PM","Mary Plass"]
["55734","DMPYWVE3JF8J","Central Office",null,"Apple iPad 32GB WIFI (6th Gen)",null,"Available","iPad","2019-06-25","294.00","20-57432","Apple","PR8A2LL/A","Apple","Corey Paffrath","c42ad0d69f67","2024/2025",null,"TE PD",{"$nulls":7},"A1893",null,null,"Science","06/27/2019 10:19 AM","Mary Plass"]
["54914","FVFYR23FJK77","Central Office",null,"Apple MacBook Air Intel Core i5, 8GB, 128GB SSD (2018)",null,"Available","MacBook","2019-06-27","1,053.07","20-57432","Apple","MRF82LL/A","Apple","Deanna Folluo",null,"2024/2025",null,"TE PD",{"$nulls":6},"IMPACT STUDY","MRF82LL/A",null,null,"4th Grade","07/15/2019 11:53 AM","Mary Plass"]
["58504","TLJC306907","Central Office",null,"TMO T9 TestDrive Mobile Hotspot",null,"Available","Hotspot",{"$nulls":3},"T-Mobile","T9","T-Mobile","Willoughby Williams","F463494B3F2D",{"$nulls":6},"IMEI: 355827103069065",{"$nulls":6},"Facilities","04/16/2020 02:10 PM","Mary Plass"]
["54593","1415511","Concord Elementary",null,"ELMO TT-12iD Document Camera",null,"Available","Document Camera","2018-11-20","567.37","19-56170","ITsavvy","TT-12iD","ELMO","LTA",{"$nulls":3},"TE PD",{"$nulls":11},"01/29/2019 01:51 PM","Mary Plass"]
["56328","R90VG3FG","Crestwood Elementary",null,"Lenovo ThinkPad L380 Yoga (Core i5-8250U, 8GB, 256GB)",null,"Available","Laptop","2019-07-24","865.00","19-58509","Firefly Computers","L380 Yoga","Lenovo",null,"84fdd16777a3","2024/2025",null,"TE PD",{"$nulls":7},"20M7000MUS",null,null,"Technology","07/24/2019 02:13 PM","Mary Plass"]
["56266","R90VG3BV","Crestwood Elementary",null,"Lenovo ThinkPad L380 Yoga (Core i5-8250U, 8GB, 256GB)",null,"Available","Laptop","2019-07-24","865.00","19-58509","Firefly Computers","L380 Yoga","Lenovo",null,"84fdd16a826d","2024/2025",null,"TE PD",{"$nulls":7},"20M7000MUS",{"$nulls":3},"07/24/2019 02:13 PM","Mary Plass"]
["56332","R90VG3E4","Dressel Elementary",null,"Lenovo ThinkPad L380 Yoga (Core i5-8250U, 8GB, 256GB)",null,"Available","Laptop","2019-07-24","865.00","19-58509","Firefly Computers","L380 Yoga","Lenovo","Mary Plass","84fdd16778ac","2024/2025",null,"TE PD",{"$nulls":7},"20M7000MUS",null,null,"Technology","07/24/2019 02:13 PM","Mary Plass"]
["55216","P204V7QX","Dressel Elementary",null,"Lenovo 500e Chromebook (Gen 2)",null,"Available","Chromebook","2019-07-11","309.00","20-57400","Firefly Computers","500e","Lenovo",null,"58a023390ac1","2024/2025",null,"TE PD",{"$nulls":6},"Impact Study","81MC001EUS","CBRedistribute",null,null,"07/11/2019 10:33 AM","Mary Plass"]
["55052","P204UMTA","Dressel Elementary",null,"Lenovo 500e Chromebook (Gen 2)",null,"Available","Chromebook","2019-07-11","309.00","20-57400","Firefly Computers","500e","Lenovo",null,"58a0235d2244","2024/2025",null,"TE PD",{"$nulls":6},"Impact Study","81MC001EUS","Issued for Virtual Learning - COVID-19",null,null,"07/11/2019 10:33 AM","Mary Plass"]
["55114","P204V7YN","Sperreng Middle",null,"Lenovo 500e Chromebook (Gen 2)",null,"Available","Chromebook","2019-07-11","309.00","20-57400","Firefly Computers","500e","Lenovo","ISLAB11-03","58a023391ade","2024/2025",null,"TE PD",{"$nulls":6},"Impact Study","81MC001EUS","CBRedistribute",null,"Science","07/11/2019 10:33 AM","Mary Plass"]
["55081","P204V7Z0","Sperreng Middle",null,"Lenovo 500e Chromebook (Gen 2)",null,"Available","Chromebook","2019-07-11","309.00","20-57400","Firefly Computers","500e","Lenovo","ISLAB12-14","3cf011fbb6bb","2024/2025",null,"TE PD",{"$nulls":6},"Impact Study","81MC001EUS","CBRedistribute",null,"Social Studies","07/11/2019 10:33 AM","Mary Plass"]
["55275","P204V6XH","Sperreng Middle",null,"Lenovo 500e Chromebook (Gen 2)",null,"Available","Chromebook","2019-07-11","309.00","20-57400","Firefly Computers","500e","Lenovo","ISLAB6-06","58a0235c9e87","2024/2025",null,"TE PD",{"$nulls":6},"Impact Study","81MC001EUS","CBRedistribute",null,"5th Grade","07/11/2019 10:33 AM","Mary Plass"]
["55273","P204V6PU","Concord Elementary","003 (The Hub)","Lenovo 500e Chromebook (Gen 2)",null,"Available","Chromebook","2019-07-11","309.00","20-57400","Firefly Computers","500e","Lenovo",null,"3cf011fd0999","2024/2025",null,"TE PD",{"$nulls":6},"Impact Study","81MC001EUS","Issued for Virtual Learning - COVID-19",null,null,"07/11/2019 10:33 AM","Mary Plass"]
["54598","1416034","Concord Elementary","013","ELMO TT-12iD Document Camera",null,"Available","Document Camera","2018-11-20","567.37","19-56170","ITsavvy","TT-12iD","ELMO","Christine Nikodem",{"$nulls":3},"TE PD",{"$nulls":11},"01/29/2019 01:51 PM","Mary Plass"]
["54594","1415512","Concord Elementary","032","ELMO TT-12iD Document Camera",null,"Available","Document Camera","2018-11-20","567.37","19-56170","ITsavvy","TT-12iD","ELMO",{"$nulls":4},"TE PD",{"$nulls":10},"5th Grade","01/29/2019 01:51 PM","Mary Plass"]
["53449",null,"Concord Elementary","042","ELMO TT-12 Document Camera",null,"Available","Document Camera",{"$nulls":4},"TT-12","ELMO",{"$nulls":16},"03/08/2019 08:05 AM","Mary Plass"]
["54587","1415532","Crestwood Elementary","007","ELMO TT-12iD Document Camera",null,"Available","Document Camera","2018-11-20","567.37","19-56170","ITsavvy","TT-12iD","ELMO",{"$nulls":4},"TE PD",{"$nulls":10},"Kindergarten","01/29/2019 01:51 PM","Mary Plass"]
["53874","DMPXQPHUJF8K","Crestwood Elementary","018","iPad (6th Generation)",null,"Available","iPad",{"$nulls":4},"iPad","Apple","Christy Kelsch","8cfe57c459b1",{"$nulls":5},"Grant",{"$nulls":7},"2nd Grade","02/11/2019 09:24 AM","Mary Plass"]
["55713","DMPYRXKEJF8J","Crestwood Elementary","Office","Apple iPad 32GB WIFI (6th Gen)",null,"Available","iPad","2019-06-25","294.00","20-57432","Apple","PR8A2LL/A","Apple","CR SUB LOANER","c42ad0db7eea","2024/2025",null,"TE PD",{"$nulls":7},"A1893","IPRedistribute",null,"Science","06/27/2019 10:19 AM","Mary Plass"]
["56059","DMPYWVHXJF8J","Crestwood Elementary","Office","Apple iPad 32GB WIFI (6th Gen)",null,"Available","iPad","2019-06-25","294.00","20-57432","Apple","PR8A2LL/A","Apple","CR SUB LOANER","c42ad0e15f98","2024/2025",null,"TE PD",{"$nulls":7},"A1893",null,null,"Science","06/27/2019 10:19 AM","Mary Plass"]
["54592","1415525","Crestwood Elementary","035","ELMO TT-12iD Document Camera",null,"Available","Document Camera","2018-11-20","567.37","19-56170","ITsavvy","TT-12iD","ELMO",{"$nulls":4},"TE PD",{"$nulls":10},"5th Grade","01/29/2019 01:51 PM","Mary Plass"]
["56378","R90VG3CT","Central Office","216","Lenovo ThinkPad L380 Yoga (Core i5-8250U, 8GB, 256GB)",null,"Available","Laptop","2019-07-24","865.00","19-58509","Firefly Computers","L380 Yoga","Lenovo","Maria Clancy","84fdd16a8290","2024/2025",null,"TE PD",{"$nulls":7},"20M7000MUS",null,null,"3rd Grade","07/24/2019 02:13 PM","Mary Plass"]
["56349","R90VG3BY","Central Office","216","Lenovo ThinkPad L380 Yoga (Core i5-8250U, 8GB, 256GB)",null,"Available","Laptop","2019-07-24","865.00","19-58509","Firefly Computers","L380 Yoga","Lenovo","Stephanie Kempfer","84fdd168fdad","2024/2025",null,"TE PD",{"$nulls":7},"20M7000MUS",{"$nulls":3},"07/24/2019 02:13 PM","Mary Plass"]
["52236","X28C8403869","Kennerly Elementary","104","Epson Brighlink 695Wi Projector",null,"Available","Projector",{"$nulls":4},"Brightlink 695Wi","Epson","K. Beinart",{"$nulls":14},"5th Grade","05/09/2019 10:41 AM","Mary Plass"]
["52410","X28C7603118","Kennerly Elementary","202","Epson Brighlink 695Wi Projector",null,"Available","Projector",{"$nulls":4},"Brightlink 695Wi","Epson","KE-202",{"$nulls":14},"5th Grade","05/09/2019 10:44 AM","Mary Plass"]
["54567","1415552","Lindbergh High School","211","ELMO TT-12iD Document Camera",null,"Available","Document Camera","2018-11-20","567.37","19-56170","ITsavvy","TT-12iD","ELMO",{"$nulls":4},"TE PD",{"$nulls":11},"01/29/2019 01:51 PM","Mary Plass"]
["54566","1415528","Lindbergh High School","221","ELMO TT-12iD Document Camera",null,"Available","Document Camera","2018-11-20","567.37","19-56170","ITsavvy","TT-12iD","ELMO",{"$nulls":4},"TE PD",{"$nulls":11},"01/29/2019 01:51 PM","Mary Plass"]
["54569","1415553","Lindbergh High School","201","ELMO TT-12iD Document Camera",null,"Available","Document Camera","2018-11-20","567.37","19-56170","ITsavvy","TT-12iD","ELMO",{"$nulls":4},"TE PD",{"$nulls":11},"01/29/2019 01:51 PM","Mary Plass"]
["54582","1415508","Lindbergh High School","222","ELMO TT-12iD Document Camera",null,"Available","Document Camera","2018-11-20","567.37","19-56170","ITsavvy","TT-12iD","ELMO",{"$nulls":4},"TE PD",{"$nulls":11},"01/29/2019 01:51 PM","Mary Plass"]
["54568","1415534","Lindbergh High School","210","ELMO TT-12iD Document Camera",null,"Available","Document Camera","2018-11-20","567.37","19-56170","ITsavvy","TT-12iD","ELMO",{"$nulls":4},"TE PD",{"$nulls":11},"01/29/2019 01:51 PM","Mary Plass"]
["54574","1415519","Lindbergh High School","037","ELMO TT-12iD Document Camera",null,"Available","Document Camera","2018-11-20","567.37","19-56170","ITsavvy","TT-12iD","ELMO",{"$nulls":4},"TE PD",{"$nulls":11},"01/29/2019 01:51 PM","Mary Plass"]
["54572","1415514","Lindbergh High School","101","ELMO TT-12iD Document Camera",null,"Available","Document Camera","2018-11-20","567.37","19-56170","ITsavvy","TT-12iD","ELMO",{"$nulls":4},"TE PD",{"$nulls":11},"01/29/2019 01:51 PM","Mary Plass"]
["54571","1415524","Lindbergh High School","102","ELMO TT-12iD Document Camera",null,"Available","Document Camera","2018-11-20","567.37","19-56170","ITsavvy","TT-12iD","ELMO",{"$nulls":4},"TE PD",{"$nulls":11},"01/29/2019 01:51 PM","Mary Plass"]
["54588","1415533","Lindbergh High School","225","ELMO TT-12iD Document Camera",null,"Available","Document Camera","2018-11-20","567.37","19-56170","ITsavvy","TT-12iD","ELMO",{"$nulls":4},"TE PD",{"$nulls":11},"01/29/2019 01:51 PM","Mary Plass"]
["54590","1415527","Lindbergh High School","225","ELMO TT-12iD Document Camera",null,"Available","Document Camera","2018-11-20","567.37","19-56170","ITsavvy","TT-12iD","ELMO",{"$nulls":4},"TE PD",{"$nulls":11},"01/29/2019 01:51 PM","Mary Plass"]
["54589","1415530","Lindbergh High School","224","ELMO TT-12iD Document Camera",null,"Available","Document Camera","2018-11-20","567.37","19-56170","ITsavvy","TT-12iD","ELMO",{"$nulls":4},"TE PD",{"$nulls":11},"01/29/2019 01:51 PM","Mary Plass"]
["54573","1415526","Lindbergh High School","031","ELMO TT-12iD Document Camera",null,"Available","Document Camera","2018-11-20","567.37","19-56170","ITsavvy","TT-12iD","ELMO",{"$nulls":4},"TE PD",{"$nulls":11},"01/29/2019 01:51 PM","Mary Plass"]
["53464","1408740","Lindbergh High School","206","ELMO TT-12 Document Camera",null,"Available","Document Camera",{"$nulls":4},"TT-12","ELMO",{"$nulls":15},"Technology","03/07/2019 12:39 PM","Mary Plass"]
["51507","GOGV25WFHLFD","Lindbergh High School","c58","Apple iPad",null,"Available","iPad",{"$nulls":4},"iPad","Apple",{"$nulls":16},"03/07/2019 12:55 PM","Mary Plass"]
["55594","DMPYWX1WJF8J","Lindbergh High School","Auditorium Foyer","Apple iPad 32GB WIFI (6th Gen)",null,"Available","iPad","2019-06-25","294.00","20-57432","Apple","PR8A2LL/A","Apple",null,"c42ad0e3d106","2024/2025",null,"TE PD",{"$nulls":7},"A1893",null,null,"Technology","06/27/2019 10:19 AM","Mary Plass"]
["35998","MGM7870P04964","Lindbergh High School","354","Gateway Monitor",null,"Available","Monitor",{"$nulls":4},"FPD1775","Gateway",{"$nulls":15},"Technology","02/19/2019 03:11 PM","Mary Plass"]
["55898","DMPYWVKHJF8J","Long Elementary","Office","Apple iPad 32GB WIFI (6th Gen)",null,"Available","iPad","2019-06-25","294.00","20-57432","Apple","PR8A2LL/A","Apple","ISLAB23-15","c42ad0de7e16","2024/2025",null,"TE PD",{"$nulls":7},"A1893","IPRedistribute",null,null,"06/27/2019 10:19 AM","Mary Plass"]
["55564","DMPYWVN9JF8J","Long Elementary","033","Apple iPad 32GB WIFI (6th Gen)",null,"Available","iPad","2019-06-25","294.00","20-57432","Apple","PR8A2LL/A","Apple","LO033-02","c42ad0db4ead","2024/2025",null,"TE PD",{"$nulls":7},"A1893",{"$nulls":3},"06/27/2019 10:19 AM","Mary Plass"]
["56285","R90VG3ES","Sappington Elementary","041","Lenovo ThinkPad L380 Yoga (Core i5-8250U, 8GB, 256GB)",null,"Available","Laptop","2019-07-24","865.00","19-58509","Firefly Computers","L380 Yoga","Lenovo","Chelsey Meyer","84fdd1678d8d","2024/2025",null,"TE PD",{"$nulls":7},"20M7000MUS",{"$nulls":3},"07/24/2019 02:13 PM","Mary Plass"]
["54912","C02YL6JYJK77","Sappington Elementary","016","Apple MacBook Air Intel Core i5, 8GB, 128GB SSD (2018)",null,"Available","MacBook","2019-06-27","1,053.07","20-57432","Apple","MRF82LL/A","Apple","Kara Hickey","38f9d3aa15ef","2024/2025",null,"TE PD",{"$nulls":6},"IMPACT STUDY","MRE82LL/A",null,null,"1st Grade","07/15/2019 11:53 AM","Mary Plass"]
["54576","1415531","Sperreng Middle","010 (Lab 10)","ELMO TT-12iD Document Camera",null,"Available","Document Camera","2018-11-20","567.37","19-56170","ITsavvy","TT-12iD","ELMO",{"$nulls":4},"TE PD",{"$nulls":11},"01/29/2019 01:51 PM","Mary Plass"]
["55085","P204V82B","Sperreng Middle","217","Lenovo 500e Chromebook (Gen 2)",null,"Available","Chromebook","2019-07-11","309.00","20-57400","Firefly Computers","500e","Lenovo","ISLAB12-10","58a02339a3af","2024/2025",null,"TE PD",{"$nulls":6},"Impact Study","81MC001EUS",null,null,"Social Studies","07/11/2019 10:33 AM","Mary Plass"]
["55238","P204V7D6","Sperreng Middle","217","Lenovo 500e Chromebook (Gen 2)",null,"Available","Chromebook","2019-07-11","309.00","20-57400","Firefly Computers","500e","Lenovo","ISLAB12-21","3cf011e17580","2024/2025",null,"TE PD",{"$nulls":6},"Impact Study","81MC001EUS","Issued for Virtual Learning - COVID-19",null,"Social Studies","07/11/2019 10:33 AM","Mary Plass"]
["55176","P204V802","Sperreng Middle","217","Lenovo 500e Chromebook (Gen 2)",null,"Available","Chromebook","2019-07-11","309.00","20-57400","Firefly Computers","500e","Lenovo","ISLAB10-19","3cf011fb8e89","2024/2025",null,"TE PD",{"$nulls":6},"Impact Study","81MC001EUS","Issued for Virtual Learning - COVID-19",null,"English","07/11/2019 10:33 AM","Mary Plass"]
["55021","P204UMY5","Sperreng Middle","217","Lenovo 500e Chromebook (Gen 2)",null,"Available","Chromebook","2019-07-11","309.00","20-57400","Firefly Computers","500e","Lenovo","ISLAB14-01","3cf011e3f459","2024/2025",null,"TE PD",{"$nulls":6},"Impact Study","81MC001EUS","Issued for Virtual Learning - COVID-19",null,"Technology","07/11/2019 10:33 AM","Mary Plass"]
["55305","P204UMVC","Sperreng Middle","217","Lenovo 500e Chromebook (Gen 2)",null,"Available","Chromebook","2019-07-11","309.00","20-57400","Firefly Computers","500e","Lenovo","ISLAB6-22","58a0235e64b5","2024/2025",null,"TE PD",{"$nulls":6},"Impact Study","81MC001EUS","CBRedistribute",null,"5th Grade","07/11/2019 10:33 AM","Mary Plass"]
["55155","P204V6DK","Sperreng Middle","217","Lenovo 500e Chromebook (Gen 2)",null,"Available","Chromebook","2019-07-11","309.00","20-57400","Firefly Computers","500e","Lenovo","ISLAB16-02","3cf011e1c1e8","2024/2025",null,"TE PD",{"$nulls":6},"Impact Study","81MC001EUS","CBRedistribute",null,"Technology","07/11/2019 10:33 AM","Mary Plass"]
["55396","P204V7L6","Sperreng Middle","217","Lenovo 500e Chromebook (Gen 2)",null,"Available","Chromebook","2019-07-11","309.00","20-57400","Firefly Computers","500e","Lenovo","ISLAB16-06","58a0235cac01","2024/2025",null,"TE PD",{"$nulls":6},"Impact Study","81MC001EUS","Issued for Virtual Learning - COVID-19",null,"Technology","07/11/2019 10:33 AM","Mary Plass"]
["55026","P204V7S1","Sperreng Middle","217","Lenovo 500e Chromebook (Gen 2)",null,"Available","Chromebook","2019-07-11","309.00","20-57400","Firefly Computers","500e","Lenovo","ISLAB15-12","58a0235e762b","2024/2025",null,"TE PD",{"$nulls":6},"Impact Study","81MC001EUS",null,null,"Technology","07/11/2019 10:33 AM","Mary Plass"]
["55392","P204UMDN","Sperreng Middle","217","Lenovo 500e Chromebook (Gen 2)",null,"Available","Chromebook","2019-07-11","309.00","20-57400","Firefly Computers","500e","Lenovo","ISLAB15-14","3cf011e40381","2024/2025",null,"TE PD",{"$nulls":6},"Impact Study","81MC001EUS",null,null,"Technology","07/11/2019 10:33 AM","Mary Plass"]
["55029","P204V70X","Sperreng Middle","217","Lenovo 500e Chromebook (Gen 2)",null,"Available","Chromebook","2019-07-11","309.00","20-57400","Firefly Computers","500e","Lenovo","ISLAB14-19","3cf011fc4130","2024/2025",null,"TE PD",{"$nulls":6},"Impact Study","81MC001EUS","Issued for Virtual Learning - COVID-19",null,"Technology","07/11/2019 10:33 AM","Mary Plass"]
["55028","P204V6JD","Sperreng Middle","217","Lenovo 500e Chromebook (Gen 2)",null,"Available","Chromebook","2019-07-11","309.00","20-57400","Firefly Computers","500e","Lenovo","ISLAB14-20","3cf011e42f3c","2024/2025",null,"TE PD",{"$nulls":6},"Impact Study","81MC001EUS","Issued for Virtual Learning - COVID-19",null,"Technology","07/11/2019 10:33 AM","Mary Plass"]
["55041","P204UMW6","Sperreng Middle","217","Lenovo 500e Chromebook (Gen 2)",null,"Available","Chromebook","2019-07-11","309.00","20-57400","Firefly Computers","500e","Lenovo","ISLAB15-05","58a0235d2532","2024/2025",null,"TE PD",{"$nulls":6},"Impact Study","81MC001EUS",null,null,"Technology","07/11/2019 10:33 AM","Mary Plass"]
["55064","P204SHU9","Sperreng Middle","217","Lenovo 500e Chromebook (Gen 2)",null,"Available","Chromebook","2019-07-11","309.00","20-57401","Firefly Computers","500e","Lenovo","STUDENT-CB-LOANER8","3cf011f919f6","2024/2025",null,"TE PD",{"$nulls":6},"Impact Study","81MC001EUS",null,null,"Technology","07/11/2019 10:33 AM","Mary Plass"]
["55066","P204SJ7L","Sperreng Middle","217","Lenovo 500e Chromebook (Gen 2)",null,"Available","Chromebook","2019-07-11","309.00","20-57401","Firefly Computers","500e","Lenovo","ISLAB17-22","3cf011fb0428","2024/2025",null,"TE PD",{"$nulls":6},"Impact Study","81MC001EUS","Issued for Virtual Learning - COVID-19",null,"Technology","07/11/2019 10:33 AM","Mary Plass"]
["55438","P204UN6N","Sperreng Middle","217","Lenovo 500e Chromebook (Gen 2)",null,"Available","Chromebook","2019-07-11","309.00","20-57400","Firefly Computers","500e","Lenovo","ISLAB9-05","a0510bd2bd3d","2024/2025",null,"TE PD",{"$nulls":6},"Impact Study","81MC001EUS","Issued for Virtual Learning - COVID-19",null,"Math","07/11/2019 10:33 AM","Mary Plass"]
["55443","P204UMM2","Sperreng Middle","217","Lenovo 500e Chromebook (Gen 2)",null,"Available","Chromebook","2019-07-11","309.00","20-57400","Firefly Computers","500e","Lenovo","ISLAB9-10","3cf011e2acb1","2024/2025",null,"TE PD",{"$nulls":6},"Impact Study","81MC001EUS","CBRedistribute",null,"Math","07/11/2019 10:33 AM","Mary Plass"]
["55329","P204V6XQ","Sperreng Middle","217","Lenovo 500e Chromebook (Gen 2)",null,"Available","Chromebook","2019-07-11","309.00","20-57400","Firefly Computers","500e","Lenovo","ISLAB3-10","58a0235ead49","2024/2025",null,"TE PD",{"$nulls":6},"Impact Study","81MC001EUS","CBRedistribute",null,"4th Grade","07/11/2019 10:33 AM","Mary Plass"]
["55248","P204V6MA","Sperreng Middle","217","Lenovo 500e Chromebook (Gen 2)",null,"Available","Chromebook","2019-07-11","309.00","20-57400","Firefly Computers","500e","Lenovo","ISLAB7-03","58a02339ff85","2024/2025",null,"TE PD",{"$nulls":6},"Impact Study","81MC001EUS","CBRedistribute",null,"4th Grade","07/11/2019 10:33 AM","Mary Plass"]
["55223","P204V7EY","Sperreng Middle","217","Lenovo 500e Chromebook (Gen 2)",null,"Available","Chromebook","2019-07-11","309.00","20-57400","Firefly Computers","500e","Lenovo","ISLAB8-02","58a0235ec991","2024/2025",null,"TE PD",{"$nulls":6},"Impact Study","81MC001EUS","CBRedistribute",null,"4th Grade","07/11/2019 10:33 AM","Mary Plass"]
["55228","P204V7A9","Sperreng Middle","217","Lenovo 500e Chromebook (Gen 2)",null,"Available","Chromebook","2019-07-11","309.00","20-57400","Firefly Computers","500e","Lenovo","ISLAB11-22","3cf011e157b2","2024/2025",null,"TE PD",{"$nulls":6},"Impact Study","81MC001EUS","Issued for Virtual Learning - COVID-19",null,"Science","07/11/2019 10:33 AM","Mary Plass"]
["55215","P204V82J","Sperreng Middle","217","Lenovo 500e Chromebook (Gen 2)",null,"Available","Chromebook","2019-07-11","309.00","20-57400","Firefly Computers","500e","Lenovo","ISLAB11-24","58a023391b51","2024/2025",null,"TE PD",{"$nulls":6},"Impact Study","81MC001EUS","Issued for Virtual Learning - COVID-19",null,"Science","07/11/2019 10:33 AM","Mary Plass"]
["55030","P204UN2W","Sperreng Middle","217","Lenovo 500e Chromebook (Gen 2)",null,"Available","Chromebook","2019-07-11","309.00","20-57400","Firefly Computers","500e","Lenovo","ISLAB14-18","3cf011f9a8cb","2024/2025",null,"TE PD",{"$nulls":6},"Impact Study","81MC001EUS","Issued for Virtual Learning - COVID-19",null,null,"07/11/2019 10:33 AM","Mary Plass"]
["55327","P204V73Q","Sperreng Middle","217","Lenovo 500e Chromebook (Gen 2)",null,"Available","Chromebook","2019-07-11","309.00","20-57400","Firefly Computers","500e","Lenovo","ISLAB3-08","58a02339ff76","2024/2025",null,"TE PD",{"$nulls":6},"Impact Study","81MC001EUS","CBRedistribute",null,null,"07/11/2019 10:33 AM","Mary Plass"]
["55323","P204V6TS","Sperreng Middle","217","Lenovo 500e Chromebook (Gen 2)",null,"Available","Chromebook","2019-07-11","309.00","20-57400","Firefly Computers","500e","Lenovo",null,"58a0235c9e7d","2024/2025",null,"TE PD",{"$nulls":6},"Impact Study","81MC001EUS","CBRedistribute",null,null,"07/11/2019 10:33 AM","Mary Plass"]
["53453",null,"Truman Middle","020","ELMO TT-12 Document Camera",null,"Available","Document Camera",{"$nulls":4},"TT-12","ELMO",{"$nulls":16},"03/08/2019 07:48 AM","Mary Plass"]
["53452",null,"Truman Middle","020","ELMO TT-12 Document Camera",null,"Available","Document Camera",{"$nulls":4},"TT-12","ELMO",{"$nulls":16},"03/08/2019 07:54 AM","Mary Plass"]
["53451",null,"Truman Middle","020","ELMO TT-12 Document Camera",null,"Available","Document Camera",{"$nulls":4},"TT-12","ELMO",{"$nulls":16},"03/08/2019 07:56 AM","Mary Plass"]
["53450",null,"Truman Middle","020","ELMO TT-12 Document Camera",null,"Available","Document Camera",{"$nulls":4},"TT-12","ELMO",{"$nulls":16},"03/08/2019 08:00 AM","Mary Plass"]
["53448",null,"Truman Middle","020","ELMO TT-12 Document Camera",null,"Available","Document Camera",{"$nulls":4},"TT-12","ELMO",{"$nulls":16},"03/08/2019 08:08 AM","Mary Plass"]
["53454",null,"Truman Middle","020","ELMO TT-12 Document Camera",null,"Available","Document Camera",{"$nulls":4},"TT-12","ELMO",{"$nulls":16},"03/08/2019 08:30 AM","Mary Plass"]
["44948",null,"Truman Middle","020","ELMO TT-12 Document Camera",null,"Available","Document Camera",{"$nulls":4},"TT-12","ELMO",{"$nulls":16},"03/08/2019 08:35 AM","Mary Plass"]
["55016","P204V7RS","Sperreng Middle","Tech Office","Lenovo 500e Chromebook (Gen 2)",null,"Available","Chromebook","2019-07-11","309.00","20-57400","Firefly Computers","500e","Lenovo","ISLAB14-06","58a0235e4665","2024/2025",null,"TE PD",{"$nulls":6},"Impact Study","81MC001EUS","Issued for Virtual Learning - COVID-19",null,"Technology","07/11/2019 10:33 AM","Mary Plass"]
["55354","P204V6H4","Sperreng Middle","Tech Office","Lenovo 500e Chromebook (Gen 2)",null,"Available","Chromebook","2019-07-11","309.00","20-57400","Firefly Computers","500e","Lenovo","ISLAB9-28","3cf011fbc3ea","2024/2025",null,"TE PD",{"$nulls":6},"Impact Study","81MC001EUS","Issued for Virtual Learning - COVID-19",null,"Math","07/11/2019 10:33 AM","Mary Plass"]
["55132","P204UMUC","Sperreng Middle","Tech Office","Lenovo 500e Chromebook (Gen 2)",null,"Available","Chromebook","2019-07-11","309.00","20-57400","Firefly Computers","500e","Lenovo","ISLAB13-02","58a0235d2249","2024/2025",null,"TE PD",{"$nulls":6},"Impact Study","81MC001EUS","Issued for Virtual Learning - COVID-19",null,"Technology","07/11/2019 10:33 AM","Mary Plass"]
["55455","P204UN7J","Sperreng Middle","Tech Office","Lenovo 500e Chromebook (Gen 2)",null,"Available","Chromebook","2019-07-11","309.00","20-57400","Firefly Computers","500e","Lenovo","ISLAB15-07","3cf011f96fdc","2024/2025",null,"TE PD",{"$nulls":6},"Impact Study","81MC001EUS","Issued for Virtual Learning - COVID-19",null,"Technology","07/11/2019 10:33 AM","Mary Plass"]
["55342","P204V73U","Sperreng Middle","Tech Office","Lenovo 500e Chromebook (Gen 2)",null,"Available","Chromebook","2019-07-11","309.00","20-57400","Firefly Computers","500e","Lenovo","ISLAB3-23","58a0235c7b7d","2024/2025",null,"TE PD",{"$nulls":6},"Impact Study","81MC001EUS","CBRedistribute",null,null,"07/11/2019 10:33 AM","Mary Plass"]
["55175","P204V7YZ","Sperreng Middle","Tech Office","Lenovo 500e Chromebook (Gen 2)",null,"Available","Chromebook","2019-07-11","309.00","20-57400","Firefly Computers","500e","Lenovo","ISLAB10-18","3cf011fb9c2b","2024/2025",null,"TE PD",{"$nulls":6},"Impact Study","81MC001EUS","Issued for Virtual Learning - COVID-19",null,"English","07/11/2019 10:33 AM","Mary Plass"]
["55448","P204UN19","Sperreng Middle","Tech Office","Lenovo 500e Chromebook (Gen 2)",null,"Available","Chromebook","2019-07-11","309.00","20-57400","Firefly Computers","500e","Lenovo","ISLAB10-22","3cf011f7d820","2024/2025",null,"TE PD",{"$nulls":6},"Impact Study","81MC001EUS","CBRedistribute",null,"English","07/11/2019 10:33 AM","Mary Plass"]
["55087","P204V7XX","Sperreng Middle","Tech Office","Lenovo 500e Chromebook (Gen 2)",null,"Available","Chromebook","2019-07-11","309.00","20-57400","Firefly Computers","500e","Lenovo","ISLAB12-08","58a023390b3e","2024/2025",null,"TE PD",{"$nulls":6},"Impact Study","81MC001EUS","CBRedistribute",null,"Social Studies","07/11/2019 10:33 AM","Mary Plass"]
["54595","1416035","Sperreng Middle","203","ELMO TT-12iD Document Camera",null,"Available","Document Camera","2018-11-20","567.37","19-56170","ITsavvy","TT-12iD","ELMO",{"$nulls":4},"TE PD",{"$nulls":11},"01/29/2019 01:51 PM","Mary Plass"]
["54583","1415515","Sperreng Middle","110","ELMO TT-12iD Document Camera",null,"Available","Document Camera","2018-11-20","567.37","19-56170","ITsavvy","TT-12iD","ELMO",{"$nulls":4},"TE PD",{"$nulls":11},"01/29/2019 01:51 PM","Mary Plass"]
["54603","1415988","Sperreng Middle","128","ELMO TT-12iD Document Camera",null,"Available","Document Camera","2018-11-20","567.37","19-56170","ITsavvy","TT-12iD","ELMO",{"$nulls":4},"TE PD",{"$nulls":11},"01/29/2019 01:51 PM","Mary Plass"]
["54575","1415520","Sperreng Middle","132","ELMO TT-12iD Document Camera",null,"Available","Document Camera","2018-11-20","567.37","19-56170","ITsavvy","TT-12iD","ELMO",{"$nulls":4},"TE PD",{"$nulls":11},"01/29/2019 01:51 PM","Mary Plass"]
["54602","1415992","Sperreng Middle","210","ELMO TT-12iD Document Camera",null,"Available","Document Camera","2018-11-20","567.37","19-56170","ITsavvy","TT-12iD","ELMO",{"$nulls":4},"TE PD",{"$nulls":11},"01/29/2019 01:51 PM","Mary Plass"]
["55192","P204V7YV","Sperreng Middle","201","Lenovo 500e Chromebook (Gen 2)",null,"Available","Chromebook","2019-07-11","309.00","20-57400","Firefly Computers","500e","Lenovo","ISLAB10-09","3cf011fbc3b8","2024/2025",null,"TE PD",{"$nulls":6},"Impact Study","81MC001EUS","Issued for Virtual Learning - COVID-19",null,"English","07/11/2019 10:33 AM","Mary Plass"]
["54934","P2035Z1L","Sperreng Middle","Library Chromebook Cart","Lenovo 500e Chromebook (Gen 1)",null,"Available","Chromebook","2019-07-10","295.00","20-57600","Firefly Computers","500e","Lenovo",null,"00bb606463e7","2024/2025",null,"TE PD",{"$nulls":6},"IMPACT STUDY","81ES0007US",{"$nulls":3},"07/15/2019 03:09 PM","Mary Plass"]
["55646","DMPYRYGBJF8J","Sperreng Middle","Guidance Office","Apple iPad 32GB WIFI (6th Gen)",null,"Available","iPad","2019-06-25","294.00","20-57432","Apple","PR8A2LL/A","Apple","TR220-02","c42ad0e4a65f","2024/2025",null,"TE PD",{"$nulls":7},"A1893","IPRedistribute",null,null,"06/27/2019 10:19 AM","Mary Plass"]
["54577","1415523","Sperreng Middle","009 (Lab 9)","ELMO TT-12iD Document Camera",null,"Available","Document Camera","2018-11-20","567.37","19-56170","ITsavvy","TT-12iD","ELMO",{"$nulls":4},"TE PD",{"$nulls":11},"01/29/2019 01:51 PM","Mary Plass"]
["54596","1416025","Sperreng Middle","214","ELMO TT-12iD Document Camera",null,"Available","Document Camera","2018-11-20","567.37","19-56170","ITsavvy","TT-12iD","ELMO",{"$nulls":4},"TE PD",{"$nulls":11},"01/29/2019 01:51 PM","Mary Plass"]
["54597","1415989","Sperreng Middle","218","ELMO TT-12iD Document Camera",null,"Available","Document Camera","2018-11-20","567.37","19-56170","ITsavvy","TT-12iD","ELMO",{"$nulls":4},"TE PD",{"$nulls":11},"01/29/2019 01:51 PM","Mary Plass"]
["55563","DMPYWVZ7JF8J","Sperreng Middle","Principal's Office","Apple iPad 32GB WIFI (6th Gen)",null,"Available","iPad","2019-06-25","294.00","20-57432","Apple","PR8A2LL/A","Apple","LO033-01","c42ad0d8b8b3","2024/2025",null,"TE PD",{"$nulls":7},"A1893",{"$nulls":3},"06/27/2019 10:19 AM","Mary Plass"]
["56289","R90VG3FH","Truman Middle","009","Lenovo ThinkPad L380 Yoga (Core i5-8250U, 8GB, 256GB)",null,"Available","Laptop","2019-07-24","865.00","19-58509","Firefly Computers","L380 Yoga","Lenovo","TR-CB LOANER-11","84fdd16777f3","2024/2025",null,"TE PD",{"$nulls":7},"20M7000MUS",null,null,"Technology","07/24/2019 02:13 PM","Mary Plass"]
["55456","P204V7WQ","Truman Middle","009","Lenovo 500e Chromebook (Gen 2)",null,"Available","Chromebook","2019-07-11","309.00","20-57400","Firefly Computers","500e","Lenovo",null,"58a0235c26b9","2024/2025","Student return from Virtual","TE PD",{"$nulls":6},"Impact Study- Issued to Virtual Student","81MC001EUS",null,null,"Technology","07/11/2019 10:33 AM","Mary Plass"]
["47736",null,"Truman Middle","420","Bretford A/V Learning Cart",null,"Available","Cart",{"$nulls":4},"ECILS3-BK","Bretford",{"$nulls":15},"Music","02/07/2019 10:52 AM","Mary Plass"]
["54585","1415521","Truman Middle","114","ELMO TT-12iD Document Camera",null,"Available","Document Camera","2018-11-20","567.37","19-56170","ITsavvy","TT-12iD","ELMO",{"$nulls":4},"TE PD",{"$nulls":10},"Science","01/29/2019 01:51 PM","Mary Plass"]
["54586","1415513","Truman Middle","112","ELMO TT-12iD Document Camera",null,"Available","Document Camera","2018-11-20","567.37","19-56170","ITsavvy","TT-12iD","ELMO",{"$nulls":4},"TE PD",{"$nulls":11},"01/29/2019 01:51 PM","Mary Plass"]
["55674","DMPYWW5MJF8J","Central Office","214","Apple iPad 32GB WIFI (6th Gen)",null,"Available","iPad","2019-06-25","294.00","20-57432","Apple","PR8A2LL/A","Apple",null,"c42ad0ce03d0","2024/2025",null,"TE PD",{"$nulls":7},"A1893",null,null,"Science","06/27/2019 10:19 AM","Mary Plass"]
["58512","TLJC309688","Central Office","214","TMO T9 TestDrive Mobile Hotspot",null,"Available","Hotspot",{"$nulls":3},"T-Mobile","T9","T-Mobile",null,"F463494B4A0A",{"$nulls":6},"IMEI: 355827103096878",{"$nulls":4},"Issued for Virtual Learning - COVID-19",null,null,"04/16/2020 02:10 PM","Mary Plass"]
["55573","DMPYWVRGJF8J","Central Office","214","Apple iPad 32GB WIFI (6th Gen)",null,"Available","iPad","2019-06-25","294.00","20-57432","Apple","PR8A2LL/A","Apple",null,"c42ad0d889c2","2024/2025",null,"TE PD",{"$nulls":7},"A1893",null,null,"Technology","06/27/2019 10:19 AM","Mary Plass"]
["54938","P2035YHY","Central Office","214","Lenovo 500e Chromebook (Gen 1)",null,"Available","Chromebook","2019-07-10","295.00","20-57600","Firefly Computers","500e","Lenovo",null,"00bb605fa0c3","2024/2025",null,"TE PD",{"$nulls":6},"IMPACT STUDY","81ES0007US",null,null,"Technology","07/15/2019 03:09 PM","Mary Plass"]
["55521","DMQYR2SHJF8J","Central Office","215","Apple iPad 32GB WIFI (6th Gen)",null,"Available","iPad","2019-06-25","294.00","20-57432","Apple","PR8A2LL/A","Apple","Avery Callan","c42ad0d001b5","2024/2025",null,"TE PD",{"$nulls":7},"A1893",null,null,"Technology","06/27/2019 10:19 AM","Mary Plass"]
["58510","TLJC309690","Central Office","209","TMO T9 TestDrive Mobile Hotspot",null,"Available","Hotspot",{"$nulls":3},"T-Mobile","T9","T-Mobile",null,"F463494B4A0C",{"$nulls":6},"IMEI: 355827103096894",{"$nulls":4},"Issued for Virtual Learning - COVID-19",null,null,"04/16/2020 02:10 PM","Mary Plass"]
["39795",null,"District Storage","CO 216","NEC Projector",null,"Available","Projector",{"$nulls":4},"NP300","NEC",{"$nulls":15},"Technology","03/20/2019 04:49 PM","Mary Plass"]
["36313",null,"District Storage","CO 216","NEC VT49 Video Projector",null,"Available","Projector",{"$nulls":4},"VT49","NEC",{"$nulls":15},"Technology","03/20/2019 04:51 PM","Mary Plass"]
["55452","P204V70S","Dressel Elementary","Unknown","Lenovo 500e Chromebook (Gen 2)",null,"Available","Chromebook","2019-07-11","309.00","20-57400","Firefly Computers","500e","Lenovo","ISLAB10-26","3cf011fb28d6","2024/2025",null,"TE PD",{"$nulls":6},"Impact Study","81MC001EUS","Issued for Virtual Learning - COVID-19",null,"English","07/11/2019 10:33 AM","Mary Plass"]
["55188","P204V80V","Dressel Elementary","Unknown","Lenovo 500e Chromebook (Gen 2)",null,"Available","Chromebook","2019-07-11","309.00","20-57400","Firefly Computers","500e","Lenovo","ISLAB10-05","3cf011fd327a","2024/2025",null,"TE PD",{"$nulls":6},"Impact Study","81MC001EUS","Issued for Virtual Learning - COVID-19",null,"English","07/11/2019 10:33 AM","Mary Plass"]
["55189","P204V7Y3","Dressel Elementary","Unknown","Lenovo 500e Chromebook (Gen 2)",null,"Available","Chromebook","2019-07-11","309.00","20-57400","Firefly Computers","500e","Lenovo","ISLAB10-06","58a02339a3d7","2024/2025",null,"TE PD",{"$nulls":6},"Impact Study","81MC001EUS","Issued for Virtual Learning - COVID-19",null,"English","07/11/2019 10:33 AM","Mary Plass"]
["55242","P204V6ZW","Dressel Elementary","Unknown","Lenovo 500e Chromebook (Gen 2)",null,"Available","Chromebook","2019-07-11","309.00","20-57400","Firefly Computers","500e","Lenovo","ISLAB12-25","58a0235cc31c","2024/2025",null,"TE PD",{"$nulls":6},"Impact Study","81MC001EUS","Issued for Virtual Learning - COVID-19",null,"Social Studies","07/11/2019 10:33 AM","Mary Plass"]
["55083","P204V7WA","Dressel Elementary","Unknown","Lenovo 500e Chromebook (Gen 2)",null,"Available","Chromebook","2019-07-11","309.00","20-57400","Firefly Computers","500e","Lenovo","ISLAB12-12","58a0235c266e","2024/2025",null,"TE PD",{"$nulls":6},"Impact Study","81MC001EUS","Issued for Virtual Learning - COVID-19",null,"Social Studies","07/11/2019 10:33 AM","Mary Plass"]
["55137","P204V7Y1","Dressel Elementary","Unknown","Lenovo 500e Chromebook (Gen 2)",null,"Available","Chromebook","2019-07-11","309.00","20-57400","Firefly Computers","500e","Lenovo","ISLAB11-11","58a023391a98","2024/2025",null,"TE PD",{"$nulls":6},"Impact Study","81MC001EUS","Issued for Virtual Learning - COVID-19",null,"Science","07/11/2019 10:33 AM","Mary Plass"]
["55139","P204V7M6","Dressel Elementary","Unknown","Lenovo 500e Chromebook (Gen 2)",null,"Available","Chromebook","2019-07-11","309.00","20-57400","Firefly Computers","500e","Lenovo","ISLAB11-13","58a0233a33f6","2024/2025",null,"TE PD",{"$nulls":6},"Impact Study","81MC001EUS","Issued for Virtual Learning - COVID-19",null,"Science","07/11/2019 10:33 AM","Mary Plass"]
["55211","P204V80N","Dressel Elementary","Unknown","Lenovo 500e Chromebook (Gen 2)",null,"Available","Chromebook","2019-07-11","309.00","20-57400","Firefly Computers","500e","Lenovo","ISLAB11-26","3cf011fd32bb","2024/2025",null,"TE PD",{"$nulls":6},"Impact Study","81MC001EUS","Issued for Virtual Learning - COVID-19",null,"Science","07/11/2019 10:33 AM","Mary Plass"]
["55097","P204V824","Dressel Elementary","Unknown","Lenovo 500e Chromebook (Gen 2)",null,"Available","Chromebook","2019-07-11","309.00","20-57400","Firefly Computers","500e","Lenovo","ISLAB9-25","58a0233904ea","2024/2025",null,"TE PD",{"$nulls":6},"Impact Study","81MC001EUS","Issued for Virtual Learning - COVID-19",null,"Math","07/11/2019 10:33 AM","Mary Plass"]
["55321","P204V6DM","Dressel Elementary","Unknown","Lenovo 500e Chromebook (Gen 2)",null,"Available","Chromebook","2019-07-11","309.00","20-57400","Firefly Computers","500e","Lenovo","ISLAB3-02","3cf011e1755d","2024/2025",null,"TE PD",{"$nulls":6},"Impact Study","81MC001EUS","CBRedistribute",null,"4th Grade","07/11/2019 10:33 AM","Mary Plass"]
["55322","P204V7ES","Dressel Elementary","Unknown","Lenovo 500e Chromebook (Gen 2)",null,"Available","Chromebook","2019-07-11","309.00","20-57400","Firefly Computers","500e","Lenovo","ISLAB3-03","58a0235cb21e","2024/2025",null,"TE PD",{"$nulls":6},"Impact Study","81MC001EUS","CBRedistribute",null,"4th Grade","07/11/2019 10:33 AM","Mary Plass"]
["55344","P204V6X4","Dressel Elementary","Unknown","Lenovo 500e Chromebook (Gen 2)",null,"Available","Chromebook","2019-07-11","309.00","20-57400","Firefly Computers","500e","Lenovo","ISLAB3-25","58a0235e4f70","2024/2025",null,"TE PD",{"$nulls":6},"Impact Study","81MC001EUS","CBRedistribute",null,"4th Grade","07/11/2019 10:33 AM","Mary Plass"]
["55324","P204V7EU","Dressel Elementary","Unknown","Lenovo 500e Chromebook (Gen 2)",null,"Available","Chromebook","2019-07-11","309.00","20-57400","Firefly Computers","500e","Lenovo","ISLAB3-05","58a0235cb269","2024/2025",null,"TE PD",{"$nulls":6},"Impact Study","81MC001EUS","CBRedistribute",null,"4th Grade","07/11/2019 10:33 AM","Mary Plass"]
["55328","P204V6VT","Dressel Elementary","Unknown","Lenovo 500e Chromebook (Gen 2)",null,"Available","Chromebook","2019-07-11","309.00","20-57400","Firefly Computers","500e","Lenovo","ISLAB3-09","58a0235eaef2","2024/2025",null,"TE PD",{"$nulls":6},"Impact Study","81MC001EUS","CBRedistribute",null,"4th Grade","07/11/2019 10:33 AM","Mary Plass"]
["55331","P204V72S","Dressel Elementary","Unknown","Lenovo 500e Chromebook (Gen 2)",null,"Available","Chromebook","2019-07-11","309.00","20-57400","Firefly Computers","500e","Lenovo","ISLAB3-11","58a0235e9ebc","2024/2025",null,"TE PD",{"$nulls":6},"Impact Study","81MC001EUS","CBRedistribute",null,"4th Grade","07/11/2019 10:33 AM","Mary Plass"]
["55330","P204V6PX","Dressel Elementary","Unknown","Lenovo 500e Chromebook (Gen 2)",null,"Available","Chromebook","2019-07-11","309.00","20-57400","Firefly Computers","500e","Lenovo","ISLAB3-12","58a02339c899","2024/2025",null,"TE PD",{"$nulls":6},"Impact Study","81MC001EUS","CBRedistribute",null,"4th Grade","07/11/2019 10:33 AM","Mary Plass"]
["55334","P204V6CW","Dressel Elementary","Unknown","Lenovo 500e Chromebook (Gen 2)",null,"Available","Chromebook","2019-07-11","309.00","20-57400","Firefly Computers","500e","Lenovo","ISLAB3-15","3cf011e157f8","2024/2025",null,"TE PD",{"$nulls":6},"Impact Study","81MC001EUS","CBRedistribute",null,"4th Grade","07/11/2019 10:33 AM","Mary Plass"]
["55335","P204V6ZS","Dressel Elementary","Unknown","Lenovo 500e Chromebook (Gen 2)",null,"Available","Chromebook","2019-07-11","309.00","20-57400","Firefly Computers","500e","Lenovo","ISLAB3-16","58a0235cb26e","2024/2025",null,"TE PD",{"$nulls":6},"Impact Study","81MC001EUS","CBRedistribute",null,"4th Grade","07/11/2019 10:33 AM","Mary Plass"]
["55336","P204CV4M","Dressel Elementary","Unknown","Lenovo 500e Chromebook (Gen 2)",null,"Available","Chromebook","2019-07-11","309.00","20-57400","Firefly Computers","500e","Lenovo","ISLAB3-17","a4c3f072e6b0","2024/2025",null,"TE PD",{"$nulls":6},"Impact Study","81MC001EUS","CBRedistribute",null,"4th Grade","07/11/2019 10:33 AM","Mary Plass"]
["55337","P204V739","Dressel Elementary","Unknown","Lenovo 500e Chromebook (Gen 2)",null,"Available","Chromebook","2019-07-11","309.00","20-57400","Firefly Computers","500e","Lenovo","ISLAB3-18","58a0235ebaf0","2024/2025",null,"TE PD",{"$nulls":6},"Impact Study","81MC001EUS","CBRedistribute",null,"4th Grade","07/11/2019 10:33 AM","Mary Plass"]
["55338","P204V72Y","Dressel Elementary","Unknown","Lenovo 500e Chromebook (Gen 2)",null,"Available","Chromebook","2019-07-11","309.00","20-57400","Firefly Computers","500e","Lenovo","ISLAB3-19","58a0235e4ae8","2024/2025",null,"TE PD",{"$nulls":6},"Impact Study","81MC001EUS","CBRedistribute",null,"4th Grade","07/11/2019 10:33 AM","Mary Plass"]
["55339","P204V6N5","Dressel Elementary","Unknown","Lenovo 500e Chromebook (Gen 2)",null,"Available","Chromebook","2019-07-11","309.00","20-57400","Firefly Computers","500e","Lenovo","ISLAB3-20","58a02339fff3","2024/2025",null,"TE PD",{"$nulls":6},"Impact Study","81MC001EUS","CBRedistribute",null,"4th Grade","07/11/2019 10:33 AM","Mary Plass"]
["55570","DMPYWVMXJF8J","Long Elementary","Unknown","Apple iPad 32GB WIFI (6th Gen)",null,"Available","iPad","2019-06-25","294.00","20-57432","Apple","PR8A2LL/A","Apple","LO036-02","c42ad0e3bd17","2024/2025",null,"TE PD",{"$nulls":7},"A1893",{"$nulls":3},"06/27/2019 10:19 AM","Mary Plass"]
["55110","P204V82P","Dressel Elementary","Unknown","Lenovo 500e Chromebook (Gen 2)",null,"Available","Chromebook","2019-07-11","309.00","20-57400","Firefly Computers","500e","Lenovo","ISLAB13-27","58a023391b1f","2024/2025",null,"TE PD",{"$nulls":6},"Impact Study","81MC001EUS","Issued for Virtual Learning - COVID-19",null,"Technology","07/11/2019 10:33 AM","Mary Plass"]
["55075","P204V7FL","Dressel Elementary","Unknown","Lenovo 500e Chromebook (Gen 2)",null,"Available","Chromebook","2019-07-11","309.00","20-57400","Firefly Computers","500e","Lenovo","ISLAB13-07","58a02339df55","2024/2025",null,"TE PD",{"$nulls":6},"Impact Study","81MC001EUS","Issued for Virtual Learning - COVID-19",null,"Technology","07/11/2019 10:33 AM","Mary Plass"]
["55128","P204V80Q","Dressel Elementary","Unknown","Lenovo 500e Chromebook (Gen 2)",null,"Available","Chromebook","2019-07-11","309.00","20-57400","Firefly Computers","500e","Lenovo","ISLAB13-20","58a023391a02","2024/2025",null,"TE PD",{"$nulls":6},"Impact Study","81MC001EUS","Issued for Virtual Learning - COVID-19",null,"Technology","07/11/2019 10:33 AM","Mary Plass"]
["55158","P204V7L5","Dressel Elementary","Unknown","Lenovo 500e Chromebook (Gen 2)",null,"Available","Chromebook","2019-07-11","309.00","20-57400","Firefly Computers","500e","Lenovo","ISLAB16-27","58a0235cac10","2024/2025",null,"TE PD",{"$nulls":6},"Impact Study","81MC001EUS","Issued for Virtual Learning - COVID-19",null,"Technology","07/11/2019 10:33 AM","Mary Plass"]
["52286",null,"Dressel Elementary","Unknown","Computer Cart",null,"Available","Cart",{"$nulls":21},"Technology","03/08/2019 01:31 PM","Mary Plass"]
["55049","P204V7AC","Long Elementary","Unknown","Lenovo 500e Chromebook (Gen 2)",null,"Available","Chromebook","2019-07-11","309.00","20-57400","Firefly Computers","500e","Lenovo","ISLAB14-25","3cf011e1ad8e","2024/2025",null,"TE PD",{"$nulls":6},"Impact Study","81MC001EUS","CBRedistribute",null,null,"07/11/2019 10:33 AM","Mary Plass"]
["55102","P204V80L","Long Elementary","Unknown","Lenovo 500e Chromebook (Gen 2)",null,"Available","Chromebook","2019-07-11","309.00","20-57400","Firefly Computers","500e","Lenovo","ISLAB9-19","3cf011fb8e84","2024/2025",null,"TE PD",{"$nulls":6},"Impact Study","81MC001EUS","CBRedistribute",null,null,"07/11/2019 10:33 AM","Mary Plass"]
["55154","P204V6UW","Long Elementary","Unknown","Lenovo 500e Chromebook (Gen 2)",null,"Available","Chromebook","2019-07-11","309.00","20-57400","Firefly Computers","500e","Lenovo","ISLAB16-01","58a0235c81ae","2024/2025",null,"TE PD",{"$nulls":6},"Impact Study","81MC001EUS","CBRedistribute",null,null,"07/11/2019 10:33 AM","Mary Plass"]
["55171","P204V7KP","Long Elementary","Unknown","Lenovo 500e Chromebook (Gen 2)",null,"Available","Chromebook","2019-07-11","309.00","20-57400","Firefly Computers","500e","Lenovo","ISLAB10-14","3cf011fd3298","2024/2025",null,"TE PD",{"$nulls":6},"Impact Study","81MC001EUS","CBRedistribute",null,null,"07/11/2019 10:33 AM","Mary Plass"]
["55172","P204V7RU","Long Elementary","Unknown","Lenovo 500e Chromebook (Gen 2)",null,"Available","Chromebook","2019-07-11","309.00","20-57400","Firefly Computers","500e","Lenovo","ISLAB10-15","58a0235e53e9","2024/2025",null,"TE PD",{"$nulls":6},"Impact Study","81MC001EUS","CBRedistribute",null,null,"07/11/2019 10:33 AM","Mary Plass"]
["55225","P204V6WM","Long Elementary","Unknown","Lenovo 500e Chromebook (Gen 2)",null,"Available","Chromebook","2019-07-11","309.00","20-57400","Firefly Computers","500e","Lenovo","ISLAB11-18","3cf011e183b8","2024/2025",null,"TE PD",{"$nulls":6},"Impact Study","81MC001EUS","CBRedistribute",null,null,"07/11/2019 10:33 AM","Mary Plass"]
["55091","P204V7XR","Long Elementary","Unknown","Lenovo 500e Chromebook (Gen 2)",null,"Available","Chromebook","2019-07-11","309.00","20-57400","Firefly Computers","500e","Lenovo","ISLAB12-04","58a023391b56","2024/2025",null,"TE PD",{"$nulls":6},"Impact Study","81MC001EUS","CBRedistribute",null,null,"07/11/2019 10:33 AM","Mary Plass"]
["55237","P204V7EM","Long Elementary","Unknown","Lenovo 500e Chromebook (Gen 2)",null,"Available","Chromebook","2019-07-11","309.00","20-57400","Firefly Computers","500e","Lenovo","ISLAB12-20","58a0235c9e73","2024/2025",null,"TE PD",{"$nulls":6},"Impact Study","81MC001EUS","CBRedistribute",null,null,"07/11/2019 10:33 AM","Mary Plass"]
["55037","P204UMDQ","Long Elementary","Unknown","Lenovo 500e Chromebook (Gen 2)",null,"Available","Chromebook","2019-07-11","309.00","20-57400","Firefly Computers","500e","Lenovo","ISLAB14-11","3cf011df1763","2024/2025",null,"TE PD",{"$nulls":6},"Impact Study","81MC001EUS","CBRedistribute",null,null,"07/11/2019 10:33 AM","Mary Plass"]
["55283","P204V6U7","Long Elementary","Unknown","Lenovo 500e Chromebook (Gen 2)",null,"Available","Chromebook","2019-07-11","309.00","20-57400","Firefly Computers","500e","Lenovo","ISLAB5-01","58a0235ea10f","2024/2025",null,"TE PD",{"$nulls":6},"Impact Study","81MC001EUS","CBRedistribute",null,null,"07/11/2019 10:33 AM","Mary Plass"]
["55289","P204V6W3","Long Elementary","Unknown","Lenovo 500e Chromebook (Gen 2)",null,"Available","Chromebook","2019-07-11","309.00","20-57400","Firefly Computers","500e","Lenovo","ISLAB5-07","58a0235e9f2f","2024/2025",null,"TE PD",{"$nulls":6},"Impact Study","81MC001EUS","CBRedistribute",null,null,"07/11/2019 10:33 AM","Mary Plass"]
["55290","P204V6MJ","Long Elementary","Unknown","Lenovo 500e Chromebook (Gen 2)",null,"Available","Chromebook","2019-07-11","309.00","20-57400","Firefly Computers","500e","Lenovo","ISLAB5-08","58a02339ff62","2024/2025",null,"TE PD",{"$nulls":6},"Impact Study","81MC001EUS","CBRedistribute",null,null,"07/11/2019 10:33 AM","Mary Plass"]
["55291","P204V77P","Long Elementary","Unknown","Lenovo 500e Chromebook (Gen 2)",null,"Available","Chromebook","2019-07-11","309.00","20-57400","Firefly Computers","500e","Lenovo","ISLAB5-09","58a0235cb27d","2024/2025",null,"TE PD",{"$nulls":6},"Impact Study","81MC001EUS","CBRedistribute",null,null,"07/11/2019 10:33 AM","Mary Plass"]
["55287","P204V7CQ","Long Elementary","Unknown","Lenovo 500e Chromebook (Gen 2)",null,"Available","Chromebook","2019-07-11","309.00","20-57400","Firefly Computers","500e","Lenovo","ISLAB5-05","3cf011e19263","2024/2025",null,"TE PD",{"$nulls":6},"Impact Study","81MC001EUS","CBRedistribute",null,null,"07/11/2019 10:33 AM","Mary Plass"]
["55315","P204V71Y","Long Elementary","Unknown","Lenovo 500e Chromebook (Gen 2)",null,"Available","Chromebook","2019-07-11","309.00","20-57400","Firefly Computers","500e","Lenovo","ISLAB5-21","58a0235eae16","2024/2025",null,"TE PD",{"$nulls":6},"Impact Study","81MC001EUS","CBRedistribute",null,null,"07/11/2019 10:33 AM","Mary Plass"]
["55317","P204V7AZ","Long Elementary","Unknown","Lenovo 500e Chromebook (Gen 2)",null,"Available","Chromebook","2019-07-11","309.00","20-57400","Firefly Computers","500e","Lenovo","ISLAB5-23","3cf011df2726","2024/2025",null,"TE PD",{"$nulls":6},"Impact Study","81MC001EUS","CBRedistribute",null,null,"07/11/2019 10:33 AM","Mary Plass"]
["56366","R90VG3FB","Central Office","Technology","Lenovo ThinkPad L380 Yoga (Core i5-8250U, 8GB, 256GB)",null,"Available","Laptop","2019-07-24","865.00","19-58509","Firefly Computers","L380 Yoga","Lenovo","Jessica Ostrich","84fdd168fd99","2024/2025",null,"TE PD",{"$nulls":7},"20M7000MUS",{"$nulls":3},"07/24/2019 02:13 PM","Mary Plass"]
["55285","P204V7DG","Central Office","Technology","Lenovo 500e Chromebook (Gen 2)",null,"Available","Chromebook","2019-07-11","309.00","20-57400","Firefly Computers","500e","Lenovo",null,"d0abd50d76ae","2024/2025",null,"TE PD",{"$nulls":6},"Impact Study","81MC001EUS","CBRedistribute",null,"Technology","07/11/2019 10:33 AM","Mary Plass"]
["55918","DMPYWVZQJF8J","Central Office","Technology","Apple iPad 32GB WIFI (6th Gen)",null,"Available","iPad","2019-06-25","294.00","20-57432","Apple","PR8A2LL/A","Apple","ISLAB24-11","c42ad0d6f65f","2024/2025",null,"TE PD",{"$nulls":7},"A1893","IPRedistribute",null,"Technology","06/27/2019 10:19 AM","Mary Plass"]
["56189","DMPYWVJ5JF8J","Central Office","Technology","Apple iPad 32GB WIFI (6th Gen)",null,"Available","iPad","2019-06-25","294.00","20-57432","Apple","PR8A2LL/A","Apple","ISLAB34-14","c42ad0d4c579","2024/2025",null,"TE PD",{"$nulls":7},"A1893",null,null,"Technology","06/27/2019 10:19 AM","Mary Plass"]
["55569","DMPYWVEJJF8J","Central Office","Technology","Apple iPad 32GB WIFI (6th Gen)",null,"Available","iPad","2019-06-25","294.00","20-57432","Apple","PR8A2LL/A","Apple",null,"c42ad0d90dd0","2024/2025",null,"TE PD",{"$nulls":7},"A1893",null,null,"Technology","06/27/2019 10:19 AM","Mary Plass"]
["56385","R90VG3FT","Central Office","Technology","Lenovo ThinkPad L380 Yoga (Core i5-8250U, 8GB, 256GB)",null,"Available","Laptop","2019-07-24","865.00","19-58509","Firefly Computers","L380 Yoga","Lenovo","Krissy Evans","84fdd1677794","2024/2025",null,"TE PD",{"$nulls":3},"PARTS ONLY",{"$nulls":3},"20M7000MUS",null,null,"Technology","07/24/2019 02:13 PM","Mary Plass"]
["54584","1415509","Truman Middle","Warehouse","ELMO TT-12iD Document Camera",null,"Available","Document Camera","2018-11-20","567.37","19-56170","ITsavvy","TT-12iD","ELMO","Surplus",{"$nulls":3},"TE PD",{"$nulls":8},"no longer used",null,"Technology","01/29/2019 01:51 PM","Mary Plass"]
["54580","1415522","Truman Middle","Warehouse","ELMO TT-12iD Document Camera",null,"Available","Document Camera","2018-11-20","567.37","19-56170","ITsavvy","TT-12iD","ELMO","Surplus",{"$nulls":3},"TE PD",{"$nulls":8},"no longer used",null,"Technology","01/29/2019 01:51 PM","Mary Plass"]
["54604","1415994","Sperreng Middle","**Surplus","ELMO TT-12iD Document Camera",null,"Available","Document Camera","2018-11-20","567.37","19-56170","ITsavvy","TT-12iD","ELMO",{"$nulls":4},"TE PD",{"$nulls":11},"01/29/2019 01:51 PM","Mary Plass"]
["69407","CNHSKD58FF","LHS 2022","138","ARUBA AP-515 (US) DUAL RADIO 4X4, INTERNAL ANTENNAS UNIFIED CAMPUS AP",null,"Available","Access Point",{"$nulls":4},"AP-515","ARUBA",{"$nulls":16},"03/23/2023 05:18 PM","Mary Plass"]
["69402","CNHSKD59JJ","LHS 2022","145B","ARUBA AP-515 (US) DUAL RADIO 4X4, INTERNAL ANTENNAS UNIFIED CAMPUS AP",null,"Available","Access Point",{"$nulls":4},"AP-515","ARUBA",{"$nulls":16},"03/23/2023 05:18 PM","Mary Plass"]
["69379","CNHSKD58TS","LHS 2022","203","ARUBA AP-515 (US) DUAL RADIO 4X4, INTERNAL ANTENNAS UNIFIED CAMPUS AP",null,"Available","Access Point",{"$nulls":4},"AP-515","ARUBA",{"$nulls":16},"03/21/2023 03:52 PM","Mary Plass"]
["69374","CNHCKD55VZ","LHS 2022","204","ARUBA AP-515 (US) DUAL RADIO 4X4, INTERNAL ANTENNAS UNIFIED CAMPUS AP",null,"Available","Access Point",{"$nulls":4},"AP-515","ARUBA",{"$nulls":16},"03/21/2023 11:33 AM","Mary Plass"]
["69373","CNHSKD585R","LHS 2022","206","ARUBA AP-515 (US) DUAL RADIO 4X4, INTERNAL ANTENNAS UNIFIED CAMPUS AP",null,"Available","Access Point",{"$nulls":4},"AP-515","ARUBA",{"$nulls":16},"03/21/2023 11:33 AM","Mary Plass"]
["56292","R90VG3EP","Concord Elementary","*Staff/Teacher Devices","Lenovo ThinkPad L380 Yoga (Core i5-8250U, 8GB, 256GB)",null,"Available","Laptop","2019-07-24","865.00","19-58509","Firefly Computers","L380 Yoga","Lenovo","Hannah Shaughnessy","84fdd167788e","2024/2025",null,"TE PD",{"$nulls":7},"20M7000MUS",null,null,"5th Grade","07/24/2019 02:13 PM","Mary Plass"]
["69375","CN0FP04F7287236PAFCM","LHS 2022","204","Dell 24\" Widescreen Monitor",null,"Available","Monitor",{"$nulls":4},"U2412Mb","Dell",{"$nulls":16},"03/21/2023 11:33 AM","Mary Plass"]
["54922","FVFYR19AJK77","Crestwood Elementary","*Staff/Teacher Devices","Apple MacBook Air Intel Core i5, 8GB, 128GB SSD (2018)",null,"Available","MacBook","2019-06-27","1,053.07","20-57432","Apple","MRF82LL/A","Apple","Jessica Engelbrecht",null,"2024/2025",null,"TE PD",{"$nulls":6},"IMPACT STUDY","MRF82LL/A",null,null,"Math","07/15/2019 11:53 AM","Mary Plass"]
["56304","R90VG3DY","Crestwood Elementary","*Staff/Teacher Devices","Lenovo ThinkPad L380 Yoga (Core i5-8250U, 8GB, 256GB)",null,"Available","Laptop","2019-07-24","865.00","19-58509","Firefly Computers","L380 Yoga","Lenovo","Brooke Arendt","84fdd167769f","2024/2025",null,"TE PD",{"$nulls":7},"20M7000MUS",{"$nulls":3},"07/24/2019 02:13 PM","Mary Plass"]
["56281","R90VG3FS","Crestwood Elementary","*Staff/Teacher Devices","Lenovo ThinkPad L380 Yoga (Core i5-8250U, 8GB, 256GB)",null,"Available","Laptop","2019-07-24","865.00","19-58509","Firefly Computers","L380 Yoga","Lenovo","Tiffany Davis","84fdd1677659","2024/2025",null,"TE PD",{"$nulls":7},"20M7000MUS",null,null,"Instructional Technology","07/24/2019 02:13 PM","Mary Plass"]
["56275","R90VG3CR","Crestwood Elementary","*Staff/Teacher Devices","Lenovo ThinkPad L380 Yoga (Core i5-8250U, 8GB, 256GB)",null,"Available","Laptop","2019-07-24","865.00","19-58509","Firefly Computers","L380 Yoga","Lenovo","Kit Norton","84fdd1676a5b","2024/2025",null,"TE PD",{"$nulls":7},"20M7000MUS",null,null,"Principal","07/24/2019 02:13 PM","Mary Plass"]
["56270","R90VG3DX","Dressel Elementary","*Staff/Teacher Devices","Lenovo ThinkPad L380 Yoga (Core i5-8250U, 8GB, 256GB)",null,"Available","Laptop","2019-07-24","865.00","19-58509","Firefly Computers","L380 Yoga","Lenovo",null,"84fdd1677884","2024/2025",null,"TE PD",{"$nulls":7},"20M7000MUS",null,null,"Technology","07/24/2019 02:13 PM","Mary Plass"]
["69363","CNHSKD59JD","LHS 2022","232","ARUBA AP-515 (US) DUAL RADIO 4X4, INTERNAL ANTENNAS UNIFIED CAMPUS AP",null,"Available","Access Point",{"$nulls":4},"AP-515","ARUBA",{"$nulls":16},"03/21/2023 11:33 AM","Mary Plass"]
["69364","CN0YMYH1742613B15W8S","LHS 2022","232","Dell 24\" Widescreen Monitor",null,"Available","Monitor",{"$nulls":4},"U2412Mb","Dell",{"$nulls":16},"03/21/2023 11:33 AM","Mary Plass"]
["55015","P204VJFP","Dressel Elementary","Library Chromebook Cart","Lenovo 500e Chromebook (Gen 2)",null,"Available","Chromebook","2019-07-11","309.00","20-57400","Firefly Computers","500e","Lenovo","ISLAB14-07","58a0235cc17d","2024/2025",null,"TE PD",{"$nulls":6},"Impact Study","81MC001EUS","Issued for Virtual Learning - COVID-19",null,"Technology","07/11/2019 10:33 AM","Mary Plass"]
["55320","P204V6UY","Dressel Elementary","Library Chromebook Cart","Lenovo 500e Chromebook (Gen 2)",null,"Available","Chromebook","2019-07-11","309.00","20-57400","Firefly Computers","500e","Lenovo","ISLAB3-01","58a0235eaeed","2024/2025",null,"TE PD",{"$nulls":6},"Impact Study","81MC001EUS","CBRedistribute",null,"4th Grade","07/11/2019 10:33 AM","Mary Plass"]
["55147","P204V7UW","Truman Middle","Library Chromebook Cart","Lenovo 500e Chromebook (Gen 2)",null,"Available","Chromebook","2019-07-11","309.00","20-57400","Firefly Computers","500e","Lenovo","TR-DL-09","58a0235d83c9","2024/2025",null,"TE PD",{"$nulls":7},"81MC001EUS","RedistributionCB - TMS Library",null,"DESIGN LAB","07/11/2019 10:33 AM","Mary Plass"]
["55235","P204V6GF","Long Elementary","Library Chromebook Cart","Lenovo 500e Chromebook (Gen 2)",null,"Available","Chromebook","2019-07-11","309.00","20-57400","Firefly Computers","500e","Lenovo","ISLAB12-18","d0abd50d76c2","2024/2025",null,"TE PD",{"$nulls":6},"Impact Study","81MC001EUS","Issued for Virtual Learning - COVID-19",null,"Social Studies","07/11/2019 10:33 AM","Mary Plass"]
["55105","P204V6X3","Long Elementary","Library Chromebook Cart","Lenovo 500e Chromebook (Gen 2)",null,"Available","Chromebook","2019-07-11","309.00","20-57400","Firefly Computers","500e","Lenovo","ISLAB9-16","58a0235ea105","2024/2025",null,"TE PD",{"$nulls":6},"Impact Study","81MC001EUS","CBRedistribute",null,"Math","07/11/2019 10:33 AM","Mary Plass"]
["55411","P204VHLJ","Long Elementary","Library Chromebook Cart","Lenovo 500e Chromebook (Gen 2)",null,"Available","Chromebook","2019-07-11","309.00","20-57400","Firefly Computers","500e","Lenovo","ISLAB2-24","58a02369088e","2024/2025",null,"TE PD",{"$nulls":6},"Impact Study","81MC001EUS","CBRedistribute",null,"3rd Grade","07/11/2019 10:33 AM","Mary Plass"]
["55319","P204V72E","Long Elementary","Library Chromebook Cart","Lenovo 500e Chromebook (Gen 2)",null,"Available","Chromebook","2019-07-11","309.00","20-57400","Firefly Computers","500e","Lenovo","ISLAB5-25","58a0235ea0d3","2024/2025",null,"TE PD",{"$nulls":6},"Impact Study","81MC001EUS","CBRedistribute",null,"5th Grade","07/11/2019 10:33 AM","Mary Plass"]
["55288","P204V6V9","Long Elementary","Library Chromebook Cart","Lenovo 500e Chromebook (Gen 2)",null,"Available","Chromebook","2019-07-11","309.00","20-57400","Firefly Computers","500e","Lenovo","ISLAB5-06","58a0235cc434","2024/2025",null,"TE PD",{"$nulls":6},"Impact Study","81MC001EUS","CBRedistribute",null,"5th Grade","07/11/2019 10:33 AM","Mary Plass"]
["55292","P204V6UM","Long Elementary","Library Chromebook Cart","Lenovo 500e Chromebook (Gen 2)",null,"Available","Chromebook","2019-07-11","309.00","20-57400","Firefly Computers","500e","Lenovo","ISLAB5-10","58a0235cb232","2024/2025",null,"TE PD",{"$nulls":6},"Impact Study","81MC001EUS","CBRedistribute",null,"5th Grade","07/11/2019 10:33 AM","Mary Plass"]
["55293","P204V75H","Long Elementary","Library Chromebook Cart","Lenovo 500e Chromebook (Gen 2)",null,"Available","Chromebook","2019-07-11","309.00","20-57400","Firefly Computers","500e","Lenovo","ISLAB5-11","58a0235cb2aa","2024/2025",null,"TE PD",{"$nulls":6},"Impact Study","81MC001EUS","CBRedistribute",null,"5th Grade","07/11/2019 10:33 AM","Mary Plass"]
["55294","P204V6B8","Long Elementary","Library Chromebook Cart","Lenovo 500e Chromebook (Gen 2)",null,"Available","Chromebook","2019-07-11","309.00","20-57400","Firefly Computers","500e","Lenovo","ISLAB5-12","3cf011e1b0c2","2024/2025",null,"TE PD",{"$nulls":6},"Impact Study","81MC001EUS","CBRedistribute",null,"5th Grade","07/11/2019 10:33 AM","Mary Plass"]
["55296","P204V6V4","Long Elementary","Library Chromebook Cart","Lenovo 500e Chromebook (Gen 2)",null,"Available","Chromebook","2019-07-11","309.00","20-57400","Firefly Computers","500e","Lenovo","ISLAB5-14","58a0235e9dcc","2024/2025",null,"TE PD",{"$nulls":6},"Impact Study","81MC001EUS","CBRedistribute",null,"5th Grade","07/11/2019 10:33 AM","Mary Plass"]
["55309","P204V6FF","Long Elementary","Library Chromebook Cart","Lenovo 500e Chromebook (Gen 2)",null,"Available","Chromebook","2019-07-11","309.00","20-57400","Firefly Computers","500e","Lenovo","ISLAB5-15","d0abd50d767c","2024/2025",null,"TE PD",{"$nulls":6},"Impact Study","81MC001EUS","CBRedistribute",null,"5th Grade","07/11/2019 10:33 AM","Mary Plass"]
["55311","P204UMUA","Long Elementary","Library Chromebook Cart","Lenovo 500e Chromebook (Gen 2)",null,"Available","Chromebook","2019-07-11","309.00","20-57400","Firefly Computers","500e","Lenovo","ISLAB5-16","58a0235d23a2","2024/2025",null,"TE PD",{"$nulls":6},"Impact Study","81MC001EUS","CBRedistribute",null,"5th Grade","07/11/2019 10:33 AM","Mary Plass"]
["55313","P204V6ST","Long Elementary","Library Chromebook Cart","Lenovo 500e Chromebook (Gen 2)",null,"Available","Chromebook","2019-07-11","309.00","20-57400","Firefly Computers","500e","Lenovo","ISLAB5-18","3cf011fd4b61","2024/2025",null,"TE PD",{"$nulls":6},"Impact Study","81MC001EUS","CBRedistribute",null,"5th Grade","07/11/2019 10:33 AM","Mary Plass"]
["55314","P204V7P7","Long Elementary","Library Chromebook Cart","Lenovo 500e Chromebook (Gen 2)",null,"Available","Chromebook","2019-07-11","309.00","20-57400","Firefly Computers","500e","Lenovo","ISLAB5-19","58a0233908e1","2024/2025",null,"TE PD",{"$nulls":6},"Impact Study","81MC001EUS","CBRedistribute",null,"5th Grade","07/11/2019 10:33 AM","Mary Plass"]
["55310","P204V6WC","Long Elementary","Library Chromebook Cart","Lenovo 500e Chromebook (Gen 2)",null,"Available","Chromebook","2019-07-11","309.00","20-57400","Firefly Computers","500e","Lenovo","ISLAB5-20","58a0235ea0c9","2024/2025",null,"TE PD",{"$nulls":6},"Impact Study","81MC001EUS","CBRedistribute",null,"5th Grade","07/11/2019 10:33 AM","Mary Plass"]
["55286","P204V6BT","Long Elementary","Library Chromebook Cart","Lenovo 500e Chromebook (Gen 2)",null,"Available","Chromebook","2019-07-11","309.00","20-57400","Firefly Computers","500e","Lenovo","ISLAB5-04","3cf011e2adb0","2024/2025",null,"TE PD",{"$nulls":6},"Impact Study","81MC001EUS","CBRedistribute",null,"5th Grade","07/11/2019 10:33 AM","Mary Plass"]
["55284","P204V72C","Long Elementary","Library Chromebook Cart","Lenovo 500e Chromebook (Gen 2)",null,"Available","Chromebook","2019-07-11","309.00","20-57400","Firefly Computers","500e","Lenovo","ISLAB5-02","58a0235eae5c","2024/2025",null,"TE PD",{"$nulls":6},"Impact Study","81MC001EUS","CBRedistribute",null,"5th Grade","07/11/2019 10:33 AM","Mary Plass"]
["55077","P204V7NL","Long Elementary","Library Chromebook Cart","Lenovo 500e Chromebook (Gen 2)",null,"Available","Chromebook","2019-07-11","309.00","20-57400","Firefly Computers","500e","Lenovo","ISLAB13-05","58a023390a6c","2024/2025",null,"TE PD",{"$nulls":6},"Impact Study","81MC001EUS","Issued for Virtual Learning - COVID-19",null,"Technology","07/11/2019 10:33 AM","Mary Plass"]
["55106","P204V7KG","Long Elementary","Library Chromebook Cart","Lenovo 500e Chromebook (Gen 2)",null,"Available","Chromebook","2019-07-11","309.00","20-57400","Firefly Computers","500e","Lenovo","ISLAB13-23","3cf011fd11be","2024/2025",null,"TE PD",{"$nulls":6},"Impact Study","81MC001EUS","Issued for Virtual Learning - COVID-19",null,"Technology","07/11/2019 10:33 AM","Mary Plass"]
["55108","P204V82F","Long Elementary","Library Chromebook Cart","Lenovo 500e Chromebook (Gen 2)",null,"Available","Chromebook","2019-07-11","309.00","20-57400","Firefly Computers","500e","Lenovo","ISLAB13-25","58a023391a2a","2024/2025",null,"TE PD",{"$nulls":6},"Impact Study","81MC001EUS","CBRedistribute",null,"Technology","07/11/2019 10:33 AM","Mary Plass"]
["55447","P204UN3F","Long Elementary","Library Chromebook Cart","Lenovo 500e Chromebook (Gen 2)",null,"Available","Chromebook","2019-07-11","309.00","20-57400","Firefly Computers","500e","Lenovo","ISLAB9-14","3cf011fc7add","2024/2025",null,"TE PD",{"$nulls":6},"Impact Study","81MC001EUS","Issued for Virtual Learning - COVID-19",null,"Technology","07/11/2019 10:33 AM","Mary Plass"]
["55408","P204VJ4G","Long Elementary","Library Chromebook Cart","Lenovo 500e Chromebook (Gen 2)",null,"Available","Chromebook","2019-07-11","309.00","20-57400","Firefly Computers","500e","Lenovo","ISLAB2-21","58a0235d764a","2024/2025",null,"TE PD",{"$nulls":6},"Impact Study","81MC001EUS","CBRedistribute",null,null,"07/11/2019 10:33 AM","Mary Plass"]
["55277","P204V7AA","Long Elementary","Library Chromebook Cart","Lenovo 500e Chromebook (Gen 2)",null,"Available","Chromebook","2019-07-11","309.00","20-57400","Firefly Computers","500e","Lenovo","ISLAB6-08","3cf011e1bafe","2024/2025",null,"TE PD",{"$nulls":6},"Impact Study","81MC001EUS","CBRedistribute",null,"5th Grade","07/11/2019 10:33 AM","Mary Plass"]
["55304","P204V6QD","Long Elementary","Library Chromebook Cart","Lenovo 500e Chromebook (Gen 2)",null,"Available","Chromebook","2019-07-11","309.00","20-57400","Firefly Computers","500e","Lenovo","ISLAB6-21","58a0235eb7f3","2024/2025",null,"TE PD",{"$nulls":6},"Impact Study","81MC001EUS","Issued for Virtual Learning - COVID-19",null,"5th Grade","07/11/2019 10:33 AM","Mary Plass"]
["55274","P204V7CE","Long Elementary","Library Chromebook Cart","Lenovo 500e Chromebook (Gen 2)",null,"Available","Chromebook","2019-07-11","309.00","20-57400","Firefly Computers","500e","Lenovo","ISLAB6-05","3cf011e1adc5","2024/2025",null,"TE PD",{"$nulls":6},"Impact Study","81MC001EUS","CBRedistribute",null,"5th Grade","07/11/2019 10:33 AM","Mary Plass"]
["69455","CNHSKD585B","LHS 2022","108","ARUBA AP-515 (US) DUAL RADIO 4X4, INTERNAL ANTENNAS UNIFIED CAMPUS AP",null,"Available","Access Point",{"$nulls":4},"AP-515","ARUBA",{"$nulls":16},"03/23/2023 05:18 PM","Mary Plass"]
["69436","CN0FP04F7287236PC6WM","LHS 2022","108","Dell 24\" Widescreen Monitor",null,"Available","Monitor",{"$nulls":4},"U2412Mb","Dell",{"$nulls":16},"03/23/2023 05:18 PM","Mary Plass"]
["69448","CN0FJ44J7444557DBK1S","LHS 2022","108","Dell 24\" Widescreen Monitor",null,"Available","Monitor",{"$nulls":4},"U2412Mb","Dell",{"$nulls":16},"03/23/2023 05:18 PM","Mary Plass"]
["69447","CN0FY6RN74445631A44MA01","LHS 2022","108","Dell 24\" Widescreen Monitor",null,"Available","Monitor",{"$nulls":4},"U2412Mb","Dell",{"$nulls":16},"03/23/2023 05:18 PM","Mary Plass"]
["69446","CN0FP04F7287236PC6UM","LHS 2022","108","Dell 24\" Widescreen Monitor",null,"Available","Monitor",{"$nulls":4},"U2412Mb","Dell",{"$nulls":16},"03/23/2023 05:18 PM","Mary Plass"]
["69445","CN0FP04F7287236HEFWM","LHS 2022","108","Dell 24\" Widescreen Monitor",null,"Available","Monitor",{"$nulls":4},"U2412Mb","Dell",{"$nulls":16},"03/23/2023 05:18 PM","Mary Plass"]
["69444","CN0FJ44J744453CUBG7M","LHS 2022","108","Dell 24\" Widescreen Monitor",null,"Available","Monitor",{"$nulls":4},"U2412Mb","Dell",{"$nulls":16},"03/23/2023 05:18 PM","Mary Plass"]
["69443","CN0FJ44J7444548OA9ZS","LHS 2022","108","Dell 24\" Widescreen Monitor",null,"Available","Monitor",{"$nulls":4},"U2412Mb","Dell",{"$nulls":16},"03/23/2023 05:18 PM","Mary Plass"]
["69442","CN0FY6RN74445631742MA01","LHS 2022","108","Dell 24\" Widescreen Monitor",null,"Available","Monitor",{"$nulls":4},"U2412Mb","Dell",{"$nulls":16},"03/23/2023 05:18 PM","Mary Plass"]
["69441","CN0FJ44J7444548OABTS","LHS 2022","108","Dell 24\" Widescreen Monitor",null,"Available","Monitor",{"$nulls":4},"U2412Mb","Dell",{"$nulls":16},"03/23/2023 05:18 PM","Mary Plass"]
["69440","CN0FY6RN74445631597MA01","LHS 2022","108","Dell 24\" Widescreen Monitor",null,"Available","Monitor",{"$nulls":4},"U2412Mb","Dell",{"$nulls":16},"03/23/2023 05:18 PM","Mary Plass"]
["69439","CN0FJ44J744454CC815M","LHS 2022","108","Dell 24\" Widescreen Monitor",null,"Available","Monitor",{"$nulls":4},"U2412Mb","Dell",{"$nulls":16},"03/23/2023 05:18 PM","Mary Plass"]
["69438","CN0FJ44J74445443159M","LHS 2022","108","Dell 24\" Widescreen Monitor",null,"Available","Monitor",{"$nulls":4},"U2412Mb","Dell",{"$nulls":16},"03/23/2023 05:18 PM","Mary Plass"]
["69437","CN0FJ44J7444548OABUS","LHS 2022","108","Dell 24\" Widescreen Monitor",null,"Available","Monitor",{"$nulls":4},"U2412Mb","Dell",{"$nulls":16},"03/23/2023 05:18 PM","Mary Plass"]
["69453","CN0FJ44J744454AK132S","LHS 2022","108","Dell 24\" Widescreen Monitor",null,"Available","Monitor",{"$nulls":4},"U2412Mb","Dell",{"$nulls":16},"03/23/2023 05:18 PM","Mary Plass"]
["69452","CN0FJ44J744454CF597M","LHS 2022","108","Dell 24\" Widescreen Monitor",null,"Available","Monitor",{"$nulls":4},"U2412Mb","Dell",{"$nulls":16},"03/23/2023 05:18 PM","Mary Plass"]
["69451","CN0FJ44J7444544OESAS","LHS 2022","108","Dell 24\" Widescreen Monitor",null,"Available","Monitor",{"$nulls":4},"U2412Mb","Dell",{"$nulls":16},"03/23/2023 05:18 PM","Mary Plass"]
["69450","CN0FJ44J7444548OABVS","LHS 2022","108","Dell 24\" Widescreen Monitor",null,"Available","Monitor",{"$nulls":4},"U2412Mb","Dell",{"$nulls":16},"03/23/2023 05:18 PM","Mary Plass"]
["69449","CN0FP04F7287236PAD4M","LHS 2022","108","Dell 24\" Widescreen Monitor",null,"Available","Monitor",{"$nulls":4},"U2412Mb","Dell",{"$nulls":16},"03/23/2023 05:18 PM","Mary Plass"]
["69388","X8WE2600122","LHS 2022","308","Epson Powerlite 725W Projector",null,"Available","Projector",{"$nulls":4},"Powerlite 725W","Epson",{"$nulls":16},"03/21/2023 04:03 PM","Mary Plass"]
["69385","X8WE2600121","LHS 2022","328","Epson Powerlite 725W Projector",null,"Available","Projector",{"$nulls":4},"Powerlite 725W","Epson",{"$nulls":16},"03/21/2023 04:03 PM","Mary Plass"]
["68967","CNHSKD59JT","LHS 2022","211","ARUBA AP-515 (US) DUAL RADIO 4X4, INTERNAL ANTENNAS UNIFIED CAMPUS AP",null,"Available","Access Point",{"$nulls":4},"AP-515","ARUBA",{"$nulls":16},"03/21/2023 11:33 AM","Mary Plass"]
["69370","CNHSKD5864","LHS 2022","201","ARUBA AP-515 (US) DUAL RADIO 4X4, INTERNAL ANTENNAS UNIFIED CAMPUS AP",null,"Available","Access Point",{"$nulls":4},"AP-515","ARUBA",{"$nulls":16},"03/21/2023 11:33 AM","Mary Plass"]
["69372","CN0FJ44J7444542G665M","LHS 2022","207","Dell 24\" Widescreen Monitor",null,"Available","Monitor",{"$nulls":4},"U2412Mb","Dell",{"$nulls":16},"03/21/2023 11:33 AM","Mary Plass"]
["69376","NOSERIAL-001","LHS 2022","207","Dell 19\" Widescreen Monitor",null,"Available","Monitor",{"$nulls":4},"1909Wf","Dell",{"$nulls":16},"03/21/2023 03:52 PM","Mary Plass"]
["69377","NOSERIAL-002","LHS 2022","207","Dell 19\" Widescreen Monitor",null,"Available","Monitor",{"$nulls":4},"1909Wf","Dell",{"$nulls":16},"03/21/2023 03:52 PM","Mary Plass"]
["69378","NOSERIAL-003","LHS 2022","207","Dell 19\" Widescreen Monitor",null,"Available","Monitor",{"$nulls":4},"1909Wb","Dell",{"$nulls":16},"03/21/2023 03:52 PM","Mary Plass"]
["69371","CNHSKD585T","LHS 2022","207","ARUBA AP-515 (US) DUAL RADIO 4X4, INTERNAL ANTENNAS UNIFIED CAMPUS AP",null,"Available","Access Point",{"$nulls":4},"AP-515","ARUBA",{"$nulls":16},"03/21/2023 11:33 AM","Mary Plass"]
["69369","CNHSKD58DT","LHS 2022","230","ARUBA AP-515 (US) DUAL RADIO 4X4, INTERNAL ANTENNAS UNIFIED CAMPUS AP",null,"Available","Access Point",{"$nulls":4},"AP-515","ARUBA",{"$nulls":16},"03/21/2023 11:33 AM","Mary Plass"]
["69368","CN0668VCQDC007BP20NBA02","LHS 2022","231","Dell 22\" Widescreen Monitor",null,"Available","Monitor",{"$nulls":4},"P2217h","Dell",{"$nulls":16},"03/21/2023 11:33 AM","Mary Plass"]
["69362","CN0CN084742617AK15MM","LHS 2022","233","Dell 19\" Monitor",null,"Available","Monitor",{"$nulls":4},"E198FPb","Dell",{"$nulls":16},"03/21/2023 11:33 AM","Mary Plass"]
["69360","CNHSKD59J9","LHS 2022","234","ARUBA AP-515 (US) DUAL RADIO 4X4, INTERNAL ANTENNAS UNIFIED CAMPUS AP",null,"Available","Access Point",{"$nulls":4},"AP-515","ARUBA",{"$nulls":16},"03/21/2023 11:33 AM","Mary Plass"]
["69358","CNHSKD5858","LHS 2022","235","ARUBA AP-515 (US) DUAL RADIO 4X4, INTERNAL ANTENNAS UNIFIED CAMPUS AP",null,"Available","Access Point",{"$nulls":4},"AP-515","ARUBA",{"$nulls":16},"03/21/2023 11:33 AM","Mary Plass"]
["69356","CN0YMYH1742614CR0NWS","LHS 2022","237","Dell 24\" Widescreen Monitor",null,"Available","Monitor",{"$nulls":4},"U2412Mb","Dell",{"$nulls":16},"03/21/2023 11:33 AM","Mary Plass"]
["69355","CNHSKD59JG","LHS 2022","237","ARUBA AP-515 (US) DUAL RADIO 4X4, INTERNAL ANTENNAS UNIFIED CAMPUS AP",null,"Available","Access Point",{"$nulls":4},"AP-515","ARUBA",{"$nulls":16},"03/21/2023 11:33 AM","Mary Plass"]
["69352","CNHSKD58CW","LHS 2022","238","ARUBA AP-515 (US) DUAL RADIO 4X4, INTERNAL ANTENNAS UNIFIED CAMPUS AP",null,"Available","Access Point",{"$nulls":4},"AP-515","ARUBA",{"$nulls":16},"03/21/2023 11:33 AM","Mary Plass"]
["69353","CN0YMYH17426146Q1F8L","LHS 2022","238","Dell 24\" Widescreen Monitor",null,"Available","Monitor",{"$nulls":4},"U2412Mb","Dell",{"$nulls":16},"03/21/2023 11:33 AM","Mary Plass"]
["69383","09LV3CNTA08791J","LHS 2022","310","Samsung 75\" Series 4K UHD Smart TV",null,"Available","TV",{"$nulls":4},"UN75TU7000FXZA","Samsung",{"$nulls":16},"03/21/2023 03:52 PM","Mary Plass"]
["69384","CNHSKD585N","LHS 2022","310","ARUBA AP-515 (US) DUAL RADIO 4X4, INTERNAL ANTENNAS UNIFIED CAMPUS AP",null,"Available","Access Point",{"$nulls":4},"AP-515","ARUBA",{"$nulls":16},"03/21/2023 03:52 PM","Mary Plass"]
["69389","09LV3CNRA04687F","LHS 2022","344","Samsung 75\" Series 4K UHD Smart TV",null,"Available","TV",{"$nulls":4},"UN75TU7000FXZA","Samsung",{"$nulls":16},"03/21/2023 04:03 PM","Mary Plass"]
["69390","CNHSKD5CP5","LHS 2022","344","ARUBA AP-515 (US) DUAL RADIO 4X4, INTERNAL ANTENNAS UNIFIED CAMPUS AP",null,"Available","Access Point",{"$nulls":4},"AP-515","ARUBA",{"$nulls":16},"03/21/2023 03:52 PM","Mary Plass"]
["69391","09LV3CNRA04709V","LHS 2022","346","Samsung 75\" Series 4K UHD Smart TV",null,"Available","TV",{"$nulls":4},"UN75TU7000FXZA","Samsung",{"$nulls":16},"03/21/2023 04:03 PM","Mary Plass"]
["69392","CNHSKD5870","LHS 2022","346","ARUBA AP-515 (US) DUAL RADIO 4X4, INTERNAL ANTENNAS UNIFIED CAMPUS AP",null,"Available","Access Point",{"$nulls":4},"AP-515","ARUBA",{"$nulls":16},"03/21/2023 03:52 PM","Mary Plass"]
["69386","CNHSKD585Q","LHS 2022","314","ARUBA AP-515 (US) DUAL RADIO 4X4, INTERNAL ANTENNAS UNIFIED CAMPUS AP",null,"Available","Access Point",{"$nulls":4},"AP-515","ARUBA",{"$nulls":16},"03/21/2023 03:52 PM","Mary Plass"]
["69387","09LV3CNRA04712K","LHS 2022","314","Samsung 75\" Series 4K UHD Smart TV",null,"Available","TV",{"$nulls":4},"UN75TU7000FXZA","Samsung",{"$nulls":16},"03/21/2023 04:03 PM","Mary Plass"]
["67775","CNHSKD59KT","LHS 2022","240","ARUBA AP-515 (US) DUAL RADIO 4X4, INTERNAL ANTENNAS UNIFIED CAMPUS AP",null,"Available","Access Point",{"$nulls":4},"AP-515","ARUBA",{"$nulls":16},"03/23/2023 05:18 PM","Mary Plass"]
["67776","CNHSKD58JY","LHS 2022","240","ARUBA AP-515 (US) DUAL RADIO 4X4, INTERNAL ANTENNAS UNIFIED CAMPUS AP",null,"Available","Access Point",{"$nulls":4},"AP-515","ARUBA",{"$nulls":16},"03/23/2023 05:18 PM","Mary Plass"]
["69380","CN0YGP3972872454A86L","LHS 2022","240","Dell 19\" Widescreen Monitor",null,"Available","Monitor",{"$nulls":4},"P1914Sf","Dell",{"$nulls":16},"03/21/2023 03:52 PM","Mary Plass"]
["69381","09LV3CNTA08788E","LHS 2022","240","Samsung 75\" Series 4K UHD Smart TV",null,"Available","TV",{"$nulls":4},"UN75TU7000FXZA","Samsung",{"$nulls":16},"03/23/2023 05:18 PM","Mary Plass"]
["69367","CN0FY6RN74445631A41MA01","LHS 2022","242","Dell 22\" Widescreen Monitor",null,"Available","Monitor",{"$nulls":4},"P2213t","Dell",{"$nulls":16},"03/21/2023 11:33 AM","Mary Plass"]
["69365","X8WE2600243","LHS 2022","242","Epson Powerlite 725W Projector",null,"Available","Projector",{"$nulls":4},"Powerlite 725W","Epson",{"$nulls":16},"03/21/2023 04:03 PM","Mary Plass"]
["69366","CNHSKD5865","LHS 2022","242","ARUBA AP-515 (US) DUAL RADIO 4X4, INTERNAL ANTENNAS UNIFIED CAMPUS AP",null,"Available","Access Point",{"$nulls":4},"AP-515","ARUBA",{"$nulls":16},"03/21/2023 11:33 AM","Mary Plass"]
["69361","V610058","LHS 2022","243A","Lenovo 19\" Monitor",null,"Available","Monitor",{"$nulls":4},"L194Wd","Lenovo",{"$nulls":16},"03/21/2023 11:33 AM","Mary Plass"]
["69393","CNHSKD59J8","LHS 2022","244","ARUBA AP-515 (US) DUAL RADIO 4X4, INTERNAL ANTENNAS UNIFIED CAMPUS AP",null,"Available","Access Point",{"$nulls":4},"AP-515","ARUBA",{"$nulls":16},"03/21/2023 03:52 PM","Mary Plass"]
["69359","09LV3CNRA04714A","LHS 2022","244","Samsung 75\" Series 4K UHD Smart TV",null,"Available","TV",{"$nulls":4},"UN75TU7000FXZA","Samsung",{"$nulls":16},"03/21/2023 04:03 PM","Mary Plass"]
["69357","CNHSKD585F","LHS 2022","245B","ARUBA AP-515 (US) DUAL RADIO 4X4, INTERNAL ANTENNAS UNIFIED CAMPUS AP",null,"Available","Access Point",{"$nulls":4},"AP-515","ARUBA",{"$nulls":16},"03/21/2023 11:33 AM","Mary Plass"]
["69354","09LV3CNRA04710L","LHS 2022","246","Samsung 75\" Series 4K UHD Smart TV",null,"Available","TV",{"$nulls":4},"UN75TU7000FXZA","Samsung",{"$nulls":16},"03/21/2023 04:03 PM","Mary Plass"]
["69421","C4092","LHS 2022","101","Dell 19\" Widescreen Monitor",null,"Available","Monitor",{"$nulls":4},"P2419h","Dell",{"$nulls":16},"03/23/2023 05:18 PM","Mary Plass"]
["69461","AQGA5HA005592","LHS 2022","103","AOC Widescreen Monitor",null,"Available","Monitor",{"$nulls":4},"HA55921","aoc",{"$nulls":16},"03/23/2023 05:18 PM","Mary Plass"]
["67774","CN0YMYH1742613AA2UPL","LHS 2022","140C","Dell 24\" Widescreen Monitor",null,"Available","Monitor",{"$nulls":4},"U2412Mb","Dell",{"$nulls":16},"03/23/2023 05:18 PM","Mary Plass"]
["69394","CNHSKD5872","LHS 2022","141","ARUBA AP-515 (US) DUAL RADIO 4X4, INTERNAL ANTENNAS UNIFIED CAMPUS AP",null,"Available","Access Point",{"$nulls":4},"AP-515","ARUBA",{"$nulls":16},"03/21/2023 03:52 PM","Mary Plass"]
["69414","CNHSKD5869","LHS 2022","143","ARUBA AP-515 (US) DUAL RADIO 4X4, INTERNAL ANTENNAS UNIFIED CAMPUS AP",null,"Available","Access Point",{"$nulls":4},"AP-515","ARUBA",{"$nulls":16},"03/23/2023 05:18 PM","Mary Plass"]
["69395","CN0YMYH17426157V29GS","LHS 2022","143","Dell 24\" Widescreen Monitor",null,"Available","Monitor",{"$nulls":4},"U2412Mb","Dell",{"$nulls":16},"03/23/2023 05:18 PM","Mary Plass"]
["69400","CNHSKD589Y","LHS 2022","144","ARUBA AP-515 (US) DUAL RADIO 4X4, INTERNAL ANTENNAS UNIFIED CAMPUS AP",null,"Available","Access Point",{"$nulls":4},"AP-515","ARUBA",{"$nulls":16},"03/23/2023 05:18 PM","Mary Plass"]
["69401","09LV3CNRA04683A","LHS 2022","144","Samsung 75\" Series 4K UHD Smart TV",null,"Available","TV",{"$nulls":4},"UN75TU7000FXZA","Samsung",{"$nulls":16},"03/23/2023 05:18 PM","Mary Plass"]
["69404","09LV3CNRB19781P","LHS 2022","146","Samsung 75\" Series 4K UHD Smart TV",null,"Available","TV",{"$nulls":4},"UN75TU7000FXZA","Samsung",{"$nulls":16},"03/23/2023 05:18 PM","Mary Plass"]
["69403","CNHSKD589L","LHS 2022","146","ARUBA AP-515 (US) DUAL RADIO 4X4, INTERNAL ANTENNAS UNIFIED CAMPUS AP",null,"Available","Access Point",{"$nulls":4},"AP-515","ARUBA",{"$nulls":16},"03/23/2023 05:18 PM","Mary Plass"]
["69382","07CV3CCKA06197H","LHS 2022","240A","Samsung 75\" Series 4K UHD Smart TV",null,"Available","TV",{"$nulls":4},"UN75TU7000FXZA","Samsung",{"$nulls":16},"03/21/2023 04:03 PM","Mary Plass"]
["56272","R90VG3BW","Central Office","Imaging Room/Staff Devices","Lenovo ThinkPad L380 Yoga (Core i5-8250U, 8GB, 256GB)",null,"Available","Laptop","2019-07-24","865.00","19-58509","Firefly Computers","L380 Yoga","Lenovo","Makenzie Blackburn","84fdd16a825e","2024/2025",null,"TE PD",{"$nulls":7},"20M7000MUS",{"$nulls":3},"07/24/2019 02:13 PM","Mary Plass"]
["56277","R90VG3F5","Central Office","Imaging Room/Staff Devices","Lenovo ThinkPad L380 Yoga (Core i5-8250U, 8GB, 256GB)",null,"Available","Laptop","2019-07-24","865.00","19-58509","Firefly Computers","L380 Yoga","Lenovo","Lauren Boeglin","84fdd16a61a2","2024/2025",null,"TE PD",{"$nulls":7},"20M7000MUS",{"$nulls":3},"07/24/2019 02:13 PM","Mary Plass"]
["56280","R90VG3EF","Central Office","Imaging Room/Staff Devices","Lenovo ThinkPad L380 Yoga (Core i5-8250U, 8GB, 256GB)",null,"Available","Laptop","2019-07-24","865.00","19-58509","Firefly Computers","L380 Yoga","Lenovo","Katie French","84fdd1678c89","2024/2025",null,"TE PD",{"$nulls":7},"20M7000MUS",{"$nulls":3},"07/24/2019 02:13 PM","Mary Plass"]
["56284","R90VG3DR","Central Office","Imaging Room/Staff Devices","Lenovo ThinkPad L380 Yoga (Core i5-8250U, 8GB, 256GB)",null,"Available","Laptop","2019-07-24","865.00","19-58509","Firefly Computers","L380 Yoga","Lenovo","Peggy Klages","84fdd16a5739","2024/2025",null,"TE PD",{"$nulls":7},"20M7000MUS",{"$nulls":3},"07/24/2019 02:13 PM","Mary Plass"]
["56290","R90VG3F7","Central Office","Imaging Room/Staff Devices","Lenovo ThinkPad L380 Yoga (Core i5-8250U, 8GB, 256GB)",null,"Available","Laptop","2019-07-24","865.00","19-58509","Firefly Computers","L380 Yoga","Lenovo","Kristen Chapman","84fdd16a5fe5","2024/2025",null,"TE PD",{"$nulls":7},"20M7000MUS",{"$nulls":3},"07/24/2019 02:13 PM","Mary Plass"]
["56291","R90VG3C8","Central Office","Imaging Room/Staff Devices","Lenovo ThinkPad L380 Yoga (Core i5-8250U, 8GB, 256GB)",null,"Available","Laptop","2019-07-24","865.00","19-58509","Firefly Computers","L380 Yoga","Lenovo","Chelsea Theodore","84fdd16a5f9f","2024/2025",null,"TE PD",{"$nulls":7},"20M7000MUS",{"$nulls":3},"07/24/2019 02:13 PM","Mary Plass"]
["56295","R90VG3BN","Central Office","Imaging Room/Staff Devices","Lenovo ThinkPad L380 Yoga (Core i5-8250U, 8GB, 256GB)",null,"Available","Laptop","2019-07-24","865.00","19-58509","Firefly Computers","L380 Yoga","Lenovo","Christopher Burke","84fdd16a8308","2024/2025",null,"TE PD",{"$nulls":7},"20M7000MUS",{"$nulls":3},"07/24/2019 02:13 PM","Mary Plass"]
["56300","R90VG3EQ","Central Office","Imaging Room/Staff Devices","Lenovo ThinkPad L380 Yoga (Core i5-8250U, 8GB, 256GB)",null,"Available","Laptop","2019-07-24","865.00","19-58509","Firefly Computers","L380 Yoga","Lenovo","Kristen Gardner","84fdd1677893","2024/2025",null,"TE PD",{"$nulls":7},"20M7000MUS",{"$nulls":3},"07/24/2019 02:13 PM","Mary Plass"]
["56388","R90VG3CZ","Central Office","Imaging Room/Staff Devices","Lenovo ThinkPad L380 Yoga (Core i5-8250U, 8GB, 256GB)",null,"Available","Laptop","2019-07-24","865.00","19-58509","Firefly Computers","L380 Yoga","Lenovo","Janna Sindelar","84fdd1677384","2024/2025",null,"TE PD",{"$nulls":7},"20M7000MUS",{"$nulls":3},"07/24/2019 02:13 PM","Mary Plass"]
["56393","R90VG3BX","Central Office","Imaging Room/Staff Devices","Lenovo ThinkPad L380 Yoga (Core i5-8250U, 8GB, 256GB)",null,"Available","Laptop","2019-07-24","865.00","19-58509","Firefly Computers","L380 Yoga","Lenovo","Holly Kunze","84fdd168fe0c","2024/2025",null,"TE PD",{"$nulls":7},"20M7000MUS",{"$nulls":3},"07/24/2019 02:13 PM","Mary Plass"]
["56398","R90VG3DP","Central Office","Imaging Room/Staff Devices","Lenovo ThinkPad L380 Yoga (Core i5-8250U, 8GB, 256GB)",null,"Available","Laptop","2019-07-24","865.00","19-58509","Firefly Computers","L380 Yoga","Lenovo",null,"84fdd1676a65","2024/2025",null,"TE PD",{"$nulls":7},"20M7000MUS",{"$nulls":3},"07/24/2019 02:13 PM","Mary Plass"]
["56401","R90VG3EK","Central Office","Imaging Room/Staff Devices","Lenovo ThinkPad L380 Yoga (Core i5-8250U, 8GB, 256GB)",null,"Available","Laptop","2019-07-24","865.00","19-58509","Firefly Computers","L380 Yoga","Lenovo","Teresa Winfield","84fdd1678eaa","2024/2025",null,"TE PD",{"$nulls":7},"20M7000MUS",{"$nulls":3},"07/24/2019 02:13 PM","Mary Plass"]
["56402","R90VG3FQ","Central Office","Imaging Room/Staff Devices","Lenovo ThinkPad L380 Yoga (Core i5-8250U, 8GB, 256GB)",null,"Available","Laptop","2019-07-24","865.00","19-58509","Firefly Computers","L380 Yoga","Lenovo","Claire Flesch","84FDD16A8326","2024/2025",null,"TE PD",{"$nulls":7},"20M7000MUS",{"$nulls":3},"07/24/2019 02:13 PM","Mary Plass"]
["56403","R90VG3EW","Central Office","Imaging Room/Staff Devices","Lenovo ThinkPad L380 Yoga (Core i5-8250U, 8GB, 256GB)",null,"Available","Laptop","2019-07-24","865.00","19-58509","Firefly Computers","L380 Yoga","Lenovo",null,"84FDD1678D97","2024/2025",null,"TE PD",{"$nulls":7},"20M7000MUS",{"$nulls":3},"07/24/2019 02:13 PM","Mary Plass"]
["56404","R90VG3FD","Central Office","Imaging Room/Staff Devices","Lenovo ThinkPad L380 Yoga (Core i5-8250U, 8GB, 256GB)",null,"Available","Laptop","2019-07-24","865.00","19-58509","Firefly Computers","L380 Yoga","Lenovo","Erin Craden","84FDD16777AD","2024/2025",null,"TE PD",{"$nulls":7},"20M7000MUS",{"$nulls":3},"07/24/2019 02:13 PM","Mary Plass"]
["56330","R90VG3ET","Central Office","Imaging Room/Staff Devices","Lenovo ThinkPad L380 Yoga (Core i5-8250U, 8GB, 256GB)",null,"Available","Laptop","2019-07-24","865.00","19-58509","Firefly Computers","L380 Yoga","Lenovo","MariKate Schrick","84fdd1678dbf","2024/2025",null,"TE PD",{"$nulls":7},"20M7000MUS",{"$nulls":3},"07/24/2019 02:13 PM","Mary Plass"]
["56381","R90VG3FK","Central Office","Imaging Room/Staff Devices","Lenovo ThinkPad L380 Yoga (Core i5-8250U, 8GB, 256GB)",null,"Available","Laptop","2019-07-24","865.00","19-58509","Firefly Computers","L380 Yoga","Lenovo","Amy Albritton","84fdd16a5f9a","2024/2025",null,"TE PD",{"$nulls":7},"20M7000MUS",{"$nulls":3},"07/24/2019 02:13 PM","Mary Plass"]
["56383","R90VG3E8","Central Office","Imaging Room/Staff Devices","Lenovo ThinkPad L380 Yoga (Core i5-8250U, 8GB, 256GB)",null,"Available","Laptop","2019-07-24","865.00","19-58509","Firefly Computers","L380 Yoga","Lenovo","Jessica Bangert","84fdd16777cb","2024/2025",null,"TE PD",{"$nulls":7},"20M7000MUS",{"$nulls":3},"07/24/2019 02:13 PM","Mary Plass"]
["56264","R90VG3C1","Central Office","Imaging Room/Staff Devices","Lenovo ThinkPad L380 Yoga (Core i5-8250U, 8GB, 256GB)",null,"Available","Laptop","2019-07-24","865.00","19-58509","Firefly Computers","L380 Yoga","Lenovo","DeAndre Thomas","84fdd168fde9","2024/2025",null,"TE PD",{"$nulls":7},"20M7000MUS",{"$nulls":3},"07/24/2019 02:13 PM","Mary Plass"]
["69396","CNOHT5N3641805Cq0BWLA02","LHS 2022","143","Dell 24\" Widescreen Monitor",null,"Available","Monitor",{"$nulls":4},"U2412Mb","Dell",{"$nulls":16},"03/23/2023 05:18 PM","Mary Plass"]
["69397","CN0G8TVHQDC0001UC0TLA07","LHS 2022","143A","Dell 19\" Widescreen Monitor",null,"Available","Monitor",{"$nulls":4},"P2419h","Dell",{"$nulls":16},"03/23/2023 05:18 PM","Mary Plass"]
["69398","CN0YMYH17426151S29RS","LHS 2022","143D","Dell 24\" Widescreen Monitor",null,"Available","Monitor",{"$nulls":4},"U2412Mb","Dell",{"$nulls":16},"03/23/2023 05:18 PM","Mary Plass"]
["69399","CN0YMYH17426147U0M4L","LHS 2022","143D","Dell 24\" Widescreen Monitor",null,"Available","Monitor",{"$nulls":4},"U2412Mb","Dell",{"$nulls":16},"03/23/2023 05:18 PM","Mary Plass"]
["56305","R90VG3EX","Central Office","Imaging Room/Staff Devices","Lenovo ThinkPad L380 Yoga (Core i5-8250U, 8GB, 256GB)",null,"Available","Laptop","2019-07-24","865.00","19-58509","Firefly Computers","L380 Yoga","Lenovo","Angela Bachelier","84fdd16777bc","2024/2025",null,"TE PD",{"$nulls":7},"20M7000MUS",{"$nulls":3},"07/24/2019 02:13 PM","Mary Plass"]
["56310","R90VG3EB","Central Office","Imaging Room/Staff Devices","Lenovo ThinkPad L380 Yoga (Core i5-8250U, 8GB, 256GB)",null,"Available","Laptop","2019-07-24","865.00","19-58509","Firefly Computers","L380 Yoga","Lenovo","Peggy Cooksey","84fdd16777d5","2024/2025",null,"TE PD",{"$nulls":7},"20M7000MUS",{"$nulls":3},"07/24/2019 02:13 PM","Mary Plass"]
["56311","R90VG3CX","Central Office","Imaging Room/Staff Devices","Lenovo ThinkPad L380 Yoga (Core i5-8250U, 8GB, 256GB)",null,"Available","Laptop","2019-07-24","865.00","19-58509","Firefly Computers","L380 Yoga","Lenovo","Valerie Creech","84fdd1676b0a","2024/2025",null,"TE PD",{"$nulls":7},"20M7000MUS",{"$nulls":3},"07/24/2019 02:13 PM","Mary Plass"]
["56314","R90VG3C7","Central Office","Imaging Room/Staff Devices","Lenovo ThinkPad L380 Yoga (Core i5-8250U, 8GB, 256GB)",null,"Available","Laptop","2019-07-24","865.00","19-58509","Firefly Computers","L380 Yoga","Lenovo","Anne Gastreich","84fdd16a5f7c","2024/2025",null,"TE PD",{"$nulls":7},"20M7000MUS",{"$nulls":3},"07/24/2019 02:13 PM","Mary Plass"]
["56318","R90VG3DV","Central Office","Imaging Room/Staff Devices","Lenovo ThinkPad L380 Yoga (Core i5-8250U, 8GB, 256GB)",null,"Available","Laptop","2019-07-24","865.00","19-58509","Firefly Computers","L380 Yoga","Lenovo","Rachel Herrman","84fdd167766d","2024/2025",null,"TE PD",{"$nulls":7},"20M7000MUS",{"$nulls":3},"07/24/2019 02:13 PM","Mary Plass"]
["56319","R90VG3DC","Central Office","Imaging Room/Staff Devices","Lenovo ThinkPad L380 Yoga (Core i5-8250U, 8GB, 256GB)",null,"Available","Laptop","2019-07-24","865.00","19-58509","Firefly Computers","L380 Yoga","Lenovo","Tara Hickel","84fdd16a5fbd","2024/2025",null,"TE PD",{"$nulls":7},"20M7000MUS",{"$nulls":3},"07/24/2019 02:13 PM","Mary Plass"]
["56336","R90VG3D6","Central Office","Imaging Room/Staff Devices","Lenovo ThinkPad L380 Yoga (Core i5-8250U, 8GB, 256GB)",null,"Available","Laptop","2019-07-24","865.00","19-58509","Firefly Computers","L380 Yoga","Lenovo","Jen Zwart","84fdd16a8533","2024/2025",null,"TE PD",{"$nulls":7},"20M7000MUS",{"$nulls":3},"07/24/2019 02:13 PM","Mary Plass"]
["56337","R90VG3F2","Central Office","Imaging Room/Staff Devices","Lenovo ThinkPad L380 Yoga (Core i5-8250U, 8GB, 256GB)",null,"Available","Laptop","2019-07-24","865.00","19-58509","Firefly Computers","L380 Yoga","Lenovo","Dr. Mark Eggers","84fdd16a61d4","2024/2025",null,"TE PD",{"$nulls":7},"20M7000MUS",{"$nulls":3},"07/24/2019 02:13 PM","Mary Plass"]
["56339","R90VG3CE","Central Office","Imaging Room/Staff Devices","Lenovo ThinkPad L380 Yoga (Core i5-8250U, 8GB, 256GB)",null,"Available","Laptop","2019-07-24","865.00","19-58509","Firefly Computers","L380 Yoga","Lenovo","Erin Caughlan","84fdd1677343","2024/2025",null,"TE PD",{"$nulls":7},"20M7000MUS",{"$nulls":3},"07/24/2019 02:13 PM","Mary Plass"]
["56343","R90VG3C5","Central Office","Imaging Room/Staff Devices","Lenovo ThinkPad L380 Yoga (Core i5-8250U, 8GB, 256GB)",null,"Available","Laptop","2019-07-24","865.00","19-58509","Firefly Computers","L380 Yoga","Lenovo","Ann Haberberger","84fdd16a8254","2024/2025",null,"TE PD",{"$nulls":7},"20M7000MUS",{"$nulls":3},"07/24/2019 02:13 PM","Mary Plass"]
["56346","R90VG3DG","Central Office","Imaging Room/Staff Devices","Lenovo ThinkPad L380 Yoga (Core i5-8250U, 8GB, 256GB)",null,"Available","Laptop","2019-07-24","865.00","19-58509","Firefly Computers","L380 Yoga","Lenovo","Julie Heine","84fdd16a5f63","2024/2025",null,"TE PD",{"$nulls":7},"20M7000MUS",{"$nulls":3},"07/24/2019 02:13 PM","Mary Plass"]
["56348","R90VG3CY","Central Office","Imaging Room/Staff Devices","Lenovo ThinkPad L380 Yoga (Core i5-8250U, 8GB, 256GB)",null,"Available","Laptop","2019-07-24","865.00","19-58509","Firefly Computers","L380 Yoga","Lenovo","Christy Kelsch","84fdd16a8204","2024/2025",null,"TE PD",{"$nulls":7},"20M7000MUS",{"$nulls":3},"07/24/2019 02:13 PM","Mary Plass"]
["56340","R90VG3CP","Central Office","Imaging Room/Staff Devices","Lenovo ThinkPad L380 Yoga (Core i5-8250U, 8GB, 256GB)",null,"Available","Laptop","2019-07-24","865.00","19-58509","Firefly Computers","L380 Yoga","Lenovo","Kimberly Leighton","84fdd1677479","2024/2025",null,"TE PD",{"$nulls":7},"20M7000MUS",{"$nulls":3},"07/24/2019 02:13 PM","Mary Plass"]
["56374","R90VG3F0","Central Office","Imaging Room/Staff Devices","Lenovo ThinkPad L380 Yoga (Core i5-8250U, 8GB, 256GB)",null,"Available","Laptop","2019-07-24","865.00","19-58509","Firefly Computers","L380 Yoga","Lenovo","Rebecca Donze","84fdd16777e9","2024/2025",null,"TE PD",{"$nulls":7},"20M7000MUS",{"$nulls":3},"07/24/2019 02:13 PM","Mary Plass"]
["56375","R90VG3DM","Central Office","Imaging Room/Staff Devices","Lenovo ThinkPad L380 Yoga (Core i5-8250U, 8GB, 256GB)",null,"Available","Laptop","2019-07-24","865.00","19-58509","Firefly Computers","L380 Yoga","Lenovo","Shannon Roe","84fdd1676ae7","2024/2025",null,"TE PD",{"$nulls":7},"20M7000MUS",{"$nulls":3},"07/24/2019 02:13 PM","Mary Plass"]
["56376","R90VG3BT","Central Office","Imaging Room/Staff Devices","Lenovo ThinkPad L380 Yoga (Core i5-8250U, 8GB, 256GB)",null,"Available","Laptop","2019-07-24","865.00","19-58509","Firefly Computers","L380 Yoga","Lenovo","Stephanie Meesey","84fdd16a824f","2024/2025",null,"TE PD",{"$nulls":7},"20M7000MUS",{"$nulls":3},"07/24/2019 02:13 PM","Mary Plass"]
["56386","R90VG3CF","Central Office","Imaging Room/Staff Devices","Lenovo ThinkPad L380 Yoga (Core i5-8250U, 8GB, 256GB)",null,"Available","Laptop","2019-07-24","865.00","19-58509","Firefly Computers","L380 Yoga","Lenovo","Mike Franzel","84fdd16a5f95","2024/2025",null,"TE PD",{"$nulls":7},"20M7000MUS",{"$nulls":3},"07/24/2019 02:13 PM","Mary Plass"]
["56350","R90VG3D0","Central Office","Imaging Room/Staff Devices","Lenovo ThinkPad L380 Yoga (Core i5-8250U, 8GB, 256GB)",null,"Available","Laptop","2019-07-24","865.00","19-58509","Firefly Computers","L380 Yoga","Lenovo","Ian Fairley","84fdd1677352","2024/2025",null,"TE PD",{"$nulls":7},"20M7000MUS",{"$nulls":3},"07/24/2019 02:13 PM","Mary Plass"]
["56360","R90VG3FL","Central Office","Imaging Room/Staff Devices","Lenovo ThinkPad L380 Yoga (Core i5-8250U, 8GB, 256GB)",null,"Available","Laptop","2019-07-24","865.00","19-58509","Firefly Computers","L380 Yoga","Lenovo","Lauren Peppers","84fdd16a61a7","2024/2025",null,"TE PD",{"$nulls":7},"20M7000MUS",{"$nulls":3},"07/24/2019 02:13 PM","Mary Plass"]
["56369","R90VG3DK","Central Office","Imaging Room/Staff Devices","Lenovo ThinkPad L380 Yoga (Core i5-8250U, 8GB, 256GB)",null,"Available","Laptop","2019-07-24","865.00","19-58509","Firefly Computers","L380 Yoga","Lenovo",null,"84fdd16a82e0","2024/2025",null,"TE PD",{"$nulls":7},"20M7000MUS",null,null,"Technology","07/24/2019 02:13 PM","Mary Plass"]
["54916","FVFYR2ESJK77","Central Office","Imaging Room/Staff Devices","Apple MacBook Air Intel Core i5, 8GB, 128GB SSD (2018)",null,"Available","MacBook","2019-06-27","1,053.07","20-57432","Apple","MRF82LL/A","Apple","Mallory Schneider",null,"2024/2025",null,"TE PD",{"$nulls":6},"IMPACT STUDY","MRF82LL/A",{"$nulls":3},"07/15/2019 11:53 AM","Mary Plass"]
["54917","FVFYR28HJK77","Central Office","Imaging Room/Staff Devices","Apple MacBook Air Intel Core i5, 8GB, 128GB SSD (2018)",null,"Available","MacBook","2019-06-27","1,053.07","20-57432","Apple","MRF82LL/A","Apple",null,null,"2024/2025",null,"TE PD",{"$nulls":6},"IMPACT STUDY","MRF82LL/A",{"$nulls":3},"07/15/2019 11:53 AM","Mary Plass"]
["54921","FVFYR1WXJK77","Central Office","Imaging Room/Staff Devices","Apple MacBook Air Intel Core i5, 8GB, 128GB SSD (2018)",null,"Available","MacBook","2019-06-27","1,053.07","20-57432","Apple","MRF82LL/A","Apple",null,null,"2024/2025",null,"TE PD",{"$nulls":6},"IMPACT STUDY","MRF82LL/A",{"$nulls":3},"07/15/2019 11:53 AM","Mary Plass"]
["56279","R90VG3BS","Central Office","Imaging Room/Staff Devices","Lenovo ThinkPad L380 Yoga (Core i5-8250U, 8GB, 256GB)",null,"Available","Laptop","2019-07-24","865.00","19-58509","Firefly Computers","L380 Yoga","Lenovo",null,"84fdd16a183c","2024/2025",null,"TE PD",{"$nulls":7},"20M7000MUS",null,null,"PE","07/24/2019 02:13 PM","Mary Plass"]
["56265","R90VG3E7","Central Office","Imaging Room/Staff Devices","Lenovo ThinkPad L380 Yoga (Core i5-8250U, 8GB, 256GB)",null,"Available","Laptop","2019-07-24","865.00","19-58509","Firefly Computers","L380 Yoga","Lenovo","Ta'Keshia Parker","84fdd16778bb","2024/2025",null,"TE PD",{"$nulls":7},"20M7000MUS",null,null,"Principal","07/24/2019 02:13 PM","Mary Plass"]
["56345","R90VG3FZ","Central Office","Imaging Room/Staff Devices","Lenovo ThinkPad L380 Yoga (Core i5-8250U, 8GB, 256GB)",null,"Available","Laptop","2019-07-24","865.00","19-58509","Firefly Computers","L380 Yoga","Lenovo","Brian Mockel","84fdd16a8245","2024/2025",null,"TE PD",{"$nulls":7},"20M7000MUS",null,null,"Principal","07/24/2019 02:13 PM","Mary Plass"]
["56269","R90VG3FV","Central Office","Imaging Room/Staff Devices","Lenovo ThinkPad L380 Yoga (Core i5-8250U, 8GB, 256GB)",null,"Available","Laptop","2019-07-24","865.00","19-58509","Firefly Computers","L380 Yoga","Lenovo","Sarah Jaeger","84fdd168f4cf","2024/2025",null,"TE PD",{"$nulls":7},"20M7000MUS",null,null,"3rd Grade","07/24/2019 02:13 PM","Mary Plass"]
["56321","R90VG3EH","Central Office","Imaging Room/Staff Devices","Lenovo ThinkPad L380 Yoga (Core i5-8250U, 8GB, 256GB)",null,"Available","Laptop","2019-07-24","865.00","19-58509","Firefly Computers","L380 Yoga","Lenovo","Colleen Hooper","84fdd1677668","2024/2025",null,"TE PD",{"$nulls":7},"20M7000MUS",null,null,"3rd Grade","07/24/2019 02:13 PM","Mary Plass"]
["56268","R90VG3FM","Central Office","Imaging Room/Staff Devices","Lenovo ThinkPad L380 Yoga (Core i5-8250U, 8GB, 256GB)",null,"Available","Laptop","2019-07-24","865.00","19-58509","Firefly Computers","L380 Yoga","Lenovo","Jessica Hopkins","84fdd16a5f81","2024/2025",null,"TE PD",{"$nulls":7},"20M7000MUS",null,null,"2nd Grade","07/24/2019 02:13 PM","Mary Plass"]
["56263","R90VG3E1","Central Office","Imaging Room/Staff Devices","Lenovo ThinkPad L380 Yoga (Core i5-8250U, 8GB, 256GB)",null,"Available","Laptop","2019-07-24","865.00","19-58509","Firefly Computers","L380 Yoga","Lenovo","Anna Martin","84fdd1678d5b","2024/2025",null,"TE PD",{"$nulls":7},"20M7000MUS",null,null,"2nd Grade","07/24/2019 02:13 PM","Mary Plass"]
["56405","R90VG3DT","Central Office","Imaging Room/Staff Devices","Lenovo ThinkPad L380 Yoga (Core i5-8250U, 8GB, 256GB)",null,"Available","Laptop","2019-07-24","865.00","19-58509","Firefly Computers","L380 Yoga","Lenovo","Terri Groh","84FDD16A8277","2024/2025",null,"TE PD",{"$nulls":7},"20M7000MUS",null,null,"2nd Grade","07/24/2019 02:13 PM","Mary Plass"]
["56287","R90VG3FN","Central Office","Imaging Room/Staff Devices","Lenovo ThinkPad L380 Yoga (Core i5-8250U, 8GB, 256GB)",null,"Available","Laptop","2019-07-24","865.00","19-58509","Firefly Computers","L380 Yoga","Lenovo","Kelly Oliver","84fdd16a5f6d","2024/2025",null,"TE PD",{"$nulls":7},"20M7000MUS",null,null,"1st Grade","07/24/2019 02:13 PM","Mary Plass"]
["56322","R90VG3DF","Central Office","Imaging Room/Staff Devices","Lenovo ThinkPad L380 Yoga (Core i5-8250U, 8GB, 256GB)",null,"Available","Laptop","2019-07-24","865.00","19-58509","Firefly Computers","L380 Yoga","Lenovo","Becky Joy","84fdd16a8295","2024/2025",null,"TE PD",{"$nulls":7},"20M7000MUS",null,null,"4th Grade","07/24/2019 02:13 PM","Mary Plass"]
["56307","R90VG3EJ","Central Office","Imaging Room/Staff Devices","Lenovo ThinkPad L380 Yoga (Core i5-8250U, 8GB, 256GB)",null,"Available","Laptop","2019-07-24","865.00","19-58509","Firefly Computers","L380 Yoga","Lenovo","Christine Bushman","84fdd16778c5","2024/2025",null,"TE PD",{"$nulls":7},"20M7000MUS",null,null,"4th Grade","07/24/2019 02:13 PM","Mary Plass"]
["56301","R90VG3EY","Central Office","Imaging Room/Staff Devices","Lenovo ThinkPad L380 Yoga (Core i5-8250U, 8GB, 256GB)",null,"Available","Laptop","2019-07-24","865.00","19-58509","Firefly Computers","L380 Yoga","Lenovo",null,"84fdd1678dba","2024/2025",null,"TE PD",{"$nulls":7},"20M7000MUS",null,null,"Music","07/24/2019 02:13 PM","Mary Plass"]
["56267","R90VG3BQ","Central Office","Imaging Room","Lenovo ThinkPad L380 Yoga (Core i5-8250U, 8GB, 256GB)",null,"Available","Laptop","2019-07-24","865.00","19-58509","Firefly Computers","L380 Yoga","Lenovo",null,"84fdd16a5fe0","2024/2025",null,"TE PD",{"$nulls":7},"20M7000MUS",null,null,"Technology","07/24/2019 02:13 PM","Mary Plass"]
["56387","R90VG3CD","Kennerly Elementary","*Staff/Teacher Devices","Lenovo ThinkPad L380 Yoga (Core i5-8250U, 8GB, 256GB)",null,"Available","Laptop","2019-07-24","865.00","19-58509","Firefly Computers","L380 Yoga","Lenovo","Melinda Gray","84fdd1677523","2024/2025",null,"TE PD",{"$nulls":7},"20M7000MUS",{"$nulls":3},"07/24/2019 02:13 PM","Mary Plass"]
["54919","FVFYR0EPJK77","Truman Middle","*Staff/Teacher Devices","Apple MacBook Air Intel Core i5, 8GB, 128GB SSD (2018)",null,"Available","MacBook","2019-06-27","1,053.07","20-57432","Apple","MRF82LL/A","Apple","Mollie Kelly",null,"2024/2025",null,"TE PD",{"$nulls":6},"IMPACT STUDY","MRF82LL/A",null,null,"Math","07/15/2019 11:53 AM","Mary Plass"]
["55100","P204V7YM","Crestwood Elementary","Library Chromebook Cart","Lenovo 500e Chromebook (Gen 2)",null,"Available","Chromebook","2019-07-11","309.00","20-57400","Firefly Computers","500e","Lenovo","ISLAB9-23","3cf011fd1d71","2024/2025",null,"TE PD",{"$nulls":6},"Impact Study","81MC001EUS","Issued for Virtual Learning - COVID-19",null,null,"07/11/2019 10:33 AM","Mary Plass"]
["69462","09LV3CNRB19779X","LHS 2022","103","Samsung 75\" Series 4K UHD Smart TV",null,"Available","TV",{"$nulls":4},"UN75TU7000FXZA","Samsung",{"$nulls":16},"03/23/2023 05:18 PM","Mary Plass"]
["69463","CNJDKPP2KB","LHS 2022","103","ARUBA AP-515 (US) DUAL RADIO 4X4, INTERNAL ANTENNAS UNIFIED CAMPUS AP",null,"Available","Access Point",{"$nulls":4},"AP-515","ARUBA",{"$nulls":16},"03/23/2023 05:18 PM","Mary Plass"]
["69460","CN0FJ44J7444557DBJMS","LHS 2022","105D","Dell 24\" Widescreen Monitor",null,"Available","Monitor",{"$nulls":4},"U2412Mb","Dell",{"$nulls":16},"03/23/2023 05:18 PM","Mary Plass"]
["69459","CN0FP04F72872417AFTS","LHS 2022","105E","Dell 24\" Widescreen Monitor",null,"Available","Monitor",{"$nulls":4},"U2412Mb","Dell",{"$nulls":16},"03/23/2023 05:18 PM","Mary Plass"]
["69457","CN0YMYH1742613AG1TGS","LHS 2022","105F","Dell 24\" Widescreen Monitor",null,"Available","Monitor",{"$nulls":4},"U2412Mb","Dell",{"$nulls":16},"03/23/2023 05:18 PM","Mary Plass"]
["69458","CN0FY6RN74445631A4MMA01","LHS 2022","105F","Dell 24\" Widescreen Monitor",null,"Available","Monitor",{"$nulls":4},"U2412Mb","Dell",{"$nulls":16},"03/23/2023 05:18 PM","Mary Plass"]
["69456","CN0FY6RN74445638AM4MA01","LHS 2022","106A","Dell 24\" Widescreen Monitor",null,"Available","Monitor",{"$nulls":4},"U2412Mb","Dell",{"$nulls":16},"03/23/2023 05:18 PM","Mary Plass"]
["69466","CNHSKD585J","LHS 2022","107B","ARUBA AP-515 (US) DUAL RADIO 4X4, INTERNAL ANTENNAS UNIFIED CAMPUS AP",null,"Available","Access Point",{"$nulls":4},"AP-515","ARUBA",{"$nulls":16},"03/23/2023 05:18 PM","Mary Plass"]
["69454","CN0FY6RN74445631729MA01","LHS 2022","108A","Dell 24\" Widescreen Monitor",null,"Available","Monitor",{"$nulls":4},"U2412Mb","Dell",{"$nulls":16},"03/23/2023 05:18 PM","Mary Plass"]
["69420","CNHSKD5866","LHS 2022","111","ARUBA AP-515 (US) DUAL RADIO 4X4, INTERNAL ANTENNAS UNIFIED CAMPUS AP",null,"Available","Access Point",{"$nulls":4},"AP-515","ARUBA",{"$nulls":16},"03/23/2023 05:18 PM","Mary Plass"]
["67777","CN0FP04F7287239MCK6S","LHS 2022","129B","Dell 24\" Widescreen Monitor",null,"Available","Monitor",{"$nulls":4},"U2412Mb","Dell",{"$nulls":16},"03/24/2023 01:06 PM","Mary Plass"]
["69419","CNHSKD5863","LHS 2022","130","ARUBA AP-515 (US) DUAL RADIO 4X4, INTERNAL ANTENNAS UNIFIED CAMPUS AP",null,"Available","Access Point",{"$nulls":4},"AP-515","ARUBA",{"$nulls":16},"03/23/2023 05:18 PM","Mary Plass"]
["69417","CNHSKD586F","LHS 2022","131","ARUBA AP-515 (US) DUAL RADIO 4X4, INTERNAL ANTENNAS UNIFIED CAMPUS AP",null,"Available","Access Point",{"$nulls":4},"AP-515","ARUBA",{"$nulls":16},"03/23/2023 05:18 PM","Mary Plass"]
["69415","CNHSKD58S8","LHS 2022","132","ARUBA AP-515 (US) DUAL RADIO 4X4, INTERNAL ANTENNAS UNIFIED CAMPUS AP",null,"Available","Access Point",{"$nulls":4},"AP-515","ARUBA",{"$nulls":16},"03/23/2023 05:18 PM","Mary Plass"]
["69413","CNHSKD589R","LHS 2022","134","ARUBA AP-515 (US) DUAL RADIO 4X4, INTERNAL ANTENNAS UNIFIED CAMPUS AP",null,"Available","Access Point",{"$nulls":4},"AP-515","ARUBA",{"$nulls":16},"03/23/2023 05:18 PM","Mary Plass"]
["69412","CN0FJ44J7444555RBFYS","LHS 2022","135","Dell 24\" Widescreen Monitor",null,"Available","Monitor",{"$nulls":4},"U2412Mb","Dell",{"$nulls":16},"03/23/2023 05:18 PM","Mary Plass"]
["69411","CNHSKD58X0","LHS 2022","135","ARUBA AP-515 (US) DUAL RADIO 4X4, INTERNAL ANTENNAS UNIFIED CAMPUS AP",null,"Available","Access Point",{"$nulls":4},"AP-515","ARUBA",{"$nulls":16},"03/23/2023 05:18 PM","Mary Plass"]
["69408","CNHSKD58RS","LHS 2022","136","ARUBA AP-515 (US) DUAL RADIO 4X4, INTERNAL ANTENNAS UNIFIED CAMPUS AP",null,"Available","Access Point",{"$nulls":4},"AP-515","ARUBA",{"$nulls":16},"03/23/2023 05:18 PM","Mary Plass"]
["69409","09LV3CNRB13796B","LHS 2022","136","Samsung 75\" Series 4K UHD Smart TV",null,"Available","TV",{"$nulls":4},"UN75TU7000FXZA","Samsung",{"$nulls":16},"03/23/2023 05:18 PM","Mary Plass"]
["69410","CN0YMYH1742615631WRS","LHS 2022","136","Dell 24\" Widescreen Monitor",null,"Available","Monitor",{"$nulls":4},"U2412Mb","Dell",{"$nulls":16},"03/23/2023 05:18 PM","Mary Plass"]
["69406","CN0FY6RN74445638AM8MA01","LHS 2022","139","Dell 22\" Widescreen Monitor",null,"Available","Monitor",{"$nulls":4},"P2213t","Dell",{"$nulls":16},"03/23/2023 05:18 PM","Mary Plass"]
["69405","CNHCKD5B15","LHS 2022","139","ARUBA AP-515 (US) DUAL RADIO 4X4, INTERNAL ANTENNAS UNIFIED CAMPUS AP",null,"Available","Access Point",{"$nulls":4},"AP-515","ARUBA",{"$nulls":16},"03/23/2023 05:18 PM","Mary Plass"]
["69496","CNHCKD56B2","LHS 2022","140","ARUBA AP-515 (US) DUAL RADIO 4X4, INTERNAL ANTENNAS UNIFIED CAMPUS AP",null,"Available","Access Point",{"$nulls":4},"AP-515","ARUBA",{"$nulls":16},"03/23/2023 05:18 PM","Mary Plass"]
["69498","CNHSKD5871","LHS 2022","140","ARUBA AP-515 (US) DUAL RADIO 4X4, INTERNAL ANTENNAS UNIFIED CAMPUS AP",null,"Available","Access Point",{"$nulls":4},"AP-515","ARUBA",{"$nulls":16},"03/23/2023 05:18 PM","Mary Plass"]
["69497","09LV3CNRB19724M","LHS 2022","140","Samsung 75\" Series 4K UHD Smart TV",null,"Available","TV",{"$nulls":4},"UN75TU7000FXZA","Samsung",{"$nulls":16},"03/24/2023 07:36 AM","Mary Plass"]
["69418","CN0YMYH1742614813VPL","LHS 2022","131","Dell 24\" Widescreen Monitor",null,"Available","Monitor",{"$nulls":4},"U2412Mb","Dell",{"$nulls":16},"03/23/2023 05:18 PM","Mary Plass"]
["69416","CN0YMYH1742614AE3LCS","LHS 2022","132","Dell 24\" Widescreen Monitor",null,"Available","Monitor",{"$nulls":4},"U2412Mb","Dell",{"$nulls":16},"03/23/2023 05:18 PM","Mary Plass"]
["69422","CNHSKD584J","LHS 2022","102","ARUBA AP-515 (US) DUAL RADIO 4X4, INTERNAL ANTENNAS UNIFIED CAMPUS AP",null,"Available","Access Point",{"$nulls":4},"AP-515","ARUBA",{"$nulls":16},"03/23/2023 05:18 PM","Mary Plass"]
["69423","V8M9854","LHS 2022","102","Lenovo Widescreen Monitor",null,"Available","Monitor",{"$nulls":4},"V8M9854","Lenovo",{"$nulls":16},"03/23/2023 05:18 PM","Mary Plass"]
["69499","CN0FY6RN74445631728MA01","LHS 2022","140F","Dell 24\" Widescreen Monitor",null,"Available","Monitor",{"$nulls":4},"U2412Mb","Dell",{"$nulls":16},"03/23/2023 05:18 PM","Mary Plass"]
["35798","MGM7170P05164","LHS 2022","008A","Gateway Monitor",null,"Available","Monitor",{"$nulls":4},"FPD1775W","Gateway",{"$nulls":15},"Technology","02/19/2019 03:25 PM","Mary Plass"]
["69464","CNJDKPP2P8","LHS 2022","Guidance Hallway","ARUBA AP-505 DUAL RADIO 4X4, INTERNAL ANTENNAS UNIFIED CAMPUS AP",null,"Available","Access Point",{"$nulls":4},"AP-505","ARUBA",{"$nulls":16},"03/24/2023 01:14 PM","Mary Plass"]
["69467","CNJDKPP2PH","LHS 2022","Guidance Hallway","ARUBA AP-505 DUAL RADIO 4X4, INTERNAL ANTENNAS UNIFIED CAMPUS AP",null,"Available","Access Point",{"$nulls":4},"AP-505","ARUBA",{"$nulls":16},"03/24/2023 01:14 PM","Mary Plass"]
["69465","CNHSKD5868","LHS 2022","Guidance Hallway","ARUBA AP-505 DUAL RADIO 4X4, INTERNAL ANTENNAS UNIFIED CAMPUS AP",null,"Available","Access Point",{"$nulls":4},"AP-505","ARUBA",{"$nulls":16},"03/24/2023 01:14 PM","Mary Plass"]
["43391","DMPJ9DEKDJ8T","Long Elementary","**Surplus","Apple iPad 16GB WIFI (3rd Gen)",null,"Available","iPad","2012-08-22",null,"13-10778",null,"MC705LL/A","Apple","LO-SSD-004-01","d8004dde4139",null,null,"16491-6411",{"$nulls":7},"A1416",{"$nulls":3},"02/05/2019 12:00 PM","Sandy Woodfin"]
["51392","F9FTT031HLFD","Central Office","215","Apple iPad 128GB WIFI (5th Gen)",null,"Available","iPad",{"$nulls":4},"MP2H2LL/A","Apple",{"$nulls":12},"A1822",{"$nulls":3},"08/31/2020 01:18 PM","Sandy Woodfin"]
["51499","F9FTMN75HLFD","Dressel Elementary","Main Office","Apple iPad 128GB WIFI (5th Gen)",null,"Available","iPad",{"$nulls":4},"MP2H2LL/A","Apple",null,"dca904513b46","2022/2023",{"$nulls":9},"A1822",null,null,"Technology","07/24/2019 07:27 AM","Sandy Woodfin"]
["ApplePen25","G64YC0CVGWTJ",null,null,"Apple Pencil (1st Generation)",null,"Available","Apple Pencil","2019-07-05","89.00","NOPO-22","Apple","MK0C2AM/A","Apple",null,null,"2023/2024",null,"TE PD",{"$nulls":7},"A1603",{"$nulls":3},"07/24/2019 04:30 PM","Sandy Woodfin"]
["54633","DMRY2G0EJF8J",null,null,"Apple iPad 32GB WIFI (6th Gen)",null,"Available","iPad","2019-01-25","299.00","19-57148","Apple","PR7F2LL/A","Apple","Christy Kelsch","bcb8636a1117",null,null,"CR PD (PTO)",null,null,"Grant",{"$nulls":4},"A1893","IPRedistribute",null,"2nd Grade","01/29/2019 07:24 AM","Jan Liebel"]
["54636","DMRY2FU9JF8J",null,null,"Apple iPad 32GB WIFI (6th Gen)",null,"Available","iPad","2019-01-25","299.00","19-57148","Apple","PR7F2LL/A","Apple","Cindy Kapodistrias","bcb863690737",null,null,"CR PD (PTO)",null,null,"Grant",{"$nulls":4},"A1893","IPRedistribute",null,"2nd Grade","01/29/2019 07:24 AM","Jan Liebel"]
["54627","DMRY2FPZJF8J",null,null,"Apple iPad 32GB WIFI (6th Gen)",null,"Available","iPad","2019-01-25","299.00","19-57148","Apple","PR7F2LL/A","Apple","Kay Hartman","bcb8636190b5",null,null,"CR PD (PTO)",null,null,"Grant",{"$nulls":4},"A1893","IPRedistribute",null,"1st Grade","01/29/2019 07:24 AM","Jan Liebel"]
["18-53801-049","X6138115FFC06","Sperreng Middle","225","Xiirrus XD2-240 Access Point",null,"Available","Access Point","2018-08-01","610.00","18-53801","Zagarri","XD2-240","Xirrus",{"$nulls":4},"TE PD E",null,null,"E-Rate","ERATE",{"$nulls":7},"03/31/2019 01:46 PM","Jan Liebel"]
["18-53801-083","X6138115FFB44","Dressel Elementary","112","Xiirrus XD2-240 Access Point",null,"Available","Access Point","2018-08-01","610.00","18-53801","Zagarri","XD2-240","Xirrus",{"$nulls":4},"TE PD E",null,null,"E-Rate","ERATE",{"$nulls":7},"03/31/2019 12:55 PM","Jan Liebel"]
["18-53801-091","X6138115FFB1A","Dressel Elementary","210","Xiirrus XD2-240 Access Point",null,"Available","Access Point","2018-08-01","610.00","18-53801","Zagarri","XD2-240","Xirrus",{"$nulls":4},"TE PD E",null,null,"E-Rate","ERATE",{"$nulls":7},"03/31/2019 12:55 PM","Jan Liebel"]
["18-53801-090","X6138115FFB0E","Dressel Elementary","208","Xiirrus XD2-240 Access Point",null,"Available","Access Point","2018-08-01","610.00","18-53801","Zagarri","XD2-240","Xirrus",{"$nulls":4},"TE PD E",null,null,"E-Rate","ERATE",{"$nulls":7},"03/31/2019 12:55 PM","Jan Liebel"]
["53469","DMPY61T7JF8J","Dressel Elementary","110","Apple iPad 32GB WIFI (6th Gen)",null,"Available","iPad","2019-02-19","299.00","19-57514",null,"PR7F2LL/A","Apple","Jeannie Childers",{"$nulls":3},"DR PTG",null,null,"Grant",{"$nulls":4},"A1893",null,null,"ELL","02/19/2019 01:43 PM","Jan Liebel"]
["54641","DMRY2FRZJF8J","Dressel Elementary","117","Apple iPad 32GB WIFI (6th Gen)",null,"Available","iPad","2019-01-25","299.00","19-57148","Apple","PR7F2LL/A","Apple","Laura Howard","bcb8636563ba",null,null,"CR PD (PTO)",null,null,"Grant",{"$nulls":4},"A1893",null,null,"Reading","01/29/2019 07:24 AM","Jan Liebel"]
["18-53801-087","X6138115FFAB2","Dressel Elementary","122","Xiirrus XD2-240 Access Point",null,"Available","Access Point","2018-08-01","610.00","18-53801","Zagarri","XD2-240","Xirrus",{"$nulls":4},"TE PD E",null,null,"E-Rate","ERATE",{"$nulls":7},"03/31/2019 12:55 PM","Jan Liebel"]
["18-53801-085","X6138115FFA6A","Dressel Elementary","117","Xiirrus XD2-240 Access Point",null,"Available","Access Point","2018-08-01","610.00","18-53801","Zagarri","XD2-240","Xirrus",{"$nulls":4},"TE PD E",null,null,"E-Rate","ERATE",{"$nulls":7},"03/31/2019 12:55 PM","Jan Liebel"]
["18-53801-089","X6138115FFB16","Dressel Elementary","206","Xiirrus XD2-240 Access Point",null,"Available","Access Point","2018-08-01","610.00","18-53801","Zagarri","XD2-240","Xirrus",{"$nulls":4},"TE PD E",null,null,"E-Rate","ERATE",{"$nulls":7},"03/31/2019 12:55 PM","Jan Liebel"]
["18-53801-082","X6138115FFB84","Dressel Elementary","106","Xiirrus XD2-240 Access Point",null,"Available","Access Point","2018-08-01","610.00","18-53801","Zagarri","XD2-240","Xirrus",{"$nulls":4},"TE PD E",null,null,"E-Rate","ERATE",{"$nulls":7},"03/31/2019 12:50 PM","Jan Liebel"]
["18-53801-093","X6138115FFBD6","Dressel Elementary","216","Xiirrus XD2-240 Access Point",null,"Available","Access Point","2018-08-01","610.00","18-53801","Zagarri","XD2-240","Xirrus",{"$nulls":4},"TE PD E",null,null,"E-Rate","ERATE",{"$nulls":7},"03/31/2019 12:55 PM","Jan Liebel"]
["18-53801-084","X6138115FFAA8","Dressel Elementary","115","Xiirrus XD2-240 Access Point",null,"Available","Access Point","2018-08-01","610.00","18-53801","Zagarri","XD2-240","Xirrus",{"$nulls":4},"TE PD E",null,null,"E-Rate","ERATE",{"$nulls":7},"03/31/2019 12:55 PM","Jan Liebel"]
["18-53801-088","X6138115FFAB0","Dressel Elementary","202 (Counselor)","Xiirrus XD2-240 Access Point",null,"Available","Access Point","2018-08-01","610.00","18-53801","Zagarri","XD2-240","Xirrus",{"$nulls":4},"TE PD E",null,null,"E-Rate","ERATE",{"$nulls":7},"03/31/2019 12:55 PM","Jan Liebel"]
["18-53801-092","X6138115FFB9C","Dressel Elementary","213","Xiirrus XD2-240 Access Point",null,"Available","Access Point","2018-08-01","610.00","18-53801","Zagarri","XD2-240","Xirrus",{"$nulls":4},"TE PD E",null,null,"E-Rate","ERATE",{"$nulls":7},"03/31/2019 12:55 PM","Jan Liebel"]
["18-53801-086","X6138115FFAC6","Dressel Elementary","120","Xiirrus XD2-240 Access Point",null,"Available","Access Point","2018-08-01","610.00","18-53801","Zagarri","XD2-240","Xirrus",{"$nulls":4},"TE PD E",null,null,"E-Rate","ERATE",{"$nulls":7},"03/31/2019 12:55 PM","Jan Liebel"]
["18-53801-094","X6138115FFB98","Dressel Elementary","219","Xiirrus XD2-240 Access Point",null,"Available","Access Point","2018-08-01","610.00","18-53801","Zagarri","XD2-240","Xirrus",{"$nulls":4},"TE PD E",null,null,"E-Rate","ERATE",{"$nulls":7},"03/31/2019 12:55 PM","Jan Liebel"]
["18-53801-095","X6138115FFBCA","Dressel Elementary","222","Xiirrus XD2-240 Access Point",null,"Available","Access Point","2018-08-01","610.00","18-53801","Zagarri","XD2-240","Xirrus",{"$nulls":4},"TE PD E",null,null,"E-Rate","ERATE",{"$nulls":7},"03/31/2019 12:55 PM","Jan Liebel"]
["18-53801-020","X6138115FFBE4","Kennerly Elementary","011","Xiirrus XD2-240 Access Point",null,"Available","Access Point","2018-08-01","610.00","18-53801","Zagarri","XD2-240","Xirrus",{"$nulls":4},"TE PD E",null,null,"E-Rate","ERATE",{"$nulls":7},"03/08/2019 07:35 AM","Jan Liebel"]
["18-53801-026","X6138115FFBD0","Kennerly Elementary","204","Xiirrus XD2-240 Access Point",null,"Available","Access Point","2018-08-01","610.00","18-53801","Zagarri","XD2-240","Xirrus",{"$nulls":4},"TE PD E",null,null,"E-Rate","ERATE",{"$nulls":7},"03/08/2019 07:35 AM","Jan Liebel"]
["18-53801-023","X6138115FFC30","Kennerly Elementary","017","Xiirrus XD2-240 Access Point",null,"Available","Access Point","2018-08-01","610.00","18-53801","Zagarri","XD2-240","Xirrus",{"$nulls":4},"TE PD E",null,null,"E-Rate","ERATE",{"$nulls":7},"03/08/2019 07:35 AM","Jan Liebel"]
["18-53801-021","X6138115FFBD4","Kennerly Elementary","013","Xiirrus XD2-240 Access Point",null,"Available","Access Point","2018-08-01","610.00","18-53801","Zagarri","XD2-240","Xirrus",{"$nulls":4},"TE PD E",null,null,"E-Rate","ERATE",{"$nulls":7},"03/08/2019 07:35 AM","Jan Liebel"]
["54630","DMRY2G69JF8J","Kennerly Elementary","Front Office","Apple iPad 32GB WIFI (6th Gen)",null,"Available","iPad","2019-01-25","299.00","19-57148","Apple","PR7F2LL/A","Apple","Judy Lincoln","bcb863690375",null,null,"CR PD (PTO)",null,null,"Grant",{"$nulls":4},"A1893","IPRedistribute",null,"1st Grade","01/29/2019 07:24 AM","Jan Liebel"]
["18-53801-025","X6138115FFD10","Kennerly Elementary","102","Xiirrus XD2-240 Access Point",null,"Available","Access Point","2018-08-01","610.00","18-53801","Zagarri","XD2-240","Xirrus",{"$nulls":4},"TE PD E",null,null,"E-Rate","ERATE",{"$nulls":7},"03/08/2019 07:35 AM","Jan Liebel"]
["18-53801-019","X6138115FFC26","Kennerly Elementary","009","Xiirrus XD2-240 Access Point",null,"Available","Access Point","2018-08-01","610.00","18-53801","Zagarri","XD2-240","Xirrus",{"$nulls":4},"TE PD E",null,null,"E-Rate","ERATE",{"$nulls":7},"03/08/2019 07:35 AM","Jan Liebel"]
["18-53801-018","X6138115FFC2E","Kennerly Elementary","007","Xiirrus XD2-240 Access Point",null,"Available","Access Point","2018-08-01","610.00","18-53801","Zagarri","XD2-240","Xirrus",{"$nulls":4},"TE PD E",null,null,"E-Rate","ERATE",{"$nulls":7},"03/08/2019 07:35 AM","Jan Liebel"]
["54747","331820VAA01421","Kennerly Elementary","007","IPEVO VZ-R HDMI/USB 8MP Document Camera",null,"Available","Document Camera","2019-03-13","199.00","19-57759","IPEVO","VZ-R","IPEVO",{"$nulls":4},"TE PD",{"$nulls":10},"Technology","03/13/2019 01:05 PM","Jan Liebel"]
["18-53801-017","X6138115FFBCC","Kennerly Elementary","005","Xiirrus XD2-240 Access Point",null,"Available","Access Point","2018-08-01","610.00","18-53801","Zagarri","XD2-240","Xirrus",{"$nulls":4},"TE PD E",null,null,"E-Rate","ERATE",{"$nulls":7},"03/08/2019 07:35 AM","Jan Liebel"]
["18-53801-022","X6138115FFC14","Kennerly Elementary","015","Xiirrus XD2-240 Access Point",null,"Available","Access Point","2018-08-01","610.00","18-53801","Zagarri","XD2-240","Xirrus",{"$nulls":4},"TE PD E",null,null,"E-Rate","ERATE",{"$nulls":7},"03/08/2019 07:35 AM","Jan Liebel"]
["18-53801-024","X6138115FFBEC","Kennerly Elementary","021","Xiirrus XD2-240 Access Point",null,"Available","Access Point","2018-08-01","610.00","18-53801","Zagarri","XD2-240","Xirrus",{"$nulls":4},"TE PD E",null,null,"E-Rate","ERATE",{"$nulls":7},"03/08/2019 07:35 AM","Jan Liebel"]
["54616","P2033UV1","ECE Main","Custodians","Lenovo 500e Chromebook (Gen 1)",null,"Available","Chromebook","2019-01-18","314.40","19-57192","Firefly Computers","500e","Lenovo","Custodians","38baf83b212b",null,null,"B&amp;G PD",null,null,"Dept Budget\t229",null,"2019-01-18",null,null,"81ES0007US",null,null,"Custodial","01/18/2019 10:39 AM","Jan Liebel"]
["54609","1000033330214","Lindbergh High School","307","Lenovo ThinkSystem SR550 Server",null,"Available","Server","2019-04-08","17,696.00","19-57828","Lenovo","SR550","Lenovo",{"$nulls":4},"TE PD",{"$nulls":7},"7X04S7F400",null,null,"Technology","04/08/2019 12:25 PM","Jan Liebel"]
["54618","SP2033UY0","Lindbergh High School","Maintenance Office","Lenovo 500e Chromebook (Gen 1)",null,"Available","Chromebook","2019-01-18","314.40","19-57192","Firefly Computers","500e","Lenovo","HVAC1","38baf85e54e3",null,null,"B&amp;G PD",null,null,"Dept Budget\t229",null,"2019-01-18",null,null,"81ES0007US",null,null,"Facilities/Maintenance Dept.","01/18/2019 10:39 AM","Jan Liebel"]
["54619","SP2033UYK","Lindbergh High School","Maintenance Office","Lenovo 500e Chromebook (Gen 1)",null,"Available","Chromebook","2019-01-18","314.40","19-57192","Firefly Computers","500e","Lenovo","HVAC2","38baf83c13e2",null,null,"B&amp;G PD",null,null,"Dept Budget\t229",null,"2019-01-18",null,null,"81ES0007US",null,null,"Facilities/Maintenance Dept.","01/18/2019 10:39 AM","Jan Liebel"]
["54622","FVFY37KHJK77","Lindbergh High School","022","Apple MacBook Air Intel Core i5, 8GB, 128GB SSD (2018)",null,"Available","MacBook","2019-04-12","1,149.00","19-57986","Apple Store","MRE82LL/A","Apple","Jason Wolfard",null,"2023/2024",null,"TE PD",{"$nulls":6},"Impact Study","MRE82LL/A",null,null,"Technology","04/16/2019 08:23 AM","Jan Liebel"]
["54623","FVFY37NHJK77","Lindbergh High School","022","Apple MacBook Air Intel Core i5, 8GB, 128GB SSD (2018)",null,"Available","MacBook","2019-04-12","1,149.00","19-57986","Apple Store","MRE82LL/A","Apple","Jason Wolfard",null,"2023/2024",null,"TE PD",{"$nulls":6},"Impact Study","MRE82LL/A",null,null,"Technology","04/16/2019 08:26 AM","Jan Liebel"]
["54648","U64965G8N571423","Lindbergh High School","Guidance","Brother HL-L2370dw Printer",null,"Available","Printer","2018-11-02","85.53","19-56459","Firefly Computers","HL-2370DW","Brother",{"$nulls":4},"TE PD",{"$nulls":10},"Guidance","03/05/2019 09:32 AM","Jan Liebel"]
["52195","U3V00YMH","Lindbergh High School","129","Lenovo L24i-20 23.8\" LCD Monitor",null,"Available","Monitor","2019-01-15","159.00","19-56379","Firefly","L24i-20","Lenovo","Yearbook",{"$nulls":3},"TE PD",{"$nulls":7},"L24i-20",null,null,"Yearbook","01/31/2019 11:23 AM","Jan Liebel"]
["18-53801-064","X6138115FFBAA","Sperreng Middle","107","Xiirrus XD2-240 Access Point",null,"Available","Access Point","2018-08-01","610.00","18-53801","Zagarri","XD2-240","Xirrus",{"$nulls":4},"TE PD E",null,null,"E-Rate","ERATE",{"$nulls":7},"03/31/2019 03:13 PM","Jan Liebel"]
["18-53801-044","X6138115FFC2A","Sperreng Middle","Nurse's Office","Xiirrus XD2-240 Access Point",null,"Available","Access Point","2018-08-01","610.00","18-53801","Zagarri","XD2-240","Xirrus",{"$nulls":4},"TE PD E",null,null,"E-Rate","ERATE",{"$nulls":7},"03/31/2019 01:38 PM","Jan Liebel"]
["53990","V5DT7912","Sperreng Middle","Principal's Office","Lenovo ThinkVision T2224d 22\" LED Monitor",null,"Available","Monitor","2019-03-29","131.96","19-57947","ITsavvy","T2224d","Lenovo","Beth Johnston",{"$nulls":3},"TE PD",{"$nulls":10},"Community Relations","03/31/2019 04:11 PM","Jan Liebel"]
["18-53801-043","X6138115FFB8C","Sperreng Middle","Large Gym","Xiirrus XD2-240 Access Point",null,"Available","Access Point","2018-08-01","610.00","18-53801","Zagarri","XD2-240","Xirrus",{"$nulls":4},"TE PD E",null,null,"E-Rate","ERATE",{"$nulls":7},"03/31/2019 01:38 PM","Jan Liebel"]
["54711","078F3CDM300031","Sperreng Middle","Large Gym","Samsung 65\" Class 6 Series LED 4K UHD Smart TV",null,"Available","TV","2019-03-15","987.50","19-57747","ITsavvy","UN65NU8000F","Samsung",{"$nulls":4},"TE PD",{"$nulls":10},"PE","03/18/2019 12:43 PM","Jan Liebel"]
["18-53801-050","X6138115FFBF4","Sperreng Middle","049 (LEAP Makerspace)","Xiirrus XD2-240 Access Point",null,"Available","Access Point","2018-08-01","610.00","18-53801","Zagarri","XD2-240","Xirrus",{"$nulls":4},"TE PD E",null,null,"E-Rate","ERATE",{"$nulls":7},"03/07/2019 03:12 PM","Jan Liebel"]
["18-53801-063","X6138115FFC32","Sperreng Middle","102","Xiirrus XD2-240 Access Point",null,"Available","Access Point","2018-08-01","610.00","18-53801","Zagarri","XD2-240","Xirrus",{"$nulls":4},"TE PD E",null,null,"E-Rate","ERATE",{"$nulls":7},"03/31/2019 03:13 PM","Jan Liebel"]
["18-53801-046","X6138115FFB62","Sperreng Middle","057 (Fitness Room)","Xiirrus XD2-240 Access Point",null,"Available","Access Point","2018-08-01","610.00","18-53801","Zagarri","XD2-240","Xirrus",{"$nulls":4},"TE PD E",null,null,"E-Rate","ERATE",{"$nulls":7},"03/31/2019 01:46 PM","Jan Liebel"]
["54607","X55X910104L","Sappington Elementary","023 (Conference)","Epson Powerlite 700U Projector",null,"Available","Projector","2019-03-12","1,867.40","19-57751","ITsavvy","Powerlite 700U","Epson","Conference Room",null,"2023/2024",null,"TE PD",{"$nulls":7},"V11H878520",{"$nulls":3},"03/12/2019 08:03 AM","Jan Liebel"]
["54872","J100C4WY","Lindbergh High School","307","Lenovo ThinkSystem SR570",null,"Available","Server","2019-04-01","4,520.80","19-57799","Lenovo","SR570","Lenovo",{"$nulls":4},"TE PD",{"$nulls":7},"7Y0S0T000",null,null,"Technology","04/01/2019 02:00 PM","Jan Liebel"]
["54873","J100C4WZ","Lindbergh High School","307","Lenovo ThinkSystem SR570",null,"Available","Server","2019-04-01","4,520.80","19-57799","Lenovo","SR570","Lenovo",{"$nulls":4},"TE PD",{"$nulls":7},"7Y0S0T000",null,null,"Technology","04/01/2019 02:01 PM","Jan Liebel"]
["54714","G070VM09902615C0","Lindbergh High School","307","Amazon Fire TV Stick 4K",null,"Available","Fire Stick","2019-03-18","47.49","19-57764","Amazon","E9L29Y","Amazon",{"$nulls":4},"TE PD",{"$nulls":10},"Technology","03/21/2019 01:25 PM","Jan Liebel"]
["53872","X3UW7Z0103L","Long Elementary","Gym","EPSON Powerlite 5520w Projector 5500 Lumens",null,"Available","Projector","2019-01-25","1,597.00","19-57105","ITsavvy","Powerlite 5520W","Epson",{"$nulls":4},"LO PD",null,null,"Building Budget",{"$nulls":4},"5520w",null,null,"PE","01/25/2019 08:00 AM","Jan Liebel"]
["54610","C07XM12AJ1WF","Central Office","206","Apple TV 4K (1st Gen) 32GB",null,"Available","Apple TV","2019-04-22","179.00","19-58171","Apple","MQD22LL/A","Apple","C&amp;I Training",null,"2025/2026",null,"TE PF",{"$nulls":7},"A1842",null,null,"Technology","04/22/2019 08:38 AM","Jan Liebel"]
["52196","U3V00YMC","Central Office","206","Lenovo L24i-20 23.8\" LCD Monitor",null,"Available","Monitor","2019-01-15","159.00","19-56379","Firefly","L24i-20","Lenovo",{"$nulls":4},"TE PD",{"$nulls":7},"L24i-20",{"$nulls":3},"01/31/2019 11:45 AM","Jan Liebel"]
["54730","C07XN0VBJG2X","Central Office","210","Apple TV (4th Gen) 32GB",null,"Available","Apple TV","2019-03-12","149.00","19-57667","Apple","MR912LL/A","Apple",null,null,"2025/2026",null,"TE PD",{"$nulls":7},"A1625",null,null,"Community Relations","03/12/2019 03:25 PM","Jan Liebel"]
["54731","C07XW8THJG2X","Central Office","212","Apple TV (4th Gen) 32GB",null,"Available","Apple TV","2019-03-12","149.00","19-57667","Apple","MR912LL/A","Apple",null,null,"2025/2026",null,"TE PD",{"$nulls":7},"A1625",null,null,"Technology","03/12/2019 03:25 PM","Jan Liebel"]
["18-53801-052","X6138115FFA80","Central Office",null,"Xiirrus XD2-240 Access Point",null,"Available","Access Point","2018-08-01","610.00","18-53801","Zagarri","XD2-240","Xirrus","Surplus Fall2020",{"$nulls":3},"TE PD E",null,null,"E-Rate","ERATE",{"$nulls":6},"Technology","03/31/2019 03:13 PM","Jan Liebel"]
["18-53801-053","X6138115FFB24","Central Office",null,"Xiirrus XD2-240 Access Point",null,"Available","Access Point","2018-08-01","610.00","18-53801","Zagarri","XD2-240","Xirrus","Surplus Fall2020",{"$nulls":3},"TE PD E",null,null,"E-Rate","ERATE",{"$nulls":6},"Technology","03/31/2019 03:13 PM","Jan Liebel"]
["47393",null,"Central Office","206","Kensington Wireless Presenter",null,"Available","Wireless Presenter","2019-02-20","54.20","19-57599","Amazon","K72426AMA","Kensington","Colin Davitt",{"$nulls":3},"BOE PD",{"$nulls":7},"K72426AMA",null,null,"Board of Education","02/20/2019 08:57 AM","Jan Liebel"]
["54645","R90SZGC7","Central Office","214","Lenovo ThinkPad L380 Yoga (Core i5-8250U, 8GB, 256GB)",null,"Available","Laptop","2019-02-12","938.02","19-57103","ITsavvy","L380 Yoga","Lenovo","Gary Brinker","d8f2caa08e62",null,null,"TE PD",{"$nulls":7},"20M7000MUS",null,null,"Technology","02/12/2019 03:25 PM","Jan Liebel"]
["54646","R90SRKBN","Central Office","214","Lenovo ThinkPad L380 Yoga (Core i5-8250U, 8GB, 256GB)",null,"Available","Laptop","2019-02-12","938.02","19-57103","ITsavvy","L380 Yoga","Lenovo","Matthew Brenner","5076af4604c9",null,null,"TE PD",{"$nulls":7},"20M7000MUS",null,null,"Technology","02/12/2019 03:25 PM","Jan Liebel"]
["FQCXDE2UGWTJ","FQCXDE2UGWTJ","Central Office","214","Apple Pencil (1st Generation)",null,"Available","Apple Pencil","2019-03-29","89.00","19-57667","Apple","MK0C2AM/A","Apple",{"$nulls":4},"TE PD",{"$nulls":7},"A1600",null,null,"Technology","04/04/2019 08:10 AM","Jan Liebel"]
["FQCXDHHBGWTJ","FQCXDHHBGWTJ","Central Office","214","Apple Pencil (1st Generation)",null,"Available","Apple Pencil","2019-04-04","89.00","19-57667","Apple","MK0C2AM/A","Apple",{"$nulls":4},"TE PD",{"$nulls":7},"A1601",null,null,"Technology","04/04/2019 08:13 AM","Jan Liebel"]
["FQCXDHN4GWTJ","FQCXDHN4GWTJ","Central Office","214","Apple Pencil (1st Generation)",null,"Available","Apple Pencil","2019-03-29","89.00","19-57667","Apple","MK0C2AM/A","Apple",{"$nulls":4},"TE PD",{"$nulls":7},"A1602",null,null,"Technology","04/04/2019 08:20 AM","Jan Liebel"]
["54742","FVFY83YEJK77","Central Office","214","Apple MacBook Air Intel Core i5, 8GB, 128GB SSD (2018)",null,"Available","MacBook","2019-03-13","1,054.00","19-57667","Apple","MRE82LL/A","Apple","Armin Kovacevic",null,"2023/2024",null,"TE PD",{"$nulls":7},"MRF82LL/A",null,null,"Technology","03/13/2019 08:03 AM","Jan Liebel"]
["47392","X3BJ000805","Sperreng Middle",null,"Epson Workforce WF-C579R Color Printer",null,"Available","Printer","2019-02-11","0.00","N/A","Epson - Pre-launch Sample","WF-M5799","Epson",{"$nulls":4},"FREE",null,null,"Donated","Pre-launch Sample from EPSON",{"$nulls":3},"C11CG04201",{"$nulls":3},"02/12/2019 07:19 AM","Jan Liebel"]
["54743","FVFY86GEJK77","Sappington Elementary","046","Apple MacBook Air Intel Core i5, 8GB, 128GB SSD (2018)",null,"Available","MacBook","2019-03-13","1,054.00","19-57667","Apple","MRE82LL/A","Apple",null,null,"2023/2024",null,"TE PD",{"$nulls":7},"MRF82LL/A",null,null,"4th Grade","03/13/2019 08:03 AM","Jan Liebel"]
["54606","X28C7504189","Concord Elementary","042","Epson Brighlink 695Wi Projector",null,"Available","Projector","2017-05-01","1,530.00","17-39875","CDW-G","Brightlink 695Wi","Epson",null,null,"2021/2022",null,"39038-65421",null,null,"Building Budget","3 year Brighter Future Warranty",null,null,"This is a replacement for a defective unit (Orig. S/N X28B720098L)",{"$nulls":3},"4th Grade","03/11/2019 09:08 AM","Jan Liebel"]
["54617","P2033UYD","Concord Elementary","Library","Lenovo 500e Chromebook (Gen 1)",null,"Available","Chromebook","2019-01-18","314.40","19-57192","Firefly Computers","500e","Lenovo","Facilities","38baf83c7968",null,null,"B&amp;G PD",null,null,"Dept Budget\t229",null,"2019-01-18",null,null,"81ES0007US",null,null,"Facilities/Maintenance Dept.","01/18/2019 10:39 AM","Jan Liebel"]
["52198","3RI2580385","Concord Elementary","Gym","Shure GLXD14 SM35 Headset System",null,"Available","Microphone","2019-01-18","599.00","19-57199","Amazon","GLXD14/SM35","Shure","Bill Loos",{"$nulls":3},"CC PD",null,null,"Building Budget",null,"2019-01-18",null,null,"GLXD14/SM35",null,null,"PE","01/18/2019 07:29 AM","Jan Liebel"]
["54746","331820VAA01422","Truman Middle","009","IPEVO VZ-R HDMI/USB 8MP Document Camera",null,"Available","Document Camera","2019-03-13","199.00","19-57759","IPEVO","VZ-R","IPEVO",{"$nulls":4},"TE PD",{"$nulls":8},"no longer used",null,"Technology","03/13/2019 01:05 PM","Jan Liebel"]
["53447","1408746","Truman Middle","020","ELMO TT-12iD Document Camera",null,"Available","Document Camera","2018-08-14","604.00","19-54592","KC/AV","TT-12iD","ELMO",{"$nulls":4},"PROP G",null,null,"Dept Budget\t229",{"$nulls":4},"TT-12id",null,null,"Classroom","02/14/2019 01:24 PM","Jan Liebel"]
["53991","V5DT7911","Central Office","114","Lenovo ThinkVision T2224d 22\" LED Monitor",null,"Available","Monitor","2019-03-29","131.96","19-57947","ITsavvy","T2224d","Lenovo","Devon Bell",{"$nulls":3},"TE PD",{"$nulls":10},"Community Relations","03/31/2019 04:12 PM","Jan Liebel"]
["18-53801-047","X6138115FFBD2","Sperreng Middle","PE - Girls Locker Room","Xiirrus XD2-240 Access Point",null,"Available","Access Point","2018-08-01","610.00","18-53801","Zagarri","XD2-240","Xirrus",{"$nulls":4},"TE PD E",null,null,"E-Rate","ERATE",{"$nulls":7},"03/31/2019 01:46 PM","Jan Liebel"]
["18-53801-048","X6138115FFBE6","Sperreng Middle","221","Xiirrus XD2-240 Access Point",null,"Available","Access Point","2018-08-01","610.00","18-53801","Zagarri","XD2-240","Xirrus",{"$nulls":4},"TE PD E",null,null,"E-Rate","ERATE",{"$nulls":7},"03/31/2019 01:46 PM","Jan Liebel"]
["54608","X55X910097L","Central Office","102","Epson Powerlite 700U Projector",null,"Available","Projector","2019-03-12","1,867.40","19-57751","ITsavvy","Powerlite 700U","Epson",null,null,"2023/2024",null,"TE PD",{"$nulls":7},"V11H878520",null,null,"C&I","03/12/2019 08:04 AM","Jan Liebel"]
["54729","C07XN0WDJG2X","Central Office","102","Apple TV (4th Gen) 32GB",null,"Available","Apple TV","2019-03-12","149.00","19-57667","Apple","MR912LL/A","Apple",null,null,"2025/2026",null,"TE PD",{"$nulls":7},"A1625",null,null,"C&I","03/12/2019 03:24 PM","Jan Liebel"]
["54624","C07XW70TJG2X","Crestwood Elementary","005C","Apple TV (4th Gen) 32GB",null,"Available","Apple TV","2019-04-18","199.00","19-58116","Apple","MR912LL/A","Apple","Jason Wolfard",null,"2025/2026",null,"TE PD",{"$nulls":6},"Impact Study","A1625",null,null,"Technology","04/18/2019 09:37 AM","Jan Liebel"]
["54732","C07XN0XBJG2X","Truman Middle","Wood Gym","Apple TV (4th Gen) 32GB",null,"Available","Apple TV","2019-03-12","149.00","19-57667","Apple","MR912LL/A","Apple",null,null,"2025/2026",null,"TE PD",{"$nulls":7},"A1625",null,null,"PE","03/12/2019 03:25 PM","Jan Liebel"]
["18-53801-059","X6138115FFBBC","Central Office","Technology","Xiirrus XD2-240 Access Point",null,"Available","Access Point","2018-08-01","610.00","18-53801","Zagarri","XD2-240","Xirrus","Returned TCO",{"$nulls":3},"TE PD E",null,null,"E-Rate","ERATE",{"$nulls":6},"Technology","03/31/2019 03:13 PM","Jan Liebel"]
["18-53801-062","X6138115FFD72","Truman Middle","Unknown","Xiirrus XD2-240 Access Point",null,"Available","Access Point","2018-08-01","610.00","18-53801","Zagarri","XD2-240","Xirrus","Was taken out when installed Aruba",{"$nulls":3},"TE PD E",null,null,"E-Rate","ERATE",{"$nulls":4},"no longer used",null,"TECHNOLOGY STG","03/31/2019 03:13 PM","Jan Liebel"]
["18-53801-058","X6138115FFBC6","Truman Middle","Unknown","Xiirrus XD2-240 Access Point",null,"Available","Access Point","2018-08-01","610.00","18-53801","Zagarri","XD2-240","Xirrus",{"$nulls":4},"TE PD E",null,null,"E-Rate ","ERATE",{"$nulls":7},"03/31/2019 03:13 PM","Jan Liebel"]
["18-53801-060","X6138115FFBB0","Truman Middle","Unknown","Xiirrus XD2-240 Access Point",null,"Available","Access Point","2018-08-01","610.00","18-53801","Zagarri","XD2-240","Xirrus","Was taken down when transitioned to Aruba",{"$nulls":3},"TE PD E",null,null,"E-Rate","ERATE",{"$nulls":4},"no longer used",null,null,"03/31/2019 03:13 PM","Jan Liebel"]
["18-53801-061","X6138115FFC34","Truman Middle","Unknown","Xiirrus XD2-240 Access Point",null,"Available","Access Point","2018-08-01","610.00","18-53801","Zagarri","XD2-240","Xirrus",{"$nulls":4},"TE PD E",null,null,"E-Rate ","ERATE",{"$nulls":7},"03/31/2019 03:13 PM","Jan Liebel"]
["15-53801-027","X6138115FFC18","Long Elementary","Unknown","Xiirrus XD2-240 Access Point",null,"Available","Access Point","2018-08-01","610.00","18-53801","Zagarri","XD2-240","Xirrus",{"$nulls":4},"TE PD E",null,null,"E-Rate","ERATE",{"$nulls":7},"03/31/2019 02:01 PM","Jan Liebel"]
["18-53801-028","X6138115FFBEE","Long Elementary","Unknown","Xiirrus XD2-240 Access Point",null,"Available","Access Point","2018-08-01","610.00","18-53801","Zagarri","XD2-240","Xirrus",{"$nulls":4},"TE PD E",null,null,"E-Rate","ERATE",{"$nulls":7},"03/31/2019 02:02 PM","Jan Liebel"]
["18-53801-029","X6138115FFCC6","Long Elementary","Unknown","Xiirrus XD2-240 Access Point",null,"Available","Access Point","2018-08-01","610.00","18-53801","Zagarri","XD2-240","Xirrus",{"$nulls":4},"TE PD E",null,null,"E-Rate","ERATE",{"$nulls":7},"03/31/2019 02:02 PM","Jan Liebel"]
["18-53801-030","X6138115FFD64","Long Elementary","Unknown","Xiirrus XD2-240 Access Point",null,"Available","Access Point","2018-08-01","610.00","18-53801","Zagarri","XD2-240","Xirrus",{"$nulls":4},"TE PD E",null,null,"E-Rate","ERATE",{"$nulls":7},"03/31/2019 02:02 PM","Jan Liebel"]
["18-53801-031","X6138115FFBFA","Long Elementary","Unknown","Xiirrus XD2-240 Access Point",null,"Available","Access Point","2018-08-01","610.00","18-53801","Zagarri","XD2-240","Xirrus",{"$nulls":4},"TE PD E",null,null,"E-Rate","ERATE",{"$nulls":7},"03/31/2019 02:02 PM","Jan Liebel"]
["18-53801-032","X6138115FFBDA","Long Elementary","Unknown","Xiirrus XD2-240 Access Point",null,"Available","Access Point","2018-08-01","610.00","18-53801","Zagarri","XD2-240","Xirrus",{"$nulls":4},"TE PD E",null,null,"E-Rate","ERATE",{"$nulls":7},"03/31/2019 02:02 PM","Jan Liebel"]
["18-53801-033","X6138115FFD68","Long Elementary","Unknown","Xiirrus XD2-240 Access Point",null,"Available","Access Point","2018-08-01","610.00","18-53801","Zagarri","XD2-240","Xirrus",{"$nulls":4},"TE PD E",null,null,"E-Rate","ERATE",{"$nulls":7},"03/31/2019 02:02 PM","Jan Liebel"]
["18-53801-034","X6138115FFC0A","Long Elementary","Unknown","Xiirrus XD2-240 Access Point",null,"Available","Access Point","2018-08-01","610.00","18-53801","Zagarri","XD2-240","Xirrus",{"$nulls":4},"TE PD E",null,null,"E-Rate","ERATE",{"$nulls":7},"03/31/2019 02:02 PM","Jan Liebel"]
["18-53801-035","X6138115FF9EC","Long Elementary","Unknown","Xiirrus XD2-240 Access Point",null,"Available","Access Point","2018-08-01","610.00","18-53801","Zagarri","XD2-240","Xirrus",{"$nulls":4},"TE PD E",null,null,"E-Rate","ERATE",{"$nulls":7},"03/31/2019 02:26 PM","Jan Liebel"]
["18-53801-036","X6138115FFC0A","Long Elementary","Unknown","Xiirrus XD2-240 Access Point",null,"Available","Access Point","2018-08-01","610.00","18-53801","Zagarri","XD2-240","Xirrus",{"$nulls":4},"TE PD E",null,null,"E-Rate","ERATE",{"$nulls":7},"03/31/2019 02:26 PM","Jan Liebel"]
["18-53801-037","X6138115FF9EA","Long Elementary","Unknown","Xiirrus XD2-240 Access Point",null,"Available","Access Point","2018-08-01","610.00","18-53801","Zagarri","XD2-240","Xirrus",{"$nulls":4},"TE PD E",null,null,"E-Rate","ERATE",{"$nulls":7},"03/31/2019 02:26 PM","Jan Liebel"]
["18-53801-038","X6138115FFA0C","Long Elementary","Unknown","Xiirrus XD2-240 Access Point",null,"Available","Access Point","2018-08-01","610.00","18-53801","Zagarri","XD2-240","Xirrus",{"$nulls":4},"TE PD E",null,null,"E-Rate","ERATE",{"$nulls":7},"03/31/2019 02:50 PM","Jan Liebel"]
["18-53801-039","X6138115FFA2A","Long Elementary","Unknown","Xiirrus XD2-240 Access Point",null,"Available","Access Point","2018-08-01","610.00","18-53801","Zagarri","XD2-240","Xirrus",{"$nulls":4},"TE PD E",null,null,"E-Rate","ERATE",{"$nulls":7},"03/31/2019 02:50 PM","Jan Liebel"]
["18-53801-040","X6138115FFAA2","Long Elementary","Unknown","Xiirrus XD2-240 Access Point",null,"Available","Access Point","2018-08-01","610.00","18-53801","Zagarri","XD2-240","Xirrus",{"$nulls":4},"TE PD E",null,null,"E-Rate","ERATE",{"$nulls":7},"03/31/2019 02:50 PM","Jan Liebel"]
["18-53801-140","X6138115FFB22","Long Elementary","Unknown","Xiirrus XD2-240 Access Point",null,"Available","Access Point","2018-08-01","610.00","18-53801","Zagarri","XD2-240","Xirrus",{"$nulls":4},"TE PD E",null,null,"E-Rate","ERATE",{"$nulls":7},"03/31/2019 02:55 PM","Jan Liebel"]
["18-53801-045","X6138115FFD76","Sperreng Middle","054 (Weight Room)","Xiirrus XD2-240 Access Point",null,"Available","Access Point","2018-08-01","610.00","18-53801","Zagarri","XD2-240","Xirrus",{"$nulls":4},"TE PD E",null,null,"E-Rate","ERATE",{"$nulls":7},"03/31/2019 01:46 PM","Jan Liebel"]
["18-53801-042","X6138115FFC00","Sperreng Middle","Small Gym","Xiirrus XD2-240 Access Point",null,"Available","Access Point","2018-08-01","610.00","18-53801","Zagarri","XD2-240","Xirrus",{"$nulls":4},"TE PD E",null,null,"E-Rate","ERATE",{"$nulls":7},"03/31/2019 01:34 PM","Jan Liebel"]
["53928","DMPXTT74JF8J","Central Office","205","Apple iPad 32GB WIFI (6th Gen)",null,"Available","iPad",null,"294.00","19-57667","Apple","MR8A2LL/A","Apple","Jill Lawson",null,"2023/2024",null,"TE PD",{"$nulls":3},"Keyboard Case 1842CE02DC18",{"$nulls":3},"A1893",null,null,"Technology","03/20/2019 01:07 PM","Jan Liebel"]
["54647","U64965G8N571420","Lindbergh High School","000Surplus","Brother HL-L2370dw Printer",null,"Available","Printer","2018-11-02","85.53","19-56459","Firefly Computers","HL-2370DW","Brother",{"$nulls":4},"TE PD",{"$nulls":11},"03/01/2019 12:35 PM","Jan Liebel"]
["52789","4PKSTG2","Lindbergh High School","000Surplus","Dell E310Ddw Printer Monochrome Laser",null,"Available","Printer","2018-04-26","84.00","18-51429","Amazon","E310dw","Dell",{"$nulls":4},"TE PD",{"$nulls":7},"E310dw",null,null,"Modern Language","03/06/2019 08:30 AM","Jan Liebel"]
["54735","FVFXR1H4JK77","Central Office","Imaging Room","Apple MacBook Air Intel Core i5, 8GB, 128GB SSD (2018)",null,"Available","MacBook","2019-03-13","1,054.00","19-57667","Apple","MRE82LL/A","Apple","Hannah Shaughnessy",null,"2023/2024",null,"TE PD",{"$nulls":7},"MRE82LL/A",null,null,"5th Grade","03/13/2019 08:03 AM","Jan Liebel"]
["54644","R90SZGC5","Central Office","Imaging Room/Staff Devices","Lenovo ThinkPad L380 Yoga (Core i5-8250U, 8GB, 256GB)",null,"Available","Laptop","2019-02-12","938.02","19-57103","ITsavvy","L380 Yoga","Lenovo","Austin Holtzmann","d8f2caa08e53",null,null,"TE PD",{"$nulls":7},"20M7000MUS",{"$nulls":3},"02/12/2019 03:25 PM","Jan Liebel"]
["47546","3FVTTG2","LHS 2022","111","Dell E515dw Printer",null,"Available","Printer","2018-05-03","127.59","18-55159","Amazon","E515dw","Dell","Jessica Franklin",{"$nulls":3},"TE PD",{"$nulls":7},"E515DW",null,null,"Modern Language","03/06/2019 08:36 AM","Jan Liebel"]
["50730","P202D959","Sappington Elementary","Library Chromebook Cart","Lenovo 500e Chromebook (Gen 1)",null,"Available","Chromebook","2018-06-19","287.00","19-54624","Firefly Computers","500e","Lenovo","HSMATH1-CB-09","7c2a311adb32","2022/2023",null,"100-1151-6412-1050-07360-1-000",{"$nulls":3},"CHROMEBOOK MANAGEMENT CONSOLE @$23.49\nFIREFLY CHROMEBOOK SUPPORT FOR LENOVO\nLANSCHOOL PERPETUAL PER DEVICE LICENSE WITH 1 YR OF SNS",{"$nulls":3},"81ES0007US","Issued for Virtual Learning - COVID-19",null,"Math","01/15/2019 09:21 AM","Ted Meyer"]
["50537","P202CY25","Sappington Elementary","Library Chromebook Cart","Lenovo 500e Chromebook (Gen 1)",null,"Available","Chromebook","2018-06-19","287.00","19-54624","Firefly Computers","500e","Lenovo","TR21-CB-01","7470fda28663","2022/2023",null,"100-1151-6412-3080-07360-1-000",{"$nulls":3},"CHROMEBOOK MANAGEMENT CONSOLE @$23.49\nFIREFLY CHROMEBOOK SUPPORT FOR LENOVO\nLANSCHOOL PERPETUAL PER DEVICE LICENSE WITH 1 YR OF SNS",{"$nulls":3},"81ES0007US","CBRedistribute",null,"Math","01/15/2019 10:00 AM","Ted Meyer"]
["53887","P2034FNB","Sappington Elementary","Library Chromebook Cart","Lenovo 500e Chromebook (Gen 1)",null,"Available","Chromebook","2018-12-10","314.49","19-56721","Firefly Computers","500e","Lenovo","CR034-CB-02","00bb6060694f","2022/2023",null,"CR PD",null,null,"Grant","PTG to reimburse CR",{"$nulls":3},"81ES0007US","CBRedistribute",null,"4th Grade","01/15/2019 08:35 AM","Ted Meyer"]
["54357","P2033TGN","Sappington Elementary","Library Chromebook Cart","Lenovo 500e Chromebook (Gen 1)",null,"Available","Chromebook","2018-11-20","314.49","19-56517","Firefly Computers","500e","Lenovo","SA040-02","38baf85e70a4","2022/2023",null,"SA Soda (SA PTG will reimburse)",null,null,"Grant",{"$nulls":4},"81ES0007US","CBRedistribute",null,"3rd Grade","01/15/2019 09:46 AM","Ted Meyer"]
["50554","P202CXW4","Sappington Elementary","Library Chromebook Cart","Lenovo 500e Chromebook (Gen 1)",null,"Available","Chromebook","2018-06-19","287.00","19-54624","Firefly Computers","500e","Lenovo","TR206-CB-03","7470fda2389d","2022/2023",null,"100-1151-6412-3080-07360-1-000",{"$nulls":3},"CHROMEBOOK MANAGEMENT CONSOLE @$23.49\nFIREFLY CHROMEBOOK SUPPORT FOR LENOVO\nLANSCHOOL PERPETUAL PER DEVICE LICENSE WITH 1 YR OF SNS",{"$nulls":3},"81ES0007US","CBRedistribute",null,"English","01/15/2019 10:00 AM","Ted Meyer"]
["50814","P202CZ9P","Sappington Elementary","Library Chromebook Cart","Lenovo 500e Chromebook (Gen 1)",null,"Available","Chromebook","2018-06-19","287.00","19-54624","Firefly Computers","500e","Lenovo","HSSSML3-CB-09","7470fda363cb","2022/2023",null,"100-1151-6412-1050-07360-1-000",{"$nulls":3},"CHROMEBOOK MANAGEMENT CONSOLE @$23.49\nFIREFLY CHROMEBOOK SUPPORT FOR LENOVO\nLANSCHOOL PERPETUAL PER DEVICE LICENSE WITH 1 YR OF SNS",{"$nulls":3},"81ES0007US","Issued for Virtual Learning - COVID-19",null,"Social Studies","01/15/2019 09:21 AM","Ted Meyer"]
["50995","P202DF3Y","Sappington Elementary","Library Chromebook Cart","Lenovo 500e Chromebook (Gen 1)",null,"Available","Chromebook","2018-06-19","287.00","19-54624","Firefly Computers","500e","Lenovo","SP112-CB-03","7c2a311a2912","2022/2023",null,"100-1151-6412-3070-07360-1-000",{"$nulls":3},"CHROMEBOOK MANAGEMENT CONSOLE @$23.49FIREFLY CHROMEBOOK SUPPORT FOR LENOVOLANSCHOOL PERPETUAL PER DEVICE LICENSE WITH 1 YR OF SNS",{"$nulls":3},"81ES0007US",null,null,"Social Studies","01/15/2019 09:53 AM","Ted Meyer"]
["54167","P2034H39","Sappington Elementary","Library Chromebook Cart","Lenovo 500e Chromebook (Gen 1)",null,"Available","Chromebook","2018-10-04","310.49","19-55702","Firefly Computers","500e","Lenovo","TR-LIBLAB1-30","38baf85cb5f7","2022/2023",null,"TE PD",{"$nulls":7},"81ES0007US","CBRedistribute",null,"Library","01/15/2019 10:00 AM","Ted Meyer"]
["53199","P202E81H","Sappington Elementary","Library Chromebook Cart","Lenovo 500e Chromebook (Gen 1)",null,"Available","Chromebook","2018-06-19","287.00","19-54624","Firefly Computers","500e","Lenovo","SPML4-CB-04","7c7635b12155","2022/2023",null,"100-1151-6412-3070-07360-1-000",{"$nulls":3},"CHROMEBOOK MANAGEMENT CONSOLE @$23.49\nFIREFLY CHROMEBOOK SUPPORT FOR LENOVO\nLANSCHOOL PERPETUAL PER DEVICE LICENSE WITH 1 YR OF SNS",{"$nulls":3},"81ES0007US","Issued for Virtual Learning - COVID-19",null,"Modern Language","01/15/2019 09:53 AM","Ted Meyer"]
["53200","P202DV5Q","Sappington Elementary","Library Chromebook Cart","Lenovo 500e Chromebook (Gen 1)",null,"Available","Chromebook","2018-06-19","287.00","19-54624","Firefly Computers","500e","Lenovo","SPML4-CB-05","7470fd36abeb","2022/2023",null,"100-1151-6412-3070-07360-1-000",{"$nulls":3},"CHROMEBOOK MANAGEMENT CONSOLE @$23.49\nFIREFLY CHROMEBOOK SUPPORT FOR LENOVO\nLANSCHOOL PERPETUAL PER DEVICE LICENSE WITH 1 YR OF SNS",{"$nulls":3},"81ES0007US","Issued for Virtual Learning - COVID-19",null,"Modern Language","01/15/2019 09:53 AM","Ted Meyer"]
["54116","P2034UHH","Sappington Elementary","Library Chromebook Cart","Lenovo 500e Chromebook (Gen 1)",null,"Available","Chromebook","2018-10-04","310.49","19-55702","Firefly Computers","500e","Lenovo","CR-LIBLAB1-12","38baf85fea6f","2022/2023",null,"TE PD",{"$nulls":7},"81ES0007US","Issued for Virtual Learning - COVID-19",null,"Library","01/15/2019 08:35 AM","Ted Meyer"]
["54097","P2034G5X","Sappington Elementary","Library Chromebook Cart","Lenovo 500e Chromebook (Gen 1)",null,"Available","Chromebook","2018-10-04","310.49","19-55702","Firefly Computers","500e","Lenovo","DR-LIBLAB1-19","38baf85c531e","2022/2023",null,"TE PD",{"$nulls":7},"81ES0007US","CBRedistribute",null,"Library","01/15/2019 08:40 AM","Ted Meyer"]
["54089","P2034UGH","Sappington Elementary","Library Chromebook Cart","Lenovo 500e Chromebook (Gen 1)",null,"Available","Chromebook","2018-10-04","310.49","19-55702","Firefly Computers","500e","Lenovo","DR-LIBLAB1-11","38baf83ceecf","2022/2023",null,"TE PD",{"$nulls":7},"81ES0007US","CBRedistribute",null,"Library","01/15/2019 08:40 AM","Ted Meyer"]
["54100","P2034UDR","Sappington Elementary","Library Chromebook Cart","Lenovo 500e Chromebook (Gen 1)",null,"Available","Chromebook","2018-10-04","310.49","19-55702","Firefly Computers","500e","Lenovo","DR-LIBLAB1-22","38baf85cb73c","2022/2023",null,"TE PD",{"$nulls":7},"81ES0007US","CBRedistribute",null,"Library","01/15/2019 08:40 AM","Ted Meyer"]
["54092","P2034U0Y","Sappington Elementary","Library Chromebook Cart","Lenovo 500e Chromebook (Gen 1)",null,"Available","Chromebook","2018-10-04","310.49","19-55702","Firefly Computers","500e","Lenovo","DR-LIBLAB1-14","38baf83a8b9e","2022/2023",null,"TE PD",{"$nulls":7},"81ES0007US","CBRedistribute",null,"Library","01/15/2019 08:40 AM","Ted Meyer"]
["50721","P202D993","Sappington Elementary","Library Chromebook Cart","Lenovo 500e Chromebook (Gen 1)",null,"Available","Chromebook","2018-06-19","287.00","19-54624","Firefly Computers","500e","Lenovo","TRML1-CB-28","7c2a311aaf18","2022/2023",null,"100-1151-6412-3080-07360-1-000",{"$nulls":3},"CHROMEBOOK MANAGEMENT CONSOLE @$23.49\nFIREFLY CHROMEBOOK SUPPORT FOR LENOVO\nLANSCHOOL PERPETUAL PER DEVICE LICENSE WITH 1 YR OF SNS",{"$nulls":3},"81ES0007US","Issued for Virtual Learning - COVID-19",null,"Modern Language","01/15/2019 10:00 AM","Ted Meyer"]
["50713","P202CYU0","Sappington Elementary","Library Chromebook Cart","Lenovo 500e Chromebook (Gen 1)",null,"Available","Chromebook","2018-06-19","287.00","19-54624","Firefly Computers","500e","Lenovo","TRML1-CB-20","7470fda2258d","2022/2023",null,"100-1151-6412-3080-07360-1-000",{"$nulls":3},"CHROMEBOOK MANAGEMENT CONSOLE @$23.49\nFIREFLY CHROMEBOOK SUPPORT FOR LENOVO\nLANSCHOOL PERPETUAL PER DEVICE LICENSE WITH 1 YR OF SNS",{"$nulls":3},"81ES0007US","CBRedistribute",null,"Modern Language","01/15/2019 10:00 AM","Ted Meyer"]
["50633","P202D9P5","Sappington Elementary","Library Chromebook Cart","Lenovo 500e Chromebook (Gen 1)",null,"Available","Chromebook","2018-06-19","287.00","19-54624","Firefly Computers","500e","Lenovo","TRML2-CB-22","7c2a311ccea6","2022/2023",null,"100-1151-6412-3080-07360-1-000",{"$nulls":3},"CHROMEBOOK MANAGEMENT CONSOLE @$23.49\nFIREFLY CHROMEBOOK SUPPORT FOR LENOVO\nLANSCHOOL PERPETUAL PER DEVICE LICENSE WITH 1 YR OF SNS",{"$nulls":3},"81ES0007US","CBRedistribute",null,"Modern Language","01/15/2019 10:00 AM","Ted Meyer"]
["50857","P202D8ZK","Sappington Elementary","Library Chromebook Cart","Lenovo 500e Chromebook (Gen 1)",null,"Available","Chromebook","2018-06-19","287.00","19-54624","Firefly Computers","500e","Lenovo","HSFLML1-CB-24","7c2a311c380b","2022/2023",null,"100-1151-6412-1050-07360-1-000",{"$nulls":3},"CHROMEBOOK MANAGEMENT CONSOLE @$23.49\nFIREFLY CHROMEBOOK SUPPORT FOR LENOVO\nLANSCHOOL PERPETUAL PER DEVICE LICENSE WITH 1 YR OF SNS",{"$nulls":3},"81ES0007US","Issued for Virtual Learning - COVID-19",null,"Modern Language","01/15/2019 09:21 AM","Ted Meyer"]
["50771","P202D9EQ","Sappington Elementary","Library Chromebook Cart","Lenovo 500e Chromebook (Gen 1)",null,"Available","Chromebook","2018-06-19","287.00","19-54624","Firefly Computers","500e","Lenovo","HSSCML3-CB-22","7c2a311c55a7","2022/2023",null,"100-1151-6412-1050-07360-1-000",{"$nulls":3},"CHROMEBOOK MANAGEMENT CONSOLE @$23.49\nFIREFLY CHROMEBOOK SUPPORT FOR LENOVO\nLANSCHOOL PERPETUAL PER DEVICE LICENSE WITH 1 YR OF SNS",{"$nulls":3},"81ES0007US","Issued for Virtual Learning - COVID-19",null,"Science","01/15/2019 09:21 AM","Ted Meyer"]
["50877","P202D9AR","Sappington Elementary","Library Chromebook Cart","Lenovo 500e Chromebook (Gen 1)",null,"Available","Chromebook","2018-06-19","287.00","19-54624","Firefly Computers","500e","Lenovo","HSSCML2-CB-016","7c2a311a9cc6","2022/2023",null,"100-1151-6412-1050-07360-1-000",{"$nulls":3},"CHROMEBOOK MANAGEMENT CONSOLE @$23.49\nFIREFLY CHROMEBOOK SUPPORT FOR LENOVO\nLANSCHOOL PERPETUAL PER DEVICE LICENSE WITH 1 YR OF SNS",{"$nulls":3},"81ES0007US","Issued for Virtual Learning - COVID-19",null,"Science","01/15/2019 09:21 AM","Ted Meyer"]
["54107","P2034FFW","Sappington Elementary","Library Chromebook Cart","Lenovo 500e Chromebook (Gen 1)",null,"Available","Chromebook","2018-10-04","310.49","19-55702","Firefly Computers","500e","Lenovo",null,"38baf8ecc3ef","2022/2023",null,"TE PD",{"$nulls":7},"81ES0007US","Issued for Virtual Learning - COVID-19",null,null,"01/15/2019 08:35 AM","Ted Meyer"]
["53521","P2024U92","Sappington Elementary","Library Chromebook Cart","Lenovo 500e Chromebook (Gen 1)",null,"Available","Chromebook","2018-06-19","287.00","19-54624","Firefly Computers","500e","Lenovo",null,"5c5f67dcdea3","2022/2023",null,"100-1151-6412-3080-07360-1-000",{"$nulls":3},"CHROMEBOOK MANAGEMENT CONSOLE @$23.49FIREFLY CHROMEBOOK SUPPORT FOR LENOVOLANSCHOOL PERPETUAL PER DEVICE LICENSE WITH 1 YR OF SNS",{"$nulls":3},"81ES0007US","CBRedistribute",null,null,"01/15/2019 10:00 AM","Ted Meyer"]
["54326","P2034UWA","Sappington Elementary","Library Chromebook Cart","Lenovo 500e Chromebook (Gen 1)",null,"Available","Chromebook","2018-10-04","310.49","19-55702","Firefly Computers","500e","Lenovo",null,"38baf85ca279","2022/2023",null,"TE PD",{"$nulls":7},"81ES0007US","Issued for Virtual Learning - COVID-19",null,null,"01/15/2019 09:53 AM","Ted Meyer"]
["49523","752TSYG402","LHS 2022","008A","Motorola CP200D UHF Digital 16 Channel Two-Way Radio",null,"Available","Two-Way Radio","2017-03-06","365.00","17-39627","TBS Electronics","CP200D","Motorola","William Groeller",{"$nulls":3},"26445-6411",null,null,"Building Budget","3 Year Warranty",{"$nulls":6},"Athletics","01/15/2019 09:21 AM","Ted Meyer"]
["52744",null,"LHS 2022","008A","Avantree 2-in-1 Speakers",null,"Available","Speaker","2018-06-27","59.99","18-55475","Amazon","SP750","Avantree","Shawna Ward",{"$nulls":3},"100.2222.6412.1050.07310.1.000",null,null,"Dept Budget",{"$nulls":8},"01/15/2019 09:21 AM","Ted Meyer"]
["50018","752TUK0422","LHS 2022","140F","Motorola CP200D UHF Digital 16 Channel Two-Way Radio",null,"Available","Two-Way Radio","2018-09-04","374.25","19-55392","TBS Electronics","CP200D","Motorola",{"$nulls":4},"HS PD",{"$nulls":3},"3 YR Warranty",{"$nulls":7},"01/15/2019 09:22 AM","Ted Meyer"]
["49440","SMJ04T0RV","LHS 2022","140F","Lenovo ThinkCentre M700 10HY Tiny Desktop (Core i3-6100T, 8GB, 128GB)",null,"Available","Desktop","2016-12-07","409.56","17-38678","ITsavvy","M700","Lenovo",null,null,"2020/2021",null,"27873-6541",{"$nulls":3},"400-1151-6543-824-003-000",{"$nulls":3},"10HY0021US",null,null,"Credit Recovery","01/15/2019 09:21 AM","Ted Meyer"]
["53418","DMPX4272JF8J","LHS 2022","140F","Apple iPad 32GB WIFI (6th Gen)",null,"Available","iPad","2018-08-06","294.00","19-54900","Apple","MR7F2LL/A","Apple","LIBRARY - 01","549963a6542b","2022/2023",null,"TE Paid",{"$nulls":7},"A1893",null,null,"Library","01/15/2019 09:22 AM","Ted Meyer"]
["49896","SV5K00728","LHS 2022","102","Lenovo ThinkVision T2224d 22\" LED Monitor",null,"Available","Monitor","2017-08-07","124.71","18-50819","ITsavvy","T2224d","Lenovo","Andrea Wagner",{"$nulls":3},"27870-6411",{"$nulls":10},"Guidance","01/15/2019 09:21 AM","Ted Meyer"]
["39733","A0VB023495","LHS 2022","102","Fujitsu ScanSnap iX500 Scanner",null,"Available","Scanner","2013-02-13","415.75","13-12812","World Wide Technology","iX500","Fujitsu",{"$nulls":4},"27870-6411",{"$nulls":10},"Guidance","01/15/2019 09:21 AM","Ted Meyer"]
["45283","K1322000474","LHS 2022","008C","Lenovo ThinkPad USB 3.0 Dock",null,"Available","Dock","2013-07-15","135.00","14-15330","TWO TREES","DU9019D1","Lenovo",{"$nulls":15},"PE","01/15/2019 09:21 AM","Ted Meyer"]
["49895","SV5K00745","LHS 2022","107","Lenovo ThinkVision T2224d 22\" LED Monitor",null,"Available","Monitor","2017-08-07","124.71","18-50819","ITsavvy","T2224d","Lenovo","Darlene Burns",{"$nulls":3},"27870-6411",{"$nulls":10},"Guidance","01/15/2019 09:21 AM","Ted Meyer"]
["48242","1S3778HB2VNA18RX","LHS 2022","107","Lenovo ThinkVision 23\" Monitor",null,"Available","Monitor","2014-01-24","138.50","14-17749","ITSavvy","LS2322","Lenovo",{"$nulls":4},"23886-6411",{"$nulls":10},"Guidance","01/15/2019 09:21 AM","Ted Meyer"]
["49521","752TSYG319","LHS 2022","008C","Motorola CP200D UHF Digital 16 Channel Two-Way Radio",null,"Available","Two-Way Radio","2017-03-06","365.00","17-39627","TBS Electronics","CP200D","Motorola","Scott Luczak",{"$nulls":3},"26445-6411",null,null,"Building Budget","3 Year Warranty",{"$nulls":6},"Athletics","01/15/2019 09:21 AM","Ted Meyer"]
["51760","GCGV369XHLFD","Concord Elementary","*Staff/Teacher Devices","Apple iPad 128GB WIFI (5th Gen)",null,"Available","iPad",{"$nulls":4},"MP2H2LL/A","Apple","William Loos",null,"UnKnown",{"$nulls":9},"A1822",null,null,"PE","01/15/2019 08:38 AM","Ted Meyer"]
["45276","K1315004463","Truman Middle","**Surplus","Lenovo ThinkPad USB 3.0 Dock",null,"Available","Dock","2013-05-10","135.00","14-15032","TWOTREES","DU9019D1","Lenovo","TR25 -removed 2021-2022","843a4b0edbdc","2017/2018",{"$nulls":10},"no longer used",null,"English","01/15/2019 09:59 AM","Ted Meyer"]
["42188",null,"Truman Middle","**Surplus","Bretford A/V Learning Cart",null,"Available","Cart","2009-08-10","320.00","10-34109","CDWG","ECILS3-BK","Bretford","Recycle 2021-2022",null,"2013/2014",null,"27870-6541",{"$nulls":8},"no longer used",null,"English","01/15/2019 09:59 AM","Ted Meyer"]
["42189","951982","Truman Middle","**Surplus","ELMO TT-02u Document Camera",null,"Available","Document Camera","2006-09-17","555.00","07-27832","PC MALL","TT-02u","ELMO","recycle during the 2021-2022",null,"2010/2011",null,"27870-6541",{"$nulls":8},"no longer used",null,"English","01/15/2019 09:59 AM","Ted Meyer"]
["45274","K1315004516","Truman Middle","**Surplus","Lenovo ThinkPad USB 3.0 Dock",null,"Available","Dock","2013-05-10","135.00","14-15032","TWOTREES","DU9019D1","Lenovo","Recycle 2021-2022","843a4b0edbdc","2017/2018",{"$nulls":10},"no longer used",null,"Social Studies","01/15/2019 09:59 AM","Ted Meyer"]
["49677","MP145B17","Crestwood Elementary","*Staff/Teacher Devices","Lenovo ThinkPad Yoga 260 (Core i5-6300U, 8GB, 256GB)",null,"Available","Laptop","2017-03-27","1,234.90","17-39996","ITsavvy LLC","Yoga 260","Lenovo","Sally Dallman","e4b318d6a7a9","2021/2022",null,"27870-6541",{"$nulls":3},"400-2331-6543-824-000-000",{"$nulls":3},"20FD002DUS",null,null,"Science","01/15/2019 09:21 AM","Ted Meyer"]
["42006","R9F2ZWX","Sperreng Middle","Unknown","Lenovo ThinkPad x220 Tablet Laptop",null,"Available","Laptop","2011-06-23","1,425.00","12-37311","TwoTrees","X220","Lenovo","Sonia Kesselring","a088b4b5498c","2015/2016",null,"27870-6541",{"$nulls":7},"42963MU",null,null,"Technology","01/15/2019 09:52 AM","Ted Meyer"]
["38017","8600078EH","Sperreng Middle","Elevator Closet","NEC VT491 Projector",null,"Available","Projector","2008-07-24","545.00","09-32054","CDWG","VT491","NEC","Spare",null,"2012/2013",null,"27870-6541",{"$nulls":10},"Technology","01/15/2019 09:52 AM","Ted Meyer"]
["47479",null,"Sperreng Middle","159A","Epson Brightlink Pro 1430Wi Projector",null,"Available","Projector",{"$nulls":4},"Brightlink 1430Wi","Epson","Trombone Room",null,"UnKnown",null,null,"Filter","2016-03-08",{"$nulls":8},"Music","01/15/2019 09:52 AM","Ted Meyer"]
["39563",null,"Sperreng Middle","159A","Bretford A/V Learning Cart",null,"Available","Cart","2009-08-10","320.00","10-34109","CDWG","ECILS3-BK","Bretford",null,null,"2013/2014",null,"27870-6541",{"$nulls":11},"01/15/2019 09:52 AM","Ted Meyer"]
["47480",null,"Sperreng Middle","159A","ELMO TT-12 Document Camera",null,"Available","Document Camera",{"$nulls":4},"TT-12","ELMO",null,null,"UnKnown",{"$nulls":13},"01/15/2019 09:52 AM","Ted Meyer"]
["50050","V5V35305","LHS 2022","307A","Lenovo ThinkVision T2224d 22\" LED Monitor",null,"Available","Monitor","2018-09-13","128.00","19-55408","Firefly Computers","T2224d","Lenovo","Office Gordon",{"$nulls":3},"TE PD",{"$nulls":11},"01/15/2019 09:22 AM","Ted Meyer"]
["54102","P2034GWH","Concord Elementary","Library Chromebook Cart","Lenovo 500e Chromebook (Gen 1)",null,"Available","Chromebook","2018-10-04","310.49","19-55702","Firefly Computers","500e","Lenovo","DR-LIBLAB1-24","38baf8ed6075","2022/2023",null,"TE PD",{"$nulls":7},"81ES0007US","CBRedistribute",null,"Library","01/15/2019 08:40 AM","Ted Meyer"]
["54103","P2034GKU","Concord Elementary","Library Chromebook Cart","Lenovo 500e Chromebook (Gen 1)",null,"Available","Chromebook","2018-10-04","310.49","19-55702","Firefly Computers","500e","Lenovo","DR-LIBLAB1-25","38baf8ec627e","2022/2023",null,"TE PD",{"$nulls":7},"81ES0007US","CBRedistribute",null,"Library","01/15/2019 08:40 AM","Ted Meyer"]
["54104","P2034GKE","Concord Elementary","Library Chromebook Cart","Lenovo 500e Chromebook (Gen 1)",null,"Available","Chromebook","2018-10-04","310.49","19-55702","Firefly Computers","500e","Lenovo","DR-LIBLAB1-26","38baf8ec6d78","2022/2023",null,"TE PD",{"$nulls":7},"81ES0007US","CBRedistribute",null,"Library","01/15/2019 08:40 AM","Ted Meyer"]
["54166","P2034UX1","Concord Elementary","Library Chromebook Cart","Lenovo 500e Chromebook (Gen 1)",null,"Available","Chromebook","2018-10-04","310.49","19-55702","Firefly Computers","500e","Lenovo","TR-LIBLAB1-29","38baf85bafe5","2022/2023",null,"TE PD",{"$nulls":7},"81ES0007US","CBRedistribute",null,"Library","01/15/2019 10:00 AM","Ted Meyer"]
["54161","P2034G83","Concord Elementary","Library Chromebook Cart","Lenovo 500e Chromebook (Gen 1)",null,"Available","Chromebook","2018-10-04","310.49","19-55702","Firefly Computers","500e","Lenovo","TR-LIBLAB1-26","38baf85ab54a","2022/2023",null,"TE PD",{"$nulls":7},"81ES0007US","CBRedistribute",null,"Library","01/15/2019 10:00 AM","Ted Meyer"]
["47726","P2034F8W","Concord Elementary","Library Chromebook Cart","Lenovo 500e Chromebook (Gen 1)",null,"Available","Chromebook","2018-10-04","310.49","19-55702","Firefly Computers","500e","Lenovo","TR-LIBLAB1-16","00bb605e5f0b","2022/2023",null,"TE PD",{"$nulls":7},"81ES0007US","CBRedistribute",null,"Library","01/15/2019 10:00 AM","Ted Meyer"]
["47708","P2034U3Y","Concord Elementary","Library Chromebook Cart","Lenovo 500e Chromebook (Gen 1)",null,"Available","Chromebook","2018-10-04","310.49","19-55702","Firefly Computers","500e","Lenovo","TR-LIBLAB1-13","38baf83cf69f","2022/2023",null,"TE PD",{"$nulls":7},"81ES0007US","CBRedistribute",null,"Library","01/15/2019 10:00 AM","Ted Meyer"]
["54112","P2034TJ4","Concord Elementary","Library Chromebook Cart","Lenovo 500e Chromebook (Gen 1)",null,"Available","Chromebook","2018-10-04","310.49","19-55702","Firefly Computers","500e","Lenovo","CR-LIBLAB1-08","38baf85d105b","2022/2023",null,"TE PD",{"$nulls":7},"81ES0007US","Issued for Virtual Learning - COVID-19",null,"Library","01/15/2019 08:35 AM","Ted Meyer"]
["54094","P2034TJ8","Concord Elementary","Library Chromebook Cart","Lenovo 500e Chromebook (Gen 1)",null,"Available","Chromebook","2018-10-04","310.49","19-55702","Firefly Computers","500e","Lenovo","DR-LIBLAB1-16","38baf8604a50","2022/2023",null,"TE PD",{"$nulls":7},"81ES0007US","CBRedistribute",null,"Library","01/15/2019 08:40 AM","Ted Meyer"]
["54087","P2034TXM","Concord Elementary","Library Chromebook Cart","Lenovo 500e Chromebook (Gen 1)",null,"Available","Chromebook","2018-10-04","310.49","19-55702","Firefly Computers","500e","Lenovo","DR-LIBLAB1-09","38baf83ab597","2022/2023",null,"TE PD",{"$nulls":7},"81ES0007US","CBRedistribute",null,"Library","01/15/2019 08:40 AM","Ted Meyer"]
["50738","P202CYAK","Concord Elementary","Library Chromebook Cart","Lenovo 500e Chromebook (Gen 1)",null,"Available","Chromebook","2018-06-19","287.00","19-54624","Firefly Computers","500e","Lenovo","HSMATH1-CB-17","7470fdc38151","2022/2023",null,"100-1151-6412-1050-07360-1-000",{"$nulls":3},"CHROMEBOOK MANAGEMENT CONSOLE @$23.49\nFIREFLY CHROMEBOOK SUPPORT FOR LENOVO\nLANSCHOOL PERPETUAL PER DEVICE LICENSE WITH 1 YR OF SNS",{"$nulls":3},"81ES0007US","Issued for Virtual Learning - COVID-19",null,"Math","01/15/2019 09:21 AM","Ted Meyer"]
["50920","P202CXU1","Concord Elementary","Library Chromebook Cart","Lenovo 500e Chromebook (Gen 1)",null,"Available","Chromebook","2018-06-19","287.00","19-54624","Firefly Computers","500e","Lenovo","HSACAD-CB-003","7470fda1f6cb","2022/2023",null,"100-1151-6412-1050-07360-1-000",{"$nulls":3},"CHROMEBOOK MANAGEMENT CONSOLE @$23.49\nFIREFLY CHROMEBOOK SUPPORT FOR LENOVO\nLANSCHOOL PERPETUAL PER DEVICE LICENSE WITH 1 YR OF SNS",{"$nulls":3},"81ES0007US","Issued for Virtual Learning - COVID-19",null,"Academy","01/15/2019 09:21 AM","Ted Meyer"]
["50980","P202D9EU","Concord Elementary","Library Chromebook Cart","Lenovo 500e Chromebook (Gen 1)",null,"Available","Chromebook","2018-06-19","287.00","19-54624","Firefly Computers","500e","Lenovo","HSACAD-CB-063","7c2a311d78c4","2022/2023",null,"100-1151-6412-1050-07360-1-000",{"$nulls":3},"CHROMEBOOK MANAGEMENT CONSOLE @$23.49\nFIREFLY CHROMEBOOK SUPPORT FOR LENOVO\nLANSCHOOL PERPETUAL PER DEVICE LICENSE WITH 1 YR OF SNS",{"$nulls":3},"81ES0007US","CBRedistribute",null,"Academy","01/15/2019 09:22 AM","Ted Meyer"]
["50952","P202CY8L","Concord Elementary","Library Chromebook Cart","Lenovo 500e Chromebook (Gen 1)",null,"Available","Chromebook","2018-06-19","287.00","19-54624","Firefly Computers","500e","Lenovo","HSACAD-CB-035","7470fda20e72","2022/2023",null,"100-1151-6412-1050-07360-1-000",{"$nulls":3},"CHROMEBOOK MANAGEMENT CONSOLE @$23.49\nFIREFLY CHROMEBOOK SUPPORT FOR LENOVO\nLANSCHOOL PERPETUAL PER DEVICE LICENSE WITH 1 YR OF SNS",{"$nulls":3},"81ES0007US","CBRedistribute",null,"Academy","01/15/2019 09:21 AM","Ted Meyer"]
["50954","P202CXYA","Concord Elementary","Library Chromebook Cart","Lenovo 500e Chromebook (Gen 1)",null,"Available","Chromebook","2018-06-19","287.00","19-54624","Firefly Computers","500e","Lenovo","HSACAD-CB-037","7470fda28f9b","2022/2023",null,"100-1151-6412-1050-07360-1-000",{"$nulls":3},"CHROMEBOOK MANAGEMENT CONSOLE @$23.49\nFIREFLY CHROMEBOOK SUPPORT FOR LENOVO\nLANSCHOOL PERPETUAL PER DEVICE LICENSE WITH 1 YR OF SNS",{"$nulls":3},"81ES0007US","Issued for Virtual Learning - COVID-19",null,"Academy","01/15/2019 09:21 AM","Ted Meyer"]
["50630","P202CXV9","Concord Elementary","Library Chromebook Cart","Lenovo 500e Chromebook (Gen 1)",null,"Available","Chromebook","2018-06-19","287.00","19-54624","Firefly Computers","500e","Lenovo","TRML2-CB-19","7470fda2035a","2022/2023",null,"100-1151-6412-3080-07360-1-000",{"$nulls":3},"CHROMEBOOK MANAGEMENT CONSOLE @$23.49\nFIREFLY CHROMEBOOK SUPPORT FOR LENOVO\nLANSCHOOL PERPETUAL PER DEVICE LICENSE WITH 1 YR OF SNS",{"$nulls":3},"81ES0007US","CBRedistribute",null,"Modern Language","01/15/2019 10:00 AM","Ted Meyer"]
["50719","P202D92L","Concord Elementary","Library Chromebook Cart","Lenovo 500e Chromebook (Gen 1)",null,"Available","Chromebook","2018-06-19","287.00","19-54624","Firefly Computers","500e","Lenovo","TRML1-CB-26","7c2a311b8c94","2022/2023",null,"100-1151-6412-3080-07360-1-000",{"$nulls":3},"CHROMEBOOK MANAGEMENT CONSOLE @$23.49FIREFLY CHROMEBOOK SUPPORT FOR LENOVOLANSCHOOL PERPETUAL PER DEVICE LICENSE WITH 1 YR OF SNS",{"$nulls":3},"81ES0007US","CBRedistribute",null,"Modern Language","01/15/2019 10:00 AM","Ted Meyer"]
["50852","P202D8X9","Concord Elementary","Library Chromebook Cart","Lenovo 500e Chromebook (Gen 1)",null,"Available","Chromebook","2018-06-19","287.00","19-54624","Firefly Computers","500e","Lenovo","HSFLML1-CB-19","7c2a311d070e","2022/2023",null,"100-1151-6412-1050-07360-1-000",{"$nulls":3},"CHROMEBOOK MANAGEMENT CONSOLE @$23.49\nFIREFLY CHROMEBOOK SUPPORT FOR LENOVO\nLANSCHOOL PERPETUAL PER DEVICE LICENSE WITH 1 YR OF SNS",{"$nulls":3},"81ES0007US","Issued for Virtual Learning - COVID-19",null,"Modern Language","01/15/2019 09:21 AM","Ted Meyer"]
["50853","P202CY7Q","Concord Elementary","Library Chromebook Cart","Lenovo 500e Chromebook (Gen 1)",null,"Available","Chromebook","2018-06-19","287.00","19-54624","Firefly Computers","500e","Lenovo","HSFLML1-CB-20","7470fda1db3c","2022/2023",null,"100-1151-6412-1050-07360-1-000",{"$nulls":3},"CHROMEBOOK MANAGEMENT CONSOLE @$23.49\nFIREFLY CHROMEBOOK SUPPORT FOR LENOVO\nLANSCHOOL PERPETUAL PER DEVICE LICENSE WITH 1 YR OF SNS",{"$nulls":3},"81ES0007US","CBRedistribute",null,"Modern Language","01/15/2019 09:21 AM","Ted Meyer"]
["53144","P202E80W","Concord Elementary","Library Chromebook Cart","Lenovo 500e Chromebook (Gen 1)",null,"Available","Chromebook","2018-06-19","287.00","19-54624","Firefly Computers","500e","Lenovo","SPML2-CB-05","7c7635b28bdf","2022/2023",null,"100-1151-6412-3070-07360-1-000",{"$nulls":3},"CHROMEBOOK MANAGEMENT CONSOLE @$23.49\nFIREFLY CHROMEBOOK SUPPORT FOR LENOVO\nLANSCHOOL PERPETUAL PER DEVICE LICENSE WITH 1 YR OF SNS",{"$nulls":3},"81ES0007US","Issued for Virtual Learning - COVID-19",null,"Modern Language","01/15/2019 09:53 AM","Ted Meyer"]
["50715","P202CYE2","Concord Elementary","Library Chromebook Cart","Lenovo 500e Chromebook (Gen 1)",null,"Available","Chromebook","2018-06-19","287.00","19-54624","Firefly Computers","500e","Lenovo","TRML1-CB-22","7470fda384e1","2022/2023",null,"100-1151-6412-3080-07360-1-000",{"$nulls":3},"CHROMEBOOK MANAGEMENT CONSOLE @$23.49\nFIREFLY CHROMEBOOK SUPPORT FOR LENOVO\nLANSCHOOL PERPETUAL PER DEVICE LICENSE WITH 1 YR OF SNS",{"$nulls":3},"81ES0007US","CBRedistribute",null,"Modern Language","01/15/2019 10:00 AM","Ted Meyer"]
["50564","P202CY2F","Concord Elementary","Library Chromebook Cart","Lenovo 500e Chromebook (Gen 1)",null,"Available","Chromebook","2018-06-19","287.00","19-54624","Firefly Computers","500e","Lenovo","TR211-CB-03","7470fda21cc3","2022/2023",null,"100-1151-6412-3080-07360-1-000",{"$nulls":3},"CHROMEBOOK MANAGEMENT CONSOLE @$23.49\nFIREFLY CHROMEBOOK SUPPORT FOR LENOVO\nLANSCHOOL PERPETUAL PER DEVICE LICENSE WITH 1 YR OF SNS",{"$nulls":3},"81ES0007US","CBRedistribute",null,"Social Studies","01/15/2019 10:00 AM","Ted Meyer"]
["50903","P202CXTH","Concord Elementary","Library Chromebook Cart","Lenovo 500e Chromebook (Gen 1)",null,"Available","Chromebook","2018-06-19","287.00","19-54624","Firefly Computers","500e","Lenovo","HSSSML2-CB-14","7470fda202ce","2022/2023",null,"100-1151-6412-1050-07360-1-000",{"$nulls":3},"CHROMEBOOK MANAGEMENT CONSOLE @$23.49\nFIREFLY CHROMEBOOK SUPPORT FOR LENOVO\nLANSCHOOL PERPETUAL PER DEVICE LICENSE WITH 1 YR OF SNS",{"$nulls":3},"81ES0007US","Issued for Virtual Learning - COVID-19",null,"Social Studies","01/15/2019 09:21 AM","Ted Meyer"]
["50891","P202D97N","Concord Elementary","Library Chromebook Cart","Lenovo 500e Chromebook (Gen 1)",null,"Available","Chromebook","2018-06-19","287.00","19-54624","Firefly Computers","500e","Lenovo","HSSSML2-CB-02","7c2a311cdcfc","2022/2023",null,"100-1151-6412-1050-07360-1-000",{"$nulls":3},"CHROMEBOOK MANAGEMENT CONSOLE @$23.49\nFIREFLY CHROMEBOOK SUPPORT FOR LENOVO\nLANSCHOOL PERPETUAL PER DEVICE LICENSE WITH 1 YR OF SNS",{"$nulls":3},"81ES0007US","Issued for Virtual Learning - COVID-19",null,"Social Studies","01/15/2019 09:21 AM","Ted Meyer"]
["50755","P202D9P8","Concord Elementary","Library Chromebook Cart","Lenovo 500e Chromebook (Gen 1)",null,"Available","Chromebook","2018-06-19","287.00","19-54624","Firefly Computers","500e","Lenovo","HSSCML3-CB-06","7c2a311cce7e","2022/2023",null,"100-1151-6412-1050-07360-1-000",{"$nulls":3},"CHROMEBOOK MANAGEMENT CONSOLE @$23.49\nFIREFLY CHROMEBOOK SUPPORT FOR LENOVO\nLANSCHOOL PERPETUAL PER DEVICE LICENSE WITH 1 YR OF SNS",{"$nulls":3},"81ES0007US","Issued for Virtual Learning - COVID-19",null,"Science","01/15/2019 09:21 AM","Ted Meyer"]
["50884","P202D9CE","Concord Elementary","Library Chromebook Cart","Lenovo 500e Chromebook (Gen 1)",null,"Available","Chromebook","2018-06-19","287.00","19-54624","Firefly Computers","500e","Lenovo","HSSCML2-CB-023","7c2a311ccdfc","2022/2023",null,"100-1151-6412-1050-07360-1-000",{"$nulls":3},"CHROMEBOOK MANAGEMENT CONSOLE @$23.49\nFIREFLY CHROMEBOOK SUPPORT FOR LENOVO\nLANSCHOOL PERPETUAL PER DEVICE LICENSE WITH 1 YR OF SNS",{"$nulls":3},"81ES0007US","Issued for Virtual Learning - COVID-19",null,"Science","01/15/2019 09:21 AM","Ted Meyer"]
["53520","P2028ALR","Concord Elementary","Library Chromebook Cart","Lenovo 500e Chromebook (Gen 1)",null,"Available","Chromebook","2018-06-19","287.00","19-54624","Firefly Computers","500e","Lenovo","HSENGML3-CB-11","38dead8126a8","2022/2023",null,"100-1151-6412-1050-07360-1-000",{"$nulls":3},"CHROMEBOOK MANAGEMENT CONSOLE @$23.49\nFIREFLY CHROMEBOOK SUPPORT FOR LENOVO\nLANSCHOOL PERPETUAL PER DEVICE LICENSE WITH 1 YR OF SNS",{"$nulls":3},"81ES0007US","Issued for Virtual Learning - COVID-19",null,"English","01/15/2019 09:21 AM","Ted Meyer"]
["50783","P202E88E","Concord Elementary","Library Chromebook Cart","Lenovo 500e Chromebook (Gen 1)",null,"Available","Chromebook","2018-06-19","287.00","19-54624","Firefly Computers","500e","Lenovo","HSENGML3-CB-06","7c7635fc1098","2022/2023",null,"100-1151-6412-1050-07360-1-000",{"$nulls":3},"CHROMEBOOK MANAGEMENT CONSOLE @$23.49\nFIREFLY CHROMEBOOK SUPPORT FOR LENOVO\nLANSCHOOL PERPETUAL PER DEVICE LICENSE WITH 1 YR OF SNS",{"$nulls":3},"81ES0007US","Issued for Virtual Learning - COVID-19",null,"English","01/15/2019 09:21 AM","Ted Meyer"]
["53897","P2034FMJ","Concord Elementary","Library Chromebook Cart","Lenovo 500e Chromebook (Gen 1)",null,"Available","Chromebook","2018-12-10","314.49","19-56764","Firefly Computers","500e","Lenovo","LOML4-26","00bb605ee0f7","2022/2023",null,"LO PD",null,null,"Grant","PTG to reimburse LO",{"$nulls":3},"81ES0007US","CBRedistribute",null,"3rd Grade","01/15/2019 09:35 AM","Ted Meyer"]
["53922","P2034FMR","Concord Elementary","Library Chromebook Cart","Lenovo 500e Chromebook (Gen 1)",null,"Available","Chromebook","2018-12-10","314.49","19-56764","Firefly Computers","500e","Lenovo","LOML3-23","00bb605ee372","2022/2023",null,"LO PD",null,null,"Grant","PTG to reimburse LO",{"$nulls":3},"81ES0007US","CBRedistribute",null,"4th Grade","01/15/2019 09:35 AM","Ted Meyer"]
["54022","P2034UKC","Concord Elementary","Library Chromebook Cart","Lenovo 500e Chromebook (Gen 1)",null,"Available","Chromebook","2018-10-04","310.49","19-55702","Firefly Computers","500e","Lenovo","Samuel  Munene","38baf85fea24","2022/2023",null,"TE PD",{"$nulls":7},"81ES0007US","Issued for Virtual Learning - COVID-19",null,"4th Grade","01/15/2019 09:46 AM","Ted Meyer"]
["51761","GCGV36K2HLFD","Crestwood Elementary","*Staff/Teacher Devices","Apple iPad 128GB WIFI (5th Gen)",null,"Available","iPad",{"$nulls":4},"MP2H2LL/A","Apple","Darrion Cockrell","a4e975801ece","UnKnown",{"$nulls":9},"A1822",null,null,"PE","01/15/2019 08:35 AM","Ted Meyer"]
["41234",null,"Sperreng Middle","Welcome Center","Lenovo ThinkVision 22\" LCD Monitor",null,"Available","Monitor","2009-08-25","182.00","10-34231","Lenovo","L2240P","Lenovo","Mike Kuhn",null,"2013/2014",null,"27870-6541",{"$nulls":10},"LEAP","01/15/2019 09:53 AM","Ted Meyer"]
["38968","V6-E3915","Sperreng Middle","Welcome Center","Lenovo ThinkVision 22\" LCD Monitor",null,"Available","Monitor","2009-08-25","182.00","10-34231","Lenovo","L2240P","Lenovo","Kim Baum",null,"2013/2014",null,"27870-6541",{"$nulls":10},"Guidance","01/15/2019 09:52 AM","Ted Meyer"]
["45716","PB5ZN6X","Sperreng Middle","Principal's Office - AP Office 2 (Clint Walker)","Lenovo ThinkPad USB 3.0 Dock",null,"Available","Dock","2013-05-10","135.00","14-15032","TWOTREES","DU9019D1","Lenovo","Clint Walker","843a4b0edbdc","2017/2018",{"$nulls":12},"Office","01/15/2019 09:52 AM","Ted Meyer"]
["48447",null,"Sperreng Middle","Principal's Office - AP Office 2 (Clint Walker)","Dell 2350dn Laser Printer",null,"Available","Printer",{"$nulls":4},"2350dn","Dell","Clint Walker",null,"UnKnown",{"$nulls":12},"Office","01/15/2019 09:52 AM","Ted Meyer"]
["52310","V0W9C3371C008A","Sperreng Middle","Kitchen Office","Dell E310Ddw Printer Monochrome Laser",null,"Available","Printer","2017-05-22","85.69","17-40819","CDW-G","E310dw","Dell",{"$nulls":3},"10.9.21.210","27870-6411",{"$nulls":10},"Cafeteria","01/15/2019 08:40 AM","Ted Meyer"]
["46050","MJVXYTY","Sperreng Middle","Kitchen Office","Lenovo ThinkCentre M92z 3311 (Core i5-3470T, 4GB, 500GB HDD)",null,"Available","Desktop",{"$nulls":4},"M92z","Lenovo",null,null,"UnKnown",{"$nulls":9},"3311B1U",{"$nulls":3},"01/15/2019 09:52 AM","Ted Meyer"]
["39123",null,"Sperreng Middle","011","Anchor - 30-Watt Powered Speaker",null,"Available","Speaker","2009-08-11","167.45","10-34113","Long's Electronics","AN-130","Anchor",null,null,"2013/2014",null,"27870-6541",{"$nulls":11},"01/15/2019 09:53 AM","Ted Meyer"]
["49660","MP144N8B","Sperreng Middle","*Staff/Teacher Devices","Lenovo ThinkPad Yoga 260 (Core i5-6300U, 8GB, 256GB)",null,"Available","Laptop","2017-03-27","1,234.90","17-39996","ITsavvy","Yoga 260","Lenovo","Elizabeth Keutzer","e4a4715932ab","2021/2022",null,"27870-6541",{"$nulls":3},"400-2331-6543-824-000-000",{"$nulls":3},"20FD002DUS",null,null,"Office","01/15/2019 08:38 AM","Ted Meyer"]
["41979","MJ37H3K","Central Office","**Surplus","Lenovo ThinkCentre M92p 2121 Tiny (Core i5-3470, 4GB, 500GB HDD)",null,"Available","Desktop","2013-08-01","625.00","14-15662","TwoTrees","M92P","Lenovo",null,"00232450a981",null,null,"27870-6541",{"$nulls":7},"2121D5U",null,null,"Office","01/15/2019 09:02 AM","Ted Meyer"]
["43214","DMPJ9DHQDJ8T","Central Office","**Surplus","Apple iPad 16GB WIFI (3rd Gen)",null,"Available","iPad","2012-11-15","499.00","13-11912","Apple","MC705LL/A","Apple",null,"d8004dde3694","2016/2017",null,"27870-6541",{"$nulls":7},"A1416",null,null,"Library","01/15/2019 10:07 AM","Ted Meyer"]
["43780","DMQJ88GDDJ8T","Central Office","**Surplus","Apple iPad 16GB WIFI (3rd Gen)",null,"Available","iPad","2012-08-22","479.00","13-10778","Apple","MC705LL/A","Apple","Lib-04","98fe94cf4513","2016/2017",null,"27870-6541",{"$nulls":7},"A1416",null,null,"Library","01/15/2019 09:04 AM","Ted Meyer"]
["43010","DMQHMHYJDJ8T","Central Office","**Surplus","Apple iPad 16GB WIFI (3rd Gen)",null,"Available","iPad","2012-05-07","479.00","12-40102","Apple","MD339LL/A","Apple","KELIB-08","64200c4a7271","2016/2017",null,"31213-6541",{"$nulls":7},"A1416",null,null,"Library","01/15/2019 09:04 AM","Ted Meyer"]
["43016","DMPHN4A7DJ8T","Central Office","**Surplus","Apple iPad 16GB WIFI (3rd Gen)",null,"Available","iPad","2012-05-07","479.00","12-40102","Apple","MD339LL/A","Apple","KELIB-09","64200c680a90","2016/2017",null,"31213-6541",{"$nulls":7},"A1416",null,null,"Library","01/15/2019 09:04 AM","Ted Meyer"]
["43023","DMPHN6FSDJ8T","Central Office","**Surplus","Apple iPad 16GB WIFI (3rd Gen)",null,"Available","iPad","2012-05-07","479.00","12-40102","Apple","MD339LL/A","Apple","KELIB","64200c545964","2016/2017",null,"31213-6541",{"$nulls":7},"A1416",null,null,"Library","01/15/2019 09:04 AM","Ted Meyer"]
["43027","DMQHMPQLDJ8T","Central Office","**Surplus","Apple iPad 16GB WIFI (3rd Gen)",null,"Available","iPad","2012-05-07","479.00","12-40102","Apple","MD339LL/A","Apple","KELIB-07","64200c74d382","2016/2017",null,"31213-6541",{"$nulls":7},"A1416",null,null,"Library","01/15/2019 09:04 AM","Ted Meyer"]
["43215","DMPJ97CCDJ8T","Central Office","**Surplus","Apple iPad 16GB WIFI (3rd Gen)",null,"Available","iPad","2012-11-15","499.00","13-11912","Apple","MC705LL/A","Apple",null,"d8004ddaa925","2016/2017",null,"27870-6541",{"$nulls":7},"A1416",null,null,"Library","01/15/2019 09:04 AM","Ted Meyer"]
["43217","DMPJ9C4HDJ8T","Central Office","**Surplus","Apple iPad 16GB WIFI (3rd Gen)",null,"Available","iPad","2012-11-15","499.00","13-11912","Apple","MC705LL/A","Apple",null,"d8004dde5615","2016/2017",null,"27870-6541",{"$nulls":7},"A1416",null,null,"Library","01/15/2019 09:04 AM","Ted Meyer"]
["47539","F9GQQJTRFCM8","Central Office","**Surplus","Apple iPad mini 2 White with Silver",null,"Available","iPad","2016-01-26",{"$nulls":3},"iPad Mini 2","Apple",null,"80d6054be799","2020/2021",{"$nulls":9},"A1489",null,null,"Library","01/15/2019 09:04 AM","Ted Meyer"]
["47541","F9HQNAZYFCM8","Central Office","**Surplus","Apple iPad mini 2 White with Silver",null,"Available","iPad","2016-01-26",{"$nulls":3},"iPad Mini 2","Apple","Library","80d60526743d","2020/2021",{"$nulls":9},"A1489",null,null,"Library","01/15/2019 09:04 AM","Ted Meyer"]
["47542","F9FQLS9CFCM8","Central Office","**Surplus","Apple iPad mini 2 White with Silver",null,"Available","iPad","2016-01-26",{"$nulls":3},"iPad Mini 2","Apple",null,"fcfc487fd49f","2020/2021",{"$nulls":9},"A1489",null,null,"Library","01/15/2019 09:04 AM","Ted Meyer"]
["47543","F9FQLN58FCM8","Central Office","**Surplus","Apple iPad mini 2",null,"Available","iPad","2016-01-28",{"$nulls":3},"iPad Mini 2","Apple",null,"80d6051b80c1","2020/2021",{"$nulls":9},"A1489",null,null,"Library","01/15/2019 09:04 AM","Ted Meyer"]
["43788","DMPJ9DKTDJ8T","Central Office","**Surplus","Apple iPad 16GB WIFI (3rd Gen)",null,"Available","iPad","2012-08-22","479.00","13-10778","Apple","MC705LL/A","Apple","KEFacebook","d8004dddc43c","2016/2017",null,"27870-6541",{"$nulls":7},"A1416",null,null,"Library","01/15/2019 09:04 AM","Ted Meyer"]
["49162","F9FRM6TYFCM6","Central Office","**Surplus","Apple iPad Mini 16GB WIFI (2nd Gen)",null,"Available","iPad","2016-05-12","379.00","16-34594","Apple","PE277LL/A","Apple","CCC1B-06","1c9e46842f19","2020/2021",null,"11392-6411",null,null,"Grant","110-1111-11411-417-000-009",{"$nulls":3},"A1489",null,null,"1st Grade","01/15/2019 08:38 AM","Ted Meyer"]
["49163","F9FRM99UFCM6","Central Office","**Surplus","Apple iPad Mini 16GB WIFI (2nd Gen)",null,"Available","iPad","2016-05-12","379.00","16-34594","Apple","PE277LL/A","Apple","CCC1B-07","1c9e46848b0b","2020/2021",null,"11392-6411",null,null,"Grant","110-1111-11411-417-000-009",{"$nulls":3},"A1489",null,null,"1st Grade","01/15/2019 08:38 AM","Ted Meyer"]
["49164","F9FRM6ZJFCM6","Central Office","**Surplus","Apple iPad Mini 16GB WIFI (2nd Gen)",null,"Available","iPad","2016-05-12","379.00","16-34594","Apple","PE277LL/A","Apple","CCC1B-08","1c9e4683a7c5","2020/2021",null,"11392-6411",null,null,"Grant","110-1111-11411-417-000-009",{"$nulls":3},"A1489",null,null,"1st Grade","01/15/2019 08:38 AM","Ted Meyer"]
["44828","MJ01L45P","Central Office","**Surplus","Lenovo ThinkCentre M73 10AY Tiny",null,"Available","Desktop","2014-10-03","990.00","15-19870","TwoTrees Technology","M73 Tiny","Lenovo","Nancy Rathjen",{"$nulls":3},"27870-6411",{"$nulls":4},"2023-07-11",null,null,"10AY0002US",null,null,"Technology","01/15/2019 10:39 AM","Ted Meyer"]
["50947","P202D9DW","Kennerly Elementary","Library Chromebook Cart","Lenovo 500e Chromebook (Gen 1)",null,"Available","Chromebook","2018-06-19","287.00","19-54624","Firefly Computers","500e","Lenovo","HSACAD-CB-030","7c2a311c4c47","2022/2023",null,"100-1151-6412-1050-07360-1-000",{"$nulls":3},"CHROMEBOOK MANAGEMENT CONSOLE @$23.49\nFIREFLY CHROMEBOOK SUPPORT FOR LENOVO\nLANSCHOOL PERPETUAL PER DEVICE LICENSE WITH 1 YR OF SNS",{"$nulls":3},"81ES0007US","Issued for Virtual Learning - COVID-19",null,"Academy","01/15/2019 09:21 AM","Ted Meyer"]
["50977","P202CXWJ","Kennerly Elementary","Library Chromebook Cart","Lenovo 500e Chromebook (Gen 1)",null,"Available","Chromebook","2018-06-19","287.00","19-54624","Firefly Computers","500e","Lenovo","HSACAD-CB-060","7470fda2498c","2022/2023",null,"100-1151-6412-1050-07360-1-000",{"$nulls":3},"CHROMEBOOK MANAGEMENT CONSOLE @$23.49\nFIREFLY CHROMEBOOK SUPPORT FOR LENOVO\nLANSCHOOL PERPETUAL PER DEVICE LICENSE WITH 1 YR OF SNS",{"$nulls":3},"81ES0007US","Issued for Virtual Learning - COVID-19",null,"Academy","01/15/2019 09:22 AM","Ted Meyer"]
["50741","P202DFAX","Kennerly Elementary","Library Chromebook Cart","Lenovo 500e Chromebook (Gen 1)",null,"Available","Chromebook","2018-06-19","287.00","19-54624","Firefly Computers","500e","Lenovo","HSMATH1-CB-20","7c2a311bd339","2022/2023",null,"100-1151-6412-1050-07360-1-000",{"$nulls":3},"CHROMEBOOK MANAGEMENT CONSOLE @$23.49\nFIREFLY CHROMEBOOK SUPPORT FOR LENOVO\nLANSCHOOL PERPETUAL PER DEVICE LICENSE WITH 1 YR OF SNS",{"$nulls":3},"81ES0007US",null,null,"Math","01/15/2019 09:21 AM","Ted Meyer"]
["50594","P202CYUA","Kennerly Elementary","Library Chromebook Cart","Lenovo 500e Chromebook (Gen 1)",null,"Available","Chromebook","2018-06-19","287.00","19-54624","Firefly Computers","500e","Lenovo","TR224-CB-03","7470fda22664","2022/2023",null,"100-1151-6412-3080-07360-1-000",{"$nulls":3},"CHROMEBOOK MANAGEMENT CONSOLE @$23.49\nFIREFLY CHROMEBOOK SUPPORT FOR LENOVO\nLANSCHOOL PERPETUAL PER DEVICE LICENSE WITH 1 YR OF SNS",{"$nulls":3},"81ES0007US","CBRedistribute",null,"Math","01/15/2019 10:00 AM","Ted Meyer"]
["50724","P202D90K","Kennerly Elementary","Library Chromebook Cart","Lenovo 500e Chromebook (Gen 1)",null,"Available","Chromebook","2018-06-19","287.00","19-54624","Firefly Computers","500e","Lenovo","HSMATH1-CB-03","7c2a311bdeec","2022/2023",null,"100-1151-6412-1050-07360-1-000",{"$nulls":3},"CHROMEBOOK MANAGEMENT CONSOLE @$23.49\nFIREFLY CHROMEBOOK SUPPORT FOR LENOVO\nLANSCHOOL PERPETUAL PER DEVICE LICENSE WITH 1 YR OF SNS",{"$nulls":3},"81ES0007US","Issued for Virtual Learning - COVID-19",null,"Math","01/15/2019 09:21 AM","Ted Meyer"]
["50726","P202D94X","Kennerly Elementary","Library Chromebook Cart","Lenovo 500e Chromebook (Gen 1)",null,"Available","Chromebook","2018-06-19","287.00","19-54624","Firefly Computers","500e","Lenovo","HSMATH1-CB-05","7c2a311b6c9b","2022/2023",null,"100-1151-6412-1050-07360-1-000",{"$nulls":3},"CHROMEBOOK MANAGEMENT CONSOLE @$23.49\nFIREFLY CHROMEBOOK SUPPORT FOR LENOVO\nLANSCHOOL PERPETUAL PER DEVICE LICENSE WITH 1 YR OF SNS",{"$nulls":3},"81ES0007US","Issued for Virtual Learning - COVID-19",null,"Math","01/15/2019 09:21 AM","Ted Meyer"]
["53141","P202E82T","Kennerly Elementary","Library Chromebook Cart","Lenovo 500e Chromebook (Gen 1)",null,"Available","Chromebook","2018-06-19","287.00","19-54624","Firefly Computers","500e","Lenovo","SPML2-CB-02","7c7635b1211e","2022/2023",null,"100-1151-6412-3070-07360-1-000",{"$nulls":3},"CHROMEBOOK MANAGEMENT CONSOLE @$23.49\nFIREFLY CHROMEBOOK SUPPORT FOR LENOVO\nLANSCHOOL PERPETUAL PER DEVICE LICENSE WITH 1 YR OF SNS",{"$nulls":3},"81ES0007US","Issued for Virtual Learning - COVID-19",null,"Modern Language","01/15/2019 09:53 AM","Ted Meyer"]
["53221","P202CY3W","Kennerly Elementary","Library Chromebook Cart","Lenovo 500e Chromebook (Gen 1)",null,"Available","Chromebook","2018-06-19","287.00","19-54624","Firefly Computers","500e","Lenovo","SPML4-CB-26","7470fda22af1","2022/2023",null,"100-1151-6412-3070-07360-1-000",{"$nulls":3},"CHROMEBOOK MANAGEMENT CONSOLE @$23.49\nFIREFLY CHROMEBOOK SUPPORT FOR LENOVO\nLANSCHOOL PERPETUAL PER DEVICE LICENSE WITH 1 YR OF SNS",{"$nulls":3},"81ES0007US","Issued for Virtual Learning - COVID-19",null,"Modern Language","01/15/2019 09:53 AM","Ted Meyer"]
["54101","P2034TYK","Kennerly Elementary","Library Chromebook Cart","Lenovo 500e Chromebook (Gen 1)",null,"Available","Chromebook","2018-10-04","310.49","19-55702","Firefly Computers","500e","Lenovo","DR-LIBLAB1-23","38baf83cd601","2022/2023",null,"TE PD",{"$nulls":7},"81ES0007US","CBRedistribute",null,"Library","01/15/2019 08:40 AM","Ted Meyer"]
["54086","P2034UCM","Kennerly Elementary","Library Chromebook Cart","Lenovo 500e Chromebook (Gen 1)",null,"Available","Chromebook","2018-10-04","310.49","19-55702","Firefly Computers","500e","Lenovo","DR-LIBLAB1-08","38baf85ccce0","2022/2023",null,"TE PD",{"$nulls":7},"81ES0007US","CBRedistribute",null,"Library","01/15/2019 08:40 AM","Ted Meyer"]
["54329","P2034U8B","Kennerly Elementary","Library Chromebook Cart","Lenovo 500e Chromebook (Gen 1)",null,"Available","Chromebook","2018-10-04","310.49","19-55702","Firefly Computers","500e","Lenovo","SP-LIBLAB1-04","38baf85d84e6","2022/2023",null,"TE PD",{"$nulls":7},"81ES0007US","Issued for Virtual Learning - COVID-19",null,"Library","01/15/2019 09:53 AM","Ted Meyer"]
["54159","P2034TWD","Kennerly Elementary","Library Chromebook Cart","Lenovo 500e Chromebook (Gen 1)",null,"Available","Chromebook","2018-10-04","310.49","19-55702","Firefly Computers","500e","Lenovo","TR-LIBLAB1-21","38baf85d19a2","2022/2023",null,"TE PD",{"$nulls":7},"81ES0007US","CBRedistribute",null,"Library","01/15/2019 10:00 AM","Ted Meyer"]
["47711","P2034H2U","Kennerly Elementary","Library Chromebook Cart","Lenovo 500e Chromebook (Gen 1)",null,"Available","Chromebook","2018-10-04","310.49","19-55702","Firefly Computers","500e","Lenovo","TR-LIBLAB1-10","38baf85c8a0f","2022/2023",null,"TE PD",{"$nulls":7},"81ES0007US","CBRedistribute",null,"Library","01/15/2019 10:00 AM","Ted Meyer"]
["54001","P2034TUU","Kennerly Elementary","Library Chromebook Cart","Lenovo 500e Chromebook (Gen 1)",null,"Available","Chromebook","2018-10-04","310.49","19-55702","Firefly Computers","500e","Lenovo","SA-LIBLAB1-01","38baf85d1c7c","2022/2023",null,"TE PD",{"$nulls":7},"81ES0007US","Issued for Virtual Learning - COVID-19",null,"Library","01/15/2019 09:46 AM","Ted Meyer"]
["50763","P202DVCU","Kennerly Elementary","Library Chromebook Cart","Lenovo 500e Chromebook (Gen 1)",null,"Available","Chromebook","2018-06-19","287.00","19-54624","Firefly Computers","500e","Lenovo","HSSCML3-CB-14","7470fd430be3","2022/2023",null,"100-1151-6412-1050-07360-1-000",{"$nulls":3},"CHROMEBOOK MANAGEMENT CONSOLE @$23.49\nFIREFLY CHROMEBOOK SUPPORT FOR LENOVO\nLANSCHOOL PERPETUAL PER DEVICE LICENSE WITH 1 YR OF SNS",{"$nulls":3},"81ES0007US","Issued for Virtual Learning - COVID-19",null,"Science","01/15/2019 09:21 AM","Ted Meyer"]
["50782","P202E86D","Kennerly Elementary","Library Chromebook Cart","Lenovo 500e Chromebook (Gen 1)",null,"Available","Chromebook","2018-06-19","287.00","19-54624","Firefly Computers","500e","Lenovo","HSENGML3-CB-05","7c7635fc40fe","2022/2023",null,"100-1151-6412-1050-07360-1-000",{"$nulls":3},"CHROMEBOOK MANAGEMENT CONSOLE @$23.49\nFIREFLY CHROMEBOOK SUPPORT FOR LENOVO\nLANSCHOOL PERPETUAL PER DEVICE LICENSE WITH 1 YR OF SNS",{"$nulls":3},"81ES0007US","Issued for Virtual Learning - COVID-19",null,"English","01/15/2019 09:21 AM","Ted Meyer"]
["54702","P2033UAE","Long Elementary","Library Chromebook Cart","Lenovo 500e Chromebook (Gen 1)",null,"Available","Chromebook","2019-01-10","314.49","19-57076","Firefly Computers","500e","Lenovo","SPML9-26","38baf85d3275","2023/2024",null,"SP PD PTO Reimburse",null,null,"Grant",{"$nulls":4},"81ES0007US","CBRedistribute",null,null,"01/15/2019 09:53 AM","Ted Meyer"]
["53911","P2034FNG","Long Elementary","Library Chromebook Cart","Lenovo 500e Chromebook (Gen 1)",null,"Available","Chromebook","2018-12-10","314.49","19-56764","Firefly Computers","500e","Lenovo","LOML2-19","00bb606069a4","2022/2023",null,"LO PD",null,null,"Grant","PTG to reimburse LO",{"$nulls":3},"81ES0007US","CBRedistribute",null,"4th Grade","01/15/2019 09:35 AM","Ted Meyer"]
["53919","P2034FMZ","Long Elementary","Library Chromebook Cart","Lenovo 500e Chromebook (Gen 1)",null,"Available","Chromebook","2018-12-10","314.49","19-56764","Firefly Computers","500e","Lenovo","LOML3-20","00bb605f2d6e","2022/2023",null,"LO PD",null,null,"Grant","PTG to reimburse LO",{"$nulls":3},"81ES0007US","CBRedistribute",null,"4th Grade","01/15/2019 09:35 AM","Ted Meyer"]
["54376","P2033TGD","Long Elementary","Library Chromebook Cart","Lenovo 500e Chromebook (Gen 1)",null,"Available","Chromebook","2018-11-20","314.49","19-56517","Firefly Computers","500e","Lenovo","SA047-01","38baf85e093e","2022/2023",null,"SA Soda (SA PTG will reimburse)",null,null,"Grant",{"$nulls":4},"81ES0007US","CBRedistribute",null,"4th Grade","01/15/2019 09:46 AM","Ted Meyer"]
["54110","P2034G3Y","Long Elementary","Library Chromebook Cart","Lenovo 500e Chromebook (Gen 1)",null,"Available","Chromebook","2018-10-04","310.49","19-55702","Firefly Computers","500e","Lenovo","CR-LIBLAB1-06","38baf85d16aa","2022/2023",null,"TE PD",{"$nulls":7},"81ES0007US","Issued for Virtual Learning - COVID-19",null,"Library","01/15/2019 08:35 AM","Ted Meyer"]
["54124","P2034TGJ","Long Elementary","Library Chromebook Cart","Lenovo 500e Chromebook (Gen 1)",null,"Available","Chromebook","2018-10-04","310.49","19-55702","Firefly Computers","500e","Lenovo","CR-LIBLAB1-20","38baf85e9705","2022/2023",null,"TE PD",{"$nulls":7},"81ES0007US","Issued for Virtual Learning - COVID-19",null,"Library","01/15/2019 08:35 AM","Ted Meyer"]
["54078","P2034TXX","Long Elementary","Library Chromebook Cart","Lenovo 500e Chromebook (Gen 1)",null,"Available","Chromebook","2018-10-04","310.49","19-55702","Firefly Computers","500e","Lenovo","KE-LIBLAB1-26","38baf83cd5fc","2022/2023",null,"TE PD",{"$nulls":7},"81ES0007US","CBRedistribute",null,"Library","01/15/2019 09:04 AM","Ted Meyer"]
["50648","P202D93Q","Long Elementary","Library Chromebook Cart","Lenovo 500e Chromebook (Gen 1)",null,"Available","Chromebook","2018-06-19","287.00","19-54624","Firefly Computers","500e","Lenovo","TRML3-CB-09","7c2a311cdb6c","2022/2023",null,"100-1151-6412-3080-07360-1-000",{"$nulls":3},"CHROMEBOOK MANAGEMENT CONSOLE @$23.49FIREFLY CHROMEBOOK SUPPORT FOR LENOVOLANSCHOOL PERPETUAL PER DEVICE LICENSE WITH 1 YR OF SNS",{"$nulls":3},"81ES0007US","CBRedistribute",null,"Modern Language","01/15/2019 10:00 AM","Ted Meyer"]
["50878","P202D9GJ","Long Elementary","Library Chromebook Cart","Lenovo 500e Chromebook (Gen 1)",null,"Available","Chromebook","2018-06-19","287.00","19-54624","Firefly Computers","500e","Lenovo","HSSCML2-CB-017","7c2a311a5a54","2022/2023",null,"100-1151-6412-1050-07360-1-000",{"$nulls":3},"CHROMEBOOK MANAGEMENT CONSOLE @$23.49\nFIREFLY CHROMEBOOK SUPPORT FOR LENOVO\nLANSCHOOL PERPETUAL PER DEVICE LICENSE WITH 1 YR OF SNS",{"$nulls":3},"81ES0007US","CBRedistribute",null,"Science","01/15/2019 09:21 AM","Ted Meyer"]
["50747","P202DF3S","Long Elementary","Library Chromebook Cart","Lenovo 500e Chromebook (Gen 1)",null,"Available","Chromebook","2018-06-19","287.00","19-54624","Firefly Computers","500e","Lenovo","HSMATH1-CB-26","7c2a311c08cc","2022/2023",null,"100-1151-6412-1050-07360-1-000",{"$nulls":3},"CHROMEBOOK MANAGEMENT CONSOLE @$23.49\nFIREFLY CHROMEBOOK SUPPORT FOR LENOVO\nLANSCHOOL PERPETUAL PER DEVICE LICENSE WITH 1 YR OF SNS",{"$nulls":3},"81ES0007US","Issued for Virtual Learning - COVID-19",null,"Math","01/15/2019 09:21 AM","Ted Meyer"]
["50539","P202CYWR","Long Elementary","Library Chromebook Cart","Lenovo 500e Chromebook (Gen 1)",null,"Available","Chromebook","2018-06-19","287.00","19-54624","Firefly Computers","500e","Lenovo","TR21-CB-03","38deaddfab65","2022/2023",null,"100-1151-6412-3080-07360-1-000",{"$nulls":3},"CHROMEBOOK MANAGEMENT CONSOLE @$23.49\nFIREFLY CHROMEBOOK SUPPORT FOR LENOVO\nLANSCHOOL PERPETUAL PER DEVICE LICENSE WITH 1 YR OF SNS",{"$nulls":3},"81ES0007US","CBRedistribute",null,"Math","01/15/2019 10:00 AM","Ted Meyer"]
["50694","P202CZ1D","Kennerly Elementary","Cafeteria Classroom","Lenovo 500e Chromebook (Gen 1)",null,"Available","Chromebook","2018-06-19","287.00","19-54624","Firefly Computers","500e","Lenovo","TRML1-CB-01","7470fda2aa30","2022/2023",null,"100-1151-6412-3080-07360-1-000",{"$nulls":3},"CHROMEBOOK MANAGEMENT CONSOLE @$23.49FIREFLY CHROMEBOOK SUPPORT FOR LENOVOLANSCHOOL PERPETUAL PER DEVICE LICENSE WITH 1 YR OF SNS",{"$nulls":3},"81ES0007US","CBRedistribute",null,null,"01/15/2019 10:00 AM","Ted Meyer"]
["49132","SG66GPR2BP","Kennerly Elementary","Data - 013","HP 5406R Switch",null,"Available","Switch","2016-07-01","3,090.00","17-36029","WJR TECHNOLOGIES","JL003A","HP",{"$nulls":4},"39038-65421",null,null,"E-Rate",{"$nulls":8},"01/15/2019 09:04 AM","Ted Meyer"]
["54005","P2034TXV","Truman Middle","Library Chromebook Cart","Lenovo 500e Chromebook (Gen 1)",null,"Available","Chromebook","2018-10-04","310.49","19-55702","Firefly Computers","500e","Lenovo","TR-DL-02","38baf83ad36f","2022/2023",null,"TE PD",{"$nulls":7},"81ES0007US","RedistributionCB - TMS Library",null,"DESIGN LAB","01/15/2019 09:46 AM","Ted Meyer"]
["50963","P202D9RG","Truman Middle","Library Chromebook Cart","Lenovo 500e Chromebook (Gen 1)",null,"Available","Chromebook","2018-06-19","287.00","19-54624","Firefly Computers","500e","Lenovo","TR-DL-26","7c2a311ae69f","2022/2023",null,"100-1151-6412-1050-07360-1-000",{"$nulls":3},"CHROMEBOOK MANAGEMENT CONSOLE @$23.49FIREFLY CHROMEBOOK SUPPORT FOR LENOVOLANSCHOOL PERPETUAL PER DEVICE LICENSE WITH 1 YR OF SNS",{"$nulls":3},"81ES0007US","CBRedistribute - Library",null,"DESIGN LAB","01/15/2019 09:22 AM","Ted Meyer"]
["50862","P202D9AX","Truman Middle","Library Chromebook Cart","Lenovo 500e Chromebook (Gen 1)",null,"Available","Chromebook","2018-06-19","287.00","19-54624","Firefly Computers","500e","Lenovo","TR-DL-21","7c2a311bd9f1","2022/2023",null,"100-1151-6412-1050-07360-1-000",{"$nulls":3},"CHROMEBOOK MANAGEMENT CONSOLE @$23.49FIREFLY CHROMEBOOK SUPPORT FOR LENOVOLANSCHOOL PERPETUAL PER DEVICE LICENSE WITH 1 YR OF SNS",{"$nulls":3},"81ES0007US","RedistributionCB - TMS Library",null,"DESIGN LAB","01/15/2019 09:21 AM","Ted Meyer"]
["50909","P202DFC3","Truman Middle","Library Chromebook Cart","Lenovo 500e Chromebook (Gen 1)",null,"Available","Chromebook","2018-06-19","287.00","19-54624","Firefly Computers","500e","Lenovo","TR-DL-15","7c2a311a121f","2022/2023",null,"100-1151-6412-1050-07360-1-000",{"$nulls":3},"CHROMEBOOK MANAGEMENT CONSOLE @$23.49FIREFLY CHROMEBOOK SUPPORT FOR LENOVOLANSCHOOL PERPETUAL PER DEVICE LICENSE WITH 1 YR OF SNS",{"$nulls":3},"81ES0007US","RedistributionCB - TMS Library",null,"DESIGN LAB","01/15/2019 09:21 AM","Ted Meyer"]
["50644","P202D9F2","Truman Middle","Library Chromebook Cart","Lenovo 500e Chromebook (Gen 1)",null,"Available","Chromebook","2018-06-19","287.00","19-54624","Firefly Computers","500e","Lenovo","TR-DL-23","7c2a311c45bc","2022/2023",null,"100-1151-6412-3080-07360-1-000",{"$nulls":3},"CHROMEBOOK MANAGEMENT CONSOLE @$23.49FIREFLY CHROMEBOOK SUPPORT FOR LENOVOLANSCHOOL PERPETUAL PER DEVICE LICENSE WITH 1 YR OF SNS",{"$nulls":3},"81ES0007US","CBRedistribute - Library",null,"DESIGN LAB","01/15/2019 10:00 AM","Ted Meyer"]
["50555","P202D00E","Truman Middle","Library Chromebook Cart","Lenovo 500e Chromebook (Gen 1)",null,"Available","Chromebook","2018-06-19","287.00","19-54624","Firefly Computers","500e","Lenovo","TR-DL-05","7470fda38392","2022/2023",null,"100-1151-6412-3080-07360-1-000",{"$nulls":3},"CHROMEBOOK MANAGEMENT CONSOLE @$23.49FIREFLY CHROMEBOOK SUPPORT FOR LENOVOLANSCHOOL PERPETUAL PER DEVICE LICENSE WITH 1 YR OF SNS",{"$nulls":3},"81ES0007US","CBRedistribute - Library",null,"DESIGN LAB","01/15/2019 10:00 AM","Ted Meyer"]
["50601","P202D966","Truman Middle","Library Chromebook Cart","Lenovo 500e Chromebook (Gen 1)",null,"Available","Chromebook","2018-06-19","287.00","19-54624","Firefly Computers","500e","Lenovo","TR-DL-32","7c2a311aaf27","2022/2023",null,"100-1151-6412-3080-07360-1-000",{"$nulls":3},"CHROMEBOOK MANAGEMENT CONSOLE @$23.49FIREFLY CHROMEBOOK SUPPORT FOR LENOVOLANSCHOOL PERPETUAL PER DEVICE LICENSE WITH 1 YR OF SNS",{"$nulls":3},"81ES0007US","CBRedistribute - Library",null,"DESIGN LAB","01/15/2019 10:00 AM","Ted Meyer"]
["50592","P202D94R","Truman Middle","Library Chromebook Cart","Lenovo 500e Chromebook (Gen 1)",null,"Available","Chromebook","2018-06-19","287.00","19-54624","Firefly Computers","500e","Lenovo","TR-DL-14","7c2a311d421e","2022/2023",null,"100-1151-6412-3080-07360-1-000",{"$nulls":3},"CHROMEBOOK MANAGEMENT CONSOLE @$23.49FIREFLY CHROMEBOOK SUPPORT FOR LENOVOLANSCHOOL PERPETUAL PER DEVICE LICENSE WITH 1 YR OF SNS",{"$nulls":3},"81ES0007US","CBRedistribute - Library",null,"DESIGN LAB","01/15/2019 10:00 AM","Ted Meyer"]
["53167","P202DEZY","Truman Middle","Library Chromebook Cart","Lenovo 500e Chromebook (Gen 1)",null,"Available","Chromebook","2018-06-19","287.00","19-54624","Firefly Computers","500e","Lenovo","TR-DL-28","7c2a311a66c0","2022/2023",null,"100-1151-6412-3070-07360-1-000",{"$nulls":3},"CHROMEBOOK MANAGEMENT CONSOLE @$23.49FIREFLY CHROMEBOOK SUPPORT FOR LENOVOLANSCHOOL PERPETUAL PER DEVICE LICENSE WITH 1 YR OF SNS",{"$nulls":3},"81ES0007US","CBRedistribute - Library",null,"DESIGN LAB","01/15/2019 09:53 AM","Ted Meyer"]
["53210","P202D9R8","Truman Middle","Library Chromebook Cart","Lenovo 500e Chromebook (Gen 1)",null,"Available","Chromebook","2018-06-19","287.00","19-54624","Firefly Computers","500e","Lenovo","TR-DL-22","7c2a311ad88f","2022/2023",null,"100-1151-6412-3070-07360-1-000",{"$nulls":3},"CHROMEBOOK MANAGEMENT CONSOLE @$23.49FIREFLY CHROMEBOOK SUPPORT FOR LENOVOLANSCHOOL PERPETUAL PER DEVICE LICENSE WITH 1 YR OF SNS",{"$nulls":3},"81ES0007US","RedistributionCB - TMS Library",null,"DESIGN LAB","01/15/2019 09:53 AM","Ted Meyer"]
["54079","P2034TPV","Truman Middle","Library Chromebook Cart","Lenovo 500e Chromebook (Gen 1)",null,"Available","Chromebook","2018-10-04","310.49","19-55702","Firefly Computers","500e","Lenovo","TR-DL-36","38baf860ea41","2022/2023",null,"TE PD",{"$nulls":7},"81ES0007US","CBRedistribute - Library",null,"DESIGN LAB","01/15/2019 08:40 AM","Ted Meyer"]
["54148","P2034FXJ","Truman Middle","Library Chromebook Cart","Lenovo 500e Chromebook (Gen 1)",null,"Available","Chromebook","2018-10-04","310.49","19-55702","Firefly Computers","500e","Lenovo","TR-DL-35","00bb6060d1af","2022/2023",null,"TE PD",{"$nulls":7},"81ES0007US","CBRedistribute - Library",null,"DESIGN LAB","01/15/2019 08:38 AM","Ted Meyer"]
["50773","P202E4QQ","Truman Middle","Library Chromebook Cart","Lenovo 500e Chromebook (Gen 1)",null,"Available","Chromebook","2018-06-19","287.00","19-54624","Firefly Computers","500e","Lenovo","TR-DL-01","7c7635a08034","2022/2023",null,"100-1151-6412-1050-07360-1-000",{"$nulls":3},"CHROMEBOOK MANAGEMENT CONSOLE @$23.49FIREFLY CHROMEBOOK SUPPORT FOR LENOVOLANSCHOOL PERPETUAL PER DEVICE LICENSE WITH 1 YR OF SNS",{"$nulls":3},"81ES0007US","RedistributionCB - TMS Library",null,"DESIGN LAB","01/15/2019 09:21 AM","Ted Meyer"]
["50737","P202DF6P","Truman Middle","Library Chromebook Cart","Lenovo 500e Chromebook (Gen 1)",null,"Available","Chromebook","2018-06-19","287.00","19-54624","Firefly Computers","500e","Lenovo","TR-DL-20","7c2a311abb43","2022/2023",null,"100-1151-6412-1050-07360-1-000",{"$nulls":3},"CHROMEBOOK MANAGEMENT CONSOLE @$23.49FIREFLY CHROMEBOOK SUPPORT FOR LENOVOLANSCHOOL PERPETUAL PER DEVICE LICENSE WITH 1 YR OF SNS",{"$nulls":3},"81ES0007US","CBRedistribute - Library",null,"DESIGN LAB","01/15/2019 09:21 AM","Ted Meyer"]
["50744","P202CZWA","Truman Middle","Library Chromebook Cart","Lenovo 500e Chromebook (Gen 1)",null,"Available","Chromebook","2018-06-19","287.00","19-54624","Firefly Computers","500e","Lenovo","TR-DL-03","7470fda41fc3","2022/2023",null,"100-1151-6412-1050-07360-1-000",{"$nulls":3},"CHROMEBOOK MANAGEMENT CONSOLE @$23.49FIREFLY CHROMEBOOK SUPPORT FOR LENOVOLANSCHOOL PERPETUAL PER DEVICE LICENSE WITH 1 YR OF SNS",{"$nulls":3},"81ES0007US","RedistributionCB - TMS Library",null,"DESIGN LAB","01/15/2019 09:21 AM","Ted Meyer"]
["50745","P202DFDE","Truman Middle","Library Chromebook Cart","Lenovo 500e Chromebook (Gen 1)",null,"Available","Chromebook","2018-06-19","287.00","19-54624","Firefly Computers","500e","Lenovo","TR-DL-24","7c2a311a04e6","2022/2023",null,"100-1151-6412-1050-07360-1-000",{"$nulls":3},"CHROMEBOOK MANAGEMENT CONSOLE @$23.49FIREFLY CHROMEBOOK SUPPORT FOR LENOVOLANSCHOOL PERPETUAL PER DEVICE LICENSE WITH 1 YR OF SNS",{"$nulls":3},"81ES0007US","RedistributionCB - TMS Library",null,"DESIGN LAB","01/15/2019 09:21 AM","Ted Meyer"]
["50722","P202D9BW","Truman Middle","Library Chromebook Cart","Lenovo 500e Chromebook (Gen 1)",null,"Available","Chromebook","2018-06-19","287.00","19-54624","Firefly Computers","500e","Lenovo","TR-DL-33","7c2a311ae726","2022/2023",null,"100-1151-6412-1050-07360-1-000",{"$nulls":3},"CHROMEBOOK MANAGEMENT CONSOLE @$23.49FIREFLY CHROMEBOOK SUPPORT FOR LENOVOLANSCHOOL PERPETUAL PER DEVICE LICENSE WITH 1 YR OF SNS",{"$nulls":3},"81ES0007US","CBRedistribute - Library",null,"DESIGN LAB","01/15/2019 09:21 AM","Ted Meyer"]
["50723","P202D95J","Truman Middle","Library Chromebook Cart","Lenovo 500e Chromebook (Gen 1)",null,"Available","Chromebook","2018-06-19","287.00","19-54624","Firefly Computers","500e","Lenovo","TR-DL-10","7c2a311ce634","2022/2023",null,"100-1151-6412-1050-07360-1-000",{"$nulls":3},"CHROMEBOOK MANAGEMENT CONSOLE @$23.49FIREFLY CHROMEBOOK SUPPORT FOR LENOVOLANSCHOOL PERPETUAL PER DEVICE LICENSE WITH 1 YR OF SNS",{"$nulls":3},"81ES0007US","RedistributionCB - TMS Library",null,"DESIGN LAB","01/15/2019 09:21 AM","Ted Meyer"]
["50828","P202CXV6","Truman Middle","Library Chromebook Cart","Lenovo 500e Chromebook (Gen 1)",null,"Available","Chromebook","2018-06-19","287.00","19-54624","Firefly Computers","500e","Lenovo","TR-DL-12","7470fda2495f","2022/2023",null,"100-1151-6412-1050-07360-1-000",{"$nulls":3},"CHROMEBOOK MANAGEMENT CONSOLE @$23.49FIREFLY CHROMEBOOK SUPPORT FOR LENOVOLANSCHOOL PERPETUAL PER DEVICE LICENSE WITH 1 YR OF SNS",{"$nulls":3},"81ES0007US","RedistributionCB - TMS Library",null,"DESIGN LAB","01/15/2019 09:21 AM","Ted Meyer"]
["50850","P202CY5T","Truman Middle","Library Chromebook Cart","Lenovo 500e Chromebook (Gen 1)",null,"Available","Chromebook","2018-06-19","287.00","19-54624","Firefly Computers","500e","Lenovo","TR-DL-08","7470fda2a04e","2022/2023",null,"100-1151-6412-1050-07360-1-000",{"$nulls":3},"CHROMEBOOK MANAGEMENT CONSOLE @$23.49FIREFLY CHROMEBOOK SUPPORT FOR LENOVOLANSCHOOL PERPETUAL PER DEVICE LICENSE WITH 1 YR OF SNS",{"$nulls":3},"81ES0007US","CBRedistribute - Library",null,"DESIGN LAB","01/15/2019 09:21 AM","Ted Meyer"]
["54114","P2034UWE","Truman Middle","Library Chromebook Cart","Lenovo 500e Chromebook (Gen 1)",null,"Available","Chromebook","2018-10-04","310.49","19-55702","Firefly Computers","500e","Lenovo","TR-DL-11","38baf8512c64","2022/2023",null,"TE PD",{"$nulls":7},"81ES0007US","RedistributionCB - TMS Library",null,"DESIGN LAB","01/15/2019 08:35 AM","Ted Meyer"]
["52794","J5NPCV05560VZM","Truman Middle","TR-Lib-VRT (Cart)","Google Expeditions ASUS Tablet, Model: P028(Z301M), Model# Z301M-A2-GR",null,"Available","Tablet","2018-07-10","8,159.99","19-54596","Best Buy","P028 (Z301m)","Google","Megan Vallis","0c9d922f414f","2022/2023",null,"100.1131.6412.3080.08013.1.000",null,null,"Grant","This item was purchased as a 30 student kit with the Emerson Gold Star Grant. Inventoried by Ted.",{"$nulls":6},"Library","01/15/2019 10:00 AM","Ted Meyer"]
["53005","U200A41814821969","Truman Middle","TR-Lib-VRT (Cart)","Google Expeditions Phone",null,"Available","VR","2018-07-10","8,159.99","19-54596","Best Buy","TEL-TE-VR-U2","Google","Megan Vallis","3095e31f255b","2022/2023",null,"100.1131.6412.3080.08013.1.000",null,null,"Grant ","This item was purchased as a 30 student kit with the Emerson Gold Star Grant.",{"$nulls":6},"Library","01/15/2019 10:00 AM","Ted Meyer"]
["53006","U200A11814836870","Truman Middle","TR-Lib-VRT (Cart)","Google Expeditions Phone",null,"Available","VR","2018-07-10","8,159.99","19-54596","Best Buy","TEL-TE-VR-U2","Google","Megan Vallis","3095e31f2384","2022/2023",null,"100.1131.6412.3080.08013.1.000",null,null,"Grant ","This item was purchased as a 30 student kit with the Emerson Gold Star Grant.",{"$nulls":6},"Library","01/15/2019 10:00 AM","Ted Meyer"]
["53007","U200A41814821939","Truman Middle","TR-Lib-VRT (Cart)","Google Expeditions Phone",null,"Available","VR","2018-07-10","8,159.99","19-54596","Best Buy","TEL-TE-VR-U2","Google","Megan Vallis","3095e31f25ff","2022/2023",null,"100.1131.6412.3080.08013.1.000",null,null,"Grant ","This item was purchased as a 30 student kit with the Emerson Gold Star Grant.",{"$nulls":6},"Library","01/15/2019 10:00 AM","Ted Meyer"]
["53008","U200A41814836779","Truman Middle","TR-Lib-VRT (Cart)","Google Expeditions Phone",null,"Available","VR","2018-07-10","8,159.99","19-54596","Best Buy","TEL-TE-VR-U2","Google","Megan Vallis","3095e31f2601","2022/2023",null,"100.1131.6412.3080.08013.1.000",null,null,"Grant ","This item was purchased as a 30 student kit with the Emerson Gold Star Grant.",{"$nulls":6},"Library","01/15/2019 10:00 AM","Ted Meyer"]
["53009","U200A41814822314","Truman Middle","TR-Lib-VRT (Cart)","Google Expeditions Phone",null,"Available","VR","2018-07-10","8,159.99","19-54596","Best Buy","TEL-TE-VR-U2","Google","Megan Vallis","3095e31f23f0","2022/2023",null,"100.1131.6412.3080.08013.1.000",null,null,"Grant ","This item was purchased as a 30 student kit with the Emerson Gold Star Grant.",{"$nulls":6},"Library","01/15/2019 10:00 AM","Ted Meyer"]
["53010","U200A41814836845","Truman Middle","TR-Lib-VRT (Cart)","Google Expeditions Phone",null,"Available","VR","2018-07-10","8,159.99","19-54596","Best Buy","TEL-TE-VR-U2","Google","Megan Vallis","3095e31f23db","2022/2023",null,"100.1131.6412.3080.08013.1.000",null,null,"Grant ","This item was purchased as a 30 student kit with the Emerson Gold Star Grant.",{"$nulls":6},"Library","01/15/2019 10:00 AM","Ted Meyer"]
["53011","U200A41814836706","Truman Middle","TR-Lib-VRT (Cart)","Google Expeditions Phone",null,"Available","VR","2018-07-10","8,159.99","19-54596","Best Buy","TEL-TE-VR-U2","Google","Megan Vallis","3095e31f2383","2022/2023",null,"100.1131.6412.3080.08013.1.000",null,null,"Grant ","This item was purchased as a 30 student kit with the Emerson Gold Star Grant.",{"$nulls":6},"Library","01/15/2019 10:00 AM","Ted Meyer"]
["53012","U200A41814822105","Truman Middle","TR-Lib-VRT (Cart)","Google Expeditions Phone",null,"Available","VR","2018-07-10","8,159.99","19-54596","Best Buy","TEL-TE-VR-U2","Google","Megan Vallis","3095e31f2523","2022/2023",null,"100.1131.6412.3080.08013.1.000",null,null,"Grant ","This item was purchased as a 30 student kit with the Emerson Gold Star Grant.",{"$nulls":6},"Library","01/15/2019 10:00 AM","Ted Meyer"]
["53013","U200A41814822155","Truman Middle","TR-Lib-VRT (Cart)","Google Expeditions Phone",null,"Available","VR","2018-07-10","8,159.99","19-54596","Best Buy","TEL-TE-VR-U2","Google","Megan Vallis","3095e31f2515","2022/2023",null,"100.1131.6412.3080.08013.1.000",null,null,"Grant ","This item was purchased as a 30 student kit with the Emerson Gold Star Grant.",{"$nulls":6},"Library","01/15/2019 10:00 AM","Ted Meyer"]
["53015","U200A41814822200","Truman Middle","TR-Lib-VRT (Cart)","Google Expeditions Phone",null,"Available","VR","2018-07-10","8,159.99","19-54596","Best Buy","TEL-TE-VR-U2","Google","Megan Vallis","3095e31f25b3","2022/2023",null,"100.1131.6412.3080.08013.1.000",null,null,"Grant ","This item was purchased as a 30 student kit with the Emerson Gold Star Grant.",{"$nulls":6},"Library","01/15/2019 10:00 AM","Ted Meyer"]
["53014","U200A41814836977","Truman Middle","TR-Lib-VRT (Cart)","Google Expeditions Phone",null,"Available","VR","2018-07-10","8,159.99","19-54596","Best Buy","TEL-TE-VR-U2","Google","Megan Vallis","3095e31f23c0","2022/2023",null,"100.1131.6412.3080.08013.1.000",null,null,"Grant ","This item was purchased as a 30 student kit with the Emerson Gold Star Grant.",{"$nulls":6},"Library","01/15/2019 10:00 AM","Ted Meyer"]
["53016","U200A41814821971","Truman Middle","TR-Lib-VRT (Cart)","Google Expeditions Phone",null,"Available","VR","2018-07-10","8,159.99","19-54596","Best Buy","TEL-TE-VR-U2","Google","Megan Vallis","3095e31f239e","2022/2023",null,"100.1131.6412.3080.08013.1.000",null,null,"Grant ","This item was purchased as a 30 student kit with the Emerson Gold Star Grant.",{"$nulls":6},"Library","01/15/2019 10:00 AM","Ted Meyer"]
["53017","U200A41814836980","Truman Middle","TR-Lib-VRT (Cart)","Google Expeditions Phone",null,"Available","VR","2018-07-10","8,159.99","19-54596","Best Buy","TEL-TE-VR-U2","Google","Megan Vallis","3095e31f25a7","2022/2023",null,"100.1131.6412.3080.08013.1.000",null,null,"Grant ","This item was purchased as a 30 student kit with the Emerson Gold Star Grant.",{"$nulls":6},"Library","01/15/2019 10:00 AM","Ted Meyer"]
["53018","U200A41814822219","Truman Middle","TR-Lib-VRT (Cart)","Google Expeditions Phone",null,"Available","VR","2018-07-10","8,159.99","19-54596","Best Buy","TEL-TE-VR-U2","Google","Megan Vallis","3095e31f23e0","2022/2023",null,"100.1131.6412.3080.08013.1.000",null,null,"Grant ","This item was purchased as a 30 student kit with the Emerson Gold Star Grant.",{"$nulls":6},"Library","01/15/2019 10:00 AM","Ted Meyer"]
["53019","U200A41814822315","Truman Middle","TR-Lib-VRT (Cart)","Google Expeditions Phone",null,"Available","VR","2018-07-10","8,159.99","19-54596","Best Buy","TEL-TE-VR-U2","Google","Megan Vallis","3095e31f236f","2022/2023",null,"100.1131.6412.3080.08013.1.000",null,null,"Grant ","This item was purchased as a 30 student kit with the Emerson Gold Star Grant.",{"$nulls":6},"Library","01/15/2019 10:00 AM","Ted Meyer"]
["53020","U200A41814822571","Truman Middle","TR-Lib-VRT (Cart)","Google Expeditions Phone",null,"Available","VR","2018-07-10","8,159.99","19-54596","Best Buy","TEL-TE-VR-U2","Google","Megan Vallis","3095e31f2458","2022/2023",null,"100.1131.6412.3080.08013.1.000",null,null,"Grant ","This item was purchased as a 30 student kit with the Emerson Gold Star Grant.",{"$nulls":6},"Library","01/15/2019 10:00 AM","Ted Meyer"]
["53021","U200A41814836920","Truman Middle","TR-Lib-VRT (Cart)","Google Expeditions Phone",null,"Available","VR","2018-07-10","8,159.99","19-54596","Best Buy","TEL-TE-VR-U2","Google","Megan Vallis","3095e31f23da","2022/2023",null,"100.1131.6412.3080.08013.1.000",null,null,"Grant ","This item was purchased as a 30 student kit with the Emerson Gold Star Grant.",{"$nulls":6},"Library","01/15/2019 10:00 AM","Ted Meyer"]
["53024","U200A41814822377","Truman Middle","TR-Lib-VRT (Cart)","Google Expeditions Phone",null,"Available","VR","2018-07-10","8,159.99","19-54596","Best Buy","TEL-TE-VR-U2","Google","Megan Vallis","3095e31f227b","2022/2023",null,"100.1131.6412.3080.08013.1.000",null,null,"Grant ","This item was purchased as a 30 student kit with the Emerson Gold Star Grant.",{"$nulls":6},"Library","01/15/2019 10:00 AM","Ted Meyer"]
["53025","U200A41813820010","Truman Middle","TR-Lib-VRT (Cart)","Google Expeditions Phone",null,"Available","VR","2018-07-10","8,159.99","19-54596","Best Buy","TEL-TE-VR-U2","Google","Megan Vallis","3095e31c0d1a","2022/2023",null,"100.1131.6412.3080.08013.1.000",null,null,"Grant ","This item was purchased as a 30 student kit with the Emerson Gold Star Grant.",{"$nulls":6},"Library","01/15/2019 10:00 AM","Ted Meyer"]
["53022","U200A41814822365","Truman Middle","TR-Lib-VRT (Cart)","Google Expeditions Phone",null,"Available","VR","2018-07-10","8,159.99","19-54596","Best Buy","TEL-TE-VR-U2","Google","Megan Vallis","3095e31f23d8","2022/2023",null,"100.1131.6412.3080.08013.1.000",null,null,"Grant ","This item was purchased as a 30 student kit with the Emerson Gold Star Grant.",{"$nulls":6},"Library","01/15/2019 10:00 AM","Ted Meyer"]
["53023","U200A41814836976","Truman Middle","TR-Lib-VRT (Cart)","Google Expeditions Phone",null,"Available","VR","2018-07-10","8,159.99","19-54596","Best Buy","TEL-TE-VR-U2","Google","Megan Vallis","3095e31f25b1","2022/2023",null,"100.1131.6412.3080.08013.1.000",null,null,"Grant ","This item was purchased as a 30 student kit with the Emerson Gold Star Grant.",{"$nulls":6},"Library","01/15/2019 10:00 AM","Ted Meyer"]
["53026","U200A41813820862","Truman Middle","TR-Lib-VRT (Cart)","Google Expeditions Phone",null,"Available","VR","2018-07-10","8,159.99","19-54596","Best Buy","TEL-TE-VR-U2","Google","Megan Vallis","3095e31c1625","2022/2023",null,"100.1131.6412.3080.08013.1.000",null,null,"Grant ","This item was purchased as a 30 student kit with the Emerson Gold Star Grant.",{"$nulls":6},"Library","01/15/2019 10:00 AM","Ted Meyer"]
["53027","U200A41813820849","Truman Middle","TR-Lib-VRT (Cart)","Google Expeditions Phone",null,"Available","VR","2018-07-10","8,159.99","19-54596","Best Buy","TEL-TE-VR-U2","Google","Megan Vallis","3095e31c0c2a","2022/2023",null,"100.1131.6412.3080.08013.1.000",null,null,"Grant ","This item was purchased as a 30 student kit with the Emerson Gold Star Grant.",{"$nulls":6},"Library","01/15/2019 10:00 AM","Ted Meyer"]
["53028","U200A41813819768","Truman Middle","TR-Lib-VRT (Cart)","Google Expeditions Phone",null,"Available","VR","2018-07-10","8,159.99","19-54596","Best Buy","TEL-TE-VR-U2","Google","Megan Vallis","3095e31c16d1","2022/2023",null,"100.1131.6412.3080.08013.1.000",null,null,"Grant ","This item was purchased as a 30 student kit with the Emerson Gold Star Grant.",{"$nulls":6},"Library","01/15/2019 10:00 AM","Ted Meyer"]
["53029","U200A41813820192","Truman Middle","TR-Lib-VRT (Cart)","Google Expeditions Phone",null,"Available","VR","2018-07-10","8,159.99","19-54596","Best Buy","TEL-TE-VR-U2","Google","Megan Vallis","3095e31c161c","2022/2023",null,"100.1131.6412.3080.08013.1.000",null,null,"Grant ","This item was purchased as a 30 student kit with the Emerson Gold Star Grant.",{"$nulls":6},"Library","01/15/2019 10:00 AM","Ted Meyer"]
["53030","U200A41813819540","Truman Middle","TR-Lib-VRT (Cart)","Google Expeditions Phone",null,"Available","VR","2018-07-10","8,159.99","19-54596","Best Buy","TEL-TE-VR-U2","Google","Megan Vallis","3095e31c1431","2022/2023",null,"100.1131.6412.3080.08013.1.000",null,null,"Grant ","This item was purchased as a 30 student kit with the Emerson Gold Star Grant.",{"$nulls":6},"Library","01/15/2019 10:00 AM","Ted Meyer"]
["53031","U200A41813820293","Truman Middle","TR-Lib-VRT (Cart)","Google Expeditions Phone",null,"Available","VR","2018-07-10","8,159.99","19-54596","Best Buy","TEL-TE-VR-U2","Google","Megan Vallis","3095e31c1650","2022/2023",null,"100.1131.6412.3080.08013.1.000",null,null,"Grant ","This item was purchased as a 30 student kit with the Emerson Gold Star Grant.",{"$nulls":6},"Library","01/15/2019 10:00 AM","Ted Meyer"]
["53032","U200A41813820089","Truman Middle","TR-Lib-VRT (Cart)","Google Expeditions Phone",null,"Available","VR","2018-07-10","8,159.99","19-54596","Best Buy","TEL-TE-VR-U2","Google","Megan Vallis","3095e31c163c","2022/2023",null,"100.1131.6412.3080.08013.1.000",null,null,"Grant ","This item was purchased as a 30 student kit with the Emerson Gold Star Grant.",{"$nulls":6},"Library","01/15/2019 10:00 AM","Ted Meyer"]
["53034","U200A41813820288","Truman Middle","TR-Lib-VRT (Cart)","Google Expeditions Phone",null,"Available","VR","2018-07-10","8,159.99","19-54596","Best Buy","TEL-TE-VR-U2","Google","Megan Vallis","3095e31c0c35","2022/2023",null,"100.1131.6412.3080.08013.1.000",null,null,"Grant ","This item was purchased as a 30 student kit with the Emerson Gold Star Grant.",{"$nulls":6},"Library","01/15/2019 10:00 AM","Ted Meyer"]
["53033","U200A41813820253","Truman Middle","TR-Lib-VRT (Cart)","Google Expeditions Phone",null,"Available","VR","2018-07-10","8,159.99","19-54596","Best Buy","TEL-TE-VR-U2","Google","Megan Vallis","3095e31c0c41","2022/2023",null,"100.1131.6412.3080.08013.1.000",null,null,"Grant ","This item was purchased as a 30 student kit with the Emerson Gold Star Grant.",{"$nulls":6},"Library","01/15/2019 10:00 AM","Ted Meyer"]
["50967","P202CXYD","Long Elementary","Library Chromebook Cart","Lenovo 500e Chromebook (Gen 1)",null,"Available","Chromebook","2018-06-19","287.00","19-54624","Firefly Computers","500e","Lenovo","HSACAD-CB-050","7470fda28fcd","2022/2023",null,"100-1151-6412-1050-07360-1-000",{"$nulls":3},"CHROMEBOOK MANAGEMENT CONSOLE @$23.49\nFIREFLY CHROMEBOOK SUPPORT FOR LENOVO\nLANSCHOOL PERPETUAL PER DEVICE LICENSE WITH 1 YR OF SNS",{"$nulls":3},"81ES0007US",null,null,"Academy","01/15/2019 09:22 AM","Ted Meyer"]
["50792","P202E82V","Long Elementary","Library Chromebook Cart","Lenovo 500e Chromebook (Gen 1)",null,"Available","Chromebook","2018-06-19","287.00","19-54624","Firefly Computers","500e","Lenovo","HSENGML3-CB-15","7c7635b11bc4","2022/2023",null,"100-1151-6412-1050-07360-1-000",{"$nulls":3},"CHROMEBOOK MANAGEMENT CONSOLE @$23.49\nFIREFLY CHROMEBOOK SUPPORT FOR LENOVO\nLANSCHOOL PERPETUAL PER DEVICE LICENSE WITH 1 YR OF SNS",{"$nulls":3},"81ES0007US","Issued for Virtual Learning - COVID-19",null,"English","01/15/2019 09:21 AM","Ted Meyer"]
["48074","1S3695QEUMJ51W69","LHS 2022","108A","Lenovo ThinkStation E31",null,"Available","Desktop","2013-07-13","1,015.00","14-15477","Two Trees","E31","Lenovo",null,null,"2017/2018",null,"27870-6541",{"$nulls":7},"3695QEU",null,null,"Industrial Technology","01/15/2019 09:21 AM","Ted Meyer"]
["48081","1S3695QEUMJ961FG","LHS 2022","108A","Lenovo ThinkStation E31",null,"Available","Desktop","2013-07-13","1,015.00","14-15477","Two Trees","E31","Lenovo",null,null,"2017/2018",null,"27870-6541",{"$nulls":7},"3695QEU",null,null,"Industrial Technology","01/15/2019 09:21 AM","Ted Meyer"]
["49524","752TSVV969","LHS 2022","111","Motorola CP200D UHF Digital 16 Channel Two-Way Radio",null,"Available","Two-Way Radio","2017-03-06","365.00","17-39627","TBS Electronics","CP200D","Motorola","Jessica Franklin",{"$nulls":3},"26445-6411",null,null,"Building Budget","3 Year Warranty",{"$nulls":6},"Nurse Office","01/15/2019 09:21 AM","Ted Meyer"]
["38977","V6 - E3539","LHS 2022","111","Lenovo ThinkVision 22\" LCD Monitor",null,"Available","Monitor","2009-08-25","182.00","10-34231","Lenovo","L2240P","Lenovo",{"$nulls":4},"27870-6541",{"$nulls":10},"Nurse Office","01/15/2019 09:21 AM","Ted Meyer"]
["38978","V6 - E3888","LHS 2022","111","Lenovo ThinkVision 22\" LCD Monitor",null,"Available","Monitor","2009-08-25","182.00","10-34231","Lenovo","L2240P","Lenovo",{"$nulls":4},"27870-6541",{"$nulls":10},"Nurse Office","01/15/2019 09:21 AM","Ted Meyer"]
["45776","PB5ZN2W","LHS 2022","106A","Lenovo ThinkPad USB 3.0 Dock",null,"Available","Dock","2013-05-10","135.00","14-15032","TWOTREES","DU9019D1","Lenovo",null,"843a4b0edbdc",{"$nulls":14},"01/15/2019 09:21 AM","Ted Meyer"]
["39738","K1322000454","LHS 2022","106B","Lenovo ThinkPad USB 3.0 Dock",null,"Available","Dock","2013-07-15","135.00","14-15330","TWO TREES","DU9019D1","Lenovo","Lashonna Harden",{"$nulls":14},"Guidance","01/15/2019 09:21 AM","Ted Meyer"]
["39896","V6-K0696","LHS 2022","106B","Lenovo ThinkVision 19\" Monitor",null,"Available","Monitor","2010-05-28","153.00","10-35547","Lenovo","L1951P","Lenovo",{"$nulls":4},"23886-6411",{"$nulls":10},"Guidance","01/15/2019 09:21 AM","Ted Meyer"]
["46056","V5611228","LHS 2022","106B","Lenovo Thinkvision 21.5\" LED Monitor",null,"Available","Monitor","2015-03-26","148.27","15-22101","ITsavvy","E2223S","Lenovo","Tricia Hays",{"$nulls":3},"23886-6411",{"$nulls":3},"Lenovo displayport cable 32.18",{"$nulls":6},"Guidance","01/15/2019 09:21 AM","Ted Meyer"]
["46058","V5611223","LHS 2022","106C","Lenovo Thinkvision 21.5\" LED Monitor",null,"Available","Monitor","2015-03-26","148.27","15-22101","ITsavvy","E2223S","Lenovo","Kate Keegan",{"$nulls":3},"23886-6411",{"$nulls":3},"Lenovo displayport cable 32.18",{"$nulls":6},"Guidance","01/15/2019 09:21 AM","Ted Meyer"]
["49899","SV5K00727","LHS 2022","111C","Lenovo ThinkVision T2224d 22\" LED Monitor",null,"Available","Monitor","2017-08-07","124.71","18-50819","ITsavvy","T2224d","Lenovo","Jason Wolfard",{"$nulls":3},"27870-6411",{"$nulls":10},"Computer Science","01/15/2019 09:21 AM","Ted Meyer"]
["53692","DMQX51BWJF8J","LHS 2022","129B","Apple iPad 32GB WIFI (6th Gen)",null,"Available","iPad","2018-08-21","299.00","19-54494","Apple","MR7F2LL/A","Apple","Laura Swearingen","241b7a0ae72f","2022/2023",null,"TE PD",{"$nulls":7},"A1893",null,null,"Music","01/15/2019 09:22 AM","Ted Meyer"]
["53693","DMQX51BJJF8J","LHS 2022","129B","Apple iPad 32GB WIFI (6th Gen)",null,"Available","iPad","2018-08-21","299.00","19-54494","Apple","MR7F2LL/A","Apple","Laura Swearingen","241b7a1acfb4","2022/2023",null,"TE PD",{"$nulls":7},"A1893",null,null,"Music","01/15/2019 09:22 AM","Ted Meyer"]
["53694","DMQX51BPJF8J","LHS 2022","129B","Apple iPad 32GB WIFI (6th Gen)",null,"Available","iPad","2018-08-21","299.00","19-54494","Apple","MR7F2LL/A","Apple","Laura Swearingen","241b7a156a9c","2022/2023",null,"TE PD",{"$nulls":7},"A1893",null,null,"Music","01/15/2019 09:22 AM","Ted Meyer"]
["53695","DMPX5MGQJF8J","LHS 2022","129B","Apple iPad 32GB WIFI (6th Gen)",null,"Available","iPad","2018-08-21","299.00","19-54494","Apple","MR7F2LL/A","Apple","Laura Swearingen","241b7a1a6721","2022/2023",null,"TE PD",{"$nulls":7},"A1893",null,null,"Music","01/15/2019 09:22 AM","Ted Meyer"]
["53696","DMQX517XJF8J","LHS 2022","129B","Apple iPad 32GB WIFI (6th Gen)",null,"Available","iPad","2018-08-21","299.00","19-54494","Apple","MR7F2LL/A","Apple","Laura Swearingen","241b7a16251e","2022/2023",null,"TE PD",{"$nulls":7},"A1893",null,null,"Music","01/15/2019 09:22 AM","Ted Meyer"]
["53697","DMQX519NJF8J","LHS 2022","129B","Apple iPad 32GB WIFI (6th Gen)",null,"Available","iPad","2018-08-21","299.00","19-54494","Apple","MR7F2LL/A","Apple","Laura Swearingen","241b7a1b2749","2022/2023",null,"TE PD",{"$nulls":7},"A1893",null,null,"Music","01/15/2019 09:22 AM","Ted Meyer"]
["45695","PB5ZH3C","LHS 2022","105F","Lenovo ThinkPad USB 3.0 Dock",null,"Available","Dock","2013-05-10","135.00","14-15032","TWOTREES","DU9019D1","Lenovo",null,"843a4b0edbdc",{"$nulls":13},"Business","01/15/2019 09:21 AM","Ted Meyer"]
["49511","752TSYG443","LHS 2022","105B","Motorola CP200D UHF Digital 16 Channel Two-Way Radio",null,"Available","Two-Way Radio","2017-03-06","365.00","17-39627","TBS Electronics","CP200D","Motorola","PAM MASON",{"$nulls":3},"26445-6411",null,null,"Building Budget","3 Year Warranty",{"$nulls":6},"Administration","01/15/2019 09:21 AM","Ted Meyer"]
["40406","V6-X4416","LHS 2022","105C","Lenovo ThinkVision 22\" LCD Monitor",null,"Available","Monitor","2010-09-22","171.00","11-36080","Lenovo","L2250p","Lenovo",{"$nulls":4},"23886-6411",{"$nulls":10},"Guidance","01/15/2019 09:21 AM","Ted Meyer"]
["45762","PB5ZH2F","LHS 2022","105C","Lenovo ThinkPad USB 3.0 Dock",null,"Available","Dock","2013-05-10","135.00","14-15032","TWOTREES","DU9019D1","Lenovo",null,"843a4b0edbdc",{"$nulls":14},"01/15/2019 09:21 AM","Ted Meyer"]
["49897","SV5K00719","LHS 2022","103","Lenovo ThinkVision T2224d 22\" LED Monitor",null,"Available","Monitor","2017-08-07","124.71","18-50819","ITsavvy","T2224d","Lenovo","Angie Altgilber",{"$nulls":3},"27870-6411",{"$nulls":10},"Guidance","01/15/2019 09:21 AM","Ted Meyer"]
["39895","V6-K0701","LHS 2022","103A","Lenovo ThinkVision 19\" Monitor",null,"Available","Monitor","2010-05-28","153.00","10-35547","Lenovo","L1951P","Lenovo",{"$nulls":4},"23886-6411",{"$nulls":10},"Guidance","01/15/2019 09:21 AM","Ted Meyer"]
["29432",null,"Sperreng Middle","Data - Nurse's Office","Gateway Flatscreen Monitor",null,"Available","Monitor","2002-06-11",null,"18147","GATEWAY BUSINESS",null,"Gateway","Nurses' Wiring Closet",null,"2006/2007",null,"27870-6541",{"$nulls":4},"2017-01-12","broken",{"$nulls":4},"Technology","01/15/2019 09:53 AM","Ted Meyer"]
["37659",null,"Sperreng Middle","Data - Nurse's Office","Gateway 17\" wide screen monitor",null,"Available","Monitor","2007-05-18","900.00","07-29165","GATEWAY","FPD1775W","Gateway","Nurses' Wiring Closet",null,"2011/2012",null,"27870-6541",{"$nulls":10},"Technology","01/15/2019 09:53 AM","Ted Meyer"]
["43356","R9P6XDT","Sperreng Middle","Data - Nurse's Office","Lenovo ThinkPad x220 Tablet Laptop",null,"Available","Laptop",{"$nulls":4},"X220","Lenovo","SP_TSM",null,"UnKnown",{"$nulls":9},"42963MU",null,null,"Technology","01/15/2019 09:52 AM","Ted Meyer"]
["43455","R9LNHVY","Sperreng Middle","Data - Nurse's Office","Lenovo ThinkPad x220 Tablet Laptop",null,"Available","Laptop","2012-05-21","1,550.00","12-40270","Two Trees","X220","Lenovo","SP_TSM2","100ba97b5b18","2016/2017",null,"27870-6541",{"$nulls":7},"42963MU",null,null,"Technology","01/15/2019 09:52 AM","Ted Meyer"]
["50022","SMJ04T0SC","Sperreng Middle","Data - Nurse's Office","Lenovo ThinkCentre M700 10HY Tiny Desktop (Core i3-6100T, 8GB, 128GB)",null,"Available","Desktop","2016-12-07","409.56","17-38678","ITsavvy","M700","Lenovo",null,null,"2020/2021",null,"27873-6541",{"$nulls":3},"400-1151-6543-824-003-000",{"$nulls":3},"10HY0021US",null,null,"Technology","01/15/2019 09:21 AM","Ted Meyer"]
["49458","SMJ04T0U3","Sperreng Middle","Data - Nurse's Office","Lenovo ThinkCentre M700 10HY Tiny Desktop (Core i3-6100T, 8GB, 128GB)",null,"Available","Desktop","2016-12-07","409.56","17-38678","ITsavvy","M700","Lenovo",null,null,"2020/2021",null,"27873-6541",{"$nulls":3},"400-1151-6543-824-003-000",{"$nulls":3},"10HY0021US",null,null,"Technology","01/15/2019 09:21 AM","Ted Meyer"]
["49441","SMJ04T0SG","Sperreng Middle","Data - Nurse's Office","Lenovo ThinkCentre M700 10HY Tiny Desktop (Core i3-6100T, 8GB, 128GB)",null,"Available","Desktop","2016-12-07","409.56","17-38678","ITsavvy","M700","Lenovo",null,null,"2020/2021",null,"27873-6541",{"$nulls":3},"400-1151-6543-824-003-000",{"$nulls":3},"10HY0021US",null,null,"Technology","01/15/2019 09:21 AM","Ted Meyer"]
["49442","SMJ04T0TY","Sperreng Middle","Data - Nurse's Office","Lenovo ThinkCentre M700 10HY Tiny Desktop (Core i3-6100T, 8GB, 128GB)",null,"Available","Desktop","2016-12-07","409.56","17-38678","ITsavvy","M700","Lenovo",null,null,"2020/2021",null,"27873-6541",{"$nulls":3},"400-1151-6543-824-003-000",{"$nulls":3},"10HY0021US",null,null,"Technology","01/15/2019 09:21 AM","Ted Meyer"]
["35682","MJ046YVZ","Sperreng Middle","Data - Nurse's Office","Lenovo ThinkCentre M700 10HY Tiny Desktop (Core i3-6100T, 8GB, 128GB)",null,"Available","Desktop","2016-07-25","430.05","17-36702","ITsavvy","M700","Lenovo",null,null,"2020/2021",null,"27870-6541",{"$nulls":3},"400-2331-6543-824-000-000",{"$nulls":3},"10HY0021US",null,null,"Technology","01/15/2019 09:21 AM","Ted Meyer"]
["49453","SMJ04T0S8","Sperreng Middle","Data - Nurse's Office","Lenovo ThinkCentre M700 10HY Tiny Desktop (Core i3-6100T, 8GB, 128GB)",null,"Available","Desktop","2016-12-07","409.56","17-38678","ITsavvy","M700","Lenovo",null,null,"2020/2021",null,"27873-6541",{"$nulls":3},"400-1151-6543-824-003-000",{"$nulls":3},"10HY0021US",null,null,"Technology","01/15/2019 09:21 AM","Ted Meyer"]
["48198","PB3BYVB","Sperreng Middle","Data - Nurse's Office","Lenovo ThinkPad USB 3.0 Dock",null,"Available","Dock","2013-08-08","136.00","14-15751","TwoTrees","DU9019D1","Lenovo","Surplus",{"$nulls":3},"27870-6411",{"$nulls":4},"2020-07-29",{"$nulls":5},"TECHNOLOGY STG","01/15/2019 09:52 AM","Ted Meyer"]
["45848","PB1BWG9","Sperreng Middle","Data - Nurse's Office","Lenovo ThinkPad USB 3.0 Dock",null,"Available","Dock","2013-05-10","135.00","14-15032","TWOTREES","DU9019D1","Lenovo","Surplus","843a4b0edbdc",{"$nulls":7},"2020-07-29",{"$nulls":5},"TECHNOLOGY STG","01/15/2019 09:52 AM","Ted Meyer"]
["45850","PB1BWG6","Sperreng Middle","Data - Nurse's Office","Lenovo ThinkPad USB 3.0 Dock",null,"Available","Dock","2013-05-10","135.00","14-15032","TWOTREES","DU9019D1","Lenovo","Surplus","843a4b0edbdc",{"$nulls":7},"2020-07-29",{"$nulls":5},"TECHNOLOGY STG","01/15/2019 09:52 AM","Ted Meyer"]
["45844","PB1BWG3","Sperreng Middle","Data - Nurse's Office","Lenovo ThinkPad USB 3.0 Dock",null,"Available","Dock","2013-05-10","135.00","14-15032","TWOTREES","DU9019D1","Lenovo","Surplus","843a4b0edbdc",{"$nulls":7},"2020-07-29",{"$nulls":5},"TECHNOLOGY STG","01/15/2019 09:52 AM","Ted Meyer"]
["45837","PB1BWG4","Sperreng Middle","Data - Nurse's Office","Lenovo ThinkPad USB 3.0 Dock",null,"Available","Dock","2013-05-10","135.00","14-15032","TWOTREES","DU9019D1","Lenovo","Surplus","843a4b0edbdc",{"$nulls":13},"TECHNOLOGY STG","01/15/2019 09:52 AM","Ted Meyer"]
["49117","IN64G4F0LM","Sperreng Middle","Data - 217A","HP 5400R Power Supply",null,"Available","Power Supply","2016-07-05","535.00","17-36029","WJR Technologies","J9829A","HP",null,null,"2020/2021",null,"39038-65421",null,null,"E-Rate",{"$nulls":8},"01/15/2019 09:53 AM","Ted Meyer"]
["49116","IN64G4F0JW","Sperreng Middle","Data - 217A","HP 5400R Power Supply",null,"Available","Power Supply","2016-07-05","535.00","17-36029","WJR Technologies","J9829A","HP",null,null,"2020/2021",null,"39038-65421",null,null,"E-Rate",{"$nulls":8},"01/15/2019 09:53 AM","Ted Meyer"]
["49142","SG66GPR271","Sperreng Middle","Data - 217A","HP 5406R Switch",null,"Available","Switch","2016-07-01","3,090.00","17-36029","WJR TECHNOLOGIES","JL003A","HP",null,null,"2020/2021",null,"39038-65421",null,null,"E-Rate",{"$nulls":8},"01/15/2019 09:53 AM","Ted Meyer"]
["49140","SG66GPR26Y","Sperreng Middle","Data - 054","HP 5406R Switch",null,"Available","Switch","2016-07-01","3,090.00","17-36029","WJR TECHNOLOGIES","JL003A","HP",null,null,"2020/2021",null,"39038-65421",null,null,"E-Rate",{"$nulls":8},"01/15/2019 09:53 AM","Ted Meyer"]
["49114","IN64G4F09W","Sperreng Middle","Data - 054","HP 5400R Power Supply",null,"Available","Power Supply","2016-07-05","535.00","17-36029","WJR Technologies","J9829A","HP",null,null,"2020/2021",null,"39038-65421",null,null,"E-Rate",{"$nulls":8},"01/15/2019 09:53 AM","Ted Meyer"]
["49115","IN64G4F0K7","Sperreng Middle","Data - 054","HP 5400R Power Supply",null,"Available","Power Supply","2016-07-05","535.00","17-36029","WJR Technologies","J9829A","HP",null,null,"2020/2021",null,"39038-65421",null,null,"E-Rate",{"$nulls":8},"01/15/2019 09:53 AM","Ted Meyer"]
["49141","SG66GPR278","Sperreng Middle","Data - 011","HP 5406R Switch",null,"Available","Switch","2016-07-01","3,090.00","17-36029","WJR TECHNOLOGIES","JL003A","HP",null,null,"2020/2021",null,"39038-65421",null,null,"E-Rate ",{"$nulls":8},"01/15/2019 09:53 AM","Ted Meyer"]
["49112","IN64G4F0XY","Sperreng Middle","Data - 011","HP 5400R Power Supply",null,"Available","Power Supply","2016-07-05","535.00","17-36029","WJR Technologies","J9829A","HP",null,null,"2020/2021",null,"39038-65421",null,null,"E-Rate ",{"$nulls":8},"01/15/2019 09:53 AM","Ted Meyer"]
["49113","IN64G4F0V8","Sperreng Middle","Data - 011","HP 5400R Power Supply",null,"Available","Power Supply","2016-07-05","535.00","17-36029","WJR Technologies","J9829A","HP",null,null,"2020/2021",null,"39038-65421",null,null,"E-Rate ",{"$nulls":7},"Technology","01/15/2019 09:53 AM","Ted Meyer"]
["50549","P202DF4D","Crestwood Elementary","Library Chromebook Cart","Lenovo 500e Chromebook (Gen 1)",null,"Available","Chromebook","2018-06-19","287.00","19-54624","Firefly Computers","500e","Lenovo",null,"7c2a311c7f6e","2022/2023",null,"100-1151-6412-3080-07360-1-000",{"$nulls":3},"CHROMEBOOK MANAGEMENT CONSOLE @$23.49FIREFLY CHROMEBOOK SUPPORT FOR LENOVOLANSCHOOL PERPETUAL PER DEVICE LICENSE WITH 1 YR OF SNS",{"$nulls":3},"81ES0007US","CBRedistribute",null,null,"01/15/2019 10:00 AM","Ted Meyer"]
["53923","P2034FBX","Crestwood Elementary","Library Chromebook Cart","Lenovo 500e Chromebook (Gen 1)",null,"Available","Chromebook","2018-12-10","314.49","19-56764","Firefly Computers","500e","Lenovo","LOML3-24","00bb6060da5b","2022/2023",null,"LO PD",null,null,"Grant ","PTG to reimburse LO",{"$nulls":3},"81ES0007US","CBRedistribute",null,null,"01/15/2019 09:35 AM","Ted Meyer"]
["39650","D801571","Kennerly Elementary","P.E. Office","Anchor - 30-Watt Powered Speaker",null,"Available","Speaker","2009-08-11","167.45","10-34113","Long's Electronics","AN-130","Anchor",{"$nulls":4},"27870-6541",{"$nulls":10},"Library","01/15/2019 09:04 AM","Ted Meyer"]
["67947","X4JK7Y00185","Kennerly Elementary","P.E. Office","EPSON Powerlite 1286 3LCD Projector V11H846120",null,"Available","Projector","2018-02-16","721.00","18-53710","CDW-G","Powerlite 1286","Epson",null,null,"2022/2023",null,"27872-6412",{"$nulls":3},"Orig Tag 52675 was lost replaced 5/19/2022",{"$nulls":6},"PE","01/15/2019 10:39 AM","Ted Meyer"]
["39279","108336","Kennerly Elementary","P.E. Office","ELMO TT-02s Document Camera",null,"Available","Document Camera","2007-12-26","583.11","08-30712","FLORIDA MICRO","TT-02s","ELMO","KE-007",{"$nulls":3},"27870-6541",{"$nulls":10},"2nd Grade","01/15/2019 09:04 AM","Ted Meyer"]
["49890","O4MY3CBJ402857","Kennerly Elementary","Cafeteria Classroom","Samsung 50\" Smart TV",null,"Available","TV","2017-08-07","631.78","18-50735","Best Buy","UN50J5200AFXZA","Samsung","Maggie Wigger",null,"2021/2022",null,"27871-6412",{"$nulls":3},"Installed for use by ELL as a classroom.",{"$nulls":6},"ELL","01/15/2019 09:04 AM","Ted Meyer"]
["50682","P202D9QL","Kennerly Elementary","Cafeteria Classroom","Lenovo 500e Chromebook (Gen 1)",null,"Available","Chromebook","2018-06-19","287.00","19-54624","Firefly Computers","500e","Lenovo","TRML3-CB-17","7c2a311ccefb","2022/2023",null,"100-1151-6412-3080-07360-1-000",{"$nulls":3},"CHROMEBOOK MANAGEMENT CONSOLE @$23.49FIREFLY CHROMEBOOK SUPPORT FOR LENOVOLANSCHOOL PERPETUAL PER DEVICE LICENSE WITH 1 YR OF SNS",{"$nulls":3},"81ES0007US","CBRedistribute",null,"Modern Language","01/15/2019 10:00 AM","Ted Meyer"]
["40202","MJTXA32","Kennerly Elementary","Data - 013","Lenovo ThinkStation E20",null,"Available","Desktop","2010-05-25","898.00","11-35519","Lenovo","E20","Lenovo","HSMUSIC-19",null,"2014/2015",null,"27870-6541",{"$nulls":7},"4220W5B",null,null,"Music","01/15/2019 09:21 AM","Ted Meyer"]
["49096","IN64G4F06K","Kennerly Elementary","Data - 013","HP 5400R Power Supply",null,"Available","Power Supply","2016-07-05","535.00","17-36029","WJR Technologies","J9829A","HP",{"$nulls":4},"39038-65421",null,null,"E-Rate",{"$nulls":8},"01/15/2019 10:07 AM","Ted Meyer"]
["49097","IN64G4F0MZ","Kennerly Elementary","Data - 013","HP 5400R Power Supply",null,"Available","Power Supply","2016-07-05","535.00","17-36029","WJR Technologies","J9829A","HP",{"$nulls":4},"39038-65421",null,null,"E-Rate",{"$nulls":8},"01/15/2019 10:07 AM","Ted Meyer"]
["49966","MJ05N1PU","Kennerly Elementary","Data - 013","Lenovo ThinkCentre M9108 (Core i5-7500, 8GB, 1TB HDD)",null,"Available","Desktop","2017-08-14","755.41","18-50422","Staples","M92108","Lenovo","Carrie Rapp",null,"2021/2022",null,"27873-6412",{"$nulls":7},"10MK000QUS",null,null,"Yearbook","01/15/2019 09:21 AM","Ted Meyer"]
["54162","P2034GMB","Truman Middle","Library Chromebook Cart","Lenovo 500e Chromebook (Gen 1)",null,"Available","Chromebook","2018-10-04","310.49","19-55702","Firefly Computers","500e","Lenovo","TR-DL-16","38baf8ec5a77","2022/2023",null,"TE PD",{"$nulls":7},"81ES0007US","CBRedistribute - Library",null,"DESIGN LAB","01/15/2019 10:00 AM","Ted Meyer"]
["54164","P2034UJE","Truman Middle","Library Chromebook Cart","Lenovo 500e Chromebook (Gen 1)",null,"Available","Chromebook","2018-10-04","310.49","19-55702","Firefly Computers","500e","Lenovo","TR-DL-27","38baf85ee70f","2022/2023",null,"TE PD",{"$nulls":7},"81ES0007US","CBRedistribute - Library",null,"DESIGN LAB","01/15/2019 10:00 AM","Ted Meyer"]
["47727","P2034GKB","Truman Middle","Library Chromebook Cart","Lenovo 500e Chromebook (Gen 1)",null,"Available","Chromebook","2018-10-04","310.49","19-55702","Firefly Computers","500e","Lenovo","TR-DL-13","38baf8753f4b","2022/2023",null,"TE PD",{"$nulls":7},"81ES0007US","CBRedistribute - Library",null,"DESIGN LAB","01/15/2019 10:00 AM","Ted Meyer"]
["47743","P2034U1N","Truman Middle","Library Chromebook Cart","Lenovo 500e Chromebook (Gen 1)",null,"Available","Chromebook","2018-10-04","310.49","19-55702","Firefly Computers","500e","Lenovo","TR-DL-34","38baf83ac4fb","2022/2023",null,"TE PD",{"$nulls":7},"81ES0007US","CBRedistribute - Library",null,"DESIGN LAB","01/15/2019 10:00 AM","Ted Meyer"]
["54157","P2034GA7","Truman Middle","Library Chromebook Cart","Lenovo 500e Chromebook (Gen 1)",null,"Available","Chromebook","2018-10-04","310.49","19-55702","Firefly Computers","500e","Lenovo","TR-DL-04","38baf85ab5cc","2022/2023",null,"TE PD",{"$nulls":7},"81ES0007US","CBRedistribute - Library",null,"DESIGN LAB","01/15/2019 10:00 AM","Ted Meyer"]
["47717","P2034FPE","Truman Middle","Library Chromebook Cart","Lenovo 500e Chromebook (Gen 1)",null,"Available","Chromebook","2018-10-04","310.49","19-55702","Firefly Computers","500e","Lenovo","TR-DL-17","00bb605f2d5a","2022/2023",null,"TE PD",{"$nulls":7},"81ES0007US","CBRedistribute - Library",null,"DESIGN LAB","01/15/2019 10:00 AM","Ted Meyer"]
["47713","P2034UEZ","Truman Middle","Library Chromebook Cart","Lenovo 500e Chromebook (Gen 1)",null,"Available","Chromebook","2018-10-04","310.49","19-55702","Firefly Computers","500e","Lenovo","TR-DL-25","38baf83d052c","2022/2023",null,"TE PD",{"$nulls":7},"81ES0007US","CBRedistribute - Library",null,"DESIGN LAB","01/15/2019 10:00 AM","Ted Meyer"]
["47707","P2034UGJ","Truman Middle","Library Chromebook Cart","Lenovo 500e Chromebook (Gen 1)",null,"Available","Chromebook","2018-10-04","310.49","19-55702","Firefly Computers","500e","Lenovo","TR-DL-29","38baf83d0522","2022/2023",null,"TE PD",{"$nulls":7},"81ES0007US","CBRedistribute - Library",null,"DESIGN LAB","01/15/2019 10:00 AM","Ted Meyer"]
["43365","DMPJFLMPF182","Central Office","**Surplus","Apple iPad 16GB WIFI (4th Gen)",null,"Available","iPad","2012-11-15","499.00","13-11912","Apple","MD510LL/A","Apple",null,"34c059504422",null,null,"27870-6541",{"$nulls":6},"These iPads will NOT be serviced.","A1458",null,null,"PE","01/15/2019 08:34 AM","Ted Meyer"]
["48338","DMRMP665F182","Central Office","**Surplus","Apple iPad 16GB WIFI (4th Gen)",null,"Available","iPad","2014-05-15","399.00","14-19206","Apple","MD510LL/A","Apple",null,"e498d68e00da","2018/2019",null,"29541-6542",{"$nulls":6},"This iPad will NOT be serviced.","A1458",null,null,"PE","01/15/2019 08:37 AM","Ted Meyer"]
["44478","DMPN1JXLF182","Central Office","**Surplus","Apple iPad 16GB WIFI (4th Gen)",null,"Available","iPad","2014-06-25","379.00","15-18514","Apple Store","MD510LL/A","Apple",null,"f82793b8d888","2018/2019",null,"11310-6542",{"$nulls":6},"This iPad will NOT be serviced.","A1458",null,null,"PE","01/15/2019 09:46 AM","Ted Meyer"]
["41629","DMRJD5H1F182","Central Office","**Surplus","Apple iPad 16GB WIFI (4th Gen)",null,"Available","iPad","2012-11-15","499.00","13-11912","Apple","MD510LL/A","Apple",null,"34c05952cc9c",null,null,"27870-6541",{"$nulls":6},"This iPad will NOT be serviced","A1458",null,null,"PE","01/15/2019 09:46 AM","Ted Meyer"]
["41631","DMPJDN7HF182","Central Office","**Surplus","Apple iPad 16GB WIFI (4th Gen)",null,"Available","iPad","2012-11-15","499.00","13-11912","Apple","MD510LL/A","Apple",null,"34c0595db1ae",null,null,"27870-6541",{"$nulls":6},"This iPad will NOT be serviced.","A1458",null,null,"PE","01/15/2019 09:46 AM","Ted Meyer"]
["48022","DMPL1C2ZF182","Central Office","**Surplus","Apple iPad 16GB WIFI (4th Gen)",null,"Available","iPad","2013-07-01","499.00","14-15269","Apple","MD510LL/A","Apple",null,"a888088a2123",null,null,"27870-6541",{"$nulls":6},"This iPad will NOT be serviced","A1458",null,null,"PE","01/15/2019 09:34 AM","Ted Meyer"]
["48207","DMRL1E2PF182","Central Office","**Surplus","Apple iPad 16GB WIFI (4th Gen)",null,"Available","iPad","2013-09-19","499.00","14-16401","Apple","MD510LL/A","Apple","Reading","a888089cb8e8",null,null,"CC PTG",null,null,"Grant",{"$nulls":4},"A1458",null,null,"Reading","01/15/2019 08:37 AM","Ted Meyer"]
["48987","DMPL1CJNF182","Central Office","**Surplus","Apple iPad 16GB WIFI (4th Gen)",null,"Available","iPad","2013-07-01","499.00","14-15269","Apple","MD510LL/A","Apple","Maggie Wigger","a8880889c6db","2017/2018",null,"27870-6541",{"$nulls":7},"A1458",null,null,"ELL","01/15/2019 09:04 AM","Ted Meyer"]
["40817","DN6FPY4DDFHW","Central Office","**Surplus","Apple iPad 16GB WIFI (2nd Gen)",null,"Available","iPad","2011-04-12","499.00","11-37269","Apple","MC769LL/A","Apple","Maggie Wigger","403004f0519f","2015/2016",null,"24476-6411",{"$nulls":7},"A1395",null,null,"ELL","01/15/2019 09:04 AM","Ted Meyer"]
["48995","DMPL1CM7F182","Central Office","**Surplus","Apple iPad 16GB WIFI (4th Gen)",null,"Available","iPad","2013-07-01","499.00","14-15269","Apple","MD510LL/A","Apple","Erin Griffin","a888088a2733","2017/2018",null,"27870-6541",{"$nulls":7},"A1458",null,null,"ELL","01/15/2019 09:46 AM","Ted Meyer"]
["35704","DMPSFRVPG5W1","Central Office","**Surplus","Apple iPad Air 128GB WIFI (2nd Gen)",null,"Available","iPad","2016-09-09","479.00","17-37422","Apple Store","PGTX2LL/A","Apple","Kim Kelsch","4c32753dbd08","2020/2021",null,"26452-6411",null,null,"Building Budget","110-2411-6411-417-000-000 CC office Supplies",{"$nulls":3},"A1566",null,null,"ELL","01/15/2019 08:38 AM","Ted Meyer"]
["48985","DMPL1CCTF182","Central Office","**Surplus","Apple iPad 16GB WIFI (4th Gen)",null,"Available","iPad","2013-07-01","499.00","14-15269","Apple","MD510LL/A","Apple","Katherine Lane","a88808898745","2017/2018",null,"27870-6541",{"$nulls":7},"A1458",null,null,"ELL","01/15/2019 08:40 AM","Ted Meyer"]
["49158","DMPRQ5Q0G5VJ","Central Office","**Surplus","Apple iPad Air 16GB WIFI (2nd Gen)",null,"Available","iPad","2016-05-12","379.00","16-34594","Apple Store","PGL12LL/A","Apple","CCCELL-01","70a2b3ec5672","2020/2021",null,"11392-6411",null,null,"Grant","110-1111-11411-417-000-009",{"$nulls":3},"A1566",null,null,"ELL","01/15/2019 08:38 AM","Ted Meyer"]
["49159","DMQRPCHHG5VJ","Central Office","**Surplus","Apple iPad Air 16GB WIFI (2nd Gen)",null,"Available","iPad","2016-05-12","379.00","16-34594","Apple Store","PGL12LL/A","Apple","CCCELL-03","70a2b3ec05f4","2020/2021",null,"11392-6411",null,null,"Grant","110-1111-11411-417-000-009",{"$nulls":3},"A1566",null,null,"ELL","01/15/2019 08:38 AM","Ted Meyer"]
["49160","DMQRPCZ5G5VJ","Central Office","**Surplus","Apple iPad Air 16GB WIFI (2nd Gen)",null,"Available","iPad","2016-05-12","379.00","16-34594","Apple Store","PGL12LL/A","Apple","Lisa Carson","70a2b3ec5620","2020/2021",null,"11392-6411",null,null,"Grant","110-1111-11411-417-000-009",{"$nulls":3},"A1566",null,null,"ELL","01/15/2019 08:38 AM","Ted Meyer"]
["47414","MP09MDPH","Central Office","**Surplus","Lenovo ThinkPad Yoga 12 (Core i5-5200U, 8GB, 128GB SSD)",null,"Available","Laptop","2015-09-01","1,174.00","16-31302","30713","Yoga 12","Lenovo","Susan Brand","94659c7cca3b","2019/2020",null,"7691",{"$nulls":3},"TwoTrees Technologies LLC",{"$nulls":3},"20DKS1LQ00",null,null,"ECE","01/15/2019 09:01 AM","Ted Meyer"]
["48086","DMTL4JPWF182","Central Office","**Surplus","Apple iPad 16GB WIFI (4th Gen)",null,"Available","iPad","2013-08-12","499.00","14-15784","Apple","MD510LL/A","Apple","KEPEGS-P7-05","a88808e2f944","2017/2018",null,"30690-6542",{"$nulls":7},"A1458",null,null,"PEGS","01/15/2019 09:04 AM","Ted Meyer"]
["43616","DMPJ8H02DJ8T","Central Office","**Surplus","Apple iPad 16GB WIFI (3rd Gen)",null,"Available","iPad","2012-08-22","479.00","13-10790","Apple","MC705LL/A","Apple","Cindy Johnson","98fe94c0e905","2016/2017",null,"278916541",{"$nulls":7},"A1416",null,null,"Office","01/15/2019 09:01 AM","Ted Meyer"]
["47155","MP08FE4A","ECE West","501-B","Lenovo ThinkPad Yoga 12 (Core i5-5200U, 8GB, 128GB SSD)",null,"Available","Laptop","2015-07-06","1,174.00","16-30425","TwoTrees","Yoga 12","Lenovo","Amy Wohlstadter","6057186e595b","2019/2020",{"$nulls":9},"20DKS1LQ00",{"$nulls":3},"01/15/2019 08:37 AM","Ted Meyer"]
["43393","R9PMCVK","ECE West","501-A","Lenovo ThinkPad x220 Tablet Laptop",null,"Available","Laptop","2012-07-10","1,550.00","13-10322","Two Trees","X220","Lenovo","Brenda Tehandon","8c705a7a9694","2016/2017",null,"27891-6541",{"$nulls":7},"42963MU",null,null,"ECE","01/15/2019 09:02 AM","Ted Meyer"]
["43132","R9PM90M","ECE West","501-A","Lenovo Thinkpad X220 Ultrabase Base",null,"Available","Docking Station","2012-07-10","1,550.00","13-10322","Two Trees","x220 Ultrabase","Lenovo",{"$nulls":4},"27891-6541",{"$nulls":6},"Key # G77",{"$nulls":3},"ECE","01/15/2019 09:02 AM","Ted Meyer"]
["48248","PBE86F8","ECE West","512-B","Lenovo ThinkPad USB 3.0 Dock",null,"Available","Dock","2013-10-24","145.00","14-16859","TwoTrees","DU9019D1","Lenovo",null,null,"2017/2018",null,"27870-6411",{"$nulls":10},"Science","01/15/2019 09:52 AM","Ted Meyer"]
["48249","PBE86G6","ECE West","512-B","Lenovo ThinkPad USB 3.0 Dock",null,"Available","Dock","2013-10-24","145.00","14-16859","TwoTrees","DU9019D1","Lenovo",null,null,"2017/2018",null,"27870-6411",{"$nulls":10},"Science","01/15/2019 09:52 AM","Ted Meyer"]
["41541","DMQJFUFFF182","Central Office","**Surplus","Apple iPad 16GB WIFI (4th Gen)",null,"Available","iPad","2012-11-15","499.00","13-11912","Apple","MD510LL/A","Apple",null,"34c0596275d9","2016/2017",null,"27870-6541",{"$nulls":7},"A1458",{"$nulls":3},"01/15/2019 10:39 AM","Ted Meyer"]
["44995","DMPP5BKYFK10","Central Office","**Surplus","Apple iPad Air 16GB WIFI (1st Gen)",null,"Available","iPad","2015-01-10","379.00","15-21131","Apple store","PD785LL/B","Apple",null,"a8880893036e","2019/2020",null,"2787-06411",{"$nulls":3},"Admin Tech equipment supply",{"$nulls":3},"A1474",{"$nulls":3},"01/15/2019 10:39 AM","Ted Meyer"]
["48011","DMPL1CPWF182","Central Office","**Surplus","Apple iPad 16GB WIFI (4th Gen)",null,"Available","iPad","2013-07-01","499.00","14-15269","Apple","MD510LL/A","Apple","Jill Gebken","a888088a0285","2017/2018",null,"27870-6541",{"$nulls":7},"A1458",null,null,"Technology","01/15/2019 08:40 AM","Ted Meyer"]
["47545","F9FQLRDVFCM8","Central Office","**Surplus","Apple iPad mini 2 White with Silver",null,"Available","iPad","2016-01-26",{"$nulls":3},"iPad Mini 2","Apple","Margeret Lembeck","80d605073b8b","2020/2021",{"$nulls":9},"A1489",null,null,"Digital Literacy","01/15/2019 09:04 AM","Ted Meyer"]
["41596","DMRJD20RF182","Central Office","**Surplus","Apple iPad 16GB WIFI (4th Gen)",null,"Available","iPad","2012-11-15","499.00","13-11912","Apple","MD510LL/A","Apple","3-05","34c059541351","2016/2017",null,"27870-6541",{"$nulls":7},"A1458",null,null,"LEAP","01/15/2019 09:52 AM","Ted Meyer"]
["45100","K1315004556","LHS 2022","104A","Lenovo ThinkPad USB 3.0 Dock",null,"Available","Dock",{"$nulls":4},"DU9019D1","Lenovo","Guidance Office","843a4b0edbdc",{"$nulls":13},"Guidance","01/15/2019 09:21 AM","Ted Meyer"]
["53225","V5T89720","LHS 2022","105A","Lenovo ThinkVision T2224d 22\" LED Monitor",null,"Available","Monitor","2018-08-02","134.69","19-54929","ITsavvy","T2224d","Lenovo","Holly Honey",{"$nulls":3},"HS Guidance PD",null,null,"Building Budget",{"$nulls":7},"Guidance","01/15/2019 09:22 AM","Ted Meyer"]
["49520","752TSVX210","LHS 2022","105B","Motorola CP200D UHF Digital 16 Channel Two-Way Radio",null,"Available","Two-Way Radio","2017-03-06","365.00","17-39627","TBS Electronics","CP200D","Motorola","Irv Mueller",{"$nulls":3},"26445-6411",null,null,"Building Budget","3 Year Warranty",{"$nulls":6},"Counselor","01/15/2019 09:21 AM","Ted Meyer"]
["49519","752TSVX215","LHS 2022","103","Motorola CP200D UHF Digital 16 Channel Two-Way Radio",null,"Available","Two-Way Radio","2017-03-06","365.00","17-39627","TBS Electronics","CP200D","Motorola","Angie Altgilbers",{"$nulls":3},"26445-6411",null,null,"Building Budget","3 Year Warranty",{"$nulls":6},"Counselor","01/15/2019 09:21 AM","Ted Meyer"]
["49492","GTC7F52","LHS 2022","103","Dell C2660dn Color Laser Printer",null,"Available","Printer","2017-02-17","179.15","17-39392","ITsavvy","C2660dn","Dell",{"$nulls":4},"27870-6411",{"$nulls":11},"01/15/2019 09:21 AM","Ted Meyer"]
["42111","V8-02236","LHS 2022","101","Lenovo ThinkVision 22\" LCD Monitor",null,"Available","Monitor",{"$nulls":4},"L2250pwd","Lenovo",{"$nulls":15},"Cafeteria","01/15/2019 08:37 AM","Ted Meyer"]
["49935","MJ05N1R0","LHS 2022","101","Lenovo ThinkCentre M9108 (Core i5-7500, 8GB, 1TB HDD)",null,"Available","Desktop","2017-08-14","755.41","18-50422","Staples","M92108","Lenovo","Jason Wolfard",null,"2021/2022",null,"27873-6412",{"$nulls":7},"10MK000QUS",null,null,"Computer Science","01/15/2019 09:21 AM","Ted Meyer"]
["45688","PB5ZN6T","LHS 2022","243A","Lenovo ThinkPad USB 3.0 Dock",null,"Available","Dock","2013-05-10","135.00","14-15032","TWOTREES","DU9019D1","Lenovo",null,"843a4b0edbdc",{"$nulls":13},"Business","01/15/2019 09:21 AM","Ted Meyer"]
["21412","MD62680043","Support Service Center","Warehouse (Shelf outside maintenance shop)","Panasonic 32\" Color TV w/ Remote Control",null,"Available","TV","1996-12-18","643.00","40589","KANSAS CITY AUDIO VISUAL, INC","CT32621U",{"$nulls":3},"2000/2001",{"$nulls":13},"01/15/2019 09:52 AM","Ted Meyer"]
["49885","AC-PLUS-7617","Support Service Center","Warehouse Tech Storage","AC Plus 36 Bay Charging Cart",null,"Available","Cart","2017-08-07","906.22","18-50496","ITsavvy","36 Bay","AC Plus","Karen Czaicki",{"$nulls":3},"39038-65421",null,null,"Building Budget",{"$nulls":8},"01/15/2019 08:40 AM","Ted Meyer"]
["48333","MJ00UCXK","Support Service Center","Warehouse Tech Storage","Lenovo ThinkCentre M93z 10AF All In One",null,"Available","Desktop","2014-05-20","1,165.00","14-19252","TwoTrees","M93p","Lenovo",null,null,"2018/2019",null,"27740-6414",{"$nulls":7},"10AD0001US",{"$nulls":3},"01/15/2019 09:52 AM","Ted Meyer"]
["41390","V8-W3290","Support Service Center","Warehouse Tech Storage","Lenovo ThinkVision 22\" LCD Monitor",null,"Available","Monitor","2011-08-17","180.00","12-37763","Lenovo","L2250p","Lenovo",{"$nulls":4},"27870-6541",{"$nulls":11},"01/15/2019 09:21 AM","Ted Meyer"]
["51007","AC-PLUS-10314","Support Service Center","Warehouse Tech Storage","AC-Plus 36 Bay Charging Cart",null,"Available","Cart","2017-09-06","906.22","18-50867","ITsavvy","AC-Plus","All Carts",{"$nulls":4},"16491-6412",null,null,"Building Budget",{"$nulls":7},"PLTW","01/15/2019 08:40 AM","Ted Meyer"]
["50016","752TUK0390","LHS 2022","243","Motorola CP200D UHF Digital 16 Channel Two-Way Radio",null,"Available","Two-Way Radio","2018-09-04","374.25","19-55392","TBS Electronics","CP200D","Motorola",{"$nulls":4},"HS PD",{"$nulls":3},"3 YR Warranty",{"$nulls":7},"01/15/2019 09:22 AM","Ted Meyer"]
["52405","SV5N87199","Support Service Center","Food Services","Lenovo ThinkVision T2224d 22\" LED Monitor",null,"Available","Monitor","2018-01-23","129.26","18-53389","ItSavvy","T2224d","Lenovo","Jennifer Schira",{"$nulls":3},"27585-6411",{"$nulls":10},"Food Services","01/15/2019 10:39 AM","Ted Meyer"]
["52404","SMJ06A2UV","Support Service Center","Food Services","Lenovo ThinkCentre M710Q 10MR Tiny (Core i3-6100T, 8GB, 128GB)",null,"Available","Desktop","2018-01-23","589.45","18-53389","ItSavvy","M710Q","Lenovo","Jennifer Schira",null,"2022/2023",null,"27585-6411",{"$nulls":7},"10MR004JUS",null,null,"Food Services","01/15/2019 10:39 AM","Ted Meyer"]
["49496","SV1K54149","Support Service Center","Facilities Offices","Lenovo ThinkVision T2324p 23\" LED Monitor",null,"Available","Monitor","2017-01-31","187.23","17-39258","ITSavvy","T2324p","Lenovo","Willoughby Williams",{"$nulls":3},"27301-6411",{"$nulls":3},"110-2542-6411-803-000-000",{"$nulls":6},"Facilities","01/15/2019 10:39 AM","Ted Meyer"]
["49497","V1L99797","Support Service Center","Facilities Offices","Lenovo Thinkvision T2424z VOIP, 23.8 Inch FHD 1920x 1080 resolution in-plane switching",null,"Available","Monitor","2017-01-31","187.23","17-39258","ITSavvy","T2424z","Lenovo","Karl Guyer",{"$nulls":3},"27301-6411",{"$nulls":3},"110-2542-6411-803-000-000",{"$nulls":6},"Facilities","01/15/2019 10:39 AM","Ted Meyer"]
["47386","V5V34476","Support Service Center","Food Services","Lenovo ThinkVision T2224d 22\" LED Monitor",null,"Available","Monitor","2018-08-16","128.00","19-55161","Firefly Computers","T2224d","Lenovo","Cathy Clark",null,"2022/2023",null,"TE PD",{"$nulls":3},"Unit was taken prior to getting S/N, request has been made to Larry P. to send S/N. 8/22/2018",{"$nulls":6},"Food Services","01/15/2019 09:53 AM","Ted Meyer"]
["49290","V5D64757","Support Service Center","Facilities Offices","Lenovo Thinkvision 21.5\" LED Monitor",null,"Available","Monitor","2016-09-26","134.41","17-37111","ITSavvy","E2224","Lenovo","Ray Weinhold",{"$nulls":3},"27301-6411",{"$nulls":11},"01/15/2019 10:39 AM","Ted Meyer"]
["52427","MJ06279V","Support Service Center","Facilities Offices","Lenovo Thinktstation P320 1x Core i5 7600 3.5 GHZ - 8GB RAM - 1 TB HDD w/Network adapter 4XC0H00338",null,"Available","Desktop","2017-11-27","935.27","18-52779","Softchoice","P320","Lenovo","Fire System",null,"2021/2022",null,"27870-6411",{"$nulls":7},"30BK000TUS",{"$nulls":3},"01/15/2019 10:39 AM","Ted Meyer"]
["44878","IDP017B409813658","LHS 2022","329","70\" Classroom Interactive Display System",null,"Available","TV","2014-09-15","4,664.64","15-19777","TwoTrees Technologies, INC","PN-L703B","Sharp",null,null,"2018/2019",null,"31214-6542",{"$nulls":3},"XSMU chief fusion micro-adjustable fixed wall mount XSMU mounting kit (wall mount, mounting rails, interface bracket) for lcd display, black screen size 55\"-75\"",{"$nulls":6},"Business","01/15/2019 09:21 AM","Ted Meyer"]
["51550",null,"LHS 2022","329","Dell C2660dn Color Laser Printer",null,"Available","Printer","2017-07-13","190.10","18-50423","CDW-G","C2660dn","Dell","Judy Girard",{"$nulls":3},"27873-6412",null,null,"Building Budget","DataMax VH665",{"$nulls":6},"Business","01/15/2019 09:21 AM","Ted Meyer"]
["53276","U63478E8J847234","LHS 2022","308","Brother HL-3170CDW Color Laser Printer",null,"Available","Printer","2018-10-04","229.89","19-55975","CDW","HL-3170CDW","Brother",{"$nulls":4},"PERKINS GRANT",null,null,"Grant","PERKINS GRANT MONEY",{"$nulls":7},"01/15/2019 09:22 AM","Ted Meyer"]
["46408","Z6U03CJG407887","ECE West","512-B","Samsung - 19\" Class (18 1/2\" Diag) LED 720P HDTV Black",null,"Available","TV","2015-06-03","147.89","15-22958","Best Buy","UN19F4000AFXZA","Samsung","Sammye LaRose",null,"2019/2020",null,"23356-6411",{"$nulls":10},"Office","01/15/2019 09:02 AM","Ted Meyer"]
["45809","PB5ZH3K","ECE West","512-B","Lenovo ThinkPad USB 3.0 Dock",null,"Available","Dock","2013-05-10","135.00","14-15032","TWOTREES","DU9019D1","Lenovo",null,"843a4b0edbdc",{"$nulls":13},"Math","01/15/2019 09:21 AM","Ted Meyer"]
["47795","JNVF3YA001353","ECE West","512","Sharp 50\" Roku TV",null,"Available","TV",{"$nulls":5},"Sharp",null,null,"UnKnown",{"$nulls":12},"Athletics","01/15/2019 09:02 AM","Ted Meyer"]
["51975","MJ05W9S5","ECE West","512-A","Lenovo ThinkCentre M710Q 10MR Tiny (Core i3-6100T, 8GB, 128GB)",null,"Available","Desktop","2017-09-29","561.18","18-51847","ITsavvy","M710Q","Lenovo","Jason Knittig",null,"2021/2022",null,"23356-6412",null,null,"Building Budget",{"$nulls":4},"10MR004JUS",null,null,"LCE","01/15/2019 09:02 AM","Ted Meyer"]
["45738","PB5ZH2G","ECE West","512-A","Lenovo ThinkPad USB 3.0 Dock",null,"Available","Dock","2013-05-10","135.00","14-15032","TWOTREES","DU9019D1","Lenovo","Surplus","843a4b0edbdc",{"$nulls":7},"2020-07-29",{"$nulls":5},"TECHNOLOGY STG","01/15/2019 09:52 AM","Ted Meyer"]
["47800","91502718985","ECE West","512-A","Acer 23\" LCD Monitor",null,"Available","Monitor",{"$nulls":4},"X223W","Acer",{"$nulls":15},"Office","01/15/2019 09:01 AM","Ted Meyer"]
["51955","V5H99729","ECE West","512-A","Lenovo ThinkVision T2224d 22\" LED Monitor",null,"Available","Monitor","2017-08-15","129.21","18-50715","ITsavvy","T2224d","Lenovo","Richard Breeding",{"$nulls":3},"23356-6412",null,null,"Building Budget",{"$nulls":7},"Office","01/15/2019 09:02 AM","Ted Meyer"]
["46407","Z6U03CJG407810","ECE West","512-A","Samsung - 19\" Class (18 1/2\" Diag) LED 720P HDTV Black",null,"Available","TV","2015-06-03","147.89","15-22958","Best Buy","UN19F4000AFXZA","Samsung","Wilma Desnoyer",null,"2019/2020",null,"23356-6411",{"$nulls":10},"Office","01/15/2019 09:02 AM","Ted Meyer"]
["45749","PB1BZN3","ECE West","512-A","Lenovo ThinkPad USB 3.0 Dock",null,"Available","Dock","2013-05-10","135.00","14-15032","TWOTREES","DU9019D1","Lenovo",null,"843a4b0edbdc",{"$nulls":14},"01/15/2019 09:21 AM","Ted Meyer"]
["44927","6YT5T12","LHS 2022","307","Dell C3760dn Color Laser Printer",null,"Available","Printer","2014-11-12","401.21","15-20600","ITsavvy","C3760dn","Dell",{"$nulls":3},"10.0.21.108","31214-6542",{"$nulls":10},"Business","01/15/2019 09:21 AM","Ted Meyer"]
["53297","R90RBU5Q","Central Office","Imaging Room/Staff Devices","Lenovo ThinkPad L380 Yoga (Core i5-8250U, 8GB, 256GB)",null,"Available","Laptop","2018-07-10","1,088.56","19-54752","ITsavvy","L380 Yoga","Lenovo",null,"34e12dafb707","2022/2023",null,"PURCHASED BY TECHNOLOGY",{"$nulls":7},"20M7000KUS",{"$nulls":3},"01/15/2019 10:39 AM","Ted Meyer"]
["54419","R90RBU5L","Central Office","Imaging Room/Staff Devices","Lenovo ThinkPad L380 Yoga (Core i5-8250U, 8GB, 256GB)",null,"Available","Laptop","2018-07-10","1,088.56","19-54752","ITsavvy","L380 Yoga","Lenovo","Kellerman","34e12dafb06d","2022/2023",null,"PURCHASED BY TECHNOLOGY",{"$nulls":7},"20M7000KUS",{"$nulls":3},"01/15/2019 10:39 AM","Ted Meyer"]
["52177","R90RRHMD","Central Office","Imaging Room/Staff Devices","Lenovo ThinkPad L380 Yoga (Core i5-8250U, 8GB, 256GB)",null,"Available","Laptop","2018-10-16","1,075.00","19-55364","Firefly Computers","L380 Yoga","Lenovo",null,"b4692113c306","2022/2023",null,"TE Paid",{"$nulls":7},"20M7000MUS",{"$nulls":3},"01/15/2019 10:39 AM","Ted Meyer"]
["54321","R90SHG1F","Central Office","Imaging Room/Staff Devices","Lenovo ThinkPad L380 Yoga (Core i5-8250U, 8GB, 256GB)",null,"Available","Laptop","2019-01-03","969.00","19-57011","TwoTrees Technologies","L380 Yoga","Lenovo",null,"983b8ff7b043","2023/2024",null,"TE PD",{"$nulls":7},"20M7000MUS",{"$nulls":3},"01/15/2019 10:39 AM","Ted Meyer"]
["48135","1S3695QEUMJ51X36","LHS 2022","140","Lenovo ThinkStation E31",null,"Available","Desktop","2013-07-13","1,015.00","14-15477","Two Trees","E31","Lenovo",null,null,"2017/2018",null,"27870-6541",{"$nulls":7},"3695QEU",null,null,"Industrial Technology","01/15/2019 09:21 AM","Ted Meyer"]
["48040","V115593","LHS 2022","140","Lenovo ThinkVision 23\" Monitor",null,"Available","Monitor","2013-07-16","185.00","14-15477","TwoTrees","LS2323","Lenovo",{"$nulls":4},"27870-6541",{"$nulls":10},"Industrial Technology","01/15/2019 09:21 AM","Ted Meyer"]
["48046","V119795","LHS 2022","140","Lenovo ThinkVision 23\" Monitor",null,"Available","Monitor","2013-07-16","185.00","14-15477","TwoTrees","LS2323","Lenovo",{"$nulls":4},"27870-6541",{"$nulls":10},"Industrial Technology","01/15/2019 09:21 AM","Ted Meyer"]
["35681","MJ046YV8","LHS 2022","140","Lenovo ThinkCentre M700 10HY Tiny Desktop (Core i3-6100T, 8GB, 128GB)",null,"Available","Desktop","2016-07-25","430.05","17-36702","ITsavvy","M700","Lenovo","HSLIBCIRM-01",null,"2020/2021",null,"27870-6541",{"$nulls":3},"400-2331-6543-824-000-000",{"$nulls":3},"10HY0021US",null,null,"Library","01/15/2019 09:21 AM","Ted Meyer"]
["54238","C02XP0AYJ1G9","LHS 2022","140","Apple iMac 21.5\" RP555/CTO",null,"Available","iMac","2018-11-26","1,458.00","19-56592","Apple","RP555/CTO","Apple","HS-LibMac-03","18810ee38a2c","2022/2023",null,"C&amp;I PD",null,null,"Dept Budget","Includes AppleCare + for IMAC - PHX",{"$nulls":6},"Library","01/15/2019 09:22 AM","Ted Meyer"]
["54239","C02XP0B8J1G9","LHS 2022","140","Apple iMac 21.5\" RP555/CTO",null,"Available","iMac","2018-11-26","1,458.00","19-56592","Apple","RP555/CTO","Apple","HS-LibMac-02","1881oee3878a","2022/2023",null,"C&amp;I PD",null,null,"Dept Budget","Includes AppleCare + for IMAC - PHX",{"$nulls":6},"Library","01/15/2019 09:22 AM","Ted Meyer"]
["54240","C02XP0B4J1G9","LHS 2022","140","Apple iMac 21.5\" RP555/CTO",null,"Available","iMac","2018-11-26","1,458.00","19-56592","Apple","RP555/CTO","Apple","HS-LibMac-01","18810ee3878a","2022/2023",null,"C&amp;I PD",null,null,"Dept Budget","Includes AppleCare + for IMAC - PHX",{"$nulls":6},"Library","01/15/2019 09:22 AM","Ted Meyer"]
["50660","X28C8401401","LHS 2022","309 (Old)","Epson Brighlink 695Wi Projector",null,"Available","Projector","2018-06-25","1,640.63","19-54564","ITsavvy","Brightlink 695Wi","Epson","Cyndy Vincent",null,"2022/2023",null,"400.4051.6542.1050.07100.1.120",null,null,"Dept Budget",{"$nulls":7},"SSD","01/15/2019 09:21 AM","Ted Meyer"]
["50930","P202D93G","Central Office","Imaging Room","Lenovo 500e Chromebook (Gen 1)",null,"Available","Chromebook","2018-06-19","287.00","19-54624","Firefly Computers","500e","Lenovo","HSACAD-CB-013","7c2a311b8c8a","2022/2023",null,"100-1151-6412-1050-07360-1-000",{"$nulls":3},"CHROMEBOOK MANAGEMENT CONSOLE @$23.49\nFIREFLY CHROMEBOOK SUPPORT FOR LENOVO\nLANSCHOOL PERPETUAL PER DEVICE LICENSE WITH 1 YR OF SNS",{"$nulls":3},"81ES0007US",null,null,"Academy","01/15/2019 09:21 AM","Ted Meyer"]
["39898","V6-D4164","Central Office","Imaging Room","Lenovo ThinkVision 22\" LCD Display",null,"Available","Monitor","2010-06-02","219.99","10-35552","Lenovo",null,"Lenovo",{"$nulls":4},"27870-6411",{"$nulls":10},"Technology","01/15/2019 10:39 AM","Ted Meyer"]
["53526","P202463R","Central Office","Imaging Room","Lenovo 300e Chromebook",null,"Available","Chromebook","2018-08-01","276.49","19-54755","Firefly Computers","300e","Lenovo","Sara Cleveland","a81d160a3979","2022/2023",null,"C&amp;I PD",null,null,"Dept Budget",{"$nulls":4},"81FY000BUS",{"$nulls":3},"01/15/2019 09:53 AM","Ted Meyer"]
["50574","P202CZT8","Central Office","Imaging Room","Lenovo 500e Chromebook (Gen 1)",null,"Available","Chromebook","2018-06-19","287.00","19-54624","Firefly Computers","500e","Lenovo","TR217-CB-03","7470fdc38304","2022/2023",null,"100-1151-6412-3080-07360-1-000",{"$nulls":3},"CHROMEBOOK MANAGEMENT CONSOLE @$23.49\nFIREFLY CHROMEBOOK SUPPORT FOR LENOVO\nLANSCHOOL PERPETUAL PER DEVICE LICENSE WITH 1 YR OF SNS",{"$nulls":3},"81ES0007US","CBRedistribute",null,null,"01/15/2019 10:00 AM","Ted Meyer"]
["47657","RD0100183","Central Office","Broken Equipment","FrontRow Pro Digital 940R Receiver/Amplifier with 940TM Transmitter/Microphone",null,"Available","Classroom Audio",{"$nulls":4},"940R","FrontRow",{"$nulls":16},"01/15/2019 09:35 AM","Ted Meyer"]
["53292","R90QLYSE","Central Office","Imaging Room/Staff Devices","Lenovo ThinkPad L380 Yoga (Core i5-8250U, 8GB, 256GB)",null,"Available","Laptop","2018-07-10","1,088.56","19-54752","ITsavvy","L380 Yoga","Lenovo",null,"94b86d23c044","2022/2023",null,"PURCHASED BY TECHNOLOGY",{"$nulls":7},"20M7000MUS",null,null,"Counselor","01/15/2019 09:22 AM","Ted Meyer"]
["49757","MP144PWS","Central Office","Imaging Room/Staff Devices","Lenovo ThinkPad Yoga 260 (Core i5-6300U, 8GB, 256GB)",null,"Available","Laptop","2017-03-27","1,234.90","17-39996","ITsavvy LLC","Yoga 260","Lenovo",null,"e4a471592bb7","2021/2022",null,"27870-6541",{"$nulls":3},"400-2331-6543-824-000-000",{"$nulls":3},"20FD002DUS",null,null,"Human Resources","01/15/2019 09:53 AM","Ted Meyer"]
["52182","R90RRHND","Central Office","Imaging Room/Staff Devices","Lenovo ThinkPad L380 Yoga (Core i5-8250U, 8GB, 256GB)",null,"Available","Laptop","2018-10-16","1,075.00","19-55364","Firefly Computers","L380 Yoga","Lenovo","Olivia Becker ","b469215d9c4c","2022/2023",null,"TE Paid",{"$nulls":7},"20M7000MUS",{"$nulls":3},"01/15/2019 09:46 AM","Ted Meyer"]
["49512","752TSYG429","LHS 2022","143E","Motorola CP200D UHF Digital 16 Channel Two-Way Radio",null,"Available","Two-Way Radio","2017-03-06","365.00","17-39627","TBS Electronics","CP200D","Motorola","SUSAN MERZ",{"$nulls":3},"26445-6411",null,null,"Building Budget","3 Year Warranty",{"$nulls":6},"Administration","01/15/2019 09:21 AM","Ted Meyer"]
["49507","752TSXC895","LHS 2022","143E","Motorola CP200D UHF Digital 16 Channel Two-Way Radio",null,"Available","Two-Way Radio","2017-03-06","365.00","17-39627","TBS Electronics","CP200D","Motorola","michael FRANKLIN",{"$nulls":3},"26445-6411",null,null,"Building Budget","3 Year Warranty",{"$nulls":6},"Administration","01/15/2019 09:21 AM","Ted Meyer"]
["45239","K1315004519","LHS 2022","143A","Lenovo ThinkPad USB 3.0 Dock",null,"Available","Dock","2013-05-10","135.00","14-15032","TWOTREES","DU9019D1","Lenovo",null,"843a4b0edbdc",{"$nulls":14},"01/15/2019 09:21 AM","Ted Meyer"]
["49598","752TSYG721","LHS 2022","143D","Motorola CP200D UHF Digital 16 Channel Two-Way Radio",null,"Available","Two-Way Radio","2017-03-24",null,"17-39860","TBS Electronics","CP200D","Motorola",{"$nulls":7},"Building Budget","3 Year Warranty",{"$nulls":7},"01/15/2019 09:21 AM","Ted Meyer"]
["45799","PB1BWK5","LHS 2022","143D","Lenovo ThinkPad USB 3.0 Dock",null,"Available","Dock","2013-05-10","135.00","14-15032","TWOTREES","DU9019D1","Lenovo",null,"843a4b0edbdc",{"$nulls":14},"01/15/2019 09:21 AM","Ted Meyer"]
["53293","R90QLYRC","Central Office","Imaging Room/Staff Devices","Lenovo ThinkPad L380 Yoga (Core i5-8250U, 8GB, 256GB)",null,"Available","Laptop","2018-07-10","1,088.56","19-54752","ITsavvy","L380 Yoga","Lenovo",null,"94b86d23bfbd","2022/2023",null,"PURCHASED BY TECHNOLOGY",{"$nulls":7},"20M7000KUS",{"$nulls":3},"01/15/2019 09:22 AM","Ted Meyer"]
["52784","1PKSTG2","Lindbergh High School","000Surplus","Dell E310Ddw Printer Monochrome Laser",null,"Available","Printer","2018-05-11","72.35","18-54959","Itsavvy","E310dw","Dell","Dorothy Jameson",{"$nulls":3},"24452-6411",{"$nulls":11},"01/15/2019 09:21 AM","Ted Meyer"]
["47558","1L11442","Lindbergh High School","000Surplus","Dell B2360dn Laser Printer",null,"Available","Printer","2015-11-20","169.39","16-32461","TigerDirect, Inc.","B2360dn","Dell","EngML2 Laptop Cart",null,null,"10.40.21.90","27870-6411",{"$nulls":11},"01/15/2019 09:21 AM","Ted Meyer"]
["41415","185-1C89","Lindbergh High School","000Surplus","Dell 2350dn Laser Printer",null,"Available","Printer","2011-09-02","212.59","12-37359","B2B Computer","2350dn","Dell",{"$nulls":3},"10.0.21.102","27870-6541",{"$nulls":10},"Art","01/15/2019 09:21 AM","Ted Meyer"]
["51569","CNK7F52","Lindbergh High School","000Surplus","Dell C2660dn Color Laser Printer",null,"Available","Printer","2017-07-19","174.34","18-50562","CDW-G","C2660dn","Dell","John Worthen",{"$nulls":3},"12310-6412",null,null,"Building Budget","DataMax  VH674",{"$nulls":6},"Art","01/15/2019 09:21 AM","Ted Meyer"]
["44726",null,"Lindbergh High School","000Surplus","Dell 2360dn Laser Printer",null,"Available","Printer",{"$nulls":4},"2360dn","Dell",{"$nulls":3},"10.0.21.217",{"$nulls":11},"Modern Language","01/15/2019 09:21 AM","Ted Meyer"]
["43185",null,"Lindbergh High School","000Surplus","Dell 2350dn Laser Printer",null,"Available","Printer",{"$nulls":4},"2350dn","Dell",{"$nulls":15},"Modern Language","01/15/2019 09:21 AM","Ted Meyer"]
["39857","CN-0DX787-48730-98M-1FIN","Lindbergh High School","000Surplus","Dell 2330dn Laser Printer",null,"Available","Printer",{"$nulls":4},"2330dn","Dell",{"$nulls":15},"Modern Language","01/15/2019 09:21 AM","Ted Meyer"]
["46218",null,"Lindbergh High School","000Surplus","Dell 2330dn Laser Printer",null,"Available","Printer",{"$nulls":4},"2330dn","Dell",{"$nulls":3},"10.0.21.77",{"$nulls":11},"SSD","01/15/2019 09:21 AM","Ted Meyer"]
["46220",null,"Lindbergh High School","000Surplus","Dell 2330dn Laser Printer",null,"Available","Printer",{"$nulls":4},"2330dn","Dell",{"$nulls":3},"10.0.21.78",{"$nulls":11},"SSD","01/15/2019 09:21 AM","Ted Meyer"]
["39859","CN-0DX787-48730-98M-1FWJ","Lindbergh High School","000Surplus","Dell 2330dn Laser Printer",null,"Available","Printer",{"$nulls":4},"2330dn","Dell",{"$nulls":3},"10.0.21.213",{"$nulls":11},"SSD","01/15/2019 09:21 AM","Ted Meyer"]
["42393","1BF-1TEF","Lindbergh High School","000Surplus","Dell 2350dn Laser Printer",null,"Available","Printer","2012-02-02","192.99","12-39250","B2B","2350dn","Dell",{"$nulls":3},"10.0.21.225","27870-6541",{"$nulls":10},"Science","01/15/2019 09:21 AM","Ted Meyer"]
["39860","CN-0DX787-48730-98M-1FUQ","Lindbergh High School","000Surplus","Dell 2330dn Laser Printer",null,"Available","Printer",{"$nulls":4},"2330dn","Dell",{"$nulls":3},"10.0.21.210",{"$nulls":11},"Science","01/15/2019 09:21 AM","Ted Meyer"]
["52152","4RYQTG2","Lindbergh High School","000Surplus","Dell E310Ddw Printer Monochrome Laser",null,"Available","Printer","2017-09-14","88.87","18-51645","ITsavvy","E310dw","Dell","Bryan Cintel","3c2af41fe097",null,null,"27870-6412",{"$nulls":3},"DataMax # VHS709",{"$nulls":6},"Science","01/15/2019 09:21 AM","Ted Meyer"]
["51981","CVZBG62","Lindbergh High School","000Surplus","Dell E310Ddw Printer Monochrome Laser",null,"Available","Printer","2017-04-04","88.00","17-39799","TwoTrees","E310dw","Dell","ANDREW EDWARDS",{"$nulls":3},"27870-6411",{"$nulls":3},"DATAMAX vh682",{"$nulls":6},"Science","01/15/2019 09:21 AM","Ted Meyer"]
["52265","GQ0RTG2","Lindbergh High School","000Surplus","Dell E310Ddw Printer Monochrome Laser",null,"Available","Printer","2018-01-19","88.65","18-53351","CDW","E310dw","Dell","Steve Banning",{"$nulls":3},"27870-6411",{"$nulls":10},"Science","01/15/2019 09:21 AM","Ted Meyer"]
["42052","185-1C84","Lindbergh High School","000Surplus","Dell 2350dn Laser Printer",null,"Available","Printer","2011-09-02","212.59","12-37359","B2B Computer","2350dn","Dell",{"$nulls":4},"27870-6541",{"$nulls":10},"Social Studies","01/15/2019 09:21 AM","Ted Meyer"]
["38991","CN-0DX798-48730-07Q-0ZTW","Lindbergh High School","000Surplus","Dell 2330dn Laser Printer",null,"Available","Printer",{"$nulls":4},"2330dn","Dell",{"$nulls":3},"10.0.21.2",{"$nulls":11},"Social Studies","01/15/2019 09:21 AM","Ted Meyer"]
["46182","CN-0DX798-48730-08E-1625","Lindbergh High School","000Surplus","Dell 2330dn Laser Printer",null,"Available","Printer",{"$nulls":4},"2330dn","Dell",{"$nulls":3},"10.0.21.9",{"$nulls":11},"Social Studies","01/15/2019 09:21 AM","Ted Meyer"]
["41651","CN-0TNW57-48730-293-2Y6V","Lindbergh High School","000Surplus","Dell 2350dn Laser Printer",null,"Available","Printer",{"$nulls":4},"2350dn","Dell",{"$nulls":3},"10.0.21.12",{"$nulls":11},"Social Studies","01/15/2019 09:21 AM","Ted Meyer"]
["42132","CN-0TNW57-48730-185-1C85","Lindbergh High School","000Surplus","Dell 2330dn Laser Printer",null,"Available","Printer",{"$nulls":4},"2330dn","Dell",{"$nulls":15},"Social Studies","01/15/2019 09:21 AM","Ted Meyer"]
["52148","7RYQTG2","Lindbergh High School","000Surplus","Dell E310Ddw Printer Monochrome Laser",null,"Available","Printer","2017-09-14","88.87","18-51645","ITsavvy","E310dw","Dell","Andy Butler","3c2af41fe09a",null,null,"27870-6412",{"$nulls":3},"DataMax # VHS705",{"$nulls":6},"Social Studies","01/15/2019 09:21 AM","Ted Meyer"]
["41416","185-1C79","Lindbergh High School","000Surplus","Dell 2350dn Laser Printer",null,"Available","Printer","2011-09-02","212.59","12-37359","B2B Computer","2350dn","Dell",{"$nulls":3},"10.0.21.5","27870-6541",{"$nulls":10},"Social Studies","01/15/2019 09:21 AM","Ted Meyer"]
["46180","31E-06PZ","Lindbergh High School","000Surplus","Dell 2360dn Laser Printer",null,"Available","Printer","2013-08-08","203.04",null,"ITSavvy","2360dn","Dell",{"$nulls":3},"10.0.21.4","27870-6541",{"$nulls":10},"Social Studies","01/15/2019 09:21 AM","Ted Meyer"]
["41338","15J-0YWN","Lindbergh High School","000Surplus","Dell 2350dn Laser Printer",null,"Available","Printer","2011-07-05","256.99","12-37359","Dell","2350dn","Dell",{"$nulls":3},"10.0.21.120","27870-6541",{"$nulls":10},"English","01/15/2019 09:21 AM","Ted Meyer"]
["49403","DH83G62","Lindbergh High School","000Surplus","Dell E310Ddw Printer Monochrome Laser",null,"Available","Printer","2017-01-12","75.84","17-38841","CDW-G","E310dw","Dell","Maggie Zehner",{"$nulls":3},"27870-6411",{"$nulls":3},"DATAMAX VH319",{"$nulls":6},"English","01/15/2019 09:21 AM","Ted Meyer"]
["48286","G1BRSS1","Lindbergh High School","000Surplus","Dell 2360dn Laser Printer",null,"Available","Printer",{"$nulls":4},"2360dn","Dell",{"$nulls":3},"10.0.21.122",{"$nulls":11},"English","01/15/2019 09:21 AM","Ted Meyer"]
["41000","CN-0DX787-48730-98M-1F06","Lindbergh High School","000Surplus","Dell 2330dn Laser Printer",null,"Available","Printer","2010-06-16","229.00","11-35670","Dell","2330dn","Dell",{"$nulls":4},"27870-6541",{"$nulls":10},"English","01/15/2019 09:21 AM","Ted Meyer"]
["39021","CN-0DX787-48730-92C-0OFF","Lindbergh High School","000Surplus","Dell 2330dn Laser Printer",null,"Available","Printer","2009-05-26","218.27","09-33659","Dell","2330dn","Dell",{"$nulls":4},"27870-6411",{"$nulls":3},"model # 2330dn",{"$nulls":6},"English","01/15/2019 09:21 AM","Ted Meyer"]
["40362","CN-0DX787-48730-98M-1FKD","Lindbergh High School","000Surplus","Dell 2330dn Laser Printer",null,"Available","Printer","2009-09-11","208.00","10-34400","Dell","2330dn","Dell",{"$nulls":15},"English","01/15/2019 09:21 AM","Ted Meyer"]
["39866","O8E-15F7","Lindbergh High School","000Surplus","Dell 2350dn Laser Printer",null,"Available","Printer","2010-11-19","229.00","11-36398","Dell","2350dn","Dell",{"$nulls":4},"27870-6541",{"$nulls":10},"English","01/15/2019 09:21 AM","Ted Meyer"]
["40828","07R-10H9","Lindbergh High School","000Surplus","Dell 2350dn Laser Printer",null,"Available","Printer","2010-11-19","229.00","11-36398","Dell","2350dn","Dell",{"$nulls":4},"27870-6541",{"$nulls":10},"English","01/15/2019 09:21 AM","Ted Meyer"]
["46178","CN-0DX798-48730-05B-01SN","Lindbergh High School","000Surplus","Dell 2330dn Laser Printer",null,"Available","Printer",{"$nulls":4},"2330dn","Dell",{"$nulls":3},"10.0.21.123",{"$nulls":11},"English","01/15/2019 09:21 AM","Ted Meyer"]
["39786","CN-0DX78-48730-07R-10H0","Lindbergh High School","000Surplus","Dell 2330dn Laser Printer",null,"Available","Printer","2010-10-08","229.00","11-36188","Dell","2330dn","Dell",{"$nulls":4},"27870-6541",{"$nulls":10},"Academy","01/15/2019 09:21 AM","Ted Meyer"]
["47781","CN-0TNW57-48730-21BB-2546","Lindbergh High School","000Surplus","Dell 2350dn Laser Printer",null,"Available","Printer",{"$nulls":4},"2350dn","Dell","Ronnie Zagora",{"$nulls":14},"Administration","01/15/2019 10:39 AM","Ted Meyer"]
["47773","CN-0K2JJD-48730-36O-0PWY","Lindbergh High School","000Surplus","Dell 2360dn Laser Printer",null,"Available","Printer",{"$nulls":4},"2360dn","Dell","Mary Hannah",{"$nulls":14},"Administration","01/15/2019 10:39 AM","Ted Meyer"]
["44755","CN-0K2JJD-48730-44F-I0II","Lindbergh High School","000Surplus","Dell 2360dn Laser Printer",null,"Available","Printer",{"$nulls":4},"2360dn","Dell",{"$nulls":3},"10.0.21.125",{"$nulls":11},"Family and Consumer Science","01/15/2019 09:21 AM","Ted Meyer"]
["38998","08E-15FB","Lindbergh High School","000Surplus","Dell 2350dn Laser Printer",null,"Available","Printer","2010-11-19","229.00","11-36398","Dell","2350dn","Dell",{"$nulls":4},"27870-6541",{"$nulls":10},"Guidance","01/15/2019 09:21 AM","Ted Meyer"]
["49332","5B4-3HCB","Lindbergh High School","000Surplus","Dell B2360dn Laser Printer",null,"Available","Printer","2016-07-19","155.63","17-36550","CDW-G","B2360dn","Dell","Megan Roegner",{"$nulls":3},"27870-6411",{"$nulls":11},"01/15/2019 09:21 AM","Ted Meyer"]
["54320","U64965G8N571405","Lindbergh High School","000Surplus","Brother HL-L2370dw Printer",null,"Available","Printer","2018-11-02","85.53","19-56459","Firefly Computers","HL-2370DW","Brother","Joan Hereford",{"$nulls":3},"TE PD",{"$nulls":11},"01/15/2019 09:22 AM","Ted Meyer"]
["53926","U64965G8N571416","Lindbergh High School","000Surplus","Brother HL-L2370dw Printer",null,"Available","Printer","2018-11-02","85.53","19-56459","Firefly Computers","HL-2370DW","Brother",{"$nulls":4},"TE PD",{"$nulls":11},"01/15/2019 09:22 AM","Ted Meyer"]
["53837","U64965G8N568728","Lindbergh High School","000Surplus","Brother HL-L2350DW Monochrome Laser Printer",null,"Available","Printer","2018-09-28","85.53","19-55876","Best Buy","HL-L2350DW","Brother",{"$nulls":4},"TE PD",{"$nulls":11},"01/15/2019 09:22 AM","Ted Meyer"]
["53838","U64965G8N568721","Lindbergh High School","000Surplus","Brother HL-L2350DW Monochrome Laser Printer",null,"Available","Printer","2018-09-28","85.53","19-55876","Best Buy","HL-L2350DW","Brother",{"$nulls":4},"TE PD",{"$nulls":11},"01/15/2019 09:22 AM","Ted Meyer"]
["49489","CBZ9G62","Lindbergh High School","000Surplus","Dell E310Ddw Printer Monochrome Laser",null,"Available","Printer","2017-02-08","88.65","17-39307","CDW-G","E310dw","Dell","David Records",{"$nulls":3},"27870-6411",{"$nulls":3},"DataMax #VH322",{"$nulls":7},"01/15/2019 09:21 AM","Ted Meyer"]
["49490","9BZ9G62","Lindbergh High School","000Surplus","Dell E310Ddw Printer Monochrome Laser",null,"Available","Printer","2017-02-08","88.65","17-39307","CDW-G","E310dw","Dell","Rachel Kleinberg",{"$nulls":3},"27870-6411",{"$nulls":3},"DataMax #VH323",{"$nulls":7},"01/15/2019 09:21 AM","Ted Meyer"]
["48069","97YPSS1","Lindbergh High School","000Surplus","Dell B2360dn Laser Printer",null,"Available","Printer","2013-08-08","203.04",null,"ITSavvy","B2360dn","Dell",{"$nulls":4},"27870-6541",{"$nulls":10},"Technology","01/15/2019 09:21 AM","Ted Meyer"]
["39141","CN-0DX787-48730-94H-0TXZ","Lindbergh High School","000Surplus","Dell 2330dn Laser Printer",null,"Available","Printer","2009-09-11","208.00","10-34400","Dell","2330dn","Dell",{"$nulls":3},"10.,0.21.207",{"$nulls":4},"Kar'ls budget",{"$nulls":6},"Math","01/15/2019 09:21 AM","Ted Meyer"]
["38963","CN-0DX787-48730-976-190S","Lindbergh High School","000Surplus","Dell 2330dn Laser Printer",null,"Available","Printer","2009-08-18","229.00","10-34171","Dell","2330dn","Dell",{"$nulls":4},"27870-6541",{"$nulls":10},"Math","01/15/2019 09:21 AM","Ted Meyer"]
["40512","185-1C8D","Lindbergh High School","000Surplus","Dell 2350dn Laser Printer",null,"Available","Printer","2011-09-02","212.59","12-37359","B2B Computer","2350dn","Dell",{"$nulls":4},"27870-6541",{"$nulls":10},"Math","01/15/2019 09:21 AM","Ted Meyer"]
["48030","31E-06PK","Lindbergh High School","000Surplus","Dell 2360dn Laser Printer",null,"Available","Printer","2013-08-08","203.04",null,"ITSavvy","2360dn","Dell",{"$nulls":3},"10.0.21.205","27870-6541",{"$nulls":10},"Math","01/15/2019 09:21 AM","Ted Meyer"]
["46411","9KWY342","Lindbergh High School","000Surplus","Dell 2360dn Laser Printer",null,"Available","Printer","2015-06-10","154.93","15-23025","ITsavvy","2360dn","Dell","HSMATH2-PRINTER",null,null,"10.40.21.81","2787-06411",{"$nulls":10},"Math","01/15/2019 09:21 AM","Ted Meyer"]
["40401","CN-0DX798-48730-07E-0X97","Lindbergh High School","000Surplus","Dell 1720dn Laser Printer",null,"Available","Printer","2010-09-02","229.00","11-35989","Dell","1720dn","Dell",{"$nulls":4},"27870-6541",{"$nulls":10},"Office","01/15/2019 09:21 AM","Ted Meyer"]
["39861","CN-0DX787-48730-98M-1FL4","Lindbergh High School","000Surplus","Dell 2330dn Laser Printer",null,"Available","Printer",{"$nulls":4},"2330dn","Dell",{"$nulls":3},"10.0.21.206",{"$nulls":11},"Science","01/15/2019 09:21 AM","Ted Meyer"]
["52167","HRLQTG2","Lindbergh High School","000Surplus","Dell E310Ddw Printer Monochrome Laser",null,"Available","Printer","2017-09-14","88.87","18-51645","ITsavvy","E310dw","Dell","Michelle Long","3c2af41f8c1b",null,null,"27870-6412",{"$nulls":3},"DataMax # VHS697",{"$nulls":6},"Science","01/15/2019 09:21 AM","Ted Meyer"]
["39742","CN-0DX798-48730-07Q-0ZU8","Lindbergh High School","000Surplus","Dell 2330dn Laser Printer",null,"Available","Printer","2010-10-08","229.00","11-36188","Dell","2330dn","Dell",{"$nulls":3},"10.0.21.101","27870-6541",{"$nulls":10},"Science","01/15/2019 09:21 AM","Ted Meyer"]
["39479","CN-0DX787-48730-98M-1FMC","Lindbergh High School","000Surplus","Dell 2330dn Laser Printer",null,"Available","Printer","2009-09-11","208.00","10-34400","Dell","2330dn","Dell",{"$nulls":3},"10.0.21.109","27870-6541",{"$nulls":10},"Science","01/15/2019 09:21 AM","Ted Meyer"]
["40359","CN-0DX787-48730-05A-0145","Lindbergh High School","000Surplus","Dell 2330dn Laser Printer",null,"Available","Printer","2009-09-11","208.00","10-34400","Dell","2330dn","Dell",{"$nulls":15},"SSD","01/15/2019 09:21 AM","Ted Meyer"]
["49183","CNOK2JJD487305AS3GBL","Lindbergh High School","000Surplus","Dell B2360dn Laser Printer",null,"Available","Printer","2016-07-28","155.63","17-36550","CDW-G","B2360dn","Dell","Mary Grobe",{"$nulls":3},"27870-6411",{"$nulls":3},"SERVICE TAG:",{"$nulls":7},"01/15/2019 09:21 AM","Ted Meyer"]
["49303","CNOK2JJD487305B43GY4","Lindbergh High School","000Surplus","Dell B2360dn Laser Printer",null,"Available","Printer","2016-07-28","155.63","17-36550","CDW-G","B2360dn","Dell","Nathan Norman",{"$nulls":3},"27870-6411",{"$nulls":3},"SERVICE TAG:",{"$nulls":7},"01/15/2019 09:21 AM","Ted Meyer"]
["39862",null,"Lindbergh High School","000Surplus","Dell 2330dn Laser Printer",null,"Available","Printer",{"$nulls":4},"2330dn","Dell",{"$nulls":16},"01/15/2019 09:21 AM","Ted Meyer"]
["49305","CN0K2JJD487305B43HC7","Lindbergh High School","000Surplus","Dell B2360dn Laser Printer",null,"Available","Printer","2016-07-28","155.63","17-36550","CDW-G","B2360dn","Dell","Melissa Darch",{"$nulls":3},"27870-6541",{"$nulls":3},"SERVICE TAG:  6X62442",{"$nulls":7},"01/15/2019 09:21 AM","Ted Meyer"]
["39661","CN-0DK795-73190-817-0953","Lindbergh High School","000Surplus","Dell 1720dn Laser Printer",null,"Available","Printer",{"$nulls":4},"1720dn","Dell",{"$nulls":16},"01/15/2019 09:21 AM","Ted Meyer"]
["39022","CN-0DX787-48730-???-1643","Lindbergh High School","000Surplus","Dell 2330dn Laser Printer",null,"Available","Printer","2009-08-18","229.00","10-34171","Dell","2330dn","Dell",{"$nulls":4},"27870-6541",{"$nulls":11},"01/15/2019 09:21 AM","Ted Meyer"]
["50613","P202D8ZZ","Lindbergh High School","022 For Parts","Lenovo 500e Chromebook (Gen 1)",null,"Available","Chromebook","2018-06-19","287.00","19-54624","Firefly Computers","500e","Lenovo","TRML2-CB-02","7c2a311c448b","2022/2023",null,"100-1151-6412-3080-07360-1-000",{"$nulls":3},"CHROMEBOOK MANAGEMENT CONSOLE @$23.49\nFIREFLY CHROMEBOOK SUPPORT FOR LENOVO\nLANSCHOOL PERPETUAL PER DEVICE LICENSE WITH 1 YR OF SNS",{"$nulls":3},"81ES0007US","CBRedistribute",null,"Modern Language","01/15/2019 10:00 AM","Ted Meyer"]
["53201","P202E863","Lindbergh High School","022 For Parts","Lenovo 500e Chromebook (Gen 1)",null,"Available","Chromebook","2018-06-19","287.00","19-54624","Firefly Computers","500e","Lenovo","SPML4-CB-06","7c7635fc4ebe","2022/2023",null,"100-1151-6412-3070-07360-1-000",{"$nulls":3},"CHROMEBOOK MANAGEMENT CONSOLE @$23.49\nFIREFLY CHROMEBOOK SUPPORT FOR LENOVO\nLANSCHOOL PERPETUAL PER DEVICE LICENSE WITH 1 YR OF SNS",{"$nulls":3},"81ES0007US","CBRedistribute",null,"Modern Language","01/15/2019 09:53 AM","Ted Meyer"]
["53157","P20268KL","Lindbergh High School","022 For Parts","Lenovo 500e Chromebook (Gen 1)",null,"Available","Chromebook","2018-06-19","287.00","19-54624","Firefly Computers","500e","Lenovo","SPML2-CB-18","38dead4889ce","2022/2023",null,"100-1151-6412-3070-07360-1-000",{"$nulls":3},"CHROMEBOOK MANAGEMENT CONSOLE @$23.49\nFIREFLY CHROMEBOOK SUPPORT FOR LENOVO\nLANSCHOOL PERPETUAL PER DEVICE LICENSE WITH 1 YR OF SNS",{"$nulls":3},"81ES0007US","Issued for Virtual Learning - COVID-19",null,"Modern Language","01/15/2019 09:53 AM","Ted Meyer"]
["54008","P2034GYF","Lindbergh High School","022 For Parts","Lenovo 500e Chromebook (Gen 1)",null,"Available","Chromebook","2018-10-04","310.49","19-55702","Firefly Computers","500e","Lenovo","SA-LIBLAB1-08","38baf85d3135","2022/2023",null,"TE PD",{"$nulls":7},"81ES0007US","Issued for Virtual Learning - COVID-19",null,"Library","01/15/2019 09:46 AM","Ted Meyer"]
["50945","P202D9QX","Lindbergh High School","022 For Parts","Lenovo 500e Chromebook (Gen 1)",null,"Available","Chromebook","2018-06-19","287.00","19-54624","Firefly Computers","500e","Lenovo","HSACAD-CB-028","7c2a311ad87b","2022/2023",null,"100-1151-6412-1050-07360-1-000",{"$nulls":3},"CHROMEBOOK MANAGEMENT CONSOLE @$23.49\nFIREFLY CHROMEBOOK SUPPORT FOR LENOVO\nLANSCHOOL PERPETUAL PER DEVICE LICENSE WITH 1 YR OF SNS",{"$nulls":3},"81ES0007US","Issued for Virtual Learning - COVID-19",null,"Academy","01/15/2019 09:21 AM","Ted Meyer"]
["50762","P202D9GD","Lindbergh High School","022 For Parts","Lenovo 500e Chromebook (Gen 1)",null,"Available","Chromebook","2018-06-19","287.00","19-54624","Firefly Computers","500e","Lenovo","HSSCML3-CB-13","7c2a311c4e63","2022/2023",null,"100-1151-6412-1050-07360-1-000",{"$nulls":3},"CHROMEBOOK MANAGEMENT CONSOLE @$23.49\nFIREFLY CHROMEBOOK SUPPORT FOR LENOVO\nLANSCHOOL PERPETUAL PER DEVICE LICENSE WITH 1 YR OF SNS",{"$nulls":3},"81ES0007US","Issued for Virtual Learning - COVID-19",null,"Science","01/15/2019 09:21 AM","Ted Meyer"]
["41510","9000432","Support Service Center","Facilities/Warehouse","Scantron Score Test Scoring Machine",null,"Available","Scanner",null,"2,589.00","12-38571","Scantron",{"$nulls":4},"UnKnown",{"$nulls":5},"Part# 359000007L",{"$nulls":6},"Library","01/15/2019 09:59 AM","Ted Meyer"]
["49308","CN-0K2JJD-48730-63Q-3RBA","Support Service Center","Facilities/Warehouse","Dell 2360dn Laser Printer",null,"Available","Printer","2016-08-02","181.84","17-36800","ITsavvy","2360dn","Dell","OT/PT",null,"2020/2021",null,"39038-65421",{"$nulls":3},"SERVICE TAG: 8GD3442",{"$nulls":7},"01/15/2019 08:38 AM","Ted Meyer"]
["53527","P202466D","Central Office","**Disposed","Lenovo 300e Chromebook",null,"Available","Chromebook","2018-08-01","276.49","19-54755","Firefly Computers","300e","Lenovo","TR-MODLANG-CB-01","a81d160a3719","2022/2023",null,"C&amp;I PD",{"$nulls":7},"81FY000BUS","CBRedistribute",null,"Technology","01/15/2019 10:00 AM","Ted Meyer"]
["53546","P2024HVK","Central Office","**Disposed","Lenovo 300e Chromebook",null,"Available","Chromebook","2018-08-01","276.49","19-54755","Firefly Computers","300e","Lenovo","TR-MODLANG-CB-20","a81d160ade87","2022/2023",null,"C&amp;I PD",{"$nulls":7},"81FY000BUS","CBRedistribute",null,"Technology","01/15/2019 10:00 AM","Ted Meyer"]
["43597","DMQJ87LDDJ8T","Central Office","**Disposed","Apple iPad 16GB WIFI (3rd Gen)",null,"Available","iPad","2012-08-22","479.00","13-10778","Apple","MC705LL/A","Apple",null,"98fe94ceb420","2016/2017",null,"27870-6541",{"$nulls":7},"A1416",null,null,"3rd Grade","01/15/2019 08:40 AM","Ted Meyer"]
["53749","P2020KEA","Central Office","**Disposed","Lenovo 300e Chromebook",null,"Available","Chromebook","2018-06-19","276.49","19-54598","Firefly Computers","300e","Lenovo","Sophia Courtois","a81d1606796d","2022/2023",null,"LO Soda",null,null,"Building Budget",{"$nulls":4},"81FY000BUS","CBRedistribute",null,"4th Grade","01/15/2019 09:35 AM","Ted Meyer"]
["53746","P2020LUV","Central Office","**Disposed","Lenovo 300e Chromebook",null,"Available","Chromebook","2018-06-19","276.49","19-54598","Firefly Computers","300e","Lenovo","LOLIB-14/Blackburn","a81d16066fdd","2022/2023",null,"LO Soda",null,null,"Building Budget",{"$nulls":4},"81FY000BUS","CBRedistribute",null,"5th Grade","01/15/2019 09:35 AM","Ted Meyer"]
["43577","DMPJ9DHHDJ8T","Central Office","**Disposed","Apple iPad 16GB WIFI (3rd Gen)",null,"Available","iPad","2012-08-22","479.00","13-10778","Apple","MC705LL/A","Apple","Kim Leighton","d8004dddc389",null,null,"27870-6541",{"$nulls":7},"A1416",null,null,"4th Grade","01/15/2019 09:34 AM","Ted Meyer"]
["48352","DMPMRG4CF182","Central Office","**Disposed","Apple iPad 16GB WIFI (4th Gen)",null,"Available","iPad","2014-05-21","399.00","14-19270","Apple","MD510LL/A","Apple",null,"e498d69eb2dd","2018/2019",null,"11310-6542",{"$nulls":7},"A1458",null,null,"4th Grade","01/15/2019 09:34 AM","Ted Meyer"]
["43009","DMPHN689DJ8T","Central Office","**Disposed","Apple iPad 16GB WIFI (3rd Gen)",null,"Available","iPad","2012-05-07","479.00","12-40102","Apple","MD339LL/A","Apple",null,"64200c572da5",null,null,"31213-6541",{"$nulls":7},"A1416",null,null,"4th Grade","01/15/2019 09:34 AM","Ted Meyer"]
["53750","P2020M17","Central Office","**Disposed","Lenovo 300e Chromebook",null,"Available","Chromebook","2018-06-19","276.49","19-54598","Firefly Computers","300e","Lenovo","LOLIB-18/Blackburn","a81d16066c3b","2022/2023",null,"LO Soda",null,null,"Building Budget",{"$nulls":4},"81FY000BUS","CBRedistribute",null,"5th Grade","01/15/2019 09:35 AM","Ted Meyer"]
["53751","P2020L84","Central Office","**Disposed","Lenovo 300e Chromebook",null,"Available","Chromebook","2018-06-19","276.49","19-54598","Firefly Computers","300e","Lenovo","LOLIB-19/Judd","ab1d162aeb3d","2022/2023",null,"LO Soda",null,null,"Building Budget",{"$nulls":4},"81FY000BUS","CBRedistribute",null,"5th Grade","01/15/2019 09:35 AM","Ted Meyer"]
["53753","P2021CTR","Central Office","**Disposed","Lenovo 300e Chromebook",null,"Available","Chromebook","2018-06-19","276.49","19-54598","Firefly Computers","300e","Lenovo","LOLIB-21/Judd","a81d16097e07","2022/2023",null,"LO Soda",null,null,"Building Budget",{"$nulls":4},"81FY000BUS","CBRedistribute",null,"5th Grade","01/15/2019 09:35 AM","Ted Meyer"]
["53755","P2020LFE","Central Office","**Disposed","Lenovo 300e Chromebook",null,"Available","Chromebook","2018-06-19","276.49","19-54598","Firefly Computers","300e","Lenovo","LOLIB-23/Judd","a81d16066c43","2022/2023",null,"LO Soda",null,null,"Building Budget",{"$nulls":4},"81FY000BUS","CBRedistribute",null,"5th Grade","01/15/2019 09:35 AM","Ted Meyer"]
["53756","P2020L2M","Central Office","**Disposed","Lenovo 300e Chromebook",null,"Available","Chromebook","2018-06-19","276.49","19-54598","Firefly Computers","300e","Lenovo","LOLIB-24/Naeger","a81d160656fd","2022/2023",null,"LO Soda",null,null,"Building Budget",{"$nulls":4},"81FY000BUS","CBRedistribute",null,"5th Grade","01/15/2019 09:35 AM","Ted Meyer"]
["53758","P2020KC3","Central Office","**Disposed","Lenovo 300e Chromebook",null,"Available","Chromebook","2018-06-19","276.49","19-54598","Firefly Computers","300e","Lenovo","LOTLAB-27/Naeger","a81d1606793b","2022/2023",null,"LO Soda",null,null,"Building Budget",{"$nulls":4},"81FY000BUS","CBRedistribute",null,"5th Grade","01/15/2019 09:35 AM","Ted Meyer"]
["53759","P2020LVN","Central Office","**Disposed","Lenovo 300e Chromebook",null,"Available","Chromebook","2018-06-19","276.49","19-54598","Firefly Computers","300e","Lenovo","LOTLAB-28/Scalise","a81d160670af","2022/2023",null,"LO Soda",null,null,"Building Budget",{"$nulls":4},"81FY000BUS","CBRedistribute",null,"5th Grade","01/15/2019 09:35 AM","Ted Meyer"]
["46012","DMPP6NTTFK10","Central Office","**Disposed","Apple iPad Air 16GB WIFI (1st Gen)",null,"Available","iPad","2015-02-05","379.00","15-21500","Apple Store","PD785LL/B","Apple","lotech-02","5cf5da5d4d7a","2019/2020",null,"15620-6411",null,null,"Building Budget","C&amp;amp;I HS Instruct Material &amp;amp; Software",{"$nulls":3},"A1474",null,null,"Library","01/15/2019 09:35 AM","Ted Meyer"]
["46014","DMPP6NU8FK10","Central Office","**Disposed","Apple iPad Air 16GB WIFI (1st Gen)",null,"Available","iPad","2015-02-05","379.00","15-21500","Apple Store","PD785LL/B","Apple","lotech-04","5cf5da5c4403","2019/2020",null,"15620-6411",null,null,"Building Budget","C&amp;amp;I HS Instruct Material &amp;amp; Software",{"$nulls":3},"A1474",null,null,"Library","01/15/2019 09:35 AM","Ted Meyer"]
["46013","DMPP6NWWFK10","Central Office","**Disposed","Apple iPad Air 16GB WIFI (1st Gen)",null,"Available","iPad","2015-02-05","379.00","15-21500","Apple Store","PD785LL/B","Apple","lotech-03","5cf5da5dacb5","2019/2020",null,"15620-6411",null,null,"Building Budget","C&amp;amp;I HS Instruct Material &amp;amp; Software",{"$nulls":3},"A1474",null,null,"Library","01/15/2019 09:35 AM","Ted Meyer"]
["53544","P2024A0Q","Central Office","**Disposed","Lenovo 300e Chromebook",null,"Available","Chromebook","2018-08-01","276.49","19-54755","Firefly Computers","300e","Lenovo","TR-MODLANG-CB-18","a81d160a5b43","2022/2023",null,"C&amp;I PD",{"$nulls":7},"81FY000BUS","CBRedistribute",null,"Modern Language","01/15/2019 10:00 AM","Ted Meyer"]
["53478","P20249JZ","Central Office","**Disposed","Lenovo 300e Chromebook",null,"Available","Chromebook","2018-08-01","276.49","19-54755","Firefly Computers","300e","Lenovo","SP-MODLANG-CB-06","a81d160aa0db","2022/2023",null,"C&amp;I PD",null,null,"Dept Budget",{"$nulls":4},"81FY000BUS","CBRedistribute",null,"Modern Language","01/15/2019 09:53 AM","Ted Meyer"]
["53540","P2024HUL","Central Office","**Disposed","Lenovo 300e Chromebook",null,"Available","Chromebook","2018-08-01","276.49","19-54755","Firefly Computers","300e","Lenovo","TR-MODLANG-CB-14","a81d160acb03","2022/2023",null,"C&amp;I PD",null,null,"Dept Budget",{"$nulls":4},"81FY000BUS","CBRedistribute",null,"Modern Language","01/15/2019 10:00 AM","Ted Meyer"]
["53486","P2023RU2","Central Office","**Disposed","Lenovo 300e Chromebook",null,"Available","Chromebook","2018-08-01","276.49","19-54755","Firefly Computers","300e","Lenovo","SP-MODLANG-CB-14","a81d160a854b","2022/2023",null,"C&amp;I PD",null,null,"Dept Budget",{"$nulls":4},"81FY000BUS","CBRedistribute",null,"Modern Language","01/15/2019 09:53 AM","Ted Meyer"]
["53552","P2024HRR","Central Office","**Disposed","Lenovo 300e Chromebook",null,"Available","Chromebook","2018-08-01","276.49","19-54755","Firefly Computers","300e","Lenovo","TR-MODLANG-CB-26","a81d1606727d","2022/2023",null,"C&amp;I PD",null,null,"Dept Budget",{"$nulls":4},"81FY000BUS","CBRedistribute",null,"Modern Language","01/15/2019 10:00 AM","Ted Meyer"]
["53553","P2024AN8","Central Office","**Disposed","Lenovo 300e Chromebook",null,"Available","Chromebook","2018-08-01","276.49","19-54755","Firefly Computers","300e","Lenovo","TR-MODLANG-CB-27","a81d160ae371","2022/2023",null,"C&amp;I PD",null,null,"Dept Budget",{"$nulls":4},"81FY000BUS","CBRedistribute",null,"Modern Language","01/15/2019 10:00 AM","Ted Meyer"]
["43206","DMPJ95M9DJ8T","Central Office","**Disposed","Apple iPad 16GB WIFI (3rd Gen)",null,"Available","iPad","2012-11-15","499.00","13-11912","Apple","MC705LL/A","Apple","LOLIB-16","d8004dddb469","2016/2017",null,"27870-6541",{"$nulls":7},"A1416",null,null,"Library","01/15/2019 09:34 AM","Ted Meyer"]
["43208","DMPJNDJHDJ8T","Central Office","**Disposed","Apple Ipad 4 w/Retina wifi 16gb black",null,"Available","iPad","2012-11-15","499.00","13-11912","Apple","iPad 4","Apple","LOLIB-15","d8004dde375a","2016/2017",null,"27870-6541",{"$nulls":10},"Library","01/15/2019 09:34 AM","Ted Meyer"]
["45861","DMPL1BTCF182","Central Office","**Disposed","Apple iPad 16GB WIFI (4th Gen)",null,"Available","iPad","2013-07-01","499.00","14-15269","Apple","MD510LL/A","Apple","LOLIB-11","a888089508ec","2017/2018",null,"27870-6541",{"$nulls":7},"A1458",null,null,"Library","01/15/2019 09:34 AM","Ted Meyer"]
["45865","DMPL1C8JF182","Central Office","**Disposed","Apple iPad 16GB WIFI (4th Gen)",null,"Available","iPad","2013-07-01","499.00","14-15269","Apple","MD510LL/A","Apple","LOLIB-08","a8880889f2e9","2017/2018",null,"27870-6541",{"$nulls":7},"A1458",null,null,"Library","01/15/2019 09:34 AM","Ted Meyer"]
["45866","DMPL1C2QF182","Central Office","**Disposed","Apple iPad 16GB WIFI (4th Gen)",null,"Available","iPad","2013-07-01","499.00","14-15269","Apple","MD510LL/A","Apple","LOLIB-05","a888088a91b4","2017/2018",null,"27870-6541",{"$nulls":7},"A1458",null,null,"Library","01/15/2019 09:34 AM","Ted Meyer"]
["45873","DMPL1C75F182","Central Office","**Disposed","Apple iPad 16GB WIFI (4th Gen)",null,"Available","iPad","2013-07-01","499.00","14-15269","Apple","MD510LL/A","Apple","LOLIB-07","a8880896bc26","2017/2018",null,"27870-6541",{"$nulls":7},"A1458",null,null,"Library","01/15/2019 09:34 AM","Ted Meyer"]
["45880","DMPL1BKJF182","Central Office","**Disposed","Apple iPad 16GB WIFI (4th Gen)",null,"Available","iPad","2013-07-01","499.00","14-15269","Apple","MD510LL/A","Apple","LOLIB-06","a888088984e6","2017/2018",null,"27870-6541",{"$nulls":7},"A1458",null,null,"Library","01/15/2019 09:34 AM","Ted Meyer"]
["45892","DMPL1CT1F182","Central Office","**Disposed","Apple iPad 16GB WIFI (4th Gen)",null,"Available","iPad","2013-07-01","499.00","14-15269","Apple","MD510LL/A","Apple","LOLIB-10","a888088a8fb9","2017/2018",null,"27870-6541",{"$nulls":7},"A1458",null,null,"Library","01/15/2019 09:34 AM","Ted Meyer"]
["48990","DMPKXVH0F182","Central Office","**Disposed","Apple iPad 16GB WIFI (4th Gen)",null,"Available","iPad","2013-07-01","499.00","14-15269","Apple","MD510LL/A","Apple","LOLIB-13","a8880891297f","2017/2018",null,"27870-6541",{"$nulls":7},"A1458",null,null,"Library","01/15/2019 09:34 AM","Ted Meyer"]
["48992","DMPL1C3JF182","Central Office","**Disposed","Apple iPad 16GB WIFI (4th Gen)",null,"Available","iPad","2013-07-01","499.00","14-15269","Apple","MD510LL/A","Apple","LOLIB-12","a88808896218","2017/2018",null,"27870-6541",{"$nulls":7},"A1458",null,null,"Library","01/15/2019 09:34 AM","Ted Meyer"]
["48991","DMPL1BRSF182","Central Office","**Disposed","Apple iPad 16GB WIFI (4th Gen)",null,"Available","iPad","2013-07-01","499.00","14-15269","Apple","MD510LL/A","Apple","LOLIB-09","a88808930e8a","2017/2018",null,"27870-6541",{"$nulls":7},"A1458",null,null,"Library","01/15/2019 09:34 AM","Ted Meyer"]
["48982","DMPL1BZEF182","Central Office","**Disposed","Apple iPad 16GB WIFI (4th Gen)",null,"Available","iPad","2013-07-01","499.00","14-15269","Apple","MD510LL/A","Apple","LOLIB-14","a8880889e747","2017/2018",null,"27870-6541",{"$nulls":7},"A1458",null,null,"Library","01/15/2019 09:34 AM","Ted Meyer"]
["43946","DMPJDYNQF182","Central Office","**Disposed","Apple iPad 16GB WIFI (4th Gen)",null,"Available","iPad","2012-11-15","499.00","13-11912","Apple","MD510LL/A","Apple","Jen Zwart","34c0595cb1b8",null,null,"27870-6541",{"$nulls":7},"A1458",null,null,"Reading","01/15/2019 08:37 AM","Ted Meyer"]
["41633","DMPJF41UF182","Central Office","**Disposed","Apple iPad 16GB WIFI (4th Gen)",null,"Available","iPad","2012-11-15","499.00","13-11912","Apple","MD510LL/A","Apple","Angela Bachelier","34c05956b308",null,null,"27870-6541",{"$nulls":7},"A1458",null,null,"Reading","01/15/2019 08:37 AM","Ted Meyer"]
["48347","DMRMP5R9F182","Central Office","**Disposed","Apple iPad 16GB WIFI (4th Gen)",null,"Available","iPad","2014-05-15","399.00","14-19206","Apple","MD510LL/A","Apple","Formerly office, but no longer needed","e498d68bdd7e","2018/2019",null,"29541-6542",null,null,"Building Budget",{"$nulls":4},"A1458",null,null,"Reading","01/15/2019 08:37 AM","Ted Meyer"]
["43937","DMRJF6QPF182","Central Office","**Disposed","Apple iPad 16GB WIFI (4th Gen)",null,"Available","iPad","2012-11-15","499.00","13-11912","Apple","MD510LL/A","Apple",null,"f0d1a93c4e86",null,null,"27870-6541",{"$nulls":7},"A1458",null,null,"SSD","01/15/2019 08:34 AM","Ted Meyer"]
["43563","DMPJ976VDJ8T","Central Office","**Disposed","Apple iPad 16GB WIFI (3rd Gen)",null,"Available","iPad","2012-08-22","479.00","13-10778","Apple","MC705LL/A","Apple","LO-SSD-014-02","d8004ddb2399",null,null,"27870-6541",{"$nulls":7},"A1416",null,null,"SSD","01/15/2019 10:07 AM","Ted Meyer"]
["43049","DMQHMHRUDJ8T","Central Office","**Disposed","Apple iPad 16GB WIFI (3rd Gen)",null,"Available","iPad","2012-05-07","479.00","12-40102","Apple","MD339LL/A","Apple","Michael Kuhn","64200c5d2ab4","2016/2017",null,"31213-6541",{"$nulls":7},"A1416",null,null,"LEAP","01/15/2019 09:52 AM","Ted Meyer"]
["45868","DMPL1BLPF182","Central Office","**Disposed","Apple iPad 16GB WIFI (4th Gen)",null,"Available","iPad","2013-07-01","499.00","14-15269","Apple","MD510LL/A","Apple","Sally Dallman","a8880889801c",null,null,"27870-6541",{"$nulls":7},"A1458",null,null,"Technology","01/15/2019 08:34 AM","Ted Meyer"]
["49493","DMQJ8C6MDJ8T","Long Elementary","**Surplus","Apple iPad 16GB WIFI (3rd Gen)",null,"Available","iPad","2012-08-22","479.00","13-10778","Apple","MC705LL/A","Apple","LO-SSD-014-01","d8004dded69d",null,null,"27870-6541",{"$nulls":6},"Replaced R8: 43367 (2/5/2019)","A1416",{"$nulls":3},"01/15/2019 08:37 AM","Ted Meyer"]
["41484","R9EEXNC","Sperreng Middle","**Surplus","Lenovo ThinkPad x220 Tablet Laptop",null,"Available","Laptop","2011-06-23","1,425.00","12-37311","TwoTrees","X220","Lenovo","SPLoaner-01","a088b475c998",null,null,"27870-6541",{"$nulls":7},"42963MU",{"$nulls":3},"01/15/2019 09:52 AM","Ted Meyer"]
["48058","V111426","Sperreng Middle","**Surplus","Lenovo ThinkVision 23\" Monitor",null,"Available","Monitor","2013-07-16","185.00","14-15477","TwoTrees","LS2323","Lenovo",{"$nulls":4},"27870-6541",{"$nulls":11},"01/15/2019 09:21 AM","Ted Meyer"]
["48440",null,"Sperreng Middle","**Surplus","Bretford A/V Learning Cart",null,"Available","Cart","2007-09-04","305.00","08-29976","CDWG","ECILS3-BK","Bretford",{"$nulls":4},"27870-6541",{"$nulls":11},"01/15/2019 09:52 AM","Ted Meyer"]
["39546",null,"Sperreng Middle","**Surplus","Bretford A/V Learning Cart",null,"Available","Cart","2009-08-10","320.00","10-34109","CDWG","ECILS3-BK","Bretford",{"$nulls":4},"27870-6541",{"$nulls":11},"01/15/2019 09:52 AM","Ted Meyer"]
["48406",null,"Sperreng Middle","**Surplus","ELMO TT-02RX Document Camera",null,"Available","Document Camera",{"$nulls":4},"TT-02RX","ELMO",null,null,"UnKnown",{"$nulls":13},"01/15/2019 09:52 AM","Ted Meyer"]
["39159","108326","Sperreng Middle","**Surplus","ELMO TT-02s Document Camera",null,"Available","Document Camera","2009-08-10","529.00","10-34109","CDWG","TT-02s","ELMO",{"$nulls":4},"27870-6541",{"$nulls":11},"01/15/2019 09:52 AM","Ted Meyer"]
["38016","SG1A0835007748","Sperreng Middle","**Surplus","Philips DVD/VCR Combo",null,"Available","VCR/DVD Combo","2008-10-22","79.98","petty case","Target","DVP-3345V","Phillips",{"$nulls":8},"for Sperrent Trailerpaid for thru facilities",{"$nulls":7},"01/15/2019 09:52 AM","Ted Meyer"]
["39564","108338","Sperreng Middle","**Surplus","ELMO TT-02s Document Camera",null,"Available","Document Camera","2009-08-10","529.00","10-34109","CDWG","TT-02s","ELMO",{"$nulls":4},"27870-6541",{"$nulls":11},"01/15/2019 09:52 AM","Ted Meyer"]
["36184","J704036","Crestwood Elementary","**Surplus","Anchor - 30-Watt Powered Speaker",null,"Available","Speaker","2007-12-28","169.95","08-30700","LONG ELECTRONICS","AN-130","Anchor",{"$nulls":4},"27870-6541",{"$nulls":10},"Technology","01/15/2019 08:34 AM","Ted Meyer"]
["52164","DRLQTG2","Lindbergh High School","000Surplus","Dell E310Ddw Printer Monochrome Laser",null,"Available","Printer","2017-09-14",null,"18-51645",null,"E310dw","Dell",null,"3c2af41f8c21",null,null,"27870-6412",{"$nulls":3},"DataMax # VHS694",{"$nulls":7},"01/15/2019 10:07 AM","Ted Meyer"]
["43531","DMQJ87YMDJ8T","Long Elementary","**Surplus","Apple iPad 16GB WIFI (3rd Gen)",null,"Available","iPad","2012-08-22",null,"13-10778",null,"MC705LL/A","Apple","LO-SSD-004-01","98fe94ce8fd5",null,null,"27870-6541",{"$nulls":7},"A1416",{"$nulls":3},"01/15/2019 10:07 AM","Ted Meyer"]
["42194",null,"Truman Middle","Warehouse","ELMO Document Camera",null,"Available","Document Camera",{"$nulls":5},"ELMO","Surplus",null,"UnKnown",{"$nulls":10},"no longer used",null,"Technology","01/15/2019 09:59 AM","Ted Meyer"]
["40708","544926","Truman Middle","Warehouse","ELMO TT-02RX Document Camera",null,"Available","Document Camera",{"$nulls":4},"TT-02RX","ELMO","Surplus",null,"UnKnown",{"$nulls":10},"no longer used",null,"Technology","01/15/2019 09:59 AM","Ted Meyer"]
["38045","556443","Truman Middle","Warehouse","ELMO TT-02s Document Camera",null,"Available","Document Camera","2008-07-24","529.00","09-32054","CDWG","TT-02s","ELMO","Surplus",{"$nulls":3},"27870-6541",{"$nulls":8},"no longer used",null,"Technology","01/15/2019 09:59 AM","Ted Meyer"]
["39217","108327","Truman Middle","Warehouse","ELMO TT-02s Document Camera",null,"Available","Document Camera","2009-08-10","529.00","10-34109","CDWG","TT-02s","ELMO","Surplus",{"$nulls":3},"27870-6541",{"$nulls":8},"no longer used",null,"Technology","01/15/2019 09:59 AM","Ted Meyer"]
["39199",null,"Truman Middle","Warehouse","Bretford A/V Learning Cart",null,"Available","Cart","2009-08-10","320.00","10-34109","CDWG","ECILS3-BK","Bretford","Surplus",{"$nulls":3},"27870-6541",{"$nulls":10},"Technology","01/15/2019 09:59 AM","Ted Meyer"]
["47735",null,"Truman Middle","Warehouse","Bretford Computer Workstation Cart w/ Power Strip-Surger Protector",null,"Available","Cart","1997-12-15","179.99","43683","HOOVER'S","EC7-PB","Bretford","Surplus",{"$nulls":3},"30690-6542",{"$nulls":8},"no longer used",null,"Technology","01/15/2019 10:00 AM","Ted Meyer"]
["34924",null,"Truman Middle","Warehouse","Bretford A/V Learning Cart",null,"Available","Cart","2007-01-23","315.00","07-28546","TECH DEPOT","ECILS3-BK","Bretford","Surplus",{"$nulls":3},"27870-6541",{"$nulls":10},"Technology","01/15/2019 09:59 AM","Ted Meyer"]
["42946",null,"Truman Middle","Warehouse","Bretford A/V Learning Cart",null,"Available","Cart",{"$nulls":4},"ECILS3-BK","Bretford","Surplus",null,"UnKnown",{"$nulls":12},"Technology","01/15/2019 09:59 AM","Ted Meyer"]
["48191","PB3BYVG","Truman Middle","Warehouse","Lenovo ThinkPad USB 3.0 Dock",null,"Available","Dock","2013-08-08","136.00","14-15751","TwoTrees","DU9019D1","Lenovo","Surplus",{"$nulls":3},"27870-6411",{"$nulls":5},"No longer used",null,null,"no longer used",null,"Technology","01/15/2019 09:59 AM","Ted Meyer"]
["45247","K1315004617","Truman Middle","Warehouse","Lenovo ThinkPad USB 3.0 Dock",null,"Available","Dock","2013-05-10","135.00","14-15032","TWOTREES","DU9019D1","Lenovo","Surplus","843a4b0edbdc",{"$nulls":11},"no longer used",null,"Technology","01/15/2019 09:59 AM","Ted Meyer"]
["45756","PB1BYY8","Truman Middle","Warehouse","Lenovo ThinkPad USB 3.0 Dock",null,"Available","Dock","2013-05-10","135.00","14-15032","TWOTREES","DU9019D1","Lenovo","Surplus","843a4b0edbdc",{"$nulls":11},"no longer used",null,"Technology","01/15/2019 09:59 AM","Ted Meyer"]
["44770",null,"Truman Middle","Warehouse","Lenovo ThinkPad USB 3.0 Dock",null,"Available","Dock","2013-05-10","135.00","14-15032","TWOTREES","DU9019D1","Lenovo","Surplus","843a4b0edbdc",{"$nulls":11},"no longer used",null,"Technology","01/15/2019 09:59 AM","Ted Meyer"]
["45818","PB6AC1Z","Truman Middle","Warehouse","Lenovo ThinkPad USB 3.0 Dock",null,"Available","Dock","2013-05-10","135.00","14-15032","TWOTREES","DU9019D1","Lenovo","Surplus","843a4b0edbdc",{"$nulls":11},"no longer used",null,"Technology","01/15/2019 09:59 AM","Ted Meyer"]
["44185",null,"Dressel Elementary","209B (Library Office)","Epson Brightlink 485Wi Projector",null,"Available","Projector",{"$nulls":4},"Brightlink 485Wi","Epson",null,null,"UnKnown",null,null,"Filter","2018-03-08",{"$nulls":8},"Science","01/15/2019 09:52 AM","Ted Meyer"]
["39641",null,"Sperreng Middle","Hangar","Anchor - 30-Watt Powered Speaker",null,"Available","Speaker","2009-08-11","167.45","10-34113","Long's Electronics","AN-130","Anchor",null,null,"2013/2014",null,"27870-6541",{"$nulls":11},"01/15/2019 09:52 AM","Ted Meyer"]
["53120","P202CZJQ","Kennerly Elementary","Workroom in Gym","Lenovo 500e Chromebook (Gen 1)",null,"Available","Chromebook","2018-06-19","287.00","19-54624","Firefly Computers","500e","Lenovo",null,"7470fda2af49","2022/2023",null,"100-1151-6412-3070-07360-1-000",{"$nulls":3},"CHROMEBOOK MANAGEMENT CONSOLE @$23.49FIREFLY CHROMEBOOK SUPPORT FOR LENOVOLANSCHOOL PERPETUAL PER DEVICE LICENSE WITH 1 YR OF SNS",{"$nulls":3},"81ES0007US","CBRedistribute",null,"Building Assistants","01/15/2019 09:53 AM","Ted Meyer"]
["19574","710310842","Truman Middle","Warehouse","RCA 4 Head Hi-Fi Stereo Video Cassette Recorder",null,"Available","VCR",{"$nulls":4},"VR612HF","RCA","Surplus",null,"UnKnown",{"$nulls":10},"no longer used",null,"Technology","01/15/2019 09:59 AM","Ted Meyer"]
["38015","SG1A0835002676","Truman Middle","Warehouse","Philips DVD/VCR Combo",null,"Available","VCR/DVD Combo","2008-10-22","79.98","petty case","Target","DVP-3345V","Phillips","Surplus",{"$nulls":7},"for Sperrent Trailerpaid for thru facilities",{"$nulls":4},"no longer used",null,"Technology","01/15/2019 09:59 AM","Ted Meyer"]
["27584","G11A71495","Truman Middle","Warehouse","Panasonic 4 Head HI-FI Stereo Cassette Tape Recorder",null,"Available","VCR","2002-03-14","91.00","17356","INSIGHT, INC","PV-V4611","Panasonic","Surplus",{"$nulls":3},"27870-6541",{"$nulls":8},"no longer used",null,"Technology","01/15/2019 09:59 AM","Ted Meyer"]
["47721",null,"Truman Middle","Warehouse","ELMO TT-02RX Document Camera",null,"Available","Document Camera",{"$nulls":4},"TT-02RX","ELMO","Surplus",null,"UnKnown",{"$nulls":10},"no longer used",null,"Technology","01/15/2019 10:00 AM","Ted Meyer"]
["42942",null,"Truman Middle","Warehouse","ELMO TT-12i Document Camera",null,"Available","Document Camera","2014-10-14","575.00","15-20094","CDW-G, Inc.","TT-12i","ELMO","Surplus",null,"2018/2019",null,"27870-6541",{"$nulls":8},"no longer used",null,"Technology","01/15/2019 09:59 AM","Ted Meyer"]
["42199",null,"Truman Middle","Warehouse","ELMO TT-02s Document Camera",null,"Available","Document Camera","2009-08-10","529.00","10-34109","CDWG","TT-02s","ELMO","Surplus",{"$nulls":3},"27870-6541",{"$nulls":8},"no longer used",null,"Technology","01/15/2019 10:07 AM","Ted Meyer"]
["44234","V47F490214L","Long Elementary","Design Lab","Epson Brightlink Pro 1430Wi Projector",null,"Available","Projector","2014-10-17","2,095.00","15-20277","TwoTrees","Brightlink 1430Wi","Epson",null,null,"2018/2019",null,"27870-6541","Filter","2018-11-26",null,"CASUALTY LOSS CLEARING",{"$nulls":6},"Conference Room","01/15/2019 09:35 AM","Ted Meyer"]
["54111","P2034H27","Lindbergh High School","022 For Parts","Lenovo 500e Chromebook (Gen 1)",null,"Available","Chromebook","2018-10-04","310.49","19-55702","Firefly Computers","500e","Lenovo","mouse pad broken","38baf85cb8f4","2022/2023",null,"TE PD",{"$nulls":7},"81ES0007US","Issued for Virtual Learning - COVID-19",null,"Technology","01/15/2019 08:35 AM","Ted Meyer"]
["44859","PF02QS98","Lindbergh High School","022 For Parts","Lenovo ThinkPad Edge E540",null,"Available","Laptop","2014-09-24","589.93","15-19778","ITsavvy","E540","Lenovo","HSBUSLAB3-27","a0a8cd8adb35","2018/2019",null,"31214-6542",{"$nulls":3},"Career Ed Grant Tech Equip",{"$nulls":3},"20C6S01Q00",{"$nulls":3},"01/15/2019 09:21 AM","Ted Meyer"]
["44635","PF020QFZ","Lindbergh High School","022 For Parts","Lenovo ThinkPad Edge E540",null,"Available","Laptop","2014-07-21","670.74","15-18830","ITsavvy","E540","Lenovo","HS315ML-14","a0a8cd893f37","2018/2019",{"$nulls":9},"20C6S01Q00",{"$nulls":3},"01/15/2019 09:21 AM","Ted Meyer"]
["51730","LR09EB1U","Lindbergh High School","022 For Parts","Lenovo ThinkPad 11e",null,"Available","Laptop","2017-06-15","456.90","18-50158","STAPLES","11e","Lenovo","HSFML2-28","e442a6a3b29a","2021/2022",null,"27871-6412",{"$nulls":3},"EXTENDED SERVICE AGREEMENT PARTS AND LABOR 3 YEAR PICK UP AND RETURN TOPSELLER SERVICE @$55.00",{"$nulls":3},"20GB001HUS",{"$nulls":3},"01/15/2019 09:21 AM","Ted Meyer"]
["53809","LR0AVPU1","Lindbergh High School","022 For Parts","Lenovo ThinkPad 11e",null,"Available","Laptop","2018-09-07","485.00","19-55635","TwoTrees","11e","Lenovo","LHS-BUS2-09","cc2f71617466","2022/2023",null,"TE PD - HS Business",{"$nulls":7},"20GB000SUS",{"$nulls":3},"01/15/2019 09:22 AM","Ted Meyer"]
["54236","P2033U8V","Lindbergh High School","022 For Parts","Lenovo 500e Chromebook (Gen 1)",null,"Available","Chromebook","2018-10-29","314.49","19-56383","Firefly Computers","500e","Lenovo","TRML7-28","38baf85abfa9","2022/2023",null,"TR PTG PD",null,null,"Grant",{"$nulls":4},"81ES0007US","CBRedistribute",null,null,"01/15/2019 10:00 AM","Ted Meyer"]
["50772","P202D9FP","Lindbergh High School","022 For Parts","Lenovo 500e Chromebook (Gen 1)",null,"Available","Chromebook","2018-06-19","287.00","19-54624","Firefly Computers","500e","Lenovo",null,"7c2a311a5a3b","2022/2023",null,"100-1151-6412-1050-07360-1-000",{"$nulls":3},"CHROMEBOOK MANAGEMENT CONSOLE @$23.49FIREFLY CHROMEBOOK SUPPORT FOR LENOVOLANSCHOOL PERPETUAL PER DEVICE LICENSE WITH 1 YR OF SNS",null,"Will not charge ","Giving to Co-Pilot for repair.","81ES0007US","Issued for Virtual Learning - COVID-19",null,null,"01/15/2019 09:21 AM","Ted Meyer"]
["50780","P202E84N","Lindbergh High School","022 For Parts","Lenovo 500e Chromebook (Gen 1)",null,"Available","Chromebook","2018-06-19","287.00","19-54624","Firefly Computers","500e","Lenovo",null,"7c7635fc69cb","2022/2023",null,"100-1151-6412-1050-07360-1-000",{"$nulls":3},"CHROMEBOOK MANAGEMENT CONSOLE @$23.49FIREFLY CHROMEBOOK SUPPORT FOR LENOVOLANSCHOOL PERPETUAL PER DEVICE LICENSE WITH 1 YR OF SNS",null,"Will not turn on",null,"81ES0007US","Issued for Virtual Learning - COVID-19",null,"Technology","01/15/2019 09:21 AM","Ted Meyer"]
["52569","LR09YJ7Q","Lindbergh High School","022 For Parts","Lenovo N23 Chromebook",null,"Available","Chromebook","2018-01-25","195.58","18-53343","ITsavvy","N23 Non Touch","Lenovo","Matt's Desk for repair","1c4d70314e49","2022/2023",null,"10192-6412",null,null,"Building Budget","Pilot Project - Purchased with NON-technology funds",{"$nulls":3},"81MC001EUS","CBRedistribute",null,"Technology","01/15/2019 08:38 AM","Ted Meyer"]
["47525","04173CNG808122","Support Service Center","Facilities/Maintenance Shop","Samsung 32\" Class LED 720p HDTV-Black",null,"Available","TV","2015-10-15","215.00","16-31801","Best Buy","UN32J4000AF","Samsung","Removed from CC 026",null,"2019/2020",null,"26606-6411",{"$nulls":10},"Math","01/15/2019 08:37 AM","Ted Meyer"]
["50556","P202CYDM","Support Service Center","Facilities/Maintenance Shop","Lenovo 500e Chromebook (Gen 1)",null,"Available","Chromebook","2018-06-19","287.00","19-54624","Firefly Computers","500e","Lenovo",null,"7470fda38540","2022/2023",null,"100-1151-6412-3080-07360-1-000",{"$nulls":3},"CHROMEBOOK MANAGEMENT CONSOLE @$23.49FIREFLY CHROMEBOOK SUPPORT FOR LENOVOLANSCHOOL PERPETUAL PER DEVICE LICENSE WITH 1 YR OF SNS",{"$nulls":3},"81ES0007US","CBRedistribute",null,"Facilities","01/15/2019 10:00 AM","Ted Meyer"]
["52607","LR09YEVJ","Lindbergh High School","022 For Parts","Lenovo N23 Chromebook",null,"Available","Chromebook","2018-01-25","195.58","18-53343","ITsavvy","N23 Non Touch","Lenovo","CC-CBL5-10","1c4d703caffa","2022/2023",null,"24894-6412",null,null,"Building Budget","Pilot Project - Purchased with NON-technology funds",{"$nulls":3},"81MC001EUS","CBRedistribute",null,"5th Grade","01/15/2019 08:38 AM","Ted Meyer"]
["54365","P2033U5J","Lindbergh High School","022 For Parts","Lenovo 500e Chromebook (Gen 1)",null,"Available","Chromebook","2018-11-20","314.49","19-56517","Firefly Computers","500e","Lenovo","SA043-02","38baf85d069c","2022/2023",null,"SA Soda (SA PTG will reimburse)",null,null,"Grant",{"$nulls":4},"81ES0007US","CBRedistribute",null,"3rd Grade","01/15/2019 09:46 AM","Ted Meyer"]
["54004","P2034G7E","District Storage","Fall 2020","Lenovo 500e Chromebook (Gen 1)",null,"Available","Chromebook","2018-10-04","310.49","19-55702","Firefly Computers","500e","Lenovo",null,"38baf85c6a39","2022/2023",null,"TE PD",{"$nulls":4},"2020-09-17",null,"Has a cracked screen","81ES0007US","Issued for Virtual Learning - COVID-19",null,null,"01/15/2019 09:46 AM","Ted Meyer"]
["50402","DMPWVNABJF8J","District Storage","Fall 2020","Apple iPad 32GB WIFI (6th Gen)",null,"Available","iPad","2018-06-21","294.00","18-55426","Apple","MR7F2LL/A","Apple",null,"a056f3ccb8fc","2022/2023",null,"27871-6412",{"$nulls":7},"A1893",{"$nulls":3},"01/15/2019 08:40 AM","Ted Meyer"]
["39270","MJDL400","District Storage","Fall 2020","Lenovo ThinkCentre M58",null,"Available","Desktop",{"$nulls":4},"M58","Lenovo","LO-Warehouse",null,"UnKnown",{"$nulls":12},"Facilities/Maintenance Dept.","01/15/2019 09:35 AM","Ted Meyer"]
["51335","LR09EB29","District Storage","Fall 2020","Lenovo ThinkPad 11e",null,"Available","Laptop","2017-06-15","456.90","18-50158","STAPLES","11e","Lenovo","LOANER-51335","e442a6a42540","2021/2022",null,"27871-6412",{"$nulls":3},"EXTENDED SERVICE AGREEMENT PARTS AND LABOR 3 YEAR PICK UP AND RETURN TOPSELLER SERVICE @$55.00",{"$nulls":3},"20GB001HUS",null,null,"Technology","01/15/2019 09:46 AM","Ted Meyer"]
["47789","MJ38WA6","Truman Middle","Cafeteria Office","Lenovo ThinkCentre M92z 3311 (Core i5-3470T, 4GB, 500GB HDD)",null,"Available","Desktop",{"$nulls":4},"M92z","Lenovo",null,null,"UnKnown",{"$nulls":9},"3311B1U",null,null,"Technology","01/15/2019 10:00 AM","Ted Meyer"]
["47537","MJ02RXXT","Truman Middle","Custodian Rm","Lenovo ThinkCentre M73 10AY - Tiny Desktop (Core i3-4150T, 4GB, 500GB HDD)",null,"Available","Desktop","2015-10-13","425.00","16-31985","TwoTrees Technologies, LLC","M37","Lenovo","Mo KOVACEVIC",null,"2019/2020",null,"27870-6541",{"$nulls":3},"400-2331-6541-824-000-000\nw/3year onsite top seller warranty",{"$nulls":3},"10AY0082US",null,null,"Office","01/15/2019 10:00 AM","Ted Meyer"]
["47340","MP08JT2C","Long Elementary","Unknown","Lenovo ThinkPad Yoga 12 (Core i5-5200U, 8GB, 128GB SSD)",null,"Available","Laptop","2015-07-06","1,174.00","16-30425","TWOTREES","Yoga 12","Lenovo","LO-DRC-01","5ce0c5c79c8c","2019/2020",{"$nulls":9},"20DKS1LQ00",{"$nulls":3},"01/15/2019 08:40 AM","Ted Meyer"]
["53800","LR0AVPE1","Long Elementary","Unknown","Lenovo ThinkPad 11e",null,"Available","Laptop","2018-09-07","485.00","19-55635","TwoTrees","11e","Lenovo","LHS-BUS1-29","aced5cfa94de","2022/2023",null,"TE PD - HS Business",{"$nulls":7},"20GB000SUS",{"$nulls":3},"01/15/2019 09:22 AM","Ted Meyer"]
["46840","SLR03ZULS","Long Elementary","Unknown","Lenovo ThinkPad 11e",null,"Available","Laptop","2015-07-06","473.00","16-30271","TwoTrees Technology","11e","Lenovo","LOML4-14","104a7d36a849","2019/2020",null,"27872-6541",{"$nulls":7},"20DAS0VX00",{"$nulls":3},"01/15/2019 09:35 AM","Ted Meyer"]
["46843","SLR03ZUS9","Long Elementary","Unknown","Lenovo ThinkPad 11e",null,"Available","Laptop","2015-07-06","473.00","16-30271","TwoTrees Technology","11e","Lenovo","LOML4-17","104a7da2abc0","2019/2020",null,"27872-6541",{"$nulls":7},"20DAS0VX00",{"$nulls":3},"01/15/2019 09:35 AM","Ted Meyer"]
["46875","LR03ZUT7","Long Elementary","Unknown","Lenovo ThinkPad 11e",null,"Available","Laptop","2015-07-06","473.00","16-30271","TwoTrees Technology","11e","Lenovo","LO039-09","104a7d367086","2019/2020",null,"27872-6541",{"$nulls":7},"20DAS0VX00",{"$nulls":3},"01/15/2019 09:35 AM","Ted Meyer"]
["47088","MP08FF0V","Long Elementary","Unknown","Lenovo ThinkPad Yoga 12 (Core i5-5200U, 8GB, 128GB SSD)",null,"Available","Laptop","2015-07-06","1,174.00","16-30425","TWOTREES","Yoga 12","Lenovo","Karen Carroll","605718a9ffd8","2019/2020",{"$nulls":9},"20DKS1LQ00",{"$nulls":3},"01/15/2019 09:35 AM","Ted Meyer"]
["47171","MP08FEL8","Long Elementary","Unknown","Lenovo ThinkPad Yoga 12 (Core i5-5200U, 8GB, 128GB SSD)",null,"Available","Laptop","2015-07-06","1,174.00","16-30425","TWOTREES","Yoga 12","Lenovo",null,"6057186e61a3","2019/2020",{"$nulls":9},"20DKS1LQ00",{"$nulls":3},"01/15/2019 09:35 AM","Ted Meyer"]
["47174","MP08HSBJ","Long Elementary","Unknown","Lenovo ThinkPad Yoga 12 (Core i5-5200U, 8GB, 128GB SSD)",null,"Available","Laptop","2015-07-06","1,174.00","16-30425","TWOTREES","Yoga 12","Lenovo","LO-TECHLOANER-1","34028695b6c7","2019/2020",{"$nulls":9},"20DKS1LQ00",{"$nulls":3},"01/15/2019 09:35 AM","Ted Meyer"]
["51622","LR09EARB","Long Elementary","Unknown","Lenovo ThinkPad 11e",null,"Available","Laptop","2017-06-15","456.90","18-50158","STAPLES","11e","Lenovo","LO037-06","e442a6a41b59","2021/2022",null,"27871-6412",{"$nulls":3},"EXTENDED SERVICE AGREEMENT PARTS AND LABOR 3 YEAR PICK UP AND RETURN TOPSELLER SERVICE @$55.00",{"$nulls":3},"20GB001HUS",{"$nulls":3},"01/15/2019 09:35 AM","Ted Meyer"]
["51632","LR09EASX","Long Elementary","Unknown","Lenovo ThinkPad 11e",null,"Available","Laptop","2017-06-15","456.90","18-50158","STAPLES","11e","Lenovo","LO039-02","e442a6a42f40","2021/2022",null,"27871-6412",{"$nulls":3},"EXTENDED SERVICE AGREEMENT PARTS AND LABOR 3 YEAR PICK UP AND RETURN TOPSELLER SERVICE @$55.00",{"$nulls":3},"20GB001HUS",{"$nulls":3},"01/15/2019 09:35 AM","Ted Meyer"]
["51636","LR09EARS","Long Elementary","Unknown","Lenovo ThinkPad 11e",null,"Available","Laptop","2017-06-15","456.90","18-50158","STAPLES","11e","Lenovo","LO039-06","e442a6960938","2021/2022",null,"27871-6412",{"$nulls":3},"EXTENDED SERVICE AGREEMENT PARTS AND LABOR 3 YEAR PICK UP AND RETURN TOPSELLER SERVICE @$55.00",{"$nulls":3},"20GB001HUS",{"$nulls":3},"01/15/2019 09:35 AM","Ted Meyer"]
["51581","LR09EAZZ","Long Elementary","Unknown","Lenovo ThinkPad 11e",null,"Available","Laptop","2017-06-15","456.90","18-50158","STAPLES","11e","Lenovo","LO016-06","e442a6a3ad4f","2021/2022",null,"27871-6412",{"$nulls":3},"EXTENDED SERVICE AGREEMENT PARTS AND LABOR 3 YEAR PICK UP AND RETURN TOPSELLER SERVICE @$55.00",{"$nulls":3},"20GB001HUS",{"$nulls":3},"01/15/2019 09:35 AM","Ted Meyer"]
["51617","LR09EAS9","Long Elementary","Unknown","Lenovo ThinkPad 11e",null,"Available","Laptop","2017-06-15","456.90","18-50158","STAPLES","11e","Lenovo","LO037-01","e442a6960ad2","2021/2022",null,"27871-6412",{"$nulls":3},"EXTENDED SERVICE AGREEMENT PARTS AND LABOR 3 YEAR PICK UP AND RETURN TOPSELLER SERVICE @$55.00",{"$nulls":3},"20GB001HUS",{"$nulls":3},"01/15/2019 09:35 AM","Ted Meyer"]
["51965","LR09K1Y8","Long Elementary","Unknown","Lenovo ThinkPad 11e",null,"Available","Laptop","2017-08-03","433.42","18-50881","SOFTCHOICE","11e","Lenovo","LO-ECE-01","aced5c54a9d9","2021/2022",null,"27891-6412",{"$nulls":3},"RE1188 @51.42 5WSOE84849 LENOVO EPAC DEPOT REPAIR EXTENDED SERVICE AGREEMENT PARTS AND LABOR 2 YEARS (2ND/3RD YEAR) PICK UP AND RETURN",{"$nulls":3},"20GBS00S00",{"$nulls":3},"01/15/2019 09:35 AM","Ted Meyer"]
["43486","R9LNHXR","Long Elementary","Unknown","Lenovo ThinkPad x220 Tablet Laptop",null,"Available","Laptop",{"$nulls":4},"X220","Lenovo","LO-Laura Kopp","100ba97b41d8","UnKnown",{"$nulls":9},"42963MU",{"$nulls":3},"01/15/2019 09:35 AM","Ted Meyer"]
["41770","PB44H8N","Long Elementary","Unknown","Lenovo ThinkPad X131e",null,"Available","Laptop","2012-11-27","715.00","13-12007","TwoTrees","X131e","Lenovo","LO-Reading-01","083e8eaed779",null,null,"31590-6542",{"$nulls":11},"01/15/2019 09:34 AM","Ted Meyer"]
["44283","PB025NBE","Long Elementary","Unknown","Lenovo ThinkPad x140e",null,"Available","Laptop","2014-06-05","434.00","15-18339","TwoTrees","X140e","Lenovo","LO004-SSD-03","b8ee65d506bb","2018/2019","10.4.21.90 1720","27870-6541",{"$nulls":11},"01/15/2019 09:34 AM","Ted Meyer"]
["44291","PB025NA6","Long Elementary","Unknown","Lenovo ThinkPad x140e",null,"Available","Laptop","2014-06-05","434.00","15-18339","TwoTrees","X140e","Lenovo","LO014-SSD-01","b8ee65d50dec","2018/2019","10.4.21.90 1720","27870-6541",{"$nulls":11},"01/15/2019 09:34 AM","Ted Meyer"]
["38253","L3AGM6H","Long Elementary","Unknown","Lenovo ThinkPad x200T Tablet Laptop",null,"Available","Laptop","2009-06-05","1,569.00","10-33737","Lenovo","x200t","Lenovo","Ron Ayers","001e651718ee",null,null,"27870-6541",{"$nulls":11},"01/15/2019 09:34 AM","Ted Meyer"]
["43565","DMQJ87D7DJ8T","Long Elementary","Unknown","Apple iPad 16GB WIFI (3rd Gen)",null,"Available","iPad","2012-08-22","479.00","13-10778","Apple","MC705LL/A","Apple",null,"98fe94cf8820",null,null,"27870-6541",{"$nulls":7},"A1416",{"$nulls":3},"01/15/2019 09:34 AM","Ted Meyer"]
["43567","DMPJ9310DJ8T","Long Elementary","Unknown","Apple iPad 16GB WIFI (3rd Gen)",null,"Available","iPad","2012-08-22","479.00","13-10778","Apple","MC705LL/A","Apple",null,"d8004ddaca83",null,null,"27870-6541",{"$nulls":7},"A1416",{"$nulls":3},"01/15/2019 09:34 AM","Ted Meyer"]
["43573","DMPJ9C4WDJ8T","Long Elementary","Unknown","Apple iPad 16GB WIFI (3rd Gen)",null,"Available","iPad","2012-08-22","479.00","13-10778","Apple","MC705LL/A","Apple","Becky Donze","d8004dde5d08","2016/2017",null,"27870-6541",{"$nulls":7},"A1416",{"$nulls":3},"01/15/2019 09:34 AM","Ted Meyer"]
["43576","DMPJ9DK6DJ8T","Long Elementary","Unknown","Apple iPad 16GB WIFI (3rd Gen)",null,"Available","iPad","2012-08-22","479.00","13-10778","Apple","MC705LL/A","Apple","Terri Groh","d8004dde337c","2016/2017",null,"27870-6541",{"$nulls":7},"A1416",{"$nulls":3},"01/15/2019 09:34 AM","Ted Meyer"]
["41644","DMPJ9DGNDJ8T","Long Elementary","Unknown","Apple iPad 16GB WIFI (3rd Gen)",null,"Available","iPad","2012-11-15","499.00","13-11912","Apple","MC705LL/A","Apple","SSD004-2","d8004dddc6ff",null,null,"27870-6541",{"$nulls":7},"A1416",{"$nulls":3},"01/15/2019 09:34 AM","Ted Meyer"]
["43810","DMQJ87JADJ8T","Long Elementary","Unknown","Apple iPad 16GB WIFI (3rd Gen)",null,"Available","iPad","2012-08-22","479.00","13-10778","Apple","MC705LL/A","Apple","SSD004-1","98fe94ced739",null,null,"27870-6541",{"$nulls":7},"A1416",{"$nulls":3},"01/15/2019 09:34 AM","Ted Meyer"]
["43974","DMPJF4PEF182","Long Elementary","Unknown","Apple iPad 16GB WIFI (4th Gen)",null,"Available","iPad","2012-11-15","499.00","13-11912","Apple","MD510LL/A","Apple","LO36-02","34c05965449e","2016/2017",null,"27870-6541",{"$nulls":7},"A1458",{"$nulls":3},"01/15/2019 09:34 AM","Ted Meyer"]
["43383","DMQJ884DDJ8T","Long Elementary","Unknown","Apple iPad 16GB WIFI (3rd Gen)",null,"Available","iPad","2012-08-22","399.00","13-10778","Apple","MC705LL/A","Apple","Lauren Welch","dca904514092","2016/2017",null,"16953-6411",{"$nulls":7},"A1416",{"$nulls":3},"01/15/2019 09:35 AM","Ted Meyer"]
["43630","DMPJ9C6LDJ8T","Long Elementary","Unknown","Apple iPad 16GB WIFI (3rd Gen)",null,"Available","iPad","2012-08-22","399.00","13-10778","APPLE STORE","MC705LL/A","Apple","Lewis Naeger","b8634da27a28","2016/2017",null,"17620-6412",{"$nulls":3},"BLDG BUDGET",{"$nulls":3},"A1416",{"$nulls":3},"01/15/2019 09:35 AM","Ted Meyer"]
["31448","CN-0DK795-73190-7CK-1463","Long Elementary","Unknown","Dell 1720dn Laser Printer",null,"Available","Printer","2008-03-12","224.00","08-31060","DELL","1720dn","Dell","LO-Cafe",{"$nulls":3},"27870-6541",{"$nulls":10},"Cafeteria","01/15/2019 09:34 AM","Ted Meyer"]
["27412","72712588","Long Elementary","Unknown","Gateway E3600 Personal Computer Keyboard",null,"Available","Keyboard","2001-12-19",null,"16675","GATEWAY BUSINESS","7002739","Gateway",{"$nulls":4},"32020-6541",{"$nulls":10},"Cafeteria","01/15/2019 09:34 AM","Ted Meyer"]
["35878","FH7JD01082R","Long Elementary","Unknown","Panasonic Digital Camera with 10X Optical Zoom Lens",null,"Available","Camera","2007-11-11","259.35","08-30466","FLORIDA MICRO","DMC-TZ3","Panasonic",{"$nulls":4},"27870-6541",{"$nulls":10},"Technology","01/15/2019 09:34 AM","Ted Meyer"]
["29697","HCF","Long Elementary","Unknown","Kodak Easy Share Zoom Digital Camera Dock",null,"Available","Camera","2003-08-25","71.99","PTP","BEST BUY","6000","Kodak",{"$nulls":4},"PTP PURCHASED",{"$nulls":10},"Technology","01/15/2019 09:34 AM","Ted Meyer"]
["29695","HCF","Long Elementary","Unknown","Kodak Easy Share Zoom Digital Camera Dock",null,"Available","Camera","2003-08-25","71.99","PTP","BEST BUY","6000","Kodak",{"$nulls":4},"PTP PURCHASED",{"$nulls":10},"Technology","01/15/2019 09:34 AM","Ted Meyer"]
["29694","KCKCL32706443","Long Elementary","Unknown","Kodak 3.1 Mega Pixels Easy Share Zoom Digital Camera",null,"Available","Camera","2003-08-25","249.00","PTP","BEST BUY","CX6330","Kodak",{"$nulls":4},"PTP PURCHASED",{"$nulls":10},"Technology","01/15/2019 09:34 AM","Ted Meyer"]
["29696","KCKCL32706377","Long Elementary","Unknown","Kodak 3.1 Mega Pixels Easy Share Zoom Digital Camera",null,"Available","Camera","2003-08-25","249.00","PTP","BEST BUY","CX-6330","Kodak",{"$nulls":4},"PTP PURCHASED",{"$nulls":10},"Technology","01/15/2019 09:34 AM","Ted Meyer"]
["33137","KCGET54710408","Long Elementary","Unknown","Koak Easy Share Digital Camera",null,"Available","Camera","2006-01-01",null,"PTP PAID","BEST BUY","C330","Kodak",{"$nulls":15},"Technology","01/15/2019 09:34 AM","Ted Meyer"]
["33128","KCGET54710653","Long Elementary","Unknown","Koak Easy Share Digital Camera",null,"Available","Camera","2006-01-01",null,"PTP PAID","BEST BUY","C330","Kodak",{"$nulls":15},"Technology","01/15/2019 09:34 AM","Ted Meyer"]
["40626",null,"Long Elementary","Unknown","Bretford 24 Unit Capacity Laptop Computer Roll Around Storage Unit",null,"Available","Cart",{"$nulls":4},"D24CFR","Bretford","LOML4",{"$nulls":14},"3rd Grade","01/15/2019 09:35 AM","Ted Meyer"]
["47661","7X00080EH","Long Elementary","Unknown","NEC VT491 Projector",null,"Available","Projector",{"$nulls":4},"VT491","NEC",null,null,"UnKnown",null,null,"Filter","2017-02-16",{"$nulls":8},"Technology","01/15/2019 09:35 AM","Ted Meyer"]
["40774",null,"Long Elementary","Unknown","Bretford A/V Learning Cart",null,"Available","Cart",{"$nulls":4},"ECILS3-BK","Bretford",{"$nulls":15},"2nd Grade","01/15/2019 09:34 AM","Ted Meyer"]
["40623",null,"Long Elementary","Unknown","Bretford 24 Unit Capacity Laptop Computer Roll Around Storage Unit",null,"Available","Cart",{"$nulls":4},"D24CFR","Bretford","LOML1",{"$nulls":14},"2nd Grade","01/15/2019 09:35 AM","Ted Meyer"]
["47664","ONW8WW-78240-655-CO-98","Long Elementary","Unknown","Dell S2810dn Laser Printer",null,"Available","Printer",{"$nulls":4},"Dell S2810dn","Dell","LO-Christine Anthes",null,null,"10.4.21.18",{"$nulls":11},"2nd Grade","01/15/2019 09:35 AM","Ted Meyer"]
["37062","73190-821-1080","Long Elementary","Unknown","Dell 1720dn Laser Printer",null,"Available","Printer","2008-03-10","224.00","08-31160","DELL","1720dn","Dell","LO-Michael Jobst",null,null,"10.4.21.12","27820-6541",{"$nulls":10},"2nd Grade","01/15/2019 09:34 AM","Ted Meyer"]
["37356","73190-821-1121","Long Elementary","Unknown","Dell 1720dn Laser Printer",null,"Available","Printer","2008-07-03","326.52","09-31829","DELL","1720dn","Dell","LO-Shannon Roberts",null,null,"10.4.21.1","27870-6541",{"$nulls":10},"Kindergarten","01/15/2019 09:34 AM","Ted Meyer"]
["37044","CN-0DK795-73190-82E-0147","Long Elementary","Unknown","Dell 1720dn Laser Printer",null,"Available","Printer","2008-03-10","224.00","08-31160","DELL","1720dn","Dell","LO-Dawn McCoy",null,null,"10.4.21.10","27820-6541",{"$nulls":10},"Kindergarten","01/15/2019 09:34 AM","Ted Meyer"]
["36077","0900GK166CNDT4Q7D1","Long Elementary","Unknown","Dell 1720dn Laser Printer",null,"Available","Printer","2007-11-08","312.00","08-30421","DELL","1720dn","Dell","LO-Hadley Parham",null,null,"10.4.21.4","27891-6418",{"$nulls":10},"Kindergarten","01/15/2019 09:34 AM","Ted Meyer"]
["37813","622VVZP","Long Elementary","Unknown","Dell 1720dn Laser Printer",null,"Available","Printer",{"$nulls":4},"1720dn","Dell","LO-Peggy Klages",null,null,"10.4.21.3",{"$nulls":11},"Kindergarten","01/15/2019 09:34 AM","Ted Meyer"]
["40624",null,"Long Elementary","Unknown","Bretford 24 Unit Capacity Laptop Computer Roll Around Storage Unit",null,"Available","Cart",{"$nulls":4},"D24CFR","Bretford","LOLIB",{"$nulls":14},"5th Grade","01/15/2019 09:35 AM","Ted Meyer"]
["40735",null,"Long Elementary","Unknown","Bretford A/V Learning Cart",null,"Available","Cart",{"$nulls":4},"ECILS3-BK","Bretford",{"$nulls":15},"5th Grade","01/15/2019 09:35 AM","Ted Meyer"]
["39911","CN-0DX787-48730-98M-1FJL","Long Elementary","Unknown","Dell 2330dn Laser Printer",null,"Available","Printer","2010-06-16","229.00","11-35670","Dell","2330dn","Dell","LO-Emily Scalise",null,null,"10.4.21.37","27870-6541",{"$nulls":10},"5th Grade","01/15/2019 09:34 AM","Ted Meyer"]
["49595","VN-0W9C33-78246-6C6-009O","Long Elementary","Unknown","Dell E310Ddw Printer Monochrome Laser",null,"Available","Printer",{"$nulls":4},"E310dw","Dell","LO-Courtney Judd",null,null,"10.4.21.36",{"$nulls":11},"5th Grade","01/15/2019 09:35 AM","Ted Meyer"]
["40622","HH29G62","Long Elementary","Unknown","Dell E310Ddw Printer Monochrome Laser",null,"Available","Printer","2017-01-12","75.84","17-38841","CDW-G","E310dw","Dell","LO-Makenzie Blackburn",null,null,"10.4.21.38","27870-6411",{"$nulls":3},"DATAMAX VH318",{"$nulls":6},"5th Grade","01/15/2019 09:35 AM","Ted Meyer"]
["38014","73190-87H-0714","Long Elementary","Unknown","Dell 1720dn Laser Printer",null,"Available","Printer","2008-08-18","281.42","09-32349","Dell","1720dn","Dell","LO-Lauren Welch",null,null,"10.4.21.7","27870-6541",{"$nulls":10},"1st Grade","01/15/2019 09:34 AM","Ted Meyer"]
["49331","CN-0K2JJD-48730-5B4-3GXR","Long Elementary","Unknown","Dell 2360dn Laser Printer",null,"Available","Printer","2008-03-10","224.00","08-31160","DELL","2360dn","Dell","LO-Beth Grebe",null,null,"10.4.21.5","27820-6541",{"$nulls":10},"1st Grade","01/15/2019 09:35 AM","Ted Meyer"]
["42352","CN-0K2JJD-48730-449-1MJH","Long Elementary","Unknown","Dell 2360dn Laser Printer",null,"Available","Printer",{"$nulls":4},"2360dn","Dell","LO-Erin Craden",null,null,"10.4.21.94",{"$nulls":11},"1st Grade","01/15/2019 09:35 AM","Ted Meyer"]
["47255","PC06CWLB","Long Elementary","Unknown","Lenovo ThinkPad Onelink Pro Dock for Thinkpad Yoga",null,"Available","Dock","2015-07-06","132.00","16-30425","TWOTREES","DU9033S1","Lenovo","Long 036",{"$nulls":14},"5th Grade","01/15/2019 09:35 AM","Ted Meyer"]
["40737","RD0035833","Long Elementary","Unknown","FrontRow Pro Digital 940R Receiver/Amplifier with 940TM Transmitter/Microphone",null,"Available","Classroom Audio",{"$nulls":4},"940R","FrontRow",{"$nulls":15},"5th Grade","01/15/2019 09:34 AM","Ted Meyer"]
["52269","HT4RTG2","Long Elementary","Unknown","Dell E310Ddw Printer Monochrome Laser",null,"Available","Printer","2018-01-19","88.65","18-53351","CDW","E310dw","Dell","LO-Terri Groh",null,null,"10.4.21.11","27870-6411",{"$nulls":10},"3rd Grade","01/15/2019 09:35 AM","Ted Meyer"]
["36065","CN-OGK166-73190-79J-0072","Long Elementary","Unknown","Dell 1720dn Laser Printer",null,"Available","Printer","2007-11-08","312.20","08-30421","DELL","1720dn","Dell","LO-Corinne Wenz",null,null,"10.4.21.19","30690-6542",{"$nulls":10},"3rd Grade","01/15/2019 09:34 AM","Ted Meyer"]
["44940","S4N2ZSS1","Long Elementary","Unknown","Dell 2360dn Laser Printer",null,"Available","Printer","2014-11-13","171.66","15-20623","ITsavvy","2360dn","Dell","LO-Jessica Slade","0021b7f1ff0d",null,"10.4.21.20","27870-6411",{"$nulls":10},"3rd Grade","01/15/2019 09:35 AM","Ted Meyer"]
["46042","CN-0K2JJD-48730-43M-1KZE","Long Elementary","Unknown","Dell 2360dn Laser Printer",null,"Available","Printer",{"$nulls":4},"2360dn","Dell","LO-Megan Dawes",null,null,"10.4.21.16",{"$nulls":11},"3rd Grade","01/15/2019 09:35 AM","Ted Meyer"]
["52530","LR0A3PVP","Long Elementary","Unknown","Lenovo N23 Chromebook",null,"Available","Chromebook","2018-01-17","270.32","18-53260","SoftChoice","N23 Touch","Lenovo","CC-CBL2-10","1c4d70e34b71","2022/2023",null,"See Below",null,null,"Building Budget","26606--6412 CC Camp Ignite  24932-6412 CC Boeing Grant   26626-6412 CC Soda Fund - Purchased to pilot Chromebooks at the elementary level.",{"$nulls":3},"81MC001EUS",{"$nulls":3},"01/15/2019 08:38 AM","Ted Meyer"]
["50764","P202DU8L","Long Elementary","Unknown","Lenovo 500e Chromebook (Gen 1)",null,"Available","Chromebook","2018-06-19","287.00","19-54624","Firefly Computers","500e","Lenovo","HSSCML3-CB-15","7c2a311b9acc","2022/2023",null,"100-1151-6412-1050-07360-1-000",{"$nulls":3},"CHROMEBOOK MANAGEMENT CONSOLE @$23.49\nFIREFLY CHROMEBOOK SUPPORT FOR LENOVO\nLANSCHOOL PERPETUAL PER DEVICE LICENSE WITH 1 YR OF SNS",{"$nulls":3},"81ES0007US","CBRedistribute",null,null,"01/15/2019 09:21 AM","Ted Meyer"]
["50907","P202CXSS","Long Elementary","Unknown","Lenovo 500e Chromebook (Gen 1)",null,"Available","Chromebook","2018-06-19","287.00","19-54624","Firefly Computers","500e","Lenovo","HSSSML2-CB-18","7470fda20d87","2022/2023",null,"100-1151-6412-1050-07360-1-000",{"$nulls":3},"CHROMEBOOK MANAGEMENT CONSOLE @$23.49\nFIREFLY CHROMEBOOK SUPPORT FOR LENOVO\nLANSCHOOL PERPETUAL PER DEVICE LICENSE WITH 1 YR OF SNS",{"$nulls":3},"81ES0007US","CBRedistribute",null,null,"01/15/2019 09:21 AM","Ted Meyer"]
["50914","P202CYL0","Long Elementary","Unknown","Lenovo 500e Chromebook (Gen 1)",null,"Available","Chromebook","2018-06-19","287.00","19-54624","Firefly Computers","500e","Lenovo","HSSSML2-CB-25","7470fda2bd31","2022/2023",null,"100-1151-6412-1050-07360-1-000",{"$nulls":3},"CHROMEBOOK MANAGEMENT CONSOLE @$23.49\nFIREFLY CHROMEBOOK SUPPORT FOR LENOVO\nLANSCHOOL PERPETUAL PER DEVICE LICENSE WITH 1 YR OF SNS",{"$nulls":3},"81ES0007US","CBRedistribute",null,null,"01/15/2019 09:21 AM","Ted Meyer"]
["50922","P202D98W","Long Elementary","Unknown","Lenovo 500e Chromebook (Gen 1)",null,"Available","Chromebook","2018-06-19","287.00","19-54624","Firefly Computers","500e","Lenovo","HSACAD-CB-005","7c2a3119fa32","2022/2023",null,"100-1151-6412-1050-07360-1-000",{"$nulls":3},"CHROMEBOOK MANAGEMENT CONSOLE @$23.49\nFIREFLY CHROMEBOOK SUPPORT FOR LENOVO\nLANSCHOOL PERPETUAL PER DEVICE LICENSE WITH 1 YR OF SNS",{"$nulls":3},"81ES0007US","CBRedistribute",null,null,"01/15/2019 09:21 AM","Ted Meyer"]
["50946","P202D9DQ","Long Elementary","Unknown","Lenovo 500e Chromebook (Gen 1)",null,"Available","Chromebook","2018-06-19","287.00","19-54624","Firefly Computers","500e","Lenovo","HSACAD-CB-029","7c2a311a5a63","2022/2023",null,"100-1151-6412-1050-07360-1-000",{"$nulls":3},"CHROMEBOOK MANAGEMENT CONSOLE @$23.49\nFIREFLY CHROMEBOOK SUPPORT FOR LENOVO\nLANSCHOOL PERPETUAL PER DEVICE LICENSE WITH 1 YR OF SNS",{"$nulls":3},"81ES0007US","CBRedistribute",null,null,"01/15/2019 09:21 AM","Ted Meyer"]
["50970","P202D9AA","Long Elementary","Unknown","Lenovo 500e Chromebook (Gen 1)",null,"Available","Chromebook","2018-06-19","287.00","19-54624","Firefly Computers","500e","Lenovo","HSACAD-CB-053","7c2a311ccdf2","2022/2023",null,"100-1151-6412-1050-07360-1-000",{"$nulls":3},"CHROMEBOOK MANAGEMENT CONSOLE @$23.49\nFIREFLY CHROMEBOOK SUPPORT FOR LENOVO\nLANSCHOOL PERPETUAL PER DEVICE LICENSE WITH 1 YR OF SNS",{"$nulls":3},"81ES0007US","CBRedistribute",null,null,"01/15/2019 09:22 AM","Ted Meyer"]
["50971","P202D9DC","Long Elementary","Unknown","Lenovo 500e Chromebook (Gen 1)",null,"Available","Chromebook","2018-06-19","287.00","19-54624","Firefly Computers","500e","Lenovo","HSACAD-CB-054","7c2a311acdcc","2022/2023",null,"100-1151-6412-1050-07360-1-000",{"$nulls":3},"CHROMEBOOK MANAGEMENT CONSOLE @$23.49\nFIREFLY CHROMEBOOK SUPPORT FOR LENOVO\nLANSCHOOL PERPETUAL PER DEVICE LICENSE WITH 1 YR OF SNS",{"$nulls":3},"81ES0007US","CBRedistribute",null,null,"01/15/2019 09:22 AM","Ted Meyer"]
["50976","P202D9AF","Long Elementary","Unknown","Lenovo 500e Chromebook (Gen 1)",null,"Available","Chromebook","2018-06-19","287.00","19-54624","Firefly Computers","500e","Lenovo","HSACAD-CB-059","7c2a311ad89e","2022/2023",null,"100-1151-6412-1050-07360-1-000",{"$nulls":3},"CHROMEBOOK MANAGEMENT CONSOLE @$23.49\nFIREFLY CHROMEBOOK SUPPORT FOR LENOVO\nLANSCHOOL PERPETUAL PER DEVICE LICENSE WITH 1 YR OF SNS",{"$nulls":3},"81ES0007US","CBRedistribute",null,null,"01/15/2019 09:22 AM","Ted Meyer"]
["54040","P2034TPN","Long Elementary","Unknown","Lenovo 500e Chromebook (Gen 1)",null,"Available","Chromebook","2018-10-04","310.49","19-55702","Firefly Computers","500e","Lenovo","LO-LIBLAB1-14","38baf8502ff8","2022/2023",null,"TE PD",{"$nulls":7},"81ES0007US","CBRedistribute",null,null,"01/15/2019 09:35 AM","Ted Meyer"]
["53913","P2034FKY","Long Elementary","Unknown","Lenovo 500e Chromebook (Gen 1)",null,"Available","Chromebook","2018-12-10","314.49","19-56764","Firefly Computers","500e","Lenovo","LOML2-21","00bb605f4858","2022/2023",null,"LO PD",null,null,"Grant","PTG to reimburse LO",{"$nulls":3},"81ES0007US","CBRedistribute",null,null,"01/15/2019 09:35 AM","Ted Meyer"]
["53631","DMQX51RJJF8J","Kennerly Elementary","Unknown","Apple iPad 32GB WIFI (6th Gen)",null,"Available","iPad","2018-07-11","294.00","19-54486","Apple","MR7F2LL/A","Apple","CART-03","241b7a0f5489","2022/2023",null,"C&amp;I PD",null,null,"Dept Budget",{"$nulls":4},"A1893","CBRedistribute",null,"Modern Language","01/15/2019 09:53 AM","Ted Meyer"]
["53525","P20249X5","Kennerly Elementary","Unknown","Lenovo 300e Chromebook",null,"Available","Chromebook","2018-08-01","276.49","19-54755","Firefly Computers","300e","Lenovo","SP-MODLANG-CB-30","a81d160ac6a9","2022/2023",null,"C&amp;I PD",null,null,"Dept Budget",{"$nulls":4},"81FY000BUS","CBRedistribute",null,"Modern Language","01/15/2019 09:53 AM","Ted Meyer"]
["53495","P2023X9W","Kennerly Elementary","Unknown","Lenovo 300e Chromebook",null,"Available","Chromebook","2018-08-01","276.49","19-54755","Firefly Computers","300e","Lenovo","SP-MODLANG-CB-23","a81d1609ede5","2022/2023",null,"C&amp;I PD",null,null,"Dept Budget",{"$nulls":4},"81FY000BUS","CBRedistribute",null,"Modern Language","01/15/2019 09:53 AM","Ted Meyer"]
["53498","P20249CC","Kennerly Elementary","Unknown","Lenovo 300e Chromebook",null,"Available","Chromebook","2018-08-01","276.49","19-54755","Firefly Computers","300e","Lenovo","SP-MODLANG-CB-26","a81d1606742d","2022/2023",null,"C&amp;I PD",null,null,"Dept Budget",{"$nulls":4},"81FY000BUS","CBRedistribute",null,"Modern Language","01/15/2019 09:53 AM","Ted Meyer"]
["53499","P2023F69","Kennerly Elementary","Unknown","Lenovo 300e Chromebook",null,"Available","Chromebook","2018-08-01","276.49","19-54755","Firefly Computers","300e","Lenovo","SP-MODLANG-CB-27","a81d16098bc9","2022/2023",null,"C&amp;I PD",null,null,"Dept Budget",{"$nulls":4},"81FY000BUS","CBRedistribute",null,"Modern Language","01/15/2019 09:53 AM","Ted Meyer"]
["53500","P2024HTA","Kennerly Elementary","Unknown","Lenovo 300e Chromebook",null,"Available","Chromebook","2018-08-01","276.49","19-54755","Firefly Computers","300e","Lenovo","SP-MODLANG-CB-28","a81d160acc09","2022/2023",null,"C&amp;I PD",null,null,"Dept Budget",{"$nulls":4},"81FY000BUS","CBRedistribute",null,"Modern Language","01/15/2019 09:53 AM","Ted Meyer"]
["53185","P202E8A9","Kennerly Elementary","Unknown","Lenovo 500e Chromebook (Gen 1)",null,"Available","Chromebook","2018-06-19","287.00","19-54624","Firefly Computers","500e","Lenovo","SPML3-CB-18","7c7635fc10d9","2022/2023",null,"100-1151-6412-3070-07360-1-000",{"$nulls":3},"CHROMEBOOK MANAGEMENT CONSOLE @$23.49\nFIREFLY CHROMEBOOK SUPPORT FOR LENOVO\nLANSCHOOL PERPETUAL PER DEVICE LICENSE WITH 1 YR OF SNS",{"$nulls":3},"81ES0007US","CBRedistribute",null,"Modern Language","01/15/2019 09:53 AM","Ted Meyer"]
["53485","P20249WE","Kennerly Elementary","Unknown","Lenovo 300e Chromebook",null,"Available","Chromebook","2018-08-01","276.49","19-54755","Firefly Computers","300e","Lenovo","SP-MODLANG-CB-13","a81d160ac911","2022/2023",null,"C&amp;I PD",null,null,"Dept Budget",{"$nulls":4},"81FY000BUS","CBRedistribute",null,"Modern Language","01/15/2019 09:53 AM","Ted Meyer"]
["54070","P2034U78","Kennerly Elementary","Unknown","Lenovo 500e Chromebook (Gen 1)",null,"Available","Chromebook","2018-10-04","310.49","19-55702","Firefly Computers","500e","Lenovo","KE-LIBLAB1-18","38baf85e0b64","2022/2023",null,"TE PD",{"$nulls":7},"81ES0007US","CBRedistribute",null,"Library","01/15/2019 09:04 AM","Ted Meyer"]
["54074","P2034TZ1","Kennerly Elementary","Unknown","Lenovo 500e Chromebook (Gen 1)",null,"Available","Chromebook","2018-10-04","310.49","19-55702","Firefly Computers","500e","Lenovo","KE-LIBLAB1-22","38baf83ad2f2","2022/2023",null,"TE PD",{"$nulls":7},"81ES0007US","CBRedistribute",null,"Library","01/15/2019 09:04 AM","Ted Meyer"]
["54060","P2034TH0","Kennerly Elementary","Unknown","Lenovo 500e Chromebook (Gen 1)",null,"Available","Chromebook","2018-10-04","310.49","19-55702","Firefly Computers","500e","Lenovo","KE-LIBLAB1-08","38baf851051d","2022/2023",null,"TE PD",{"$nulls":7},"81ES0007US","CBRedistribute",null,"Library","01/15/2019 09:04 AM","Ted Meyer"]
["54062","P2034TVX","Kennerly Elementary","Unknown","Lenovo 500e Chromebook (Gen 1)",null,"Available","Chromebook","2018-10-04","310.49","19-55702","Firefly Computers","500e","Lenovo","KE-LIBLAB1-10","38baf85f7c2e","2022/2023",null,"TE PD",{"$nulls":7},"81ES0007US","CBRedistribute",null,"Library","01/15/2019 09:04 AM","Ted Meyer"]
["54053","P2034TRU","Kennerly Elementary","Unknown","Lenovo 500e Chromebook (Gen 1)",null,"Available","Chromebook","2018-10-04","310.49","19-55702","Firefly Computers","500e","Lenovo","KE-LIBLAB1-01","38baf86083b2","2022/2023",null,"TE PD",{"$nulls":7},"81ES0007US","CBRedistribute",null,"Library","01/15/2019 09:04 AM","Ted Meyer"]
["54056","P2034TPR","Kennerly Elementary","Unknown","Lenovo 500e Chromebook (Gen 1)",null,"Available","Chromebook","2018-10-04","310.49","19-55702","Firefly Computers","500e","Lenovo","KE-LIBLAB1-04","38baf850c571","2022/2023",null,"TE PD",{"$nulls":7},"81ES0007US","CBRedistribute",null,"Library","01/15/2019 09:04 AM","Ted Meyer"]
["54057","P2034H1B","Kennerly Elementary","Unknown","Lenovo 500e Chromebook (Gen 1)",null,"Available","Chromebook","2018-10-04","310.49","19-55702","Firefly Computers","500e","Lenovo","KE-LIBLAB1-05","38baf85c893d","2022/2023",null,"TE PD",{"$nulls":7},"81ES0007US","CBRedistribute",null,"Library","01/15/2019 09:04 AM","Ted Meyer"]
["54058","P2034U34","Kennerly Elementary","Unknown","Lenovo 500e Chromebook (Gen 1)",null,"Available","Chromebook","2018-10-04","310.49","19-55702","Firefly Computers","500e","Lenovo","KE-LIBLAB1-06","38baf83ad383","2022/2023",null,"TE PD",{"$nulls":7},"81ES0007US","CBRedistribute",null,"Library","01/15/2019 09:04 AM","Ted Meyer"]
["46974","PC06CWLV","Kennerly Elementary","Unknown","Lenovo ThinkPad Onelink Pro Dock for Thinkpad Yoga",null,"Available","Dock","2015-07-06","132.00","16-30425","TWOTREES","DU9033S1","Lenovo","Kennerly A",{"$nulls":14},"Guidance","01/15/2019 09:04 AM","Ted Meyer"]
["46952","PC06CWMJ","Kennerly Elementary","Unknown","Lenovo ThinkPad Onelink Pro Dock for Thinkpad Yoga",null,"Available","Dock","2015-07-06","132.00","16-30425","TWOTREES","DU9033S1","Lenovo",{"$nulls":15},"PEGS","01/15/2019 09:04 AM","Ted Meyer"]
["46556","SLR03ZUXW","Kennerly Elementary","Unknown","Lenovo ThinkPad 11e",null,"Available","Laptop","2015-07-06","473.00","16-30271","TwoTrees Technology","11e","Lenovo","KEMATH-02","104a7d6ee64b","2019/2020",null,"27872-6541",{"$nulls":7},"20DAS0VX00",null,null,"Math","01/15/2019 09:04 AM","Ted Meyer"]
["46558","SLR03ZUTJ","Kennerly Elementary","Unknown","Lenovo ThinkPad 11e",null,"Available","Laptop","2015-07-06","473.00","16-30271","TwoTrees Technology","11e","Lenovo","KEMATH-03","104a7d27bfa5","2019/2020",null,"27872-6541",{"$nulls":7},"20DAS0VX00",null,null,"Math","01/15/2019 09:04 AM","Ted Meyer"]
["53052","P202DFAT","Kennerly Elementary","Unknown","Lenovo 500e Chromebook (Gen 1)",null,"Available","Chromebook","2018-06-19","287.00","19-54624","Firefly Computers","500e","Lenovo","SP215-CB-03","7c2a311aad1f","2022/2023",null,"100-1151-6412-3070-07360-1-000",{"$nulls":3},"CHROMEBOOK MANAGEMENT CONSOLE @$23.49\nFIREFLY CHROMEBOOK SUPPORT FOR LENOVO\nLANSCHOOL PERPETUAL PER DEVICE LICENSE WITH 1 YR OF SNS",{"$nulls":3},"81ES0007US","CBRedistribute",null,"English","01/15/2019 09:53 AM","Ted Meyer"]
["53124","P202DF0W","Kennerly Elementary","Unknown","Lenovo 500e Chromebook (Gen 1)",null,"Available","Chromebook","2018-06-19","287.00","19-54624","Firefly Computers","500e","Lenovo","SP120-CB-05","7c2a311af6ee","2022/2023",null,"100-1151-6412-3070-07360-1-000",{"$nulls":3},"CHROMEBOOK MANAGEMENT CONSOLE @$23.49\nFIREFLY CHROMEBOOK SUPPORT FOR LENOVO\nLANSCHOOL PERPETUAL PER DEVICE LICENSE WITH 1 YR OF SNS",{"$nulls":3},"81ES0007US","CBRedistribute",null,"English","01/15/2019 09:53 AM","Ted Meyer"]
["50581","P202D96R","Kennerly Elementary","Unknown","Lenovo 500e Chromebook (Gen 1)",null,"Available","Chromebook","2018-06-19","287.00","19-54624","Firefly Computers","500e","Lenovo","TR219-CB-05","7c2a311a8d35","2022/2023",null,"100-1151-6412-3080-07360-1-000",{"$nulls":3},"CHROMEBOOK MANAGEMENT CONSOLE @$23.49\nFIREFLY CHROMEBOOK SUPPORT FOR LENOVO\nLANSCHOOL PERPETUAL PER DEVICE LICENSE WITH 1 YR OF SNS",{"$nulls":3},"81ES0007US","CBRedistribute",null,"English","01/15/2019 10:00 AM","Ted Meyer"]
["53133","P202CLLC","Kennerly Elementary","Unknown","Lenovo 500e Chromebook (Gen 1)",null,"Available","Chromebook","2018-06-19","287.00","19-54624","Firefly Computers","500e","Lenovo","SP105-CB-04","7470fda2b98f","2022/2023",null,"100-1151-6412-3070-07360-1-000",{"$nulls":3},"CHROMEBOOK MANAGEMENT CONSOLE @$23.49\nFIREFLY CHROMEBOOK SUPPORT FOR LENOVO\nLANSCHOOL PERPETUAL PER DEVICE LICENSE WITH 1 YR OF SNS",{"$nulls":3},"81ES0007US","CBRedistribute",null,"English","01/15/2019 09:53 AM","Ted Meyer"]
["53137","P202D9N1","Kennerly Elementary","Unknown","Lenovo 500e Chromebook (Gen 1)",null,"Available","Chromebook","2018-06-19","287.00","19-54624","Firefly Computers","500e","Lenovo","SP211-CB-03","7c2a311acb29","2022/2023",null,"100-1151-6412-3070-07360-1-000",{"$nulls":3},"CHROMEBOOK MANAGEMENT CONSOLE @$23.49\nFIREFLY CHROMEBOOK SUPPORT FOR LENOVO\nLANSCHOOL PERPETUAL PER DEVICE LICENSE WITH 1 YR OF SNS",{"$nulls":3},"81ES0007US","CBRedistribute",null,"English","01/15/2019 09:53 AM","Ted Meyer"]
["53138","P20268DE","Kennerly Elementary","Unknown","Lenovo 500e Chromebook (Gen 1)",null,"Available","Chromebook","2018-06-19","287.00","19-54624","Firefly Computers","500e","Lenovo","SP211-CB-04","38dead43f6e3","2022/2023",null,"100-1151-6412-3070-07360-1-000",{"$nulls":3},"CHROMEBOOK MANAGEMENT CONSOLE @$23.49\nFIREFLY CHROMEBOOK SUPPORT FOR LENOVO\nLANSCHOOL PERPETUAL PER DEVICE LICENSE WITH 1 YR OF SNS",{"$nulls":3},"81ES0007US","CBRedistribute",null,"English","01/15/2019 09:53 AM","Ted Meyer"]
["50532","P202DF28","Kennerly Elementary","Unknown","Lenovo 500e Chromebook (Gen 1)",null,"Available","Chromebook","2018-06-19","287.00","19-54624","Firefly Computers","500e","Lenovo","TR19-CB-01","7c2a311d5cb3","2022/2023",null,"100-1151-6412-3080-07360-1-000",{"$nulls":3},"CHROMEBOOK MANAGEMENT CONSOLE @$23.49\nFIREFLY CHROMEBOOK SUPPORT FOR LENOVO\nLANSCHOOL PERPETUAL PER DEVICE LICENSE WITH 1 YR OF SNS",{"$nulls":3},"81ES0007US","CBRedistribute",null,"Social Studies","01/15/2019 10:00 AM","Ted Meyer"]
["50565","P202CYAT","Kennerly Elementary","Unknown","Lenovo 500e Chromebook (Gen 1)",null,"Available","Chromebook","2018-06-19","287.00","19-54624","Firefly Computers","500e","Lenovo","TR211-CB-04","7470fdc3870f","2022/2023",null,"100-1151-6412-3080-07360-1-000",{"$nulls":3},"CHROMEBOOK MANAGEMENT CONSOLE @$23.49\nFIREFLY CHROMEBOOK SUPPORT FOR LENOVO\nLANSCHOOL PERPETUAL PER DEVICE LICENSE WITH 1 YR OF SNS",{"$nulls":3},"81ES0007US","CBRedistribute",null,"Social Studies","01/15/2019 10:00 AM","Ted Meyer"]
["50566","P202BPXY","Kennerly Elementary","Unknown","Lenovo 500e Chromebook (Gen 1)",null,"Available","Chromebook","2018-06-19","287.00","19-54624","Firefly Computers","500e","Lenovo","TR211-CB-05","7470fda1f2de","2022/2023",null,"100-1151-6412-3080-07360-1-000",{"$nulls":3},"CHROMEBOOK MANAGEMENT CONSOLE @$23.49\nFIREFLY CHROMEBOOK SUPPORT FOR LENOVO\nLANSCHOOL PERPETUAL PER DEVICE LICENSE WITH 1 YR OF SNS",{"$nulls":3},"81ES0007US","CBRedistribute",null,"Social Studies","01/15/2019 10:00 AM","Ted Meyer"]
["38478",null,"Kennerly Elementary","Unknown","Lenovo Thinkpad X220 Ultrabase Base",null,"Available","Docking Station",{"$nulls":4},"x200 Ultrabase","Lenovo",{"$nulls":11},"Key# G24",{"$nulls":3},"SSD","01/15/2019 09:04 AM","Ted Meyer"]
["50573","P202CYA8","Kennerly Elementary","Unknown","Lenovo 500e Chromebook (Gen 1)",null,"Available","Chromebook","2018-06-19","287.00","19-54624","Firefly Computers","500e","Lenovo","TR217-CB-02","7470fdc38700","2022/2023",null,"100-1151-6412-3080-07360-1-000",{"$nulls":3},"CHROMEBOOK MANAGEMENT CONSOLE @$23.49\nFIREFLY CHROMEBOOK SUPPORT FOR LENOVO\nLANSCHOOL PERPETUAL PER DEVICE LICENSE WITH 1 YR OF SNS",{"$nulls":3},"81ES0007US","CBRedistribute",null,"Math","01/15/2019 10:00 AM","Ted Meyer"]
["46954","PC06CWMC","Kennerly Elementary","Unknown","Lenovo ThinkPad Onelink Pro Dock for Thinkpad Yoga",null,"Available","Dock","2015-07-06","132.00","16-30425","TWOTREES","DU9033S1","Lenovo","Kennerly Math",{"$nulls":14},"Math","01/15/2019 09:04 AM","Ted Meyer"]
["53069","P202DUZK","Kennerly Elementary","Unknown","Lenovo 500e Chromebook (Gen 1)",null,"Available","Chromebook","2018-06-19","287.00","19-54624","Firefly Computers","500e","Lenovo","SP101-CB-05","7470fd438cb2","2022/2023",null,"100-1151-6412-3070-07360-1-000",{"$nulls":3},"CHROMEBOOK MANAGEMENT CONSOLE @$23.49\nFIREFLY CHROMEBOOK SUPPORT FOR LENOVO\nLANSCHOOL PERPETUAL PER DEVICE LICENSE WITH 1 YR OF SNS",{"$nulls":3},"81ES0007US","CBRedistribute",null,"Math","01/15/2019 09:53 AM","Ted Meyer"]
["53077","P202E86P","Kennerly Elementary","Unknown","Lenovo 500e Chromebook (Gen 1)",null,"Available","Chromebook","2018-06-19","287.00","19-54624","Firefly Computers","500e","Lenovo","SP133-CB-03","7c7635fc410d","2022/2023",null,"100-1151-6412-3070-07360-1-000",{"$nulls":3},"CHROMEBOOK MANAGEMENT CONSOLE @$23.49\nFIREFLY CHROMEBOOK SUPPORT FOR LENOVO\nLANSCHOOL PERPETUAL PER DEVICE LICENSE WITH 1 YR OF SNS",{"$nulls":3},"81ES0007US","CBRedistribute",null,"Math","01/15/2019 09:53 AM","Ted Meyer"]
["50524","P202D02W","Kennerly Elementary","Unknown","Lenovo 500e Chromebook (Gen 1)",null,"Available","Chromebook","2018-06-19","287.00","19-54624","Firefly Computers","500e","Lenovo","TR13-CB-03","7470fda39607","2022/2023",null,"100-1151-6412-3080-07360-1-000",{"$nulls":3},"CHROMEBOOK MANAGEMENT CONSOLE @$23.49\nFIREFLY CHROMEBOOK SUPPORT FOR LENOVO\nLANSCHOOL PERPETUAL PER DEVICE LICENSE WITH 1 YR OF SNS",{"$nulls":3},"81ES0007US","CBRedistribute",null,"Math","01/15/2019 10:00 AM","Ted Meyer"]
["25346","C05A25145","Kennerly Elementary","Unknown","Panasonic HI-FI Stereo 4 Head Video Cassette Tape Recorder",null,"Available","VCR","2000-12-20","125.00","13656","CSD (W. Schiller & Co.)","PV-V4540","Panasonic",{"$nulls":4},"29550-6542",{"$nulls":10},"4th Grade","01/15/2019 09:04 AM","Ted Meyer"]
["42648","LR6PYAD","Kennerly Elementary","Unknown","Lenovo ThinkPad X130e",null,"Available","Laptop","2012-05-18","573.00","12-40254","Two Trees","X130e","Lenovo","KE015-02","7ce9d3eeca07",null,null,"27870-6541",{"$nulls":10},"4th Grade","01/15/2019 09:04 AM","Ted Meyer"]
["46955","PC04W2Z5","Kennerly Elementary","Unknown","Lenovo ThinkPad Onelink Pro Dock for Thinkpad Yoga",null,"Available","Dock","2015-07-06","132.00","16-30425","TWOTREES","DU9033S1","Lenovo","Kennerly 007",{"$nulls":14},"2nd Grade","01/15/2019 09:04 AM","Ted Meyer"]
["46953","PC06CWMK","Kennerly Elementary","Unknown","Lenovo ThinkPad Onelink Pro Dock for Thinkpad Yoga",null,"Available","Dock","2015-07-06","132.00","16-30425","TWOTREES","DU9033S1","Lenovo","KE-005",{"$nulls":14},"2nd Grade","01/15/2019 09:04 AM","Ted Meyer"]
["43760","DMQJ87CADJ8T","Kennerly Elementary","Unknown","Apple iPad 16GB WIFI (3rd Gen)",null,"Available","iPad","2012-08-22","479.00","13-10778","Apple","MC705LL/A","Apple","KE03-02","98fe94cf6224",null,null,"27870-6541",{"$nulls":7},"A1416",null,null,"Kindergarten","01/15/2019 09:04 AM","Ted Meyer"]
["42396","LR6PXTR","Kennerly Elementary","Unknown","Lenovo ThinkPad X130e",null,"Available","Laptop","2012-05-18","573.00","12-40254","Two Trees","X130e","Lenovo","KE-MLA-16","7ce9d3ef0ba1",null,null,"27870-6541",{"$nulls":10},"1st Grade","01/15/2019 09:04 AM","Ted Meyer"]
["37077","CN-0DK795-73190-821-0840","Kennerly Elementary","Unknown","Dell 1720dn Laser Printer",null,"Available","Printer","2008-03-10","224.00","08-31160","DELL","1720dn","Dell",{"$nulls":3},"10.3.21.114","27820-6541",{"$nulls":4},"2017-08-22","No longer works",{"$nulls":4},"2nd Grade","01/15/2019 09:04 AM","Ted Meyer"]
["43545","DMPJ9DGBDJ8T","Kennerly Elementary","Unknown","Apple iPad 16GB WIFI (3rd Gen)",null,"Available","iPad","2012-08-22","479.00","13-10778","Apple","MC705LL/A","Apple","Elizabeth Shadley, shows at dressel 103","d8004ddc00eb",null,null,"27870-6541",{"$nulls":7},"A1416",null,null,"1st Grade","01/15/2019 09:04 AM","Ted Meyer"]
["37029","CN-0DK795-73190-821-0880","Kennerly Elementary","Unknown","Dell 1720dn Laser Printer",null,"Available","Printer","2008-03-10","224.00","08-31160","DELL","1720dn","Dell","M.Hardebeck",null,null,"10.3.21.12","27820-6541",{"$nulls":10},"1st Grade","01/15/2019 09:04 AM","Ted Meyer"]
["39296","ECILS3-BK","Kennerly Elementary","Unknown","Bretford A/V Learning Cart",null,"Available","Cart","2008-12-13","320.00","09-33069","CDWG","ECILS3-BK","Bretford",{"$nulls":4},"27870-6541",{"$nulls":3},"Black Cart for Elite",{"$nulls":6},"1st Grade","01/15/2019 09:04 AM","Ted Meyer"]
["47395",null,"Kennerly Elementary","Unknown","Lenovo ThinkPad Onelink Pro Dock for Thinkpad Yoga",null,"Available","Dock",{"$nulls":4},"DU9033S1","Lenovo","C. Jaggie",null,"UnKnown",{"$nulls":12},"1st Grade","01/15/2019 09:04 AM","Ted Meyer"]
["46957","PC06CWMH","Kennerly Elementary","Unknown","Lenovo ThinkPad Onelink Pro Dock for Thinkpad Yoga",null,"Available","Dock","2015-07-06","132.00","16-30425","TWOTREES","DU9033S1","Lenovo","Kennerly 011",{"$nulls":14},"1st Grade","01/15/2019 09:04 AM","Ted Meyer"]
["42351","CN-0K2JJD-48730-43N-1LDT","Long Elementary","Unknown","Dell 2360dn Laser Printer",null,"Available","Printer",{"$nulls":4},"2360dn","Dell","LO-Reading",null,null,"10.4.21.190",{"$nulls":11},"Reading","01/15/2019 09:35 AM","Ted Meyer"]
["47417","HCJQSS1","Long Elementary","Unknown","Dell 2360dn Laser Printer",null,"Available","Printer",{"$nulls":4},"2360dn","Dell","LO-Nurse",{"$nulls":14},"Nurse Office","01/15/2019 09:35 AM","Ted Meyer"]
["38987","MJ60731","Long Elementary","Unknown","Lenovo ThinkCentre M58",null,"Available","Desktop","2009-06-19","505.00","10-33827","Lenovo","M58","Lenovo",null,null,"2013/2014",null,"27870-6541",{"$nulls":10},"Nurse Office","01/15/2019 09:34 AM","Ted Meyer"]
["49390","2RJ1882","Long Elementary","Unknown","Dell S2810dn Laser Printer",null,"Available","Printer","2016-10-07","178.18","17-37675","ITsavvy","Dell S2810dn","Dell","LO-Karen Carroll",null,null,"10.4.21.59","27870-6411",{"$nulls":10},"ELL","01/15/2019 09:35 AM","Ted Meyer"]
["36004","975-73190-74T-0971","Long Elementary","Unknown","Dell 1720dn Laser Printer",null,"Available","Printer","2007-07-27","313.42","08-29368","DELL","1720dn","Dell","LO-Sarah Crowe",{"$nulls":3},"27870-6541",{"$nulls":10},"Guidance","01/15/2019 09:34 AM","Ted Meyer"]
["51019","4V2BG62","Long Elementary","Unknown","Dell E310Ddw Printer Monochrome Laser",null,"Available","Printer","2017-07-20","88.00","17-39799","TwoTrees","E310dw","Dell","LO-Warehouse",{"$nulls":3},"27870-6411",{"$nulls":10},"Facilities/Maintenance Dept.","01/15/2019 09:35 AM","Ted Meyer"]
["36305",null,"Long Elementary","Unknown","Bretford A/V Learning Cart",null,"Available","Cart","2007-09-04","305.00","08-29976","CDWG","ECILS3-BK","Bretford",{"$nulls":4},"27870-6541",{"$nulls":10},"Music","01/15/2019 09:34 AM","Ted Meyer"]
["36177","73190-79J-0095","Long Elementary","Unknown","Dell 1720dn Laser Printer",null,"Available","Printer",{"$nulls":4},"1720dn","Dell","LO-Library Circ","0004000e794f",null,"10.4.21.90",{"$nulls":11},"Library","01/15/2019 09:34 AM","Ted Meyer"]
["31355","8869997","Long Elementary","Unknown","Sony Compact Disc Player/Recorder",null,"Available","CD Player","2004-08-11","245.00","05-24088","HRS","RCDW500C","Sony",{"$nulls":4},"30010-6542",{"$nulls":10},"Music","01/15/2019 09:34 AM","Ted Meyer"]
["49590","0W9C33","Long Elementary","Unknown","Dell E310Ddw Printer Monochrome Laser",null,"Available","Printer",{"$nulls":4},"E310dw","Dell","LO-Manager",null,null,"10.4.21.9",{"$nulls":11},"Office","01/15/2019 09:35 AM","Ted Meyer"]
["31134",null,"Long Elementary","Unknown","Bretford 24 Unit Capacity Laptop Computer Roll Around Storage Unit",null,"Available","Cart","2004-07-08","1,179.00","05-23664","IBM DIRECT","D24CFR","Bretford","LOML2",{"$nulls":3},"27870-6541",{"$nulls":10},"4th Grade","01/15/2019 09:34 AM","Ted Meyer"]
["40989",null,"Long Elementary","Unknown","Bretford A/V Learning Cart",null,"Available","Cart",{"$nulls":4},"ECILS3-BK","Bretford","LOML2",{"$nulls":14},"4th Grade","01/15/2019 09:34 AM","Ted Meyer"]
["52272","CT4RTG2","Long Elementary","Unknown","Dell E310Ddw Printer Monochrome Laser",null,"Available","Printer","2018-01-19","88.65","18-53351","CDW","E310dw","Dell","LO-Tim Waters",null,null,"10.4.21.17","27870-6411",{"$nulls":10},"4th Grade","01/15/2019 09:35 AM","Ted Meyer"]
["49300","CV42552","Long Elementary","Unknown","Dell B2360dn Laser Printer",null,"Available","Printer","2016-07-28","155.63","17-36550","CDW-G","B2360dn","Dell","LO-Rebecca Donze",null,null,"10.4.21.35","27870-6411",{"$nulls":3},"SERVICE TAG: CV52442",{"$nulls":6},"4th Grade","01/15/2019 09:35 AM","Ted Meyer"]
["51559","50L7F52","Long Elementary","Unknown","Dell C2660dn Color Laser Printer",null,"Available","Printer","2017-07-19","174.34","18-50562","CDW-G","C2660dn","Dell","LO-Jordan Stevens",null,null,"10.44.21.132","12310-6412",null,null,"Building Budget","DataMax VH667",{"$nulls":6},"Art","01/15/2019 09:35 AM","Ted Meyer"]
["38151","73190-821-1108","Long Elementary","Unknown","Dell 1720dn Laser Printer",null,"Available","Printer","2008-09-04","281.42","09-32349","Dell","1720dn","Dell","LO-Jordan Stevens",null,null,"10.44.21.32","27870-6541",{"$nulls":10},"Art","01/15/2019 09:34 AM","Ted Meyer"]
["34947",null,"Long Elementary","Unknown","Bretford A/V Learning Cart",null,"Available","Cart","2007-01-23","315.00","07-28546","TECH DEPOT","ECILS3-BK","Bretford",{"$nulls":4},"27870-6541",{"$nulls":10},"Art","01/15/2019 09:34 AM","Ted Meyer"]
["49387","607HLRA127750","Long Elementary","Unknown","LG Ultra Slim Portable DVD Writer",null,"Available","DVD Drive","2016-09-28","33.36","17-37676","Amazon","GP65NB60","LG",{"$nulls":4},"27870-6411",{"$nulls":10},"Art","01/15/2019 09:35 AM","Ted Meyer"]
["47755","OG1177732300265","Long Elementary","Unknown","Lenovo Slim USB Portable DVD Player",null,"Available","DVD Drive",{"$nulls":4},"DB60","Lenovo","For Checkout",{"$nulls":14},"Library","01/15/2019 09:35 AM","Ted Meyer"]
["49306","719716312032","Long Elementary","Unknown","Dell C2660dn Color Laser Printer",null,"Available","Printer","2016-08-01","252.97","17-36764","ITsavvy","C2660dn","Dell","LO-Library",null,null,"10.4.21.98","26601-6413",null,null,"Grant","SERVICE TAG: 2ZG6F52",{"$nulls":6},"Library","01/15/2019 09:35 AM","Ted Meyer"]
["47636","B5410689","Long Elementary","Unknown","Lenovo ThinkPad UltraSlim USB DVD Burner",null,"Available","DVD Drive","2015-09-11","63.99","16-31309","CDW-G, Inc.","4XA0E97775","Lenovo","For Checkout",{"$nulls":3},"27870-6411",{"$nulls":3},"This item is to be located in the library for checkout by teacher/staff.",{"$nulls":6},"Library","01/15/2019 09:35 AM","Ted Meyer"]
["49301","7742442","Long Elementary","Unknown","Dell 2360dn Laser Printer",null,"Available","Printer","2016-07-28","155.63","17-36550","CDW-G","2360dn","Dell","LO-Cristina Catarinicchia",null,null,"10.4.21.15","27870-6411",{"$nulls":3},"SERVICE TAG: 7742442",{"$nulls":6},"SSD","01/15/2019 09:35 AM","Ted Meyer"]
["47651","6SYZ342","Long Elementary","Unknown","Dell 2360dn Laser Printer",null,"Available","Printer",{"$nulls":4},"2360dn","Dell","LO-Hailey Freer",null,null,"10.4.21.14",{"$nulls":11},"SSD","01/15/2019 09:35 AM","Ted Meyer"]
["47652","844Z342","Long Elementary","Unknown","Dell 2360dn Laser Printer",null,"Available","Printer",{"$nulls":4},"2360dn","Dell","LO-Kris Goedereis",null,null,"10.4.21.13",{"$nulls":11},"SSD","01/15/2019 09:35 AM","Ted Meyer"]
["54385","P2033TDU","Sappington Elementary","Unknown","Lenovo 500e Chromebook (Gen 1)",null,"Available","Chromebook","2018-11-20","314.49","19-56517","Firefly Computers","500e","Lenovo","SA049-02","38baf85da9a8","2022/2023",null,"SA Soda (SA PTG will reimburse)",null,null,"Grant",{"$nulls":4},"81ES0007US","CBRedistribute",null,"4th Grade","01/15/2019 09:46 AM","Ted Meyer"]
["54387","P2033GEE","Sappington Elementary","Unknown","Lenovo 500e Chromebook (Gen 1)",null,"Available","Chromebook","2018-11-20","314.49","19-56517","Firefly Computers","500e","Lenovo","SA049-04","38baf8eada49","2022/2023",null,"SA Soda (SA PTG will reimburse)",null,null,"Grant",{"$nulls":4},"81ES0007US","CBRedistribute",null,"4th Grade","01/15/2019 09:46 AM","Ted Meyer"]
["54372","P2033TAA","Sappington Elementary","Unknown","Lenovo 500e Chromebook (Gen 1)",null,"Available","Chromebook","2018-11-20","314.49","19-56517","Firefly Computers","500e","Lenovo","SA046-01","38baf85ccb82","2022/2023",null,"SA Soda (SA PTG will reimburse)",null,null,"Grant",{"$nulls":4},"81ES0007US","CBRedistribute",null,"4th Grade","01/15/2019 09:46 AM","Ted Meyer"]
["43299","DMQJ87N7DJ8T","Sappington Elementary","Unknown","Apple iPad 16GB WIFI (3rd Gen)",null,"Available","iPad","2012-08-22","479.00","13-10778","Apple","MC705LL/A","Apple","Amanda Timmerman","98fe94cea465",null,null,"27870-6541",{"$nulls":7},"A1416",null,null,"4th Grade","01/15/2019 09:45 AM","Ted Meyer"]
["43604","DMQJ87DUDJ8T","Sappington Elementary","Unknown","Apple iPad 16GB WIFI (3rd Gen)",null,"Available","iPad","2012-08-22","479.00","13-10778","Apple","MC705LL/A","Apple","Deanna Folluo old teacher ipad","98fe94cf43f0",null,null,"27870-6541",{"$nulls":7},"A1416",null,null,"4th Grade","01/15/2019 09:46 AM","Ted Meyer"]
["54375","P2033GC2","Sappington Elementary","Unknown","Lenovo 500e Chromebook (Gen 1)",null,"Available","Chromebook","2018-11-20","314.49","19-56517","Firefly Computers","500e","Lenovo","SA046-04","38baf8ea7ba3","2022/2023",null,"SA Soda (SA PTG will reimburse)",null,null,"Grant",{"$nulls":4},"81ES0007US","CBRedistribute",null,"3rd Grade","01/15/2019 09:46 AM","Ted Meyer"]
["36391","035TMC09QC","Sappington Elementary","Unknown","Motorola DTR650 Two-Way Radio",null,"Available","Two-Way Radio","2011-03-28","260.00","11-37078","TBS Electronics","DTR650","Motorola","unknown",{"$nulls":14},"4th Grade","01/15/2019 10:07 AM","Ted Meyer"]
["39520","CN-0DX787-48730-98M-1FNJ","Truman Middle","Unknown","Dell 2330dn Laser Printer",null,"Available","Printer","2009-09-11","208.00","10-34400","Dell","2330dn","Dell","VH484",null,"2013/2014","10.6.21.226","27870-6541",{"$nulls":10},"7th Grade","01/15/2019 09:59 AM","Ted Meyer"]
["45765","PB1BZN5","Truman Middle","Unknown","Lenovo ThinkPad USB 3.0 Dock",null,"Available","Dock","2013-05-10","135.00","14-15032","TWOTREES","DU9019D1","Lenovo","TR19","843a4b0edbdc",{"$nulls":11},"no longer used",null,"TECHNOLOGY STG","01/15/2019 09:21 AM","Ted Meyer"]
["42949",null,"Truman Middle","Unknown","Bretford A/V Learning Cart",null,"Available","Cart",{"$nulls":4},"ECILS3-BK","Bretford","315",null,"UnKnown",{"$nulls":12},"Music","01/15/2019 09:59 AM","Ted Meyer"]
["44146","MRKF082653L","Truman Middle","Unknown","Epson Brightlink 450Wi Projector",null,"Available","Projector","2010-05-03","1,649.32","10-35375","Florida Micro","Brightlink 450Wi","Epson","TR315",null,"2014/2015","10.6.19.135","27870-6541","Filter","2018-08-01",null,"V11H317020-1",{"$nulls":6},"Music","01/15/2019 09:59 AM","Ted Meyer"]
["47730",null,"Truman Middle","Unknown","Apple TV (3rd Generation)",null,"Available","Apple TV","2015-03-20","69.00","15-22010","Apple Store","MD199LL/A","Apple","TR313",null,"2019/2020",null,"2787-06411",{"$nulls":3},"110-2331-6411-824-001-000 Admin tech equipment supply",{"$nulls":3},"A1469","replaced newer better",null,"Music","01/15/2019 10:00 AM","Ted Meyer"]
["46081","C07P5JH0FF54","Truman Middle","Unknown","Apple TV (3rd Generation)",null,"Available","Apple TV","2015-03-20","69.00","15-22010","Apple Store","MD199LL/A","Apple","TR314",null,"2019/2020",null,"2787-06411",{"$nulls":3},"110-2331-6411-824-001-000 Admin tech equipment supply",{"$nulls":3},"A1469","replaced newer better",null,"Music","01/15/2019 09:59 AM","Ted Meyer"]
["46082","C07P5K66FF54","Truman Middle","Unknown","Apple TV (3rd Generation)",null,"Available","Apple TV","2015-03-20","69.00","15-22010","Apple Store","MD199LL/A","Apple","TR - Orchestra",null,"2019/2020",null,"2787-06411",{"$nulls":3},"110-2331-6411-824-001-000 Admin tech equipment supply",{"$nulls":3},"A1469","replaced newer better",null,"Music","01/15/2019 09:59 AM","Ted Meyer"]
["52099","LR09MPV4","Truman Middle","Unknown","Lenovo ThinkPad 11e",null,"Available","Laptop","2017-09-08","434.42","18-51391","SoftChoice","11e","Lenovo","TR-PE-01","aced5c54fbff","2021/2022",null,"13861-6412",null,null,"Building Budget",{"$nulls":4},"20GBS00S00",null,null,"Technology","01/15/2019 10:00 AM","Ted Meyer"]
["52100","LR09MPPN","Truman Middle","Unknown","Lenovo ThinkPad 11e",null,"Available","Laptop","2017-09-08","434.42","18-51391","SoftChoice","11e","Lenovo","TR-PE-02","aced5c05f235","2021/2022",null,"13861-6412",null,null,"Building Budget",{"$nulls":4},"20GBS00S00",null,null,"Technology","01/15/2019 10:00 AM","Ted Meyer"]
["52101","LR09MPT9","Truman Middle","Unknown","Lenovo ThinkPad 11e",null,"Available","Laptop","2017-09-08","434.42","18-51391","SoftChoice","11e","Lenovo","TR-PE-03","aced5cb2c2c6","2021/2022",null,"13861-6412",null,null,"Building Budget",{"$nulls":4},"20GBS00S00",null,null,"Technology","01/15/2019 10:00 AM","Ted Meyer"]
["52106","LR09MPVZ","Truman Middle","Unknown","Lenovo ThinkPad 11e",null,"Available","Laptop","2017-09-08","434.42","18-51391","SoftChoice","11e","Lenovo","TR-PE-08","aced5c54fbaa","2021/2022",null,"13861-6412",null,null,"Building Budget",{"$nulls":4},"20GBS00S00",null,null,"Technology","01/15/2019 10:00 AM","Ted Meyer"]
["52107","LR09MPTN","Truman Middle","Unknown","Lenovo ThinkPad 11e",null,"Available","Laptop","2017-09-08","434.42","18-51391","SoftChoice","11e","Lenovo","TR-PE-09","aced5cb2e1f7","2021/2022",null,"13861-6412",null,null,"Building Budget",{"$nulls":4},"20GBS00S00",null,null,"Technology","01/15/2019 10:00 AM","Ted Meyer"]
["52115","LR09MPTQ","Truman Middle","Unknown","Lenovo ThinkPad 11e",null,"Available","Laptop","2017-09-08","434.42","18-51391","SoftChoice","11e","Lenovo","TR-PE-17","aced5cb2c23f","2021/2022",null,"13861-6412",null,null,"Building Budget",{"$nulls":4},"20GBS00S00",null,null,"Technology","01/15/2019 10:00 AM","Ted Meyer"]
["49564","MP14E7BH","Truman Middle","Unknown","Lenovo ThinkPad Yoga 260 (Core i5-6300U, 8GB, 256GB)",null,"Available","Laptop","2017-03-27","1,234.90","17-39996","ITsavvy LLC","Yoga 260","Lenovo",null,"e4a7a022946c","2021/2022",null,"27870-6541",{"$nulls":3},"400-2331-6543-824-000-000",{"$nulls":3},"20FD002DUS","no longer used",null,"Technology","01/15/2019 09:53 AM","Ted Meyer"]
["34091","KCGET60309432","Truman Middle","Unknown","Koak Easy Share Digital Camera",null,"Available","Camera",{"$nulls":3},"BEST BUY","C330","Kodak",null,null,"UnKnown",null,"MOTHERS CLUB",{"$nulls":10},"Library","01/15/2019 09:59 AM","Ted Meyer"]
["36288","942614","Truman Middle","Unknown","Sony CD/Cassette Boombox Unit",null,"Available","CD Player","2007-10-08","69.69","08-29687","BEST BUY","CFD-5350","Sony",null,null,"2011/2012",null,"31400-6512",{"$nulls":10},"Library","01/15/2019 09:59 AM","Ted Meyer"]
["30470",null,"Truman Middle","Unknown","Gateway Mobile Computer Storage/Charger Lab Cart",null,"Available","Cart","2004-04-12","49,989.00","04-23216","GATEWAY BUSINESS",null,"Gateway",null,null,"2008/2009",null,"27870-6541",{"$nulls":11},"01/15/2019 09:59 AM","Ted Meyer"]
["45486","PB7GVB9","Truman Middle","Unknown","Lenovo ThinkPad X131e",null,"Available","Laptop","2013-05-20","508.00","13-13931","Two Trees","X131e","Lenovo","TR-MLA-11","f4b7e2d28935","2017/2018",null,"27870-6541",{"$nulls":11},"01/15/2019 09:59 AM","Ted Meyer"]
["44355","PB02497W","Truman Middle","Unknown","Lenovo ThinkPad x140e",null,"Available","Laptop","2014-06-05","434.00","15-18339","TwoTrees","X140e","Lenovo","TRMLD-25","b8ee65d2e297","2018/2019",null,"27870-6541",{"$nulls":11},"01/15/2019 09:59 AM","Ted Meyer"]
["52667","LR08GTN8","Truman Middle","Unknown","Lenovo ThinkPad 11e",null,"Available","Laptop","2018-02-12","334.68","18-53633","SOFTCHOICE","11e","Lenovo","TRML4-13","d0577b7e0973","2022/2023",null,"27872-6412",{"$nulls":7},"20GBS00S00",{"$nulls":3},"01/15/2019 10:00 AM","Ted Meyer"]
["50590","P202CZ64","Sappington Elementary","Unknown","Lenovo 500e Chromebook (Gen 1)",null,"Available","Chromebook","2018-06-19","287.00","19-54624","Firefly Computers","500e","Lenovo","TR223-CB-04","7470fda37ee2","2022/2023",null,"100-1151-6412-3080-07360-1-000",{"$nulls":3},"CHROMEBOOK MANAGEMENT CONSOLE @$23.49\nFIREFLY CHROMEBOOK SUPPORT FOR LENOVO\nLANSCHOOL PERPETUAL PER DEVICE LICENSE WITH 1 YR OF SNS",{"$nulls":3},"81ES0007US","CBRedistribute",null,"English","01/15/2019 10:00 AM","Ted Meyer"]
["50591","P202CZTR","Sappington Elementary","Unknown","Lenovo 500e Chromebook (Gen 1)",null,"Available","Chromebook","2018-06-19","287.00","19-54624","Firefly Computers","500e","Lenovo","TR223-CB-05","7470fdc3834f","2022/2023",null,"100-1151-6412-3080-07360-1-000",{"$nulls":3},"CHROMEBOOK MANAGEMENT CONSOLE @$23.49\nFIREFLY CHROMEBOOK SUPPORT FOR LENOVO\nLANSCHOOL PERPETUAL PER DEVICE LICENSE WITH 1 YR OF SNS",{"$nulls":3},"81ES0007US","CBRedistribute",null,"English","01/15/2019 10:00 AM","Ted Meyer"]
["50993","P202DF1Y","Sappington Elementary","Unknown","Lenovo 500e Chromebook (Gen 1)",null,"Available","Chromebook","2018-06-19","287.00","19-54624","Firefly Computers","500e","Lenovo","SP112-CB-01","7c2a311c8c25","2022/2023",null,"100-1151-6412-3070-07360-1-000",{"$nulls":3},"CHROMEBOOK MANAGEMENT CONSOLE @$23.49\nFIREFLY CHROMEBOOK SUPPORT FOR LENOVO\nLANSCHOOL PERPETUAL PER DEVICE LICENSE WITH 1 YR OF SNS",{"$nulls":3},"81ES0007US","CBRedistribute",null,"Social Studies","01/15/2019 09:53 AM","Ted Meyer"]
["41443","0177601CG167960","Sappington Elementary","Unknown","Califone Radio Recorder w/ CD Player",null,"Available","Tape Recorder","2011-08-23",{"$nulls":3},"1776","Califone","Custodial",null,"2015/2016",{"$nulls":12},"Resource","01/15/2019 09:45 AM","Ted Meyer"]
["41547","YC01068K","Sappington Elementary","Unknown","Sircle SRL-2700-HR 27\" roll Laminator with cart",null,"Available","Other","2012-04-05","1,034.99","12-39816","Binding Machine.com",null,null,"replaced with new this broke",{"$nulls":10},"Pod closet",{"$nulls":3},"Resource","01/15/2019 09:45 AM","Ted Meyer"]
["51994","LR09H0FH","Sappington Elementary","Unknown","Lenovo ThinkPad 11e",null,"Available","Laptop","2017-08-23","433.42","18-50895","SoftChoice","11e","Lenovo","SA032-02","34f64bb72e97","2021/2022",null,"12310-6412",null,null,"Building Budget","C&amp;amp;I Purchase",{"$nulls":3},"20GBS00S00",null,null,"ELL","01/15/2019 09:46 AM","Ted Meyer"]
["51995","LR09H0DB","Sappington Elementary","Unknown","Lenovo ThinkPad 11e",null,"Available","Laptop","2017-08-23","433.42","18-50895","SoftChoice","11e","Lenovo","SA032-01","34f64bb7d3b5","2021/2022",null,"12310-6412",null,null,"Building Budget","C&amp;amp;I Purchase",{"$nulls":3},"20GBS00S00",null,null,"ELL","01/15/2019 09:46 AM","Ted Meyer"]
["48833","PB027EZN","Sappington Elementary","Unknown","Lenovo ThinkPad x140e",null,"Available","Laptop","2014-06-05","434.00","15-18339","TwoTrees","X140e","Lenovo","SA038-SSD-01","142d27e3baef","2018/2019",null,"27870-6541",{"$nulls":10},"SSD","01/15/2019 09:46 AM","Ted Meyer"]
["41640","DMPJ9C22DJ8T","Sappington Elementary","Unknown","Apple iPad 16GB WIFI (3rd Gen)",null,"Available","iPad","2012-11-15","499.00","13-11912","Apple","MC705LL/A","Apple","lindipad41640@lindberghschools.ws seaLion4165","d8004ddeddc6","2016/2017",null,"27870-6541",{"$nulls":7},"A1416",null,null,"SSD","01/15/2019 09:46 AM","Ted Meyer"]
["44446","PB02SBR5","Sappington Elementary","Unknown","Lenovo ThinkPad x140e",null,"Available","Laptop","2014-06-17","383.00","15-18392","TWO TREES","X140e","Lenovo","Checkout Computer #43","18cf5e56e362","2018/2019",null,"11310-6542",{"$nulls":10},"Library","01/15/2019 09:46 AM","Ted Meyer"]
["45031","SR9YTCYT","Sappington Elementary","Unknown","Lenovo ThinkPad Helix",null,"Available","Laptop","2013-05-10","1,455.00","14-15032","TWOTREES","Helix","Lenovo","Alicia Ritter","843a4b0e8574",{"$nulls":10},"36984LU",null,null,"Kindergarten","01/15/2019 09:46 AM","Ted Meyer"]
["41402","421164","Sappington Elementary","Unknown","Sony Bloggie Touch Camcorder",null,"Available","Camera","2011-09-12","165.00","12-38068","CDW","CF0-5350","Sony",{"$nulls":4},"24932-6411",{"$nulls":10},"Library","01/15/2019 09:45 AM","Ted Meyer"]
["44509","DMPN1397F182","Sappington Elementary","Unknown","Apple iPad 16GB WIFI (4th Gen)",null,"Available","iPad","2014-06-25","379.00","15-18514","Apple Store","MD510LL/A","Apple",null,"f82793c51230","2018/2019",null,"11310-6542",{"$nulls":7},"A1458",null,null,"Library","01/15/2019 09:46 AM","Ted Meyer"]
["48127","RF2DA1H5S3T","Sappington Elementary","Unknown","Samsung Galaxy Tab 3 (8 inch)",null,"Available","Tablet","2014-01-29","269.00","14-17786","Amazon","SM-T310","Samsung",null,"c462ea33aadf","2018/2019",null,"11310-6542",{"$nulls":10},"Library","01/15/2019 09:46 AM","Ted Meyer"]
["37703","1101848605","Truman Middle","Unknown","Gateway Monitor",null,"Available","Monitor","2008-07-01","1,050.79","09-31682","Gateway","FTP1975W","Gateway",{"$nulls":4},"27870-6541",{"$nulls":8},"no longer used",null,"Guidance","01/15/2019 09:59 AM","Ted Meyer"]
["54394","P2033TCF","Sappington Elementary","Unknown","Lenovo 500e Chromebook (Gen 1)",null,"Available","Chromebook","2018-11-20","314.49","19-56517","Firefly Computers","500e","Lenovo","SA057-03","38baf85dc82f","2022/2023",null,"SA Soda (SA PTG will reimburse)",null,null,"Grant",{"$nulls":4},"81ES0007US","CBRedistribute",null,"5th Grade","01/15/2019 09:46 AM","Ted Meyer"]
["54395","P2033U5X","Sappington Elementary","Unknown","Lenovo 500e Chromebook (Gen 1)",null,"Available","Chromebook","2018-11-20","314.49","19-56517","Firefly Computers","500e","Lenovo","SA057-04","38baf85d9738","2022/2023",null,"SA Soda (SA PTG will reimburse)",null,null,"Grant",{"$nulls":4},"81ES0007US","CBRedistribute",null,"5th Grade","01/15/2019 09:46 AM","Ted Meyer"]
["54400","P2033TJ5","Sappington Elementary","Unknown","Lenovo 500e Chromebook (Gen 1)",null,"Available","Chromebook","2018-11-20","314.49","19-56517","Firefly Computers","500e","Lenovo","SA-5THGRADE-01","38baf85121a6","2022/2023",null,"SA Soda (SA PTG will reimburse)",null,null,"Grant",{"$nulls":4},"81ES0007US","CBRedistribute",null,"5th Grade","01/15/2019 09:46 AM","Ted Meyer"]
["51343","LR09EAVE","Sappington Elementary","Unknown","Lenovo ThinkPad 11e",null,"Available","Laptop","2017-06-15","456.90","18-50158","STAPLES","11e","Lenovo","SA059-04","e442a6a3b1c3","2021/2022",null,"27871-6412",{"$nulls":3},"EXTENDED SERVICE AGREEMENT PARTS AND LABOR 3 YEAR PICK UP AND RETURN TOPSELLER SERVICE @$55.00",{"$nulls":3},"20GB001HUS",null,null,"5th Grade","01/15/2019 09:46 AM","Ted Meyer"]
["54402","P2033G3Q","Sappington Elementary","Unknown","Lenovo 500e Chromebook (Gen 1)",null,"Available","Chromebook","2018-11-20","314.49","19-56517","Firefly Computers","500e","Lenovo","SA-5THGRADE-03","38baf8ec648b","2022/2023",null,"SA Soda (SA PTG will reimburse)",null,null,"Grant",{"$nulls":4},"81ES0007US","CBRedistribute",null,"5th Grade","01/15/2019 09:46 AM","Ted Meyer"]
["54382","P2033TD0","Sappington Elementary","Unknown","Lenovo 500e Chromebook (Gen 1)",null,"Available","Chromebook","2018-11-20","314.49","19-56517","Firefly Computers","500e","Lenovo","SA048-03","38baf85dc014","2022/2023",null,"SA Soda (SA PTG will reimburse)",null,null,"Grant",{"$nulls":4},"81ES0007US","CBRedistribute",null,"4th Grade","01/15/2019 09:46 AM","Ted Meyer"]
["44393","PK2XKVE","Sappington Elementary","Unknown","Lenovo ThinkPad Helix",null,"Available","Laptop","2014-06-03","1,490.00","14-19368","TwoTrees","Helix","Lenovo","Mary Kate Baraba","843a4bdd3eec","2018/2019",null,"27870-6541",{"$nulls":7},"36984LU",{"$nulls":3},"01/15/2019 09:46 AM","Ted Meyer"]
["40554",null,"Sappington Elementary","Unknown","Bretford A/V Learning Cart",null,"Available","Cart",{"$nulls":4},"ECILS3-BK","Bretford",null,null,"UnKnown",{"$nulls":12},"1st Grade","01/15/2019 09:45 AM","Ted Meyer"]
["51300","LR09EB2A","Sappington Elementary","Unknown","Lenovo ThinkPad 11e",null,"Available","Laptop","2017-06-15","456.90","18-50158","STAPLES","11e","Lenovo","SA042-03","e442a6a426ad","2021/2022",null,"27871-6412",{"$nulls":3},"EXTENDED SERVICE AGREEMENT PARTS AND LABOR 3 YEAR PICK UP AND RETURN TOPSELLER SERVICE @$55.00",{"$nulls":3},"20GB001HUS",null,null,"3rd Grade","01/15/2019 09:46 AM","Ted Meyer"]
["51302","LR09EAPL","Sappington Elementary","Unknown","Lenovo ThinkPad 11e",null,"Available","Laptop","2017-06-15","456.90","18-50158","STAPLES","11e","Lenovo","SA042-05","e442a6a41acd","2021/2022",null,"27871-6412",{"$nulls":3},"EXTENDED SERVICE AGREEMENT PARTS AND LABOR 3 YEAR PICK UP AND RETURN TOPSELLER SERVICE @$55.00",{"$nulls":3},"20GB001HUS",null,null,"3rd Grade","01/15/2019 09:46 AM","Ted Meyer"]
["51298","LR09EAW2","Sappington Elementary","Unknown","Lenovo ThinkPad 11e",null,"Available","Laptop","2017-06-15","456.90","18-50158","STAPLES","11e","Lenovo","SA042-01","e442a6a42e32","2021/2022",null,"27871-6412",{"$nulls":3},"EXTENDED SERVICE AGREEMENT PARTS AND LABOR 3 YEAR PICK UP AND RETURN TOPSELLER SERVICE @$55.00",{"$nulls":3},"20GB001HUS",null,null,"3rd Grade","01/15/2019 09:46 AM","Ted Meyer"]
["46818","SLR03ZUXM","Sappington Elementary","Unknown","Lenovo ThinkPad 11e",null,"Available","Laptop","2015-07-06","473.00","16-30271","TwoTrees Technology","11e","Lenovo","SAML2-16","104a7d6e6a68","2019/2020",null,"27872-6541",{"$nulls":7},"20DAS0VX00",null,null,"3rd Grade","01/15/2019 09:46 AM","Ted Meyer"]
["54361","P2033TVY","Sappington Elementary","Unknown","Lenovo 500e Chromebook (Gen 1)",null,"Available","Chromebook","2018-11-20","314.49","19-56517","Firefly Computers","500e","Lenovo","SA042-02","38baf85de62a","2022/2023",null,"SA Soda (SA PTG will reimburse)",null,null,"Grant",{"$nulls":4},"81ES0007US","CBRedistribute",null,"3rd Grade","01/15/2019 09:46 AM","Ted Meyer"]
["54362","P2033TDH","Sappington Elementary","Unknown","Lenovo 500e Chromebook (Gen 1)",null,"Available","Chromebook","2018-11-20","314.49","19-56517","Firefly Computers","500e","Lenovo","SA042-03","38baf85dd072","2022/2023",null,"SA Soda (SA PTG will reimburse)",null,null,"Grant",{"$nulls":4},"81ES0007US","CBRedistribute",null,"3rd Grade","01/15/2019 09:46 AM","Ted Meyer"]
["54363","P2033TKC","Sappington Elementary","Unknown","Lenovo 500e Chromebook (Gen 1)",null,"Available","Chromebook","2018-11-20","314.49","19-56517","Firefly Computers","500e","Lenovo","SA042-04","38baf85aba77","2022/2023",null,"SA Soda (SA PTG will reimburse)",null,null,"Grant",{"$nulls":4},"81ES0007US","CBRedistribute",null,"3rd Grade","01/15/2019 09:46 AM","Ted Meyer"]
["47939","X606550053A8E","Sappington Elementary","Unknown","Xirrus XR-620 Access Point",null,"Available","Access Point","2016-07-01","237.42","17-36030","Zagarri Engineering","XR620","Xirrus",null,null,"2020/2021",null,"39038-65421",null,null,"E-Rate",{"$nulls":8},"01/15/2019 09:46 AM","Ted Meyer"]
["52436","LR0A3PQ0","Sappington Elementary","Unknown","Lenovo N23 Chromebook",null,"Available","Chromebook","2018-01-12","270.32","18-53249","SoftChoice","N23 Touch","Lenovo","SPML7-04","1c4d7048186d","2022/2023",null,"See Below",null,null,"Building Budget","SP 17060-6412  SP 13420-6412  Technology 27872-6412       This purchase is to pilot Chromebooks in the middle school.",{"$nulls":3},"81MC001EUS","CBRedistribute",null,null,"01/15/2019 09:53 AM","Ted Meyer"]
["52437","LR0A3PSY","Sappington Elementary","Unknown","Lenovo N23 Chromebook",null,"Available","Chromebook","2018-01-12","270.32","18-53249","SoftChoice","N23 Touch","Lenovo","SPML7-05","1c4d7047fe28","2022/2023",null,"See Below",null,null,"Building Budget","SP 17060-6412  SP 13420-6412  Technology 27872-6412       This purchase is to pilot Chromebooks in the middle school.",{"$nulls":3},"81MC001EUS","CBRedistribute",null,null,"01/15/2019 09:53 AM","Ted Meyer"]
["52442","LR0A3PJW","Sappington Elementary","Unknown","Lenovo N23 Chromebook",null,"Available","Chromebook","2018-01-12","270.32","18-53249","SoftChoice","N23 Touch","Lenovo","SPML7-10","1c4d7051d4c0","2022/2023",null,"See Below",null,null,"Building Budget","SP 17060-6412  SP 13420-6412  Technology 27872-6412       This purchase is to pilot Chromebooks in the middle school.",{"$nulls":3},"81MC001EUS","CBRedistribute",null,null,"01/15/2019 09:53 AM","Ted Meyer"]
["52445","LR0A3PU0","Sappington Elementary","Unknown","Lenovo N23 Chromebook",null,"Available","Chromebook","2018-01-12","270.32","18-53249","SoftChoice","N23 Touch","Lenovo","SPML7-13","1c4d70e34c02","2022/2023",null,"See Below",null,null,"Building Budget","SP 17060-6412  SP 13420-6412  Technology 27872-6412       This purchase is to pilot Chromebooks in the middle school.",{"$nulls":3},"81MC001EUS","CBRedistribute",null,null,"01/15/2019 09:53 AM","Ted Meyer"]
["52446","LR0A3PSB","Sappington Elementary","Unknown","Lenovo N23 Chromebook",null,"Available","Chromebook","2018-01-12","270.32","18-53249","SoftChoice","N23 Touch","Lenovo","SPML7-14","1c4d70481098","2022/2023",null,"See Below",null,null,"Building Budget","SP 17060-6412  SP 13420-6412  Technology 27872-6412       This purchase is to pilot Chromebooks in the middle school.",{"$nulls":3},"81MC001EUS","CBRedistribute",null,null,"01/15/2019 09:53 AM","Ted Meyer"]
["52448","LR0A3PRC","Sappington Elementary","Unknown","Lenovo N23 Chromebook",null,"Available","Chromebook","2018-01-12","270.32","18-53249","SoftChoice","N23 Touch","Lenovo","SPML7-16","1c4d7047fd51","2022/2023",null,"See Below",null,null,"Building Budget","SP 17060-6412  SP 13420-6412  Technology 27872-6412       This purchase is to pilot Chromebooks in the middle school.",{"$nulls":3},"81MC001EUS","CBRedistribute",null,null,"01/15/2019 09:53 AM","Ted Meyer"]
["52449","LR0A3PV0","Sappington Elementary","Unknown","Lenovo N23 Chromebook",null,"Available","Chromebook","2018-01-12","270.32","18-53249","SoftChoice","N23 Touch","Lenovo","SPML7-17","1c4d70e33b8b","2022/2023",null,"See Below",null,null,"Building Budget","SP 17060-6412  SP 13420-6412  Technology 27872-6412       This purchase is to pilot Chromebooks in the middle school.",{"$nulls":3},"81MC001EUS","CBRedistribute",null,null,"01/15/2019 09:53 AM","Ted Meyer"]
["52454","LR0A3PPH","Sappington Elementary","Unknown","Lenovo N23 Chromebook",null,"Available","Chromebook","2018-01-12","270.32","18-53249","SoftChoice","N23 Touch","Lenovo","SPML7-22","1c4d704835eb","2022/2023",null,"See Below",null,null,"Building Budget","SP 17060-6412  SP 13420-6412  Technology 27872-6412       This purchase is to pilot Chromebooks in the middle school.",{"$nulls":3},"81MC001EUS","CBRedistribute",null,null,"01/15/2019 09:53 AM","Ted Meyer"]
["52457","LR0A3PQW","Sappington Elementary","Unknown","Lenovo N23 Chromebook",null,"Available","Chromebook","2018-01-12","270.32","18-53249","SoftChoice","N23 Touch","Lenovo","SPML7-25","1c4d704810c5","2022/2023",null,"See Below",null,null,"Building Budget","SP 17060-6412  SP 13420-6412  Technology 27872-6412       This purchase is to pilot Chromebooks in the middle school.",{"$nulls":3},"81MC001EUS","CBRedistribute",null,null,"01/15/2019 09:53 AM","Ted Meyer"]
["52459","LR0A3PQR","Sappington Elementary","Unknown","Lenovo N23 Chromebook",null,"Available","Chromebook","2018-01-12","270.32","18-53249","SoftChoice","N23 Touch","Lenovo","SPML7-27","1c4d7048189f","2022/2023",null,"See Below",null,null,"Building Budget","SP 17060-6412  SP 13420-6412  Technology 27872-6412       This purchase is to pilot Chromebooks in the middle school.",{"$nulls":3},"81MC001EUS","CBRedistribute",null,null,"01/15/2019 09:53 AM","Ted Meyer"]
["52463","LR0A3PYA","Sappington Elementary","Unknown","Lenovo N23 Chromebook",null,"Available","Chromebook","2018-01-12","270.32","18-53260","SoftChoice","N23 Touch","Lenovo","SPML8-01","1c4d70e1c404","2022/2023",null,"See Below",null,null,"Building Budget","26606-6412 Camp Ignite  - 24932-6412 CC Boeing Grant  - 26626-6412 CC Soda       This purchase is to pilot Chromebooks in the middle school.",{"$nulls":3},"81MC001EUS","CBRedistribute",null,null,"01/15/2019 09:53 AM","Ted Meyer"]
["52464","LR0A3PTL","Sappington Elementary","Unknown","Lenovo N23 Chromebook",null,"Available","Chromebook","2018-01-12","270.32","18-53260","SoftChoice","N23 Touch","Lenovo","SPML8-02","1c4d70e34e19","2022/2023",null,"See Below",null,null,"Building Budget","26606-6412 Camp Ignite  - 24932-6412 CC Boeing Grant  - 26626-6412 CC Soda       This purchase is to pilot Chromebooks in the middle school.",{"$nulls":3},"81MC001EUS","CBRedistribute",null,null,"01/15/2019 09:53 AM","Ted Meyer"]
["52465","LR0A3PND","Sappington Elementary","Unknown","Lenovo N23 Chromebook",null,"Available","Chromebook","2018-01-12","270.32","18-53260","SoftChoice","N23 Touch","Lenovo","SPML8-03","1c4d70482d12","2022/2023",null,"See Below",null,null,"Building Budget","26606-6412 Camp Ignite  - 24932-6412 CC Boeing Grant  - 26626-6412 CC Soda       This purchase is to pilot Chromebooks in the middle school.",{"$nulls":3},"81MC001EUS","CBRedistribute",null,null,"01/15/2019 09:53 AM","Ted Meyer"]
["52467","LR0A3PS6","Sappington Elementary","Unknown","Lenovo N23 Chromebook",null,"Available","Chromebook","2018-01-12","270.32","18-53260","SoftChoice","N23 Touch","Lenovo","SPML8-05","1c4d704817f5","2022/2023",null,"See Below",null,null,"Building Budget","26606-6412 Camp Ignite  - 24932-6412 CC Boeing Grant  - 26626-6412 CC Soda       This purchase is to pilot Chromebooks in the middle school.",{"$nulls":3},"81MC001EUS","CBRedistribute",null,null,"01/15/2019 09:53 AM","Ted Meyer"]
["52468","LR0A3PQT","Sappington Elementary","Unknown","Lenovo N23 Chromebook",null,"Available","Chromebook","2018-01-12","270.32","18-53260","SoftChoice","N23 Touch","Lenovo","SPML8-06","1c4d704802ba","2022/2023",null,"See Below",null,null,"Building Budget","26606-6412 Camp Ignite  - 24932-6412 CC Boeing Grant  - 26626-6412 CC Soda       This purchase is to pilot Chromebooks in the middle school.",{"$nulls":3},"81MC001EUS","CBRedistribute",null,null,"01/15/2019 09:53 AM","Ted Meyer"]
["52470","LR0A3PRA","Sappington Elementary","Unknown","Lenovo N23 Chromebook",null,"Available","Chromebook","2018-01-12","270.32","18-53260","SoftChoice","N23 Touch","Lenovo","SPML8-08","1c4d704803a5","2022/2023",null,"See Below",null,null,"Building Budget","26606-6412 Camp Ignite  - 24932-6412 CC Boeing Grant  - 26626-6412 CC Soda       This purchase is to pilot Chromebooks in the middle school.",{"$nulls":3},"81MC001EUS","CBRedistribute",null,null,"01/15/2019 09:53 AM","Ted Meyer"]
["52472","LR0A3PQ5","Sappington Elementary","Unknown","Lenovo N23 Chromebook",null,"Available","Chromebook","2018-01-12","270.32","18-53260","SoftChoice","N23 Touch","Lenovo","SPML8-10","1c4d7047fe5f","2022/2023",null,"See Below",null,null,"Building Budget","26606-6412 Camp Ignite  - 24932-6412 CC Boeing Grant  - 26626-6412 CC Soda       This purchase is to pilot Chromebooks in the middle school.",{"$nulls":3},"81MC001EUS","CBRedistribute",null,null,"01/15/2019 09:53 AM","Ted Meyer"]
["52481","LR0A3PM0","Sappington Elementary","Unknown","Lenovo N23 Chromebook",null,"Available","Chromebook","2018-01-12","270.32","18-53260","SoftChoice","N23 Touch","Lenovo","SPML8-19","1c4d7048074c","2022/2023",null,"See Below",null,null,"Building Budget","26606-6412 Camp Ignite  - 24932-6412 CC Boeing Grant  - 26626-6412 CC Soda       This purchase is to pilot Chromebooks in the middle school.",{"$nulls":3},"81MC001EUS","CBRedistribute",null,null,"01/15/2019 09:53 AM","Ted Meyer"]
["52484","LR0A3PPR","Sappington Elementary","Unknown","Lenovo N23 Chromebook",null,"Available","Chromebook","2018-01-12","270.32","18-53260","SoftChoice","N23 Touch","Lenovo","SPML8-22","1c4d70482dad","2022/2023",null,"See Below",null,null,"Building Budget","26606-6412 Camp Ignite  - 24932-6412 CC Boeing Grant  - 26626-6412 CC Soda       This purchase is to pilot Chromebooks in the middle school.",{"$nulls":3},"81MC001EUS","CBRedistribute",null,null,"01/15/2019 09:53 AM","Ted Meyer"]
["52487","LR0A3PQC","Sappington Elementary","Unknown","Lenovo N23 Chromebook",null,"Available","Chromebook","2018-01-12","270.32","18-53260","SoftChoice","N23 Touch","Lenovo","SPML8-25","1c4d7047fdf6","2022/2023",null,"See Below",null,null,"Building Budget","26606-6412 Camp Ignite  - 24932-6412 CC Boeing Grant  - 26626-6412 CC Soda       This purchase is to pilot Chromebooks in the middle school.",{"$nulls":3},"81MC001EUS","CBRedistribute",null,null,"01/15/2019 09:53 AM","Ted Meyer"]
["42664","LR5ZMKF","Dressel Elementary","Unknown","Lenovo ThinkPad X130e",null,"Available","Laptop","2012-05-18","573.00","12-40254","Two Trees","X130e","Lenovo","DRTLAB-14","7ce9d3ee08e5","2016/2017",null,"27870-6541",{"$nulls":10},"Technology","01/15/2019 08:40 AM","Ted Meyer"]
["54678","P2033ULP","Kennerly Elementary","Unknown","Lenovo 500e Chromebook (Gen 1)",null,"Available","Chromebook","2019-01-10","314.49","19-57076","Firefly Computers","500e","Lenovo","SPML9-02","38baf85aa1db","2023/2024",null,"SP PD PTO Reimburse",null,null,"Grant",{"$nulls":4},"81ES0007US","CBRedistribute",null,null,"01/15/2019 09:53 AM","Ted Meyer"]
["51013","AC-PLUS-10309","Kennerly Elementary","Unknown","AC-Plus 36 Bay Charging Cart",null,"Available","Cart","2017-09-06","906.22","18-51039","ITsavvy","AC-Plus","All Carts",{"$nulls":4},"12310-6412",null,null,"Building Budget",{"$nulls":8},"01/15/2019 09:04 AM","Ted Meyer"]
["46968","PC06CWLS","Kennerly Elementary","Unknown","Lenovo ThinkPad Onelink Pro Dock for Thinkpad Yoga",null,"Available","Dock","2015-07-06","132.00","16-30425","TWOTREES","DU9033S1","Lenovo","Kennerly 019",{"$nulls":15},"01/15/2019 09:04 AM","Ted Meyer"]
["46967","PC06CWM0","Kennerly Elementary","Unknown","Lenovo ThinkPad Onelink Pro Dock for Thinkpad Yoga",null,"Available","Dock","2015-07-06","132.00","16-30425","TWOTREES","DU9033S1","Lenovo","Kennerly 006",{"$nulls":15},"01/15/2019 09:04 AM","Ted Meyer"]
["46958","PC06CX8L","Kennerly Elementary","Unknown","Lenovo ThinkPad Onelink Pro Dock for Thinkpad Yoga",null,"Available","Dock","2015-07-06","132.00","16-30425","TWOTREES","DU9033S1","Lenovo","Kennerly 012",{"$nulls":15},"01/15/2019 09:04 AM","Ted Meyer"]
["47288","PC04DSAJ","Kennerly Elementary","Unknown","Lenovo ThinkPad Onelink Pro Dock for Thinkpad Yoga",null,"Available","Dock","2015-07-06","132.00","16-30425","TWOTREES","DU9033S1","Lenovo","Kennerly 002",{"$nulls":15},"01/15/2019 09:04 AM","Ted Meyer"]
["47193","PC06CTBS","Kennerly Elementary","Unknown","Lenovo ThinkPad Onelink Pro Dock for Thinkpad Yoga",null,"Available","Dock","2015-07-06",null,"16-30425",null,"DU9033S1","Lenovo",{"$nulls":16},"01/15/2019 10:07 AM","Ted Meyer"]
["53925","P2034F4F","Long Elementary","Unknown","Lenovo 500e Chromebook (Gen 1)",null,"Available","Chromebook","2018-12-10","314.49","19-56764","Firefly Computers","500e","Lenovo","LOML3-26","00bb60605dc4","2022/2023",null,"LO PD",null,null,"Grant","PTG to reimburse LO",{"$nulls":3},"81ES0007US","CBRedistribute",null,null,"01/15/2019 09:35 AM","Ted Meyer"]
["53519","P202D9EE","Long Elementary","Unknown","Lenovo 500e Chromebook (Gen 1)",null,"Available","Chromebook","2018-06-19","287.00","19-54624","Firefly Computers","500e","Lenovo","SPML3-CB-03","7c2a311d4881","2022/2023",null,"100-1151-6412-3070-07360-1-000",{"$nulls":3},"CHROMEBOOK MANAGEMENT CONSOLE @$23.49\nFIREFLY CHROMEBOOK SUPPORT FOR LENOVO\nLANSCHOOL PERPETUAL PER DEVICE LICENSE WITH 1 YR OF SNS",{"$nulls":3},"81ES0007US","CBRedistribute",null,null,"01/15/2019 09:53 AM","Ted Meyer"]
["50720","P202D94Y","Long Elementary","Unknown","Lenovo 500e Chromebook (Gen 1)",null,"Available","Chromebook","2018-06-19","287.00","19-54624","Firefly Computers","500e","Lenovo","TRML1-CB-27","7c2a311b6caa","2022/2023",null,"100-1151-6412-3080-07360-1-000",{"$nulls":3},"CHROMEBOOK MANAGEMENT CONSOLE @$23.49FIREFLY CHROMEBOOK SUPPORT FOR LENOVOLANSCHOOL PERPETUAL PER DEVICE LICENSE WITH 1 YR OF SNS",{"$nulls":3},"81ES0007US","CBRedistribute",null,null,"01/15/2019 10:00 AM","Ted Meyer"]
["50689","P202E4QA","Long Elementary","Unknown","Lenovo 500e Chromebook (Gen 1)",null,"Available","Chromebook","2018-06-19","287.00","19-54624","Firefly Computers","500e","Lenovo","TRML3-CB-24","7c7635a07e45","2022/2023",null,"100-1151-6412-3080-07360-1-000",{"$nulls":3},"CHROMEBOOK MANAGEMENT CONSOLE @$23.49FIREFLY CHROMEBOOK SUPPORT FOR LENOVOLANSCHOOL PERPETUAL PER DEVICE LICENSE WITH 1 YR OF SNS",{"$nulls":3},"81ES0007US","CBRedistribute",null,null,"01/15/2019 10:00 AM","Ted Meyer"]
["50690","P202E4Q9","Long Elementary","Unknown","Lenovo 500e Chromebook (Gen 1)",null,"Available","Chromebook","2018-06-19","287.00","19-54624","Firefly Computers","500e","Lenovo","TRML3-CB-25","7c7635a08c7d","2022/2023",null,"100-1151-6412-3080-07360-1-000",{"$nulls":3},"CHROMEBOOK MANAGEMENT CONSOLE @$23.49FIREFLY CHROMEBOOK SUPPORT FOR LENOVOLANSCHOOL PERPETUAL PER DEVICE LICENSE WITH 1 YR OF SNS",{"$nulls":3},"81ES0007US","CBRedistribute",null,null,"01/15/2019 10:00 AM","Ted Meyer"]
["50691","P202E89A","Long Elementary","Unknown","Lenovo 500e Chromebook (Gen 1)",null,"Available","Chromebook","2018-06-19","287.00","19-54624","Firefly Computers","500e","Lenovo","TRML3-CB-26","7c7635fc0440","2022/2023",null,"100-1151-6412-3080-07360-1-000",{"$nulls":3},"CHROMEBOOK MANAGEMENT CONSOLE @$23.49FIREFLY CHROMEBOOK SUPPORT FOR LENOVOLANSCHOOL PERPETUAL PER DEVICE LICENSE WITH 1 YR OF SNS",{"$nulls":3},"81ES0007US","CBRedistribute",null,null,"01/15/2019 10:00 AM","Ted Meyer"]
["50692","P202E878","Long Elementary","Unknown","Lenovo 500e Chromebook (Gen 1)",null,"Available","Chromebook","2018-06-19","287.00","19-54624","Firefly Computers","500e","Lenovo","TRML3-CB-27","7c7635fc413a","2022/2023",null,"100-1151-6412-3080-07360-1-000",{"$nulls":3},"CHROMEBOOK MANAGEMENT CONSOLE @$23.49FIREFLY CHROMEBOOK SUPPORT FOR LENOVOLANSCHOOL PERPETUAL PER DEVICE LICENSE WITH 1 YR OF SNS",{"$nulls":3},"81ES0007US","CBRedistribute",null,null,"01/15/2019 10:00 AM","Ted Meyer"]
["50642","P202D98H","Long Elementary","Unknown","Lenovo 500e Chromebook (Gen 1)",null,"Available","Chromebook","2018-06-19","287.00","19-54624","Firefly Computers","500e","Lenovo","TRML3-CB-03","7c2a311d7da6","2022/2023",null,"100-1151-6412-3080-07360-1-000",{"$nulls":3},"CHROMEBOOK MANAGEMENT CONSOLE @$23.49FIREFLY CHROMEBOOK SUPPORT FOR LENOVOLANSCHOOL PERPETUAL PER DEVICE LICENSE WITH 1 YR OF SNS",{"$nulls":3},"81ES0007US","CBRedistribute",null,null,"01/15/2019 10:00 AM","Ted Meyer"]
["49882","06LR3CCJ607858","Truman Middle","Wood Gym","Samsung 65\" 4K Ultra HD Smart TV",null,"Available","TV","2017-08-01","1,186.90","18-50420","Amazon","UN65MU6300FXZA","Samsung",null,null,"2021/2022",null,"27872-6541",{"$nulls":11},"01/15/2019 10:00 AM","Ted Meyer"]
["52431","5H61DP2","Concord Elementary","Data - 026","Video Insight NVR-R-2-2-24TB Stand alone server for security cameras",null,"Available","Server","2018-06-13","8,431.58","18-55478","ITsavvy","NVR-R-2-2-24TB","Video Insight",{"$nulls":4},"27870-6541",{"$nulls":11},"01/15/2019 08:38 AM","Ted Meyer"]
["49106","IN64G4F01W","Concord Elementary","Data - 026","HP 5400R Power Supply",null,"Available","Power Supply","2016-07-05","535.00","17-36029","WJR Technologies","J9829A","HP",{"$nulls":4},"39038-65421",null,null,"E-Rate",{"$nulls":8},"01/15/2019 08:38 AM","Ted Meyer"]
["49107","IN64G4F0YR","Concord Elementary","Data - 026","HP 5400R Power Supply",null,"Available","Power Supply","2016-07-05","535.00","17-36029","WJR Technologies","J9829A","HP",{"$nulls":4},"39038-65421",null,null,"E-Rate",{"$nulls":8},"01/15/2019 08:38 AM","Ted Meyer"]
["49139","SG66GPR26T","Concord Elementary","Data - 026","HP 5406R Switch",null,"Available","Switch","2016-07-01","3,090.00","17-36029","WJR Technologies","JL003A","HP",{"$nulls":4},"39038-65421",null,null,"E-Rate",{"$nulls":8},"01/15/2019 08:38 AM","Ted Meyer"]
["45237","K1315004521","Truman Middle","Unknown","Lenovo ThinkPad USB 3.0 Dock",null,"Available","Dock","2013-05-10","135.00","14-15032","TWOTREES","DU9019D1","Lenovo","TR17","843a4b0edbdc",{"$nulls":11},"no longer used",null,"Technology","01/15/2019 09:59 AM","Ted Meyer"]
["45246","K1315004435","Truman Middle","Unknown","Lenovo ThinkPad USB 3.0 Dock",null,"Available","Dock","2013-05-10","135.00","14-15032","TWOTREES","DU9019D1","Lenovo",null,"843a4b0edbdc",{"$nulls":13},"Technology","01/15/2019 09:59 AM","Ted Meyer"]
["42999",null,"Truman Middle","Unknown","FrontRow Pro Digital 940R Receiver/Amplifier with 940TM Transmitter/Microphone",null,"Available","Classroom Audio",{"$nulls":4},"940R","FrontRow",null,null,"UnKnown",{"$nulls":12},"Technology","01/15/2019 09:59 AM","Ted Meyer"]
["52796","V5V30553","Crestwood Elementary","Assistant Principal's Office","Lenovo ThinkVision T2224d 22\" LED Monitor",null,"Available","Monitor","2018-07-25","134.69","19-54930","ITsavvy","T2224d","Lenovo","Kit Norton",{"$nulls":3},"TE Paid",{"$nulls":10},"Asst. Principal","01/15/2019 08:35 AM","Ted Meyer"]
["52712","035TTY0GM7","Crestwood Elementary","Assistant Principal's Office","Motorola DTR650 Two-Way Radio",null,"Available","Two-Way Radio","2018-04-05",null,"18-54314",null,"DTR650","Motorola","Battery 4-2018",{"$nulls":3},"100.2331.6412.0000.07360.1.000",{"$nulls":10},"Office","01/15/2019 08:34 AM","Ted Meyer"]
["51895","LR09EB0C","Central Office","Technology","Lenovo ThinkPad 11e",null,"Available","Laptop","2017-06-15","456.90","18-50158","STAPLES","11e","Lenovo","HSFLML2-16","e442a6a3b191","2021/2022",null,"15340-6411",{"$nulls":3},"EXTENDED SERVICE AGREEMENT PARTS AND LABOR 3 YEAR PICK UP AND RETURN TOPSELLER SERVICE @$55.00",{"$nulls":3},"20GB001HUS",{"$nulls":3},"01/15/2019 09:21 AM","Ted Meyer"]
["50206","LR0AVPN6","Central Office","Technology","Lenovo ThinkPad 11e",null,"Available","Laptop","2018-09-07","485.00","19-55635","TwoTrees","11e","Lenovo","HSLIBMLC1-14","cc2f71626812","2022/2023",null,"TE PD - HS Business",{"$nulls":7},"20GB000SUS",{"$nulls":3},"01/15/2019 09:22 AM","Ted Meyer"]
["51795","SLR09EAZK","Central Office","Technology","Lenovo ThinkPad 11e",null,"Available","Laptop","2017-06-15","456.90","18-50158","STAPLES","11e","Lenovo","HSLIBML3-04","e442a6a3b155","2021/2022",null,"27873-6412",{"$nulls":3},"EXTENDED SERVICE AGREEMENT PARTS AND LABOR 3 YEAR PICK UP AND RETURN TOPSELLER SERVICE @$55.00",{"$nulls":3},"20GB001HUS",{"$nulls":3},"01/15/2019 09:21 AM","Ted Meyer"]
["51852","LR09EATU","Central Office","Technology","Lenovo ThinkPad 11e",null,"Available","Laptop","2017-06-15","456.90","18-50158","STAPLES","11e","Lenovo","HSLIBML2-02","e442a6a4309e","2021/2022",null,"27873-6412",{"$nulls":3},"EXTENDED SERVICE AGREEMENT PARTS AND LABOR 3 YEAR PICK UP AND RETURN TOPSELLER SERVICE @$55.00",{"$nulls":3},"20GB001HUS",{"$nulls":3},"01/15/2019 09:21 AM","Ted Meyer"]
["51732","F9FTXK1QHLFD","Central Office","Technology","Apple iPad 128GB WIFI (5th Gen)",null,"Available","iPad",{"$nulls":4},"MP2H2LL/A","Apple","LIBRARY- 15",null,"UnKnown",{"$nulls":9},"A1822","IPRedistribute",null,null,"01/15/2019 08:38 AM","Ted Meyer"]
["49560","MP14DZL6","Central Office","Technology","Lenovo ThinkPad Yoga 260 (Core i5-6300U, 8GB, 256GB)",null,"Available","Laptop","2017-03-27","1,234.90","17-39996","ITsavvy LLC","Yoga 260","Lenovo",null,"e4b3188ff80e","2021/2022",null,"27870-6541",{"$nulls":3},"400-2331-6543-824-000-000",{"$nulls":3},"20FD002DUS",{"$nulls":3},"01/15/2019 09:53 AM","Ted Meyer"]
["51801","LR09EB0N","Central Office","Technology","Lenovo ThinkPad 11e",null,"Available","Laptop","2017-06-15","456.90","18-50158","STAPLES","11e","Lenovo","HSLIBML3-11","e442a6a3b7b3","2021/2022",null,"27873-6412",{"$nulls":3},"EXTENDED SERVICE AGREEMENT PARTS AND LABOR 3 YEAR PICK UP AND RETURN TOPSELLER SERVICE @$55.00",{"$nulls":3},"20GB001HUS",{"$nulls":3},"01/15/2019 09:21 AM","Ted Meyer"]
["53590","DMQX51DLJF8J","Central Office","Technology","Apple iPad 32GB WIFI (6th Gen)",null,"Available","iPad","2018-07-11","294.00","19-54486","Apple","MR7F2LL/A","Apple","336-02","241b7a115918","2022/2023",null,"C&amp;I PD",{"$nulls":7},"A1893",null,null,"Technology","01/15/2019 09:22 AM","Ted Meyer"]
["51945","GCGV3HHCHLFD","Central Office","Technology","Apple iPad 128GB WIFI (5th Gen)",null,"Available","iPad",{"$nulls":4},"MP2H2LL/A","Apple","TR-ART-01","a4e97575713b","UnKnown",{"$nulls":9},"A1822",null,null,"Technology","01/15/2019 10:00 AM","Ted Meyer"]
["47064","SMP08HS6V","Central Office","Technology","Lenovo ThinkPad Yoga 12 (Core i5-5200U, 8GB, 128GB SSD)",null,"Available","Laptop","2015-07-06","1,174.00","16-30425","TWOTREES","Yoga 12","Lenovo","Allie Libby","6057186e59ab","2019/2020",{"$nulls":9},"20DKS1LQ00",null,null,"PE","01/15/2019 08:34 AM","Ted Meyer"]
["47071","MP08FF2G","Central Office","Technology","Lenovo ThinkPad Yoga 12 (Core i5-5200U, 8GB, 128GB SSD)",null,"Available","Laptop","2015-07-06","1,174.00","16-30425","TWOTREES","Yoga 12","Lenovo","Allie Libby","605718a9fd99","2019/2020",{"$nulls":9},"20DKS1LQ00",null,null,"PE","01/15/2019 08:40 AM","Ted Meyer"]
["47357","MP08KWW8","Central Office","Technology","Lenovo ThinkPad Yoga 12 (Core i5-5200U, 8GB, 128GB SSD)",null,"Available","Laptop","2015-07-06","1,174.00","16-30425","TWOTREES","Yoga 12","Lenovo",null,"4c34880675c5","2019/2020",{"$nulls":9},"20DKS1LQ00",null,null,"Guidance","01/15/2019 09:46 AM","Ted Meyer"]
["53713","DMQX51P0JF8J","Central Office","Technology","Apple iPad 32GB WIFI (6th Gen)",null,"Available","iPad","2018-08-21","299.00","19-54494","Apple","MR7F2LL/A","Apple","Michelle Howard","241b7a09c53b","2022/2023",null,"TE PD",{"$nulls":7},"A1893","Turn-In",null,"Music","01/15/2019 10:00 AM","Ted Meyer"]
["43011","DMQHMJENDJ8T","Central Office","Technology","Apple iPad 16GB WIFI (3rd Gen)",null,"Available","iPad","2012-05-07","479.00","12-40102","Apple","MD339LL/A","Apple","Cassie Olliges","64200c62d658",null,null,"31213-6541",{"$nulls":7},"A1416",null,null,"Kindergarten","01/15/2019 09:34 AM","Ted Meyer"]
["53342","DMPX36PUJF8J","Central Office","Technology","Apple iPad 32GB WIFI (6th Gen)",null,"Available","iPad","2018-08-06","294.00","19-54900","Apple","MR7F2LL/A","Apple","LIBRARY - 02","5499637c5a71","2022/2023",null,"TE Paid",{"$nulls":7},"A1893","Issued for Virtual Learning - COVID-19",null,"Library","01/15/2019 08:35 AM","Ted Meyer"]
["52238","035TTS0842","Sappington Elementary","Unknown","Motorola DTR650 Two-Way Radio",null,"Available","Two-Way Radio","2017-10-19","261.00","18-51745","TBS Electronics","DTR650","Motorola",null,null,"2021/2022",null,"27870-6411",{"$nulls":10},"Custodial","01/15/2019 09:46 AM","Ted Meyer"]
["46572","SLR03ZUTV","Central Office","Technology","Lenovo ThinkPad 11e",null,"Available","Laptop","2015-07-06","473.00","16-30271","TwoTrees Technology","11e","Lenovo","KEML3-20 -Recycle","104a7d27bf73","2019/2020",null,"27872-6541",{"$nulls":7},"20DAS0VX00",null,null,"LEAP","01/15/2019 09:04 AM","Ted Meyer"]
["45115","SR9YTCX1","Lindbergh High School","Surplus Tech Library","Lenovo ThinkPad Helix",null,"Available","Laptop","2013-05-10","1,455.00","14-15032","TWOTREES","Helix","Lenovo","Nathan Norman","843a4b0eddac",{"$nulls":10},"36984LU",null,null,"PE","01/15/2019 09:21 AM","Ted Meyer"]
["45018","SR9YRBKP","Lindbergh High School","Surplus Tech Library","Lenovo ThinkPad Helix",null,"Available","Laptop","2013-05-10","1,455.00","14-15032","TWOTREES","Helix","Lenovo","Mark Giesing","843a4b7207a8",{"$nulls":10},"36984LU",null,null,"Social Studies","01/15/2019 10:07 AM","Ted Meyer"]
["45144","SR9YTD1P","Lindbergh High School","Surplus Tech Library","Lenovo ThinkPad Helix",null,"Available","Laptop","2013-05-10","1,455.00","14-15032","TWOTREES","Helix","Lenovo","Matt Cooper","843a4b0f7450",{"$nulls":10},"36984LU",null,null,"English","01/15/2019 09:21 AM","Ted Meyer"]
["49770","MP145B1D","Central Office","Technology","Lenovo ThinkPad Yoga 260 (Core i5-6300U, 8GB, 256GB)",null,"Available","Laptop","2017-03-27","1,234.90","17-39996","ITsavvy LLC","Yoga 260","Lenovo",null,"e4b318d6a678","2021/2022",null,"27870-6541",{"$nulls":3},"400-2331-6543-824-000-000",{"$nulls":3},"20FD002DUS",null,null,"Technology","01/15/2019 09:21 AM","Ted Meyer"]
["49800","MP144P54","Central Office","Technology","Lenovo ThinkPad Yoga 260 (Core i5-6300U, 8GB, 256GB)",null,"Available","Laptop","2017-03-27","1,234.90","17-39996","ITsavvy LLC","Yoga 260","Lenovo",null,"e4a47165808d","2021/2022",null,"27870-6541",{"$nulls":3},"400-2331-6543-824-000-000",{"$nulls":3},"20FD002DUS",null,null,"Technology","01/15/2019 09:21 AM","Ted Meyer"]
["47118","MP08FE5U","Central Office","Technology","Lenovo ThinkPad Yoga 12 (Core i5-5200U, 8GB, 128GB SSD)",null,"Available","Laptop","2015-07-06","1,174.00","16-30425","TWOTREES","Yoga 12","Lenovo","Lawrence Liberman","34028695a5e7","2019/2020",{"$nulls":9},"20DKS1LQ00",null,null,"Technology","01/15/2019 08:34 AM","Ted Meyer"]
["47990","MP136CEW","Central Office","Technology","Lenovo ThinkPad Yoga 260 (Core i5-6200U, 8GB, 192GB)",null,"Available","Laptop","2016-07-13","1,027.10","17-36559","ITsavvy313 S. Rohlwing Rd.Addison, IL 60101","Yoga 260","Lenovo",null,"e4b318bf699f","2020/2021",null,"27870-6541",{"$nulls":3},"14844098 LENOVO EPAC DEPOT REPAIR EXTENDED SERVICE AGREEMENT PARTS AND LABOR 2 YEAR (2ND/3RD YEAR) PICK-UP $87.03",{"$nulls":3},"20FD002DUS",null,null,"Technology","01/15/2019 08:34 AM","Ted Meyer"]
["47371","MP08KW3G","Central Office","Technology","Lenovo ThinkPad Yoga 12 (Core i5-5200U, 8GB, 128GB SSD)",null,"Available","Laptop","2015-07-06","1,174.00","16-30425","TWOTREES","Yoga 12","Lenovo",null,"4c34880675de","2019/2020",{"$nulls":9},"20DKS1LQ00",null,null,"Technology","01/15/2019 09:46 AM","Ted Meyer"]
["49604","MP144Q1T","Central Office","Technology","Lenovo ThinkPad Yoga 260 (Core i5-6300U, 8GB, 256GB)",null,"Available","Laptop","2017-03-27","1,234.90","17-39996","ITsavvy LLC","Yoga 260","Lenovo",null,"e4a4716a941a","2021/2022",null,"27870-6541",{"$nulls":3},"400-2331-6543-824-000-000",{"$nulls":3},"20FD002DUS",null,null,"Technology","01/15/2019 09:53 AM","Ted Meyer"]
["49570","MP14DZNH","Central Office","Technology","Lenovo ThinkPad Yoga 260 (Core i5-6300U, 8GB, 256GB)",null,"Available","Laptop","2017-03-27","1,234.90","17-39996","ITsavvy LLC","Yoga 260","Lenovo",null,"e4b3188ff81d","2021/2022",null,"27870-6541",{"$nulls":3},"400-2331-6543-824-000-000",{"$nulls":3},"20FD002DUS",null,null,"Technology","01/15/2019 09:53 AM","Ted Meyer"]
["49656","MP145E6Z","Central Office","Technology","Lenovo ThinkPad Yoga 260 (Core i5-6300U, 8GB, 256GB)",null,"Available","Laptop","2017-03-27","1,234.90","17-39996","ITsavvy LLC","Yoga 260","Lenovo",null,"e4b318d5aecb","2021/2022",null,"27870-6541",{"$nulls":3},"400-2331-6543-824-000-000",{"$nulls":3},"20FD002DUS",null,null,"Technology","01/15/2019 09:21 AM","Ted Meyer"]
["51283","LR09EB0L","Central Office","Technology","Lenovo ThinkPad 11e",null,"Available","Laptop","2017-06-15","456.90","18-50158","STAPLES","11e","Lenovo",null,"e442a6a3b763","2021/2022",null,"27871-6412",{"$nulls":3},"EXTENDED SERVICE AGREEMENT PARTS AND LABOR 3 YEAR PICK UP AND RETURN TOPSELLER SERVICE @$55.00",{"$nulls":3},"20GB001HUS",null,null,"Technology","01/15/2019 09:46 AM","Ted Meyer"]
["49612","MP144MH4","Central Office","Technology","Lenovo ThinkPad Yoga 260 (Core i5-6300U, 8GB, 256GB)",null,"Available","Laptop","2017-03-27","1,234.90","17-39996","ITsavvy LLC","Yoga 260","Lenovo",null,"e4a4716a8fb0","2021/2022",null,"27870-6541",{"$nulls":3},"400-2331-6543-824-000-000",{"$nulls":3},"20FD002DUS",null,null,"Technology","01/15/2019 10:00 AM","Ted Meyer"]
["49616","MP144NNX","Central Office","Technology","Lenovo ThinkPad Yoga 260 (Core i5-6300U, 8GB, 256GB)",null,"Available","Laptop","2017-03-27","1,234.90","17-39996","ITsavvy LLC","Yoga 260","Lenovo",null,"e4a471590a33","2021/2022",null,"27870-6541",{"$nulls":3},"400-2331-6543-824-000-000",{"$nulls":3},"20FD002DUS","Maggie Schmidt returned",null,"Technology","01/15/2019 10:00 AM","Ted Meyer"]
["47981","MP136GND","Central Office","Technology","Lenovo ThinkPad Yoga 260 (Core i5-6200U, 8GB, 192GB)",null,"Available","Laptop","2016-07-13","1,027.10","17-36559","ITsavvy313 S. Rohlwing Rd.Addison, IL 60101","Yoga 260","Lenovo",null,"e4b318c63a81","2020/2021",null,"27871-6541",{"$nulls":3},"14844098 LENOVO EPAC DEPOT REPAIR EXTENDED SERVICE AGREEMENT PARTS AND LABOR 2 YEAR (2ND/3RD YEAR) PICK-UP $87.03",{"$nulls":3},"20FD002DUS",null,null,"Technology","01/15/2019 08:40 AM","Ted Meyer"]
["45051","SR9YTT43","Lindbergh High School","Surplus Tech Library","Lenovo ThinkPad Helix",null,"Available","Laptop","2013-05-10","1,455.00","14-15032","TWOTREES","Helix","Lenovo","Kevin Ratliff Replacement","843a4b453bc8","2017/2018",{"$nulls":9},"36984LU",{"$nulls":3},"01/15/2019 10:07 AM","Ted Meyer"]
["52237","X6137425FD0C6","Lindbergh High School","TechStorage-300BldgCloset","Xirrus XD2-240 5 Year Erate Cloud Bundle",null,"Available","Access Point","2017-05-10","528.00","17-40232","Zagarri","XD2-240","Xirrus",{"$nulls":4},"39038-65421",null,null,"E-Rate","S/N X3136315F9BE0 was defective, unit was returned for the above replacement on 10/30/2018 Old R8 #49864",{"$nulls":6},"TECHNOLOGY STG","01/15/2019 10:39 AM","Ted Meyer"]
["49863","X3136315F9B76","Lindbergh High School","TechStorage-300BldgCloset","Xirrus XD2-240 5 Year Erate Cloud Bundle",null,"Available","Access Point","2017-05-10","528.00","17-40232","Zagarri","XD2-240","Xirrus",{"$nulls":4},"39038-65421",null,null,"E-Rate",{"$nulls":7},"TECHNOLOGY STG","01/15/2019 10:39 AM","Ted Meyer"]
["49865","X3136315F9BEE","Lindbergh High School","TechStorage-300BldgCloset","Xirrus XD2-240 5 Year Erate Cloud Bundle",null,"Available","Access Point","2017-05-10","528.00","17-40232","Zagarri","XD2-240","Xirrus",{"$nulls":4},"39038-65421",null,null,"E-Rate",{"$nulls":7},"TECHNOLOGY STG","01/15/2019 10:39 AM","Ted Meyer"]
["54260","X6138045FDF5","Lindbergh High School","TechStorage-300BldgCloset","Xirrus XD2-240 5 Year Erate Cloud Bundle",null,"Available","Access Point","2017-05-10","528.00","17-40232","Zagarri","XD2-240","Xirrus",{"$nulls":4},"39038-65421",null,null,"E-Rate","S/N X6137425FD356 was also defective and returned in exchange for X6138045FDF5 on 2/8/19. S/N X3136315F9BDC Was defective and returned for the above replacement 10/30/2018 Old R8 #49866",{"$nulls":6},"TECHNOLOGY STG","01/15/2019 10:39 AM","Ted Meyer"]
["52187","X3137035FB95E","Lindbergh High School","TechStorage-300BldgCloset","Xirrus XD2-240 5 Year Erate Cloud Bundle",null,"Available","Access Point","2017-05-10","528.00","17-40232","Zagarri","XD2-240","Xirrus",{"$nulls":4},"39038-65421",null,null,"E-Rate",{"$nulls":7},"TECHNOLOGY STG","01/15/2019 09:21 AM","Ted Meyer"]
["51433","X3136315F9BD0","Lindbergh High School","TechStorage-300BldgCloset","Xirrus XD2-240 5 Year Erate Cloud Bundle",null,"Available","Access Point","2017-05-10","528.00","17-40232","Zagarri","XD2-240","Xirrus",{"$nulls":4},"39038-65421",null,null,"E-Rate",{"$nulls":7},"TECHNOLOGY STG","01/15/2019 09:21 AM","Ted Meyer"]
["18-53801-109","X6138115FFB30","Lindbergh High School","TechStorage-300BldgCloset","Xiirrus XD2-240 Access Point",null,"Available","Access Point","2018-08-01","610.00","18-53801","Zagarri","XD2-240","Xirrus",{"$nulls":4},"TE PD E",null,null,"E-Rate","ERATE",{"$nulls":6},"TECHNOLOGY STG","01/15/2019 09:22 AM","Ted Meyer"]
["18-53801-110","X6138115FFA8E","Lindbergh High School","TechStorage-300BldgCloset","Xiirrus XD2-240 Access Point",null,"Available","Access Point","2018-08-01","610.00","18-53801","Zagarri","XD2-240","Xirrus",{"$nulls":4},"TE PD E",null,null,"E-Rate","ERATE",{"$nulls":6},"TECHNOLOGY STG","01/15/2019 09:22 AM","Ted Meyer"]
["18-53801-111","X6138115FFAB6","Lindbergh High School","TechStorage-300BldgCloset","Xiirrus XD2-240 Access Point",null,"Available","Access Point","2018-08-01","610.00","18-53801","Zagarri","XD2-240","Xirrus",{"$nulls":4},"TE PD E",null,null,"E-Rate","ERATE",{"$nulls":6},"TECHNOLOGY STG","01/15/2019 09:22 AM","Ted Meyer"]
["18-53801-112","X6138115FFB76","Lindbergh High School","TechStorage-300BldgCloset","Xiirrus XD2-240 Access Point",null,"Available","Access Point","2018-08-01","610.00","18-53801","Zagarri","XD2-240","Xirrus",{"$nulls":4},"TE PD E",null,null,"E-Rate","ERATE",{"$nulls":6},"TECHNOLOGY STG","01/15/2019 09:22 AM","Ted Meyer"]
["18-53801-113","X6138115FFA92","Lindbergh High School","TechStorage-300BldgCloset","Xiirrus XD2-240 Access Point",null,"Available","Access Point","2018-08-01","610.00","18-53801","Zagarri","XD2-240","Xirrus",{"$nulls":4},"TE PD E",null,null,"E-Rate","ERATE",{"$nulls":6},"TECHNOLOGY STG","01/15/2019 09:22 AM","Ted Meyer"]
["18-53801-114","X6138115FFD70","Lindbergh High School","TechStorage-300BldgCloset","Xiirrus XD2-240 Access Point",null,"Available","Access Point","2018-08-01","610.00","18-53801","Zagarri","XD2-240","Xirrus",{"$nulls":4},"TE PD E",null,null,"E-Rate","ERATE",{"$nulls":6},"TECHNOLOGY STG","01/15/2019 09:22 AM","Ted Meyer"]
["51431","X3136315F9BC0","Lindbergh High School","TechStorage-300BldgCloset","Xirrus XD2-240 5 Year Erate Cloud Bundle",null,"Available","Access Point","2017-05-10","528.00","17-40232","Zagarri","XD2-240","Xirrus",{"$nulls":4},"39038-65421",null,null,"E-Rate",{"$nulls":7},"TECHNOLOGY STG","01/15/2019 09:21 AM","Ted Meyer"]
["51429","X3136315F9BCE","Lindbergh High School","TechStorage-300BldgCloset","Xirrus XD2-240 5 Year Erate Cloud Bundle",null,"Available","Access Point","2017-05-10","528.00","17-40232","Zagarri","XD2-240","Xirrus",{"$nulls":4},"39038-65421",null,null,"E-Rate",{"$nulls":7},"TECHNOLOGY STG","01/15/2019 09:21 AM","Ted Meyer"]
["51419","X3136315F9B50","Lindbergh High School","TechStorage-300BldgCloset","Xirrus XD2-240 5 Year Erate Cloud Bundle",null,"Available","Access Point","2017-05-10","528.00","17-40232","Zagarri","XD2-240","Xirrus",{"$nulls":4},"39038-65421",null,null,"E-Rate",{"$nulls":7},"TECHNOLOGY STG","01/15/2019 09:21 AM","Ted Meyer"]
["51422","X3136345FA12E","Lindbergh High School","TechStorage-300BldgCloset","Xirrus XD2-240 5 Year Erate Cloud Bundle",null,"Available","Access Point","2017-05-10","528.00","17-40232","Zagarri","XD2-240","Xirrus",{"$nulls":4},"39038-65421",null,null,"E-Rate",{"$nulls":7},"TECHNOLOGY STG","01/15/2019 09:21 AM","Ted Meyer"]
["51423","X3136345FA1EC","Lindbergh High School","TechStorage-300BldgCloset","Xirrus XD2-240 5 Year Erate Cloud Bundle",null,"Available","Access Point","2017-05-10","528.00","17-40232","Zagarri","XD2-240","Xirrus",{"$nulls":4},"39038-65421",null,null,"E-Rate",{"$nulls":7},"TECHNOLOGY STG","01/15/2019 09:21 AM","Ted Meyer"]
["51424","X3136345FA588","Lindbergh High School","TechStorage-300BldgCloset","Xirrus XD2-240 5 Year Erate Cloud Bundle",null,"Available","Access Point","2017-05-10","528.00","17-40232","Zagarri","XD2-240","Xirrus",{"$nulls":4},"39038-65421",null,null,"E-Rate",{"$nulls":7},"TECHNOLOGY STG","01/15/2019 09:21 AM","Ted Meyer"]
["51425","X3136345FA0D6","Lindbergh High School","TechStorage-300BldgCloset","Xirrus XD2-240 5 Year Erate Cloud Bundle",null,"Available","Access Point","2017-05-10","528.00","17-40232","Zagarri","XD2-240","Xirrus",{"$nulls":4},"39038-65421",null,null,"E-Rate",{"$nulls":7},"TECHNOLOGY STG","01/15/2019 09:21 AM","Ted Meyer"]
["51426","X3136315F9B5A","Lindbergh High School","TechStorage-300BldgCloset","Xirrus XD2-240 5 Year Erate Cloud Bundle",null,"Available","Access Point","2017-05-10","528.00","17-40232","Zagarri","XD2-240","Xirrus",{"$nulls":4},"39038-65421",null,null,"E-Rate",{"$nulls":7},"TECHNOLOGY STG","01/15/2019 09:21 AM","Ted Meyer"]
["51418","X3136315F9C16","Lindbergh High School","TechStorage-300BldgCloset","Xirrus XD2-240 5 Year Erate Cloud Bundle",null,"Available","Access Point","2017-05-10","528.00","17-40232","Zagarri","XD2-240","Xirrus",{"$nulls":4},"39038-65421",null,null,"E-Rate",{"$nulls":7},"TECHNOLOGY STG","01/15/2019 09:21 AM","Ted Meyer"]
["51396","X3136315F9C4E","Lindbergh High School","TechStorage-300BldgCloset","Xirrus XD2-240 5 Year Erate Cloud Bundle",null,"Available","Access Point","2017-05-10","528.00","17-40232","Zagarri","XD2-240","Xirrus",{"$nulls":4},"39038-65421",null,null,"E-Rate",{"$nulls":7},"TECHNOLOGY STG","01/15/2019 09:21 AM","Ted Meyer"]
["51397","X3136315F9C1A","Lindbergh High School","TechStorage-300BldgCloset","Xirrus XD2-240 5 Year Erate Cloud Bundle",null,"Available","Access Point","2017-05-10","528.00","17-40232","Zagarri","XD2-240","Xirrus",{"$nulls":4},"39038-65421",null,null,"E-Rate",{"$nulls":7},"TECHNOLOGY STG","01/15/2019 09:21 AM","Ted Meyer"]
["51398","X6138115FFA68","Lindbergh High School","TechStorage-300BldgCloset","Xirrus XD2-240 5 Year Erate Cloud Bundle",null,"Available","Access Point","2017-05-10","528.00","17-40232","Zagarri","XD2-240","Xirrus",{"$nulls":4},"39038-65421",null,null,"E-Rate",{"$nulls":3},"RMA switch from old s/n X3136315F9B8A on 11/21/19",{"$nulls":3},"TECHNOLOGY STG","01/15/2019 09:21 AM","Ted Meyer"]
["51399","X3136315F9C3A","Lindbergh High School","TechStorage-300BldgCloset","Xirrus XD2-240 5 Year Erate Cloud Bundle",null,"Available","Access Point","2017-05-10","528.00","17-40232","Zagarri","XD2-240","Xirrus",{"$nulls":4},"39038-65421",null,null,"E-Rate",{"$nulls":7},"TECHNOLOGY STG","01/15/2019 09:21 AM","Ted Meyer"]
["51400","X3136315F9B52","Lindbergh High School","TechStorage-300BldgCloset","Xirrus XD2-240 5 Year Erate Cloud Bundle",null,"Available","Access Point","2017-05-10","528.00","17-40232","Zagarri","XD2-240","Xirrus",{"$nulls":4},"39038-65421",null,null,"E-Rate",{"$nulls":7},"TECHNOLOGY STG","01/15/2019 09:21 AM","Ted Meyer"]
["51401","X3136315F9C50","Lindbergh High School","TechStorage-300BldgCloset","Xirrus XD2-240 5 Year Erate Cloud Bundle",null,"Available","Access Point","2017-05-10","528.00","17-40232","Zagarri","XD2-240","Xirrus",{"$nulls":4},"39038-65421",null,null,"E-Rate",{"$nulls":7},"TECHNOLOGY STG","01/15/2019 09:21 AM","Ted Meyer"]
["51402","X6138045FE3B8","Lindbergh High School","TechStorage-300BldgCloset","Xirrus XD2-240 5 Year Erate Cloud Bundle",null,"Available","Access Point","2017-05-10","528.00","17-40232","Zagarri","XD2-240","Xirrus","X3136315F9C64 exchanged for RMA NOV 2018",{"$nulls":3},"39038-65421",null,null,"E-Rate",{"$nulls":7},"TECHNOLOGY STG","01/15/2019 09:21 AM","Ted Meyer"]
["51403","X3136345FA096","Lindbergh High School","TechStorage-300BldgCloset","Xirrus XD2-240 5 Year Erate Cloud Bundle",null,"Available","Access Point","2017-05-10","528.00","17-40232","Zagarri","XD2-240","Xirrus",{"$nulls":4},"39038-65421",null,null,"E-Rate",{"$nulls":7},"TECHNOLOGY STG","01/15/2019 09:21 AM","Ted Meyer"]
["51404","X3136315F9B9C","Lindbergh High School","TechStorage-300BldgCloset","Xirrus XD2-240 5 Year Erate Cloud Bundle",null,"Available","Access Point","2017-05-10","528.00","17-40232","Zagarri","XD2-240","Xirrus",{"$nulls":4},"39038-65421",null,null,"E-Rate",{"$nulls":7},"TECHNOLOGY STG","01/15/2019 09:21 AM","Ted Meyer"]
["18-53801-117","X6138115FFB52","Lindbergh High School","TechStorage-300BldgCloset","Xiirrus XD2-240 Access Point",null,"Available","Access Point","2018-08-01","610.00","18-53801","Zagarri","XD2-240","Xirrus",{"$nulls":4},"TE PD E",null,null,"E-Rate","ERATE",{"$nulls":6},"TECHNOLOGY STG","01/15/2019 09:22 AM","Ted Meyer"]
["18-53801-118","X6138115FFD06","Lindbergh High School","TechStorage-300BldgCloset","Xiirrus XD2-240 Access Point",null,"Available","Access Point","2018-08-01","610.00","18-53801","Zagarri","XD2-240","Xirrus",{"$nulls":4},"TE PD E",null,null,"E-Rate","ERATE",{"$nulls":6},"TECHNOLOGY STG","01/15/2019 09:22 AM","Ted Meyer"]
["18-53801-119","X6138115FFBBE","Lindbergh High School","TechStorage-300BldgCloset","Xiirrus XD2-240 Access Point",null,"Available","Access Point","2018-08-01","610.00","18-53801","Zagarri","XD2-240","Xirrus",{"$nulls":4},"TE PD E",null,null,"E-Rate","ERATE",{"$nulls":6},"TECHNOLOGY STG","01/15/2019 09:22 AM","Ted Meyer"]
["18-53801-120","X6138115FFBF2","Lindbergh High School","TechStorage-300BldgCloset","Xiirrus XD2-240 Access Point",null,"Available","Access Point","2018-08-01","610.00","18-53801","Zagarri","XD2-240","Xirrus",{"$nulls":4},"TE PD E",null,null,"E-Rate","ERATE",{"$nulls":6},"TECHNOLOGY STG","01/15/2019 09:22 AM","Ted Meyer"]
["18-53801-121","X6138115FFB5C","Lindbergh High School","TechStorage-300BldgCloset","Xiirrus XD2-240 Access Point",null,"Available","Access Point","2018-08-01","610.00","18-53801","Zagarri","XD2-240","Xirrus",{"$nulls":4},"TE PD E",null,null,"E-Rate","ERATE",{"$nulls":6},"TECHNOLOGY STG","01/15/2019 09:22 AM","Ted Meyer"]
["18-53801-122","X6138115FFB60","Lindbergh High School","TechStorage-300BldgCloset","Xiirrus XD2-240 Access Point",null,"Available","Access Point","2018-08-01","610.00","18-53801","Zagarri","XD2-240","Xirrus",{"$nulls":4},"TE PD E",null,null,"E-Rate","ERATE",{"$nulls":6},"TECHNOLOGY STG","01/15/2019 09:22 AM","Ted Meyer"]
["18-53801-123","X6138115FFC5C","Lindbergh High School","TechStorage-300BldgCloset","Xiirrus XD2-240 Access Point",null,"Available","Access Point","2018-08-01","610.00","18-53801","Zagarri","XD2-240","Xirrus",{"$nulls":4},"TE PD E",null,null,"E-Rate","ERATE",{"$nulls":6},"TECHNOLOGY STG","01/15/2019 09:22 AM","Ted Meyer"]
["18-53801-124","X6138115FFB54","Lindbergh High School","TechStorage-300BldgCloset","Xiirrus XD2-240 Access Point",null,"Available","Access Point","2018-08-01","610.00","18-53801","Zagarri","XD2-240","Xirrus",{"$nulls":4},"TE PD E",null,null,"E-Rate","ERATE",{"$nulls":6},"TECHNOLOGY STG","01/15/2019 09:22 AM","Ted Meyer"]
["18-53801-125","X6138045FDFD","Lindbergh High School","TechStorage-300BldgCloset","Xiirrus XD2-240 Access Point",null,"Available","Access Point","2018-08-01","610.00","18-53801","Zagarri","XD2-240","Xirrus",{"$nulls":4},"TE PD E",null,null,"E-Rate","ERATE",null,null,"RMA from s/n X6138115FFB68 1/17/19",{"$nulls":3},"TECHNOLOGY STG","01/15/2019 09:22 AM","Ted Meyer"]
["18-53801-126","X6138115FFAC4","Lindbergh High School","TechStorage-300BldgCloset","Xiirrus XD2-240 Access Point",null,"Available","Access Point","2018-08-01","610.00","18-53801","Zagarri","XD2-240","Xirrus",{"$nulls":4},"TE PD E",null,null,"E-Rate","ERATE",{"$nulls":6},"TECHNOLOGY STG","01/15/2019 09:22 AM","Ted Meyer"]
["18-53801-127","X6138115FFB64","Lindbergh High School","TechStorage-300BldgCloset","Xiirrus XD2-240 Access Point",null,"Available","Access Point","2018-08-01","610.00","18-53801","Zagarri","XD2-240","Xirrus",{"$nulls":4},"TE PD E",null,null,"E-Rate","ERATE",{"$nulls":6},"TECHNOLOGY STG","01/15/2019 09:22 AM","Ted Meyer"]
["18-53801-128","X6138115FFB9E","Lindbergh High School","TechStorage-300BldgCloset","Xiirrus XD2-240 Access Point",null,"Available","Access Point","2018-08-01","610.00","18-53801","Zagarri","XD2-240","Xirrus",{"$nulls":4},"TE PD E",null,null,"E-Rate","ERATE",{"$nulls":6},"TECHNOLOGY STG","01/15/2019 09:22 AM","Ted Meyer"]
["18-53801-129","X6138115FFB8E","Lindbergh High School","TechStorage-300BldgCloset","Xiirrus XD2-240 Access Point",null,"Available","Access Point","2018-08-01","610.00","18-53801","Zagarri","XD2-240","Xirrus",{"$nulls":4},"TE PD E",null,null,"E-Rate","ERATE",{"$nulls":6},"TECHNOLOGY STG","01/15/2019 09:22 AM","Ted Meyer"]
["18-53801-130","X6138115FFB9A","Lindbergh High School","TechStorage-300BldgCloset","Xiirrus XD2-240 Access Point",null,"Available","Access Point","2018-08-01","610.00","18-53801","Zagarri","XD2-240","Xirrus",{"$nulls":4},"TE PD E",null,null,"E-Rate","ERATE",{"$nulls":6},"TECHNOLOGY STG","01/15/2019 09:22 AM","Ted Meyer"]
["18-53801-131","X6138115FFB1C","Lindbergh High School","TechStorage-300BldgCloset","Xiirrus XD2-240 Access Point",null,"Available","Access Point","2018-08-01","610.00","18-53801","Zagarri","XD2-240","Xirrus",{"$nulls":4},"TE PD E",null,null,"E-Rate","ERATE",{"$nulls":6},"TECHNOLOGY STG","01/15/2019 09:22 AM","Ted Meyer"]
["18-53801-132","X6138115FFB12","Lindbergh High School","TechStorage-300BldgCloset","Xiirrus XD2-240 Access Point",null,"Available","Access Point","2018-08-01","610.00","18-53801","Zagarri","XD2-240","Xirrus",{"$nulls":4},"TE PD E",null,null,"E-Rate","ERATE",{"$nulls":6},"TECHNOLOGY STG","01/15/2019 09:22 AM","Ted Meyer"]
["18-53801-133","X6138115FFB88","Lindbergh High School","TechStorage-300BldgCloset","Xiirrus XD2-240 Access Point",null,"Available","Access Point","2018-08-01","610.00","18-53801","Zagarri","XD2-240","Xirrus",{"$nulls":4},"TE PD E",null,null,"E-Rate","ERATE",{"$nulls":6},"TECHNOLOGY STG","01/15/2019 09:22 AM","Ted Meyer"]
["18-53801-134","X6138115FFB6A","Lindbergh High School","TechStorage-300BldgCloset","Xiirrus XD2-240 Access Point",null,"Available","Access Point","2018-08-01","610.00","18-53801","Zagarri","XD2-240","Xirrus",{"$nulls":4},"TE PD E",null,null,"E-Rate","ERATE",{"$nulls":6},"TECHNOLOGY STG","01/15/2019 09:22 AM","Ted Meyer"]
["18-53801-135","X6138115FFB14","Lindbergh High School","TechStorage-300BldgCloset","Xiirrus XD2-240 Access Point",null,"Available","Access Point","2018-08-01","610.00","18-53801","Zagarri","XD2-240","Xirrus",{"$nulls":4},"TE PD E",null,null,"E-Rate","ERATE",{"$nulls":6},"TECHNOLOGY STG","01/15/2019 09:22 AM","Ted Meyer"]
["18-53801-136","X6138115FFAC8","Lindbergh High School","TechStorage-300BldgCloset","Xiirrus XD2-240 Access Point",null,"Available","Access Point","2018-08-01","610.00","18-53801","Zagarri","XD2-240","Xirrus",{"$nulls":4},"TE PD E",null,null,"E-Rate","ERATE",{"$nulls":6},"TECHNOLOGY STG","01/15/2019 09:22 AM","Ted Meyer"]
["18-53801-137","X6138115FFC3C","Lindbergh High School","TechStorage-300BldgCloset","Xiirrus XD2-240 Access Point",null,"Available","Access Point","2018-08-01","610.00","18-53801","Zagarri","XD2-240","Xirrus",{"$nulls":4},"TE PD E",null,null,"E-Rate","ERATE",{"$nulls":6},"TECHNOLOGY STG","01/15/2019 09:22 AM","Ted Meyer"]
["18-53801-138","X6138115FFBA8","Lindbergh High School","TechStorage-300BldgCloset","Xiirrus XD2-240 Access Point",null,"Available","Access Point","2018-08-01","610.00","18-53801","Zagarri","XD2-240","Xirrus",{"$nulls":4},"TE PD E",null,null,"E-Rate","ERATE",{"$nulls":6},"TECHNOLOGY STG","01/15/2019 09:22 AM","Ted Meyer"]
["18-53801-139","X6138115FFB78","Lindbergh High School","TechStorage-300BldgCloset","Xiirrus XD2-240 Access Point",null,"Available","Access Point","2018-08-01","610.00","18-53801","Zagarri","XD2-240","Xirrus",{"$nulls":4},"TE PD E",null,null,"E-Rate","ERATE",{"$nulls":6},"TECHNOLOGY STG","01/15/2019 09:22 AM","Ted Meyer"]
["51413","X3136405FAB70","Lindbergh High School","TechStorage-300BldgCloset","Xirrus XD2-240 5 Year Erate Cloud Bundle",null,"Available","Access Point","2017-05-10","528.00","17-40232","Zagarri","XD2-240","Xirrus",{"$nulls":4},"39038-65421",null,null,"E-Rate","REPLACED DEFECTIVE UNIT S/N X3136315F9C46 (RETURNED 10/6/17)",{"$nulls":6},"TECHNOLOGY STG","01/15/2019 09:21 AM","Ted Meyer"]
["51414","X3137085FC6A8","Lindbergh High School","TechStorage-300BldgCloset","Xirrus XD2-240 5 Year Erate Cloud Bundle",null,"Available","Access Point","2017-05-10","528.00","17-40232","Zagarri","XD2-240","Xirrus",{"$nulls":4},"39038-65421",null,null,"E-Rate","REPLACED DEFECTIVE UNIT S/N X3136315F9C48 (RETURNED 10/6/17)",{"$nulls":6},"TECHNOLOGY STG","01/15/2019 09:21 AM","Ted Meyer"]
["51435","X3136315F9B5C","Lindbergh High School","TechStorage-300BldgCloset","Xirrus XD2-240 5 Year Erate Cloud Bundle",null,"Available","Access Point","2017-05-10","528.00","17-40232","Zagarri","XD2-240","Xirrus",{"$nulls":4},"39038-65421",null,null,"E-Rate",{"$nulls":7},"TECHNOLOGY STG","01/15/2019 09:21 AM","Ted Meyer"]
["51436","X3136315F9B98","Lindbergh High School","TechStorage-300BldgCloset","Xirrus XD2-240 5 Year Erate Cloud Bundle",null,"Available","Access Point","2017-05-10","528.00","17-40232","Zagarri","XD2-240","Xirrus",{"$nulls":4},"39038-65421",null,null,"E-Rate",{"$nulls":7},"TECHNOLOGY STG","01/15/2019 09:21 AM","Ted Meyer"]
["51437","X3136315F9BA0","Lindbergh High School","TechStorage-300BldgCloset","Xirrus XD2-240 5 Year Erate Cloud Bundle",null,"Available","Access Point","2017-05-10","528.00","17-40232","Zagarri","XD2-240","Xirrus",{"$nulls":4},"39038-65421",null,null,"E-Rate",{"$nulls":7},"TECHNOLOGY STG","01/15/2019 09:21 AM","Ted Meyer"]
["51438","X3136315F9C1C","Lindbergh High School","TechStorage-300BldgCloset","Xirrus XD2-240 5 Year Erate Cloud Bundle",null,"Available","Access Point","2017-05-10","528.00","17-40232","Zagarri","XD2-240","Xirrus",{"$nulls":4},"39038-65421",null,null,"E-Rate",{"$nulls":7},"TECHNOLOGY STG","01/15/2019 09:21 AM","Ted Meyer"]
["51439","X3136315F9C60","Lindbergh High School","TechStorage-300BldgCloset","Xirrus XD2-240 5 Year Erate Cloud Bundle",null,"Available","Access Point","2017-05-10","528.00","17-40232","Zagarri","XD2-240","Xirrus",{"$nulls":4},"39038-65421",null,null,"E-Rate",{"$nulls":7},"TECHNOLOGY STG","01/15/2019 09:21 AM","Ted Meyer"]
["51440","X3136315F9B94","Lindbergh High School","TechStorage-300BldgCloset","Xirrus XD2-240 5 Year Erate Cloud Bundle",null,"Available","Access Point","2017-05-10","528.00","17-40232","Zagarri","XD2-240","Xirrus",{"$nulls":4},"39038-65421",null,null,"E-Rate",{"$nulls":7},"TECHNOLOGY STG","01/15/2019 09:21 AM","Ted Meyer"]
["51441","X3136315F9C5A","Lindbergh High School","TechStorage-300BldgCloset","Xirrus XD2-240 5 Year Erate Cloud Bundle",null,"Available","Access Point","2017-05-10","528.00","17-40232","Zagarri","XD2-240","Xirrus",{"$nulls":4},"39038-65421",null,null,"E-Rate",{"$nulls":7},"TECHNOLOGY STG","01/15/2019 09:21 AM","Ted Meyer"]
["51442","X3136315F9C54","Lindbergh High School","TechStorage-300BldgCloset","Xirrus XD2-240 5 Year Erate Cloud Bundle",null,"Available","Access Point","2017-05-10","528.00","17-40232","Zagarri","XD2-240","Xirrus",{"$nulls":4},"39038-65421",null,null,"E-Rate",{"$nulls":7},"TECHNOLOGY STG","01/15/2019 09:21 AM","Ted Meyer"]
["51443","X3136315F9C52","Lindbergh High School","TechStorage-300BldgCloset","Xirrus XD2-240 5 Year Erate Cloud Bundle",null,"Available","Access Point","2017-05-10","528.00","17-40232","Zagarri","XD2-240","Xirrus",{"$nulls":4},"39038-65421",null,null,"E-Rate",{"$nulls":7},"TECHNOLOGY STG","01/15/2019 09:21 AM","Ted Meyer"]
["51444","X3136315F9C20","Lindbergh High School","TechStorage-300BldgCloset","Xirrus XD2-240 5 Year Erate Cloud Bundle",null,"Available","Access Point","2017-05-10","528.00","17-40232","Zagarri","XD2-240","Xirrus",{"$nulls":4},"39038-65421",null,null,"E-Rate",{"$nulls":7},"TECHNOLOGY STG","01/15/2019 09:21 AM","Ted Meyer"]
["51445","X3136315F9C56","Lindbergh High School","TechStorage-300BldgCloset","Xirrus XD2-240 5 Year Erate Cloud Bundle",null,"Available","Access Point","2017-05-10","528.00","17-40232","Zagarri","XD2-240","Xirrus",{"$nulls":4},"39038-65421",null,null,"E-Rate",{"$nulls":7},"TECHNOLOGY STG","01/15/2019 09:21 AM","Ted Meyer"]
["51446","X3136315F9C4C","Lindbergh High School","TechStorage-300BldgCloset","Xirrus XD2-240 5 Year Erate Cloud Bundle",null,"Available","Access Point","2017-05-10","528.00","17-40232","Zagarri","XD2-240","Xirrus",{"$nulls":4},"39038-65421",null,null,"E-Rate",{"$nulls":7},"TECHNOLOGY STG","01/15/2019 09:21 AM","Ted Meyer"]
["51447","X3136315F9B92","Lindbergh High School","TechStorage-300BldgCloset","Xirrus XD2-240 5 Year Erate Cloud Bundle",null,"Available","Access Point","2017-05-10","528.00","17-40232","Zagarri","XD2-240","Xirrus",{"$nulls":4},"39038-65421",null,null,"E-Rate",{"$nulls":7},"TECHNOLOGY STG","01/15/2019 09:21 AM","Ted Meyer"]
["51448","X3136315F9B8C","Lindbergh High School","TechStorage-300BldgCloset","Xirrus XD2-240 5 Year Erate Cloud Bundle",null,"Available","Access Point","2017-05-10","528.00","17-40232","Zagarri","XD2-240","Xirrus",{"$nulls":4},"39038-65421",null,null,"E-Rate",{"$nulls":7},"TECHNOLOGY STG","01/15/2019 09:21 AM","Ted Meyer"]
["51449","X3136315F9C3E","Lindbergh High School","TechStorage-300BldgCloset","Xirrus XD2-240 5 Year Erate Cloud Bundle",null,"Available","Access Point","2017-05-10","528.00","17-40232","Zagarri","XD2-240","Xirrus",{"$nulls":4},"39038-65421",null,null,"E-Rate",{"$nulls":7},"TECHNOLOGY STG","01/15/2019 09:21 AM","Ted Meyer"]
["51451","X3136315F9B70","Lindbergh High School","TechStorage-300BldgCloset","Xirrus XD2-240 5 Year Erate Cloud Bundle",null,"Available","Access Point","2017-05-10","528.00","17-40232","Zagarri","XD2-240","Xirrus",{"$nulls":4},"39038-65421",null,null,"E-Rate",{"$nulls":7},"TECHNOLOGY STG","01/15/2019 09:21 AM","Ted Meyer"]
["51450","X3136345FA8D","Lindbergh High School","TechStorage-300BldgCloset","Xirrus XD2-240 5 Year Erate Cloud Bundle",null,"Available","Access Point","2017-05-10","528.00","17-40232","Zagarri","XD2-240","Xirrus",{"$nulls":4},"39038-65421",null,null,"E-Rate","Replacement for X3136315F9C1E - returned 1/18/18 under warranty,",{"$nulls":6},"TECHNOLOGY STG","01/15/2019 09:21 AM","Ted Meyer"]
["51452","X6138115FFA1","Lindbergh High School","TechStorage-300BldgCloset","Xirrus XD2-240 5 Year Erate Cloud Bundle",null,"Available","Access Point","2017-05-10","528.00","17-40232","Zagarri","XD2-240","Xirrus","Exchanged for X3136315F9B54 RMA Nov 2018",{"$nulls":3},"39038-65421",null,null,"E-Rate",{"$nulls":7},"TECHNOLOGY STG","01/15/2019 09:21 AM","Ted Meyer"]
["51453","X3136315F9BD2","Lindbergh High School","TechStorage-300BldgCloset","Xirrus XD2-240 5 Year Erate Cloud Bundle",null,"Available","Access Point","2017-05-10","528.00","17-40232","Zagarri","XD2-240","Xirrus",{"$nulls":4},"39038-65421",null,null,"E-Rate",{"$nulls":7},"TECHNOLOGY STG","01/15/2019 09:21 AM","Ted Meyer"]
["51454","X3136165F898E","Lindbergh High School","TechStorage-300BldgCloset","Xirrus XD2-240 5 Year Erate Cloud Bundle",null,"Available","Access Point","2017-05-10","528.00","17-40232","Zagarri","XD2-240","Xirrus",{"$nulls":4},"39038-65421",null,null,"E-Rate","This unit replaced a faulty unit, S/N X3136315F9BB4",{"$nulls":6},"TECHNOLOGY STG","01/15/2019 09:21 AM","Ted Meyer"]
["51455","X3136315F9BBA","Lindbergh High School","TechStorage-300BldgCloset","Xirrus XD2-240 5 Year Erate Cloud Bundle",null,"Available","Access Point","2017-05-10","528.00","17-40232","Zagarri","XD2-240","Xirrus",{"$nulls":4},"39038-65421",null,null,"E-Rate",{"$nulls":7},"TECHNOLOGY STG","01/15/2019 09:21 AM","Ted Meyer"]
["51456","X3136315F9BD4","Lindbergh High School","TechStorage-300BldgCloset","Xirrus XD2-240 5 Year Erate Cloud Bundle",null,"Available","Access Point","2017-05-10","528.00","17-40232","Zagarri","XD2-240","Xirrus",{"$nulls":4},"39038-65421",null,null,"E-Rate",{"$nulls":7},"TECHNOLOGY STG","01/15/2019 09:21 AM","Ted Meyer"]
["51457","X3136315F9B86","Lindbergh High School","TechStorage-300BldgCloset","Xirrus XD2-240 5 Year Erate Cloud Bundle",null,"Available","Access Point","2017-05-10","528.00","17-40232","Zagarri","XD2-240","Xirrus",{"$nulls":4},"39038-65421",null,null,"E-Rate",{"$nulls":7},"TECHNOLOGY STG","01/15/2019 09:21 AM","Ted Meyer"]
["51458","X3136315F9C3C","Lindbergh High School","TechStorage-300BldgCloset","Xirrus XD2-240 5 Year Erate Cloud Bundle",null,"Available","Access Point","2017-05-10","528.00","17-40232","Zagarri","XD2-240","Xirrus",{"$nulls":4},"39038-65421",null,null,"E-Rate",{"$nulls":7},"TECHNOLOGY STG","01/15/2019 09:21 AM","Ted Meyer"]
["51459","X3136315F9C42","Lindbergh High School","TechStorage-300BldgCloset","Xirrus XD2-240 5 Year Erate Cloud Bundle",null,"Available","Access Point","2017-05-10","528.00","17-40232","Zagarri","XD2-240","Xirrus",{"$nulls":4},"39038-65421",null,null,"E-Rate",{"$nulls":7},"TECHNOLOGY STG","01/15/2019 09:21 AM","Ted Meyer"]
["51460","X3136315F9C38","Lindbergh High School","TechStorage-300BldgCloset","Xirrus XD2-240 5 Year Erate Cloud Bundle",null,"Available","Access Point","2017-05-10","528.00","17-40232","Zagarri","XD2-240","Xirrus",{"$nulls":4},"39038-65421",null,null,"E-Rate",{"$nulls":7},"TECHNOLOGY STG","01/15/2019 09:21 AM","Ted Meyer"]
["51461","X3136315F9B8E","Lindbergh High School","TechStorage-300BldgCloset","Xirrus XD2-240 5 Year Erate Cloud Bundle",null,"Available","Access Point","2017-05-10","528.00","17-40232","Zagarri","XD2-240","Xirrus",{"$nulls":4},"39038-65421",null,null,"E-Rate",{"$nulls":7},"TECHNOLOGY STG","01/15/2019 09:21 AM","Ted Meyer"]
["50053","X6138115FFBD8","Lindbergh High School","TechStorage-300BldgCloset","Xirrus XD2-240 5 Year Erate Cloud Bundle",null,"Available","Access Point","2018-06-28","610.00","18-53801","Zagarri","XD2-240","Xirrus",{"$nulls":4},"TE PD100.2331.6412.0000.07360.1.000",null,null,"E-Rate","ERATE 5 YEAR BUNDLE",{"$nulls":6},"TECHNOLOGY STG","01/15/2019 09:22 AM","Ted Meyer"]
["18-53801-096","X6138115FFBCE","Lindbergh High School","TechStorage-300BldgCloset","Xiirrus XD2-240 Access Point",null,"Available","Access Point","2018-08-01","610.00","18-53801","Zagarri","XD2-240","Xirrus",{"$nulls":4},"TE PD E",null,null,"E-Rate","ERATE",{"$nulls":6},"TECHNOLOGY STG","01/15/2019 09:22 AM","Ted Meyer"]
["18-53801-097","X613816601FD","Lindbergh High School","TechStorage-300BldgCloset","Xiirrus XD2-240 Access Point",null,"Available","Access Point","2018-08-01","610.00","18-53801","Zagarri","XD2-240","Xirrus",{"$nulls":4},"TE PD E",null,null,"E-Rate","ERATE",null,null,"RMA switch from old S/N X6138115FFBDE on 11/19/19",{"$nulls":3},"TECHNOLOGY STG","01/15/2019 09:22 AM","Ted Meyer"]
["18-53801-098","X6138115FFBC8","Lindbergh High School","TechStorage-300BldgCloset","Xiirrus XD2-240 Access Point",null,"Available","Access Point","2018-08-01","610.00","18-53801","Zagarri","XD2-240","Xirrus",{"$nulls":4},"TE PD E",null,null,"E-Rate","ERATE",{"$nulls":6},"TECHNOLOGY STG","01/15/2019 09:22 AM","Ted Meyer"]
["18-53801-099","X6138115FFC04","Lindbergh High School","TechStorage-300BldgCloset","Xiirrus XD2-240 Access Point",null,"Available","Access Point","2018-08-01","610.00","18-53801","Zagarri","XD2-240","Xirrus",{"$nulls":4},"TE PD E",null,null,"E-Rate","ERATE",{"$nulls":6},"TECHNOLOGY STG","01/15/2019 09:22 AM","Ted Meyer"]
["18-53801-100","X6138115FFC0E","Lindbergh High School","TechStorage-300BldgCloset","Xiirrus XD2-240 Access Point",null,"Available","Access Point","2018-08-01","610.00","18-53801","Zagarri","XD2-240","Xirrus",{"$nulls":4},"TE PD E",null,null,"E-Rate","ERATE",{"$nulls":6},"TECHNOLOGY STG","01/15/2019 09:22 AM","Ted Meyer"]
["18-53801-101","X6138115FFC16","Lindbergh High School","TechStorage-300BldgCloset","Xiirrus XD2-240 Access Point",null,"Available","Access Point","2018-08-01","610.00","18-53801","Zagarri","XD2-240","Xirrus",{"$nulls":4},"TE PD E",null,null,"E-Rate","ERATE",{"$nulls":6},"TECHNOLOGY STG","01/15/2019 09:22 AM","Ted Meyer"]
["18-53801-102","X6138115FFC1E","Lindbergh High School","TechStorage-300BldgCloset","Xiirrus XD2-240 Access Point",null,"Available","Access Point","2018-08-01","610.00","18-53801","Zagarri","XD2-240","Xirrus",{"$nulls":4},"TE PD E",null,null,"E-Rate","ERATE",{"$nulls":6},"TECHNOLOGY STG","01/15/2019 09:22 AM","Ted Meyer"]
["18-53801-103","X6138115FFC24","Lindbergh High School","TechStorage-300BldgCloset","Xiirrus XD2-240 Access Point",null,"Available","Access Point","2018-08-01","610.00","18-53801","Zagarri","XD2-240","Xirrus",{"$nulls":4},"TE PD E",null,null,"E-Rate","ERATE",{"$nulls":6},"TECHNOLOGY STG","01/15/2019 09:22 AM","Ted Meyer"]
["18-53801-104","X6138115FFC1A","Lindbergh High School","TechStorage-300BldgCloset","Xiirrus XD2-240 Access Point",null,"Available","Access Point","2018-08-01","610.00","18-53801","Zagarri","XD2-240","Xirrus",{"$nulls":4},"TE PD E",null,null,"E-Rate","ERATE",{"$nulls":6},"TECHNOLOGY STG","01/15/2019 09:22 AM","Ted Meyer"]
["18-53801-105","X6138115FFB70","Lindbergh High School","TechStorage-300BldgCloset","Xiirrus XD2-240 Access Point",null,"Available","Access Point","2018-08-01","610.00","18-53801","Zagarri","XD2-240","Xirrus",{"$nulls":4},"TE PD E",null,null,"E-Rate","ERATE",{"$nulls":6},"TECHNOLOGY STG","01/15/2019 09:22 AM","Ted Meyer"]
["18-53801-106","X6138115FFB48","Lindbergh High School","TechStorage-300BldgCloset","Xiirrus XD2-240 Access Point",null,"Available","Access Point","2018-08-01","610.00","18-53801","Zagarri","XD2-240","Xirrus",{"$nulls":4},"TE PD ERATE",null,null,"E-Rate","ERATE",{"$nulls":6},"TECHNOLOGY STG","01/15/2019 09:22 AM","Ted Meyer"]
["18-53801-107","X6138115FFB34","Lindbergh High School","TechStorage-300BldgCloset","Xiirrus XD2-240 Access Point",null,"Available","Access Point","2018-08-01","610.00","18-53801","Zagarri","XD2-240","Xirrus",{"$nulls":4},"TE PD E",null,null,"E-Rate","ERATE",{"$nulls":6},"TECHNOLOGY STG","01/15/2019 09:22 AM","Ted Meyer"]
["51370","X3136295F9754","Lindbergh High School","TechStorage-300BldgCloset","Xirrus XD2-240 5 Year Erate Cloud Bundle",null,"Available","Access Point","2017-05-10","528.00","17-40232","Zagarri","XD2-240","Xirrus",{"$nulls":4},"39038-65421",null,null,"E-Rate",{"$nulls":7},"TECHNOLOGY STG","01/15/2019 09:21 AM","Ted Meyer"]
["51372","X3136295F9566","Lindbergh High School","TechStorage-300BldgCloset","Xirrus XD2-240 5 Year Erate Cloud Bundle",null,"Available","Access Point","2017-05-10","528.00","17-40232","Zagarri","XD2-240","Xirrus",{"$nulls":4},"39038-65421",null,null,"E-Rate",{"$nulls":7},"TECHNOLOGY STG","01/15/2019 09:21 AM","Ted Meyer"]
["51371","X3136295F96DA","Lindbergh High School","TechStorage-300BldgCloset","Xirrus XD2-240 5 Year Erate Cloud Bundle",null,"Available","Access Point","2017-05-10","528.00","17-40232","Zagarri","XD2-240","Xirrus",{"$nulls":4},"39038-65421",null,null,"E-Rate",{"$nulls":7},"TECHNOLOGY STG","01/15/2019 09:21 AM","Ted Meyer"]
["51374","X3136295F9550","Lindbergh High School","TechStorage-300BldgCloset","Xirrus XD2-240 5 Year Erate Cloud Bundle",null,"Available","Access Point","2017-05-10","528.00","17-40232","Zagarri","XD2-240","Xirrus",{"$nulls":4},"39038-65421",null,null,"E-Rate",{"$nulls":7},"TECHNOLOGY STG","01/15/2019 09:21 AM","Ted Meyer"]
["51375","X3136295F9744","Lindbergh High School","TechStorage-300BldgCloset","Xirrus XD2-240 5 Year Erate Cloud Bundle",null,"Available","Access Point","2017-05-10","528.00","17-40232","Zagarri","XD2-240","Xirrus",{"$nulls":4},"39038-65421",null,null,"E-Rate",{"$nulls":7},"TECHNOLOGY STG","01/15/2019 09:21 AM","Ted Meyer"]
["51376","X3136295F9558","Lindbergh High School","TechStorage-300BldgCloset","Xirrus XD2-240 5 Year Erate Cloud Bundle",null,"Available","Access Point","2017-05-10","528.00","17-40232","Zagarri","XD2-240","Xirrus",{"$nulls":4},"39038-65421",null,null,"E-Rate",{"$nulls":7},"TECHNOLOGY STG","01/15/2019 09:21 AM","Ted Meyer"]
["51377","X3136295F954C","Lindbergh High School","TechStorage-300BldgCloset","Xirrus XD2-240 5 Year Erate Cloud Bundle",null,"Available","Access Point","2017-05-10","528.00","17-40232","Zagarri","XD2-240","Xirrus",{"$nulls":4},"39038-65421",null,null,"E-Rate",{"$nulls":7},"TECHNOLOGY STG","01/15/2019 09:21 AM","Ted Meyer"]
["51378","X3136295F9616","Lindbergh High School","TechStorage-300BldgCloset","Xirrus XD2-240 5 Year Erate Cloud Bundle",null,"Available","Access Point","2017-05-10","528.00","17-40232","Zagarri","XD2-240","Xirrus",{"$nulls":4},"39038-65421",null,null,"E-Rate",{"$nulls":7},"TECHNOLOGY STG","01/15/2019 09:21 AM","Ted Meyer"]
["51379","X3136295F95EE","Lindbergh High School","TechStorage-300BldgCloset","Xirrus XD2-240 5 Year Erate Cloud Bundle",null,"Available","Access Point","2017-05-10","528.00","17-40232","Zagarri","XD2-240","Xirrus",{"$nulls":4},"39038-65421",null,null,"E-Rate",{"$nulls":7},"TECHNOLOGY STG","01/15/2019 09:21 AM","Ted Meyer"]
["51380","X3136295F9552","Lindbergh High School","TechStorage-300BldgCloset","Xirrus XD2-240 5 Year Erate Cloud Bundle",null,"Available","Access Point","2017-05-10","528.00","17-40232","Zagarri","XD2-240","Xirrus",{"$nulls":4},"39038-65421",null,null,"E-Rate",{"$nulls":7},"TECHNOLOGY STG","01/15/2019 09:21 AM","Ted Meyer"]
["51381","X3136295F9556","Lindbergh High School","TechStorage-300BldgCloset","Xirrus XD2-240 5 Year Erate Cloud Bundle",null,"Available","Access Point","2017-05-10","528.00","17-40232","Zagarri","XD2-240","Xirrus",{"$nulls":4},"39038-65421",null,null,"E-Rate",{"$nulls":7},"TECHNOLOGY STG","01/15/2019 09:21 AM","Ted Meyer"]
["51382","X3136295F9554","Lindbergh High School","TechStorage-300BldgCloset","Xirrus XD2-240 5 Year Erate Cloud Bundle",null,"Available","Access Point","2017-05-10","528.00","17-40232","Zagarri","XD2-240","Xirrus",{"$nulls":4},"39038-65421",null,null,"E-Rate",{"$nulls":7},"TECHNOLOGY STG","01/15/2019 09:21 AM","Ted Meyer"]
["51383","X3136295F97DA","Lindbergh High School","TechStorage-300BldgCloset","Xirrus XD2-240 5 Year Erate Cloud Bundle",null,"Available","Access Point","2017-05-10","528.00","17-40232","Zagarri","XD2-240","Xirrus",{"$nulls":4},"39038-65421",null,null,"E-Rate",{"$nulls":7},"TECHNOLOGY STG","01/15/2019 09:21 AM","Ted Meyer"]
["51384","X3136295F9510","Lindbergh High School","TechStorage-300BldgCloset","Xirrus XD2-240 5 Year Erate Cloud Bundle",null,"Available","Access Point","2017-05-10","528.00","17-40232","Zagarri","XD2-240","Xirrus",{"$nulls":4},"39038-65421",null,null,"E-Rate",{"$nulls":7},"TECHNOLOGY STG","01/15/2019 09:21 AM","Ted Meyer"]
["51385","X3136295F9584","Lindbergh High School","TechStorage-300BldgCloset","Xirrus XD2-240 5 Year Erate Cloud Bundle",null,"Available","Access Point","2017-05-10","528.00","17-40232","Zagarri","XD2-240","Xirrus",{"$nulls":4},"39038-65421",null,null,"E-Rate",{"$nulls":7},"TECHNOLOGY STG","01/15/2019 09:21 AM","Ted Meyer"]
["51386","X3136345FA24C","Lindbergh High School","TechStorage-300BldgCloset","Xirrus XD2-240 5 Year Erate Cloud Bundle",null,"Available","Access Point","2017-05-10","528.00","17-40232","Zagarri","XD2-240","Xirrus",{"$nulls":4},"39038-65421",null,null,"E-Rate",{"$nulls":7},"TECHNOLOGY STG","01/15/2019 09:21 AM","Ted Meyer"]
["51387","X3136345FA130","Lindbergh High School","TechStorage-300BldgCloset","Xirrus XD2-240 5 Year Erate Cloud Bundle",null,"Available","Access Point","2017-05-10","528.00","17-40232","Zagarri","XD2-240","Xirrus",{"$nulls":4},"39038-65421",null,null,"E-Rate",{"$nulls":7},"TECHNOLOGY STG","01/15/2019 09:21 AM","Ted Meyer"]
["51388","X3136345FA212","Lindbergh High School","TechStorage-300BldgCloset","Xirrus XD2-240 5 Year Erate Cloud Bundle",null,"Available","Access Point","2017-05-10","528.00","17-40232","Zagarri","XD2-240","Xirrus",{"$nulls":4},"39038-65421",null,null,"E-Rate",{"$nulls":7},"TECHNOLOGY STG","01/15/2019 09:21 AM","Ted Meyer"]
["51389","X3136345FA0D0","Lindbergh High School","TechStorage-300BldgCloset","Xirrus XD2-240 5 Year Erate Cloud Bundle",null,"Available","Access Point","2017-05-10","528.00","17-40232","Zagarri","XD2-240","Xirrus",{"$nulls":4},"39038-65421",null,null,"E-Rate",{"$nulls":7},"TECHNOLOGY STG","01/15/2019 09:21 AM","Ted Meyer"]
["51390","X4146400F59AE","Lindbergh High School","TechStorage-300BldgCloset","Xirrus XD2-240 5 Year Erate Cloud Bundle",null,"Available","Access Point","2017-05-10","528.00","17-40232","Zagarri","XD2-240","Xirrus",{"$nulls":4},"39038-65421",null,null,"E-Rate","Unit replaced defective unit s/n X4146320f5108 10/13/2017",{"$nulls":6},"TECHNOLOGY STG","01/15/2019 09:21 AM","Ted Meyer"]
["51406","X3136315F9BA2","Lindbergh High School","TechStorage-300BldgCloset","Xirrus XD2-240 5 Year Erate Cloud Bundle",null,"Available","Access Point","2017-05-10","528.00","17-40232","Zagarri","XD2-240","Xirrus",{"$nulls":4},"39038-65421",null,null,"E-Rate",{"$nulls":7},"TECHNOLOGY STG","01/15/2019 09:21 AM","Ted Meyer"]
["51407","X3137035FBAEC","Lindbergh High School","TechStorage-300BldgCloset","Xirrus XD2-240 5 Year Erate Cloud Bundle",null,"Available","Access Point","2017-05-10","528.00","17-40232","Zagarri","XD2-240","Xirrus",{"$nulls":4},"39038-65421",null,null,"E-Rate","X3136315F9B4E replaced 11/20/2017 with above serial number",{"$nulls":6},"TECHNOLOGY STG","01/15/2019 09:21 AM","Ted Meyer"]
["51410","X3136315F9BC6","Lindbergh High School","TechStorage-300BldgCloset","Xirrus XD2-240 5 Year Erate Cloud Bundle",null,"Available","Access Point","2017-05-10","528.00","17-40232","Zagarri","XD2-240","Xirrus",{"$nulls":4},"39038-65421",null,null,"E-Rate",{"$nulls":7},"TECHNOLOGY STG","01/15/2019 09:21 AM","Ted Meyer"]
["51411","X3136315F9B4C","Lindbergh High School","TechStorage-300BldgCloset","Xirrus XD2-240 5 Year Erate Cloud Bundle",null,"Available","Access Point","2017-05-10","528.00","17-40232","Zagarri","XD2-240","Xirrus",{"$nulls":4},"39038-65421",null,null,"E-Rate",{"$nulls":7},"TECHNOLOGY STG","01/15/2019 09:21 AM","Ted Meyer"]
["51412","X3136315F9C44","Lindbergh High School","TechStorage-300BldgCloset","Xirrus XD2-240 5 Year Erate Cloud Bundle",null,"Available","Access Point","2017-05-10","528.00","17-40232","Zagarri","XD2-240","Xirrus",{"$nulls":4},"39038-65421",null,null,"E-Rate",{"$nulls":7},"TECHNOLOGY STG","01/15/2019 09:21 AM","Ted Meyer"]
["51416","X3136315F9B82","Lindbergh High School","TechStorage-300BldgCloset","Xirrus XD2-240 5 Year Erate Cloud Bundle",null,"Available","Access Point","2017-05-10","528.00","17-40232","Zagarri","XD2-240","Xirrus",{"$nulls":4},"39038-65421",null,null,"E-Rate",{"$nulls":7},"TECHNOLOGY STG","01/15/2019 09:21 AM","Ted Meyer"]
["49853","X3136315F9BCC","Lindbergh High School","TechStorage-300BldgCloset","Xirrus XD2-240 5 Year Erate Cloud Bundle",null,"Available","Access Point","2017-05-10","528.00","17-40232","Zagarri","XD2-240","Xirrus",{"$nulls":4},"39038-65421",null,null,"E-Rate",{"$nulls":7},"TECHNOLOGY STG","01/15/2019 09:21 AM","Ted Meyer"]
["49854","X3136315F9B6E","Lindbergh High School","TechStorage-300BldgCloset","Xirrus XD2-240 5 Year Erate Cloud Bundle",null,"Available","Access Point","2017-05-10","528.00","17-40232","Zagarri","XD2-240","Xirrus",{"$nulls":4},"39038-65421",null,null,"E-Rate",{"$nulls":7},"TECHNOLOGY STG","01/15/2019 09:21 AM","Ted Meyer"]
["49855","X3136315F9C0E","Lindbergh High School","TechStorage-300BldgCloset","Xirrus XD2-240 5 Year Erate Cloud Bundle",null,"Available","Access Point","2017-05-10","528.00","17-40232","Zagarri","XD2-240","Xirrus",{"$nulls":4},"39038-65421",null,null,"E-Rate",{"$nulls":7},"TECHNOLOGY STG","01/15/2019 09:21 AM","Ted Meyer"]
["49856","X3136315F9B90","Lindbergh High School","TechStorage-300BldgCloset","Xirrus XD2-240 5 Year Erate Cloud Bundle",null,"Available","Access Point","2017-05-10","528.00","17-40232","Zagarri","XD2-240","Xirrus","RMA was exchanged with X3136315F9B90 9/20- MK","48c0935fbc2c",null,"10.40.22.125","39038-65421",null,null,"E-Rate","X3137035FBC2C - Returned/Defective.",{"$nulls":6},"TECHNOLOGY STG","01/15/2019 09:21 AM","Ted Meyer"]
["49857","X3136315F9C18","Lindbergh High School","TechStorage-300BldgCloset","Xirrus XD2-240 5 Year Erate Cloud Bundle",null,"Available","Access Point","2017-05-10","528.00","17-40232","Zagarri","XD2-240","Xirrus",{"$nulls":4},"39038-65421",null,null,"E-Rate",{"$nulls":7},"TECHNOLOGY STG","01/15/2019 09:21 AM","Ted Meyer"]
["49858","X3136315F9BBE","Lindbergh High School","TechStorage-300BldgCloset","Xirrus XD2-240 5 Year Erate Cloud Bundle",null,"Available","Access Point","2017-05-10","528.00","17-40232","Zagarri","XD2-240","Xirrus",{"$nulls":4},"39038-65421",null,null,"E-Rate",{"$nulls":7},"TECHNOLOGY STG","01/15/2019 09:21 AM","Ted Meyer"]
["49859","X3136315F9B96","Lindbergh High School","TechStorage-300BldgCloset","Xirrus XD2-240 5 Year Erate Cloud Bundle",null,"Available","Access Point","2017-05-10","528.00","17-40232","Zagarri","XD2-240","Xirrus",{"$nulls":4},"39038-65421",null,null,"E-Rate",{"$nulls":7},"TECHNOLOGY STG","01/15/2019 09:21 AM","Ted Meyer"]
["49860","X3136315F9C24","Lindbergh High School","TechStorage-300BldgCloset","Xirrus XD2-240 5 Year Erate Cloud Bundle",null,"Available","Access Point","2017-05-10","528.00","17-40232","Zagarri","XD2-240","Xirrus",{"$nulls":4},"39038-65421",null,null,"E-Rate",{"$nulls":7},"TECHNOLOGY STG","01/15/2019 09:21 AM","Ted Meyer"]
["49861","X3136315F9B9A","Lindbergh High School","TechStorage-300BldgCloset","Xirrus XD2-240 5 Year Erate Cloud Bundle",null,"Available","Access Point","2017-05-10","528.00","17-40232","Zagarri","XD2-240","Xirrus",{"$nulls":4},"39038-65421",null,null,"E-Rate",{"$nulls":7},"TECHNOLOGY STG","01/15/2019 09:21 AM","Ted Meyer"]
["49862","X6138045FDF46","Lindbergh High School","TechStorage-300BldgCloset","Xirrus XD2-240 5 Year Erate Cloud Bundle",null,"Available","Access Point","2017-05-10","528.00","17-40232","Zagarri","XD2-240","Xirrus",{"$nulls":4},"39038-65421",null,null,"E-Rate",{"$nulls":3},"RMA switch S/n from X3136315F9C5C",{"$nulls":3},"TECHNOLOGY STG","01/15/2019 09:21 AM","Ted Meyer"]
["49848","X4146320F505A","Lindbergh High School","TechStorage-300BldgCloset","Xirrus XD4-240 5 Year Erate Cloud Bundle",null,"Available","Access Point","2017-05-10","528.00","17-40232","Zagarri","XD4-240","Xirrus",{"$nulls":4},"39038-65421",null,null,"E-Rate",{"$nulls":7},"TECHNOLOGY STG","01/15/2019 09:21 AM","Ted Meyer"]
["49849","X3136315F9B7A","Lindbergh High School","TechStorage-300BldgCloset","Xirrus XD2-240 5 Year Erate Cloud Bundle",null,"Available","Access Point","2017-05-10","528.00","17-40232","Zagarri","XD2-240","Xirrus",{"$nulls":4},"39038-65421",null,null,"E-Rate",{"$nulls":7},"TECHNOLOGY STG","01/15/2019 09:21 AM","Ted Meyer"]
["49850","X3136315F9B74","Lindbergh High School","TechStorage-300BldgCloset","Xirrus XD2-240 5 Year Erate Cloud Bundle",null,"Available","Access Point","2017-05-10","528.00","17-40232","Zagarri","XD2-240","Xirrus",{"$nulls":4},"39038-65421",null,null,"E-Rate",{"$nulls":7},"TECHNOLOGY STG","01/15/2019 09:21 AM","Ted Meyer"]
["49851","X6138115FFB74","Lindbergh High School","TechStorage-300BldgCloset","Xirrus XD2-240 5 Year Erate Cloud Bundle",null,"Available","Access Point","2017-05-10","528.00","17-40232","Zagarri","XD2-240","Xirrus","Exchanged RMA Nov 2018 for X3136315F9BE2",{"$nulls":3},"39038-65421",null,null,"E-Rate",{"$nulls":7},"TECHNOLOGY STG","01/15/2019 09:21 AM","Ted Meyer"]
["49846","X4146320F4FBE","Lindbergh High School","TechStorage-300BldgCloset","Xirrus XD4-240 5 Year Erate Cloud Bundle",null,"Available","Access Point","2017-05-10","528.00","17-40232","Zagarri","XD4-240","Xirrus",{"$nulls":4},"39038-65421",null,null,"E-Rate",{"$nulls":7},"TECHNOLOGY STG","01/15/2019 09:21 AM","Ted Meyer"]
["53812","LR0AVPT8","Lindbergh High School","Surplus Tech Library","Lenovo ThinkPad 11e",null,"Available","Laptop","2018-09-07","485.00","19-55635","TwoTrees","11e","Lenovo","LHS-BUS2-12","cc2f7162ca14","2022/2023",null,"TE PD - HS Business",{"$nulls":7},"20GB000SUS",null,null,"Business Dept.","01/15/2019 09:22 AM","Ted Meyer"]
["45993","R9ZLM8W","Lindbergh High School","Surplus Tech Library","Lenovo ThinkPad Helix",null,"Available","Laptop","2013-07-15","1,515.00","14-15330","TWOTREES","Helix","Lenovo","William Murphy","843a4b98adfc","2017/2018",{"$nulls":9},"36984LU",{"$nulls":3},"01/15/2019 10:07 AM","Ted Meyer"]
["51311","LR09EAYJ","Lindbergh High School","Surplus Tech Library","Lenovo ThinkPad 11e",null,"Available","Laptop","2017-06-15","456.90","18-50158","STAPLES","11e","Lenovo","SA043-07","e442a6a4043e","2021/2022",null,"27871-6412",{"$nulls":3},"EXTENDED SERVICE AGREEMENT PARTS AND LABOR 3 YEAR PICK UP AND RETURN TOPSELLER SERVICE @$55.00",{"$nulls":3},"20GB001HUS",{"$nulls":3},"01/15/2019 10:07 AM","Ted Meyer"]
["51783","LR09EAWQ","Lindbergh High School","Surplus Tech Library","Lenovo ThinkPad 11e",null,"Available","Laptop","2017-06-15","456.90","18-50158","STAPLES","11e","Lenovo","HSFML2-29","e442a6a40420","2021/2022",null,"27871-6412",{"$nulls":3},"EXTENDED SERVICE AGREEMENT PARTS AND LABOR 3 YEAR PICK UP AND RETURN TOPSELLER SERVICE @$55.00",{"$nulls":3},"20GB001HUS",{"$nulls":3},"01/15/2019 09:21 AM","Ted Meyer"]
["53802","LR0AVQ11","Lindbergh High School","Surplus Tech Library","Lenovo ThinkPad 11e",null,"Available","Laptop","2018-09-07","485.00","19-55635","TwoTrees","11e","Lenovo","LHS-BUS2-02","cc2f7162cf1e","2022/2023",null,"TE PD - HS Business",{"$nulls":7},"20GB000SUS",{"$nulls":3},"01/15/2019 09:22 AM","Ted Meyer"]
["53805","LR0AVA1U","Lindbergh High School","Surplus Tech Library","Lenovo ThinkPad 11e",null,"Available","Laptop","2018-09-07","485.00","19-55635","TwoTrees","11e","Lenovo","LHS-BUS2-05","cc2f7160e01e","2022/2023",null,"TE PD - HS Business",{"$nulls":7},"20GB000SUS",{"$nulls":3},"01/15/2019 09:22 AM","Ted Meyer"]
["53826","LR0AVPNM","Lindbergh High School","Surplus Tech Library","Lenovo ThinkPad 11e",null,"Available","Laptop","2018-09-07","485.00","19-55635","TwoTrees","11e","Lenovo","LHS-BUS2-26","cc2f71623c84","2022/2023",null,"TE PD - HS Business",{"$nulls":7},"20GB000SUS",{"$nulls":3},"01/15/2019 09:22 AM","Ted Meyer"]
["48515","PB01FPPG","Lindbergh High School","Surplus Tech Library","Lenovo ThinkPad x140e",null,"Available","Laptop","2014-05-23","468.00","14-19284","TwoTrees","X140e","Lenovo","HSMATH3-14","28e347e0f2ef","2018/2019",null,"30690-6542",{"$nulls":11},"01/15/2019 09:21 AM","Ted Meyer"]
["46475","LR03Z55M","Lindbergh High School","Surplus Tech Library","Lenovo ThinkPad 11e",null,"Available","Laptop","2015-07-06","473.00","16-30271","TwoTrees Technology","11e","Lenovo","HSENG2-007","104a7d93a7dd","2019/2020",null,"27873-6541",{"$nulls":7},"20DAS0VX00",{"$nulls":3},"01/15/2019 09:21 AM","Ted Meyer"]
["48716","PB-024TGL","Lindbergh High School","Surplus Tech Library","Lenovo ThinkPad x140e",null,"Available","Laptop","2014-06-05","434.00","15-18339","TwoTrees","X140e","Lenovo","HS-ENGML4-28","b8ee65d5137c","2018/2019",null,"27870-6541",{"$nulls":11},"01/15/2019 09:21 AM","Ted Meyer"]
["44107","PB01FPLJ","Lindbergh High School","Surplus Tech Library","Lenovo ThinkPad x140e",null,"Available","Laptop","2014-05-23","468.00","14-19284","TwoTrees","X140e","Lenovo","HSMATH3-16","b8ee6504cae0","2018/2019",null,"30690-6542",{"$nulls":11},"01/15/2019 09:21 AM","Ted Meyer"]
["43261","LRC43B8","Lindbergh High School","Surplus Tech Library","Lenovo ThinkPad X130e",null,"Available","Laptop","2012-05-18","573.00","12-40254","Two Trees","X130e","Lenovo","HSCANVAS1-19",null,"2016/2017",null,"27870-6541",{"$nulls":11},"01/15/2019 09:21 AM","Ted Meyer"]
["46485","LR03Z585","Lindbergh High School","Surplus Tech Library","Lenovo ThinkPad 11e",null,"Available","Laptop","2015-07-06","473.00","16-30271","TwoTrees Technology","11e","Lenovo","HSENG2-017","104a7d940bce","2019/2020",null,"27873-6541",{"$nulls":7},"20DAS0VX00",{"$nulls":3},"01/15/2019 09:21 AM","Ted Meyer"]
["46494","LR03Z554","Lindbergh High School","Surplus Tech Library","Lenovo ThinkPad 11e",null,"Available","Laptop","2015-07-06","473.00","16-30271","TwoTrees Technology","11e","Lenovo","HSENG2-026","104a7d93948c","2019/2020",null,"27873-6541",{"$nulls":7},"20DAS0VX00",{"$nulls":3},"01/15/2019 09:21 AM","Ted Meyer"]
["46510","LR03Z57D","Lindbergh High School","Surplus Tech Library","Lenovo ThinkPad 11e",null,"Available","Laptop","2015-07-06","473.00","16-30271","TwoTrees Technology","11e","Lenovo","HSMATH2-014","104a7d93c506","2019/2020",null,"27873-6541",{"$nulls":7},"20DAS0VX00",{"$nulls":3},"01/15/2019 09:21 AM","Ted Meyer"]
["41838","PB44H8G","Lindbergh High School","Surplus Tech Library","Lenovo ThinkPad X131e",null,"Available","Laptop","2012-11-27","715.00","13-12007","TwoTrees","X131e","Lenovo","HSMATH3-08","083e8eaf1893","2016/2017",null,"31590-6542",{"$nulls":11},"01/15/2019 09:21 AM","Ted Meyer"]
["45458","PB7RAP5","Lindbergh High School","Surplus Tech Library","Lenovo ThinkPad X131e",null,"Available","Laptop","2013-05-20","508.00","13-13931","Two Trees","X131e","Lenovo","HSMATH3-09","f4b7e2d2a841","2017/2018",null,"27870-6541",{"$nulls":11},"01/15/2019 09:21 AM","Ted Meyer"]
["45552","PB7GVX1","Lindbergh High School","Surplus Tech Library","Lenovo ThinkPad X131e",null,"Available","Laptop","2013-05-20","508.00","13-13931","Two Trees","X131e","Lenovo","HSMATH3-28","f4b7e2d292e7","2017/2018",null,"27870-6541",{"$nulls":11},"01/15/2019 09:21 AM","Ted Meyer"]
["45682","PB7HCD1","Lindbergh High School","Surplus Tech Library","Lenovo ThinkPad X131e",null,"Available","Laptop","2013-05-20","508.00","13-13931","Two Trees","X131e","Lenovo","HS111-06","f4b7e2d27f83","2017/2018",null,"27870-6541",{"$nulls":11},"01/15/2019 09:21 AM","Ted Meyer"]
["45074","SR9YTTFX","Lindbergh High School","Surplus Tech Library","Lenovo ThinkPad Helix",null,"Available","Laptop","2013-05-10","1,455.00","14-15032","TWOTREES","Helix","Lenovo","Cindy Malin","843a4b454f80","2017/2018",{"$nulls":9},"36984LU",{"$nulls":3},"01/15/2019 09:21 AM","Ted Meyer"]
["42522","R9H46PL","Central Office","209","Lenovo ThinkPad x220 Tablet Laptop",null,"Available","Laptop","2012-03-09","1,550.00","12-39603","Lenovo","X220","Lenovo",null,"0811967b746c",null,null,"278916541",{"$nulls":4},"2021-10-19","Old",null,"42963MU",{"$nulls":3},"01/15/2019 10:07 AM","Ted Meyer"]
["38034","556444","Central Office","209","ELMO TT-02RX Document Camera",null,"Available","Document Camera",{"$nulls":4},"TT-02RX","ELMO",{"$nulls":9},"2020-01-07","Broken",{"$nulls":5},"01/15/2019 09:34 AM","Ted Meyer"]
["45284","K1322000476","Sappington Elementary","Assistant Principal's Office","Lenovo ThinkPad USB 3.0 Dock",null,"Available","Dock","2013-07-15","135.00","14-15330","TWO TREES","DU9019D1","Lenovo","Kit Norton",{"$nulls":14},"Principal","01/15/2019 09:46 AM","Ted Meyer"]
["36017","ETL640C172723147BF4054","Sappington Elementary","Assistant Principal's Office","Acer LCD 20\" Monitor",null,"Available","Monitor","2007-08-20","193.51","08-29829","CDWG","Al2016wb","Acer","Kit Norton",{"$nulls":3},"27870-6541",{"$nulls":10},"Office","01/15/2019 09:45 AM","Ted Meyer"]
["53289","U3P0MHPG","Sappington Elementary","Assistant Principal's Office","Lenovo L24i-20 23.8\" LCD Monitor",null,"Available","Monitor","2018-08-21","159.00","19-55226","Firefly Computers","L24i-20","Lenovo","Dr. Julie Wuch",{"$nulls":3},"TE PD",{"$nulls":10},"Asst. Principal","01/15/2019 09:22 AM","Ted Meyer"]
["47828","BPP000286000162","Concord Elementary","Library Office","Ultimaker2 3D Printer",null,"Available","3D Printer","2016-05-20","2,349.00","16-34534","Dynamism","Ultimaker2","Ultimaker","MakerSpace",{"$nulls":3},"26606-6411",{"$nulls":3},"1 Year warranty - Purchased with Camp Ignite funds for Concord Makerspace.",{"$nulls":6},"Library","01/15/2019 08:38 AM","Ted Meyer"]
["46856","LR-03ZUMC","Concord Elementary","Library Office","Lenovo ThinkPad 11e",null,"Available","Laptop","2015-07-06","473.00","16-30271","TwoTrees","11e","Lenovo","CCLOAN-01","104a7d36a777","2019/2020",null,"27872-6541",{"$nulls":7},"20DAS0VX00",null,null,"Technology","01/15/2019 08:37 AM","Ted Meyer"]
["43202","DMQJ87TBDJ8T","District Storage","CO 215","Apple iPad 16GB WIFI (3rd Gen)",null,"Available","iPad","2012-11-15","499.00","13-11912","Apple","MC705LL/A","Apple",null,"98fe94cedf0c",null,null,"27870-6541",{"$nulls":7},"A1416",null,null,"Library","01/15/2019 08:34 AM","Ted Meyer"]
["43203","DMPJ9C5EDJ8T","District Storage","CO 215","Apple iPad 16GB WIFI (3rd Gen)",null,"Available","iPad","2012-11-15","499.00","13-11912","Apple","MC705LL/A","Apple",null,"d8004ddf4cd4",null,null,"27870-6541",{"$nulls":7},"A1416",null,null,"Library","01/15/2019 08:34 AM","Ted Meyer"]
["43205","DMPJ9DGCDJ8T","District Storage","CO 215","Apple iPad 16GB WIFI (3rd Gen)",null,"Available","iPad","2012-11-15","499.00","13-11912","Apple","MC705LL/A","Apple",null,"d8004dddc787",null,null,"27870-6541",{"$nulls":7},"A1416",null,null,"Library","01/15/2019 08:34 AM","Ted Meyer"]
["49501","MP14RA0K","District Storage","CO 215","Lenovo ThinkPad Yoga 260 (Core i5-6200U, 8GB, 192GB)",null,"Available","Laptop","2017-02-13","982.25","17-39494","ITsavvy LLC","Yoga 260","Lenovo",null,"e4a7a02a5661","2021/2022",null,"27870-6541",{"$nulls":3},"400-2331-6543-824-000-000",{"$nulls":3},"20FD002DUS",null,null,"Technology","01/15/2019 10:07 AM","Ted Meyer"]
["43980","DMPJD8Q5F182","District Storage","CO 215","Apple iPad 16GB WIFI (4th Gen)",null,"Available","iPad","2012-11-15","499.00","13-11912","Apple","MD510LL/A","Apple",null,"34c05955d149","2016/2017",null,"27870-6541",{"$nulls":7},"A1458",{"$nulls":3},"01/15/2019 10:39 AM","Ted Meyer"]
["41594","DMRJD1TUF182","District Storage","CO 215","Apple iPad 16GB WIFI (4th Gen)",null,"Available","iPad","2012-11-15","499.00","13-11912","Apple","MD510LL/A","Apple",null,"34c59518dd1","2016/2017",null,"27870-6541",{"$nulls":7},"A1458",{"$nulls":3},"01/15/2019 10:39 AM","Ted Meyer"]
["41617","DMPJFX6EF182","District Storage","CO 215","Apple iPad 16GB WIFI (4th Gen)",null,"Available","iPad","2012-11-15","499.00","13-11912","Apple","MD510LL/A","Apple",null,"34c05950b5cc","2016/2017",null,"27870-6541",{"$nulls":7},"A1458",{"$nulls":3},"01/15/2019 10:39 AM","Ted Meyer"]
["41637","DMRJDAN8F182","District Storage","CO 215","Apple iPad 16GB WIFI (4th Gen)",null,"Available","iPad","2012-11-15","499.00","13-11912","Apple","MD510LL/A","Apple",null,"34c05960990a","2016/2017",null,"27870-6541",{"$nulls":7},"A1458",{"$nulls":3},"01/15/2019 10:39 AM","Ted Meyer"]
["45859","DMPL1BE0F182","District Storage","CO 215","Apple iPad 16GB WIFI (4th Gen)",null,"Available","iPad","2013-07-01","499.00","14-15269","Apple","MD510LL/A","Apple",null,"a888088aaf85","2017/2018",null,"27870-6541",{"$nulls":7},"A1458",{"$nulls":3},"01/15/2019 10:39 AM","Ted Meyer"]
["52185","GG8XCV0GJF8J","District Storage","CO 216","Apple iPad 32GB WIFI (6th Gen)",null,"Available","iPad","2018-11-02","299.00","18-54945","Apple","MR7F2LL/A","Apple",null,"608c4aaffa28","2022/2023",null,"TE PD",{"$nulls":3},"This unit is a replacement for s/n DMQWQL7AJF8J which was defective under warranty 11/2/2018",{"$nulls":3},"A1893",{"$nulls":3},"01/15/2019 10:39 AM","Ted Meyer"]
["41995","QU7K3X00579","District Storage","CO 216","Epson Brightlink 485Wi Projector",null,"Available","Projector",{"$nulls":4},"Brightlink 485Wi","Epson",null,null,"UnKnown",null,null,"Filter","2017-08-15",{"$nulls":4},"Removed from Concord 037",{"$nulls":4},"01/15/2019 08:37 AM","Ted Meyer"]
["47160","MP08HSZ1","District Storage","CO 216","Lenovo ThinkPad Yoga 12 (Core i5-5200U, 8GB, 128GB SSD)",null,"Available","Laptop","2015-07-06","1,174.00","16-30425","TWOTREES","Yoga 12","Lenovo",null,"6057186e64dc","2019/2020",{"$nulls":9},"20DKS1LQ00",null,null,"4th Grade","01/15/2019 09:35 AM","Ted Meyer"]
["45174","SR9YTT4T","District Storage","CO 216","Lenovo ThinkPad Helix",null,"Available","Laptop","2013-05-10","1,455.00","14-15032","TwoTrees","Helix","Lenovo",null,"843a4b454cec",{"$nulls":10},"36984LU",{"$nulls":3},"01/15/2019 08:37 AM","Ted Meyer"]
["45181","SR9YTD5B","District Storage","CO 216","Lenovo ThinkPad Helix",null,"Available","Laptop","2013-05-10","1,455.00","14-15032","TWOTREES","Helix","Lenovo",null,"843a4b0f0d10","2017/2018",{"$nulls":6},"2014-11-03","Laptop was damaged beyond repair. Taking it out of inventory. NH",null,"36984LU",{"$nulls":3},"01/15/2019 09:21 AM","Ted Meyer"]
["47006","36379740952","District Storage","CO 216","Microsoft Surface 2",null,"Available","Laptop",{"$nulls":4},"Surface 2 RT","Microsoft",{"$nulls":16},"01/15/2019 09:21 AM","Ted Meyer"]
["45098","SR9YTVAV","District Storage","CO 216","Lenovo ThinkPad Helix",null,"Available","Laptop","2013-05-10","1,455.00","14-15032","TWOTREES","Helix","Lenovo",null,"843a4b0aee90","2017/2018",{"$nulls":9},"36984LU",{"$nulls":3},"01/15/2019 09:21 AM","Ted Meyer"]
["44816","70508143453","District Storage","CO 216","Microsoft Surface Pro 3",null,"Available","Laptop","2014-07-21","904.02","15-19513","Microsoft Corporation","Surface Pro 3","Microsoft",null,"501ac5f6b951",null,null,"24486-6411",{"$nulls":3},"cover: S/N 039016242854",{"$nulls":7},"01/15/2019 09:21 AM","Ted Meyer"]
["47164","MP08FELD","District Storage","CO 216","Lenovo ThinkPad Yoga 12 (Core i5-5200U, 8GB, 128GB SSD)",null,"Available","Laptop","2015-07-06","1,174.00","16-30425","TWOTREES","Yoga 12","Lenovo",null,"6057186e6199","2019/2020",{"$nulls":9},"20DKS1LQ00",{"$nulls":3},"01/15/2019 09:35 AM","Ted Meyer"]
["51262","LR09EB3P","District Storage","CO 216","Lenovo ThinkPad 11e",null,"Available","Laptop","2017-06-15","456.90","18-50158","STAPLES","11e","Lenovo",null,"e442a6a41a7d","2021/2022",null,"27871-6412",{"$nulls":3},"EXTENDED SERVICE AGREEMENT PARTS AND LABOR 3 YEAR PICK UP AND RETURN TOPSELLER SERVICE @$55.00",{"$nulls":3},"20GB001HUS",{"$nulls":3},"01/15/2019 09:46 AM","Ted Meyer"]
["47348","MP08JT37","District Storage","CO 216","Lenovo ThinkPad Yoga 12 (Core i5-5200U, 8GB, 128GB SSD)",null,"Available","Laptop","2015-07-06","1,174.00","16-30425","TWOTREES","Yoga 12","Lenovo","Shelly Fiedler","5ce0c5c79c96","2019/2020",{"$nulls":5},"Camera is not working.  just flashing.",{"$nulls":3},"20DKS1LQ00",{"$nulls":3},"01/15/2019 09:46 AM","Ted Meyer"]
["51333","LR09EAYB","District Storage","CO 216","Lenovo ThinkPad 11e",null,"Available","Laptop","2017-06-15","456.90","18-50158","STAPLES","11e","Lenovo",null,"e442a6a409b1","2021/2022",null,"27871-6412",{"$nulls":3},"EXTENDED SERVICE AGREEMENT PARTS AND LABOR 3 YEAR PICK UP AND RETURN TOPSELLER SERVICE @$55.00",{"$nulls":3},"20GB001HUS",{"$nulls":3},"01/15/2019 09:46 AM","Ted Meyer"]
["49202","LR05U2KZ","District Storage","CO 216","Lenovo ThinkPad 11e",null,"Available","Laptop","2016-07-13","357.00","17-36572","PROTECH COMPUTER SYSTEMS INC7100 N BROADWAY 3-CDENVER, CO 80221","11e","Lenovo",null,"484520f197ad","2020/2021",null,"27871-6541",{"$nulls":3},"$53.00 WARRANTY TSS 3 YR DEPOT UPGRADE",{"$nulls":3},"20GBS00000",{"$nulls":3},"01/15/2019 10:39 AM","Ted Meyer"]
["47345","MP08KW1E","District Storage","CO 216","Lenovo ThinkPad Yoga 12 (Core i5-5200U, 8GB, 128GB SSD)",null,"Available","Laptop","2015-07-06","1,174.00","16-30425","TWOTREES","Yoga 12","Lenovo",null,"4c3488057f35","2019/2020",{"$nulls":9},"20DKS1LQ00",{"$nulls":3},"01/15/2019 10:39 AM","Ted Meyer"]
["46898","SLR03ZUXB","District Storage","CO 216","Lenovo ThinkPad 11e",null,"Available","Laptop","2015-07-06","473.00","16-30271","TwoTrees Technology","11e","Lenovo",null,"104a7d6e6a4f","2019/2020",null,"27872-6541",{"$nulls":7},"20DAS0VX00",{"$nulls":3},"01/15/2019 10:39 AM","Ted Meyer"]
["47146","MP08FESJ","District Storage","CO 216","Lenovo ThinkPad Yoga 12 (Core i5-5200U, 8GB, 128GB SSD)",null,"Available","Laptop","2015-07-06","1,174.00","16-30425","TWOTREES","Yoga 12","Lenovo",null,"6057186e64fa","2019/2020",{"$nulls":9},"20DKS1LQ00",{"$nulls":3},"01/15/2019 10:39 AM","Ted Meyer"]
["46010","3839542853","District Storage","CO 216","Microsoft Surface Pro 3",null,"Available","Laptop","2014-07-21","904.46","15-18827","Microsoft Corporation","Surface Pro 3","Microsoft",null,"3059b7162e8a",null,null,"27870-6541",{"$nulls":11},"01/15/2019 10:39 AM","Ted Meyer"]
["44950","50749342753","District Storage","CO 216","Microsoft Surface Pro 3",null,"Available","Laptop","2014-07-21","904.46","15-18827","Microsoft Corporation","Surface Pro 3","Microsoft",null,"3059b71624a0",null,null,"27870-6541",{"$nulls":11},"01/15/2019 10:39 AM","Ted Meyer"]
["44953","50877142753","District Storage","CO 216","Microsoft Surface Pro 3",null,"Available","Laptop","2014-07-21","904.46","15-18827","Microsoft Corporation","Surface Pro 3","Microsoft",null,"3059b715f71a",null,null,"27870-6541",{"$nulls":11},"01/15/2019 10:39 AM","Ted Meyer"]
["46766","SLR03ZUNT","District Storage","CO 216","Lenovo ThinkPad 11e",null,"Available","Laptop",{"$nulls":4},"11e","Lenovo",null,"104a7d35b9e8","UnKnown",null,"27872-6541",{"$nulls":7},"20DAS0VX00",{"$nulls":3},"01/15/2019 08:34 AM","Ted Meyer"]
["46002","R9ZYL24","District Storage","CO 216","Lenovo ThinkPad Helix",null,"Available","Laptop","2013-07-15","1,515.00","14-15330","TWOTREES","Helix","Lenovo",null,"843a4bc93dec",{"$nulls":10},"36984LU",{"$nulls":3},"01/15/2019 08:40 AM","Ted Meyer"]
["45138","SR9YTTFK","District Storage","CO 216","Lenovo ThinkPad Helix",null,"Available","Laptop","2013-05-10","1,455.00","14-15032","TWOTREES","Helix","Lenovo",null,"843a4b0acd40",{"$nulls":10},"36984LU",{"$nulls":3},"01/15/2019 09:52 AM","Ted Meyer"]
["43127","R9PMCWY","District Storage","CO 216","Lenovo ThinkPad x220 Tablet Laptop",null,"Available","Laptop","2012-07-11","1,550.00","13-10354","Two Trees","X220","Lenovo",null,"8c705a7a33c8","2016/2017",null,"27870-6541",{"$nulls":7},"42963MU",{"$nulls":3},"01/15/2019 10:39 AM","Ted Meyer"]
["45175","R9YTT41","District Storage","CO 216","Lenovo ThinkPad Helix",null,"Available","Laptop","2013-05-10","1,455.00","14-15032","TWOTREES","Helix","Lenovo",null,"843a4b454384","2017/2018",{"$nulls":9},"36984LU",{"$nulls":3},"01/15/2019 10:07 AM","Ted Meyer"]
["45496","PB7HCN1","District Storage","CO 216","Lenovo ThinkPad X131e",null,"Available","Laptop","2013-05-20","508.00","13-13931","Two Trees","X131e","Lenovo",null,"f4b7e2d28b75","2017/2018",null,"27870-6541",{"$nulls":11},"01/15/2019 09:52 AM","Ted Meyer"]
["49249","LR05U2QF","District Storage","CO 216","Lenovo ThinkPad 11e",null,"Available","Laptop","2016-07-13","357.00","17-36572","PROTECH COMPUTER SYSTEMS INC7100 N BROADWAY 3-CDENVER, CO 80221","11e","Lenovo",null,"484520f1bb52","2020/2021",null,"27872-6541",{"$nulls":3},"$53.00 WARRANTY TSS 3 YR DEPOT UPGRADE",{"$nulls":3},"20GBS00000",{"$nulls":3},"01/15/2019 10:00 AM","Ted Meyer"]
["49010","LR04XFZP","District Storage","CO 216","Lenovo ThinkPad 11e",null,"Available","Laptop","2016-05-31","392.47","16-34768","ITSAVVY","11e","Lenovo",null,"1002b5c5e856","2020/2021",null,"32042-6542",{"$nulls":3},"14897329 3YR EXTENDED WARRANTY $69.86",{"$nulls":3},"20GBS00000",{"$nulls":3},"01/15/2019 10:00 AM","Ted Meyer"]
["45212","SR9YTTG1","District Storage","CO 216","Lenovo ThinkPad Helix",null,"Available","Laptop","2013-05-10","1,455.00","14-15032","TWOTREES","Helix","Lenovo",null,"843a4b4542a0",{"$nulls":10},"36984LU",{"$nulls":3},"01/15/2019 10:07 AM","Ted Meyer"]
["45104","3698-4LU-R9-YTVAH","District Storage","CO 216","Lenovo ThinkPad Helix",null,"Available","Laptop","2013-05-10","1,455.00","14-15032","TWOTREES","Helix","Lenovo",null,"843a4b4531f4",{"$nulls":10},"36984LU",{"$nulls":3},"01/15/2019 09:59 AM","Ted Meyer"]
["49082","LR04X1YG","District Storage","CO 216","Lenovo ThinkPad 11e",null,"Available","Laptop","2016-06-01","374.00","17-36124","TWOTREES TECHNOLOGY LLC","11e","Lenovo",null,"1002b58e4360","2020/2021",null,"39038-65421",{"$nulls":3},"5WSOE8461 3YR EXTENDED WARRANTY $53.00",{"$nulls":3},"20GBS00000",{"$nulls":3},"01/15/2019 09:53 AM","Ted Meyer"]
["45819","PB6AC2L","District Storage","CO 216","Lenovo ThinkPad USB 3.0 Dock",null,"Available","Dock","2013-05-10","135.00","14-15032","TWOTREES","DU9019D1","Lenovo",null,"843a4b0edbdc",{"$nulls":14},"01/15/2019 10:39 AM","Ted Meyer"]
["47791","8SSD20J15527LP507285610","District Storage","CO 216","Lenovo ThinkPad Onelink Pro Dock for Thinkpad Yoga",null,"Available","Dock",{"$nulls":4},"DU9033S1","Lenovo",{"$nulls":16},"01/15/2019 10:39 AM","Ted Meyer"]
["39224","D901072","District Storage","CO 216","Anchor - 30-Watt Powered Speaker",null,"Available","Speaker","2009-08-11","167.45","10-34113","Long's Electronics","AN-130","Anchor",{"$nulls":4},"27870-6541",{"$nulls":10},"Technology","01/15/2019 09:21 AM","Ted Meyer"]
["52493","LR0A3PSQ","District Storage","CO 216","Lenovo N23 Chromebook",null,"Available","Chromebook","2018-01-17","270.32","18-53260","SoftChoice","N23 Touch","Lenovo",null,"1c4d7047fe37","2022/2023",null,"See Below",null,null,"Building Budget","26606--6412 CC Camp Ignite  24932-6412 CC Boeing Grant   26626-6412 CC Soda Fund - Purchased to pilot Chrombooks at the elementary level.",{"$nulls":3},"81MC001EUS",null,null,"Technology","01/15/2019 08:38 AM","Ted Meyer"]
["53250","DMPX36VLJF8J","Crestwood Elementary","005B","Apple iPad 32GB WIFI (6th Gen)",null,"Available","iPad","2018-08-06","294.00","19-54900","Apple","MR7F2LL/A","Apple","Beth Bridwell","5499637d7211","2022/2023",null,"TE Paid",{"$nulls":7},"A1893","Issued for Virtual Learning - COVID-19",null,"Kindergarten","01/15/2019 08:40 AM","Ted Meyer"]
["52243","1367682","Crestwood Elementary","005B","ELMO TT-12iD Document Camera",null,"Available","Document Camera","2017-10-27","584.61","18-52238","ITsavvy","TT-12iD","ELMO",{"$nulls":4},"27871-6412",{"$nulls":10},"ELL","01/15/2019 08:34 AM","Ted Meyer"]
["52379","06TN3CGK600556","Crestwood Elementary","005B","Samsung 50\" Smart TV",null,"Available","TV","2018-06-27","436.03","18-55499","ITsavvy","UN50M5300AFXZA","Samsung",null,null,"2022/2023",null,"27871-6412",{"$nulls":10},"ELL","01/15/2019 08:35 AM","Ted Meyer"]
["48026","DMPL1CMHF182","Crestwood Elementary","005B","Apple iPad 16GB WIFI (4th Gen)",null,"Available","iPad","2016-02-09","499.00","14-15269","Apple","MD510LL/A","Apple","Beth Bridwell","a888088a0f1b","2020/2021",null,"27870-6541",{"$nulls":7},"A1458",null,null,"ELL","01/15/2019 08:34 AM","Ted Meyer"]
["42852","DMPHNCMMDJ8T","Crestwood Elementary","005B","Apple iPad 16GB WIFI (3rd Gen)",null,"Available","iPad","2012-05-07","479.00","12-40102","Apple","MD339LL/A","Apple","Beth Bridwell","64200c68c121",null,null,"31213-6541",{"$nulls":3},"Keep for Sappington ELL per Rathjen",{"$nulls":3},"A1416",null,null,"ELL","01/15/2019 08:34 AM","Ted Meyer"]
["46279","514082","Crestwood Elementary","005B","ELMO TT-02RX Document Camera",null,"Available","Document Camera",{"$nulls":4},"TT-02RX","ELMO","Beth Bridwell",{"$nulls":14},"ELL","01/15/2019 10:07 AM","Ted Meyer"]
["38975","MJ60732","District Storage","TR 020","Lenovo ThinkCentre M58",null,"Available","Desktop","2009-06-19","505.00","10-33827","Lenovo","M58","Lenovo",null,null,"2013/2014",null,"27870-6541",{"$nulls":11},"01/15/2019 09:59 AM","Ted Meyer"]
["41836","PB44H7X","District Storage","TR 020","Lenovo ThinkPad X131e",null,"Available","Laptop","2012-11-27","715.00","13-12007","TwoTrees","X131e","Lenovo",null,"083e8eaf1645",null,null,"31590-6542",{"$nulls":11},"01/15/2019 10:07 AM","Ted Meyer"]
["42746","LR5ZMHF","District Storage","TR 020","Lenovo ThinkPad X130e",null,"Available","Laptop","2012-05-18","573.00","12-40254","Two Trees","X130e","Lenovo","CRTLAB-10","7ce9d3ee07b3","2016/2017",null,"27870-6541",{"$nulls":11},"01/15/2019 10:07 AM","Ted Meyer"]
["42604","LR6PYAY","District Storage","TR 020","Lenovo ThinkPad X130e",null,"Available","Laptop","2012-05-18","573.00","12-40254","Two Trees","X130e","Lenovo","CR-MLA-19","7ce9d3eecc66",null,null,"27870-6541",{"$nulls":11},"01/15/2019 08:34 AM","Ted Meyer"]
["38187","L3AGM2R","District Storage","TR 020","Lenovo ThinkPad x200T Tablet Laptop",null,"Available","Laptop","2009-06-05","1,569.00","10-33737","Lenovo","x200t","Lenovo","ATSLAP-03",{"$nulls":3},"27870-6541",{"$nulls":11},"01/15/2019 10:18 AM","Ted Meyer"]
["39985","R9-4P802","District Storage","TR 020","Lenovo ThinkPad x201T Tablet Laptop",null,"Available","Laptop","2010-05-25","1,724.00","11-35514","Lenovo","x201T","Lenovo","ATSLAP-04",{"$nulls":3},"27870-6541",{"$nulls":11},"01/15/2019 10:18 AM","Ted Meyer"]
["39931","R9-4P7ZY","District Storage","TR 020","Lenovo ThinkPad x201T Tablet Laptop",null,"Available","Laptop","2010-05-25","1,724.00","11-35514","Lenovo","x201T","Lenovo","SA-CUSTODIAN",{"$nulls":3},"27870-6541",{"$nulls":11},"01/15/2019 09:45 AM","Ted Meyer"]
["47213","PC06CTBQ","District Storage","TR 020","Lenovo ThinkPad Onelink Pro Dock for Thinkpad Yoga",null,"Available","Dock","2015-07-06","132.00","16-30425","TWOTREES","DU9033S1","Lenovo",{"$nulls":15},"5th Grade","01/15/2019 08:34 AM","Ted Meyer"]
["42000","MRKF072073L","District Storage","TR 020","Epson Brightlink 455Wi Projector",null,"Available","Projector",{"$nulls":4},"Brightlink 455Wi","Epson",null,null,"UnKnown",null,null,"Filter","2017-08-15",{"$nulls":8},"4th Grade","01/15/2019 08:37 AM","Ted Meyer"]
["47047","MP08HSBF","District Storage","CO 216","Lenovo ThinkPad Yoga 12 (Core i5-5200U, 8GB, 128GB SSD)",null,"Available","Laptop","2015-07-06","1,174.00","16-30425","TWOTREES","Yoga 12","Lenovo",null,"34028695b6d6","2019/2020",{"$nulls":9},"20DKS1LQ00",null,null,"PE","01/15/2019 09:35 AM","Ted Meyer"]
["49788","MP144NRA","District Storage","CO 216","Lenovo ThinkPad Yoga 260 (Core i5-6300U, 8GB, 256GB)",null,"Available","Laptop","2017-03-27","1,234.90","17-39996","ITsavvy LLC","Yoga 260","Lenovo",null,"e4a4716a93b6","2021/2022",null,"27870-6541",{"$nulls":3},"400-2331-6543-824-000-000",{"$nulls":3},"20FD002DUS",null,null,"Social Studies","01/15/2019 10:00 AM","Ted Meyer"]
["49779","MP145CM3","District Storage","CO 216","Lenovo ThinkPad Yoga 260 (Core i5-6300U, 8GB, 256GB)",null,"Available","Laptop","2017-03-27","1,234.90","17-39996","ITsavvy LLC","Yoga 260","Lenovo",null,"e4b318d692c8","2021/2022",null,"27870-6541",{"$nulls":3},"400-2331-6543-824-000-000",{"$nulls":3},"20FD002DUS",null,null,"English","01/15/2019 10:00 AM","Ted Meyer"]
["49562","MP14DVHN","District Storage","CO 216","Lenovo ThinkPad Yoga 260 (Core i5-6300U, 8GB, 256GB)",null,"Available","Laptop","2017-03-27","1,234.90","17-39996","ITsavvy LLC","Yoga 260","Lenovo",null,"e4b3189272f0","2021/2022",null,"27870-6541",{"$nulls":3},"400-2331-6543-824-000-000",{"$nulls":3},"20FD002DUS",null,null,"Math","01/15/2019 09:53 AM","Ted Meyer"]
["46403","SLR03U1UD","District Storage","CO 216","Lenovo ThinkPad 11e",null,"Available","Laptop","2015-05-20","473.00","15-22831","TwoTrees Technologies, LLC","11e","Lenovo",null,"104a7d1aae82","2019/2020",null,"3069-6542",{"$nulls":7},"20DAS0VX00",null,null,"LEAP","01/15/2019 09:52 AM","Ted Meyer"]
["47326","MP08HSXZ","District Storage","CO 216","Lenovo ThinkPad Yoga 12 (Core i5-5200U, 8GB, 128GB SSD)",null,"Available","Laptop","2015-07-06","1,174.00","16-30425","TWOTREES","Yoga 12","Lenovo",null,"34028695a5ec","2019/2020",{"$nulls":9},"20DKS1LQ00",null,null,"Drama","01/15/2019 08:40 AM","Ted Meyer"]
["49782","MP14DVJG","District Storage","CO 216","Lenovo ThinkPad Yoga 260 (Core i5-6300U, 8GB, 256GB)",null,"Available","Laptop","2017-03-27","1,234.90","17-39996","ITsavvy LLC","Yoga 260","Lenovo","LOANER-49782","e4b3189271dd","2021/2022",null,"27870-6541",{"$nulls":3},"400-2331-6543-824-000-000",{"$nulls":3},"20FD002DUS",null,null,"Family and Consumer Science","01/15/2019 10:00 AM","Ted Meyer"]
["47086","MP08FEWZ","District Storage","CO 216","Lenovo ThinkPad Yoga 12 (Core i5-5200U, 8GB, 128GB SSD)",null,"Available","Laptop","2015-07-06","1,174.00","16-30425","TWOTREES","Yoga 12","Lenovo",null,"605718a9fff1","2019/2020",{"$nulls":9},"20DKS1LQ00",null,null,"TECHNOLOGY STG","01/15/2019 09:35 AM","Ted Meyer"]
["38161","L3AG29K","District Storage","TR 020","Lenovo ThinkPad x200T Tablet Laptop",null,"Available","Laptop","2009-06-05","1,569.00","10-33737","Lenovo","x200t","Lenovo",null,"001e6519bd2c",null,null,"27870-6541",{"$nulls":10},"TECHNOLOGY STG","01/15/2019 09:34 AM","Ted Meyer"]
["37801","8700457EH","District Storage","CO 216","NEC VT491 Projector",null,"Available","Projector","2008-08-05","545.00","09-32121","CDWG","VT491","NEC",null,null,"2012/2013",null,"27870-6541",{"$nulls":3},"Cost split w/ C&amp;amp;I Dept.",{"$nulls":6},"Technology","01/15/2019 10:39 AM","Ted Meyer"]
["46892","LR-03ZUY0","District Storage","CO 216","Lenovo ThinkPad 11e",null,"Available","Laptop","2015-07-06","473.00","16-30271","TwoTrees","11e","Lenovo",null,"104a7d6ee650","2019/2020",null,"27872-6541",{"$nulls":7},"20DAS0VX00",null,null,"2nd Grade","01/15/2019 08:37 AM","Ted Meyer"]
["47065","MP08HS4P","District Storage","CO 216","Lenovo ThinkPad Yoga 12 (Core i5-5200U, 8GB, 128GB SSD)",null,"Available","Laptop","2015-07-06","1,174.00","16-30425","TWOTREES","Yoga 12","Lenovo",null,"6057186e6356","2019/2020",{"$nulls":9},"20DKS1LQ00",null,null,"Kindergarten","01/15/2019 08:34 AM","Ted Meyer"]
["48531","PB01FPNH","District Storage","CO 216","Lenovo ThinkPad x140e",null,"Available","Laptop","2014-05-23","468.00","14-19284","TwoTrees","X140e","Lenovo",null,"b8ee6504b967","2018/2019",null,"30690-6542",{"$nulls":10},"PEGS","01/15/2019 09:04 AM","Ted Meyer"]
["49547","MP14DXHR","District Storage","CO 216","Lenovo ThinkPad Yoga 260 (Core i5-6300U, 8GB, 256GB)",null,"Available","Laptop","2017-03-27","1,234.90","17-39996","ITsavvy LLC","Yoga 260","Lenovo",null,"e4b318927200","2021/2022",null,"27870-6541",{"$nulls":3},"400-2331-6543-824-000-000",{"$nulls":3},"20FD002DUS",null,null,"Administration","01/15/2019 09:21 AM","Ted Meyer"]
["49585","MP145E6G","District Storage","CO 216","Lenovo ThinkPad Yoga 260 (Core i5-6300U, 8GB, 256GB)",null,"Available","Laptop","2017-03-27","1,234.90","17-39996","ITsavvy LLC","Yoga 260","Lenovo",null,"e4b318d5b051","2021/2022",null,"27870-6541",{"$nulls":3},"400-2331-6543-824-000-000",{"$nulls":3},"20FD002DUS",null,null,"Principal","01/15/2019 09:53 AM","Ted Meyer"]
["47219","PC06CWKL","District Storage","TR 020","Lenovo ThinkPad Onelink Pro Dock for Thinkpad Yoga",null,"Available","Dock","2015-07-06","132.00","16-30425","TWOTREES","DU9033S1","Lenovo",{"$nulls":15},"4th Grade","01/15/2019 08:34 AM","Ted Meyer"]
["42479",null,"District Storage","TR 020","Epson Brightlink 450Wi Projector",null,"Available","Projector",{"$nulls":4},"Brightlink 450Wi","Epson",null,null,"UnKnown",{"$nulls":13},"01/15/2019 08:34 AM","Ted Meyer"]
["54286","X28B7Z0214L","District Storage","TR 020","Epson Brighlink 695Wi Projector",null,"Available","Projector","2018-10-15","1,640.63","19-56144","Itsavvy","Brightlink 695Wi","Epson",null,null,"2022/2023",null,"TE PD",{"$nulls":11},"01/15/2019 10:00 AM","Ted Meyer"]
["44129","MRKF060582L","District Storage","TR 020","Epson Brightlink 450Wi Projector",null,"Available","Projector","2010-05-03","1,649.32","10-35375","Florida Micro","Brightlink 450Wi","Epson",{"$nulls":3},"10.6.19.114","27870-6541","Filter","2018-08-01",null,"V11H317020-1",{"$nulls":7},"01/15/2019 10:00 AM","Ted Meyer"]
["42968",null,"District Storage","TR 020","Epson Projector",null,"Available","Projector",{"$nulls":5},"Epson",null,null,"UnKnown","10.5.19.20",null,"Filter","2018-08-01",{"$nulls":9},"01/15/2019 10:00 AM","Ted Meyer"]
["47535","UHHK5502285","District Storage","TR 020","Epson Brightlink 595Wi Projector",null,"Available","Projector","2015-10-30","1,704.99","16-32145","ITsavvy","Brightlink 595Wi","Epson",null,null,"2019/2020",null,"27870-6541","Filter","2017-08-15",{"$nulls":9},"01/15/2019 10:07 AM","Ted Meyer"]
["42412","PC7F111878L","District Storage","TR 020","Epson Brightlink 455Wi Projector",null,"Available","Projector",{"$nulls":4},"Brightlink 455Wi","Epson",null,null,"UnKnown",null,null,"Filter","2017-01-19",{"$nulls":9},"01/15/2019 09:59 AM","Ted Meyer"]
["41990","PC7F141927L","District Storage","TR 020","Epson Brightlink 455Wi Projector",null,"Available","Projector",{"$nulls":4},"Brightlink 455Wi","Epson",null,"a4ee57750fb5","UnKnown",{"$nulls":13},"01/15/2019 08:34 AM","Ted Meyer"]
["44987","MRKF081369L","District Storage","TR 020","Epson Brightlink 450Wi Projector",null,"Available","Projector","2015-01-30","0.00","N/A","Epson","Brightlink 450Wi","Epson",null,null,"2019/2020",null,null,"Filter","2016-03-15",null,"Refurbished",null,null,"Removed from Sappington 048",{"$nulls":4},"01/15/2019 09:46 AM","Ted Meyer"]
["54315","X28C8601590","District Storage","TR 020","Epson Brighlink 695Wi Projector",null,"Available","Projector","2018-10-15","1,640.63","19-56144","Itsavvy","Brightlink 695Wi","Epson",null,null,"2022/2023",null,"TE PD",{"$nulls":11},"01/15/2019 10:00 AM","Ted Meyer"]
["54318",null,"District Storage","TR 020","Epson Brighlink 695Wi Projector",null,"Available","Projector","2018-10-15","1,640.63","19-56144","Itsavvy","Brightlink 695Wi","Epson",null,null,"2022/2023",null,"TE PD",{"$nulls":11},"01/15/2019 10:00 AM","Ted Meyer"]
["54319",null,"District Storage","TR 020","Epson Brighlink 695Wi Projector",null,"Available","Projector","2018-10-15","1,640.63","19-56144","Itsavvy","Brightlink 695Wi","Epson",null,null,"2022/2023",null,"TE PD",{"$nulls":11},"01/15/2019 10:00 AM","Ted Meyer"]
["30303","G31C11581","District Storage","TR 020","Panasonic 4 Head HI-FI Stereo Video Cassette Recorder",null,"Available","VCR","2003-12-17","68.00","04-22738","TECH DEPOT (OFFICE DEPOT)","PV-V4523S","Panasonic",null,null,"2007/2008",null,"25538-6461",{"$nulls":11},"01/15/2019 09:45 AM","Ted Meyer"]
["31657","G31D20773","District Storage","TR 020","Panasonic 4 Head HI-FI Stereo Video Cassette Recorder",null,"Available","VCR","2003-12-17","68.00","04-22738","TECH DEPOT (OFFICE DEPOT)","PV-V4523S","Panasonic",null,null,"2007/2008",null,"27870-6541",{"$nulls":11},"01/15/2019 09:59 AM","Ted Meyer"]
["SA00004",null,"District Storage","TR 020","LCD TV BOX W/REMOTE",null,"Available","Tvator",{"$nulls":8},"UnKnown",{"$nulls":8},"Removed from Sappington",{"$nulls":4},"01/15/2019 09:45 AM","Ted Meyer"]
["29547","212321","District Storage","TR 020","Eiki Aidio Cassette Tape Recorder/Player With CD Player",null,"Available","Tape Recorder","2003-06-03","194.49","04-20413","CSD (PYRAMID SCH PDTS)","7070A","Eiki",null,null,"2007/2008",null,"29620-6542",{"$nulls":11},"01/15/2019 09:59 AM","Ted Meyer"]
["26703","182283","District Storage","TR 020","Eiki Audio Visual Cassette Tape Recorder",null,"Available","Tape Recorder","2001-05-25","63.04","14172","CSD (W.Schiller & Co.)","3279A","Eiki",null,null,"2005/2006",{"$nulls":13},"01/15/2019 09:59 AM","Ted Meyer"]
["17574","244573","District Storage","TR 020","Eiki Aidio Cassette Tape Recorder/Player With CD Player",null,"Available","Tape Recorder","2005-06-05","192.31","06-24871","CSD (W. SCHILLER & CO)","7070A","Eiki",null,null,"2009/2010",{"$nulls":13},"01/15/2019 09:59 AM","Ted Meyer"]
["39687",null,"District Storage","TR 020","Anchor - 30-Watt Powered Speaker",null,"Available","Speaker","2007-12-28","169.95","08-30700","LONG ELECTRONICS","AN-130","Anchor",{"$nulls":4},"27870-6541",{"$nulls":11},"01/15/2019 09:21 AM","Ted Meyer"]
["38408",null,"District Storage","TR 020","Lenovo Thinkpad X220 Ultrabase Base",null,"Available","Docking Station",{"$nulls":4},"x200 Ultrabase","Lenovo","TR231-01",{"$nulls":10},"Key# G73",{"$nulls":4},"01/15/2019 10:07 AM","Ted Meyer"]
["48588","PB024989","District Storage","TR 020","Lenovo ThinkPad x140e",null,"Available","Laptop","2014-06-05","434.00","15-18339","TwoTrees","X140e","Lenovo","HSACAD-12","b8ee65d2e293","2018/2019",null,"27870-6541",{"$nulls":10},"Academy","01/15/2019 09:21 AM","Ted Meyer"]
["47384",null,"District Storage","TR 020","Lenovo ThinkPad Onelink Pro Dock for Thinkpad Yoga",null,"Available","Dock",{"$nulls":4},"DU9033S1","Lenovo",null,null,"UnKnown",{"$nulls":12},"Speech","01/15/2019 09:46 AM","Ted Meyer"]
["46988","PC04W2Z8","District Storage","TR 020","Lenovo ThinkPad Onelink Pro Dock for Thinkpad Yoga",null,"Available","Dock","2015-07-06","132.00","16-30425","TwoTrees","DU9033S1","Lenovo","Concord Library 1",{"$nulls":14},"TECHNOLOGY STG","01/15/2019 08:37 AM","Ted Meyer"]
["47324","PC06DDJT","District Storage","TR 020","Lenovo ThinkPad Onelink Pro Dock for Thinkpad Yoga",null,"Available","Dock","2015-07-06","132.00","16-30425","TWOTREES","DU9033S1","Lenovo",null,null,"2019/2020",{"$nulls":8},"Removed from SA 017",{"$nulls":3},"TECHNOLOGY STG","01/15/2019 09:46 AM","Ted Meyer"]
["42866","LR0LHPX","District Storage","TR 020","Lenovo ThinkPad X130e",null,"Available","Laptop","2012-05-18","573.00","12-40254","Two Trees","X130e","Lenovo",null,"9cb70d1ffbf6",null,null,"27870-6541",{"$nulls":10},"LEAP","01/15/2019 09:59 AM","Ted Meyer"]
["42321","PC7F0Z1927L","District Storage","TR 020","Epson Brightlink 455Wi Projector",null,"Available","Projector",{"$nulls":4},"Brightlink 455Wi","Epson",null,null,"UnKnown",null,null,"Filter","2018-08-16",{"$nulls":8},"TECHNOLOGY STG","01/15/2019 09:34 AM","Ted Meyer"]
["25634","C05A27227","District Storage","TR 020","Panasonic HI-FI Stereo 4 Head Video Cassette Tape Recorder",null,"Available","VCR","2000-12-20","125.00","13656","CSD (W. Schiller & Co.)","PV-V4540","Panasonic","Removed from CR 029",{"$nulls":3},"29550-6542",{"$nulls":10},"Art","01/15/2019 08:34 AM","Ted Meyer"]
["47751","V47F570072L","District Storage","TR 020","Epson Brightlink Pro 1430Wi Projector",null,"Available","Projector","2015-09-23","2,231.87","16-31549","ITsavvy","Brightlink 1430Wi","Epson","Andrew Edwards",null,"2019/2020","10.0.19.112","39038-65422","Filter","2016-03-23",null,"Purchased with Prop G HS Technology funds.",{"$nulls":6},"Science","01/15/2019 09:21 AM","Ted Meyer"]
["48357","MRKF060595L","District Storage","TR 020","Epson Brightlink 450Wi Projector",null,"Available","Projector",{"$nulls":4},"Brightlink 450Wi","Epson","Roxanne O",null,"UnKnown","10.0.19.109",null,"Filter","2016-03-23",{"$nulls":8},"Science","01/15/2019 09:21 AM","Ted Meyer"]
["48381",null,"District Storage","TR 020","Epson Brightlink 450Wi Projector",null,"Available","Projector","2010-05-03","1,649.32","10-35424","Florida Micro","Brightlink 450Wi","Epson",{"$nulls":4},"27870-6541","Filter","2018-03-07",null,"V11H317020-1",{"$nulls":6},"Science","01/15/2019 09:52 AM","Ted Meyer"]
["48868","PB0248YM","District Storage","TR 020","Lenovo ThinkPad x140e",null,"Available","Laptop","2014-06-05","434.00","15-18339","TwoTrees","X140e","Lenovo","HSSCML2-14","b8ee65d2dbe8","2018/2019",null,"27870-6541",{"$nulls":10},"Science","01/15/2019 09:21 AM","Ted Meyer"]
["48869","PB0248XL","District Storage","TR 020","Lenovo ThinkPad x140e",null,"Available","Laptop","2014-06-05","434.00","15-18339","TwoTrees","X140e","Lenovo","HSSCML2-15","b8ee65d2eff8","2018/2019",null,"27870-6541",{"$nulls":10},"Science","01/15/2019 09:21 AM","Ted Meyer"]
["44014","PB024TKV","District Storage","TR 020","Lenovo ThinkPad x140e",null,"Available","Laptop","2014-06-05","434.00","15-18339","TwoTrees","X140e","Lenovo","HSSSML2-27","b8ee65d2d7c8","2018/2019",null,"27870-6541",{"$nulls":10},"Social Studies","01/15/2019 09:21 AM","Ted Meyer"]
["45584","PB7HCN6","District Storage","TR 020","Lenovo ThinkPad X131e",null,"Available","Laptop","2013-05-20","508.00","13-13931","Two Trees","X131e","Lenovo","HSSSML3-13","f4b7e2d28bd5","2017/2018",null,"27870-6541",{"$nulls":10},"Social Studies","01/15/2019 09:21 AM","Ted Meyer"]
["43625","DMPJ966WDJ8T","District Storage","TR 020","Apple iPad 16GB WIFI (3rd Gen)",null,"Available","iPad","2012-08-22","479.00","13-10778","Apple","MC705LL/A","Apple",null,"d8004ddc0294","2016/2017",null,"27870-6541",{"$nulls":3},"iPad",{"$nulls":3},"A1416",null,null,"Reading","01/15/2019 09:04 AM","Ted Meyer"]
["41965","RF2CB0KGD7X","District Storage","TR 020","Samsung Galaxy Tab II  7inch 8GB",null,"Available","Tablet","2012-11-21","181.00","13-11987","Two Trees","GT-P3113","Samsung","HSLIBTAB-08","845181a8b0c5",null,null,"27870-6541",{"$nulls":10},"Library","01/15/2019 09:21 AM","Ted Meyer"]
["36319","7700373EG","District Storage","TR 020","NEC VT49 Video Projector",null,"Available","Projector","2007-09-05","540.00","08-29976","CDWG","VT49","NEC",{"$nulls":4},"27870-6541",{"$nulls":10},"Library","01/15/2019 10:06 AM","Ted Meyer"]
["39195","9501428EJ","District Storage","TR 020","NEC NP300 Projector",null,"Available","Projector",{"$nulls":4},"NP300","NEC",null,null,"UnKnown",{"$nulls":12},"Library","01/15/2019 09:59 AM","Ted Meyer"]
["54264","X28C8601892","Crestwood Elementary","005C","Epson Brighlink 695Wi Projector",null,"Available","Projector","2018-10-15","1,640.63","19-56144","Itsavvy","Brightlink 695Wi","Epson",null,null,"2022/2023",null,"TE PD",{"$nulls":11},"01/15/2019 10:00 AM","Ted Meyer"]
["53224","07CV3CBK601770B","Lindbergh High School","356","Samsung 75\" Class 7 Series LED TV",null,"Available","TV","2018-08-02","1,799.99","19-54847","Amazon","UN75NU7100FXZA","Samsung",null,null,"2022/2023",null,"Prop G",{"$nulls":3},"Prop G",{"$nulls":7},"01/15/2019 09:22 AM","Ted Meyer"]
["53288","07CV3CBK704050","Lindbergh High School","356","Samsung 75\" Smart TV",null,"Available","TV","2018-08-21","1,699.99","19-55323","Best Buy","UN75NU7100FXZA","Samsung","Testing Room - Old Central Office",null,"2022/2023",null,"Prop G",{"$nulls":10},"Testing Room","01/15/2019 09:22 AM","Ted Meyer"]
["49137","SG66GPR2BM","Concord Elementary","Data - 004","HP 5406R Switch",null,"Available","Switch","2016-07-01","3,090.00","17-36029","WJR Technologies","JL003A","HP",{"$nulls":4},"39038-65421",null,null,"E-Rate",{"$nulls":7},"Technology","01/15/2019 08:38 AM","Ted Meyer"]
["49110","IN64G4F13T","Concord Elementary","Data - 004","HP 5400R Power Supply",null,"Available","Power Supply","2016-07-05","535.00","17-36029","WJR Technologies","J9829A","HP",{"$nulls":4},"39038-65421",null,null,"E-Rate",{"$nulls":7},"Technology","01/15/2019 08:38 AM","Ted Meyer"]
["49111","IN64G4F0V9","Concord Elementary","Data - 004","HP 5400R Power Supply",null,"Available","Power Supply","2016-07-05","535.00","17-36029","WJR Technologies","J9829A","HP",{"$nulls":4},"39038-65421",null,null,"E-Rate",{"$nulls":7},"Technology","01/15/2019 08:38 AM","Ted Meyer"]
["39815","471177","District Storage","TR 020","ELMO TT-02RX Document Camera",null,"Available","Document Camera","2010-04-09","579.00","10-35242","CDWG","TT-02RX","ELMO","Removed from CC 030",{"$nulls":3},"27870-6541",{"$nulls":10},"SSD","01/15/2019 08:37 AM","Ted Meyer"]
["31535","G3ID20770","District Storage","TR 020","Panasonic 4 Head HI-FI Stereo Cassette Tape Recorder",null,"Available","VCR",{"$nulls":4},"PV-V4523S","Panasonic",{"$nulls":15},"Music","01/15/2019 08:38 AM","Ted Meyer"]
["42222","PC7F151554L","District Storage","TR 020","Epson Brightlink 455Wi Projector",null,"Available","Projector",{"$nulls":4},"Brightlink 455Wi","Epson",null,null,"UnKnown",null,null,"Filter","2018-05-14",{"$nulls":8},"2nd Grade","01/15/2019 08:37 AM","Ted Meyer"]
["47184","PC06DDJS","District Storage","TR 020","Lenovo ThinkPad Onelink Pro Dock for Thinkpad Yoga",null,"Available","Dock","2015-07-06","132.00","16-30425","TWOTREES","DU9033S1","Lenovo","Crestwood 001",{"$nulls":14},"Kindergarten","01/15/2019 08:34 AM","Ted Meyer"]
["47186","PC06CWL8","District Storage","TR 020","Lenovo ThinkPad Onelink Pro Dock for Thinkpad Yoga",null,"Available","Dock","2015-07-06","132.00","16-30425","TWOTREES","DU9033S1","Lenovo","Crestwood 003",{"$nulls":14},"Kindergarten","01/15/2019 08:34 AM","Ted Meyer"]
["47185","PC06DDJD","District Storage","TR 020","Lenovo ThinkPad Onelink Pro Dock for Thinkpad Yoga",null,"Available","Dock","2015-07-06","132.00","16-30425","TWOTREES","DU9033S1","Lenovo","Crestwood 002",{"$nulls":14},"Kindergarten","01/15/2019 08:34 AM","Ted Meyer"]
["47732",null,"District Storage","TR 020","NEC NP300 Projector",null,"Available","Projector","2002-04-29","2,418.00","62694","DATA PROJECTIONS, INC","NP300","NEC",{"$nulls":15},"Technology","01/15/2019 10:07 AM","Ted Meyer"]
["48413",null,"District Storage","TR 020","Epson Brightlink 450Wi Projector",null,"Available","Projector","2010-05-03","1,649.32","10-35424","Florida Micro","Brightlink 450Wi","Epson",{"$nulls":4},"27870-6541","Filter","2018-03-27",null,"V11H317020-1",{"$nulls":6},"Technology","01/15/2019 09:52 AM","Ted Meyer"]
["47217","PC06CWPZ","District Storage","TR 020","Lenovo ThinkPad Onelink Pro Dock for Thinkpad Yoga",null,"Available","Dock","2015-07-06","132.00","16-30425","TWOTREES","DU9033S1","Lenovo",{"$nulls":15},"1st Grade","01/15/2019 08:34 AM","Ted Meyer"]
["39050","CN-0DX787-48730-98M-1FJ8","District Storage","TR 020","Dell 2330dn Laser Printer",null,"Available","Printer","2009-09-11","208.00","10-34400","Dell","2330dn","Dell","Angie Moehlmann",{"$nulls":3},"27870-6541",{"$nulls":10},"Technology","01/15/2019 08:37 AM","Ted Meyer"]
["39655",null,"District Storage","TR 020","Anchor - 30-Watt Powered Speaker",null,"Available","Speaker","2009-08-11","167.45","10-34113","Long's Electronics","AN-130","Anchor",{"$nulls":4},"27870-6541",{"$nulls":10},"Technology","01/15/2019 09:21 AM","Ted Meyer"]
["42381","J904195","District Storage","TR 020","Anchor - 30-Watt Powered Speaker",null,"Available","Speaker","2007-12-28","169.95","08-30700","LONG ELECTRONICS","AN-130","Anchor",{"$nulls":4},"27870-6541",{"$nulls":10},"Technology","01/15/2019 09:21 AM","Ted Meyer"]
["42382","LR6TMDV","District Storage","TR 020","Lenovo ThinkPad X130e",null,"Available","Laptop","2012-05-18","573.00","12-40254","Two Trees","X130e","Lenovo","KETLAB-02","7ce9d3eebc10","2016/2017",null,"27870-6541",{"$nulls":10},"Technology","01/15/2019 09:04 AM","Ted Meyer"]
["42555","LR-5ZMGR","District Storage","TR 020","Lenovo ThinkPad X130e",null,"Available","Laptop","2012-05-18","573.00","12-40254","TwoTrees","X130e","Lenovo","formerly CCTLAB-10","7ce9d3ee07cf","2016/2017",null,"27870-6541",{"$nulls":10},"Technology","01/15/2019 10:39 AM","Ted Meyer"]
["47195","PC06CTBL","District Storage","TR 020","Lenovo ThinkPad Onelink Pro Dock for Thinkpad Yoga",null,"Available","Dock","2015-07-06","132.00","16-30425","TWOTREES","DU9033S1","Lenovo","Crestwood 019",{"$nulls":15},"01/15/2019 08:34 AM","Ted Meyer"]
["47196","PC06DDJJ","District Storage","TR 020","Lenovo ThinkPad Onelink Pro Dock for Thinkpad Yoga",null,"Available","Dock","2015-07-06","132.00","16-30425","TWOTREES","DU9033S1","Lenovo","Crestwood 020",{"$nulls":15},"01/15/2019 08:34 AM","Ted Meyer"]
["47190","PC06CWKU","District Storage","TR 020","Lenovo ThinkPad Onelink Pro Dock for Thinkpad Yoga",null,"Available","Dock","2015-07-06","132.00","16-30425","TWOTREES","DU9033S1","Lenovo","Crestwood 013",{"$nulls":15},"01/15/2019 08:34 AM","Ted Meyer"]
["47192","PC06CTBU","District Storage","TR 020","Lenovo ThinkPad Onelink Pro Dock for Thinkpad Yoga",null,"Available","Dock","2015-07-06","132.00","16-30425","TWOTREES","DU9033S1","Lenovo",{"$nulls":16},"01/15/2019 08:34 AM","Ted Meyer"]
["47191","PC06DDJH","District Storage","TR 020","Lenovo ThinkPad Onelink Pro Dock for Thinkpad Yoga",null,"Available","Dock","2015-07-06","132.00","16-30425","TWOTREES","DU9033S1","Lenovo",{"$nulls":16},"01/15/2019 08:34 AM","Ted Meyer"]
["47216","PC06CWKR","District Storage","TR 020","Lenovo ThinkPad Onelink Pro Dock for Thinkpad Yoga",null,"Available","Dock","2015-07-06","132.00","16-30425","TWOTREES","DU9033S1","Lenovo",{"$nulls":16},"01/15/2019 08:34 AM","Ted Meyer"]
["47222","PC06CWKP","District Storage","TR 020","Lenovo ThinkPad Onelink Pro Dock for Thinkpad Yoga",null,"Available","Dock","2015-07-06","132.00","16-30425","TWOTREES","DU9033S1","Lenovo",{"$nulls":16},"01/15/2019 08:34 AM","Ted Meyer"]
["47221","PC06CWPX","District Storage","TR 020","Lenovo ThinkPad Onelink Pro Dock for Thinkpad Yoga",null,"Available","Dock","2015-07-06","132.00","16-30425","TWOTREES","DU9033S1","Lenovo","Crestwood 032",{"$nulls":15},"01/15/2019 08:34 AM","Ted Meyer"]
["47218","PC06CWKM","District Storage","TR 020","Lenovo ThinkPad Onelink Pro Dock for Thinkpad Yoga",null,"Available","Dock","2015-07-06","132.00","16-30425","TWOTREES","DU9033S1","Lenovo","Crestwood 029",{"$nulls":15},"01/15/2019 08:34 AM","Ted Meyer"]
["46985","PC04W2V0","District Storage","TR 020","Lenovo ThinkPad Onelink Pro Dock for Thinkpad Yoga",null,"Available","Dock","2015-07-06","132.00","16-30425","TWOTREES","DU9033S1","Lenovo","Crestwood Library",{"$nulls":15},"01/15/2019 08:34 AM","Ted Meyer"]
["47197","PC06DDJM","District Storage","TR 020","Lenovo ThinkPad Onelink Pro Dock for Thinkpad Yoga",null,"Available","Dock","2015-07-06",null,"16-30425",null,"DU9033S1","Lenovo",{"$nulls":16},"01/15/2019 10:07 AM","Ted Meyer"]
["47194","PC06CTBP","District Storage","TR 020","Lenovo ThinkPad Onelink Pro Dock for Thinkpad Yoga",null,"Available","Dock","2015-07-06",null,"16-30425",null,"DU9033S1","Lenovo",{"$nulls":16},"01/15/2019 10:07 AM","Ted Meyer"]
["45839","PB5ZN2V","District Storage","TR 020","Lenovo ThinkPad USB 3.0 Dock",null,"Available","Dock","2013-05-10","135.00","14-15032","TWOTREES","DU9019D1","Lenovo",null,"843a4b0edbdc",{"$nulls":14},"01/15/2019 09:52 AM","Ted Meyer"]
["45841","PB5ZN2H","District Storage","TR 020","Lenovo ThinkPad USB 3.0 Dock",null,"Available","Dock","2013-05-10","135.00","14-15032","TWOTREES","DU9019D1","Lenovo",null,"843a4b0edbdc","2017/2018",{"$nulls":13},"01/15/2019 09:52 AM","Ted Meyer"]
["45820","PB6AC2D","District Storage","TR 020","Lenovo ThinkPad USB 3.0 Dock",null,"Available","Dock","2013-05-10","135.00","14-15032","TWOTREES","DU9019D1","Lenovo",null,"843a4b0edbdc","2017/2018",{"$nulls":13},"01/15/2019 09:52 AM","Ted Meyer"]
["45711","PB5ZN3X","District Storage","TR 020","Lenovo ThinkPad USB 3.0 Dock",null,"Available","Dock","2013-05-10","135.00","14-15032","TWOTREES","DU9019D1","Lenovo",null,"843a4b0edbdc",{"$nulls":14},"01/15/2019 09:52 AM","Ted Meyer"]
["47214","PC06CTBK","District Storage","TR 020","Lenovo ThinkPad Onelink Pro Dock for Thinkpad Yoga",null,"Available","Dock","2015-07-06",null,"16-30425",null,"DU9033S1","Lenovo",{"$nulls":16},"01/15/2019 10:07 AM","Ted Meyer"]
["30798","FBVS02509","District Storage","TR 020","Canon Color Inkjet Printer",null,"Available","Printer","2004-04-29","87.69","04-23274","K12 DISCOUNT","I560","Canon",null,null,"2008/2009","local","27870-6541",{"$nulls":11},"01/15/2019 09:59 AM","Ted Meyer"]
["47587","CN-0DK795-73190-86B-2147","District Storage","TR 020","Dell 1720dn Laser Printer",null,"Available","Printer","2008-03-10","224.00","08-31160","DELL","1720dn","Dell",{"$nulls":3},"10.5.21.201","27820-6541",{"$nulls":11},"01/15/2019 09:59 AM","Ted Meyer"]
["37098","CN-0DK795-73190-821-0882","District Storage","TR 020","Dell 1720dn Laser Printer",null,"Available","Printer","2008-03-10","224.00","08-31160","DELL","1720dn","Dell",null,null,"2012/2013","10.5.21.70","27820-6541",{"$nulls":11},"01/15/2019 09:59 AM","Ted Meyer"]
["37110","CN-0DK795-73190-821-0944","District Storage","TR 020","Dell 1720dn Laser Printer",null,"Available","Printer","2008-03-10","224.00","08-31160","DELL","1720dn","Dell",null,null,"2012/2013","10.5.21.101","27820-6541",{"$nulls":11},"01/15/2019 09:59 AM","Ted Meyer"]
["37353","CN-0DK795-73190-821-1107","District Storage","TR 020","Dell 1720dn Laser Printer",null,"Available","Printer","2008-07-03","326.52","09-31829","DELL","1720dn","Dell",null,null,"2012/2013","10.5.21.197","27870-6541",{"$nulls":11},"01/15/2019 09:59 AM","Ted Meyer"]
["35923","73190-741-1004","District Storage","TR 020","Dell 1720dn Laser Printer",null,"Available","Printer","2007-07-01","312.20","08-29368","DELL","1720dn","Dell","LO-Elizabeth Burns",null,null,"10.4.21.9","27870-6541",{"$nulls":11},"01/15/2019 09:34 AM","Ted Meyer"]
["47875","X606550053DBA","Concord Elementary","Unknown","Xirrus XR-620 Access Point",null,"Available","Access Point","2016-07-01","237.42","17-36030","Zagarri Engineering","XR620","Xirrus",{"$nulls":4},"39038-65421",null,null,"E-Rate",{"$nulls":7},"Reading","01/15/2019 08:38 AM","Ted Meyer"]
["47866","X606550052DA6","Concord Elementary","Unknown","Xirrus XR-620 Access Point",null,"Available","Access Point","2016-07-01","237.42","17-36030","Zagarri Engineering","XR620","Xirrus",{"$nulls":4},"39038-65421",null,null,"E-Rate",{"$nulls":7},"Cafeteria","01/15/2019 08:38 AM","Ted Meyer"]
["47863","X6065500530C4","Concord Elementary","Unknown","Xirrus XR-620 Access Point",null,"Available","Access Point","2016-07-01","237.42","17-36030","Zagarri Engineering","XR620","Xirrus",{"$nulls":4},"39038-65421",null,null,"E-Rate",{"$nulls":7},"SSD","01/15/2019 08:38 AM","Ted Meyer"]
["47888","X606550052D68","Concord Elementary","Unknown","Xirrus XR-620 Access Point",null,"Available","Access Point","2016-07-01","237.42","17-36030","Zagarri Engineering","XR620","Xirrus",null,null,"2020/2021",null,"39038-65421",null,null,"E-Rate",{"$nulls":7},"SSD","01/15/2019 08:38 AM","Ted Meyer"]
["47885","X606550052ED2","Concord Elementary","Unknown","Xirrus XR-620 Access Point",null,"Available","Access Point","2016-07-01","237.42","17-36030","Zagarri Engineering","XR620","Xirrus",null,null,"2020/2021",null,"39038-65421",null,null,"E-Rate",{"$nulls":7},"SSD","01/15/2019 08:38 AM","Ted Meyer"]
["47886","X606550052D56","Concord Elementary","Unknown","Xirrus XR-620 Access Point",null,"Available","Access Point","2016-07-01","237.42","17-36030","Zagarri Engineering","XR620","Xirrus",null,null,"2020/2021",null,"39038-65421",null,null,"E-Rate",{"$nulls":7},"SSD","01/15/2019 08:38 AM","Ted Meyer"]
["18-53801-075","X6138115FFB7C","Concord Elementary","Unknown","Xiirrus XD2-240 Access Point",null,"Available","Access Point","2018-08-01","610.00","18-53801","Zagarri","XD2-240","Xirrus",{"$nulls":4},"TE PD E",null,null,"E-Rate","ERATE",{"$nulls":6},"SSD","01/15/2019 08:38 AM","Ted Meyer"]
["18-53801-076","X6138115FFC36","Concord Elementary","Unknown","Xiirrus XD2-240 Access Point",null,"Available","Access Point","2018-08-01","610.00","18-53801","Zagarri","XD2-240","Xirrus",{"$nulls":4},"TE PD E",null,null,"E-Rate","ERATE",{"$nulls":6},"SSD","01/15/2019 08:38 AM","Ted Meyer"]
["39470","H800392","Concord Elementary","Unknown","Anchor - 30-Watt Powered Speaker",null,"Available","Speaker","2009-08-11","167.45","10-34113","Long's Electronics","AN-130","Anchor","Recording Studio",null,"2013/2014",null,"27870-6541",{"$nulls":10},"SSD","01/15/2019 08:38 AM","Ted Meyer"]
["18-53801-074","X6138115FFD5A","Concord Elementary","Unknown","Xiirrus XD2-240 Access Point",null,"Available","Access Point","2018-08-01","610.00","18-53801","Zagarri","XD2-240","Xirrus",{"$nulls":4},"TE PD E",null,null,"E-Rate","ERATE",{"$nulls":6},"Guidance","01/15/2019 08:38 AM","Ted Meyer"]
["54007","P2034H6C","Concord Elementary","Unknown","Lenovo 500e Chromebook (Gen 1)",null,"Available","Chromebook","2018-10-04","310.49","19-55702","Firefly Computers","500e","Lenovo","SA-LIBLAB1-07","38baf85d6a51","2022/2023",null,"TE PD",{"$nulls":7},"81ES0007US","Issued for Virtual Learning - COVID-19",null,"Library","01/15/2019 09:46 AM","Ted Meyer"]
["54346","P2034TLS","Concord Elementary","Unknown","Lenovo 500e Chromebook (Gen 1)",null,"Available","Chromebook","2018-10-04","310.49","19-55702","Firefly Computers","500e","Lenovo","SP-LIBLAB1-21","38baf85dccdf","2022/2023",null,"TE PD",{"$nulls":7},"81ES0007US","Issued for Virtual Learning - COVID-19",null,"Library","01/15/2019 09:53 AM","Ted Meyer"]
["54333","P2034TQV","Concord Elementary","Unknown","Lenovo 500e Chromebook (Gen 1)",null,"Available","Chromebook","2018-10-04","310.49","19-55702","Firefly Computers","500e","Lenovo","SP-LIBLAB1-08","38baf85030f7","2022/2023",null,"TE PD",{"$nulls":7},"81ES0007US","Issued for Virtual Learning - COVID-19",null,"Library","01/15/2019 09:53 AM","Ted Meyer"]
["47889","XR21532065552","Concord Elementary","Unknown","Xirrus XR-2426 Access Point",null,"Available","Access Point","2016-07-01","237.42","17-36030","Zagarri Engineering","XR2426","Xirrus",{"$nulls":4},"39038-65421",null,null,"E-Rate",{"$nulls":7},"Library","01/15/2019 08:38 AM","Ted Meyer"]
["54119","P2034U4C","Concord Elementary","Unknown","Lenovo 500e Chromebook (Gen 1)",null,"Available","Chromebook","2018-10-04","310.49","19-55702","Firefly Computers","500e","Lenovo","CR-LIBLAB1-15","38baf83d0437","2022/2023",null,"TE PD",{"$nulls":7},"81ES0007US","Issued for Virtual Learning - COVID-19",null,"Library","01/15/2019 08:35 AM","Ted Meyer"]
["54130","P2034GLF","Concord Elementary","Unknown","Lenovo 500e Chromebook (Gen 1)",null,"Available","Chromebook","2018-10-04","310.49","19-55702","Firefly Computers","500e","Lenovo","CR-LIBLAB1-26","38baf8ec621f","2022/2023",null,"TE PD",{"$nulls":7},"81ES0007US","Issued for Virtual Learning - COVID-19",null,"Library","01/15/2019 08:35 AM","Ted Meyer"]
["54131","P2034H4J","Concord Elementary","Unknown","Lenovo 500e Chromebook (Gen 1)",null,"Available","Chromebook","2018-10-04","310.49","19-55702","Firefly Computers","500e","Lenovo","CC-LIBLAB1-01","38baf85d789d","2022/2023",null,"TE PD",{"$nulls":7},"81ES0007US","CBRedistribute",null,"Library","01/15/2019 08:38 AM","Ted Meyer"]
["54132","P2034TWS","Concord Elementary","Unknown","Lenovo 500e Chromebook (Gen 1)",null,"Available","Chromebook","2018-10-04","310.49","19-55702","Firefly Computers","500e","Lenovo","CC-LIBLAB1-02","38baf85f99b6","2022/2023",null,"TE PD",{"$nulls":7},"81ES0007US","CBRedistribute",null,"Library","01/15/2019 08:38 AM","Ted Meyer"]
["54134","P2034U19","Concord Elementary","Unknown","Lenovo 500e Chromebook (Gen 1)",null,"Available","Chromebook","2018-10-04","310.49","19-55702","Firefly Computers","500e","Lenovo","CC-LIBLAB1-04","38baf83ad298","2022/2023",null,"TE PD",{"$nulls":7},"81ES0007US","CBRedistribute",null,"Library","01/15/2019 08:38 AM","Ted Meyer"]
["54143","P2034U36","Concord Elementary","Unknown","Lenovo 500e Chromebook (Gen 1)",null,"Available","Chromebook","2018-10-04","310.49","19-55702","Firefly Computers","500e","Lenovo","CC-LIBLAB1-13","38baf83cd142","2022/2023",null,"TE PD",{"$nulls":7},"81ES0007US","CBRedistribute",null,"Library","01/15/2019 08:38 AM","Ted Meyer"]
["54153","P2034UB5","Concord Elementary","Unknown","Lenovo 500e Chromebook (Gen 1)",null,"Available","Chromebook","2018-10-04","310.49","19-55702","Firefly Computers","500e","Lenovo","CC-LIBLAB1-23","38baf85bc377","2022/2023",null,"TE PD",{"$nulls":7},"81ES0007US","CBRedistribute",null,"Library","01/15/2019 08:38 AM","Ted Meyer"]
["54156","P2034GSV","Concord Elementary","Unknown","Lenovo 500e Chromebook (Gen 1)",null,"Available","Chromebook","2018-10-04","310.49","19-55702","Firefly Computers","500e","Lenovo","CC-LIBLAB1-26","38baf85d9008","2022/2023",null,"TE PD",{"$nulls":7},"81ES0007US",null,null,"Library","01/15/2019 08:38 AM","Ted Meyer"]
["49844","XR2160306794E","Concord Elementary","Unknown","Xirrus XR-2426 Access Point",null,"Available","Access Point","2016-07-01","237.42","17-36030","Zagarri Engineering","XR2426","Xirrus",{"$nulls":4},"39038-65421",null,null,"E-Rate","Warranty replacement for R8 47891",{"$nulls":6},"Office","01/15/2019 08:38 AM","Ted Meyer"]
["47958","LR-04XFY6","Concord Elementary","Unknown","Lenovo ThinkPad 11e",null,"Available","Laptop","2016-06-08","392.47","16-34824","ITsavvy","11e","Lenovo","Deborah Dudenhoeffer","1002b5c5cd67","2020/2021",null,"11392-6411",null,null,"Grant",{"$nulls":4},"20GBS00000",null,null,"Office","01/15/2019 08:38 AM","Ted Meyer"]
["47285","PC06CWMD","Concord Elementary","Unknown","Lenovo ThinkPad Onelink Pro Dock for Thinkpad Yoga",null,"Available","Dock","2015-07-06","132.00","16-30425","TwoTrees","DU9033S1","Lenovo","Concord 042",{"$nulls":14},"Kindergarten","01/15/2019 08:37 AM","Ted Meyer"]
["47286","PC06CWKE","Concord Elementary","Unknown","Lenovo ThinkPad Onelink Pro Dock for Thinkpad Yoga",null,"Available","Dock","2015-07-06","132.00","16-30425","TwoTrees","DU9033S1","Lenovo","Concord 043",{"$nulls":14},"Kindergarten","01/15/2019 08:37 AM","Ted Meyer"]
["47265","PC06CT7V","Concord Elementary","Unknown","Lenovo ThinkPad Onelink Pro Dock for Thinkpad Yoga",null,"Available","Dock","2015-07-06","132.00","16-30425","TwoTrees","DU9033S1","Lenovo","Concord 019",{"$nulls":14},"Kindergarten","01/15/2019 08:37 AM","Ted Meyer"]
["47264","PC04DSAE","Concord Elementary","Unknown","Lenovo ThinkPad Onelink Pro Dock for Thinkpad Yoga",null,"Available","Dock","2015-07-06","132.00","16-30425","TwoTrees","DU9033S1","Lenovo","Concord 018",{"$nulls":14},"Kindergarten","01/15/2019 08:37 AM","Ted Meyer"]
["47263","PC04DSAB","Concord Elementary","Unknown","Lenovo ThinkPad Onelink Pro Dock for Thinkpad Yoga",null,"Available","Dock","2015-07-06","132.00","16-30425","TwoTrees","DU9033S1","Lenovo","Concord 017",{"$nulls":14},"Kindergarten","01/15/2019 08:37 AM","Ted Meyer"]
["18-53801-072","X6138115FFCD4","Concord Elementary","Unknown","Xiirrus XD2-240 Access Point",null,"Available","Access Point","2018-08-01","610.00","18-53801","Zagarri","XD2-240","Xirrus",{"$nulls":4},"TE PD E",null,null,"E-Rate","ERATE",{"$nulls":6},"Kindergarten","01/15/2019 08:38 AM","Ted Meyer"]
["18-53801-081","X6138115FFC3E","Concord Elementary","Unknown","Xiirrus XD2-240 Access Point",null,"Available","Access Point","2018-08-01","610.00","18-53801","Zagarri","XD2-240","Xirrus",{"$nulls":4},"TE PD E",null,null,"E-Rate","ERATE",{"$nulls":6},"Kindergarten","01/15/2019 08:38 AM","Ted Meyer"]
["47881","X606550053DAE","Concord Elementary","Unknown","Xirrus XR-620 Access Point",null,"Available","Access Point","2016-07-01","237.42","17-36030","Zagarri Engineering","XR620","Xirrus",{"$nulls":4},"39038-65421",null,null,"E-Rate",{"$nulls":7},"Kindergarten","01/15/2019 08:38 AM","Ted Meyer"]
["47882","X606550053D94","Concord Elementary","Unknown","Xirrus XR-620 Access Point",null,"Available","Access Point","2016-07-01","237.42","17-36030","Zagarri Engineering","XR620","Xirrus",{"$nulls":4},"39038-65421",null,null,"E-Rate",{"$nulls":7},"Kindergarten","01/15/2019 08:38 AM","Ted Meyer"]
["47270","PC06CWKC","Concord Elementary","Unknown","Lenovo ThinkPad Onelink Pro Dock for Thinkpad Yoga",null,"Available","Dock","2015-07-06","132.00","16-30425","TWOTREES","DU9033S1","Lenovo",null,null,"2019/2020",{"$nulls":12},"2nd Grade","01/15/2019 08:37 AM","Ted Meyer"]
["47261","PC06CT80","Concord Elementary","Unknown","Lenovo ThinkPad Onelink Pro Dock for Thinkpad Yoga",null,"Available","Dock","2015-07-06","132.00","16-30425","TwoTrees","DU9033S1","Lenovo","Concord 015",{"$nulls":14},"2nd Grade","01/15/2019 08:37 AM","Ted Meyer"]
["26712",null,"Concord Elementary","Unknown","Bretford 2 Shelf Black A/V Cart",null,"Available","Cart","2007-09-04","305.00","08-30711","CDWG",null,"Bretford",{"$nulls":4},"27870-6541",{"$nulls":10},"Library","01/15/2019 08:38 AM","Ted Meyer"]
["43043","DMPHN6QADJ8T","Concord Elementary","Unknown","Apple iPad 16GB WIFI (3rd Gen)",null,"Available","iPad","2012-05-07","479.00","12-40102","Apple","MD339LL/A","Apple","CCLIB-19","64200c742ec7","2016/2017",null,"31213-6541",{"$nulls":7},"A1416",null,null,"Library","01/15/2019 08:37 AM","Ted Meyer"]
["43047","DMPHN4UPDJ8T","Concord Elementary","Unknown","Apple iPad 16GB WIFI (3rd Gen)",null,"Available","iPad","2012-05-07","479.00","12-40102","Apple","MD339LL/A","Apple","CCLIB-17","64200c6ad99b","2016/2017",null,"31213-6541",{"$nulls":7},"A1416",null,null,"Library","01/15/2019 08:37 AM","Ted Meyer"]
["43050","DMPHN4W7DJ8T","Concord Elementary","Unknown","Apple iPad 16GB WIFI (3rd Gen)",null,"Available","iPad","2012-05-07","479.00","12-40102","Apple","MD339LL/A","Apple","CCLIB-13","64200c6c6306","2016/2017",null,"31213-6541",{"$nulls":7},"A1416",null,null,"Library","01/15/2019 08:37 AM","Ted Meyer"]
["43056","DMPHN6PLDJ8T","Concord Elementary","Unknown","Apple iPad 16GB WIFI (3rd Gen)",null,"Available","iPad","2012-05-07","479.00","12-40102","Apple","MD339LL/A","Apple","CCLIB-22","64200c79b4d0","2016/2017",null,"31213-6541",{"$nulls":7},"A1416",null,null,"Library","01/15/2019 08:37 AM","Ted Meyer"]
["48342","DMRMP5QDF182","Concord Elementary","Unknown","Apple iPad 16GB WIFI (4th Gen)",null,"Available","iPad","2014-05-15","399.00","14-19206","Apple","MD510LL/A","Apple","CCLIB-30","e498d68b3674","2018/2019",null,"29541-6542",null,null,"Building Budget",{"$nulls":4},"A1458",null,null,"Library","01/15/2019 08:37 AM","Ted Meyer"]
["45872","DMPL1CLYF182","Concord Elementary","Unknown","Apple iPad 16GB WIFI (4th Gen)",null,"Available","iPad","2013-07-01","499.00","14-15269","Apple","MD510LL/A","Apple","CCLIB-15","a888088983d3","2017/2018",null,"27870-6541",{"$nulls":7},"A1458",null,null,"Library","01/15/2019 08:37 AM","Ted Meyer"]
["45876","DMPL1C24F182","Concord Elementary","Unknown","Apple iPad 16GB WIFI (4th Gen)",null,"Available","iPad","2013-07-01","499.00","14-15269","Apple","MD510LL/A","Apple","CCLIB-16","a888089009db","2017/2018",null,"27870-6541",{"$nulls":7},"A1458",null,null,"Library","01/15/2019 08:37 AM","Ted Meyer"]
["45878","DMPL1CPSF182","Concord Elementary","Unknown","Apple iPad 16GB WIFI (4th Gen)",null,"Available","iPad","2013-07-01","499.00","14-15269","Apple","MD510LL/A","Apple","CCLIB-20","a888088a197c","2017/2018",null,"27870-6541",{"$nulls":7},"A1458",null,null,"Library","01/15/2019 08:37 AM","Ted Meyer"]
["45884","DMPL1CC7F182","Concord Elementary","Unknown","Apple iPad 16GB WIFI (4th Gen)",null,"Available","iPad","2013-07-01","499.00","14-15269","Apple","MD510LL/A","Apple","CCLIB-18","a88808898bdd","2017/2018",null,"27870-6541",{"$nulls":7},"A1458",null,null,"Library","01/15/2019 08:37 AM","Ted Meyer"]
["45894","DMPL1CSSF182","Concord Elementary","Unknown","Apple iPad 16GB WIFI (4th Gen)",null,"Available","iPad","2013-07-01","499.00","14-15269","Apple","MD510LL/A","Apple","CCLIB-14","a8880890a392","2017/2018",null,"27870-6541",{"$nulls":7},"A1458",null,null,"Library","01/15/2019 08:37 AM","Ted Meyer"]
["48999","DMPL1CG5F182","Concord Elementary","Unknown","Apple iPad 16GB WIFI (4th Gen)",null,"Available","iPad","2013-07-01","499.00","14-15269","Apple","MD510LL/A","Apple","CCLIB-21","a888088de21a","2017/2018",null,"27870-6541",{"$nulls":7},"A1458",null,null,"Library","01/15/2019 08:37 AM","Ted Meyer"]
["43198","DMPJ9DF1DJ8T","Concord Elementary","Unknown","Apple iPad 16GB WIFI (3rd Gen)",null,"Available","iPad","2012-11-15","499.00","13-11912","Apple","MC705LL/A","Apple","CCLIB-01","d8004dde3d8a","2016/2017",null,"27870-6541",{"$nulls":7},"A1416",null,null,"Library","01/15/2019 08:37 AM","Ted Meyer"]
["43199","DMPJ9LWNDJ8T","Concord Elementary","Unknown","Apple iPad 16GB WIFI (3rd Gen)",null,"Available","iPad","2012-11-15","499.00","13-11912","Apple","MC705LL/A","Apple","CCLIB-02","d8004de0ea5d","2016/2017",null,"27870-6541",{"$nulls":7},"A1416",null,null,"Library","01/15/2019 08:37 AM","Ted Meyer"]
["43200","DMPJ979PDJ8T","Concord Elementary","Unknown","Apple iPad 16GB WIFI (3rd Gen)",null,"Available","iPad","2012-11-15","499.00","13-11912","Apple","MC705LL/A","Apple","CCLIB-03","d8004ddb156c","2016/2017",null,"27870-6541",{"$nulls":7},"A1416",null,null,"Library","01/15/2019 08:37 AM","Ted Meyer"]
["43201","DMPJ9J9WDJ8T","Concord Elementary","Unknown","Apple iPad 16GB WIFI (3rd Gen)",null,"Available","iPad","2012-11-15","499.00","13-11912","Apple","MC705LL/A","Apple","CCLIB-04","d8004ddf3dac","2016/2017",null,"27870-6541",{"$nulls":7},"A1416",null,null,"Library","01/15/2019 08:37 AM","Ted Meyer"]
["47396","DMQQ735VFK10","Concord Elementary","Unknown","Apple iPad Air 16GB WIFI (1st Gen)",null,"Available","iPad","2015-07-22","379.00","16-30697","Apple Store","PD785LL/B","Apple","CCLIB-05","ccc7602e9605","2019/2020",null,"2202439184",null,null,"Building Budget",{"$nulls":4},"A1474",null,null,"Library","01/15/2019 08:37 AM","Ted Meyer"]
["47397","DMPQ74QGFK10","Concord Elementary","Unknown","Apple iPad Air 16GB WIFI (1st Gen)",null,"Available","iPad","2015-07-22","379.00","16-30697","Apple Store","PD785LL/B","Apple","CCLIB-06","ccc76030077f","2019/2020",null,"2202439184",null,null,"Building Budget",{"$nulls":4},"A1474",null,null,"Library","01/15/2019 08:37 AM","Ted Meyer"]
["47398","DMQQ72GCFK10","Concord Elementary","Unknown","Apple iPad Air 16GB WIFI (1st Gen)",null,"Available","iPad","2015-07-22","379.00","16-30697","Apple Store","PD785LL/B","Apple","CCLIB-07","ccc760167fde","2019/2020",null,"2202439184",null,null,"Building Budget",{"$nulls":4},"A1474",null,null,"Library","01/15/2019 08:37 AM","Ted Meyer"]
["47399","DMPQ7CANFK10","Concord Elementary","Unknown","Apple iPad Air 16GB WIFI (1st Gen)",null,"Available","iPad","2015-07-22","379.00","16-30697","Apple Store","PD785LL/B","Apple","CCLIB-08","ccc760198623","2019/2020",null,"2202439184",null,null,"Building Budget",{"$nulls":4},"A1474",null,null,"Library","01/15/2019 08:37 AM","Ted Meyer"]
["47400","DMQQ72K9FK10","Concord Elementary","Unknown","Apple iPad Air 16GB WIFI (1st Gen)",null,"Available","iPad","2015-07-22","379.00","16-30697","Apple Store","PD785LL/B","Apple","CCLIB-09","ccc76017608d","2019/2020",null,"2202439184",null,null,"Building Budget",{"$nulls":4},"A1474",null,null,"Library","01/15/2019 08:37 AM","Ted Meyer"]
["47401","DMPQ7S7AFK10","Concord Elementary","Unknown","Apple iPad Air 16GB WIFI (1st Gen)",null,"Available","iPad","2015-07-22","379.00","16-30697","Apple Store","PD785LL/B","Apple","CCLIB-10","ccc76024492f","2019/2020",null,"2202439184",null,null,"Building Budget",{"$nulls":4},"A1474",null,null,"Library","01/15/2019 08:37 AM","Ted Meyer"]
["47402","DMQQ72JFFK10","Concord Elementary","Unknown","Apple iPad Air 16GB WIFI (1st Gen)",null,"Available","iPad","2015-07-22","379.00","16-30697","Apple Store","PD785LL/B","Apple","CCLIB-11","ccc76030c206","2019/2020",null,"2202439184",null,null,"Building Budget",{"$nulls":4},"A1474",null,null,"Library","01/15/2019 08:37 AM","Ted Meyer"]
["47403","DMPQ7S79FK10","Concord Elementary","Unknown","Apple iPad Air 16GB WIFI (1st Gen)",null,"Available","iPad","2015-07-22","379.00","16-30697","Apple Store","PD785LL/B","Apple","CCLIB-12","ccc76031b2e","2019/2020",null,"2202439184",null,null,"Building Budget",{"$nulls":4},"A1474",null,null,"Library","01/15/2019 08:37 AM","Ted Meyer"]
["35699","DMPSCTQ0G5W1","Concord Elementary","Unknown","Apple iPad Air 128GB WIFI (2nd Gen)",null,"Available","iPad","2016-09-09","479.00","17-37422","Apple Store","PGTX2LL/A","Apple","CCLIB-23","4c32753dccac","2020/2021",null,"26606-6411",null,null,"Building Budget","110-2222-6411-427-007-000 Camp Ignite library supplies",{"$nulls":3},"A1566",null,null,"Library","01/15/2019 08:38 AM","Ted Meyer"]
["35700","DMPSCTUPG5W1","Concord Elementary","Unknown","Apple iPad Air 128GB WIFI (2nd Gen)",null,"Available","iPad","2016-09-09","479.00","17-37422","Apple Store","PGTX2LL/A","Apple","CCLIB-24","4c32753ebc84","2020/2021",null,"26606-6411",null,null,"Building Budget","110-2222-6411-427-007-000 Camp Ignite library supplies",{"$nulls":3},"A1566",null,null,"Library","01/15/2019 08:38 AM","Ted Meyer"]
["35701","DMPSCTAAG5W1","Concord Elementary","Unknown","Apple iPad Air 128GB WIFI (2nd Gen)",null,"Available","iPad","2016-09-09","479.00","17-37422","Apple Store","PGTX2LL/A","Apple","CCLIB-25","4c32753dee3a","2020/2021",null,"26606-6411",null,null,"Building Budget","110-2222-6411-427-007-000 Camp Ignite library supplies",{"$nulls":3},"A1566",null,null,"Library","01/15/2019 08:38 AM","Ted Meyer"]
["35702","DMPSCT60G5W1","Concord Elementary","Unknown","Apple iPad Air 128GB WIFI (2nd Gen)",null,"Available","iPad","2016-09-09","479.00","17-37422","Apple Store","PGTX2LL/A","Apple","CCLIB-26","4c32753ebbfc","2020/2021",null,"26606-6411",null,null,"Building Budget","110-2222-6411-427-007-000 Camp Ignite library supplies",{"$nulls":3},"A1566",null,null,"Library","01/15/2019 08:38 AM","Ted Meyer"]
["35703","DMPSCTMKG5W1","Concord Elementary","Unknown","Apple iPad Air 128GB WIFI (2nd Gen)",null,"Available","iPad","2016-09-09","479.00","17-37422","Apple Store","PGTX2LL/A","Apple","CCLIB-27","4c32753e531c","2020/2021",null,"26452-6411",null,null,"Building Budget","110-2411-6411-417-000-000 CC office Supplies",{"$nulls":3},"A1566",null,null,"Library","01/15/2019 08:38 AM","Ted Meyer"]
["46038","DMPP79QAFK10","Concord Elementary","Unknown","Apple iPad Air 16GB WIFI (1st Gen)",null,"Available","iPad","2015-02-06","379.00","15-21518","Apple","PD785LL/B","Apple","CCLIB-29","5cf5da6be96d","2019/2020",null,"27870-6541",null,null,"Grant",{"$nulls":4},"A1474",null,null,"Library","01/15/2019 08:37 AM","Ted Meyer"]
["46037","DMQP5K53FK10","Concord Elementary","Unknown","Apple iPad Air 16GB WIFI (1st Gen)",null,"Available","iPad","2015-02-06","379.00","15-21518","Apple Store","PE894LL/B","Apple","CCLIB-28","5cf5da520552","2019/2020",null,"27870-6541",null,null,"Grant",{"$nulls":4},"A1474",null,null,"Library","01/15/2019 08:37 AM","Ted Meyer"]
["33468","G31D20766","Lindbergh High School","Unknown","Panasonic 4 Head HI-FI Stereo Video Cassette Recorder",null,"Available","VCR","2003-12-17","68.00","04-22738","TECH DEPOT","PV-V4523S","Panasonic",{"$nulls":4},"27870-6541",{"$nulls":11},"01/15/2019 09:21 AM","Ted Meyer"]
["39368","D801648","Lindbergh High School","Unknown","Anchor - 30-Watt Powered Speaker",null,"Available","Speaker","2007-12-28","169.95","08-30700","LONG ELECTRONICS","AN-130","Anchor",{"$nulls":4},"27870-6541",{"$nulls":11},"01/15/2019 09:21 AM","Ted Meyer"]
["18-53801-079","X6138115FFB92","Concord Elementary","Unknown","Xiirrus XD2-240 Access Point",null,"Available","Access Point","2018-08-01","610.00","18-53801","Zagarri","XD2-240","Xirrus",{"$nulls":4},"TE PD E",null,null,"E-Rate","ERATE",{"$nulls":6},"4th Grade","01/15/2019 08:38 AM","Ted Meyer"]
["18-53801-080","X6138115FFB82","Concord Elementary","Unknown","Xiirrus XD2-240 Access Point",null,"Available","Access Point","2018-08-01","610.00","18-53801","Zagarri","XD2-240","Xirrus",{"$nulls":4},"TE PD E",null,null,"E-Rate","ERATE",{"$nulls":6},"4th Grade","01/15/2019 08:38 AM","Ted Meyer"]
["47869","X606550053086","Concord Elementary","Unknown","Xirrus XR-620 Access Point",null,"Available","Access Point","2016-07-01","237.42","17-36030","Zagarri Engineering","XR620","Xirrus",{"$nulls":4},"39038-65421",null,null,"E-Rate",{"$nulls":7},"4th Grade","01/15/2019 08:38 AM","Ted Meyer"]
["47870","X606550052D58","Concord Elementary","Unknown","Xirrus XR-620 Access Point",null,"Available","Access Point","2016-07-01","237.42","17-36030","Zagarri Engineering","XR620","Xirrus",{"$nulls":4},"39038-65421",null,null,"E-Rate",{"$nulls":7},"4th Grade","01/15/2019 08:38 AM","Ted Meyer"]
["49583","MP144PXZ","Concord Elementary","Unknown","Lenovo ThinkPad Yoga 260 (Core i5-6300U, 8GB, 256GB)",null,"Available","Laptop","2017-03-27","1,234.90","17-39996","ITsavvy LLC","Yoga 260","Lenovo",null,"e4a471592bd0","2021/2022",null,"27870-6541",{"$nulls":3},"400-2331-6543-824-000-000",{"$nulls":3},"20FD002DUS",null,null,"Technology","01/15/2019 09:21 AM","Ted Meyer"]
["47872","X6065500530BA","Concord Elementary","Unknown","Xirrus XR-620 Access Point",null,"Available","Access Point","2016-07-01","237.42","17-36030","Zagarri Engineering","XR620","Xirrus",{"$nulls":4},"39038-65421",null,null,"E-Rate",{"$nulls":7},"Kindergarten","01/15/2019 08:38 AM","Ted Meyer"]
["47876","X606550053DB8","Concord Elementary","Unknown","Xirrus XR-620 Access Point",null,"Available","Access Point","2016-07-01","237.42","17-36030","Zagarri Engineering","XR620","Xirrus",null,null,"2020/2021",null,"39038-65421",null,null,"E-Rate",{"$nulls":7},"2nd Grade","01/15/2019 08:38 AM","Ted Meyer"]
["18-53801-069","X6138115FFB86","Concord Elementary","Unknown","Xiirrus XD2-240 Access Point",null,"Available","Access Point","2018-08-01","610.00","18-53801","Zagarri","XD2-240","Xirrus",null,null,"2022/2023",null,"TE PD E",null,null,"E-Rate","ERATE",{"$nulls":6},"2nd Grade","01/15/2019 08:38 AM","Ted Meyer"]
["18-53801-070","X6138115FFC40","Concord Elementary","Unknown","Xiirrus XD2-240 Access Point",null,"Available","Access Point","2018-08-01","610.00","18-53801","Zagarri","XD2-240","Xirrus",null,null,"2022/2023",null,"TE PD E",null,null,"E-Rate","ERATE",{"$nulls":6},"2nd Grade","01/15/2019 08:38 AM","Ted Meyer"]
["18-53801-071","X6138115FFC12","Concord Elementary","Unknown","Xiirrus XD2-240 Access Point",null,"Available","Access Point","2018-08-01","610.00","18-53801","Zagarri","XD2-240","Xirrus",{"$nulls":4},"TE PD E",null,null,"E-Rate","ERATE",{"$nulls":6},"2nd Grade","01/15/2019 08:38 AM","Ted Meyer"]
["47871","X606550052EF2","Concord Elementary","Unknown","Xirrus XR-620 Access Point",null,"Available","Access Point","2016-07-01","237.42","17-36030","Zagarri Engineering","XR620","Xirrus",{"$nulls":4},"39038-65421",null,null,"E-Rate",{"$nulls":7},"5th Grade","01/15/2019 08:38 AM","Ted Meyer"]
["47868","X606550052D7A","Concord Elementary","Unknown","Xirrus XR-620 Access Point",null,"Available","Access Point","2016-07-01","237.42","17-36030","Zagarri Engineering","XR620","Xirrus",{"$nulls":4},"39038-65421",null,null,"E-Rate",{"$nulls":7},"5th Grade","01/15/2019 08:38 AM","Ted Meyer"]
["47865","X6065500530CE","Concord Elementary","Unknown","Xirrus XR-620 Access Point",null,"Available","Access Point","2016-07-01","237.42","17-36030","Zagarri Engineering","XR620","Xirrus",{"$nulls":4},"39038-65421",null,null,"E-Rate",{"$nulls":7},"5th Grade","01/15/2019 08:38 AM","Ted Meyer"]
["18-53801-077","X6138115FFBE2","Concord Elementary","Unknown","Xiirrus XD2-240 Access Point",null,"Available","Access Point","2018-08-01","610.00","18-53801","Zagarri","XD2-240","Xirrus",{"$nulls":4},"TE PD E",null,null,"E-Rate","ERATE",{"$nulls":6},"5th Grade","01/15/2019 08:38 AM","Ted Meyer"]
["18-53801-078","X6138115FFBFC","Concord Elementary","Unknown","Xiirrus XD2-240 Access Point",null,"Available","Access Point","2018-08-01","610.00","18-53801","Zagarri","XD2-240","Xirrus",{"$nulls":4},"TE PD E",null,null,"E-Rate","ERATE",{"$nulls":6},"5th Grade","01/15/2019 08:38 AM","Ted Meyer"]
["47262","PC06CWKG","Concord Elementary","Unknown","Lenovo ThinkPad Onelink Pro Dock for Thinkpad Yoga",null,"Available","Dock","2015-07-06","132.00","16-30425","TwoTrees","DU9033S1","Lenovo","Concord 016",{"$nulls":14},"1st Grade","01/15/2019 08:37 AM","Ted Meyer"]
["47268","PC06CWMG","Concord Elementary","Unknown","Lenovo ThinkPad Onelink Pro Dock for Thinkpad Yoga",null,"Available","Dock","2015-07-06","132.00","16-30425","TwoTrees","DU9033S1","Lenovo","Concord 022",{"$nulls":14},"1st Grade","01/15/2019 08:37 AM","Ted Meyer"]
["18-53801-073","X6138115FFC02","Concord Elementary","Unknown","Xiirrus XD2-240 Access Point",null,"Available","Access Point","2018-08-01","610.00","18-53801","Zagarri","XD2-240","Xirrus",{"$nulls":4},"TE PD E",null,null,"E-Rate","ERATE",{"$nulls":6},"1st Grade","01/15/2019 08:38 AM","Ted Meyer"]
["39201",null,"Concord Elementary","Unknown","Bretford A/V Learning Cart",null,"Available","Cart",{"$nulls":4},"ECILS3-BK","Bretford",{"$nulls":15},"1st Grade","01/15/2019 08:37 AM","Ted Meyer"]
["47877","X606550053DC6","Concord Elementary","Unknown","Xirrus XR-620 Access Point",null,"Available","Access Point","2016-07-01","237.42","17-36030","Zagarri Engineering","XR620","Xirrus",{"$nulls":4},"39038-65421",null,null,"E-Rate",{"$nulls":7},"1st Grade","01/15/2019 08:38 AM","Ted Meyer"]
["47879","X606550053D8E","Concord Elementary","Unknown","Xirrus XR-620 Access Point",null,"Available","Access Point","2016-07-01","237.42","17-36030","Zagarri Engineering","XR620","Xirrus",{"$nulls":4},"39038-65421",null,null,"E-Rate",{"$nulls":7},"1st Grade","01/15/2019 08:38 AM","Ted Meyer"]
["47880","X606550053D7E","Concord Elementary","Unknown","Xirrus XR-620 Access Point",null,"Available","Access Point","2016-07-01","237.42","17-36030","Zagarri Engineering","XR620","Xirrus",{"$nulls":4},"39038-65421",null,null,"E-Rate",{"$nulls":7},"1st Grade","01/15/2019 08:38 AM","Ted Meyer"]
["51051","LR-08MYF2","Concord Elementary","Unknown","Lenovo ThinkPad 11e",null,"Available","Laptop","2017-05-24","367.00","17-40901","TwoTrees","11e","Lenovo","CC001-03","c82158e67215","2021/2022",null,"27871-6541",{"$nulls":3},"5WSOE84849 LENOVO EPAC REPAIR EXTENDEND SERVICE @$49.99",{"$nulls":3},"20GBS00S00",null,null,"4th Grade","01/15/2019 08:38 AM","Ted Meyer"]
["49469","LR-0838YZ","Concord Elementary","Unknown","Lenovo ThinkPad 11e",null,"Available","Laptop","2017-01-31","460.05","17-39252","ITsavvy","11e","Lenovo","CC040-24","d0577b65a1c6","2021/2022",null,"29541-6542",null,null,"Building Budget","400-1111-6542-417-001-000 CC inst equip",{"$nulls":3},"20GB000NUS",null,null,"5th Grade","01/15/2019 08:38 AM","Ted Meyer"]
["51036","LR-08MYG0","Concord Elementary","Unknown","Lenovo ThinkPad 11e",null,"Available","Laptop","2017-05-24","367.00","17-40901","TwoTrees","11e","Lenovo","CC002-02","c82158e6ee89","2021/2022",null,"27871-6541",{"$nulls":3},"5WSOE84849 LENOVO EPAC REPAIR EXTENDEND SERVICE @$49.99",{"$nulls":3},"20GBS00S00",null,null,"5th Grade","01/15/2019 08:38 AM","Ted Meyer"]
["48316","LR-083907","Concord Elementary","Unknown","Lenovo ThinkPad 11e",null,"Available","Laptop","2017-01-31","460.05","17-39252","ITsavvy","11e","Lenovo","CC040-18","d0577b65ac7f","2021/2022",null,"29541-6542",null,null,"Building Budget","400-1111-6542-417-001-000 CC inst equip",{"$nulls":3},"20GB000NUS",null,null,"4th Grade","01/15/2019 08:38 AM","Ted Meyer"]
["49465","LR-0838XF","Concord Elementary","Unknown","Lenovo ThinkPad 11e",null,"Available","Laptop","2017-01-31","460.05","17-39252","ITsavvy","11e","Lenovo","CC040-19","d0577b6580dd","2021/2022",null,"29541-6542",null,null,"Building Budget","400-1111-6542-417-001-000 CC inst equip",{"$nulls":3},"20GB000NUS",null,null,"4th Grade","01/15/2019 08:38 AM","Ted Meyer"]
["46859","LR-03ZUQE","Concord Elementary","Unknown","Lenovo ThinkPad 11e",null,"Available","Laptop","2015-07-06","473.00","16-30271","TwoTrees","11e","Lenovo","CC040-25","104a7da2fe8b","2019/2020",null,"27872-6541",{"$nulls":7},"20DAS0VX00",null,null,"4th Grade","01/15/2019 08:37 AM","Ted Meyer"]
["46851","LR-03ZUVL","Concord Elementary","Unknown","Lenovo ThinkPad 11e",null,"Available","Laptop","2015-07-06","473.00","16-30271","TwoTrees","11e","Lenovo","CC040-20","104a7d2796f6","2019/2020",null,"27872-6541",{"$nulls":7},"20DAS0VX00",null,null,"4th Grade","01/15/2019 08:37 AM","Ted Meyer"]
["46855","LR-03ZUX0","Concord Elementary","Unknown","Lenovo ThinkPad 11e",null,"Available","Laptop","2015-07-06","473.00","16-30271","TwoTrees","11e","Lenovo","CC040-21","104a7d6e70cb","2019/2020",null,"27872-6541",{"$nulls":7},"20DAS0VX00",null,null,"4th Grade","01/15/2019 08:37 AM","Ted Meyer"]
["52542","LR0A3PSJ","Concord Elementary","Unknown","Lenovo N23 Chromebook",null,"Available","Chromebook","2018-01-17","270.32","18-53260","SoftChoice","N23 Touch","Lenovo","CC-CBL2-22","1c4d7048113d","2022/2023",null,"See Below",null,null,"Building Budget","26606--6412 CC Camp Ignite  24932-6412 CC Boeing Grant   26626-6412 CC Soda Fund - Purchased to pilot Chromebooks at the elementary level.",{"$nulls":3},"81MC001EUS","CBRedistribute",null,"5th Grade","01/15/2019 08:38 AM","Ted Meyer"]
["52543","LR0A3PQF","Concord Elementary","Unknown","Lenovo N23 Chromebook",null,"Available","Chromebook","2018-01-17","270.32","18-53260","SoftChoice","N23 Touch","Lenovo","CC-CBL2-23","1c4d7047fd15","2022/2023",null,"See Below",null,null,"Building Budget","26606--6412 CC Camp Ignite  24932-6412 CC Boeing Grant   26626-6412 CC Soda Fund - Purchased to pilot Chromebooks at the elementary level.",null,null,"from Cart 2","81MC001EUS","CBRedistribute",null,"5th Grade","01/15/2019 08:38 AM","Ted Meyer"]
["52584","LR09YEW1","Concord Elementary","Unknown","Lenovo N23 Chromebook",null,"Available","Chromebook","2018-01-25","195.58","18-53343","ITsavvy","N23 Non Touch","Lenovo","CC-CBL4-11","1c4d703cafaf","2022/2023",null,"24894-6412",null,null,"Building Budget","Pilot Project - Purchased with NON-technology funds",{"$nulls":3},"81MC001EUS","CBRedistribute",null,"5th Grade","01/15/2019 08:38 AM","Ted Meyer"]
["52586","LR09YEV7","Concord Elementary","Unknown","Lenovo N23 Chromebook",null,"Available","Chromebook","2018-01-25","195.58","18-53343","ITsavvy","N23 Non Touch","Lenovo","CC-CBL4-13","1c4d703cafcd","2022/2023",null,"24894-6412",null,null,"Building Budget","Pilot Project - Purchased with NON-technology funds",{"$nulls":3},"81MC001EUS","CBRedistribute",null,"5th Grade","01/15/2019 08:38 AM","Ted Meyer"]
["52566","LR09YEUG","Concord Elementary","Unknown","Lenovo N23 Chromebook",null,"Available","Chromebook","2018-01-25","195.58","18-53343","ITsavvy","N23 Non Touch","Lenovo","CC-CBL3-17","1c4d703caf78","2022/2023",null,"10192-6412",null,null,"Building Budget","Pilot Project - Purchased with NON-technology funds",{"$nulls":3},"81MC001EUS","CBRedistribute",null,"5th Grade","01/15/2019 08:38 AM","Ted Meyer"]
["52611","LR09YEWX","Concord Elementary","Unknown","Lenovo N23 Chromebook",null,"Available","Chromebook","2018-01-25","195.58","18-53343","ITsavvy","N23 Non Touch","Lenovo","CC-CBL5-14","1c4d7030e00d","2022/2023",null,"24894-6412",null,null,"Building Budget","Pilot Project - Purchased with NON-technology funds",{"$nulls":3},"81MC001EUS","CBRedistribute",null,"5th Grade","01/15/2019 08:38 AM","Ted Meyer"]
["52612","LR09YEWM","Concord Elementary","Unknown","Lenovo N23 Chromebook",null,"Available","Chromebook","2018-01-25","195.58","18-53343","ITsavvy","N23 Non Touch","Lenovo","CC-CBL5-15","1c4d70389244","2022/2023",null,"24894-6412",null,null,"Building Budget","Pilot Project - Purchased with NON-technology funds",{"$nulls":3},"81MC001EUS","CBRedistribute",null,"5th Grade","01/15/2019 08:38 AM","Ted Meyer"]
["52593","LR09YCDN","Concord Elementary","Unknown","Lenovo N23 Chromebook",null,"Available","Chromebook","2018-01-25","195.58","18-53343","ITsavvy","N23 Non Touch","Lenovo","CC-CBL4-20","1c4d7030dd74","2022/2023",null,"24894-6412",null,null,"Building Budget","Pilot Project - Purchased with NON-technology funds",{"$nulls":3},"81MC001EUS","CBRedistribute",null,"5th Grade","01/15/2019 08:38 AM","Ted Meyer"]
["52594","LR09YEVG","Concord Elementary","Unknown","Lenovo N23 Chromebook",null,"Available","Chromebook","2018-01-25","195.58","18-53343","ITsavvy","N23 Non Touch","Lenovo","CC-CBL4-21","1c4d703cafc8","2022/2023",null,"24894-6412",null,null,"Building Budget","Pilot Project - Purchased with NON-technology funds",{"$nulls":3},"81MC001EUS","CBRedistribute",null,"5th Grade","01/15/2019 08:38 AM","Ted Meyer"]
["52592","LR09YEVC","Concord Elementary","Unknown","Lenovo N23 Chromebook",null,"Available","Chromebook","2018-01-25","195.58","18-53343","ITsavvy","N23 Non Touch","Lenovo","CC-CBL4-19","1c4d703caf46","2022/2023",null,"24894-6412",null,null,"Building Budget","Pilot Project - Purchased with NON-technology funds",{"$nulls":3},"81MC001EUS","CBRedistribute",null,"5th Grade","01/15/2019 08:38 AM","Ted Meyer"]
["52551","LR09YJJ0","Concord Elementary","Unknown","Lenovo N23 Chromebook",null,"Available","Chromebook","2018-01-25","195.58","18-53343","ITsavvy","N23 Non Touch","Lenovo","CC-CBL3-02","1c4d70314d40","2022/2023",null,"10192-6412",null,null,"Building Budget","Pilot Project - Purchased with NON-technology funds",{"$nulls":3},"81MC001EUS","CBRedistribute",null,"5th Grade","01/15/2019 08:38 AM","Ted Meyer"]
["52553","LR09YEVL","Concord Elementary","Unknown","Lenovo N23 Chromebook",null,"Available","Chromebook","2018-01-25","195.58","18-53343","ITsavvy","N23 Non Touch","Lenovo","CC-CBL3-04","1c4d703cafa0","2022/2023",null,"10192-6412",null,null,"Building Budget","Pilot Project - Purchased with NON-technology funds",{"$nulls":3},"81MC001EUS","CBRedistribute",null,"5th Grade","01/15/2019 08:38 AM","Ted Meyer"]
["52576","LR09YEVN","Concord Elementary","Unknown","Lenovo N23 Chromebook",null,"Available","Chromebook","2018-01-25","195.58","18-53343","ITsavvy","N23 Non Touch","Lenovo","CC-CBL4-03","1c4d703cb004","2022/2023",null,"10192-6412",null,null,"Building Budget","Pilot Project - Purchased with NON-technology funds",{"$nulls":3},"81MC001EUS","CBRedistribute",null,"5th Grade","01/15/2019 08:38 AM","Ted Meyer"]
["52577","LR09YEW3","Concord Elementary","Unknown","Lenovo N23 Chromebook",null,"Available","Chromebook","2018-01-25","195.58","18-53343","ITsavvy","N23 Non Touch","Lenovo","CC-CBL4-04","1c4d703caf50","2022/2023",null,"10192-6412",null,null,"Building Budget","Pilot Project - Purchased with NON-technology funds",{"$nulls":3},"81MC001EUS","CBRedistribute",null,"5th Grade","01/15/2019 08:38 AM","Ted Meyer"]
["52585","LR09YEVA","Concord Elementary","Unknown","Lenovo N23 Chromebook",null,"Available","Chromebook","2018-01-25","195.58","18-53343","ITsavvy","N23 Non Touch","Lenovo","CC-CBL4-12","1c4d703caf87","2022/2023",null,"24894-6412",null,null,"Building Budget","Pilot Project - Purchased with NON-technology funds",{"$nulls":3},"81MC001EUS","CBRedistribute",null,"5th Grade","01/15/2019 08:38 AM","Ted Meyer"]
["53150","P202D9AJ","Concord Elementary","Unknown","Lenovo 500e Chromebook (Gen 1)",null,"Available","Chromebook","2018-06-19","287.00","19-54624","Firefly Computers","500e","Lenovo","Caden Gray","7c2a311cdc84","2022/2023",null,"100-1151-6412-3070-07360-1-000",{"$nulls":3},"CHROMEBOOK MANAGEMENT CONSOLE @$23.49FIREFLY CHROMEBOOK SUPPORT FOR LENOVOLANSCHOOL PERPETUAL PER DEVICE LICENSE WITH 1 YR OF SNS",{"$nulls":3},"81ES0007US","\tIssued for Virtual Learning - COVID-19",null,"5th Grade","01/15/2019 09:53 AM","Ted Meyer"]
["47278","PC06CWKH","Concord Elementary","Unknown","Lenovo ThinkPad Onelink Pro Dock for Thinkpad Yoga",null,"Available","Dock","2015-07-06","132.00","16-30425","TwoTrees","DU9033S1","Lenovo","Concord 035",{"$nulls":14},"5th Grade","01/15/2019 08:37 AM","Ted Meyer"]
["47277","PC06CWPR","Concord Elementary","Unknown","Lenovo ThinkPad Onelink Pro Dock for Thinkpad Yoga",null,"Available","Dock","2015-07-06","132.00","16-30425","TwoTrees","DU9033S1","Lenovo","Concord 034",{"$nulls":14},"5th Grade","01/15/2019 08:37 AM","Ted Meyer"]
["47275","PC04DSAC","Concord Elementary","Unknown","Lenovo ThinkPad Onelink Pro Dock for Thinkpad Yoga",null,"Available","Dock","2015-07-06","132.00","16-30425","TwoTrees","DU9033S1","Lenovo","Concord 032",{"$nulls":14},"5th Grade","01/15/2019 08:37 AM","Ted Meyer"]
["47274","PC06CWKD","Concord Elementary","Unknown","Lenovo ThinkPad Onelink Pro Dock for Thinkpad Yoga",null,"Available","Dock","2015-07-06","132.00","16-30425","TwoTrees","DU9033S1","Lenovo","Concord 031",{"$nulls":14},"5th Grade","01/15/2019 08:37 AM","Ted Meyer"]
["47429","DMQHM7LNDJ8T","Concord Elementary","Unknown","Apple iPad 16GB WIFI (3rd Gen)",null,"Available","iPad","2012-05-07","479.00","12-40102","Apple","MD339LL/A","Apple","Concord Music Room-04","ccc7605ea86d","2016/2017",null,"31213-6541",{"$nulls":7},"A1416",null,null,"Music","01/15/2019 08:37 AM","Ted Meyer"]
["53172","P202DF2U","Concord Elementary","Unknown","Lenovo 500e Chromebook (Gen 1)",null,"Available","Chromebook","2018-06-19","287.00","19-54624","Firefly Computers","500e","Lenovo","SPML3-CB-05","7c2a311c088b","2022/2023",null,"100-1151-6412-3070-07360-1-000",{"$nulls":3},"CHROMEBOOK MANAGEMENT CONSOLE @$23.49\nFIREFLY CHROMEBOOK SUPPORT FOR LENOVO\nLANSCHOOL PERPETUAL PER DEVICE LICENSE WITH 1 YR OF SNS",{"$nulls":3},"81ES0007US","Issued for Virtual Learning - COVID-19",null,"Modern Language","01/15/2019 09:53 AM","Ted Meyer"]
["53212","P202CXUR","Concord Elementary","Unknown","Lenovo 500e Chromebook (Gen 1)",null,"Available","Chromebook","2018-06-19","287.00","19-54624","Firefly Computers","500e","Lenovo","SPML4-CB-17","7470fda20dc3","2022/2023",null,"100-1151-6412-3070-07360-1-000",{"$nulls":3},"CHROMEBOOK MANAGEMENT CONSOLE @$23.49\nFIREFLY CHROMEBOOK SUPPORT FOR LENOVO\nLANSCHOOL PERPETUAL PER DEVICE LICENSE WITH 1 YR OF SNS",{"$nulls":3},"81ES0007US","Issued for Virtual Learning - COVID-19",null,"Modern Language","01/15/2019 09:53 AM","Ted Meyer"]
["53154","P202DF5P","Concord Elementary","Unknown","Lenovo 500e Chromebook (Gen 1)",null,"Available","Chromebook","2018-06-19","287.00","19-54624","Firefly Computers","500e","Lenovo","SPML2-CB-15","7c2a311a1f80","2022/2023",null,"100-1151-6412-3070-07360-1-000",{"$nulls":3},"CHROMEBOOK MANAGEMENT CONSOLE @$23.49\nFIREFLY CHROMEBOOK SUPPORT FOR LENOVO\nLANSCHOOL PERPETUAL PER DEVICE LICENSE WITH 1 YR OF SNS",{"$nulls":3},"81ES0007US","\tIssued for Virtual Learning - COVID-19",null,"Modern Language","01/15/2019 09:53 AM","Ted Meyer"]
["53187","P202E84B","Concord Elementary","Unknown","Lenovo 500e Chromebook (Gen 1)",null,"Available","Chromebook","2018-06-19","287.00","19-54624","Firefly Computers","500e","Lenovo","SPML3-CB-20","7c7635b14928","2022/2023",null,"100-1151-6412-3070-07360-1-000",{"$nulls":3},"CHROMEBOOK MANAGEMENT CONSOLE @$23.49\nFIREFLY CHROMEBOOK SUPPORT FOR LENOVO\nLANSCHOOL PERPETUAL PER DEVICE LICENSE WITH 1 YR OF SNS",{"$nulls":3},"81ES0007US","Issued for Virtual Learning - COVID-19",null,"Modern Language","01/15/2019 09:53 AM","Ted Meyer"]
["50859","P202D8ZM","Concord Elementary","Unknown","Lenovo 500e Chromebook (Gen 1)",null,"Available","Chromebook","2018-06-19","287.00","19-54624","Firefly Computers","500e","Lenovo","HSFLML1-CB-26","7c2a311c384c","2022/2023",null,"100-1151-6412-1050-07360-1-000",{"$nulls":3},"CHROMEBOOK MANAGEMENT CONSOLE @$23.49\nFIREFLY CHROMEBOOK SUPPORT FOR LENOVO\nLANSCHOOL PERPETUAL PER DEVICE LICENSE WITH 1 YR OF SNS",{"$nulls":3},"81ES0007US","Issued for Virtual Learning - COVID-19",null,"Modern Language","01/15/2019 09:21 AM","Ted Meyer"]
["47884","X606550052D92","Concord Elementary","Unknown","Xirrus XR-620 Access Point",null,"Available","Access Point","2016-07-01","237.42","17-36030","Zagarri Engineering","XR620","Xirrus",{"$nulls":4},"39038-65421",null,null,"E-Rate",{"$nulls":7},"CSR","01/15/2019 08:38 AM","Ted Meyer"]
["47864","X606550052DD0","Concord Elementary","Unknown","Xirrus XR-620 Access Point",null,"Available","Access Point","2016-07-01","237.42","17-36030","Zagarri Engineering","XR620","Xirrus","Creation Station",{"$nulls":3},"39038-65421",null,null,"E-Rate",{"$nulls":7},"Classroom","01/15/2019 08:38 AM","Ted Meyer"]
["46991","PC04W2V4","Concord Elementary","Unknown","Lenovo ThinkPad Onelink Pro Dock for Thinkpad Yoga",null,"Available","Dock","2015-07-06","132.00","16-30425","TwoTrees","DU9033S1","Lenovo","Creation Station",{"$nulls":14},"Classroom","01/15/2019 08:37 AM","Ted Meyer"]
["47211","PC06CWKJ","Concord Elementary","Unknown","Lenovo ThinkPad Onelink Pro Dock for Thinkpad Yoga",null,"Available","Dock","2015-07-06","132.00","16-30425","TwoTrees","DU9033S1","Lenovo","Concord 012",null,"2019/2020",{"$nulls":12},"ELL","01/15/2019 08:37 AM","Ted Meyer"]
["48025","DMPL1BH7F182","Concord Elementary","Unknown","Apple iPad 16GB WIFI (4th Gen)",null,"Available","iPad","2013-07-01","499.00","14-15269","Apple","MD510LL/A","Apple","Lisa Carson","a888089399a7","2017/2018",null,"27870-6541",{"$nulls":7},"A1458",null,null,"ELL","01/15/2019 08:37 AM","Ted Meyer"]
["47878","X606550053D92","Concord Elementary","Unknown","Xirrus XR-620 Access Point",null,"Available","Access Point","2016-07-01","237.42","17-36030","Zagarri Engineering","XR620","Xirrus",null,null,"2020/2021",null,"39038-65421",null,null,"E-Rate",{"$nulls":7},"ELL","01/15/2019 08:38 AM","Ted Meyer"]
["49977","MJ05N1R6","Concord Elementary","Data - 036","Lenovo ThinkCentre M9108 (Core i5-7500, 8GB, 1TB HDD)",null,"Available","Desktop","2017-08-14","755.41","18-50422","Staples","M92108","Lenovo","Carrie Rapp",null,"2021/2022",null,"27873-6412",{"$nulls":7},"10MK000QUS",null,null,"Yearbook","01/15/2019 09:21 AM","Ted Meyer"]
["49108","IN64G4F0BD","Concord Elementary","Data - 036","HP 5400R Power Supply",null,"Available","Power Supply","2016-07-05","535.00","17-36029","WJR Technologies","J9829A","HP",{"$nulls":4},"39038-65421",null,null,"E-Rate",{"$nulls":7},"PE","01/15/2019 08:38 AM","Ted Meyer"]
["49109","IN64G4F138","Concord Elementary","Data - 036","HP 5400R Power Supply",null,"Available","Power Supply","2016-07-05","535.00","17-36029","WJR Technologies","J9829A","HP",{"$nulls":4},"39038-65421",null,null,"E-Rate",{"$nulls":7},"PE","01/15/2019 08:38 AM","Ted Meyer"]
["49138","SG66GPR26G","Concord Elementary","Data - 036","HP 5406R Switch",null,"Available","Switch","2016-07-01","3,090.00","17-36029","WJR Technologies","JL003A","HP",{"$nulls":4},"39038-65421",null,null,"E-Rate",{"$nulls":7},"Technology","01/15/2019 08:38 AM","Ted Meyer"]
["47154","MP08FF5R","Concord Elementary","Data - 036","Lenovo ThinkPad Yoga 12 (Core i5-5200U, 8GB, 128GB SSD)",null,"Available","Laptop","2015-07-06","1,174.00","16-30425","TwoTrees","Yoga 12","Lenovo",null,"605718aa002d","2019/2020",{"$nulls":9},"20DKS1LQ00",null,null,"2nd Grade","01/15/2019 09:04 AM","Ted Meyer"]
["51299","LR09EAUA","District Storage","CO 216","Lenovo ThinkPad 11e",null,"Available","Laptop","2017-06-15","456.90","18-50158","STAPLES","11e","Lenovo",null,"e442a6a43035","2021/2022",null,"27871-6412",{"$nulls":3},"EXTENDED SERVICE AGREEMENT PARTS AND LABOR 3 YEAR PICK UP AND RETURN TOPSELLER SERVICE @$55.00",{"$nulls":3},"20GB001HUS",null,null,"3rd Grade","01/15/2019 09:46 AM","Ted Meyer"]
["47099","MP08HS8F","District Storage","CO 216","Lenovo ThinkPad Yoga 12 (Core i5-5200U, 8GB, 128GB SSD)",null,"Available","Laptop","2015-07-06","1,174.00","16-30425","TWOTREES","Yoga 12","Lenovo",null,"34028695b690","2019/2020",{"$nulls":9},"20DKS1LQ00",null,null,"3rd Grade","01/15/2019 09:04 AM","Ted Meyer"]
["42284","CN-ODX798-48730-08E-15F6","District Storage","TR 020","Dell 2330dn Laser Printer",null,"Available","Printer","2009-09-11","208.00","10-34400","Dell","2330dn","Dell",null,null,"2013/2014",null,"27870-6541",{"$nulls":11},"01/15/2019 09:59 AM","Ted Meyer"]
["47001","PC06CWRX","District Storage","TR 020","Lenovo ThinkPad Onelink Pro Dock for Thinkpad Yoga",null,"Available","Dock","2015-07-06",null,"16-30425",null,"DU9033S1","Lenovo",{"$nulls":16},"01/15/2019 08:34 AM","Ted Meyer"]
["30344","DL360026","District Storage","TR 020","Califone Cassette Tape Recorder",null,"Available","Audio","2004-03-05","69.23","05-23031","CSD (AVES)","5265AV","Califone",null,null,"2008/2009",null,"13660-6411",{"$nulls":11},"01/15/2019 09:59 AM","Ted Meyer"]
["30345","DL360027","District Storage","TR 020","Califone Cassette Tape Recorder",null,"Available","Audio","2004-03-05","69.23","05-23031","CSD (AVES)","5265AV","Califone",null,null,"2008/2009",null,"13660-6411",{"$nulls":11},"01/15/2019 09:59 AM","Ted Meyer"]
["38730","525307","District Storage","TR 020","ELMO TT-02RX Document Camera",null,"Available","Document Camera",{"$nulls":4},"TT-02RX","ELMO","Shadley",{"$nulls":15},"01/15/2019 09:04 AM","Ted Meyer"]
["40564","544907","District Storage","TR 020","ELMO TT-02RX Document Camera",null,"Available","Document Camera",{"$nulls":4},"TT-02RX","ELMO",null,null,"UnKnown",{"$nulls":13},"01/15/2019 09:59 AM","Ted Meyer"]
["44561","PB024TJN","District Storage","TR 020","Lenovo ThinkPad x140e",null,"Available","Laptop","2014-06-05","434.00","15-18339","TwoTrees","X140e","Lenovo","SP202-05","b8ee65d2ec25","2018/2019",null,"27870-6541",{"$nulls":11},"01/15/2019 09:52 AM","Ted Meyer"]
["41840","PB44H9A","District Storage","TR 020","Lenovo ThinkPad X131e",null,"Available","Laptop","2012-11-27","715.00","13-12007","TwoTrees","X131e","Lenovo",null,"083e8eaed8d7",null,null,"31590-6542",{"$nulls":4},"2017-10-11","Item is no longer functional",{"$nulls":5},"01/15/2019 09:52 AM","Ted Meyer"]
["44296","PB-0248XR","District Storage","TR 020","Lenovo ThinkPad x140e",null,"Available","Laptop","2014-06-05","434.00","15-18339","TwoTrees","X140e","Lenovo","CCLIB-11","b8ee65d2e28f","2018/2019","10.14.21.91 2360","27870-6541",{"$nulls":6},"Removed from Concord Library when added Chromebooks; sent to Central Office",{"$nulls":4},"01/15/2019 08:37 AM","Ted Meyer"]
["47023","DMPPXPFLFK10","Concord Elementary","Unknown","Apple iPad Air 16GB WIFI (1st Gen)",null,"Available","iPad","2015-06-08","379.00","16-30172","Apple Store Inc","PD785LL/B","Apple","CC034-02","c0cecdcccd95","2019/2020",null,"27870-6541",{"$nulls":6},"believe removed from Concord","A1474",null,null,"5th Grade","01/15/2019 08:37 AM","Ted Meyer"]
["36341",null,"Concord Elementary","Unknown","Bretford A/V Learning Cart",null,"Available","Cart","2007-09-04","305.00","08-29976","CDWG","ECILS3-BK","Bretford",null,null,"2011/2012",null,"27870-6541",{"$nulls":10},"2nd Grade","01/15/2019 08:37 AM","Ted Meyer"]
["47009","SMP08HS9Q","Concord Elementary","Unknown","Lenovo ThinkPad Yoga 12 (Core i5-5200U, 8GB, 128GB SSD)",null,"Available","Laptop","2015-07-06","1,174.00","16-30425","TWOTREES","Yoga 12","Lenovo","CC-TECHLOANER-1","34028695b6e0","2019/2020",{"$nulls":9},"20DKS1LQ00",null,null,"1st Grade","01/15/2019 09:35 AM","Ted Meyer"]
["18-53801-067","X6138115FFD78","Concord Elementary","Unknown","Xiirrus XD2-240 Access Point",null,"Available","Access Point","2018-08-01","610.00","18-53801","Zagarri","XD2-240","Xirrus",null,null,"2022/2023",null,"TE PD E",null,null,"E-Rate","ERATE",{"$nulls":7},"01/15/2019 08:38 AM","Ted Meyer"]
["18-53801-068","X6138115FFBB8","Concord Elementary","Unknown","Xiirrus XD2-240 Access Point",null,"Available","Access Point","2018-08-01","610.00","18-53801","Zagarri","XD2-240","Xirrus",null,null,"2022/2023",null,"TE PD E",null,null,"E-Rate","ERATE",{"$nulls":7},"01/15/2019 08:38 AM","Ted Meyer"]
["46726","SLR03ZUV6","Concord Elementary","Unknown","Lenovo ThinkPad 11e",null,"Available","Laptop","2015-07-06",null,"16-30271",null,"11e","Lenovo","Loaner","104a7d2707a9","2019/2020",null,"27872-6541",{"$nulls":7},"20DAS0VX00",{"$nulls":3},"01/15/2019 10:07 AM","Ted Meyer"]
["42653","LR-6PXXY","Concord Elementary","Unknown","Lenovo ThinkPad X130e",null,"Available","Laptop","2012-05-18","573.00","12-40254","TwoTrees","X130e","Lenovo","CC-MLA-10","7ce9d3eecbf8",null,null,"27870-6541",{"$nulls":6},"from CC-MLA",{"$nulls":4},"01/15/2019 08:37 AM","Ted Meyer"]
["51968","LR-09K0QA","Concord Elementary","Unknown","Lenovo ThinkPad 11e",null,"Available","Laptop","2017-08-03","433.42","18-50881","SoftChoice","11e","Lenovo","LECE-CC-01","aced5c5510a4","2021/2022",null,"27891-6412",{"$nulls":3},"RE1188 @51.42 5WSOE84849 LENOVO EPAC DEPOT REPAIR EXTENDED SERVICE AGREEMENT PARTS AND LABOR 2 YEARS (2ND/3RD YEAR) PICK UP AND RETURN",{"$nulls":3},"20GBS00S00",{"$nulls":3},"01/15/2019 08:38 AM","Ted Meyer"]
["34923",null,"Concord Elementary","Unknown","Bretford A/V Learning Cart",null,"Available","Cart","2007-01-23","315.00","07-28546","Tech Depot","ECILS3-BK","Bretford",{"$nulls":4},"27870-6541",{"$nulls":6},"Warehouse",{"$nulls":4},"01/15/2019 08:37 AM","Ted Meyer"]
["35880","FH7JD01079R","Concord Elementary","Unknown","Panasonic Digital Camera with 10X Optical Zoom Lens",null,"Available","Camera","2007-11-11","359.35","08-30466","Florida Micro","DMC-TZ3","Panasonic",{"$nulls":4},"27870-6541",{"$nulls":10},"Technology","01/15/2019 08:37 AM","Ted Meyer"]
["49471","LR-0838ZK","Concord Elementary","Unknown","Lenovo ThinkPad 11e",null,"Available","Laptop","2017-01-31","460.05","17-39252","ITsavvy","11e","Lenovo","CC043-15","d0577b662f56","2021/2022",null,"29541-6542",null,null,"Building Budget","400-1111-6542-417-001-000 CC inst equip",{"$nulls":3},"20GB000NUS",null,null,"3rd Grade","01/15/2019 08:38 AM","Ted Meyer"]
["49472","LR-08391Q","Concord Elementary","Unknown","Lenovo ThinkPad 11e",null,"Available","Laptop","2017-01-31","460.05","17-39252","ITsavvy","11e","Lenovo","CC043-16","d0577b65ab71","2021/2022",null,"29541-6542",null,null,"Building Budget","400-1111-6542-417-001-000 CC inst equip",{"$nulls":3},"20GB000NUS",null,null,"3rd Grade","01/15/2019 08:38 AM","Ted Meyer"]
["51039","LR-08MYBV","Concord Elementary","Unknown","Lenovo ThinkPad 11e",null,"Available","Laptop","2017-05-24","367.00","17-40901","TwoTrees","11e","Lenovo","CC002-05","c82158e65cf8","2021/2022",null,"27871-6541",{"$nulls":3},"5WSOE84849 LENOVO EPAC REPAIR EXTENDEND SERVICE @$49.99",{"$nulls":3},"20GBS00S00",null,null,"3rd Grade","01/15/2019 08:38 AM","Ted Meyer"]
["51048","LR-08MYG1","Concord Elementary","Unknown","Lenovo ThinkPad 11e",null,"Available","Laptop","2017-05-24","367.00","17-40901","TwoTrees","11e","Lenovo","CC - 23-01","c82158e6ee9d","2021/2022",null,"27871-6541",{"$nulls":3},"5WSOE84849 LENOVO EPAC REPAIR EXTENDEND SERVICE @$49.99",{"$nulls":3},"20GBS00S00",null,null,"3rd Grade","01/15/2019 08:38 AM","Ted Meyer"]
["48528","PB01FLYD","Concord Elementary","Unknown","Lenovo ThinkPad x140e",null,"Available","Laptop","2014-05-23","468.00","14-19284","TwoTrees","X140e","Lenovo","CCTLAB-13","b8ee6504cabd","2018/2019",null,"30690-6542",{"$nulls":6},"from CCTLAB",{"$nulls":3},"3rd Grade","01/15/2019 08:37 AM","Ted Meyer"]
["51056","LR-08MYGQ","Concord Elementary","Unknown","Lenovo ThinkPad 11e",null,"Available","Laptop","2017-05-24","367.00","17-40901","TwoTrees","11e","Lenovo","CC043-01","c82158e635d4","2021/2022",null,"27871-6541",{"$nulls":3},"5WSOE84849 LENOVO EPAC REPAIR EXTENDEND SERVICE @$49.99",{"$nulls":3},"20GBS00S00",null,null,"3rd Grade","01/15/2019 08:38 AM","Ted Meyer"]
["49826","X4146320F5162","Dressel Elementary","Unknown","Xirrus XD4-240 5 Year Erate Cloud Bundle",null,"Available","Access Point","2017-05-10","528.00","17-40232","Zagarri","XD4-240","Xirrus",{"$nulls":4},"39038-65421",null,null,"E-Rate",{"$nulls":8},"01/15/2019 08:40 AM","Ted Meyer"]
["49827","X4146320F515E","Dressel Elementary","Unknown","Xirrus XD4-240 5 Year Erate Cloud Bundle",null,"Available","Access Point","2017-05-10","528.00","17-40232","Zagarri","XD4-240","Xirrus",{"$nulls":4},"39038-65421",null,null,"E-Rate",{"$nulls":8},"01/15/2019 08:40 AM","Ted Meyer"]
["49822","X3136295F9624","Dressel Elementary","Unknown","Xirrus XD2-240 5 Year Erate Cloud Bundle",null,"Available","Access Point","2017-05-10","528.00","17-40232","Zagarri","XD2-240","Xirrus",{"$nulls":4},"39038-65421",null,null,"E-Rate",{"$nulls":8},"01/15/2019 08:40 AM","Ted Meyer"]
["49820","X3136295F95DC","Dressel Elementary","Unknown","Xirrus XD2-240 5 Year Erate Cloud Bundle",null,"Available","Access Point","2017-05-10","528.00","17-40232","Zagarri","XD2-240","Xirrus",{"$nulls":4},"39038-65421",null,null,"E-Rate",{"$nulls":8},"01/15/2019 08:40 AM","Ted Meyer"]
["51979","96BBG62","Dressel Elementary","Unknown","Dell E310Ddw Printer Monochrome Laser",null,"Available","Printer","2017-04-04","88.00","17-39799","TwoTrees","E310dw","Dell","Dottie Leigh",null,null,"USB","27870-6411",{"$nulls":11},"01/15/2019 08:40 AM","Ted Meyer"]
["49886","AC-PLUS-7617","Dressel Elementary","Unknown","AC Plus 36 Bay Charging Cart",null,"Available","Cart","2017-08-08","906.22","18-50496","ITsavvy","36 Bay","AC Plus",{"$nulls":4},"39038-65421",null,null,"Building Budget",{"$nulls":8},"01/15/2019 08:40 AM","Ted Meyer"]
["51010","AC-PLUS-10322","Dressel Elementary","Unknown","AC-Plus 36 Bay Charging Cart",null,"Available","Cart","2017-09-06","906.22","18-51039","ITsavvy","AC-Plus","All Carts",{"$nulls":4},"12310-6412",null,null,"Building Budget",{"$nulls":8},"01/15/2019 08:40 AM","Ted Meyer"]
["50596","P202D8XP","Dressel Elementary","Unknown","Lenovo 500e Chromebook (Gen 1)",null,"Available","Chromebook","2018-06-19","287.00","19-54624","Firefly Computers","500e","Lenovo","TR224-CB-05","7c2a311d06ff","2022/2023",null,"100-1151-6412-3080-07360-1-000",{"$nulls":3},"CHROMEBOOK MANAGEMENT CONSOLE @$23.49\nFIREFLY CHROMEBOOK SUPPORT FOR LENOVO\nLANSCHOOL PERPETUAL PER DEVICE LICENSE WITH 1 YR OF SNS",{"$nulls":3},"81ES0007US","CBRedistribute",null,"Math","01/15/2019 10:00 AM","Ted Meyer"]
["51240","LR09EAXQ","Dressel Elementary","Unknown","Lenovo ThinkPad 11e",null,"Available","Laptop","2017-06-15","456.90","18-50158","STAPLES","11e","Lenovo","DRML2-22","e442a6a4053d","2021/2022",null,"27871-6412",{"$nulls":3},"EXTENDED SERVICE AGREEMENT PARTS AND LABOR 3 YEAR PICK UP AND RETURN TOPSELLER SERVICE @$55.00",{"$nulls":3},"20GB001HUS",{"$nulls":3},"01/15/2019 08:40 AM","Ted Meyer"]
["49190","LR05U2NR","Dressel Elementary","Unknown","Lenovo ThinkPad 11e",null,"Available","Laptop","2016-07-13","357.00","17-36572","PROTECH COMPUTER SYSTEMS INC7100 N BROADWAY 3-CDENVER, CO 80221","11e","Lenovo","DR214-03","484520f1b8af","2020/2021",null,"27871-6541",{"$nulls":3},"$53.00 WARRANTY TSS 3 YR DEPOT UPGRADE",{"$nulls":3},"20GBS00000",{"$nulls":3},"01/15/2019 08:40 AM","Ted Meyer"]
["50964","P202D983","Dressel Elementary","Unknown","Lenovo 500e Chromebook (Gen 1)",null,"Available","Chromebook","2018-06-19","287.00","19-54624","Firefly Computers","500e","Lenovo","HSACAD-CB-047","7c2a311cdca2","2022/2023",null,"100-1151-6412-1050-07360-1-000",{"$nulls":3},"CHROMEBOOK MANAGEMENT CONSOLE @$23.49\nFIREFLY CHROMEBOOK SUPPORT FOR LENOVO\nLANSCHOOL PERPETUAL PER DEVICE LICENSE WITH 1 YR OF SNS",{"$nulls":3},"81ES0007US","Issued for Virtual Learning - COVID-19",null,"Academy","01/15/2019 09:22 AM","Ted Meyer"]
["43578","DMQJ893JDJ8T","Dressel Elementary","Unknown","Apple iPad 16GB WIFI (3rd Gen)",null,"Available","iPad","2012-08-22","479.00","13-10778","Apple","MC705LL/A","Apple","Jennifer Albers","98fe94cfc0ef","2016/2017",null,"27870-6541",{"$nulls":7},"A1416",null,null,"Principal","01/15/2019 08:40 AM","Ted Meyer"]
["43733","DMQJ8BBZDJ8T","Dressel Elementary","Unknown","Apple iPad 16GB WIFI (3rd Gen)",null,"Available","iPad","2012-08-22","479.00","13-10778","Apple","MC705LL/A","Apple","Counselor","98fe94cf3a79","2016/2017",null,"27870-6541",{"$nulls":7},"A1416",null,null,"Guidance","01/15/2019 08:40 AM","Ted Meyer"]
["50848","P202D0JG","Dressel Elementary","Unknown","Lenovo 500e Chromebook (Gen 1)",null,"Available","Chromebook","2018-06-19","287.00","19-54624","Firefly Computers","500e","Lenovo","HSFLML1-CB-15","7470fda44520","2022/2023",null,"100-1151-6412-1050-07360-1-000",{"$nulls":3},"CHROMEBOOK MANAGEMENT CONSOLE @$23.49\nFIREFLY CHROMEBOOK SUPPORT FOR LENOVO\nLANSCHOOL PERPETUAL PER DEVICE LICENSE WITH 1 YR OF SNS",{"$nulls":3},"81ES0007US","Issued for Virtual Learning - COVID-19",null,"Modern Language","01/15/2019 09:21 AM","Ted Meyer"]
["54096","P2034FVL","Dressel Elementary","Unknown","Lenovo 500e Chromebook (Gen 1)",null,"Available","Chromebook","2018-10-04","310.49","19-55702","Firefly Computers","500e","Lenovo","DR-LIBLAB1-18","38baf8ecb57b","2022/2023",null,"TE PD",{"$nulls":7},"81ES0007US","CBRedistribute",null,"Library","01/15/2019 08:40 AM","Ted Meyer"]
["47729","P2034UK5","Dressel Elementary","Unknown","Lenovo 500e Chromebook (Gen 1)",null,"Available","Chromebook","2018-10-04","310.49","19-55702","Firefly Computers","500e","Lenovo","TR-LIBLAB1-15","38baf85e2473","2022/2023",null,"TE PD",{"$nulls":7},"81ES0007US","CBRedistribute",null,"Library","01/15/2019 10:00 AM","Ted Meyer"]
["53220","P202D0H8","Dressel Elementary","Unknown","Lenovo 500e Chromebook (Gen 1)",null,"Available","Chromebook","2018-06-19","287.00","19-54624","Firefly Computers","500e","Lenovo","SPML4-CB-25","7470fda42b0d","2022/2023",null,"100-1151-6412-3070-07360-1-000",{"$nulls":3},"CHROMEBOOK MANAGEMENT CONSOLE @$23.49\nFIREFLY CHROMEBOOK SUPPORT FOR LENOVO\nLANSCHOOL PERPETUAL PER DEVICE LICENSE WITH 1 YR OF SNS",{"$nulls":3},"81ES0007US","Issued for Virtual Learning - COVID-19",null,"Modern Language","01/15/2019 09:53 AM","Ted Meyer"]
["53145","P202E87H","Dressel Elementary","Unknown","Lenovo 500e Chromebook (Gen 1)",null,"Available","Chromebook","2018-06-19","287.00","19-54624","Firefly Computers","500e","Lenovo","SPML2-CB-06","7c7635fc0a08","2022/2023",null,"100-1151-6412-3070-07360-1-000",{"$nulls":3},"CHROMEBOOK MANAGEMENT CONSOLE @$23.49\nFIREFLY CHROMEBOOK SUPPORT FOR LENOVO\nLANSCHOOL PERPETUAL PER DEVICE LICENSE WITH 1 YR OF SNS",{"$nulls":3},"81ES0007US","Issued for Virtual Learning - COVID-19",null,"Modern Language","01/15/2019 09:53 AM","Ted Meyer"]
["50752","P202D9MC","Dressel Elementary","Unknown","Lenovo 500e Chromebook (Gen 1)",null,"Available","Chromebook","2018-06-19","287.00","19-54624","Firefly Computers","500e","Lenovo","HSSCML3-CB-03","7c2a311cf3a9","2022/2023",null,"100-1151-6412-1050-07360-1-000",{"$nulls":3},"CHROMEBOOK MANAGEMENT CONSOLE @$23.49\nFIREFLY CHROMEBOOK SUPPORT FOR LENOVO\nLANSCHOOL PERPETUAL PER DEVICE LICENSE WITH 1 YR OF SNS",{"$nulls":3},"81ES0007US","Issued for Virtual Learning - COVID-19",null,"Science","01/15/2019 09:21 AM","Ted Meyer"]
["50768","P202D96V","Dressel Elementary","Unknown","Lenovo 500e Chromebook (Gen 1)",null,"Available","Chromebook","2018-06-19","287.00","19-54624","Firefly Computers","500e","Lenovo","HSSCML3-CB-19","7c2a311ae6c2","2022/2023",null,"100-1151-6412-1050-07360-1-000",{"$nulls":3},"CHROMEBOOK MANAGEMENT CONSOLE @$23.49\nFIREFLY CHROMEBOOK SUPPORT FOR LENOVO\nLANSCHOOL PERPETUAL PER DEVICE LICENSE WITH 1 YR OF SNS",{"$nulls":3},"81ES0007US","Issued for Virtual Learning - COVID-19",null,"Science","01/15/2019 09:21 AM","Ted Meyer"]
["50547","P202CYE8","Dressel Elementary","Unknown","Lenovo 500e Chromebook (Gen 1)",null,"Available","Chromebook","2018-06-19","287.00","19-54624","Firefly Computers","500e","Lenovo","TR27-CB-01","7470fda36d12","2022/2023",null,"100-1151-6412-3080-07360-1-000",{"$nulls":3},"CHROMEBOOK MANAGEMENT CONSOLE @$23.49FIREFLY CHROMEBOOK SUPPORT FOR LENOVOLANSCHOOL PERPETUAL PER DEVICE LICENSE WITH 1 YR OF SNS",{"$nulls":3},"81ES0007US","CBRedistribute",null,"Social Studies","01/15/2019 10:00 AM","Ted Meyer"]
["50829","P202DF35","Dressel Elementary","Unknown","Lenovo 500e Chromebook (Gen 1)",null,"Available","Chromebook","2018-06-19","287.00","19-54624","Firefly Computers","500e","Lenovo","HSSSML3-CB-24","7c2a311d7018","2022/2023",null,"100-1151-6412-1050-07360-1-000",{"$nulls":3},"CHROMEBOOK MANAGEMENT CONSOLE @$23.49\nFIREFLY CHROMEBOOK SUPPORT FOR LENOVO\nLANSCHOOL PERPETUAL PER DEVICE LICENSE WITH 1 YR OF SNS",{"$nulls":3},"81ES0007US","Issued for Virtual Learning - COVID-19",null,"Social Studies","01/15/2019 09:21 AM","Ted Meyer"]
["50822","P202DF6R","Dressel Elementary","Unknown","Lenovo 500e Chromebook (Gen 1)",null,"Available","Chromebook","2018-06-19","287.00","19-54624","Firefly Computers","500e","Lenovo","HSSSML3-CB-17","7c2a311bd361","2022/2023",null,"100-1151-6412-1050-07360-1-000",{"$nulls":3},"CHROMEBOOK MANAGEMENT CONSOLE @$23.49\nFIREFLY CHROMEBOOK SUPPORT FOR LENOVO\nLANSCHOOL PERPETUAL PER DEVICE LICENSE WITH 1 YR OF SNS",{"$nulls":3},"81ES0007US","Issued for Virtual Learning - COVID-19",null,"Social Studies","01/15/2019 09:21 AM","Ted Meyer"]
["50900","P202D9A1","Dressel Elementary","Unknown","Lenovo 500e Chromebook (Gen 1)",null,"Available","Chromebook","2018-06-19","287.00","19-54624","Firefly Computers","500e","Lenovo","HSSSML2-CB-11","7c2a311ccdf7","2022/2023",null,"100-1151-6412-1050-07360-1-000",{"$nulls":3},"CHROMEBOOK MANAGEMENT CONSOLE @$23.49\nFIREFLY CHROMEBOOK SUPPORT FOR LENOVO\nLANSCHOOL PERPETUAL PER DEVICE LICENSE WITH 1 YR OF SNS",{"$nulls":3},"81ES0007US","Issued for Virtual Learning - COVID-19",null,"Social Studies","01/15/2019 09:21 AM","Ted Meyer"]
["50546","P202DF65","Dressel Elementary","Unknown","Lenovo 500e Chromebook (Gen 1)",null,"Available","Chromebook","2018-06-19","287.00","19-54624","Firefly Computers","500e","Lenovo","TR25-CB-05","7c2a311bc35d","2022/2023",null,"100-1151-6412-3080-07360-1-000",{"$nulls":3},"CHROMEBOOK MANAGEMENT CONSOLE @$23.49\nFIREFLY CHROMEBOOK SUPPORT FOR LENOVO\nLANSCHOOL PERPETUAL PER DEVICE LICENSE WITH 1 YR OF SNS",{"$nulls":3},"81ES0007US","CBRedistribute",null,"English","01/15/2019 10:00 AM","Ted Meyer"]
["45739","PB5ZH2H","Sperreng Middle","159 (Band)","Lenovo ThinkPad USB 3.0 Dock",null,"Available","Dock","2013-05-10","135.00","14-15032","TWOTREES","DU9019D1","Lenovo",null,"843a4b0edbdc","2017/2018",{"$nulls":13},"01/15/2019 09:52 AM","Ted Meyer"]
["44979","DMPNXE3TFK10","Sperreng Middle","159 (Band)","Apple iPad Air 16GB WIFI (1st Gen)",null,"Available","iPad","2014-12-19","379.00","15-21008","Apple Store","PD785LL/B","Apple","Brian Wyss - 02","a85b78c97f61","2018/2019",null,"27870-6541",{"$nulls":3},"Admin Tech Equip/furn Marching Band 2 of 2",{"$nulls":3},"A1474",null,null,"Music","01/15/2019 09:52 AM","Ted Meyer"]
["36671","8Z001492FF","Sperreng Middle","159 (Band)","NEC NP300 Projector",null,"Available","Projector","2008-12-13","659.00","09-33069","CDWG","NP300","NEC","Main Room",null,"2012/2013",null,"27870-6541",{"$nulls":10},"Music","01/15/2019 09:52 AM","Ted Meyer"]
["47533","UHHK5502286","Long Elementary","Reading","Epson Brightlink 595Wi Projector",null,"Available","Projector","2015-10-30","1,704.99","16-32145","ITsavvy","Brightlink 595Wi","Epson","Jan Hoth",null,"2019/2020","10.0.19.10","27870-6541",{"$nulls":10},"Social Studies","01/15/2019 09:21 AM","Ted Meyer"]
["36399","Y065900XZ","Truman Middle","312","Yamaha Audio AM/FM Stereo Receiver Model R-S700",null,"Available","Audio","2011-06-09","499.99","11-37786","Crutchfield","R-S702","Yamaha","TR313",null,"2015/2016",{"$nulls":12},"Music","01/15/2019 09:59 AM","Ted Meyer"]
["36869","460645","Truman Middle","312","Tascam CD Recorder Player",null,"Available","CD Player","2011-07-14","158.00","12-37441","All Pro Sound","CD-RW900SL","Tascam","TR313",null,"2015/2016",{"$nulls":12},"Music","01/15/2019 09:59 AM","Ted Meyer"]
["45265","K1315004607","Truman Middle","312","Lenovo ThinkPad USB 3.0 Dock",null,"Available","Dock","2013-05-10","135.00","14-15032","TWOTREES","DU9019D1","Lenovo","TR313","843a4b0edbdc","2017/2018",{"$nulls":12},"Music","01/15/2019 09:59 AM","Ted Meyer"]
["36745",null,"Truman Middle","312","Bretford A/V Learning Cart",null,"Available","Cart","2007-09-04","305.00","08-30711","CDWG","ECILS3-BK","Bretford","TR313",null,"2011/2012",null,"27870-6541",{"$nulls":10},"Music","01/15/2019 09:59 AM","Ted Meyer"]
["49881","06LR3CCJ607762","Truman Middle","Tile Gym","Samsung 65\" 4K Ultra HD Smart TV",null,"Available","TV","2017-08-01","1,186.90","18-50420","Amazon","UN65MU6300FXZA","Samsung",null,null,"2021/2022",null,"27872-6541",{"$nulls":10},"PE","01/15/2019 10:00 AM","Ted Meyer"]
["43109","R9PMCXA","Lindbergh High School","Unknown","Lenovo ThinkPad x220 Tablet Laptop",null,"Available","Laptop","2012-07-09","1,550.00","13-10310","Two Trees","X220","Lenovo",null,"8c705a7a3d44",null,null,"27870-6541",{"$nulls":7},"42963MU",{"$nulls":3},"01/15/2019 10:07 AM","Ted Meyer"]
["49892","SV5K00721","Central Office","114","Lenovo ThinkVision 21.5\"",null,"Available","Monitor","2017-08-07","124.71","18-50819","ITsavvy","T2224D","Lenovo","Melissa Wallace",{"$nulls":3},"27870-6411",{"$nulls":11},"01/15/2019 10:39 AM","Ted Meyer"]
["50048","V5V35282","Central Office","114","Lenovo ThinkVision T2224d 22\" LED Monitor",null,"Available","Monitor","2018-09-13","128.00","19-55408","Firefly Computers","T2224d","Lenovo","Kim Gabrian",{"$nulls":3},"TE PD",{"$nulls":10},"Human Resources","01/15/2019 10:39 AM","Ted Meyer"]
["50049","V5V34473","Central Office","114","Lenovo ThinkVision T2224d 22\" LED Monitor",null,"Available","Monitor","2018-09-13","128.00","19-55408","Firefly Computers","T2224d","Lenovo","Kim Gabrain",{"$nulls":3},"TE PD",{"$nulls":10},"Human Resources","01/15/2019 10:39 AM","Ted Meyer"]
["38955","V6 - E3892","Central Office","114","Lenovo ThinkVision 22\" LCD Monitor",null,"Available","Monitor","2009-08-25","182.00","10-34231","Lenovo","L2240P","Lenovo",{"$nulls":4},"27870-6541",{"$nulls":10},"Office","01/15/2019 10:39 AM","Ted Meyer"]
["38956","V6 - E3900","Central Office","114","Lenovo ThinkVision 22\" LCD Monitor",null,"Available","Monitor","2009-08-25","182.00","10-34231","Lenovo","L2240P","Lenovo","Cathy Albenesius",{"$nulls":3},"27870-6541",{"$nulls":10},"Office","01/15/2019 10:39 AM","Ted Meyer"]
["38962","V6 - E3837","Central Office","114","Lenovo ThinkVision 22\" LCD Monitor",null,"Available","Monitor","2009-08-25","182.00","10-34231","Lenovo","L2240P","Lenovo",{"$nulls":4},"27870-6541",{"$nulls":10},"Office","01/15/2019 10:39 AM","Ted Meyer"]
["39899","V6-D4168","Central Office","114","Lenovo ThinkVision 22\" LCD Display",null,"Available","Monitor","2010-06-02","219.99","10-35552","Lenovo",null,"Lenovo",{"$nulls":4},"27870-6411",{"$nulls":10},"Technology","01/15/2019 10:39 AM","Ted Meyer"]
["52218","FVFWL04BJ1WL","Central Office","124","Apple MacBook Air Intel Core i5, 8GB, 256GB SSD (2017)",null,"Available","MacBook","2018-07-25","1,049.00","19-54864","Apple Store","MQD42LL/A","Apple","Tony Lake","1094bbde45fe","2022/2023",null,"TE Paid",{"$nulls":3},"Purchased with 3 year Apple Care + for Macbook/MacBook Air on PO 19-54953",{"$nulls":3},"MQD42LL/A",null,null,"Superintendent","01/15/2019 10:39 AM","Ted Meyer"]
["47772","CN-0DX798-48730-08E-162H","Central Office","107","Dell 2330dn Laser Printer",null,"Available","Printer",{"$nulls":4},"2330dn","Dell",{"$nulls":15},"Administration","01/15/2019 10:39 AM","Ted Meyer"]
["52780","VKL01060","Central Office","108","Lenovo ThinkVision 19.5\" LED Monitor",null,"Available","Monitor","2018-05-18","104.28","18-54863","Itsavvy","E2054","Lenovo","Kathy Wood",{"$nulls":3},"24452-6411",{"$nulls":10},"Business Dept.","01/15/2019 10:39 AM","Ted Meyer"]
["48228","V132913","Central Office","108","Lenovo ThinkVision 23\" Monitor",null,"Available","Monitor","2013-11-07","195.00","14-17027","TwoTrees","LS2323","Lenovo",{"$nulls":4},"278986412",{"$nulls":10},"Office","01/15/2019 10:39 AM","Ted Meyer"]
["48215","US-0K2JJD-48730-38G-0461","Central Office","108","Dell B2360dn Laser Printer",null,"Available","Printer",{"$nulls":4},"B2360dn","Dell",{"$nulls":15},"Office","01/15/2019 10:39 AM","Ted Meyer"]
["52264","AWTHG03366","Central Office","114","Fujitsu ScanSnap iX500 Scanner",null,"Available","Scanner","2018-01-09","433.55","18-53150","ITsavvy","iX500","Fujitsu","Carol Tague",{"$nulls":3},"27870-6411",{"$nulls":10},"Business Dept.","01/15/2019 10:39 AM","Ted Meyer"]
["52730","V5V34464","Central Office","114","Lenovo ThinkVision T2224d 22\" LED Monitor",null,"Available","Monitor","2018-09-05","128.00","19-55489","Firefly Computers","T2224d","Lenovo",{"$nulls":4},"TE PD",{"$nulls":10},"Credit Recovery","01/15/2019 09:22 AM","Ted Meyer"]
["48036","V120410","Central Office","114","Lenovo ThinkVision 23\" Monitor",null,"Available","Monitor","2013-07-16","185.00","14-15477","TwoTrees","LS2323","Lenovo",{"$nulls":4},"27870-6541",{"$nulls":10},"Industrial Technology","01/15/2019 09:21 AM","Ted Meyer"]
["52377","06TN3CAJ606367","Central Office","202","Samsung 50\" TV",null,"Available","TV","2017-12-12","521.19","18-52493","ITsavvy","UN50M5300AFXZA","Samsung",null,null,"2021/2022",null,"27870-6411",{"$nulls":10},"Curriculum & Instruction","01/15/2019 10:39 AM","Ted Meyer"]
["44401","PB01NMJJ","Central Office","202","Lenovo ThinkPad USB 3.0 Dock",null,"Available","Dock","2014-07-17","104.00","15-18796","ITSavvy","DU9019D1","Lenovo",{"$nulls":4},"27870-6541",{"$nulls":10},"Technology","01/15/2019 09:34 AM","Ted Meyer"]
["48035","V11558","Central Office","105","Lenovo ThinkVision 23\" Monitor",null,"Available","Monitor","2013-07-16","185.00","14-15477","TwoTrees","LS2323","Lenovo",{"$nulls":4},"27870-6541",{"$nulls":10},"C&I","01/15/2019 10:39 AM","Ted Meyer"]
["39158","D901077","Concord Elementary","Unknown","Anchor - 30-Watt Powered Speaker",null,"Available","Speaker","2009-08-11","167.45","10-34113","Long's Electronics","AN-130","Anchor",{"$nulls":4},"27870-6541",{"$nulls":10},"Technology","01/15/2019 08:37 AM","Ted Meyer"]
["50810","P202DF44","Concord Elementary","Unknown","Lenovo 500e Chromebook (Gen 1)",null,"Available","Chromebook","2018-06-19","287.00","19-54624","Firefly Computers","500e","Lenovo","HSSSML3-CB-05","7c2a311c08c2","2022/2023",null,"100-1151-6412-1050-07360-1-000",{"$nulls":3},"CHROMEBOOK MANAGEMENT CONSOLE @$23.49\nFIREFLY CHROMEBOOK SUPPORT FOR LENOVO\nLANSCHOOL PERPETUAL PER DEVICE LICENSE WITH 1 YR OF SNS",{"$nulls":3},"81ES0007US","Issued for Virtual Learning - COVID-19",null,"Social Studies","01/15/2019 09:21 AM","Ted Meyer"]
["50812","P202DF33","Concord Elementary","Unknown","Lenovo 500e Chromebook (Gen 1)",null,"Available","Chromebook","2018-06-19","287.00","19-54624","Firefly Computers","500e","Lenovo","HSSSML3-CB-07","7c2a311d6ffa","2022/2023",null,"100-1151-6412-1050-07360-1-000",{"$nulls":3},"CHROMEBOOK MANAGEMENT CONSOLE @$23.49\nFIREFLY CHROMEBOOK SUPPORT FOR LENOVO\nLANSCHOOL PERPETUAL PER DEVICE LICENSE WITH 1 YR OF SNS",{"$nulls":3},"81ES0007US","Issued for Virtual Learning - COVID-19",null,"Social Studies","01/15/2019 09:21 AM","Ted Meyer"]
["50894","P202D951","Concord Elementary","Unknown","Lenovo 500e Chromebook (Gen 1)",null,"Available","Chromebook","2018-06-19","287.00","19-54624","Firefly Computers","500e","Lenovo","HSSSML2-CB-05","7c2a311a0c93","2022/2023",null,"100-1151-6412-1050-07360-1-000",{"$nulls":3},"CHROMEBOOK MANAGEMENT CONSOLE @$23.49\nFIREFLY CHROMEBOOK SUPPORT FOR LENOVO\nLANSCHOOL PERPETUAL PER DEVICE LICENSE WITH 1 YR OF SNS",{"$nulls":3},"81ES0007US","Issued for Virtual Learning - COVID-19",null,"Social Studies","01/15/2019 09:21 AM","Ted Meyer"]
["49525","752TSVW004","Central Office","204","Motorola CP200D UHF Digital 16 Channel Two-Way Radio",null,"Available","Two-Way Radio","2017-03-06","365.00","17-39627","TBS Electronics","CP200D","Motorola","Ronni Zagora",{"$nulls":3},"26445-6411",null,null,"Building Budget","3 Year Warranty",{"$nulls":6},"Office","01/15/2019 10:39 AM","Ted Meyer"]
["43360","DMQJ87VBDJ8T","Central Office","202","Apple iPad 16GB WIFI (3rd Gen)",null,"Available","iPad","2012-08-22","479.00","13-10778","Apple","MC705LL/A","Apple",null,"98fe94cee7d9",null,null,"27870-6541",{"$nulls":7},"A1416",null,null,"C&I","01/15/2019 10:39 AM","Ted Meyer"]
["47964","MP10DAJK","Central Office","202","Lenovo ThinkPad Yoga 260 (Core i5-6200U, 8GB, 192GB)",null,"Available","Laptop","2016-06-01","1,040.00","17-36122","TwoTrees Technologies, LLC","Yoga 260","Lenovo",null,"e4b318ab826d","2020/2021",null,"27870-6541",{"$nulls":3},"400-2331-6543-824-000-000",{"$nulls":3},"20FD002DUS",null,null,"C&I","01/15/2019 10:39 AM","Ted Meyer"]
["47780","V115585","Central Office","202","Lenovo ThinkVision 23\" Monitor",null,"Available","Monitor",{"$nulls":4},"LS2323","Lenovo","Bev Coleman",{"$nulls":14},"Administration","01/15/2019 10:39 AM","Ted Meyer"]
["47968","MP136E1L","Central Office","205","Lenovo ThinkPad Yoga 260 (Core i5-6200U, 8GB, 192GB)",null,"Available","Laptop","2016-06-01","1,040.00","17-36122","TwoTrees Technologies, LLC","Yoga 260","Lenovo","Jill Lawson","e4b318c6cea1","2020/2021",null,"27870-6541",{"$nulls":3},"400-2331-6543-824-000-000",{"$nulls":3},"20FD002DUS",null,null,"Administration","01/15/2019 10:39 AM","Ted Meyer"]
["43142","V114210","Central Office","205","Lenovo 23.6\" LCD Monitor",null,"Available","Monitor","2012-07-19","210.00","13-10423","Two Trees","LS2421P","Lenovo","Jill Lawson",{"$nulls":3},"27870-6541",{"$nulls":10},"Administration","01/15/2019 10:39 AM","Ted Meyer"]
["45707","PB5ZN3Y","Central Office","207","Lenovo ThinkPad USB 3.0 Dock",null,"Available","Dock","2013-05-10","135.00","14-15032","TWOTREES","DU9019D1","Lenovo",null,"843a4b0edbdc",{"$nulls":14},"01/15/2019 10:39 AM","Ted Meyer"]
["47873","X606550053DC2","Concord Elementary","Unknown","Xirrus XR-620 Access Point",null,"Available","Access Point","2016-07-01","237.42","17-36030","Zagarri Engineering","XR620","Xirrus",{"$nulls":4},"39038-65421",null,null,"E-Rate",{"$nulls":7},"Art","01/15/2019 08:38 AM","Ted Meyer"]
["47279","PC04DSAD","Concord Elementary","Unknown","Lenovo ThinkPad Onelink Pro Dock for Thinkpad Yoga",null,"Available","Dock","2015-07-06","132.00","16-30425","TwoTrees","DU9033S1","Lenovo","Concord 036",{"$nulls":14},"Art","01/15/2019 08:37 AM","Ted Meyer"]
["47280","PC06CWML","Concord Elementary","Unknown","Lenovo ThinkPad Onelink Pro Dock for Thinkpad Yoga",null,"Available","Dock","2015-07-06","132.00","16-30425","TwoTrees","DU9033S1","Lenovo","Concord 037",{"$nulls":14},"Music","01/15/2019 08:37 AM","Ted Meyer"]
["47874","X606550053DC0","Concord Elementary","Unknown","Xirrus XR-620 Access Point",null,"Available","Access Point","2016-07-01","237.42","17-36030","Zagarri Engineering","XR620","Xirrus",{"$nulls":4},"39038-65421",null,null,"E-Rate",{"$nulls":7},"Music","01/15/2019 08:38 AM","Ted Meyer"]
["47867","X606550052C6C","Concord Elementary","Unknown","Xirrus XR-620 Access Point",null,"Available","Access Point","2016-07-01","237.42","17-36030","Zagarri Engineering","XR620","Xirrus",null,null,"2020/2021",null,"39038-65421",null,null,"E-Rate",{"$nulls":7},"3rd Grade","01/15/2019 08:38 AM","Ted Meyer"]
["47887","X606550052DAC","Concord Elementary","Unknown","Xirrus XR-620 Access Point",null,"Available","Access Point","2016-07-01","237.42","17-36030","Zagarri Engineering","XR620","Xirrus",null,null,"2020/2021",null,"39038-65421",null,null,"E-Rate",{"$nulls":7},"3rd Grade","01/15/2019 08:38 AM","Ted Meyer"]
["47883","X606550052EE8","Concord Elementary","Unknown","Xirrus XR-620 Access Point",null,"Available","Access Point","2016-07-01","237.42","17-36030","Zagarri Engineering","XR620","Xirrus",null,null,"2020/2021",null,"39038-65421",null,null,"E-Rate",{"$nulls":7},"3rd Grade","01/15/2019 08:38 AM","Ted Meyer"]
["18-53801-066","X6138115FFB94","Concord Elementary","Unknown","Xiirrus XD2-240 Access Point",null,"Available","Access Point","2018-08-01","610.00","18-53801","Zagarri","XD2-240","Xirrus",null,null,"2022/2023",null,"TE PD E",null,null,"E-Rate","ERATE",{"$nulls":6},"3rd Grade","01/15/2019 08:38 AM","Ted Meyer"]
["47890","XR21532064A54","Concord Elementary","Unknown","Xirrus XR-2426 Access Point",null,"Available","Access Point","2016-07-01","237.42","17-36030","Zagarri Engineering","XR2426","Xirrus",{"$nulls":4},"39038-65421",null,null,"E-Rate",{"$nulls":7},"PE","01/15/2019 08:38 AM","Ted Meyer"]
["52215","V5L49292","Central Office","106","Lenovo ThinkVision T2224d 22\" LED Monitor",null,"Available","Monitor","2017-09-19","128.96","18-51780","ITsavvy LLC","T2224d","Lenovo","Joël Cracchiolo",{"$nulls":3},"27870-6411",{"$nulls":10},"Business Dept.","01/15/2019 10:39 AM","Ted Meyer"]
["52406","F058F52","Central Office","110","Dell C2660dn Color Laser Printer",null,"Available","Printer","2018-01-25","202.09","18-53371","ITsavvy","C2660dn","Dell",{"$nulls":4},"27870-6411",{"$nulls":10},"Human Resources","01/15/2019 10:39 AM","Ted Meyer"]
["52555","LR09YEXF","Concord Elementary","Unknown","Lenovo N23 Chromebook",null,"Available","Chromebook","2018-01-25","195.58","18-53343","ITsavvy","N23 Non Touch","Lenovo","CC-CBL3-06","1c4d7030dfdb","2022/2023",null,"10192-6412",null,null,"Building Budget","Pilot Project - Purchased with NON-technology funds",{"$nulls":3},"81MC001EUS","CBRedistribute",null,"5th Grade","01/15/2019 08:38 AM","Ted Meyer"]
["52557","LR09YJ71","Concord Elementary","Unknown","Lenovo N23 Chromebook",null,"Available","Chromebook","2018-01-25","195.58","18-53343","ITsavvy","N23 Non Touch","Lenovo","CC-CBL3-08","1c4d70314e2b","2022/2023",null,"10192-6412",null,null,"Building Budget","Pilot Project - Purchased with NON-technology funds",{"$nulls":3},"81MC001EUS","CBRedistribute",null,"5th Grade","01/15/2019 08:38 AM","Ted Meyer"]
["52562","LR09YJ8G","Concord Elementary","Unknown","Lenovo N23 Chromebook",null,"Available","Chromebook","2018-01-25","195.58","18-53343","ITsavvy","N23 Non Touch","Lenovo","CC-CBL3-13","1c4d70314e62","2022/2023",null,"10192-6412",null,null,"Building Budget","Pilot Project - Purchased with NON-technology funds",{"$nulls":3},"81MC001EUS","CBRedistribute",null,"5th Grade","01/15/2019 08:38 AM","Ted Meyer"]
["52538","LR0A3PJV","Concord Elementary","Unknown","Lenovo N23 Chromebook",null,"Available","Chromebook","2018-01-17","270.32","18-53260","SoftChoice","N23 Touch","Lenovo","CC-CBL2-18","1c4d7051d4de","2022/2023",null,"See Below",null,null,"Building Budget","26606--6412 CC Camp Ignite  24932-6412 CC Boeing Grant   26626-6412 CC Soda Fund - Purchased to pilot Chromebooks at the elementary level.",{"$nulls":3},"81MC001EUS","CBRedistribute",null,"5th Grade","01/15/2019 08:38 AM","Ted Meyer"]
["51006","AC-PLUS-10299","Concord Elementary","Unknown","AC-Plus 36 Bay Charging Cart",null,"Available","Cart","2017-09-06","906.22","18-50867","ITsavvy","AC-Plus","All Carts","CCPLTWML-01",{"$nulls":3},"16491-6412",null,null,"Building Budget",{"$nulls":7},"3rd Grade","01/15/2019 08:38 AM","Ted Meyer"]
["51011","AC-PLUS-10325","Concord Elementary","Unknown","AC-Plus 36 Bay Charging Cart",null,"Available","Cart","2017-09-06","906.22","18-51039","ITsavvy","AC-Plus","All Carts","CCTLAB",{"$nulls":3},"12310-6412",null,null,"Building Budget",{"$nulls":7},"3rd Grade","01/15/2019 08:38 AM","Ted Meyer"]
["52573","LR09YEUY","Concord Elementary","Unknown","Lenovo N23 Chromebook",null,"Available","Chromebook","2018-01-25","195.58","18-53343","ITsavvy","N23 Non Touch","Lenovo","CC038-26","1c4d703caf4b","2022/2023",null,"10192-6412",null,null,"Building Budget","Pilot Project - Purchased with NON-technology funds",{"$nulls":3},"81MC001EUS","CBRedistribute",null,"4th Grade","01/15/2019 08:38 AM","Ted Meyer"]
["52554","LR09YJ88","Concord Elementary","Unknown","Lenovo N23 Chromebook",null,"Available","Chromebook","2018-01-25","195.58","18-53343","ITsavvy","N23 Non Touch","Lenovo","CC038-21","1c4d70314f1b","2022/2023",null,"10192-6412",null,null,"Building Budget","Pilot Project - Purchased with NON-technology funds",{"$nulls":3},"81MC001EUS","CBRedistribute",null,"4th Grade","01/15/2019 08:38 AM","Ted Meyer"]
["47204","PC06CWUT","Concord Elementary","Unknown","Lenovo ThinkPad Onelink Pro Dock for Thinkpad Yoga",null,"Available","Dock","2015-07-06","132.00","16-30425","TwoTrees","DU9033S1","Lenovo","Concord 004",null,"2019/2020",{"$nulls":12},"4th Grade","01/15/2019 08:37 AM","Ted Meyer"]
["47283","PC04DSAH","Concord Elementary","Unknown","Lenovo ThinkPad Onelink Pro Dock for Thinkpad Yoga",null,"Available","Dock","2015-07-06","132.00","16-30425","TwoTrees","DU9033S1","Lenovo","Concord 040",{"$nulls":14},"4th Grade","01/15/2019 08:37 AM","Ted Meyer"]
["47281","PC06CWPQ","Concord Elementary","Unknown","Lenovo ThinkPad Onelink Pro Dock for Thinkpad Yoga",null,"Available","Dock","2015-07-06","132.00","16-30425","TwoTrees","DU9033S1","Lenovo","Concord 038",{"$nulls":14},"4th Grade","01/15/2019 08:37 AM","Ted Meyer"]
["40686","RD0027744","Concord Elementary","Unknown","FrontRow Pro Digital 940R Receiver/Amplifier with 940TM Transmitter/Microphone",null,"Available","Classroom Audio",{"$nulls":4},"940R","FrontRow",{"$nulls":15},"3rd Grade","01/15/2019 08:37 AM","Ted Meyer"]
["47682","CN-0K2JJD-48730-54U-2YJH","Concord Elementary","Unknown","Dell 2360dn Laser Printer",null,"Available","Printer","2015-08-19","225.13","16-31022","ITsavvy","2360dn","Dell",null,"0021b785f879","2019/2020",null,"27870-6411",{"$nulls":10},"3rd Grade","01/15/2019 08:37 AM","Ted Meyer"]
["52623","LR09YJJQ","Concord Elementary","Unknown","Lenovo N23 Chromebook",null,"Available","Chromebook","2018-01-25","195.58","18-53343","ITsavvy","N23 Non Touch","Lenovo","CC-CBLOANER-05","1c4d70314e44","2022/2023",null,"26626-6412",null,null,"Building Budget","Pilot Project - Purchased with NON-technology funds",null,null,"Replacement for chromebook #15 cart 4 which has spacebar issues","81MC001EUS","CBRedistribute",null,"5th Grade","01/15/2019 08:38 AM","Ted Meyer"]
["52619","LR09YJ7X","Concord Elementary","Unknown","Lenovo N23 Chromebook",null,"Available","Chromebook","2018-01-25","195.58","18-53343","ITsavvy","N23 Non Touch","Lenovo","CC038-22","1c4d70314d9a","2022/2023",null,"26626-6412",null,null,"Building Budget","Pilot Project - Purchased with NON-technology funds",{"$nulls":3},"81MC001EUS","CBRedistribute",null,"5th Grade","01/15/2019 08:38 AM","Ted Meyer"]
["47774","V6-H6587","Central Office","124","Lenovo ThinkVision 22\" LCD Monitor",null,"Available","Monitor",{"$nulls":4},"L2240P","Lenovo","Laura Hecht",{"$nulls":14},"Administration","01/15/2019 10:39 AM","Ted Meyer"]
["45240","K1315004462","Central Office","124","Lenovo ThinkPad USB 3.0 Dock",null,"Available","Dock","2013-05-10","135.00","14-15032","TWOTREES","DU9019D1","Lenovo",null,"843a4b0edbdc",{"$nulls":13},"Principal","01/15/2019 08:34 AM","Ted Meyer"]
["53061","P202CYGD","Central Office","211","Lenovo 500e Chromebook (Gen 1)",null,"Available","Chromebook","2018-06-19","287.00","19-54624","Firefly Computers","500e","Lenovo","SP130-CB-02","7470fda4e82c","2022/2023",null,"100-1151-6412-3070-07360-1-000",{"$nulls":3},"CHROMEBOOK MANAGEMENT CONSOLE @$23.49\nFIREFLY CHROMEBOOK SUPPORT FOR LENOVO\nLANSCHOOL PERPETUAL PER DEVICE LICENSE WITH 1 YR OF SNS",{"$nulls":3},"81ES0007US","CBRedistribute",null,"English","01/15/2019 09:53 AM","Ted Meyer"]
["47080","MP08FEWL","Central Office","211","Lenovo ThinkPad Yoga 12 (Core i5-5200U, 8GB, 128GB SSD)",null,"Available","Laptop","2015-07-06","1,174.00","16-30425","TwoTrees","Yoga 12","Lenovo",null,"605718a9ffba","2019/2020",{"$nulls":9},"20DKS1LQ00",null,null,"Technology","01/15/2019 08:37 AM","Ted Meyer"]
["44629","PF020RT3","Lindbergh High School","HSFLML3","Lenovo ThinkPad Edge E540",null,"Available","Laptop","2014-07-21","670.74","15-18830","ITsavvy","E540","Lenovo","HS315ML-08","a0a8cd893fd7","2018/2019",{"$nulls":9},"20C6S01Q00",{"$nulls":3},"01/15/2019 09:21 AM","Ted Meyer"]
["33932","MY5CM320N9","Lindbergh High School","Unknown","HP K550TN OfficeJet Laser Printer",null,"Available","Printer","2006-08-31","235.89","07-27780","CDWG, INC","K550DTN","HP",{"$nulls":3},"USB Local","27870-6541",{"$nulls":4},"2017-09-28","Item is no longer functional",{"$nulls":4},"Social Studies","01/15/2019 09:21 AM","Ted Meyer"]
["38868","L3AGM1W","Lindbergh High School","Unknown","Lenovo ThinkPad x200T Tablet Laptop",null,"Available","Laptop","2009-06-05","1,569.00","10-33737","Lenovo","x200t","Lenovo","HS6-02",{"$nulls":3},"27870-6541",{"$nulls":10},"SSD","01/15/2019 09:21 AM","Ted Meyer"]
["38431","L3AGM1R","Lindbergh High School","Unknown","Lenovo ThinkPad x200T Tablet Laptop",null,"Available","Laptop","2009-06-05","1,569.00","10-33737","Lenovo","x200t","Lenovo","HS8-02",{"$nulls":3},"27870-6541",{"$nulls":4},"2017-09-28","Item is no longer functional",{"$nulls":4},"SSD","01/15/2019 09:21 AM","Ted Meyer"]
["46295","D2BRSS1","Lindbergh High School","Unknown","Dell 2360dn Laser Printer",null,"Available","Printer",{"$nulls":4},"2360dn","Dell","SSD Mobile 1 Laptop Cart",null,null,"10.40.21.247",{"$nulls":11},"SSD","01/15/2019 09:21 AM","Ted Meyer"]
["36265","MC133153181","Lindbergh High School","Unknown","Toshiba DVD Video Player",null,"Available","DVD Player","2007-07-01","49.99","08-29402","BEST BUY","SD-4000KU","Toshiba",{"$nulls":4},"31380-6542",{"$nulls":10},"Social Studies","01/15/2019 09:21 AM","Ted Meyer"]
["42392","1BF-1SMI","Lindbergh High School","Unknown","Dell 2350dn Laser Printer",null,"Available","Printer","2012-02-02","192.99","12-39250","B2B","2350dn","Dell",{"$nulls":3},"10.0.21.3","27870-6541",{"$nulls":10},"English","01/15/2019 09:21 AM","Ted Meyer"]
["33769","MY5CM320HV","Lindbergh High School","Unknown","HP K550TN OfficeJet Laser Printer",null,"Available","Printer","2006-08-31","235.89","07-27780","CDWG, INC","K550DTN","HP",{"$nulls":3},"10.0.21.135","27870-6541",{"$nulls":4},"2017-08-15","No longer working",{"$nulls":4},"English","01/15/2019 09:21 AM","Ted Meyer"]
["22905","808854205","Lindbergh High School","Unknown","Sharp 4 Head Video Cassette Tape Player/Recorder With Remore Control",null,"Available","Tape Recorder","1998-10-24","119.99","22904","CIRCUIT CITY","VC-A582U",{"$nulls":5},"24818-6411",{"$nulls":10},"English","01/15/2019 09:21 AM","Ted Meyer"]
["25748","A11C95566","Lindbergh High School","Unknown","Panasonic 4 Head Stereo VCR Player",null,"Available","VCR","2001-04-04","89.99","14178","Best Buy","PV-4521","Panasonic",{"$nulls":4},"31380-6542",{"$nulls":10},"English","01/15/2019 09:21 AM","Ted Meyer"]
["40183","R9-4P7Y0","Lindbergh High School","Unknown","Lenovo ThinkPad x201T Tablet Laptop",null,"Available","Laptop","2010-05-25","1,724.00","11-35514","Lenovo","x201T","Lenovo","HS121-004","5cff350f796c",null,null,"27870-6541",{"$nulls":10},"English","01/15/2019 09:21 AM","Ted Meyer"]
["38255","L3AGM92","Lindbergh High School","Unknown","Lenovo ThinkPad x200T Tablet Laptop",null,"Available","Laptop","2009-06-05","1,569.00","10-33737","Lenovo","x200t","Lenovo","HS121-02","001f161f28f2",null,null,"27870-6541",{"$nulls":10},"English","01/15/2019 09:21 AM","Ted Meyer"]
["39993","R9-4P81C","Lindbergh High School","Unknown","Lenovo ThinkPad x201T Tablet Laptop",null,"Available","Laptop","2010-05-25","1,724.00","11-35514","Lenovo","x201T","Lenovo","HS121-03","0023149f4460",null,null,"27870-6541",{"$nulls":10},"English","01/15/2019 09:21 AM","Ted Meyer"]
["40167","R9-4P80P","Lindbergh High School","Unknown","Lenovo ThinkPad x201T Tablet Laptop",null,"Available","Laptop","2010-05-25","1,724.00","11-35514","Lenovo","x201T","Lenovo","HS121-01","5cff350fd6b0",null,null,"27870-6541",{"$nulls":10},"English","01/15/2019 09:21 AM","Ted Meyer"]
["44394","PK2XKRF","Lindbergh High School","Unknown","Lenovo ThinkPad Helix",null,"Available","Laptop","2014-06-03","1,490.00","14-19368","TwoTrees","Helix","Lenovo","Edward Cole","843a4bdd5a70","2018/2019",null,"27870-6541",{"$nulls":7},"36984LU",null,null,"English","01/15/2019 09:21 AM","Ted Meyer"]
["39472","J804131","Lindbergh High School","Unknown","Anchor - 30-Watt Powered Speaker",null,"Available","Speaker","2009-08-11","167.45","10-34113","Long's Electronics","AN-130","Anchor",{"$nulls":4},"27870-6541",{"$nulls":10},"Math","01/15/2019 09:21 AM","Ted Meyer"]
["43309","R9-PCZLZ","Lindbergh High School","Unknown","Lenovo Thinkpad X220T Ultrabase Base",null,"Available","Docking Station",null,null,"13-10812",null,"X220T Ultrabase","Lenovo","Meghan O'Neill - Student Teacher Spring 2017",{"$nulls":10},"Key: G43",{"$nulls":3},"Driver's Ed.","01/15/2019 09:21 AM","Ted Meyer"]
["39967","R9-4P7ZM","Lindbergh High School","Unknown","Lenovo ThinkPad x201T Tablet Laptop",null,"Available","Laptop",{"$nulls":4},"x201T","Lenovo","HSFACS-28",null,"UnKnown",{"$nulls":12},"Family and Consumer Science","01/15/2019 09:21 AM","Ted Meyer"]
["45742","PB5ZN8H","Lindbergh High School","Unknown","Lenovo ThinkPad USB 3.0 Dock",null,"Available","Dock","2013-05-10","135.00","14-15032","TWOTREES","DU9019D1","Lenovo",null,"843a4b0edbdc",{"$nulls":14},"01/15/2019 09:21 AM","Ted Meyer"]
["44911","V5410314","Central Office","101","Lenovo Thinkvision LT2024 - 20\" - LED Monitor",null,"Available","Monitor","2014-10-21","135.79","15-20315","CDW-G INC","LT2024","Lenovo","Kim Bauer",{"$nulls":3},"2787-06411",{"$nulls":10},"Office","01/15/2019 10:39 AM","Ted Meyer"]
["44912","V5410306","Central Office","101","Lenovo Thinkvision LT2024 - 20\" - LED Monitor",null,"Available","Monitor","2014-10-21","135.79","15-20315","CDW-G INC","LT2024","Lenovo","Kim Bauer",{"$nulls":3},"2787-06411",{"$nulls":10},"Office","01/15/2019 10:39 AM","Ted Meyer"]
["52625","9FZ7F52","Lindbergh High School","Asst Principals Office by Library","Dell E310Ddw Printer Monochrome Laser",null,"Available","Printer","2018-02-09","170.18","18-53675","ITsavvy","E310dw","Dell","Becky Lane",{"$nulls":3},"27870-6411",{"$nulls":11},"01/15/2019 09:21 AM","Ted Meyer"]
["52135","LR099D3S3","Lindbergh High School","Hslibml4","Lenovo ThinkPad 11e",null,"Available","Laptop","2017-09-26","458.25","18-51735","SoftChoice","11e","Lenovo","HSLIBML4-01","e442a6234b96","2021/2022",null,"17821-6412",null,null,"Building Budget",{"$nulls":4},"20GBS00S00",{"$nulls":3},"01/15/2019 09:21 AM","Ted Meyer"]
["52199","LR099D75","Lindbergh High School","Hslibml4","Lenovo ThinkPad 11e",null,"Available","Laptop","2017-09-26","458.25","18-51735","SoftChoice","11e","Lenovo","HSLIBML4-13","e442a6235ef6","2021/2022",null,"17821-6412",null,null,"Building Budget",{"$nulls":4},"20GBS00S00",{"$nulls":3},"01/15/2019 09:21 AM","Ted Meyer"]
["52203","LR08ZS0T","Lindbergh High School","Hslibml4","Lenovo ThinkPad 11e",null,"Available","Laptop","2017-09-26","458.25","18-51735","SoftChoice","11e","Lenovo","HSLIBML4-17","8878737cf899","2021/2022",null,"17821-6412",null,null,"Building Budget",{"$nulls":4},"20GBS00S00",{"$nulls":3},"01/15/2019 09:21 AM","Ted Meyer"]
["45238","K1315004428","Lindbergh High School","Asst Principal Office next to Guidance","Lenovo ThinkPad USB 3.0 Dock",null,"Available","Dock","2013-05-10","135.00","14-15032","TWOTREES","DU9019D1","Lenovo",null,"843a4b0edbdc",{"$nulls":14},"01/15/2019 09:21 AM","Ted Meyer"]
["36719","529973","Lindbergh High School","Unknown","ELMO TT-02D Document Camera",null,"Available","Document Camera","2007-12-26","583.11","08-30712","FLORIDA MICRO","TT-02D","ELMO",{"$nulls":4},"27870-6541",{"$nulls":11},"01/15/2019 09:21 AM","Ted Meyer"]
["52327","06LR3CCJ901872","Sperreng Middle","Small Gym","Samsung 65\" 4K Ultra HD Smart TV",null,"Available","TV","2017-10-19","1,107.00","18-51831","Best Buy","UN65MU6300FXZA","Samsung",null,null,"2021/2022",null,"27872-6412",{"$nulls":10},"PE","01/15/2019 09:53 AM","Ted Meyer"]
["52131","06LR3CCJ802092","Sperreng Middle","054 (Weight Room)","Samsung 65\" 4K Ultra HD Smart TV",null,"Available","TV","2017-09-15","1,089.00","18-51467","Best Buy","UN65MU6300FXZA","Samsung",null,null,"2021/2022",null,"27873-6541",{"$nulls":10},"PE","01/15/2019 09:53 AM","Ted Meyer"]
["52737","V5V45919","Sperreng Middle","Principal's Office - Principal's Office (Lauren Boeger)","Lenovo ThinkVision T2224d 22\" LED Monitor",null,"Available","Monitor","2018-06-27","129.26","18-54562","ITsavvy","T2224d","Lenovo","Lauren Boeger",null,"2022/2023",null,"100.2411.6412.3070.07360.1.000",{"$nulls":10},"Principal","01/15/2019 09:53 AM","Ted Meyer"]
["46277","514080","Sperreng Middle","053","ELMO TT-02RX Document Camera",null,"Available","Document Camera",{"$nulls":4},"TT-02RX","ELMO",{"$nulls":15},"Math","01/15/2019 09:21 AM","Ted Meyer"]
["53286","MJ07ANNS","Sperreng Middle","053","Lenovo ThinkCentre M710S 10M7 (Core i7-7700, 8GB + 8GB Added, 1TB HDD)",null,"Available","Desktop","2018-08-20","897.66","19-55328","ITsavvy","M710S","Lenovo","Eric Robb",null,"2022/2023",null,"TE PD",{"$nulls":7},"10M7000FUS",null,null,"PLTW","01/15/2019 09:53 AM","Ted Meyer"]
["53284","MJ07ATRG","Sperreng Middle","053","Lenovo ThinkCentre M710S 10M7 (Core i7-7700, 8GB + 8GB Added, 1TB HDD)",null,"Available","Desktop","2018-08-20","897.66","19-55328","ITsavvy","M710S","Lenovo","Eric Robb",null,"2022/2023",null,"TE PD",{"$nulls":7},"10M7000FUS",null,null,"PLTW","01/15/2019 09:53 AM","Ted Meyer"]
["51549","BMK7F52","Sperreng Middle","053","Dell C2660dn Color Laser Printer",null,"Available","Printer","2017-07-13","190.10","18-50424","CDW-G","C2660dn","Dell","Karen Kennedy",null,null,"10.9.21.93","39038-65421",null,null,"Building Budget","PROP G\nDataMax VH664",{"$nulls":6},"Secretary","01/15/2019 08:40 AM","Ted Meyer"]
["45840","PB1BWG1","Sperreng Middle","053","Lenovo ThinkPad USB 3.0 Dock",null,"Available","Dock","2013-05-10","135.00","14-15032","TWOTREES","DU9019D1","Lenovo",null,"843a4b0edbdc","2017/2018",{"$nulls":12},"Industrial Technology","01/15/2019 09:52 AM","Ted Meyer"]
["47458","MJ02GK0X","Sperreng Middle","053","Lenovo ThinkCentre M93",null,"Available","Desktop",{"$nulls":4},"M93","Lenovo",null,null,"UnKnown",{"$nulls":9},"10A90048US",null,null,"Industrial Technology","01/15/2019 09:52 AM","Ted Meyer"]
["47462","No Serial - SP53-09","Sperreng Middle","053","Lenovo ThinkCentre M93",null,"Available","Desktop",{"$nulls":4},"M93","Lenovo",null,null,"UnKnown",{"$nulls":9},"10A90048US",null,null,"Industrial Technology","01/15/2019 09:52 AM","Ted Meyer"]
["47464","MJ02GK0A","Sperreng Middle","053","Lenovo ThinkCentre M93",null,"Available","Desktop",{"$nulls":4},"M93","Lenovo",null,null,"UnKnown",{"$nulls":9},"10A90048US",null,null,"Industrial Technology","01/15/2019 09:52 AM","Ted Meyer"]
["47466","MG00EP45","Sperreng Middle","053","Lenovo ThinkCentre M93",null,"Available","Desktop",{"$nulls":4},"M93","Lenovo",null,null,"UnKnown",{"$nulls":9},"10A90048US",null,null,"Industrial Technology","01/15/2019 09:52 AM","Ted Meyer"]
["47468","MJ02GK0B","Sperreng Middle","053","Lenovo ThinkCentre M93",null,"Available","Desktop",{"$nulls":4},"M93","Lenovo",null,null,"UnKnown",{"$nulls":9},"10A90048US",null,null,"Industrial Technology","01/15/2019 09:52 AM","Ted Meyer"]
["47491","MJ02GK0L","Sperreng Middle","053","Lenovo ThinkCentre M93",null,"Available","Desktop",{"$nulls":4},"M93","Lenovo",null,null,"UnKnown",{"$nulls":9},"10A90048US",null,null,"Industrial Technology","01/15/2019 09:52 AM","Ted Meyer"]
["47495","MG00EP7J","Sperreng Middle","053","Lenovo ThinkCentre M93",null,"Available","Desktop",{"$nulls":4},"M93","Lenovo",null,null,"UnKnown",{"$nulls":9},"10A90048US",null,null,"Industrial Technology","01/15/2019 09:52 AM","Ted Meyer"]
["47497","MJ02GK0W","Sperreng Middle","053","Lenovo ThinkCentre M93",null,"Available","Desktop",{"$nulls":4},"M93","Lenovo","DVD drive broken.  Not used.  Disabled Driver.",null,"UnKnown",{"$nulls":9},"10A90048US",null,null,"Industrial Technology","01/15/2019 09:52 AM","Ted Meyer"]
["47501","MG00EP7D","Sperreng Middle","053","Lenovo ThinkCentre M93",null,"Available","Desktop",{"$nulls":4},"M93","Lenovo",null,null,"UnKnown",{"$nulls":9},"10A90048US",null,null,"Industrial Technology","01/15/2019 09:52 AM","Ted Meyer"]
["47503","MJ02GK10","Sperreng Middle","053","Lenovo ThinkCentre M93",null,"Available","Desktop",{"$nulls":4},"M93","Lenovo",null,null,"UnKnown",{"$nulls":9},"10A90048US",null,null,"Industrial Technology","01/15/2019 09:52 AM","Ted Meyer"]
["47505","MJ02GK11","Sperreng Middle","053","Lenovo ThinkCentre M93",null,"Available","Desktop",{"$nulls":4},"M93","Lenovo",null,null,"UnKnown",{"$nulls":9},"10A90048US",null,null,"Industrial Technology","01/15/2019 09:52 AM","Ted Meyer"]
["47447","TT0152120108","Sperreng Middle","053","UnKnown",null,"Available","Monitor",{"$nulls":5},"Viewsonic",null,null,"UnKnown",{"$nulls":12},"Industrial Technology","01/15/2019 09:52 AM","Ted Meyer"]
["47449","TT0152120112","Sperreng Middle","053","ViewSonic 23\" Display LED w/IPS Pan",null,"Available","Monitor",{"$nulls":4},"VA2349S","Viewsonic",null,null,"UnKnown",{"$nulls":12},"Industrial Technology","01/15/2019 09:52 AM","Ted Meyer"]
["47451","TT0152120113","Sperreng Middle","053","ViewSonic 23\" Display LED w/IPS Pan",null,"Available","Monitor",{"$nulls":4},"VA2349S","Viewsonic",null,null,"UnKnown",{"$nulls":12},"Industrial Technology","01/15/2019 09:52 AM","Ted Meyer"]
["47455","TT0152120103","Sperreng Middle","053","ViewSonic 23\" Display LED w/IPS Pan",null,"Available","Monitor",{"$nulls":4},"VA2349S","Viewsonic",null,null,"UnKnown",{"$nulls":12},"Industrial Technology","01/15/2019 09:52 AM","Ted Meyer"]
["47457","TT0152120109","Sperreng Middle","053","ViewSonic 23\" Display LED w/IPS Pan",null,"Available","Monitor",{"$nulls":4},"VA2349S","Viewsonic",null,null,"UnKnown",{"$nulls":12},"Industrial Technology","01/15/2019 09:52 AM","Ted Meyer"]
["47467","TT0152120107","Sperreng Middle","053","ViewSonic 23\" Display LED w/IPS Pan",null,"Available","Monitor",{"$nulls":4},"VA2349S","Viewsonic",null,null,"UnKnown",{"$nulls":12},"Industrial Technology","01/15/2019 09:52 AM","Ted Meyer"]
["47465","TT0152120102","Sperreng Middle","053","ViewSonic 23\" Display LED w/IPS Pan",null,"Available","Monitor",{"$nulls":4},"VA2349S","Viewsonic",null,null,"UnKnown",{"$nulls":12},"Industrial Technology","01/15/2019 09:52 AM","Ted Meyer"]
["47463","TT0152120097","Sperreng Middle","053","ViewSonic 23\" Display LED w/IPS Pan",null,"Available","Monitor",{"$nulls":4},"VA2349S","Viewsonic",null,null,"UnKnown",{"$nulls":12},"Industrial Technology","01/15/2019 09:52 AM","Ted Meyer"]
["47461","TT0152120145","Sperreng Middle","053","ViewSonic 23\" Display LED w/IPS Pan",null,"Available","Monitor",{"$nulls":4},"VA2349S","Viewsonic",null,null,"UnKnown",{"$nulls":12},"Industrial Technology","01/15/2019 09:52 AM","Ted Meyer"]
["47506","TT0152120143","Sperreng Middle","053","ViewSonic 23\" Display LED w/IPS Pan",null,"Available","Monitor",{"$nulls":4},"VA2349S","Viewsonic",null,null,"UnKnown",{"$nulls":12},"Industrial Technology","01/15/2019 09:52 AM","Ted Meyer"]
["47504","TT0152120118","Sperreng Middle","053","ViewSonic 23\" Display LED w/IPS Pan",null,"Available","Monitor",{"$nulls":4},"VA2349S","Viewsonic",null,null,"UnKnown",{"$nulls":12},"Industrial Technology","01/15/2019 09:52 AM","Ted Meyer"]
["47502","TT0152120116","Sperreng Middle","053","ViewSonic 23\" Display LED w/IPS Pan",null,"Available","Monitor",{"$nulls":4},"VA2349S","Viewsonic",null,null,"UnKnown",{"$nulls":12},"Industrial Technology","01/15/2019 09:52 AM","Ted Meyer"]
["47498","TT0152120104","Sperreng Middle","053","ViewSonic 23\" Display LED w/IPS Pan",null,"Available","Monitor",{"$nulls":4},"VA2349S","Viewsonic",null,null,"UnKnown",{"$nulls":12},"Industrial Technology","01/15/2019 09:52 AM","Ted Meyer"]
["47500","TT0152120110","Sperreng Middle","053","ViewSonic 23\" Display LED w/IPS Pan",null,"Available","Monitor",{"$nulls":4},"VA2349S","Viewsonic",null,null,"UnKnown",{"$nulls":12},"Industrial Technology","01/15/2019 09:52 AM","Ted Meyer"]
["47496","TT0152120106","Sperreng Middle","053","ViewSonic 23\" Display LED w/IPS Pan",null,"Available","Monitor",{"$nulls":4},"VA2349S","Viewsonic",null,null,"UnKnown",{"$nulls":12},"Industrial Technology","01/15/2019 09:52 AM","Ted Meyer"]
["47492","TT0152120105","Sperreng Middle","053","ViewSonic 23\" Display LED w/IPS Pan",null,"Available","Monitor",{"$nulls":4},"VA2349S","Viewsonic",null,null,"UnKnown",{"$nulls":12},"Industrial Technology","01/15/2019 09:52 AM","Ted Meyer"]
["47494","TT0152120101","Sperreng Middle","053","ViewSonic 23\" Display LED w/IPS Pan",null,"Available","Monitor",{"$nulls":4},"VA2349S","Viewsonic",null,null,"UnKnown",{"$nulls":12},"Industrial Technology","01/15/2019 09:52 AM","Ted Meyer"]
["47469","TT0152120119","Sperreng Middle","053","ViewSonic 23\" Display LED w/IPS Pan",null,"Available","Monitor",{"$nulls":4},"VA2349S","Viewsonic",null,null,"UnKnown",{"$nulls":12},"Industrial Technology","01/15/2019 09:52 AM","Ted Meyer"]
["47471","TT0152120120","Sperreng Middle","053","ViewSonic 23\" Display LED w/IPS Pan",null,"Available","Monitor",{"$nulls":4},"VA2349S","Viewsonic",null,null,"UnKnown",{"$nulls":12},"Industrial Technology","01/15/2019 09:52 AM","Ted Meyer"]
["47486","TT0152120100","Sperreng Middle","053","ViewSonic 23\" Display LED w/IPS Pan",null,"Available","Monitor",{"$nulls":4},"VA2349S","Viewsonic",null,null,"UnKnown",{"$nulls":12},"Industrial Technology","01/15/2019 09:52 AM","Ted Meyer"]
["47488","TT0152120099","Sperreng Middle","053","ViewSonic 23\" Display LED w/IPS Pan",null,"Available","Monitor",{"$nulls":4},"VA2349S","Viewsonic",null,null,"UnKnown",{"$nulls":12},"Industrial Technology","01/15/2019 09:52 AM","Ted Meyer"]
["47490","TT0152120114","Sperreng Middle","053","ViewSonic 23\" Display LED w/IPS Pan",null,"Available","Monitor",{"$nulls":4},"VA2349S","Viewsonic",null,null,"UnKnown",{"$nulls":12},"Industrial Technology","01/15/2019 09:52 AM","Ted Meyer"]
["39542",null,"Sperreng Middle","053","Bretford A/V Learning Cart",null,"Available","Cart","2007-01-23","315.00","07-28546","TECH DEPOT","ECILS3-BK","Bretford",null,null,"2011/2012",null,"27870-6541",{"$nulls":10},"Industrial Technology","01/15/2019 09:52 AM","Ted Meyer"]
["47459","TT0152120115","Sperreng Middle","053","UnKnown",null,"Available","Fax/Copier",{"$nulls":5},"Xerox",null,null,"UnKnown",{"$nulls":12},"Industrial Technology","01/15/2019 09:52 AM","Ted Meyer"]
["40572","525315","Sperreng Middle","053","ELMO TT-02RX Document Camera",null,"Available","Document Camera",{"$nulls":4},"TT-02RX","ELMO",null,null,"UnKnown",{"$nulls":13},"01/15/2019 09:59 AM","Ted Meyer"]
["50001","MJ05N1P3","Truman Middle","020","Lenovo ThinkCentre M9108 (Core i5-7500, 8GB, 1TB HDD)",null,"Available","Desktop","2017-08-14","755.41","18-50422","Staples","M92108","Lenovo",null,null,"2021/2022",null,"27873-6412",{"$nulls":7},"10MK000QUS",null,null,"Technology","01/15/2019 09:21 AM","Ted Meyer"]
["54262","X28C8601705","Truman Middle","020","Epson Brighlink 695Wi Projector",null,"Available","Projector","2018-10-15","1,640.63","19-56144","Itsavvy","Brightlink 695Wi","Epson","Zuzi Sulcova",null,"2022/2023",null,"TE PD",{"$nulls":10},"Science","01/15/2019 10:00 AM","Ted Meyer"]
["54272","X28C8601138","Truman Middle","020","Epson Brighlink 695Wi Projector",null,"Available","Projector","2018-10-15","1,640.63","19-56144","Itsavvy","Brightlink 695Wi","Epson","Sheryl Silverberg",null,"2022/2023",null,"TE PD",{"$nulls":10},"Science","01/15/2019 10:00 AM","Ted Meyer"]
["54312","X28C8601894","Truman Middle","020","Epson Brighlink 695Wi Projector",null,"Available","Projector","2018-10-15","1,640.63","19-56144","Itsavvy","Brightlink 695Wi","Epson","Michelle Long",null,"2022/2023",null,"TE PD",{"$nulls":10},"Science","01/15/2019 10:00 AM","Ted Meyer"]
["39781","J804130","Sperreng Middle","053","Anchor - 30-Watt Powered Speaker",null,"Available","Speaker","2009-08-11","167.45","10-34113","Long's Electronics","AN-130","Anchor",null,null,"2013/2014",null,"27870-6541",{"$nulls":10},"Technology","01/15/2019 09:52 AM","Ted Meyer"]
["39235","D902520","Sperreng Middle","053","Anchor - 30-Watt Powered Speaker",null,"Available","Speaker","2009-08-11","167.45","10-34113","Long's Electronics","AN-130","Anchor",null,null,"2013/2014",null,"27870-6541",{"$nulls":11},"01/15/2019 09:53 AM","Ted Meyer"]
["54204","07TM3CAK803749","Sperreng Middle","Principal's Office - AP Office 1 (Patrick Dempsey)","Samsung 50\" Class NU6900 Series LED 4K UHD Smart Tizen TV",null,"Available","TV","2018-10-19","434.73","19-55882","Best Buy","UN50NU6900FXZA","Samsung",null,null,"2022/2023",null,"TE PD",{"$nulls":11},"01/15/2019 09:53 AM","Ted Meyer"]
["53470","035TUN00RF","Sperreng Middle","Principal's Office - AP Office 1 (Patrick Dempsey)","Motorola DTR650 Two-Way Radio",null,"Available","Two-Way Radio","2018-08-08","264.00","19-54852","TBS Electronics","DTR650","Motorola","Patrick Dempsey",null,"2022/2023",null,"SP Paid",null,null,"Building Budget",{"$nulls":7},"Asst. Principal","01/15/2019 09:53 AM","Ted Meyer"]
["52233","X28B730594L","Truman Middle","020","Epson Brighlink 695Wi Projector",null,"Available","Projector","2017-10-31","1,643.60","18-52339","ITsavvy","Brightlink 695Wi","Epson","Ali Wallner",null,"2021/2022",null,"27871-6541",{"$nulls":3},"Purchased for 5th grade replacement, needed to replace defective unit.  X28C7602377 was returned 8/2018-no power.  Above information is the replacement recd 8/13/2018",{"$nulls":6},"Academic Monitor","01/15/2019 09:21 AM","Ted Meyer"]
["41955","MJ252GW","Truman Middle","020","Lenovo ThinkCentre M92p 2121 Tiny (Core i5-3470, 4GB, 500GB HDD)",null,"Available","Desktop","2013-05-01","619.42","13-13716","ITSavvy","M92P","Lenovo",null,"00232444d621",null,null,"27870-6541",{"$nulls":7},"2121D5U",null,null,"TECHNOLOGY STG","01/15/2019 10:00 AM","Ted Meyer"]
["42067","MJAXCWP","Truman Middle","020","Lenovo ThinkCentre M91p Tower",null,"Available","Desktop",{"$nulls":4},"M91p","Lenovo",null,null,"UnKnown",{"$nulls":12},"TECHNOLOGY STG","01/15/2019 09:34 AM","Ted Meyer"]
["41399","421163","Truman Middle","020","Sony Bloggie Touch Camcorder",null,"Available","Camera","2011-09-12","165.00","12-38068","CDW","CF0-5350","Sony",{"$nulls":4},"24932-6411",{"$nulls":10},"TECHNOLOGY STG","01/15/2019 09:34 AM","Ted Meyer"]
["42340","384401","Truman Middle","020","Sony Bloggie Touch Camcorder",null,"Available","Camera",{"$nulls":4},"CF0-5350","Sony",{"$nulls":15},"TECHNOLOGY STG","01/15/2019 09:34 AM","Ted Meyer"]
["42341","384400","Truman Middle","020","Sony Bloggie Touch Camcorder",null,"Available","Camera",{"$nulls":4},"CF0-5350","Sony",{"$nulls":15},"TECHNOLOGY STG","01/15/2019 09:34 AM","Ted Meyer"]
["42342","384395","Truman Middle","020","Sony Bloggie Touch Camcorder",null,"Available","Camera",{"$nulls":4},"CF0-5350","Sony",{"$nulls":15},"TECHNOLOGY STG","01/15/2019 09:34 AM","Ted Meyer"]
["42343","384396","Truman Middle","020","Sony Bloggie Touch Camcorder",null,"Available","Camera",{"$nulls":4},"CF0-5350","Sony",{"$nulls":15},"TECHNOLOGY STG","01/15/2019 09:34 AM","Ted Meyer"]
["42344","384402","Truman Middle","020","Sony Bloggie Touch Camcorder",null,"Available","Camera",{"$nulls":4},"CF0-5350","Sony",{"$nulls":15},"TECHNOLOGY STG","01/15/2019 09:34 AM","Ted Meyer"]
["33764","3112AV","Truman Middle","020","Califone Cassette Tape Recorder",null,"Available","Tape Recorder","2006-06-06","47.23","07-26732","CSD (PYRAMID)","3112AV","Califone","Library",{"$nulls":14},"TECHNOLOGY STG","01/15/2019 09:34 AM","Ted Meyer"]
["25627","C05A27228","Truman Middle","020","Panasonic HI-FI Stereo 4 Head Video Cassette Tape Recorder",null,"Available","VCR","2000-12-20","125.00","13656","CSD (W. Schiller & Co.)","PV-V4540","Panasonic",{"$nulls":4},"29550-6542",{"$nulls":6},"Removed from Sappington 017",{"$nulls":3},"TECHNOLOGY STG","01/15/2019 09:45 AM","Ted Meyer"]
["47258","PC06CWPV","Truman Middle","020","Lenovo ThinkPad Onelink Pro Dock for Thinkpad Yoga",null,"Available","Dock","2015-07-06","132.00","16-30425","TWOTREES","DU9033S1","Lenovo","Long 039",{"$nulls":14},"TECHNOLOGY STG","01/15/2019 09:35 AM","Ted Meyer"]
["47002","PC06CWRU","Truman Middle","020","Lenovo ThinkPad Onelink Pro Dock for Thinkpad Yoga",null,"Available","Dock","2015-07-06","132.00","16-30425","TWOTREES","DU9033S1","Lenovo","Long 030",{"$nulls":14},"TECHNOLOGY STG","01/15/2019 09:35 AM","Ted Meyer"]
["39536","HD0030638","Truman Middle","020","FrontRow Pro Digital 940R Receiver/Amplifier with 940TM Transmitter/Microphone",null,"Available","Classroom Audio",{"$nulls":3},"CCS Presentation Systems - Front Row","940R","FrontRow",{"$nulls":15},"TECHNOLOGY STG","01/15/2019 09:34 AM","Ted Meyer"]
["39537","HD0030636","Truman Middle","020","FrontRow Pro Digital 940R Receiver/Amplifier with 940TM Transmitter/Microphone",null,"Available","Classroom Audio",{"$nulls":3},"CCS Presentation Systems - Front Row","940R","FrontRow",{"$nulls":15},"TECHNOLOGY STG","01/15/2019 09:34 AM","Ted Meyer"]
["41344","CD0029977","Truman Middle","020","FrontRow Pro Digital 940R Receiver/Amplifier with 940TM Transmitter/Microphone",null,"Available","Classroom Audio",{"$nulls":3},"Front Row","940R","FrontRow",{"$nulls":8},"No cost but valued at $305 ea",{"$nulls":6},"TECHNOLOGY STG","01/15/2019 09:34 AM","Ted Meyer"]
["41345","CD0033163","Truman Middle","020","FrontRow Pro Digital 940R Receiver/Amplifier with 940TM Transmitter/Microphone",null,"Available","Classroom Audio",{"$nulls":3},"Front Row","940R","FrontRow",{"$nulls":8},"No cost but valued at $305 ea",{"$nulls":6},"TECHNOLOGY STG","01/15/2019 09:34 AM","Ted Meyer"]
["42015","CD0029982","Truman Middle","020","FrontRow Pro Digital 940R Receiver/Amplifier with 940TM Transmitter/Microphone",null,"Available","Classroom Audio",{"$nulls":3},"Front Row","940R","FrontRow",{"$nulls":8},"No cost but valued at $305 ea",{"$nulls":6},"TECHNOLOGY STG","01/15/2019 09:34 AM","Ted Meyer"]
["14880",null,"Sperreng Middle","217","Panasonic 4 Head HI-FI Stereo Video Cassette Recorder",null,"Available","VCR","2003-12-17","68.00","04-22738","TECH DEPOT (OFFICE DEPOT)","Omnivision","Panasonic",null,null,"2007/2008",null,"27870-6541",{"$nulls":11},"01/15/2019 09:53 AM","Ted Meyer"]
["54152","P2034TTC","Sperreng Middle","217","Lenovo 500e Chromebook (Gen 1)",null,"Available","Chromebook","2018-10-04","310.49","19-55702","Firefly Computers","500e","Lenovo","CC-LIBLAB1-22","38baf8604992","2022/2023",null,"TE PD",{"$nulls":7},"81ES0007US","CBRedistribute",null,"Library","01/15/2019 08:38 AM","Ted Meyer"]
["ERATE0010","SG62GPB13N","Sperreng Middle","217","HP J9986A 24 Port Module",null,"Available","Port Module","2016-07-01","1,480.00","17-36029","WJR TECHNOLOGIES","J9986A","HP",null,null,"2020/2021",null,"39038-65421",null,null,"E-Rate",{"$nulls":8},"01/15/2019 09:53 AM","Ted Meyer"]
["48405",null,"Sperreng Middle","217","Bretford A/V Learning Cart",null,"Available","Cart","2007-09-04","305.00","08-29976","CDWG","ECILS3-BK","Bretford",null,null,"2011/2012",null,"27870-6541",{"$nulls":11},"01/15/2019 09:52 AM","Ted Meyer"]
["53876","P2034FHY","Sperreng Middle","217","Lenovo 500e Chromebook (Gen 1)",null,"Available","Chromebook","2018-12-10","314.49","19-56721","Firefly Computers","500e","Lenovo","CR023-CB-01","00bb605fefce","2022/2023",null,"CR PD",null,null,"Grant ","PTG to reimburse CR",{"$nulls":3},"81ES0007US","CBRedistribute",null,null,"01/15/2019 08:35 AM","Ted Meyer"]
["35142","969672","Sperreng Middle","055","ELMO TT-02 Document Camera",null,"Available","Document Camera","2007-06-06","542.00","07-29291","TECH DEPOT","TT-02","ELMO",null,null,"2011/2012",null,"26448-6411",{"$nulls":10},"PE","01/15/2019 09:52 AM","Ted Meyer"]
["52069","LR09MPVV","Sperreng Middle","055","Lenovo ThinkPad 11e",null,"Available","Laptop","2017-09-08","434.42","18-51391","SoftChoice","11e","Lenovo","SP-PE-01","aced5c54fc18","2021/2022",null,"13861-6412",null,null,"Building Budget",{"$nulls":4},"20GBS00S00",null,null,"PE","01/15/2019 09:53 AM","Ted Meyer"]
["49089","UHHF641766L","Sperreng Middle","055","Epson Brightlink 595Wi Projector",null,"Available","Projector","2016-07-05","1,652.26","17-36418","ITsavvy","Brightlink 595Wi","Epson",null,null,"2020/2021",null,"27870-6541",{"$nulls":3},"2 YEAR EPSON WARRANTY",{"$nulls":6},"PE","01/15/2019 09:53 AM","Ted Meyer"]
["51008","AC-PLUS-10306","Sperreng Middle","055","AC-Plus 36 Bay Charging Cart",null,"Available","Cart","2017-09-06","906.22","18-51039","ITsavvy","AC-Plus","All Carts",null,null,"2021/2022",null,"13861-6412",null,null,"Building Budget",{"$nulls":7},"PE","01/15/2019 09:53 AM","Ted Meyer"]
["46334",null,"Sperreng Middle","Cafeteria","HP Color LaserJet 2605dn",null,"Available","Printer",{"$nulls":4},"2605dn","HP",null,null,"UnKnown","10.2.21.25",{"$nulls":12},"01/15/2019 09:52 AM","Ted Meyer"]
["49491","MJ04M8GD","Sperreng Middle","Cafeteria","Lenovo ThinkCentre M900z",null,"Available","Desktop","2017-02-14","1,031.02","17-39426","ITsavvy","M900z","Lenovo",null,null,"2021/2022",null,"33620-6541",null,null,"Building Budget","Food Service",{"$nulls":3},"10F2000YUS",{"$nulls":3},"01/15/2019 09:53 AM","Ted Meyer"]
["46047","MJVXYWM","Sperreng Middle","Cafeteria","Lenovo ThinkCentre M92z 3311 (Core i5-3470T, 4GB, 500GB HDD)",null,"Available","Desktop",{"$nulls":4},"M92z","Lenovo",null,null,"UnKnown",{"$nulls":9},"3311B1U",{"$nulls":3},"01/15/2019 09:52 AM","Ted Meyer"]
["46046","MJVZZOT","Sperreng Middle","Cafeteria","Lenovo ThinkCentre M92z 3311 (Core i5-3470T, 4GB, 500GB HDD)",null,"Available","Desktop",{"$nulls":4},"M92z","Lenovo",null,null,"UnKnown",{"$nulls":9},"3311B1U",{"$nulls":3},"01/15/2019 09:52 AM","Ted Meyer"]
["46048","MJVXYWT","Sperreng Middle","Cafeteria","Lenovo ThinkCentre M92z 3311 (Core i5-3470T, 4GB, 500GB HDD)",null,"Available","Desktop",{"$nulls":4},"M92z","Lenovo",null,null,"UnKnown",{"$nulls":9},"3311B1U",{"$nulls":3},"01/15/2019 09:52 AM","Ted Meyer"]
["46049","MJVXYWN","Sperreng Middle","Cafeteria","Lenovo ThinkCentre M92z 3311 (Core i5-3470T, 4GB, 500GB HDD)",null,"Available","Desktop",{"$nulls":4},"M92z","Lenovo",null,null,"UnKnown",{"$nulls":9},"3311B1U",{"$nulls":3},"01/15/2019 09:52 AM","Ted Meyer"]
["47474",null,"Sperreng Middle","161","Epson Brightlink Pro 1430Wi Projector",null,"Available","Projector",{"$nulls":4},"Brightlink 1430Wi","Epson",null,null,"UnKnown",null,null,"Filter","2016-03-08",{"$nulls":8},"Music","01/15/2019 09:52 AM","Ted Meyer"]
["47475",null,"Sperreng Middle","161","ELMO TT-12 Document Camera",null,"Available","Document Camera",{"$nulls":4},"TT-12","ELMO",null,null,"UnKnown",{"$nulls":12},"Music","01/15/2019 09:52 AM","Ted Meyer"]
["47472",null,"Sperreng Middle","154 (Percussion)","Epson Brightlink Pro 1430Wi Projector",null,"Available","Projector",{"$nulls":4},"Brightlink 1430Wi","Epson",null,null,"UnKnown",null,null,"Filter","2016-03-08",{"$nulls":8},"Music","01/15/2019 09:52 AM","Ted Meyer"]
["18-53801-041","X6138115FFBDC","Sperreng Middle","161","Xiirrus XD2-240 Access Point",null,"Available","Access Point","2018-08-01","610.00","18-53801","Zagarri","XD2-240","Xirrus",{"$nulls":4},"TE PD E",null,null,"E-Rate","ERATE",{"$nulls":7},"01/15/2019 08:35 AM","Ted Meyer"]
["49088","UHHK6401231","Sperreng Middle","Library Room 2","Epson Brightlink 595Wi Projector",null,"Available","Projector","2016-07-05","1,652.26","17-36418","ITsavvy","Brightlink 595Wi","Epson",null,null,"2020/2021",null,"27870-6541",{"$nulls":3},"2 YEAR EPSON WARRANTY",{"$nulls":6},"ELL","01/15/2019 09:53 AM","Ted Meyer"]
["47832","1337839","Sperreng Middle","Library Room 2","ELMO TT-12iD Document Camera",null,"Available","Document Camera","2016-07-05","585.81","17-36418","ITsavvy","TT-12iD","ELMO","Dominic took for testing on 2/3",null,"2020/2021",null,"27870-6541",{"$nulls":11},"01/15/2019 09:53 AM","Ted Meyer"]
["53088","P202DF24","Sperreng Middle","217","Lenovo 500e Chromebook (Gen 1)",null,"Available","Chromebook","2018-06-19","287.00","19-54624","Firefly Computers","500e","Lenovo","SP126-CB-03","7c2a311d703b","2022/2023",null,"100-1151-6412-3070-07360-1-000",{"$nulls":3},"CHROMEBOOK MANAGEMENT CONSOLE @$23.49\nFIREFLY CHROMEBOOK SUPPORT FOR LENOVO\nLANSCHOOL PERPETUAL PER DEVICE LICENSE WITH 1 YR OF SNS",{"$nulls":3},"81ES0007US","Issued for Virtual Learning - COVID-19",null,"Math","01/15/2019 09:53 AM","Ted Meyer"]
["53883","P2034FL8","Sperreng Middle","217","Lenovo 500e Chromebook (Gen 1)",null,"Available","Chromebook","2018-12-10","314.49","19-56721","Firefly Computers","500e","Lenovo","CR032-CB-02","00bb605ed8e6","2022/2023",null,"CR PD",null,null,"Grant","PTG to reimburse CR",{"$nulls":3},"81ES0007US","CBRedistribute",null,"4th Grade","01/15/2019 08:35 AM","Ted Meyer"]
["50617","P202D95V","Sperreng Middle","217","Lenovo 500e Chromebook (Gen 1)",null,"Available","Chromebook","2018-06-19","287.00","19-54624","Firefly Computers","500e","Lenovo","TRML2-CB-06","7c2a311b5dd2","2022/2023",null,"100-1151-6412-3080-07360-1-000",{"$nulls":3},"CHROMEBOOK MANAGEMENT CONSOLE @$23.49\nFIREFLY CHROMEBOOK SUPPORT FOR LENOVO\nLANSCHOOL PERPETUAL PER DEVICE LICENSE WITH 1 YR OF SNS",{"$nulls":3},"81ES0007US","CBRedistribute",null,"Modern Language","01/15/2019 10:00 AM","Ted Meyer"]
["50743","P202CYJQ","Sperreng Middle","217","Lenovo 500e Chromebook (Gen 1)",null,"Available","Chromebook","2018-06-19","287.00","19-54624","Firefly Computers","500e","Lenovo","HSMATH1-CB-22","7470fda4e7b4","2022/2023",null,"100-1151-6412-1050-07360-1-000",{"$nulls":3},"CHROMEBOOK MANAGEMENT CONSOLE @$23.49\nFIREFLY CHROMEBOOK SUPPORT FOR LENOVO\nLANSCHOOL PERPETUAL PER DEVICE LICENSE WITH 1 YR OF SNS",{"$nulls":3},"81ES0007US","Issued for Virtual Learning - COVID-19",null,"Math","01/15/2019 09:21 AM","Ted Meyer"]
["48398",null,"Sperreng Middle","104","Bretford A/V Learning Cart",null,"Available","Cart","2007-09-04","305.00","08-29976","CDWG","ECILS3-BK","Bretford",null,null,"2011/2012",null,"27870-6541",{"$nulls":11},"01/15/2019 09:52 AM","Ted Meyer"]
["47622",null,"Sperreng Middle","104","Epson Brightlink 595Wi Projector",null,"Available","Projector",{"$nulls":4},"Brightlink 595Wi","Epson",null,null,"UnKnown",null,null,"Filter","2018-04-13",{"$nulls":8},"Social Studies","01/15/2019 09:52 AM","Ted Meyer"]
["50535","P202DF4J","Sperreng Middle","217","Lenovo 500e Chromebook (Gen 1)",null,"Available","Chromebook","2018-06-19","287.00","19-54624","Firefly Computers","500e","Lenovo","TR19-CB-04","7c2a311b1d7c","2022/2023",null,"100-1151-6412-3080-07360-1-000",{"$nulls":3},"CHROMEBOOK MANAGEMENT CONSOLE @$23.49\nFIREFLY CHROMEBOOK SUPPORT FOR LENOVO\nLANSCHOOL PERPETUAL PER DEVICE LICENSE WITH 1 YR OF SNS",{"$nulls":3},"81ES0007US","CBRedistribute",null,"Social Studies","01/15/2019 10:00 AM","Ted Meyer"]
["41663","DMPJ94HSDJ8T","Sperreng Middle","217","Apple iPad 16GB WIFI (3rd Gen)",null,"Available","iPad","2012-08-22","479.00","13-10778","Apple","MC705LL/A","Apple","Amber Hardin","d8004dddb1b8","2016/2017",null,"27870-6541",{"$nulls":7},"A1416",null,null,"English","01/15/2019 09:52 AM","Ted Meyer"]
["39184",null,"Sperreng Middle","223","ELMO TT-02s Document Camera",null,"Available","Document Camera","2009-08-10","529.00","10-34109","CDWG","TT-02s","ELMO",null,null,"2013/2014",null,"27870-6541",{"$nulls":11},"01/15/2019 09:53 AM","Ted Meyer"]
["24922","MHM8794","Sperreng Middle","Copy Center","GENERAL BINDING CORP LAMINATOR",null,"Available","Other","2000-11-01","1,725.00","13089","GBC","NONE",{"$nulls":5},"29500-6542",{"$nulls":10},"Copy Center","01/15/2019 10:39 AM","Ted Meyer"]
["48377",null,"Sperreng Middle","126","Bretford A/V Learning Cart",null,"Available","Cart","2007-09-04","305.00","08-29976","CDWG","ECILS3-BK","Bretford",null,null,"2011/2012",null,"27870-6541",{"$nulls":11},"01/15/2019 09:52 AM","Ted Meyer"]
["36332","ECILS3-BK","Sperreng Middle","223","Bretford A/V Learning Cart",null,"Available","Cart","2008-12-13","320.00","09-33069","CDWG","ECILS3-BK","Bretford","Tag Torn",null,"2012/2013",null,"27870-6541",{"$nulls":3},"Black Cart for Elite",{"$nulls":7},"01/15/2019 09:53 AM","Ted Meyer"]
["49085","UHHF641765L","Sperreng Middle","223","Epson Brightlink 595Wi Projector",null,"Available","Projector","2016-07-05","1,652.26","17-36418","ITsavvy","Brightlink 595Wi","Epson",null,null,"2020/2021",null,"27870-6541","Filter","2018-03-07",null,"2 YEAR EPSON WARRANTY",{"$nulls":6},"Modern Language","01/15/2019 09:53 AM","Ted Meyer"]
["33530","416020","Sperreng Middle","223","Sony DVD/VCR Combo Player Unit",null,"Available","DVD Player","2006-08-17","108.56","07-27678","CDWG, INC","SLV-D370P","Sony",{"$nulls":4},"27870-6541",{"$nulls":10},"Modern Language","01/15/2019 10:06 AM","Ted Meyer"]
["48414",null,"Sperreng Middle","007","Epson Brightlink 450Wi Projector",null,"Available","Projector","2010-05-03","1,649.32","10-35424","Florida Micro","Brightlink 450Wi","Epson",null,null,"2014/2015",null,"27870-6541","Filter","2018-03-27",null,"V11H317020-1",{"$nulls":6},"Family and Consumer Science","01/15/2019 09:52 AM","Ted Meyer"]
["39739","K1322000455","Sperreng Middle","007","Lenovo ThinkPad USB 3.0 Dock",null,"Available","Dock","2013-07-15","135.00","14-15330","TWO TREES","DU9019D1","Lenovo",null,null,"2017/2018",{"$nulls":12},"Family and Consumer Science","01/15/2019 09:52 AM","Ted Meyer"]
["36627",null,"Sperreng Middle","007","Bretford A/V Learning Cart",null,"Available","Cart","2007-09-04","305.00","08-29976","CDWG","ECILS3-BK","Bretford",null,null,"2011/2012",null,"27870-6541",{"$nulls":10},"Family and Consumer Science","01/15/2019 09:53 AM","Ted Meyer"]
["52399",null,"Sperreng Middle","222","Dell C2660dn Color Laser Printer",null,"Available","Printer","2014-04-03","263.33","14-18575","ITSavvy","C2660dn","Dell",{"$nulls":4},"27870-6541",{"$nulls":11},"01/15/2019 08:35 AM","Ted Meyer"]
["48418",null,"Sperreng Middle","010 (Lab 10)","Bretford A/V Learning Cart",null,"Available","Cart","2007-09-04","305.00","08-29976","CDWG","ECILS3-BK","Bretford",null,null,"2011/2012",null,"27870-6541",{"$nulls":10},"Science","01/15/2019 09:52 AM","Ted Meyer"]
["46993","PC04W2Z2","Truman Middle","020","Lenovo ThinkPad Onelink Pro Dock for Thinkpad Yoga",null,"Available","Dock","2015-07-06","132.00","16-30425","TWOTREES","DU9033S1","Lenovo","Math",{"$nulls":14},"TECHNOLOGY STG","01/15/2019 09:35 AM","Ted Meyer"]
["30267","RF632796","Truman Middle","020","American Microsystem RF Host Interface Terminal for Bar Code Scanner",null,"Available","Scanner","2004-03-18","254.00","04-23105","AML","M6300","American Microsystems",{"$nulls":4},"27870-6541",{"$nulls":10},"TECHNOLOGY STG","01/15/2019 09:34 AM","Ted Meyer"]
["42945",null,"Truman Middle","009","ELMO TT-12i Document Camera",null,"Available","Document Camera","2014-10-14","575.00","15-20094","CDW-G, Inc.","TT-12i","ELMO",null,null,"2018/2019",null,"27870-6541",{"$nulls":8},"no longer used",null,"Technology","01/15/2019 09:59 AM","Ted Meyer"]
["40733","RD0037351","Truman Middle","131","FrontRow Pro Digital 940R Receiver/Amplifier with 940TM Transmitter/Microphone",null,"Available","Classroom Audio",{"$nulls":4},"940R","FrontRow",null,null,"UnKnown",{"$nulls":12},"Math","01/15/2019 09:59 AM","Ted Meyer"]
["40704","RD0028035","Truman Middle","027","FrontRow Pro Digital 940R Receiver/Amplifier with 940TM Transmitter/Microphone",null,"Available","Classroom Audio",{"$nulls":4},"940R","FrontRow",null,null,"UnKnown",{"$nulls":12},"Social Studies","01/15/2019 09:59 AM","Ted Meyer"]
["54031","P2034GCM","Truman Middle","Office","Lenovo 500e Chromebook (Gen 1)",null,"Available","Chromebook","2018-10-04","310.49","19-55702","Firefly Computers","500e","Lenovo","TR-CB Loaner-16","38baf850392b","2022/2023",null,"TE PD",{"$nulls":7},"81ES0007US","CBRedistribute Loaner - Truman",null,"Office","01/15/2019 09:35 AM","Ted Meyer"]
["39200",null,"Truman Middle","113","Bretford A/V Learning Cart",null,"Available","Cart","2009-08-10","320.00","10-34109","CDWG","ECILS3-BK","Bretford",null,null,"2013/2014",null,"27870-6541",{"$nulls":10},"Modern Language","01/15/2019 09:59 AM","Ted Meyer"]
["49128","IN64G4F09D","Truman Middle","Office","HP 5400R Power Supply",null,"Available","Power Supply","2016-07-05","535.00","17-36029","WJR Technologies","J9829A","HP",null,null,"2020/2021",null,"39038-65421",null,null,"E-Rate",{"$nulls":8},"01/15/2019 10:00 AM","Ted Meyer"]
["39734","A0VB023665","Truman Middle","Guidance","Fujitsu ScanSnap iX500 Scanner",null,"Available","Scanner","2013-02-13","415.75","13-12812","World Wide Technology","iX500","Fujitsu","Maghen Riek",{"$nulls":3},"27870-6411",{"$nulls":10},"Guidance","01/15/2019 09:59 AM","Ted Meyer"]
["54032","P2034FUV","Central Office","214","Lenovo 500e Chromebook (Gen 1)",null,"Available","Chromebook","2018-10-04","310.49","19-55702","Firefly Computers","500e","Lenovo","LO-LIBLAB1-06","38baf8ecb4b8","2022/2023",null,"TE PD",{"$nulls":7},"81ES0007US","CBRedistribute",null,"Library","01/15/2019 09:35 AM","Ted Meyer"]
["44928","V5352675","Central Office","214","Lenovo ThinkVision 23\" LED Monitor",null,"Available","Monitor","2014-11-13","170.69","15-20624","ITsavvy","E2223","Lenovo","Dominic Jaggie",{"$nulls":3},"27870-6411",{"$nulls":10},"Technology","01/15/2019 10:39 AM","Ted Meyer"]
["51887","LR09EAUU","Central Office","214","Lenovo ThinkPad 11e",null,"Available","Laptop","2017-06-15","456.90","18-50158","STAPLES","11e","Lenovo","HSFLML2-8","e442a6a3be61","2021/2022",null,"15340-6411",{"$nulls":3},"EXTENDED SERVICE AGREEMENT PARTS AND LABOR 3 YEAR PICK UP AND RETURN TOPSELLER SERVICE @$55.00",{"$nulls":3},"20GB001HUS",{"$nulls":3},"01/15/2019 09:21 AM","Ted Meyer"]
["45244","K1315004615","Truman Middle","228","Lenovo ThinkPad USB 3.0 Dock",null,"Available","Dock","2013-05-10","135.00","14-15032","TWOTREES","DU9019D1","Lenovo","TR228","843a4b0edbdc","2017/2018",{"$nulls":12},"Science","01/15/2019 09:59 AM","Ted Meyer"]
["42182",null,"Truman Middle","029","ELMO TT-02RX Document Camera",null,"Available","Document Camera",{"$nulls":4},"TT-02RX","ELMO",null,null,"UnKnown",{"$nulls":12},"PE","01/15/2019 09:59 AM","Ted Meyer"]
["48183","13026201","Truman Middle","114","Vernier LabQuest 2",null,"Available","LabQuest","2013-09-18","593.64","14-16376","Vernier",null,"Vernier",null,"00c0df1d15b3","2017/2018",null,"27870-6541",{"$nulls":10},"Science","01/15/2019 09:59 AM","Ted Meyer"]
["51902","LR09EB3F","Central Office","214","Lenovo ThinkPad 11e",null,"Available","Laptop","2017-06-15","456.90","18-50158","STAPLES","11e","Lenovo","HSFLML2-23","e442a6a41ae1","2021/2022",null,"15340-6411",{"$nulls":3},"EXTENDED SERVICE AGREEMENT PARTS AND LABOR 3 YEAR PICK UP AND RETURN TOPSELLER SERVICE @$55.00",{"$nulls":3},"20GB001HUS","Issued for Virtual Learning - COVID-19",null,null,"01/15/2019 09:21 AM","Ted Meyer"]
["40740","RD026796","Truman Middle","129","FrontRow Pro Digital 940R Receiver/Amplifier with 940TM Transmitter/Microphone",null,"Available","Classroom Audio",{"$nulls":4},"940R","FrontRow",null,null,"UnKnown",{"$nulls":12},"Reading","01/15/2019 09:59 AM","Ted Meyer"]
["46143",null,"Truman Middle","304","ViewSonic 23\" Display LED w/IPS Pan",null,"Available","Monitor","2015-08-20","150.00","16-30901","CDW-G","VA2349S","Viewsonic","TR304-10",null,"2019/2020",null,"24488-6411",{"$nulls":3},"Purchased for PLTW Project",{"$nulls":6},"PLTW","01/15/2019 10:00 AM","Ted Meyer"]
["40670","RD026975","Truman Middle","219","FrontRow Pro Digital 940R Receiver/Amplifier with 940TM Transmitter/Microphone",null,"Available","Classroom Audio",{"$nulls":4},"940R","FrontRow",null,null,"UnKnown",{"$nulls":12},"8th Grade","01/15/2019 09:59 AM","Ted Meyer"]
["40780","RD026668","Long Elementary","019","FrontRow Pro Digital 940R Receiver/Amplifier with 940TM Transmitter/Microphone",null,"Available","Classroom Audio",{"$nulls":4},"940R","FrontRow",{"$nulls":15},"3rd Grade","01/15/2019 09:34 AM","Ted Meyer"]
["40569",null,"Sappington Elementary","058","Bretford A/V Learning Cart",null,"Available","Cart",{"$nulls":4},"ECILS3-BK","Bretford",null,null,"UnKnown",{"$nulls":12},"Reading","01/15/2019 09:45 AM","Ted Meyer"]
["40800","RD025550","Long Elementary","012","FrontRow Pro Digital 940R Receiver/Amplifier with 940TM Transmitter/Microphone",null,"Available","Classroom Audio",{"$nulls":4},"940R","FrontRow",{"$nulls":15},"2nd Grade","01/15/2019 09:34 AM","Ted Meyer"]
["47938","X6065500539B4","Sappington Elementary","023 (Conference)","Xirrus XR-620 Access Point",null,"Available","Access Point","2016-07-01","237.42","17-36030","Zagarri Engineering","XR620","Xirrus",{"$nulls":4},"39038-65421",null,null,"E-Rate",{"$nulls":7},"Technology","01/15/2019 10:39 AM","Ted Meyer"]
["53717","8501528218","Lindbergh High School","Practice Field","Crown CDI 2000 Two Channel 800W Amp",null,"Available","Audio","2018-10-01","985.00","19-55997","Amazon","CDI 2000","Crown Audio","Practice Field",{"$nulls":3},"B&amp;G PD",{"$nulls":11},"01/15/2019 09:22 AM","Ted Meyer"]
["49668","MP14DPY1","Central Office","215","Lenovo ThinkPad Yoga 260 (Core i5-6300U, 8GB, 256GB)",null,"Available","Laptop","2017-03-27","1,234.90","17-39996","ITsavvy LLC","Yoga 260","Lenovo",null,"e4b318924686","2021/2022",null,"27870-6541",{"$nulls":3},"400-2331-6543-824-000-000",{"$nulls":3},"20FD002DUS",null,null,"Music","01/15/2019 09:21 AM","Ted Meyer"]
["47920","X606550052FCE","Sappington Elementary","032","Xirrus XR-620 Access Point",null,"Available","Access Point","2016-07-01","237.42","17-36030","Zagarri Engineering","XR620","Xirrus",null,null,"2020/2021",null,"39038-65421",null,null,"E-Rate",{"$nulls":7},"Art","01/15/2019 09:46 AM","Ted Meyer"]
["44991","3CR44800T0","Sappington Elementary","Library","HP Sprout 23\" Touch-Screen All In One Intel Core i7 8GB Memory - 1 TB Hard Disk Drive  Black/Silver Model 23-S010",null,"Available","Desktop","2015-02-10","1,862.87","15-21439","Best Buy","SPROUT","HP",null,"60029221b19f","2019/2020",null,"11310-6542",{"$nulls":3},"ACB57D80676 2nd Mac Address",{"$nulls":6},"Maker Space","01/15/2019 09:46 AM","Ted Meyer"]
["49101","IN64G4F0H3","Long Elementary","Data - Downstairs","HP 5400R Power Supply",null,"Available","Power Supply","2016-07-05","535.00","17-36029","WJR Technologies","J9829A","HP",{"$nulls":4},"39038-65421",null,null,"E-Rate",{"$nulls":7},"Technology","01/15/2019 09:35 AM","Ted Meyer"]
["47912","X606550052FD8","Sappington Elementary","014","Xirrus XR-620 Access Point",null,"Available","Access Point","2016-07-01","237.42","17-36030","Zagarri Engineering","XR620","Xirrus",null,null,"2020/2021",null,"39038-65421",null,null,"E-Rate",{"$nulls":8},"01/15/2019 09:46 AM","Ted Meyer"]
["47916","X606550052F1E","Sappington Elementary","016","Xirrus XR-620 Access Point",null,"Available","Access Point","2016-07-01","237.42","17-36030","Zagarri Engineering","XR620","Xirrus",null,null,"2020/2021",null,"39038-65421",null,null,"E-Rate",{"$nulls":7},"1st Grade","01/15/2019 09:46 AM","Ted Meyer"]
["14035",null,"Sperreng Middle","057 (Fitness Room)","UnKnown",null,"Available","VCR",{"$nulls":4},"Zenith","Zenith",null,null,"UnKnown",{"$nulls":13},"01/15/2019 09:52 AM","Ted Meyer"]
["36615","47755","Sperreng Middle","220","ELMO Document Camera",null,"Available","Document Camera","2008-12-13","529.00","09-33069","CDWG",null,"ELMO",null,null,"2012/2013",null,"27870-6541",{"$nulls":11},"01/15/2019 09:52 AM","Ted Meyer"]
["33529","415978","Sperreng Middle","109","Sony DVD/VCR Combo Player Unit",null,"Available","DVD Player","2006-08-17","108.56","07-27678","CDWG, INC","SLV-D370P","Sony",null,null,"2010/2011",null,"27870-6541",{"$nulls":11},"01/15/2019 09:52 AM","Ted Meyer"]
["ERATE0009","SG62GPB0HV","Sperreng Middle","Nurse's Office","HP J9986A 24 Port Module",null,"Available","Port Module","2016-07-01","1,480.00","17-36029","WJR TECHNOLOGIES","J9986A","HP",null,null,"2020/2021",null,"39038-65421",null,null,"E-Rate",{"$nulls":8},"01/15/2019 09:53 AM","Ted Meyer"]
["46063","DMRWQHDKJF8J","Sperreng Middle","005","Apple iPad 32GB WIFI (6th Gen)",null,"Available","iPad","2018-06-18","299.00","18-55341","Apple","MR7F2LL/A","Apple","5-03","94bf2d99c3b3","2022/2023",null,"Gifted PD",null,null,"Building Budget",{"$nulls":4},"A1893",null,null,"LEAP","01/15/2019 09:53 AM","Ted Meyer"]
["54099","P2034G8C","Sperreng Middle","Library Chromebook Cart","Lenovo 500e Chromebook (Gen 1)",null,"Available","Chromebook","2018-10-04","310.49","19-55702","Firefly Computers","500e","Lenovo","DR-LIBLAB1-21","38baf85ab5f4","2022/2023",null,"TE PD",{"$nulls":7},"81ES0007US","CBRedistribute",null,null,"01/15/2019 08:40 AM","Ted Meyer"]
["39240","ECILS3-BK","Sperreng Middle","Event Cart","Bretford A/V Learning Cart",null,"Available","Cart",null,"320.00",null,"CDWG","ECILS3-BK","Bretford",null,null,"UnKnown",null,"27870-6541",{"$nulls":10},"PE","01/15/2019 09:52 AM","Ted Meyer"]
["48437",null,"Sperreng Middle","132","Bretford A/V Learning Cart",null,"Available","Cart","2007-09-04","305.00","08-29976","CDWG","ECILS3-BK","Bretford",null,null,"2011/2012",null,"27870-6541",{"$nulls":11},"01/15/2019 09:52 AM","Ted Meyer"]
["45821","PB5ZN6R","Sperreng Middle","140B","Lenovo ThinkPad USB 3.0 Dock",null,"Available","Dock","2013-05-10","135.00","14-15032","TWOTREES","DU9019D1","Lenovo",null,"843a4b0edbdc","2017/2018",{"$nulls":13},"01/15/2019 09:52 AM","Ted Meyer"]
["48356",null,"Sperreng Middle","129","Bretford A/V Learning Cart",null,"Available","Cart","2007-09-04","305.00","08-30711","CDWG","ECILS3-BK","Bretford",null,null,"2011/2012",null,"27870-6541",{"$nulls":11},"01/15/2019 09:52 AM","Ted Meyer"]
["36736",null,"Sperreng Middle","112","Bretford A/V Learning Cart",null,"Available","Cart","2007-09-04","305.00","08-30711","CDWG","ECILS3-BK","Bretford",null,null,"2011/2012",null,"27870-6541",{"$nulls":11},"01/15/2019 09:52 AM","Ted Meyer"]
["47038","PC06CWRY","Sperreng Middle","Tech Office","Lenovo ThinkPad Onelink Pro Dock for Thinkpad Yoga",null,"Available","Dock","2015-07-06","132.00","16-30425","TWOTREES","DU9033S1","Lenovo",null,null,"2019/2020",{"$nulls":13},"01/15/2019 09:52 AM","Ted Meyer"]
["48385",null,"Sperreng Middle","124","ELMO TT-02RX Document Camera",null,"Available","Document Camera",{"$nulls":4},"TT-02RX","ELMO",null,null,"UnKnown",{"$nulls":13},"01/15/2019 09:52 AM","Ted Meyer"]
["49104","IN64G4F05V","Sappington Elementary","Data - 038 Closet","HP 5400R Power Supply",null,"Available","Power Supply","2016-07-05","535.00","17-36029","WJR Technologies","J9829A","HP",null,null,"2020/2021",null,"39038-65421",null,null,"E-Rate",{"$nulls":8},"01/15/2019 09:46 AM","Ted Meyer"]
["48029","31E-06PN","Lindbergh High School","Guidance","Dell B2360dn Laser Printer",null,"Available","Printer","2013-08-08","203.04",null,"ITSavvy","B2360dn","Dell",{"$nulls":4},"27870-6541",{"$nulls":11},"01/15/2019 09:21 AM","Ted Meyer"]
["50669","X28C8401111","Lindbergh High School","012","Epson Brighlink 695Wi Projector",null,"Available","Projector","2018-06-25","1,640.63","19-54564","ITsavvy","Brightlink 695Wi","Epson","Allison Tripolitis",null,"2022/2023",null,"400.1151.6543.1050.07360.1.000",null,null,"Dept Budget",{"$nulls":7},"Social Studies","01/15/2019 09:21 AM","Ted Meyer"]
["41061","2011270037062000","Lindbergh High School","English Dept.","Nook Color",null,"Available","eReader","2011-06-01","234.06","11-37735","Barnes & Noble","BNRV200","Nook",null,"58671a16f6fa",null,null,"29901-6411",{"$nulls":10},"English","01/15/2019 09:21 AM","Ted Meyer"]
["41853","PK-1128P","Lindbergh High School","127","Lenovo Thinkpad W530",null,"Available","Laptop","2013-08-28","1,861.20","14-16049","TwoTrees","W530","Lenovo",null,"a44e3144bbb8","2017/2018",null,"27870-6541",{"$nulls":10},"Industrial Technology","01/15/2019 09:21 AM","Ted Meyer"]
["33539","07008M0830","Lindbergh High School","ORCHESTRA RM","Loud Speaker Electro Voice Brand",null,"Available","Speaker","2008-01-24","625.00","SUE ROLA","TOWER MUSIC","SX300",{"$nulls":5},"STROLL STR ALLIANCE",{"$nulls":11},"01/15/2019 09:21 AM","Ted Meyer"]
["36659","AE84026871A0","Lindbergh High School","Principle Office","OKI C5650n Color Laser Printer",null,"Available","Printer","2009-01-14","411.89","09-33126","World Wide Technologies","C5650n","OKI",{"$nulls":4},"26445-6411",{"$nulls":10},"Office","01/15/2019 09:21 AM","Ted Meyer"]
["45214","SR9YTVA3","Lindbergh High School","122","Lenovo ThinkPad Helix",null,"Available","Laptop","2013-05-10","1,455.00","14-15032","TWOTREES","Helix","Lenovo","Karon (Amann) Vandas","843a4b453ff8","2017/2018",{"$nulls":5},"repaired using jim denners old computer. nh",{"$nulls":3},"36984LU",null,null,"English","01/15/2019 09:21 AM","Ted Meyer"]
["40177","R9-4P7WA","Lindbergh High School","126","Lenovo ThinkPad x201T Tablet Laptop",null,"Available","Laptop","2010-05-25","1,724.00","11-35514","Lenovo","x201T","Lenovo","HSFACS-21",null,"2014/2015",null,"27870-6541",{"$nulls":10},"Family and Consumer Science","01/15/2019 09:21 AM","Ted Meyer"]
["33525","499489","Lindbergh High School","037","Sony DVD/VCR Combo Player Unit",null,"Available","DVD Player","2006-08-17","108.56","07-27678","CDWG, INC","SLV-D370P","Sony",{"$nulls":4},"27870-6541",{"$nulls":11},"01/15/2019 09:21 AM","Ted Meyer"]
["39969","R9-4P7XM","Lindbergh High School","037","Lenovo ThinkPad x201T Tablet Laptop",null,"Available","Laptop","2010-05-25","1,724.00","11-35514","Lenovo","x201T","Lenovo","HSPE-24",null,"2014/2015",null,"27870-6541",{"$nulls":4},"2017-10-11","Item is no longer functional",{"$nulls":4},"PE","01/15/2019 09:21 AM","Ted Meyer"]
["40226","MJTXA39","Lindbergh High School","Music Tech Lab 400","Lenovo ThinkStation E20",null,"Available","Desktop","2010-05-25","898.00","11-35519","Lenovo","E20","Lenovo","HSMUSIC-14",null,"2014/2015",null,"27870-6541",{"$nulls":7},"4220W5B",null,null,"Music","01/15/2019 09:21 AM","Ted Meyer"]
["42901","R9LKERV","Lindbergh High School","107","Lenovo ThinkPad x220 Tablet Laptop",null,"Available","Laptop","2012-05-21","1,550.00","12-40270","Two Trees","X220","Lenovo","HSLIBMLC1-24","100ba97367a8","2016/2017",null,"27870-6541",{"$nulls":7},"42963MU",null,null,"Library","01/15/2019 09:21 AM","Ted Meyer"]
["41866",null,"Lindbergh High School","Science Core","Tentaview LCD Digital Microscope",null,"Available","Microscope","2013-09-17","336.09","14-16353","B&H Photo Video","TetraView #44348","Celestron","HS - Science",{"$nulls":3},"15620-6411",{"$nulls":7},"TetraView #44348",null,null,"Science","01/15/2019 09:21 AM","Ted Meyer"]
["52068","39368671353","Lindbergh High School","330","Microsoft Surface Pro 4 Tablet (Core i5 6300U, 8GB, 256GB SSD)",null,"Available","Laptop","2017-08-31","1,127.33","18-51028","ITsavvy","Surface Pro 4","Microsoft","HSART-13","bc8385cbba45",null,null,"15260-6412",null,null,"Building Budget","3 Yr Warranty\nW/Keyboard Cover",{"$nulls":6},"Art","01/15/2019 09:21 AM","Ted Meyer"]
["40827","U9XA50069","Lindbergh High School","330","Olympus Digital Camera",null,"Available","Camera",{"$nulls":5},"Olympus",{"$nulls":8},"David Early purchased",{"$nulls":6},"Art","01/15/2019 09:21 AM","Ted Meyer"]
["36695","7X00073EH","Lindbergh High School","314","NEC VT49 Video Projector",null,"Available","Projector","2007-12-26","590.00","08-30711","CDWG","VT49",{"$nulls":5},"27870-6541",{"$nulls":10},"Technology","01/15/2019 09:21 AM","Ted Meyer"]
["34972","951963","Lindbergh High School","106","ELMO TT-02u Document Camera",null,"Available","Document Camera","2006-09-17","555.00","07-27832","PC MALL","TT-02u","ELMO",{"$nulls":4},"27870-6541",{"$nulls":10},"Business","01/15/2019 09:21 AM","Ted Meyer"]
["28741","28949880","Lindbergh High School","201","Gateway Profile 4L Computer W/ 15\" Flat Screen Monitor 2.4 GHz Pentium 4 Processor, 256MB Memory, 40GB-500 RPM Hard Drive, 1.44MB-3-1/2 Floppy, 24/10/24/Bx DVD/CDRW Combo Drive, Windows XP",null,"Available","Desktop","2002-10-15","1,549.00","19621","GATEWAY BUSINESS","Profile 4","Gateway",null,null,"2006/2007",null,"27870-6541",{"$nulls":10},"Science","01/15/2019 09:21 AM","Ted Meyer"]
["25755","1500785","Lindbergh High School","Library","Panasonic 4 Head Stereo VCR Player",null,"Available","VCR","2001-04-04","89.99","14178","Best Buy","PV-4521","Panasonic",{"$nulls":4},"31380-6542",{"$nulls":11},"01/15/2019 09:21 AM","Ted Meyer"]
["26692","242180351-0499K","Lindbergh High School","Math","Texas Instruments Graphing Calculator",null,"Available","Other","2001-06-22","100.90","15079","D & H","TI-86",{"$nulls":5},"30020-6542",{"$nulls":11},"01/15/2019 09:21 AM","Ted Meyer"]
["26665","052079151-09970","Lindbergh High School","Math","Texas Instruments Graphing Calculator",null,"Available","Other","2001-06-22","100.90","15079","D & H","TI-86",{"$nulls":5},"30020-6542",{"$nulls":11},"01/15/2019 09:21 AM","Ted Meyer"]
["33152","ETL460C1356120556A4000","Lindbergh High School","313","Acer 17\" LCD Flat Screen Computer Monitor",null,"Available","Monitor","2006-06-01","164.48","07-27129","CDW-G, INC","AL1706B","Acer",{"$nulls":4},"27870-6541",{"$nulls":4},"2017-08-15","No longer works",{"$nulls":5},"01/15/2019 09:21 AM","Ted Meyer"]
["33167","ETL460C1356120569A4000","Lindbergh High School","313","Acer 17\" LCD Flat Screen Computer Monitor",null,"Available","Monitor","2006-06-01","164.48","07-27129","CDW-G, INC","AL1706B","Acer",{"$nulls":4},"27870-6541",{"$nulls":11},"01/15/2019 09:21 AM","Ted Meyer"]
["27300","C05A26245","Lindbergh High School","154","Panasonic HI-FI Stereo 4 Head Video Cassette Tape Recorder",null,"Available","VCR","2000-12-20","125.00","13656","CSD (W.Schiller & Co.)","PV-V4540","Panasonic",{"$nulls":4},"29550-6542",{"$nulls":10},"Math","01/15/2019 09:21 AM","Ted Meyer"]
["17568",null,"Lindbergh High School","333","Eiki CD and Cassette player",null,"Available","Tape Recorder",{"$nulls":5},"Eiki",{"$nulls":16},"01/15/2019 09:21 AM","Ted Meyer"]
["49515","752TSYG299","Lindbergh High School","ADMIN 12","Motorola CP200D UHF Digital 16 Channel Two-Way Radio",null,"Available","Two-Way Radio","2017-03-06","365.00","17-39627","TBS Electronics","CP200D","Motorola","DEBBIE KOELLER",{"$nulls":3},"26445-6411",null,null,"Building Budget","3 Year Warranty",{"$nulls":6},"Administration","01/15/2019 09:21 AM","Ted Meyer"]
["53532","P2024HUZ","Lindbergh High School","022","Lenovo 300e Chromebook",null,"Available","Chromebook","2018-08-01","276.49","19-54755","Firefly Computers","300e","Lenovo","TR-MODLANG-CB-06","a81d160ab0ad","2022/2023",null,"C&amp;I PD",{"$nulls":7},"81FY000BUS","CBRedistribute",null,"Technology","01/15/2019 10:00 AM","Ted Meyer"]
["51420","X3136315F9BA6","Lindbergh High School","403 Band Room","Xirrus XD2-240 5 Year Erate Cloud Bundle",null,"Available","Access Point","2017-05-10","528.00","17-40232","Zagarri","XD2-240","Xirrus",{"$nulls":4},"39038-65421",null,null,"E-Rate",{"$nulls":8},"01/15/2019 09:21 AM","Ted Meyer"]
["39425","9501449EJ","Lindbergh High School","Multipurpose Room - Gym","NEC NP300 Projector",null,"Available","Projector","2008-12-13","659.00","09-33069","CDWG","NP300","NEC",null,null,"2012/2013",null,"27870-6541",{"$nulls":10},"Technology","01/15/2019 10:07 AM","Ted Meyer"]
["49937","MJ05N1PF","Lindbergh High School","023","Lenovo ThinkCentre M9108 (Core i5-7500, 8GB, 1TB HDD)",null,"Available","Desktop","2017-08-14","755.41","18-50422","Staples","M92108","Lenovo","Jason Wolfard",null,"2021/2022",null,"27873-6412",{"$nulls":7},"10MK000QUS",null,null,"Computer Science","01/15/2019 09:21 AM","Ted Meyer"]
["53492","P2024HUA","Lindbergh High School","Auditorium Foyer","Lenovo 300e Chromebook",null,"Available","Chromebook","2018-08-01","276.49","19-54755","Firefly Computers","300e","Lenovo","SP-MODLANG-CB-20","a81d160ac795","2022/2023",null,"C&amp;I PD",null,null,"Dept Budget",{"$nulls":4},"81FY000BUS","CBRedistribute",null,"Modern Language","01/15/2019 09:53 AM","Ted Meyer"]
["53476","P2024HVA","Lindbergh High School","022","Lenovo 300e Chromebook",null,"Available","Chromebook","2018-08-01","276.49","19-54755","Firefly Computers","300e","Lenovo","SP-MODLANG-CB-04","a81d160ae22d","2022/2023",null,"C&amp;I PD",null,null,"Dept Budget",{"$nulls":4},"81FY000BUS","CBRedistribute",null,"Modern Language","01/15/2019 09:53 AM","Ted Meyer"]
["44071",null,"Lindbergh High School","044","Epson Brightlink 450Wi Projector",null,"Available","Projector",{"$nulls":4},"Brightlink 450Wi","Epson","Sandy Olive",null,"UnKnown","10.0.19.201",null,"Filter","2016-03-24",{"$nulls":8},"English","01/15/2019 09:21 AM","Ted Meyer"]
["44960","14L2472951","Lindbergh High School","English","Insignia DVD Player",null,"Available","DVD Player","2014-12-16","28.50","15-20937","Best Buy Retail Services",null,"Insignia",{"$nulls":4},"15003-6411",{"$nulls":3},"MFG# NS-D160A14 High School",{"$nulls":6},"English","01/15/2019 09:21 AM","Ted Meyer"]
["45578","PB7GVT6","Lindbergh High School","HSSSML3","Lenovo ThinkPad X131e",null,"Available","Laptop","2013-05-20","508.00","13-13931","Two Trees","X131e","Lenovo","HSSSML3-07","f4b7e2d2901f","2017/2018",null,"27870-6541",{"$nulls":10},"Social Studies","01/15/2019 09:21 AM","Ted Meyer"]
["45613","PB7GVT2","Lindbergh High School","HSENGML3","Lenovo ThinkPad X131e",null,"Available","Laptop","2013-05-20","508.00","13-13931","Two Trees","X131e","Lenovo","HSENGML3-14","f4b7e2d292a5","2017/2018",null,"27870-6541",{"$nulls":4},"2017-10-11","Item is no longer functional",{"$nulls":4},"English","01/15/2019 09:21 AM","Ted Meyer"]
["45120","SR9YTVA8","Lindbergh High School","039","Lenovo ThinkPad Helix",null,"Available","Laptop","2013-05-10","1,455.00","14-15032","TWOTREES","Helix","Lenovo","Melissa Dudley","843a4b455248","2017/2018",{"$nulls":9},"36984LU",null,null,"PE","01/15/2019 10:07 AM","Ted Meyer"]
["43466","R9LKET7","Lindbergh High School","309 - broken","Lenovo ThinkPad x220 Tablet Laptop",null,"Available","Laptop","2012-05-21","1,550.00","12-40270","Two Trees","X220","Lenovo",null,"100ba9736558","2016/2017",null,"27870-6541",{"$nulls":3},"10/22/13----screen cracked..using for parts--rlsp",{"$nulls":3},"42963MU",null,null,"Technology","01/15/2019 09:21 AM","Ted Meyer"]
["54309","X28C8601865","Lindbergh High School","225","Epson Brighlink 695Wi Projector",null,"Available","Projector","2018-10-15","1,640.63","19-56144","Itsavvy","Brightlink 695Wi","Epson","Anne Monroe",null,"2022/2023",null,"TE PD",{"$nulls":10},"Science","01/15/2019 10:00 AM","Ted Meyer"]
["50654","X28C8400973","Lindbergh High School","351","Epson Brighlink 695Wi Projector",null,"Available","Projector","2018-06-25","1,640.63","19-54564","ITsavvy","Brightlink 695Wi","Epson","Ed Perniciaro",null,"2022/2023",null,"400.4051.6542.1050.07100.1.120",null,null,"Dept Budget",{"$nulls":7},"Academy","01/15/2019 09:21 AM","Ted Meyer"]
["41429","MJBBTFA","Lindbergh High School","60","Lenovo ThinkCentre M91p Tower",null,"Available","Desktop","2011-08-17","829.50","12-37763","Lenovo","M91p","Lenovo",null,null,"2015/2016",null,"27870-6541",{"$nulls":11},"01/15/2019 09:21 AM","Ted Meyer"]
["48104","RF2D50AYPSH","ECE Main","001","Samsung Galaxy Tab 2",null,"Available","Tablet","2013-07-15","166.30","14-15427","ITSavvy","GT-P3113","Samsung",null,"64b310d26e72",null,null,"17500-6412",{"$nulls":10},"ECE","01/15/2019 09:01 AM","Ted Meyer"]
["49834","X3136295F95E6","Dressel Elementary","212","Xirrus XD2-240 5 Year Erate Cloud Bundle",null,"Available","Access Point","2017-05-10","528.00","17-40232","Zagarri","XD2-240","Xirrus",{"$nulls":4},"39038-65421",null,null,"E-Rate",{"$nulls":8},"01/15/2019 08:40 AM","Ted Meyer"]
["38945","L3-ANK1B","ECE Main","010","Lenovo Thinkpad SL300",null,"Available","Laptop","2009-06-26","941.82","09-33769","Lenovo","SL300","Lenovo","EC010-01",null,"2013/2014",null,"27891-6541",{"$nulls":3},"w/3 yr warranty",{"$nulls":6},"ECE","01/15/2019 09:01 AM","Ted Meyer"]
["43030","DMPHNCLMDJ8T","Kennerly Elementary","Library Back Room","Apple iPad 16GB WIFI (3rd Gen)",null,"Available","iPad","2012-05-07","479.00","12-40102","Apple","MD339LL/A","Apple",null,"64200c7667ec","2016/2017",null,"31213-6541",{"$nulls":7},"A1416",null,null,"Math","01/15/2019 09:21 AM","Ted Meyer"]
["47801","ZTB9H1JB900009F","ECE Main","Office","Samsung Interactive Board",null,"Available","Interactive Display",{"$nulls":5},"Samsung",{"$nulls":15},"ECE","01/15/2019 09:01 AM","Ted Meyer"]
["46057","V5611213","Lindbergh High School","Guidance","Lenovo Thinkvision 21.5\" LED Monitor",null,"Available","Monitor","2015-03-26","148.27","15-22101","ITsavvy","E2223S","Lenovo","Julie Hosner",{"$nulls":3},"23886-6411",{"$nulls":3},"Lenovo displayport cable 32.18",{"$nulls":6},"Guidance","01/15/2019 09:21 AM","Ted Meyer"]
["47565","DMPQQ3JTFK10","ECE Main","Parents as Teachers","Apple iPad Air 16GB WIFI (1st Gen)",null,"Available","iPad","2015-11-12","379.00","16-32408","Apple Store","PD785LL/B","Apple","Cheryl Simpher","a4d18c0ff330","2019/2020",null,"27898-6412",null,null,"Building Budget","with HFLF2PA/B logitech Ultrathin keyboard  cover for iPad airspace grey",{"$nulls":3},"A1474",null,null,"PAT","01/15/2019 09:01 AM","Ted Meyer"]
["43789","DMPJ9C3RDJ8T","Kennerly Elementary","012","Apple iPad 16GB WIFI (3rd Gen)",null,"Available","iPad","2012-08-22","479.00","13-10778","Apple","MC705LL/A","Apple","KE12-03","d8004ddee94d","2016/2017",null,"27870-6541",{"$nulls":7},"A1416",null,null,"SSD","01/15/2019 09:04 AM","Ted Meyer"]
["42073","V8-02176","Kennerly Elementary","Library","Lenovo ThinkVision 22\" LCD Monitor",null,"Available","Monitor",{"$nulls":4},"L2250pwd","Lenovo",{"$nulls":15},"Library","01/15/2019 09:04 AM","Ted Meyer"]
["42446","RD0051226","Kennerly Elementary","102","FrontRow Pro Digital 940R Receiver/Amplifier with 940TM Transmitter/Microphone",null,"Available","Classroom Audio",{"$nulls":4},"940R","FrontRow","KE-102",{"$nulls":14},"5th Grade","01/15/2019 09:04 AM","Ted Meyer"]
["47941","890E2887","Kennerly Elementary","101 (Art)","Dell C1760nw Color Laser Printer",null,"Available","Printer","2016-06-01","200.79","16-34689","ITsavvy","C1760nw","Dell",{"$nulls":4},"26580-6411",null,null,"Grant","Service Tag HMYGZ02\nEXPRESS SERVICE 383 934 543 86",{"$nulls":6},"Art","01/15/2019 09:04 AM","Ted Meyer"]
["54268","X28B7Z0223L","Kennerly Elementary","016","Epson Brighlink 695Wi Projector",null,"Available","Projector","2018-10-15","1,640.63","19-56144","Itsavvy","Brightlink 695Wi","Epson","KE-016",null,"2022/2023",null,"TE PD",{"$nulls":10},"4th Grade","01/15/2019 09:04 AM","Ted Meyer"]
["36469",null,"Kennerly Elementary","004","FrontRow Pro Digital 940R Receiver/Amplifier with 940TM Transmitter/Microphone",null,"Available","Classroom Audio",{"$nulls":4},"940R","FrontRow",{"$nulls":15},"2nd Grade","01/15/2019 09:04 AM","Ted Meyer"]
["33477","MC109D077732","Lindbergh High School","Library","Toshiba DVD Player",null,"Available","DVD Player","2006-07-01","58.99","07-27353","BEST BUY","SD-39905U","Toshiba",{"$nulls":4},"31360-6542",{"$nulls":11},"01/15/2019 09:21 AM","Ted Meyer"]
["41577","S010532427-9","Lindbergh High School","Library","Sony Bloggie Sport 4GB HD Camcorder BLK",null,"Available","Camera","2012-06-20","145.99","13-10154","Best Buy","MHS-TS20","Sony",{"$nulls":15},"Library","01/15/2019 09:21 AM","Ted Meyer"]
["52263","06TN3CPJ904703","Kennerly Elementary","Counselor's Office","Samsung 50\" Smart TV",null,"Available","TV","2017-10-30","513.62","18-52434","ITsavvy","UN50M5300AFXZA","Samsung",null,null,"2021/2022",null,"27871-6412",{"$nulls":11},"01/15/2019 09:04 AM","Ted Meyer"]
["42037",null,"Lindbergh High School","Library","FrontRow Student Microphone",null,"Available","Classroom Audio",{"$nulls":3},"Front Row",null,"FrontRow",{"$nulls":8},"No cost but valued at $305 ea",{"$nulls":6},"Library","01/15/2019 09:21 AM","Ted Meyer"]
["52331","1353585","Dressel Elementary","219","ELMO TT-12iD Document Camera",null,"Available","Document Camera","2017-11-14","588.54","17-39874","ITsavvy","TT-12iD","ELMO",{"$nulls":4},"39038-65421",null,null,"Building Budget","PROP G Fund for Dressel equipment",{"$nulls":6},"5th Grade","01/15/2019 08:40 AM","Ted Meyer"]
["49919","035TTN08WD","Dressel Elementary","202 (Counselor)","Motorola DTR650 Two-Way Radio",null,"Available","Two-Way Radio","2017-07-11","253.00","18-50490","TBS Electronics, INC","DTR650","Motorola","Counselor",{"$nulls":3},"39038-65421",null,null,"Building Budget",{"$nulls":7},"Guidance","01/15/2019 08:40 AM","Ted Meyer"]
["44502","DMPN1GABF182","Dressel Elementary","117","Apple iPad 16GB WIFI (4th Gen)",null,"Available","iPad","2014-06-25","379.00","15-18514","Apple Store","MD510LL/A","Apple","Laura Howard","f82793c51d87","2018/2019",null,"11310-6542",{"$nulls":7},"A1458",null,null,"Reading","01/15/2019 08:40 AM","Ted Meyer"]
["52012","X28B720117L","Dressel Elementary","112","Epson Brighlink 695Wi Projector",null,"Available","Projector","2017-05-01","1,530.00","17-39875","CDW-G","Brightlink 695Wi","Epson",null,null,"2021/2022",null,"39038-65421",null,null,"Building Budget","3 year Brighter Future Warranty",{"$nulls":6},"2nd Grade","01/15/2019 08:40 AM","Ted Meyer"]
["46019",null,"Crestwood Elementary","Unknown","Epson Brightlink 455Wi Projector",null,"Available","Projector",{"$nulls":4},"Brightlink 455Wi","Epson",null,null,"UnKnown",{"$nulls":12},"1st Grade","01/15/2019 08:34 AM","Ted Meyer"]
["52014","X28B720122L","Dressel Elementary","114","Epson Brighlink 695Wi Projector",null,"Available","Projector","2017-05-01","1,530.00","17-39875","CDW-G","Brightlink 695Wi","Epson",null,null,"2021/2022",null,"39038-65421",null,null,"Building Budget","3 year Brighter Future Warranty",{"$nulls":6},"2nd Grade","01/15/2019 08:40 AM","Ted Meyer"]
["40634",null,"Crestwood Elementary","Unknown","Epson Brightlink 455Wi Projector",null,"Available","Projector",{"$nulls":4},"Brightlink 455Wi","Epson",null,null,"UnKnown",{"$nulls":12},"Kindergarten","01/15/2019 08:34 AM","Ted Meyer"]
["50702","P202D9RA","Crestwood Elementary","Unknown","Lenovo 500e Chromebook (Gen 1)",null,"Available","Chromebook","2018-06-19","287.00","19-54624","Firefly Computers","500e","Lenovo","TRML1-CB-09","7c2a311ae6a4","2022/2023",null,"100-1151-6412-3080-07360-1-000",{"$nulls":3},"CHROMEBOOK MANAGEMENT CONSOLE @$23.49\nFIREFLY CHROMEBOOK SUPPORT FOR LENOVO\nLANSCHOOL PERPETUAL PER DEVICE LICENSE WITH 1 YR OF SNS",{"$nulls":3},"81ES0007US","CBRedistribute",null,"Modern Language","01/15/2019 10:00 AM","Ted Meyer"]
["51556","04MY3CAJ600388","Crestwood Elementary","Office","Samsung 50\" Smart TV",null,"Available","TV","2017-07-18","578.00","18-50497","Best Buy","UN50J5200AFXZA","Samsung","Jodi Meese",null,"2021/2022",null,"27870-6411",{"$nulls":11},"01/15/2019 08:34 AM","Ted Meyer"]
["48053","V122692","Crestwood Elementary","Library","Lenovo ThinkVision 23\" Monitor",null,"Available","Monitor","2013-07-16","185.00","14-15477","TwoTrees","LS2323","Lenovo",{"$nulls":4},"27870-6541",{"$nulls":10},"Industrial Technology","01/15/2019 09:21 AM","Ted Meyer"]
["49823","X3136295F9604","Dressel Elementary","203","Xirrus XD2-240 5 Year Erate Cloud Bundle",null,"Available","Access Point","2017-05-10","528.00","17-40232","Zagarri","XD2-240","Xirrus",{"$nulls":4},"39038-65421",null,null,"E-Rate",{"$nulls":8},"01/15/2019 08:40 AM","Ted Meyer"]
["36914","035TLU0T2G","Concord Elementary","Assistant Principal's Office","Motorola DTR650 Two-Way Radio",null,"Available","Two-Way Radio","2010-12-07","295.00","78033","TBS Electronics","DTR650","Motorola",{"$nulls":15},"Office","01/15/2019 08:37 AM","Ted Meyer"]
["36916","035TLU0T2Q","Concord Elementary","Nurse's Office","Motorola DTR650 Two-Way Radio",null,"Available","Two-Way Radio","2010-12-07","295.00","78033","TBS Electronics","DTR650","Motorola",{"$nulls":15},"Office","01/15/2019 08:37 AM","Ted Meyer"]
["42129","PC7FOZ3320L","Unknown",null,"Epson Brightlink 455Wi Projector",null,"Available","Projector",{"$nulls":4},"Brightlink 455Wi","Epson",null,null,"UnKnown",null,null,"Filter","2018-08-30",{"$nulls":8},"2nd Grade","01/15/2019 09:35 AM","Ted Meyer"]
["52246","1367668","Concord Elementary","035","ELMO TT-12iD Document Camera",null,"Available","Document Camera","2017-10-27","584.61","18-52238","ITsavvy","TT-12iD","ELMO",{"$nulls":4},"27871-6412",{"$nulls":10},"5th Grade","01/15/2019 08:38 AM","Ted Meyer"]
["39211","120213","Concord Elementary","016","ELMO TT-02s Document Camera",null,"Available","Document Camera","2009-08-10","529.00","10-34109","CDWG","TT-02s","ELMO",{"$nulls":4},"27870-6541",{"$nulls":10},"1st Grade","01/15/2019 08:37 AM","Ted Meyer"]
["36917","035TLU0T2S","Concord Elementary","Office","Motorola DTR650 Two-Way Radio",null,"Available","Two-Way Radio","2010-12-07","295.00","78033","TBS Electronics","DTR650","Motorola",{"$nulls":15},"Office","01/15/2019 08:37 AM","Ted Meyer"]
["50367","DMPWVNT2JF8J","Concord Elementary","014","Apple iPad 32GB WIFI (6th Gen)",null,"Available","iPad","2018-06-21","294.00","18-55426","Apple","PR8A2LL/A","Apple","17-03","a056f3c8b3d3","2022/2023",null,"27871-6412",{"$nulls":7},"A1893",null,null,"2nd Grade","01/15/2019 08:38 AM","Ted Meyer"]
["41999","RD0049714","Concord Elementary","012","FrontRow Pro Digital 940R Receiver/Amplifier with 940TM Transmitter/Microphone",null,"Available","Classroom Audio",{"$nulls":4},"940R","FrontRow",null,null,"UnKnown",{"$nulls":12},"ELL","01/15/2019 08:37 AM","Ted Meyer"]
["49171","F9FRM6CMFCM6","Concord Elementary","Gym","Apple iPad Mini 16GB WIFI (2nd Gen)",null,"Available","iPad","2016-05-12","379.00","16-34594","Apple Store","PE277LL/A","Apple","CCCPE-07","1c9e468430bd","2020/2021",null,"11392-6411",null,null,"Grant","110-1111-11411-417-000-009",{"$nulls":3},"A1489",null,null,"PE","01/15/2019 08:38 AM","Ted Meyer"]
["39100",null,"District Storage",null,"Bretford A/V Learning Cart",null,"Available","Cart","2007-01-23","315.00","07-28546","Tech Depot","ECILS3-BK","Bretford",{"$nulls":4},"27870-6541",{"$nulls":6},"Removed to warehouse",{"$nulls":3},"3rd Grade","01/15/2019 08:37 AM","Ted Meyer"]
["44207",null,"Unknown",null,"Epson Brightlink 450Wi Projector",null,"Available","Projector",{"$nulls":4},"Brightlink 450Wi","Epson",null,null,"UnKnown",null,null,"Filter","2018-03-08",{"$nulls":8},"SSD","01/15/2019 09:52 AM","Ted Meyer"]
["48193","MJ88LR4","ECE Main",null,"Lenovo ThinkCentre M92p 2121 Tiny (Core i5-3470, 4GB, 500GB HDD)",null,"Available","Desktop","2013-10-31","615.00","14-16945","TwoTrees","M92P","Lenovo",null,"002324550f7d","2017/2018",null,"278916541",{"$nulls":7},"2121D5U",null,null,"ECE","01/15/2019 09:01 AM","Ted Meyer"]
["43594","DMQJ886XDJ8T","Sappington Elementary","042","Apple iPad 16GB WIFI (3rd Gen)",null,"Available","iPad","2012-08-22","399.00","13-10778","Apple","MC705LL/A","Apple","Maria Clancy old teacher ipad","a4e9757a81dc","2016/2017",null,"12310-6412",{"$nulls":7},"A1416",null,null,"3rd Grade","01/15/2019 09:46 AM","Ted Meyer"]
["52544","AWTHF98995","Concord Elementary","027","Fujitsu ScanSnap iX500 Scanner",null,"Available","Scanner","2018-01-31","430.42","18-53569","ITsavvy","iX500","Fujitsu",{"$nulls":4},"10192-6412",null,null,"Building Budget",{"$nulls":7},"Guidance","01/15/2019 08:34 AM","Ted Meyer"]
["42423",null,"Sappington Elementary","047","Bretford A/V Learning Cart",null,"Available","Cart",{"$nulls":4},"ECILS3-BK","Bretford",null,null,"UnKnown",{"$nulls":12},"4th Grade","01/15/2019 09:45 AM","Ted Meyer"]
["52423","X28C7602527","Sappington Elementary","057","Epson Brighlink 695Wi Projector",null,"Available","Projector","2017-10-31","1,643.20","18-52339","ITsavvy","Brightlink 695Wi","Epson",null,null,"2021/2022",null,"27871-6541",{"$nulls":3},"Replacement of all 5th Grade Projectors except DR",{"$nulls":6},"5th Grade","01/15/2019 09:46 AM","Ted Meyer"]
["42426","RD0051204","Sappington Elementary","059","FrontRow Pro Digital 940R Receiver/Amplifier with 940TM Transmitter/Microphone",null,"Available","Classroom Audio",{"$nulls":4},"940R","FrontRow",null,null,"UnKnown",{"$nulls":13},"01/15/2019 09:45 AM","Ted Meyer"]
["53140","P202E88N","Crestwood Elementary","005A","Lenovo 500e Chromebook (Gen 1)",null,"Available","Chromebook","2018-06-19","287.00","19-54624","Firefly Computers","500e","Lenovo","CR LOANER","7c7635fc042c","2022/2023",null,"100-1151-6412-3070-07360-1-000",{"$nulls":3},"CHROMEBOOK MANAGEMENT CONSOLE @$23.49\nFIREFLY CHROMEBOOK SUPPORT FOR LENOVO\nLANSCHOOL PERPETUAL PER DEVICE LICENSE WITH 1 YR OF SNS",{"$nulls":3},"81ES0007US","Issued for Virtual Learning - COVID-19",null,"Modern Language","01/15/2019 09:53 AM","Ted Meyer"]
["47796","MJMC525","ECE West","LAA","Lenovo ThinkCentre M58",null,"Available","Desktop",{"$nulls":4},"M58","Lenovo","Nancy Larose",null,"UnKnown",{"$nulls":12},"Office","01/15/2019 09:02 AM","Ted Meyer"]
["50006","035TPU037M","Crestwood Elementary","Library","Motorola DTR650 Two-Way Radio",null,"Available","Two-Way Radio",{"$nulls":4},"DTR650","Motorola","Battery 7/2013",{"$nulls":14},"Office","01/15/2019 08:34 AM","Ted Meyer"]
["50004","035TPEOPJQ","Crestwood Elementary","039","Motorola DTR650 Two-Way Radio",null,"Available","Two-Way Radio",{"$nulls":4},"DTR650","Motorola","Battery 7/2013",{"$nulls":15},"01/15/2019 08:34 AM","Ted Meyer"]
["31333","HA0135-21628","Crestwood Elementary","031 (Music)","JBL 3 Way Floor Standing Speakers 8\" (Pair)",null,"Available","Speaker","2004-08-11",null,"05-24088","HRS","E60","JBL",{"$nulls":4},"30010-6542",{"$nulls":5},"SEE R8 31332 FOR COST",{"$nulls":4},"Music","01/15/2019 08:34 AM","Ted Meyer"]
["52763","1801AV02C8C8","Crestwood Elementary","015","Algo SIP Audio Alerter",null,"Available","Intercom","2018-05-07","206.95","18-55094","Graybar Electric Company","8180","Algo",null,"0022ee02c8c8",null,null,"39044-6521",null,null,"Building Budget","Prop G Contingency Work District - Putting in CR Elem. for testing of system.",{"$nulls":7},"01/15/2019 08:34 AM","Ted Meyer"]
["47843","X606550053190","Crestwood Elementary","013","Xirrus XR-620 Access Point",null,"Available","Access Point","2016-07-01","237.42","17-36030","Zagarri Engineering","XR620","Xirrus",{"$nulls":4},"39038-65421",null,null,"E-Rate",{"$nulls":8},"01/15/2019 08:34 AM","Ted Meyer"]
["42258","CN-0DX7984873007R10H7","Sperreng Middle",null,"Dell 2330dn Laser Printer",null,"Available","Printer",{"$nulls":4},"2330dn","Dell",null,null,"UnKnown",{"$nulls":13},"01/15/2019 09:52 AM","Ted Meyer"]
["35931",null,"Sperreng Middle",null,"Dell 1720dn Laser Printer",null,"Available","Printer","2008-03-10","224.00","08-31160","DELL","1720dn","Dell",null,null,"2012/2013",null,"27820-6541",{"$nulls":11},"01/15/2019 09:53 AM","Ted Meyer"]
["41567","2013940075252010","Lindbergh High School",null,"Nook Color",null,"Available","eReader","2012-04-18","163.93","12-39924","Barnes & Noble","BNRV200","Nook",null,"58671a2e087d",{"$nulls":14},"01/15/2019 09:21 AM","Ted Meyer"]
["18-53801-009","X6138115FFB58","Crestwood Elementary","023","Xiirrus XD2-240 Access Point",null,"Available","Access Point","2018-08-01","610.00","18-53801","Zagarri","XD2-240","Xirrus",{"$nulls":4},"TE PD E",null,null,"E-Rate","ERATE",{"$nulls":7},"01/15/2019 08:35 AM","Ted Meyer"]
["47850","X606550052F38","Crestwood Elementary","031 (Music)","Xirrus XR-620 Access Point",null,"Available","Access Point","2016-07-01","237.42","17-36030","Zagarri Engineering","XR620","Xirrus",{"$nulls":4},"39038-65421",null,null,"E-Rate",{"$nulls":8},"01/15/2019 08:34 AM","Ted Meyer"]
["47079","MP08HSYT","Truman Middle",null,"Lenovo ThinkPad Yoga 12 (Core i5-5200U, 8GB, 128GB SSD)",null,"Available","Laptop","2015-07-06","1,174.00","16-30425","TWOTREES","Yoga 12","Lenovo",null,"34028695a5e2","2019/2020",{"$nulls":9},"20DKS1LQ00",{"$nulls":3},"01/15/2019 09:52 AM","Ted Meyer"]
["37019","CN-0DK795-73190-821-1649","Crestwood Elementary",null,"Dell 1720dn Laser Printer",null,"Available","Printer","2008-03-10","224.00","08-31160","DELL","1720dn","Dell",{"$nulls":3},"10.7.21.21","27820-6541",{"$nulls":11},"01/15/2019 08:34 AM","Ted Meyer"]
["52305","V0W9C3371C008F","Dressel Elementary",null,"Dell E310Ddw Printer Monochrome Laser",null,"Available","Printer","2017-05-22","85.69","17-40819","CDW-G","E310dw","Dell",{"$nulls":3},"10.9.21.205","27870-6411",{"$nulls":10},"1st Grade","01/15/2019 08:40 AM","Ted Meyer"]
["48232","62BRSS1","Kennerly Elementary",null,"Dell 2360dn Laser Printer",null,"Available","Printer","2013-11-01","195.00","14-16949","ITSavvy","2360dn","Dell",{"$nulls":4},"27870-6541",{"$nulls":10},"Technology","01/15/2019 10:39 AM","Ted Meyer"]
["37075","CN-0DK795-73190-821-0100","Sappington Elementary",null,"Dell 1720dn Laser Printer",null,"Available","Printer","2008-03-10","224.00","08-31160","DELL","1720dn","Dell",null,null,"2012/2013","10.5.21.12","27820-6541",{"$nulls":10},"Kindergarten","01/15/2019 09:45 AM","Ted Meyer"]
["48043","GLYVXSI","Sappington Elementary",null,"Dell C3760dn Color Laser Printer",null,"Available","Printer","2013-08-09","421.93","14-15755","ITSavvy","C3760dn","Dell",null,"080037bd38cc","2017/2018",null,"27870-6541",{"$nulls":10},"Office","01/15/2019 09:46 AM","Ted Meyer"]
["50081","DMQWQL5WJF8J","Central Office",null,"Apple iPad 32GB WIFI (6th Gen)",null,"Available","iPad","2018-06-04","294.00","18-54945","Apple Store","PR8A2LL/A","Apple","Matt King","94bf2da02865","2022/2023",null,"27871-6412",{"$nulls":6},"Screen is shattered","A1893",null,null,"Technology","01/15/2019 09:46 AM","Ted Meyer"]
["37013","CN-0DK795-73190-82E-0225","Crestwood Elementary",null,"Dell 1720dn Laser Printer",null,"Available","Printer","2008-03-10","224.00","08-31160","DELL","1720dn","Dell",{"$nulls":3},"10.7.21.17","27820-6541",{"$nulls":10},"1st Grade","01/15/2019 08:34 AM","Ted Meyer"]
["52918","DMQWQMT4JF8J",null,null,"Apple iPad 32GB WIFI (6th Gen)",null,"Available","iPad","2018-06-04","294.00","18-54945","Apple Store","PR8A2LL/A","Apple","18-06","14205ef3e955","2022/2023",null,"27871-6412",{"$nulls":7},"A1893","IPRedistribute",null,"1st Grade","01/15/2019 09:46 AM","Ted Meyer"]
["52694","GG7W4NVFHLFD",null,null,"Apple iPad 128GB WIFI (5th Gen)",null,"Available","iPad","2018-01-25","399.00","18-53570","Apple Store","MP2H2LL/A","Apple","DR-iLab1-12","d0d2b0e06b6a","2022/2023",null,"100.1111.6412.4060.00000.1.000",{"$nulls":7},"A1822","Issued for Virtual Learning - COVID-19",null,"1st Grade","01/15/2019 08:40 AM","Ted Meyer"]
["52995","DMQWQM15JF8J",null,null,"Apple iPad 32GB WIFI (6th Gen)",null,"Available","iPad","2018-06-04","294.00","18-54945","Apple Store","PR8A2LL/A","Apple","3-05","94bf2d9f1fce","2022/2023",null,"27871-6412",{"$nulls":7},"A1893","Issued for Virtual Learning - COVID-19",null,"Kindergarten","01/15/2019 09:04 AM","Ted Meyer"]
["53249","DMPX37KYJF8J",null,null,"Apple iPad 32GB WIFI (6th Gen)",null,"Available","iPad","2018-08-06","294.00","19-54900","Apple","MR7F2LL/A","Apple","105-02","549963844c83","2022/2023",null,"TE Paid",{"$nulls":7},"A1893","Issued for Virtual Learning - COVID-19",null,"Kindergarten","01/15/2019 08:40 AM","Ted Meyer"]
["53400","DMPX4223JF8J",null,null,"Apple iPad 32GB WIFI (6th Gen)",null,"Available","iPad","2018-08-06","294.00","19-54900","Apple","MR7F2LL/A","Apple","LIBRARY - 09","549963a5176b","2022/2023",null,"TE Paid",{"$nulls":7},"A1893","iPRedistribute",null,"Library","01/15/2019 09:35 AM","Ted Meyer"]
["53567","DMQX51XPJF8J",null,null,"Apple iPad 32GB WIFI (6th Gen)",null,"Available","iPad","2018-07-11","294.00","19-54486","Apple","MR7F2LL/A","Apple","325-04","241b7a1eaae7","2022/2023",null,"C&amp;I PD",null,null,"Dept Budget",{"$nulls":4},"A1893","IPRedistribute",null,"Modern Language","01/15/2019 09:22 AM","Ted Meyer"]
["50432","DMPWVPAPJF8J",null,null,"Apple iPad 32GB WIFI (6th Gen)",null,"Available","iPad","2018-06-21","294.00","18-55426","Apple","MR7F2LL/A","Apple","DR114-01","a056f3cd44b2","2022/2023",null,"27871-6412",{"$nulls":7},"A1893","IPRedistribute",null,"2nd Grade","01/15/2019 08:40 AM","Ted Meyer"]
["50416","DMPWVNEEJF8J",null,null,"Apple iPad 32GB WIFI (6th Gen)",null,"Available","iPad","2018-06-21","294.00","18-55426","Apple","MR7F2LL/A","Apple","115-04","a056f3d885ac","2022/2023",null,"27871-6412",{"$nulls":7},"A1893","IPRedistribute",null,"2nd Grade","01/15/2019 08:40 AM","Ted Meyer"]
["51932","GCGV3LSVHLFD",null,null,"Apple iPad 128GB WIFI (5th Gen)",null,"Available","iPad",{"$nulls":4},"MP2H2LL/A","Apple","ART-06","a4e9757a3a2d","UnKnown",{"$nulls":9},"A1822","IPRedistribute",null,"Art","01/15/2019 09:35 AM","Ted Meyer"]
["49409","DMQSF39QG5W1",null,null,"Apple iPad Air 128GB WIFI (2nd Gen)",null,"Available","iPad","2016-09-21","479.00","17-37624","Apple Store","PGTX2LL/A","Apple","CRMS-17","4c327548c4c0","2020/2021",null,"26561-6411",null,null,"Grant ","PTO GRANT PURCHASE",{"$nulls":3},"A1566",{"$nulls":3},"01/15/2019 08:34 AM","Ted Meyer"]
["53569","DMQX518TJF8J",null,null,"Apple iPad 32GB WIFI (6th Gen)",null,"Available","iPad","2018-07-11","294.00","19-54486","Apple","MR7F2LL/A","Apple",null,"241b7a09b9f7","2022/2023",null,"C&amp;I PD",{"$nulls":7},"A1893","IPRedistribute",null,"Technology","01/15/2019 09:22 AM","Ted Meyer"]
["unknown",null,"Unknown",null,"Epson Projector",null,"Available","Projector",{"$nulls":5},"Epson",{"$nulls":15},"1st Grade","05/01/2020 11:09 AM","Sonia Kesselring"]
["36478",null,"Kennerly Elementary","011","ELMO Document Camera",null,"Available","Document Camera",{"$nulls":5},"ELMO",{"$nulls":16},"03/15/2019 09:54 AM","Cindy Freeman"]
["S57526","R52M30Y284Z","Sperreng Middle","217","Samsung Galaxy Tab A (2019)",null,"Available","Tablet","2019-07-11","216.99","20-57667","Best Buy","SMT710NZSAXAR","Samsung","SP217-TAB5","dcf7569933dc","2024/2025",null,"T&amp;L",null,null,"Dept Budget\t229",{"$nulls":4},"SMT710NZSAXAR",null,null,"Computer Science","07/15/2019 07:09 AM","Lori Condellire"]
["23406",null,"Sperreng Middle","049 (LEAP Makerspace)","VCR",null,"Available","VCR",{"$nulls":17},"Found in 49 - LEAP makers space",{"$nulls":4},"03/04/2019 07:42 AM","Larry Pontious"]
["37271","LVR49R9","Lindbergh High School","Guidance","Lenovo ThinkPad x61",null,"Available","Laptop",{"$nulls":4},"X61","Lenovo",{"$nulls":16},"03/20/2019 02:03 PM","Keith Loveless"]
["53957","MJHNHZM","Lindbergh High School","Football Office","Lenovo ThinkCentre M91p Tower",null,"Available","Desktop",{"$nulls":4},"M91p","Lenovo",{"$nulls":12},"4480B1U",{"$nulls":3},"03/21/2019 09:20 AM","Keith Loveless"]
["27692","2300460CA","Lindbergh High School","354","NEC Monitor LCD 1850x",null,"Available","Monitor",{"$nulls":4},"1850x","NEC",{"$nulls":16},"02/19/2019 03:15 PM","Keith Loveless"]
["4DXVSS1","4DXVSS1","Lindbergh High School","000Surplus","Dell B2360dn Laser Printer",null,"Available","Printer",{"$nulls":4},"B2360dn","Dell",{"$nulls":16},"06/03/2021 02:16 PM","Keith Loveless"]
["53982",null,"Central Office","**Disposed","HP LaserJet Pro 400 Color",null,"Available","Printer",{"$nulls":4},"LaserJet Pro 400 Color","HP",{"$nulls":15},"Technology","03/21/2019 09:46 AM","Ann Barton"]
["51751","F9FTXJF7HLFD",null,null,"Apple iPad 128GB WIFI (5th Gen)",null,"Available","iPad",{"$nulls":4},"MP2H2LL/A","Apple","PLTW-07",{"$nulls":11},"A1822","IPRedistribute",null,"STEAM","03/12/2019 11:19 AM","Ann Barton"]
["38069",null,"Kennerly Elementary","104","Philips DVD/VCR Combo",null,"Available","VCR/DVD Combo",{"$nulls":4},"DVP3345V","Phillips",{"$nulls":16},"03/18/2019 08:39 AM","Gary Brinker"]
["69523","CN040ZQ027","Long Elementary","Data - Downstairs","HP Procurve Switch 2610-24/12PWR",null,"Available","Switch",{"$nulls":4},"J9086A","HP",null,"F06281B1E4C0-64",null,"10.204.23.76",{"$nulls":8},"J9086A",null,null,"Technology","03/23/2023 09:34 AM","Gary Brinker"]
["69504","SG48FLZ1D0","Sperreng Middle","Data - 151","HP Procurve Switch 2920-48G POE+",null,"Available","Switch",{"$nulls":4},"J9729A","HP",null,"645106C90DC0",{"$nulls":10},"J9729A",null,null,"Technology","03/23/2023 01:46 PM","Gary Brinker"]
["54828","6SXN352","Lindbergh High School","060","Dell Monitor",null,"Available","Monitor",{"$nulls":5},"Dell",{"$nulls":15},"Technology","03/20/2019 01:23 PM","Matthew Brenner"]
["41209","V8-K3491","Lindbergh High School","023","Lenovo ThinkVision 22\" LCD Monitor",null,"Available","Monitor",{"$nulls":4},"L2250pwd","Lenovo",{"$nulls":15},"Technology","03/20/2019 07:49 AM","Matthew Brenner"]
["29189","GL719A252009311","Lindbergh High School","130","Gateway Monitor 19\"\u009d",null,"Available","Monitor",{"$nulls":4},"FPD1930","Gateway",{"$nulls":16},"03/20/2019 01:41 PM","Matthew King"]
["37054","CN0DK7957319082I1146","Lindbergh High School","Attendance","Dell 1720dn Laser Printer",null,"Available","Printer",{"$nulls":4},"1720dn","Dell",{"$nulls":15},"Attendance Office","03/20/2019 02:35 PM","Matthew King"]
["38995","544928","Truman Middle","020","ELMO TT-02RX Document Camera",null,"Available","Document Camera",{"$nulls":4},"TT-02RX","ELMO",{"$nulls":15},"TECHNOLOGY STG","02/08/2019 10:18 AM","Matthew King"]
["23-0077-15","MY2BK7B2F2",null,null,"ARUBA 25G SPF28 LC ESR 400M TRANSCEIVER",null,"Available","Transceiver","2023-05-25","456.00","23-0000-0077","PROVISION DATA SOLUTIONS","JL485A","ARUBA",{"$nulls":7},"E-Rate ",{"$nulls":4},"JL485A",null,null,"Technology","06/06/2023 12:42 PM","Jan Liebel"]
["71649","phq4kd51vn",null,null,"Aruba AP-515 (US) Dual Radio 4x4 + 2x2:2 802.11AX Internal Antennas Unified Campus AP",null,"Available","Access Point","2023-06-12","545.00","24-0000-1761","Provision Data Solutions","Q9H63A","ARUBA",null,"749e75c3eb5e",null,null,"TE PD",null,null,"E-Rate ",{"$nulls":4},"AP-515",null,null,"Technology","07/25/2023 03:09 PM","Jan Liebel"]
["71958",{"$nulls":3},"Samsung 75\" Class CU7000 Crystal UHD 4K Smart Tizen TV UN75CU7000FXZA",null,"Available","TV","2023-08-28","749.99","24-0000-2149","Best Buy","UN75CU7000FXZA","Samsung",{"$nulls":4},"TE PD",{"$nulls":7},"UN75CU7000FXZA",null,null,"Technology","08/24/2023 10:44 AM","Jan Liebel"]
["69336",{"$nulls":3},"Samsung UN75TU7000F 7 Series 75\" Class LED TV 4K UN75TU7000FXZA",null,"Available","TV","2023-03-08","679.00","23-0000-1735","Best Buy","UN75TU7000FXZA","Samsung",{"$nulls":4},"TE Code",{"$nulls":7},"UN75TU7000FXZA",{"$nulls":3},"03/14/2023 06:38 AM","Jan Liebel"]
["62765","332039VAD04571",null,null,"IPEVO VZ-R HDMI/USB 8MP Document Camera",null,"Available","Document Camera","2020-11-05","219.00","21-0000-0790","IPEVO","VZ-R","IPEVO",{"$nulls":4},"COVID",null,null,"COVID-19",{"$nulls":8},"11/16/2020 03:18 PM","Jan Liebel"]
["54860","035TLPU037N","Long Elementary","Office","Motorola DTR650 Two-Way Radio",null,"Available","Two-Way Radio",{"$nulls":4},"DTR650","Motorola","Asst Principal",{"$nulls":14},"Office","06/07/2021 03:06 PM","Matthew King"]
["53994","X20642102D066","Long Elementary","Unknown","Xirrus XR-620 Access Point",null,"Available","Access Point",{"$nulls":4},"XR620","Xirrus",{"$nulls":16},"07/18/2019 10:17 AM","Matthew King"]
["S57830","867TWR9426",null,null,"Motorola XPR3500E UHF Digital 128 Channel Two-Way Radio",null,"Available","Two-Way Radio","2021-01-11","549.00","21-0000-1046","TBS Electronics","XPR3500E","Motorola","LS-SECURITY-03",{"$nulls":3},"T&amp;L PD",{"$nulls":3},"5 YR Warranty",{"$nulls":3},"XPR3500E",null,null,"Security","01/13/2021 06:05 AM","Jan Liebel"]
["68096","MJ0GCM2F",null,null,"Lenovo ThinkPad E14 (Core i5-1135G7, 8GB, 256GB) [Gen 2]",null,"Available","Laptop","2022-05-26","966.65","22-0000-4026","CDW-G","E14","Lenovo",{"$nulls":4},"TE PD",{"$nulls":3},"Lenovo 3 YR Depot Warranty",{"$nulls":3},"20TA004QUS",null,null,"Food Services","06/09/2022 09:22 AM","Jan Liebel"]
["68133",{"$nulls":3},"Lenovo Thinkpad L13 Yoga Gen 2 - 3 YR Onsite Warranty",null,"Available","Laptop","2022-06-01","1,402.50","22-0000-9999","DHE COMPUTER SERVICES","L13 Yoga (Gen 2)","Lenovo",{"$nulls":4},"TE PD",{"$nulls":3},"3 YR Onsite Warranty",{"$nulls":3},"20VLS3PE00",{"$nulls":3},"06/09/2022 09:19 AM","Jan Liebel"]
["69835","pw06axjz",null,null,"Lenovo ThinkPad L13 Gen 3 13.3 Inch Touchscreen Notebook 16GB Total RAM 256GB SSD - Storm Gray",null,"Available","Laptop","2023-07-21","985.22","24-0000-1788","DHE Computer Systems","L13","Lenovo",null,"ac5afcf41eec",null,null,"TE PD",{"$nulls":7},"21B3003RUS",{"$nulls":3},"07/24/2023 07:39 AM","Jan Liebel"]
["57449",{"$nulls":3},"Epson Powerlite 685W Projector",null,"Available","Projector","2021-01-20","1,092.00","21-0000-0449","ITsavvy","Powerlite 685W","Epson",null,null,"2025/2026",null,"TE PD",{"$nulls":3},"2 year Epson Road Service Program",{"$nulls":7},"03/01/2021 02:39 PM","Jan Liebel"]
["S57844","478IWY0227","Dressel Elementary",null,"Motorola SLR5700U Digital Repeater UHF, 50 Watt Duplexer",null,"Available","Repeater","2021-01-11","2,800.00","21-0000-1046","TBS Electronics","SLR5700U","Motorola",{"$nulls":4},"TE PD",{"$nulls":7},"SLR5700U",null,null,"Security","01/13/2021 06:14 AM","Jan Liebel"]
["63410","C02G52WZQ6L3","Central Office",null,"Apple MacBook Air M1, 8GB, 128GB SSD (2020)",null,"Available","MacBook","2021-08-04","799.00","22-0000-2304","Apple","A2337","Apple",{"$nulls":4},"TE PD",{"$nulls":7},"MGNF3LL/A",{"$nulls":3},"08/09/2021 11:01 AM","Jan Liebel"]
["68087","HRTJ389LQ6L4","Lindbergh High School",null,"Apple MacBook Air M1, 8GB, 256GB SSD (2020)",null,"Available","MacBook","2022-08-24","899.00","23-0000-0494","Apple","A2337","Apple","David Wyss",{"$nulls":3},"MUSIC DEPT PD",{"$nulls":7},"MGN63LL/A",null,null,"Band","08/24/2022 01:09 PM","Jan Liebel"]
["67653","278TXX4394","Truman Middle",null,"Motorola CP100D UHF Digital 16 Channel (403-480MHz) Two-Way Radio",null,"Available","Two-Way Radio","2021-12-10","242.00","22-0000-2278","TBS ELECTRONICS","CP100D","Motorola","Carrie ",{"$nulls":3},"TE PD",{"$nulls":3},"3 YR Warranty",{"$nulls":3},"AAH87YDC9JA2AN",{"$nulls":3},"12/10/2021 10:18 AM","Jan Liebel"]
["67995",null,"Lindbergh High School",null,"ASUS VG248QG Gaming Monitor 24\" Full HD 165Hz",null,"Available","Monitor","2022-05-24","204.15","22-0000-3931","DHE Computer Systems","VG248QG","ASUS","Driver's ED",{"$nulls":3},"TE PD",{"$nulls":7},"VG248QG",null,null,"Driver's Ed.","05/23/2022 08:14 AM","Jan Liebel"]
["68059","MJ0G9KTD","Lindbergh High School",null,"Lenovo Legion T5-26IOB6 (Core i7-11700, 16GB, 1TB SSD, 2TB HDD)",null,"Available","Desktop","2022-06-01","1,702.37","22-0000-4061","DHE","Legion T5-26IOB6","Lenovo","PLTW",{"$nulls":3},"TE PD",{"$nulls":3},"3YR Legion Warranty",{"$nulls":3},"90RS000MUS",null,null,"PLTW","06/03/2022 08:22 AM","Jan Liebel"]
["67717","H4TH205MQ7H6","Lindbergh High School",null,"Apple iMac 24\" M1, 16GB, 512GB SSD (2021)",null,"Available","iMac","2022-01-10","1,636.00","22-0000-3155","Apple","Z13K","Apple",{"$nulls":4},"TE PD",{"$nulls":7},"Z13K",null,null,"Journalism Department","01/07/2022 12:38 PM","Jan Liebel"]
["68079","MJ0HTCQY","Lindbergh High School",null,"Lenovo Legion T5-26IOB6 (Core i7-11700, 16GB, 1TB SSD, 2TB HDD)",null,"Available","Desktop","2022-06-01","1,702.37","22-0000-4094","DHE","Legion T5-26IOB6","Lenovo","PLTW",{"$nulls":3},"TE PD",{"$nulls":3},"3YR Legion Warranty; Due to model change these units will be assigned to PLTW instead of Driver's ED",{"$nulls":3},"90RS0027US",null,null,"eSports","06/03/2022 08:27 AM","Jan Liebel"]
["68050","MJ0HHE5M","Lindbergh High School",null,"Lenovo Legion T5-26IOB6 (Core i7-11700, 16GB, 1TB SSD, 2TB HDD)",null,"Available","Desktop","2022-06-01","1,702.37","22-0000-4061","DHE","Legion T5-26IOB6","Lenovo","Drivers Ed",{"$nulls":3},"TE PD",{"$nulls":3},"3YR Legion Warranty; Due to model change these units will be assigned to Drivers Ed instead of PLTW",{"$nulls":3},"90RS000MUS",null,null,"Driver's Ed.","06/03/2022 08:21 AM","Jan Liebel"]
["67335","1900114CA","Truman Middle",null,"NEC NP-M420WL M Series DLP Projector - Laser - 3D",null,"Available","Projector","2022-01-20","1,292.83","22-0000-3356","ITsavvy","NP-M420WL","NEC",{"$nulls":8},"5 year NEC Instacare Next Business Day Exchange",{"$nulls":3},"np-m430wl/1900117ca",null,null,"Music","01/20/2022 02:16 PM","Jan Liebel"]
["56820","FVFCK00LQ0WM","Lindbergh High School",null,"Apple MacBook Air Intel Core i3, 8GB, 128GB SSD (2020)",null,"Available","MacBook","2020-07-01","762.15","21-0000-0005","Apple","MacBook Air 2020","Apple",null,"3C22FB629B6A","2024/2025",null,"TE PD - LEASED",{"$nulls":7},"MYY82LL/A",null,"2020/2021",null,"05/06/2020 12:23 PM","Jan Liebel"]
["63158",null,"Crestwood Elementary","023","Epson Powerlite 725W Projector",null,"Available","Projector","2021-05-18","1,199.65","21-0000-1809","Kansas City Audio-Visual, Inc.","Powerlite 725W","Epson",null,null,"2026/2027",null,"TE PD",{"$nulls":7},"V11H999520",{"$nulls":3},"05/19/2021 11:09 AM","Jan Liebel"]
["67434","CNM6KD5PR7","Crestwood Elementary","025","Aruba AP-515 Dual Radio",null,"Available","Access Point","2021-07-22","421.00","22-0000-0033","Provision Data Solutions","AP-515","Aruba",null,"cc88c7c5ea14",null,null,"TE PD",null,null,"E-Rate",{"$nulls":4},"Q9H63A",{"$nulls":3},"07/31/2021 05:53 AM","Jan Liebel"]
["S57722","TEU2P70919003401","Crestwood Elementary","Library","Google Expeditions Cart - Phone",null,"Available","VR","2020-02-12","199.00","20-4040-59122","Best Buy","U2 PLUS-TE VR","Magellan VR Device","CR-GEAR-20","bc3f4e44b4fc",null,null,"CR PD",null,null,"Building Budget",{"$nulls":3},"Phone for Google Expeditions Cart for Crestwood Elementary, Purchased by Crestwood Elementary","U2 PLUS-TE VR",null,null,"Library","02/12/2020 10:03 AM","Jan Liebel"]
["63287","MYC6RHK14Y","Crestwood Elementary","032","Apple TV 4K (2nd Gen) 32GB",null,"Available","Apple TV","2021-07-01","179.00","22-0000-0015","Apple","MXGY2LL/A","Apple",{"$nulls":4},"TE PD",{"$nulls":7},"A2169",null,"2021/2022","Technology","06/24/2021 01:32 PM","Jan Liebel"]
["67442","CNM6KD5QML","Crestwood Elementary","034","Aruba AP-515 Dual Radio",null,"Available","Access Point","2021-07-22","421.00","22-0000-0033","Provision Data Solutions","AP-515","Aruba",null,"cc88c7c5f0b4",null,null,"TE PD",null,null,"E-Rate",{"$nulls":4},"Q9H63A",{"$nulls":3},"07/31/2021 05:53 AM","Jan Liebel"]
["67610","CNM6KD5PQG","Sappington Elementary","057","Aruba AP-515 Dual Radio",null,"Available","Access Point","2021-07-22","421.00","22-0000-0033","Provision Data Solutions","AP-515","Aruba",null,"cc88c7c5e9e4",null,null,"TE PD",null,null,"E-Rate",{"$nulls":4},"Q9H63A",{"$nulls":3},"10/01/2021 12:15 PM","Jan Liebel"]
["67521","CNM6KD5QJM","Concord Elementary","028","Aruba AP-515 Dual Radio",null,"Available","Access Point","2021-07-22","421.00","22-0000-0033","Provision Data Solutions","AP-515","Aruba",null,"cc88c7c5effc",null,null,"TE PD",null,null,"E-Rate",{"$nulls":4},"Q9H63A",{"$nulls":3},"09/27/2021 03:24 PM","Jan Liebel"]
["67599","CNM6KD5PT2","Sappington Elementary","045","Aruba AP-515 Dual Radio",null,"Available","Access Point","2021-07-22","421.00","22-0000-0033","Provision Data Solutions","AP-515","Aruba",null,"cc88c7c5ea86",null,null,"TE PD",null,null,"E-Rate",{"$nulls":4},"Q9H63A",{"$nulls":3},"10/01/2021 12:15 PM","Jan Liebel"]
["63338","NYWWK2P12D","Concord Elementary","023","Apple TV 4K (2nd Gen) 32GB",null,"Available","Apple TV","2021-07-01","179.00","22-0000-0015","Apple","MXGY2LL/A","Apple",{"$nulls":4},"TE PD",{"$nulls":7},"A2169",null,"2021/2022","Technology","06/24/2021 01:39 PM","Jan Liebel"]
["69752","752EYYG931","Idea Center",null,"Motorola Radio CP200D U16 UHF, 4W, 16 Channel Digital ",null,"Available","Two-Way Radio","2023-05-30","515.00","23-0000-2334","TBS Electronics","AAH01QDC9JC2AN","Motorola","IC-01",{"$nulls":3},"TE PD",{"$nulls":7},"CP200D",null,null,"Idea Center","07/19/2023 08:02 AM","Jan Liebel"]
["63352","C4X6C76HDC","Concord Elementary","034","Apple TV 4K (2nd Gen) 32GB",null,"Available","Apple TV","2021-07-01","179.00","22-0000-0015","Apple","MXGY2LL/A","Apple",{"$nulls":4},"TE PD",{"$nulls":7},"A2169",null,"2021/2022","Technology","06/24/2021 01:39 PM","Jan Liebel"]
["67847",null,"ECE Main",null,"Samsung 75\"  Series 4K UHD Smart TV",null,"Available","TV","2022-03-11","815.00","22-0000-3699","BEST BUY","UN75TU7000FXZA","Samsung",{"$nulls":4},"TE PD - HS PHASE 1 CONSTRUCTION",{"$nulls":7},"UN75TU7000FXZA",null,null,"ECE","03/29/2022 02:18 PM","Jan Liebel"]
["71533",null,"LHS 2022",null,"EPSON POWERLITE L260F PROJECTOR - 5 YR WARRANTY",null,"Available","Projector","2023-07-03","1,084.75","23-0000-2275","Schillers Camera & Video","V11HA69020","EPSON",{"$nulls":4},"TE PD",{"$nulls":7},"V11HA69020",null,null,"Idea Center","07/12/2023 01:17 PM","Jan Liebel"]
["71548",null,"LHS 2022",null,"EPSON POWERLITE 760W PROJECTOR - 5 YR WARRANTY",null,"Available","Projector","2023-07-03","1,229.73","23-0000-2275","Schillers Camera & Video","V11HA81020","EPSON",{"$nulls":4},"TE PD",{"$nulls":7},"V11HA81020",{"$nulls":3},"07/12/2023 01:20 PM","Jan Liebel"]
["71570",null,"LHS 2022",null,"EPSON POWERLITE 760W PROJECTOR - 5 YR WARRANTY",null,"Available","Projector","2023-07-03","1,229.73","23-0000-2275","Schillers Camera & Video","V11HA81020","EPSON",{"$nulls":4},"TE PD",{"$nulls":7},"V11HA81020",{"$nulls":3},"07/12/2023 01:20 PM","Jan Liebel"]
["71580",null,"LHS 2022",null,"EPSON POWERLITE 760W PROJECTOR - 5 YR WARRANTY",null,"Available","Projector","2023-07-03","1,229.73","23-0000-2275","Schillers Camera & Video","V11HA81020","EPSON",{"$nulls":4},"TE PD",{"$nulls":7},"V11HA81020",{"$nulls":3},"07/12/2023 01:20 PM","Jan Liebel"]
["68451",null,"LHS 2022",null,"Epson Powerlite 725W Projector",null,"Available","Projector","2022-07-01","1,199.24","22-0000-3255","KCAV","Powerlite 725W","Epson",{"$nulls":4},"TE PD",{"$nulls":7},"H999A",{"$nulls":3},"07/11/2022 08:50 AM","Jan Liebel"]
["63371","NYX122HW6X","Concord Elementary","012","Apple TV 4K (2nd Gen) 32GB",null,"Available","Apple TV","2021-07-01","179.00","22-0000-0015","Apple","MXGY2LL/A","Apple",{"$nulls":4},"TE PD",{"$nulls":7},"A2169",null,"2021/2022","Technology","06/24/2021 01:39 PM","Jan Liebel"]
["67880",null,"Lindbergh High School",null,"Samsung 75\"  Series 4K UHD Smart TV",null,"Available","TV","2022-03-11","815.00","22-0000-3699","BEST BUY","UN75TU7000FXZA","Samsung",{"$nulls":4},"TE PD - HS PHASE 1 CONSTRUCTION",{"$nulls":7},"UN75TU7000FXZA",{"$nulls":3},"03/29/2022 02:19 PM","Jan Liebel"]
["67931","22017084872","Sappington Elementary","Library","Original PRUSA Mini+ Semi-Assembled 3D Printer",null,"Available","3D Printer","2022-06-15","460.27","22-0000-3876","PRUSA","Mini+","PRUSA",{"$nulls":12},"Mini+",null,null,"Library","07/13/2022 05:21 AM","Jan Liebel"]
["67591","CNM6KD5PT4","Sappington Elementary","032","Aruba AP-515 Dual Radio",null,"Available","Access Point","2021-07-22","421.00","22-0000-0033","Provision Data Solutions","AP-515","Aruba",null,"cc88c7c5ea8a",null,null,"TE PD",null,null,"E-Rate",{"$nulls":4},"Q9H63A",{"$nulls":3},"10/01/2021 12:15 PM","Jan Liebel"]
["67571","CNM6KD5PSW","Sappington Elementary","005 (Counselor's Office)","Aruba AP-515 Dual Radio",null,"Available","Access Point","2021-07-22","421.00","22-0000-0033","Provision Data Solutions","AP-515","Aruba",null,"cc88c7c5ea7a",null,null,"TE PD",null,null,"E-Rate",{"$nulls":4},"Q9H63A",{"$nulls":3},"10/01/2021 12:15 PM","Jan Liebel"]
["67462","CNM6KD5QQC","Long Elementary","003","Aruba AP-515 Dual Radio",null,"Available","Access Point","2021-07-22","421.00","22-0000-0033","Provision Data Solutions","AP-515","Aruba",null,"cc88c7c5f160",null,null,"TE PD",null,null,"E-Rate",{"$nulls":4},"Q9H63A",{"$nulls":3},"07/31/2021 07:29 AM","Jan Liebel"]
["63318","X5H5WHK341","Long Elementary","010","Apple TV 4K (2nd Gen) 32GB",null,"Available","Apple TV","2021-07-01","179.00","22-0000-0015","Apple","MXGY2LL/A","Apple",{"$nulls":4},"TE PD",{"$nulls":7},"A2169",null,"2021/2022","Technology","06/24/2021 01:39 PM","Jan Liebel"]
["56932","C07ZX2SSJ1WF","Long Elementary","006","Apple TV 4K (1st Gen) 32GB",null,"Available","Apple TV","2020-07-01","175.76","21-0000-0005","Apple","MQD22LL/A","Apple",null,null,"2024/2025",null,"TE PD - LEASED",{"$nulls":7},"A1842",null,"2020/2021",null,"05/06/2020 12:30 PM","Jan Liebel"]
["54515","X2AD9501386","Long Elementary","020","Epson Powerlite 685W Projector",null,"Available","Projector","2020-03-13","1,003.72","20-0000-59320","ITsavvy","Powerlite 685W","Epson",null,null,"2024/2025",null,"TE PD",{"$nulls":3},"2 year Epson Road Service Program",{"$nulls":3},"V11H744520",null,null,"3rd Grade","06/24/2020 10:52 AM","Jan Liebel"]
["62608","2011AH125D12","Long Elementary","037","ALGO 8180 SIP AUDIO ALERTER (G2)",null,"Available","Intercom","2020-07-06",null,"21-0000-0086","GRAYBAR ELECTRIC COMPANY","8180","ALGO",null,"0022ee125d12",null,null,"400.2543.6531.0000.07050.1.900",{"$nulls":7},"8180",{"$nulls":3},"07/07/2020 07:25 AM","Jan Liebel"]
["56872","C07ZX375J1WF","Sperreng Middle","Large Gym","Apple TV 4K (1st Gen) 32GB",null,"Available","Apple TV","2020-07-01","762.15","21-0000-0005","Apple","MQD22LL/A","Apple",null,null,"2024/2025",null,"TE PD - LEASED",{"$nulls":7},"A1842",null,"2020/2021",null,"05/06/2020 12:28 PM","Jan Liebel"]
["62647",null,"Sperreng Middle","003","Epson Powerlite 685W Projector",null,"Available","Projector","2020-07-20","1,003.72",null,"ITsavvy","Powerlite 685W","Epson",null,null,"2025/2026",null,"TE PD",{"$nulls":7},"V11H744520",null,null,"PEGS","07/14/2020 04:00 PM","Jan Liebel"]
["57235","PHK2KD50ZS","Sperreng Middle","130","ARUBA AP-515 (US) DUAL RADIO 4X4, INTERNAL ANTENNAS UNIFIED CAMPUS AP",null,"Available","Access Point","2020-07-01","399.00","21-0000-0001","Provision Data Solutions","AP-515","ARUBA",null,"d0d3e0c6c322","2025/2026",null,"TE PD",null,null,"E-Rate",{"$nulls":4},"Q9H63A",null,null,"Technology","05/27/2020 09:27 AM","Jan Liebel"]
["63151",null,"Long Elementary","030","Epson Powerlite 725W Projector",null,"Available","Projector","2021-05-18","1,199.65","21-0000-1809","Kansas City Audio-Visual, Inc.","Powerlite 725W","Epson",null,null,"2026/2027",null,"TE PD",{"$nulls":7},"V11H999520",{"$nulls":3},"05/19/2021 11:09 AM","Jan Liebel"]
["62920","6BB2KD3","Lindbergh High School","307","Dell EMC ME4024 Storage Array - 3 YEARS TECHNICAL SUPPORT & ASSISTANCE",null,"Available","Storage Array","2021-05-07","19,000.62","21-0000-1834","DELL","ME4024","Dell","SERVER ROOM",{"$nulls":3},"TE PD",{"$nulls":7},"ME4024",null,null,"Technology","05/12/2021 11:36 AM","Jan Liebel"]
["57078","X2AD0200371","Sperreng Middle","120","Epson Powerlite 685W Projector",null,"Available","Projector","2020-06-08","1,003.72","20-0000-59631","ITsavvy","Powerlite 685W","Epson",null,null,"2025/2026",null,"TE PD",{"$nulls":3},"2 year Epson Road Service Program",{"$nulls":3},"V11H744520",{"$nulls":3},"06/11/2020 08:46 AM","Jan Liebel"]
["57251","PHK2KD50P8","Sperreng Middle","208","ARUBA AP-515 (US) DUAL RADIO 4X4, INTERNAL ANTENNAS UNIFIED CAMPUS AP",null,"Available","Access Point","2020-07-01","399.00","21-0000-0001","Provision Data Solutions","AP-515","ARUBA",null,"d0d3e0c6b746",null,null,"TE PD",null,null,"E-Rate",{"$nulls":4},"Q9H63A",null,null,"Technology","05/27/2020 09:27 AM","Jan Liebel"]
["56864","C07ZX2RMJ1WF","Sperreng Middle","123","Apple TV 4K (1st Gen) 32GB",null,"Available","Apple TV","2020-07-01","762.15","21-0000-0005","Apple","MQD22LL/A","Apple",null,null,"2024/2025",null,"TE PD - LEASED",{"$nulls":7},"A1842",null,"2020/2021",null,"05/06/2020 12:28 PM","Jan Liebel"]
["54537","DY5D5L70J1WF","Sperreng Middle","216B","Apple TV 4K (1st Gen) 32GB",null,"Available","Apple TV","2020-08-17","179.00","21-0000-0486","Apple","MQD22LL/A","Apple",null,null,"2026/2027",null,"TE PD",{"$nulls":7},"A1842",{"$nulls":3},"08/20/2020 04:33 PM","Jan Liebel"]
["56523","X2AD9700348","Long Elementary","001","Epson Powerlite 685W Projector",null,"Available","Projector","2020-03-13","1,003.72","20-0000-59320","ITsavvy","Powerlite 685W","Epson",null,null,"2024/2025",null,"TE PD",{"$nulls":3},"2 year Epson Road Service Program",{"$nulls":3},"V11H744520",null,null,"Kindergarten","05/28/2020 06:44 PM","Jan Liebel"]
["68760","vkrp2664","Central Office","214","Lenovo ThinkVision T23i-20 Monitor",null,"Available","Monitor","2023-01-20","175.00","23-0000-1438","DHE Computer Systems","61F7MAT1US","Lenovo","Logan Hofius",{"$nulls":3},"TE PD",{"$nulls":7},"61F7MAT1US",null,null,"Technology","01/20/2023 12:04 PM","Jan Liebel"]
["62558","X2AD0200006","Truman Middle","230","Epson Powerlite 685W Projector",null,"Available","Projector","2020-07-06","1,091.72","21-0000-0108","ITsavvy","Powerlite 685W","Epson",null,null,"2026/2027",null,"TE PD",{"$nulls":3},"2 year Epson Road Service Program",{"$nulls":7},"07/06/2020 11:25 AM","Jan Liebel"]
["54885","VTJ80248","Central Office","206","Lenovo ThinkVision P24h-10 23.8\" Monitor",null,"Available","Monitor","2019-06-04","263.29","19-58290","ITsavvy","P24h-10","Lenovo","Doug Barton",null,"2026/2027",null,"TE PD",{"$nulls":7},"61AEGAR3US",null,null,"C&I","06/25/2019 01:13 PM","Jan Liebel"]
["68536","C02J70JLQ6L4","Central Office","214","Apple MacBook Air M1, 8GB, 256GB SSD (2020)",null,"Available","MacBook","2022-08-22","899.00","23-0000-0357","Apple","A2337","Apple","Miles Godfrey",{"$nulls":3},"TE PD",{"$nulls":7},"MGN63LL/A",null,null,"Technology","09/15/2022 09:22 AM","Jan Liebel"]
["57293","PHK2KD50W4","Truman Middle","114","ARUBA AP-515 (US) DUAL RADIO 4X4, INTERNAL ANTENNAS UNIFIED CAMPUS AP",null,"Available","Access Point","2020-07-01","399.00","21-0000-0001","Provision Data Solutions","AP-515","ARUBA",null,"d0d3e0c6cc82","2025/2026",null,"TE PD",null,null,"E-Rate",{"$nulls":4},"Q9H63A",null,null,"Technology","05/27/2020 10:26 AM","Jan Liebel"]
["62559","X2AD0200002","Truman Middle","222","Epson Powerlite 685W Projector",null,"Available","Projector","2020-07-06","1,091.72","21-0000-0108","ITsavvy","Powerlite 685W","Epson",null,null,"2026/2027",null,"TE PD",{"$nulls":3},"2 year Epson Road Service Program",{"$nulls":7},"07/06/2020 11:25 AM","Jan Liebel"]
["54942","LFTRXDLU5007783","Truman Middle","Cafeteria","Vizio E Series 70\" Class 4K Ultra HD HDR Smart TV",null,"Available","TV","2019-07-15","789.00","20-57670","Sam's Club","E70-F3","Vizio",null,null,"2024/2025",null,"TE PD",{"$nulls":7},"E70-F3",null,null,"Audio/Visual","07/17/2019 05:24 AM","Jan Liebel"]
["57272","PHK2KD50Y5","Truman Middle","009","ARUBA AP-515 (US) DUAL RADIO 4X4, INTERNAL ANTENNAS UNIFIED CAMPUS AP",null,"Available","Access Point","2020-07-01","399.00","21-0000-0001","Provision Data Solutions","AP-515","ARUBA",null,"204c03b05e0d","2025/2026",null,"TE PD",null,null,"E-Rate",{"$nulls":4},"Q9H63A",null,null,"Technology","05/27/2020 10:26 AM","Jan Liebel"]
["57312","PHK2KD50QY","Truman Middle","216","ARUBA AP-515 (US) DUAL RADIO 4X4, INTERNAL ANTENNAS UNIFIED CAMPUS AP",null,"Available","Access Point","2020-07-01","399.00","21-0000-0001","Provision Data Solutions","AP-515","ARUBA",null,"d0d3e0c6c94a","2025/2026",null,"TE PD",null,null,"E-Rate",{"$nulls":4},"Q9H63A",null,null,"Technology","05/27/2020 10:26 AM","Jan Liebel"]
["67667","278TXVW948","Sperreng Middle","PE - Boys Locker Room","Motorola CP100D UHF Digital 16 Channel (403-480MHz) Two-Way Radio",null,"Available","Two-Way Radio","2021-12-10","242.00","22-0000-2278","TBS ELECTRONICS","CP100D","Motorola","Pe boys",{"$nulls":3},"TE PD",{"$nulls":3},"3 YR Warranty",{"$nulls":3},"AAH87YDC9JA2AN",{"$nulls":3},"12/10/2021 10:18 AM","Jan Liebel"]
["68455","TLGQWWLW3C","Sperreng Middle","Principal's Office - Principal's Office (Lauren Boeger)","Apple TV 4K (2nd Gen) 32GB",null,"Available","Apple TV","2022-08-19","179.00","23-0000-0532","Apple Store","MXGY2LL/A","Apple",{"$nulls":4},"TE PD",{"$nulls":7},"A2169",{"$nulls":3},"08/26/2022 08:05 AM","Jan Liebel"]
["67251","MJ0G7DDE","Sperreng Middle","053","Lenovo ThinkStation P340 (Core i7-10700, 32GB, 1TB)",null,"Available","Desktop","2021-09-28","1,410.00","22-0000-0175","DHE","P340","Lenovo",{"$nulls":4},"TE PD",{"$nulls":7},"30DLS37J00",null,null,"PLTW","09/16/2021 10:30 AM","Jan Liebel"]
["57275","PHK2KD50BD","Truman Middle","015","ARUBA AP-515 (US) DUAL RADIO 4X4, INTERNAL ANTENNAS UNIFIED CAMPUS AP",null,"Available","Access Point","2020-07-01","399.00","21-0000-0001","Provision Data Solutions","AP-515","ARUBA",null,"d0d3e0c6bbee","2025/2026",null,"TE PD",null,null,"E-Rate",{"$nulls":4},"Q9H63A",null,null,"Technology","05/27/2020 10:26 AM","Jan Liebel"]
["62567","X2AD0200192","Truman Middle","210","Epson Powerlite 685W Projector",null,"Available","Projector","2020-07-06","1,091.72","21-0000-0108","ITsavvy","Powerlite 685W","Epson",null,null,"2026/2027",null,"TE PD",{"$nulls":3},"2 year Epson Road Service Program",{"$nulls":7},"07/06/2020 11:25 AM","Jan Liebel"]
["57206","PHK2KD50JX","Sperreng Middle","007","ARUBA AP-515 (US) DUAL RADIO 4X4, INTERNAL ANTENNAS UNIFIED CAMPUS AP",null,"Available","Access Point","2020-07-01","399.00","21-0000-0001","Provision Data Solutions","AP-515","ARUBA",null,"d0d3e0c6c234","2025/2026",null,"TE PD",null,null,"E-Rate",{"$nulls":4},"Q9H63A",null,null,"Technology","05/27/2020 09:27 AM","Jan Liebel"]
["63216","YQ04VGFVGT","Dressel Elementary","215","Apple TV 4K (2nd Gen) 32GB",null,"Available","Apple TV","2021-07-01","179.00","22-0000-0015","Apple","MXGY2LL/A","Apple",{"$nulls":4},"TE PD",{"$nulls":7},"A2169",null,"2021/2022","Technology","06/24/2021 01:32 PM","Jan Liebel"]
["62614","2011AH125D35","Kennerly Elementary","SSD Resource Room by Gym - Small","ALGO 8180 SIP AUDIO ALERTER (G2)",null,"Available","Intercom","2020-07-06",null,"21-0000-0086","GRAYBAR ELECTRIC COMPANY","8180","ALGO",null,"0022ee125d35",null,null,"400.2543.6531.0000.07050.1.900",{"$nulls":7},"8180",{"$nulls":3},"07/07/2020 07:25 AM","Jan Liebel"]
["67562","CNM6KD5QM3","Kennerly Elementary","019","Aruba AP-515 Dual Radio",null,"Available","Access Point","2021-07-22","421.00","22-0000-0033","Provision Data Solutions","AP-515","Aruba",null,"cc88c7c5f096",null,null,"TE PD",null,null,"E-Rate",{"$nulls":4},"Q9H63A",{"$nulls":3},"09/30/2021 12:06 PM","Jan Liebel"]
["62584","X2AD0200124","Kennerly Elementary","002","Epson Powerlite 685W Projector",null,"Available","Projector","2020-07-06","1,091.72","21-0000-0108","ITsavvy","Powerlite 685W","Epson","S. Cope",null,"2026/2027",null,"TE PD",{"$nulls":3},"2 year Epson Road Service Program",{"$nulls":6},"Kindergarten","07/06/2020 11:25 AM","Jan Liebel"]
["62966","PHL7KD57TJ","ECE West","508","ARUBA AP 515 Wireless Access Point",null,"Available","Access Point","2021-02-12","421.00","21-0000-1409","Provision Data Solutions","JL001A","ARUBA",null,"1c28afcb69ee","2025/2026",null,"TE PD",{"$nulls":7},"Q9H63A",null,null,"Technology","02/12/2021 10:07 AM","Jan Liebel"]
["52223","VTL49576","ECE Main","Office","Lenovo ThinkVision P24h-10 23.8\" Monitor",null,"Available","Monitor","2019-10-10","269.00","20-58473","Firefly Computers","P24h-10","Lenovo","Charlene Ziegler",null,"2025/2026",null,"ECE PD",null,null,"Building Budget",{"$nulls":4},"61AEGAR3US",null,null,"ECE","10/10/2019 11:34 AM","Jan Liebel"]
["62934","VKDW4117","Central Office","111","Lenovo ThinkVision T24I-10 23.8\" Monitor",null,"Available","Monitor","2020-12-14","186.12","21-0000-1131","DHE Computer Systems","T24i-10","Lenovo","Katherine Etheridge",null,"2025/2026",null,"TE PD",{"$nulls":7},"61F7MAR1US",null,null,"Human Resources","12/15/2020 10:52 AM","Jan Liebel"]
["63251","T1QY73LFGX","Kennerly Elementary","010","Apple TV 4K (2nd Gen) 32GB",null,"Available","Apple TV","2021-07-01","179.00","22-0000-0015","Apple","MXGY2LL/A","Apple",{"$nulls":4},"TE PD",{"$nulls":7},"A2169",null,"2021/2022","Technology","06/24/2021 01:32 PM","Jan Liebel"]
["62626",null,"Kennerly Elementary","010","Epson Powerlite 685W Projector",null,"Available","Projector","2020-07-20","1,003.72",null,"ITsavvy","Powerlite 685W","Epson",null,null,"2025/2026",null,"TE PD",{"$nulls":7},"V11H744520",{"$nulls":3},"07/14/2020 04:00 PM","Jan Liebel"]
["67374","CNM6KD5PPT","Dressel Elementary","114","Aruba AP-515 Dual Radio",null,"Available","Access Point","2021-07-22","421.00","22-0000-0033","Provision Data Solutions","AP-515","Aruba",null,"cc88c7c5e9bc",null,null,"TE PD",null,null,"E-Rate",{"$nulls":4},"Q9H63A",{"$nulls":3},"07/26/2021 07:11 AM","Jan Liebel"]
["63224","YR061W62VT","Dressel Elementary","122","Apple TV 4K (2nd Gen) 32GB",null,"Available","Apple TV","2021-07-01","179.00","22-0000-0015","Apple","MXGY2LL/A","Apple",{"$nulls":4},"TE PD",{"$nulls":7},"A2169",null,"2021/2022","Technology","06/24/2021 01:32 PM","Jan Liebel"]
["67387","CNM6KD5QPT","Dressel Elementary","204","Aruba AP-515 Dual Radio",null,"Available","Access Point","2021-07-22","421.00","22-0000-0033","Provision Data Solutions","AP-515","Aruba",null,"cc88c7c5f13e",null,null,"TE PD",null,null,"E-Rate",{"$nulls":4},"Q9H63A",{"$nulls":3},"07/26/2021 07:11 AM","Jan Liebel"]
["54890","08953CCM609930","Lindbergh High School","Wrestling Room","Samsung 65\" Class LED Smart 4K TV",null,"Available","TV","2019-08-07","1,001.29","20-57972","Best Buy","UN65RU8000FXZA","Samsung",null,null,"2025/2026",null,"HS PD",null,null,"Building Budget",{"$nulls":3},"Replacement for TV damaged by students. Students paid for replacement.","UN65RU8000FXZA",null,null,"PE","08/07/2019 11:33 AM","Jan Liebel"]
["62991","PF2LGP7Y","Lindbergh High School","022","Lenovo Legion 5 Gaming Laptop 15.6\"",null,"Available","Laptop","2021-04-07","1,233.99","21-0000-1752","AMAZON","Legion 5","Lenovo","COPILOT",{"$nulls":3},"TE PD",{"$nulls":3},"4 YR ALLSTATE B2B ACCIDENTAL PROTECTION PLAN",{"$nulls":3},"82B1000AUS",null,null,"Technology","04/13/2021 07:43 AM","Jan Liebel"]
["63194","M2LMQS090671","Lindbergh High School","001","ASUS VG278 27\" Gaming Monitor 1080P",null,"Available","Monitor","2021-06-24","229.99","21-0000-2162","AMAZON","VG278QR","ASUS",null,null,"2025/2026",null,"TE PD",{"$nulls":7},"90LM03P3-B013B0",null,null,"Driver's Ed.","07/16/2021 10:33 AM","Jan Liebel"]
["67410","CNM6KD5QNH","Crestwood Elementary","Principal's Office","Aruba AP-515 Dual Radio",null,"Available","Access Point","2021-07-22","421.00","22-0000-0033","Provision Data Solutions","AP-515","Aruba",null,"cc88c7c5f0ec",null,null,"TE PD",null,null,"E-Rate",{"$nulls":4},"Q9H63A",{"$nulls":3},"07/31/2021 05:53 AM","Jan Liebel"]
["56614",null,"Lindbergh High School","108","Lenovo L27M-28 27\" LED Monitor",null,"Available","Monitor","2020-07-27","196.00","21-0000-0107","ITsavvy","L27M-28","Lenovo","HS108-",null,"2024/2025",null,"TE/Grant/T&amp;L PD",{"$nulls":7},"65E6KCC1US",null,null,"Business","08/08/2020 01:28 PM","Jan Liebel"]
["S57686","21809172953","Lindbergh High School","330","Microsoft Surface Pro 4 Tablet (Core i5 6300U, 8GB, 256GB SSD)",null,"Available","Laptop","2018-06-20","1,121.79","19-54489","ITsavvy","Surface Pro 4","Microsoft","HSART-28","c0335645cef","2022/2023",null,"C&amp;I HS PD",{"$nulls":3},"3 Years Replacement Warranty from date of purchase. Surface Pro Type Cover Keyboard attached to product.",null,"Replaced R853513 under warranty replacement",{"$nulls":4},"Art","09/25/2019 02:51 PM","Jan Liebel"]
["68713","H4TJY00PQ7H6","LHS 2022","108","Apple iMac 24 inch M1 Chip - Custom Build (see quote)",null,"Available","iMac","2023-01-11","1,636.00","23-0000-1380","Apple","z13k0017f","Apple","Music Lab",{"$nulls":3},"TE PD",{"$nulls":7},"A2439",null,null,"Music","01/13/2023 11:23 AM","Jan Liebel"]
["68388","X8WE2300341","LHS 2022","245B","Epson Powerlite 725W Projector",null,"Available","Projector","2022-07-01","1,199.24","22-0000-3255","KCAV","Powerlite 725W","Epson",{"$nulls":4},"TE PD",{"$nulls":7},"H999A",{"$nulls":3},"07/11/2022 08:49 AM","Jan Liebel"]
["62693","U460FXLV","LHS 2022","307","Lenovo L27M-28 27\" LED Monitor",null,"Available","Monitor","2020-09-01","207.02","21-0000-0515","ITsavvy","L27M-28","Lenovo","HS108",null,"2026/2027",null,"TE PD",{"$nulls":7},"65e6kcc1us",null,null,"Business Department","09/29/2020 04:05 PM","Jan Liebel"]
["68404","X8WE2300190","LHS 2022","326","Epson Powerlite 725W Projector",null,"Available","Projector","2022-07-01","1,199.24","22-0000-3255","KCAV","Powerlite 725W","Epson",{"$nulls":4},"TE PD",{"$nulls":7},"H999A",{"$nulls":3},"07/11/2022 08:49 AM","Jan Liebel"]
["57454","SMJ0CVMTN","LHS 2022","307","Lenovo ThinkCentre M630E Desktop",null,"Available","Desktop","2020-07-28","600.00","21-0000-0030","Firefly Computers LLC","M630E","Lenovo","HS108-05",null,"2024/2025",null,"TE",{"$nulls":3},"3 YR Onsite Warranty",{"$nulls":3},"10T8SMXM00",null,null,"Business","08/08/2020 02:01 PM","Jan Liebel"]
["68431",null,"LHS 2022","343A","Epson Powerlite 725W Projector",null,"Available","Projector","2022-07-01","1,199.24","22-0000-3255","KCAV","Powerlite 725W","Epson",{"$nulls":4},"TE PD",{"$nulls":7},"H999A",{"$nulls":3},"07/11/2022 08:49 AM","Jan Liebel"]
["S57597","R90VLCNN","Central Office","Imaging Room/Staff Devices","Lenovo ThinkPad L390 (Core i5-8265U, 8GB, 256GB)",null,"Available","Laptop","2019-07-29","919.00","20-57651","Firefly Computers","L390","Lenovo",null,"34e12d5edaa8","2024/2025",null,"T&amp;L PD",null,null,"Dept Budget\t229",{"$nulls":4},"20NR000FUS",null,null,"Teaching & Learning","08/01/2019 07:39 AM","Jan Liebel"]
["S57506","752TVB0A83","LHS 2022","140","Motorola CP200D UHF Digital 16 Channel Two-Way Radio",null,"Available","Two-Way Radio","2019-06-30","373.60","20-57447","TBS Electronics","CP200D","Motorola","Becky Lane",null,"N/A",null,"HS PD",null,null,"Building Budget",{"$nulls":4},"CP200d",null,null,"C&I","06/30/2019 01:18 PM","Jan Liebel"]
["S57598","R90VLCNX","Central Office","Imaging Room/Staff Devices","Lenovo ThinkPad L390 (Core i5-8265U, 8GB, 256GB)",null,"Available","Laptop","2019-07-29","919.00","20-57651","Firefly Computers","L390","Lenovo","SP-CompSci-02","34e12d5efed9","2024/2025",null,"T&amp;L PD",null,null,"Dept Budget\t229",{"$nulls":4},"20NR000FUS",{"$nulls":3},"08/01/2019 07:59 AM","Jan Liebel"]
["56469","R90VKPJM","Central Office","Imaging Room/Staff Devices","Lenovo ThinkPad L380 Yoga (Core i5-8250U, 8GB, 256GB)",null,"Available","Laptop","2019-07-24","865.00","20-57411","Firefly Computers","L380 Yoga","Lenovo","Steve Schmitz","d4d2527a485b","2024/2025",null,"TE PD",{"$nulls":7},"20M7000MUS",{"$nulls":3},"07/31/2019 06:37 AM","Jan Liebel"]
["67871","09LV3CNRA04703","LHS 2022","236A","Samsung 75\"  Series 4K UHD Smart TV",null,"Available","TV","2022-03-11","815.00","22-0000-3699","BEST BUY","UN75TU7000FXZA","Samsung",{"$nulls":4},"TE PD - HS PHASE 1 CONSTRUCTION",{"$nulls":7},"UN75TU7000FXZA",{"$nulls":3},"03/29/2022 02:19 PM","Jan Liebel"]
["68093","MJ0GCPCK","Long Elementary","Cafeteria","Lenovo ThinkPad E14 (Core i5-1135G7, 8GB, 256GB) [Gen 2]",null,"Available","Laptop","2022-05-26","966.65","22-0000-4026","CDW-G","E14","Lenovo",{"$nulls":4},"TE PD",{"$nulls":3},"Lenovo 3 YR Depot Warranty",{"$nulls":3},"20TA004QUS",null,null,"Food Services","06/09/2022 09:22 AM","Jan Liebel"]
["68412","X8WE2301265","LHS 2022","206","Epson Powerlite 725W Projector",null,"Available","Projector","2022-07-01","1,199.24","22-0000-3255","KCAV","Powerlite 725W","Epson",{"$nulls":4},"TE PD",{"$nulls":7},"H999A",{"$nulls":3},"07/11/2022 08:49 AM","Jan Liebel"]
["56974","F9GCMWAEMF3M","Sperreng Middle","*Staff/Teacher Devices","Apple iPad 32 GB WIFI (7th Gen)",null,"Available","iPad","2020-07-01","439.84","21-0000-0005","Apple","MW742LL/A","Apple","Lauren Boeger",null,"2024/2025",null,"TE PD - LEASED",{"$nulls":3},"FQ9CFLKMGWTJ",null,null,"Misc. field has S/N for Apple Pencil","A2197",null,"2020/2021",null,"05/13/2020 09:08 AM","Jan Liebel"]
["68606","0f013be222401j","Support Service Center","Facilities/Maintenance Shop","Microsoft Surface Pro 8 (11th Gen) Intel i7-1165G7, 16GB w/ 512GB SSD",null,"Available","Laptop","2022-11-28","1,273.74","23-0000-1241","ITsavvy","Surface Pro 8 90nl5e1000f0","Microsoft","Keith Schaefer",{"$nulls":3},"FAC PD",null,null,"Building Budget","Keyboard S/N 003695513959",{"$nulls":3},"1983",null,null,"Facilities/Maintenance Dept.","12/01/2022 01:38 PM","Jan Liebel"]
["63364","YFMKGQM9L6","Concord Elementary","Unknown","Apple TV 4K (2nd Gen) 32GB",null,"Available","Apple TV","2021-07-01","179.00","22-0000-0015","Apple","MXGY2LL/A","Apple",{"$nulls":4},"TE PD",{"$nulls":7},"A2169",null,"2021/2022","Technology","06/24/2021 01:39 PM","Jan Liebel"]
["S57689","A04BD19700","Central Office","108","Fujitsu Scansnap S1300i Color Duplex Document Scanner",null,"Available","Scanner","2019-10-02","244.99","20-58484","Amazon","S1300i","Fujitsu","Dawn Douglas",null,"2025/2026",null,"Business PD",null,null,"Dept Budget\t229",{"$nulls":4},"PA03643-B005",null,null,"Business Department","10/02/2019 01:24 PM","Jan Liebel"]
["67288","V39HKGWH54","Kennerly Elementary","SSD Resource Room by Gym - Large","Apple TV 4K (2nd Gen) 32GB",null,"Available","Apple TV","2021-07-08","179.00","22-0000-0171","Apple","MXGY2LL/A","Apple",null,null,"2025/2026",null,"TE PD",{"$nulls":7},"A2169",{"$nulls":3},"07/16/2021 08:18 AM","Jan Liebel"]
["57271","PHK2KD514D","Truman Middle","Commons","ARUBA AP-515 (US) DUAL RADIO 4X4, INTERNAL ANTENNAS UNIFIED CAMPUS AP",null,"Available","Access Point","2020-07-01","399.00","21-0000-0001","Provision Data Solutions","AP-515","ARUBA",null,"d0d3e0c6c354","2025/2026",null,"TE PD",null,null,"E-Rate",{"$nulls":4},"Q9H63A",null,null,"Technology","05/27/2020 10:04 AM","Jan Liebel"]
["69723","SG33KMY6G1","LHS 2022","MDF CORE","ARUBA 6300M 48 PORT HPE SMART RATE SWITCH JL659A",null,"Available","Switch","2023-05-25","6,011.00","23-0000-0077","PROVISION DATA SOLUTIONS","JL659A","ARUBA",{"$nulls":7},"E-Rate ","HHHT2B26RDP &amp; HHHT2B26P3S",{"$nulls":3},"JL659A",null,null,"Technology","06/06/2023 11:56 AM","Jan Liebel"]
["71638","phq4kd51tf","LHS 2022","051","Aruba AP-515 (US) Dual Radio 4x4 + 2x2:2 802.11AX Internal Antennas Unified Campus AP",null,"Available","Access Point","2023-06-12","545.00","24-0000-1761","Provision Data Solutions","Q9H63A","ARUBA",null,"749e75c3ed18",null,null,"TE PD",null,null,"E-Rate ",{"$nulls":4},"AP-515",null,null,"Technology","07/25/2023 03:09 PM","Jan Liebel"]
["68920","HLWE6YA002994","Sperreng Middle","Conference Room","Sharp 42\" LED 1080p HDTV",null,"Available","TV",{"$nulls":4},"LC-42LB261U","Sharp",{"$nulls":16},"01/24/2023 09:36 PM","Logan Hofius"]
["SSD-93753","DMPS2LVKG5VW","Special School District","Unknown","Apple iPad Air WIFI (2nd Gen)",null,"Available","iPad",null,"555.82","1700453",null,null,"Apple",{"$nulls":12},"A1566",null,null,"SSD","11/18/2022 09:47 AM","Logan Hofius"]
["SSD-94028","F9FRH2UBFCM6","Special School District","Unknown","Apple iPad Mini WIFI (2nd Gen)",null,"Available","iPad",null,"259.00","1704053",null,null,"Apple",{"$nulls":12},"A1489",null,null,"SSD","11/18/2022 09:47 AM","Logan Hofius"]
["SSD-105427","R90VS9XH","Special School District","Unknown","Lenovo ThinkPad L390 Yoga Laptop",null,"Available","Laptop",null,"889.00","2000168",null,"20NT0006US","Lenovo",{"$nulls":15},"SSD","11/18/2022 09:47 AM","Logan Hofius"]
["SSD-100573","R90RGWMZ","Special School District","Unknown","Lenovo ThinkPad L380 Yoga Laptop",null,"Available","Laptop",null,"1,069.00","1902012",null,"20M7000MUS","Lenovo",{"$nulls":12},"20M7",null,null,"SSD","11/18/2022 09:47 AM","Logan Hofius"]
["SSD-89475","PK2XKYT","Special School District","Unknown","Lenovo ThinkPad Helix",null,"Available","Laptop",null,"1,491.00","1503205",null,"36984LU","Lenovo",{"$nulls":15},"SSD","11/18/2022 09:47 AM","Logan Hofius"]
["SSD-105476","R90VS9Y6","Special School District","Unknown","Lenovo ThinkPad L390 Yoga Laptop",null,"Available","Laptop",null,"889.00","2000168",null,"20NT0006US","Lenovo",{"$nulls":15},"SSD","11/18/2022 09:47 AM","Logan Hofius"]
["SSD-82359","R9EEXNT","Special School District","Unknown","Lenovo ThinkPad X220 Laptop",null,"Available","Laptop",null,"1,425.00","1202439",null,"429637U","Lenovo",{"$nulls":15},"SSD","11/18/2022 09:47 AM","Logan Hofius"]
["SSD-84728","R9H7AC0","Special School District","Unknown","Lenovo ThinkPad X220 Laptop",null,"Available","Laptop",null,"1,599.00","CK # 341368",null,"429637U","Lenovo",{"$nulls":15},"SSD","11/18/2022 09:47 AM","Logan Hofius"]
["SSD-91653","MP0931G2","Special School District","Unknown","Lenovo ThinkPad Yoga 12 Laptop",null,"Available","Laptop",null,"1,310.00","1601547",null,"20DKS1G200","Lenovo",{"$nulls":8},"Disposed 04/27/2022",{"$nulls":6},"SSD","11/18/2022 09:47 AM","Logan Hofius"]
["SSD-91656","MP0932G5","Special School District","Unknown","Lenovo ThinkPad Yoga 12 Laptop",null,"Available","Laptop",null,"1,310.00","1601547",null,"20DKS1G200","Lenovo",{"$nulls":15},"SSD","11/18/2022 09:47 AM","Logan Hofius"]
["SSD-95050","MP14QZD9","Special School District","Unknown","Lenovo ThinkPad Yoga 260 Laptop",null,"Available","Laptop",null,"973.00","1703277",null,"20FD002DUS","Lenovo",{"$nulls":15},"SSD","11/18/2022 09:47 AM","Logan Hofius"]
["SSD-98256","MP176HWY","Special School District","Unknown","Lenovo ThinkPad Yoga 260 Laptop",null,"Available","Laptop",null,"1,257.08","1801737",null,"20FD002DUS","Lenovo",{"$nulls":15},"SSD","11/18/2022 09:47 AM","Logan Hofius"]
["77583",{"$nulls":3},"[SSD] Lenovo ThinkPad x200 Tablet Laptop",null,"Available","Laptop",{"$nulls":4},"x200",{"$nulls":16},"2nd Grade","11/27/2022 08:07 PM","Logan Hofius"]
["68480","JLHYWJGWC1",null,null,"Apple iPad 64GB WIFI (9th Gen)",null,"Available","iPad",{"$nulls":4},"MK2Y3LL/A","Apple",{"$nulls":12},"A2602",{"$nulls":3},"12/07/2022 08:31 AM","Logan Hofius"]
["68488","PQF725540K",null,null,"Apple iPad 64GB WIFI (9th Gen)",null,"Available","iPad",{"$nulls":4},"MK2Y3LL/A","Apple",{"$nulls":12},"A2602",{"$nulls":3},"12/07/2022 08:31 AM","Logan Hofius"]
["68471","Y6CJCMY7G7",null,null,"Apple iPad 64GB WIFI (9th Gen)",null,"Available","iPad",{"$nulls":4},"MK2Y3LL/A","Apple",{"$nulls":12},"A2602",{"$nulls":3},"12/07/2022 08:31 AM","Logan Hofius"]
["60851","F9FCV1QWMF3M",null,null,"Apple iPad 32GB WIFI (7th Gen)",null,"Available","iPad",{"$nulls":4},"MW7L2LL/A","Apple",{"$nulls":12},"A2197",{"$nulls":3},"12/07/2022 08:31 AM","Logan Hofius"]
["61021","F9FCV24UMF3M",null,null,"Apple iPad 32GB WIFI (7th Gen)",null,"Available","iPad",{"$nulls":4},"MW7L2LL/A","Apple",{"$nulls":12},"A2197",{"$nulls":3},"12/07/2022 08:31 AM","Logan Hofius"]
["60846","F9FCV47RMF3M",null,null,"Apple iPad 32GB WIFI (7th Gen)",null,"Available","iPad",{"$nulls":4},"MW7L2LL/A","Apple",{"$nulls":12},"A2197",{"$nulls":3},"12/07/2022 08:31 AM","Logan Hofius"]
["61036","F9FCV76CMF3M",null,null,"Apple iPad 32GB WIFI (7th Gen)",null,"Available","iPad",{"$nulls":4},"MW7L2LL/A","Apple",{"$nulls":12},"A2197",{"$nulls":3},"12/07/2022 08:31 AM","Logan Hofius"]
["60823","F9FCV8AQMF3M",null,null,"Apple iPad 32GB WIFI (7th Gen)",null,"Available","iPad",{"$nulls":4},"MW7L2LL/A","Apple",{"$nulls":12},"A2197",{"$nulls":3},"12/07/2022 08:31 AM","Logan Hofius"]
["62101","F9FCVAA3MF3M",null,null,"Apple iPad 32GB WIFI (7th Gen)",null,"Available","iPad",{"$nulls":4},"MW7L2LL/A","Apple",{"$nulls":12},"A2197",{"$nulls":3},"12/07/2022 08:31 AM","Logan Hofius"]
["61231","F9FCVBYLMF3M",null,null,"Apple iPad 32GB WIFI (7th Gen)",null,"Available","iPad",{"$nulls":4},"MW7L2LL/A","Apple",{"$nulls":12},"A2197",{"$nulls":3},"12/07/2022 08:31 AM","Logan Hofius"]
["61962","F9FCVCT9MF3M",null,null,"Apple iPad 32GB WIFI (7th Gen)",null,"Available","iPad",{"$nulls":4},"MW7L2LL/A","Apple",{"$nulls":12},"A2197",{"$nulls":3},"12/07/2022 08:31 AM","Logan Hofius"]
["62172","F9FCVD2DMF3M",null,null,"Apple iPad 32GB WIFI (7th Gen)",null,"Available","iPad",{"$nulls":4},"MW7L2LL/A","Apple",{"$nulls":12},"A2197",{"$nulls":3},"12/07/2022 08:31 AM","Logan Hofius"]
["62115","F9FCVDA3MF3M",null,null,"Apple iPad 32GB WIFI (7th Gen)",null,"Available","iPad",{"$nulls":4},"MW7L2LL/A","Apple",{"$nulls":12},"A2197",{"$nulls":3},"12/07/2022 08:31 AM","Logan Hofius"]
["62029","F9FCVDF6MF3M",null,null,"Apple iPad 32GB WIFI (7th Gen)",null,"Available","iPad",{"$nulls":4},"MW7L2LL/A","Apple",{"$nulls":12},"A2197",{"$nulls":3},"12/07/2022 08:31 AM","Logan Hofius"]
["62085","F9FCVDZ4MF3M",null,null,"Apple iPad 32GB WIFI (7th Gen)",null,"Available","iPad",{"$nulls":4},"MW7L2LL/A","Apple",{"$nulls":12},"A2197",{"$nulls":3},"12/07/2022 08:31 AM","Logan Hofius"]
["61800","F9FCVE3PMF3M",null,null,"Apple iPad 32GB WIFI (7th Gen)",null,"Available","iPad",{"$nulls":4},"MW7L2LL/A","Apple",{"$nulls":12},"A2197",{"$nulls":3},"12/07/2022 08:31 AM","Logan Hofius"]
["61780","F9FCVEJYMF3M",null,null,"Apple iPad 32GB WIFI (7th Gen)",null,"Available","iPad",{"$nulls":4},"MW7L2LL/A","Apple",{"$nulls":12},"A2197",{"$nulls":3},"12/07/2022 08:31 AM","Logan Hofius"]
["62170","F9FCVETBMF3M",null,null,"Apple iPad 32GB WIFI (7th Gen)",null,"Available","iPad",{"$nulls":4},"MW7L2LL/A","Apple",{"$nulls":12},"A2197",{"$nulls":3},"12/07/2022 08:31 AM","Logan Hofius"]
["61850","F9FCVFB6MF3M",null,null,"Apple iPad 32GB WIFI (7th Gen)",null,"Available","iPad",{"$nulls":4},"MW7L2LL/A","Apple",{"$nulls":12},"A2197",{"$nulls":3},"12/07/2022 08:31 AM","Logan Hofius"]
["62331","F9FCVFMNMF3M",null,null,"Apple iPad 32GB WIFI (7th Gen)",null,"Available","iPad",{"$nulls":4},"MW7L2LL/A","Apple",{"$nulls":12},"A2197",{"$nulls":3},"12/07/2022 08:31 AM","Logan Hofius"]
["62262","F9FCVFZQMF3M",null,null,"Apple iPad 32GB WIFI (7th Gen)",null,"Available","iPad",{"$nulls":4},"MW7L2LL/A","Apple",{"$nulls":12},"A2197",{"$nulls":3},"12/07/2022 08:31 AM","Logan Hofius"]
["61974","F9FCVG5JMF3M",null,null,"Apple iPad 32GB WIFI (7th Gen)",null,"Available","iPad",{"$nulls":4},"MW7L2LL/A","Apple",{"$nulls":12},"A2197",{"$nulls":3},"12/07/2022 08:31 AM","Logan Hofius"]
["62097","F9FCVG9WMF3M",null,null,"Apple iPad 32GB WIFI (7th Gen)",null,"Available","iPad",{"$nulls":4},"MW7L2LL/A","Apple",{"$nulls":12},"A2197",{"$nulls":3},"12/07/2022 08:31 AM","Logan Hofius"]
["62000","F9FCVGK5MF3M",null,null,"Apple iPad 32GB WIFI (7th Gen)",null,"Available","iPad",{"$nulls":4},"MW7L2LL/A","Apple",{"$nulls":12},"A2197",{"$nulls":3},"12/07/2022 08:31 AM","Logan Hofius"]
["61852","F9FCVGMBMF3M",null,null,"Apple iPad 32GB WIFI (7th Gen)",null,"Available","iPad",{"$nulls":4},"MW7L2LL/A","Apple",{"$nulls":12},"A2197",{"$nulls":3},"12/07/2022 08:31 AM","Logan Hofius"]
["62002","F9FCVGTTMF3M",null,null,"Apple iPad 32GB WIFI (7th Gen)",null,"Available","iPad",{"$nulls":4},"MW7L2LL/A","Apple",{"$nulls":12},"A2197",{"$nulls":3},"12/07/2022 08:31 AM","Logan Hofius"]
["61860","F9FCVGYCMF3M",null,null,"Apple iPad 32GB WIFI (7th Gen)",null,"Available","iPad",{"$nulls":4},"MW7L2LL/A","Apple",{"$nulls":12},"A2197",{"$nulls":3},"12/07/2022 08:31 AM","Logan Hofius"]
["62423","F9FCVH06MF3M",null,null,"Apple iPad 32GB WIFI (7th Gen)",null,"Available","iPad",{"$nulls":4},"MW7L2LL/A","Apple",{"$nulls":12},"A2197",{"$nulls":3},"12/07/2022 08:31 AM","Logan Hofius"]
["61783","F9FCVJ3MMF3M",null,null,"Apple iPad 32GB WIFI (7th Gen)",null,"Available","iPad",{"$nulls":4},"MW7L2LL/A","Apple",{"$nulls":12},"A2197",{"$nulls":3},"12/07/2022 08:31 AM","Logan Hofius"]
["62382","F9FCVJ9YMF3M",null,null,"Apple iPad 32GB WIFI (7th Gen)",null,"Available","iPad",{"$nulls":4},"MW7L2LL/A","Apple",{"$nulls":12},"A2197",{"$nulls":3},"12/07/2022 08:31 AM","Logan Hofius"]
["61716","F9FCVJJ3MF3M",null,null,"Apple iPad 32GB WIFI (7th Gen)",null,"Available","iPad",{"$nulls":4},"MW7L2LL/A","Apple",{"$nulls":12},"A2197",{"$nulls":3},"12/07/2022 08:31 AM","Logan Hofius"]
["62131","F9FCVJPKMF3M",null,null,"Apple iPad 32GB WIFI (7th Gen)",null,"Available","iPad",{"$nulls":4},"MW7L2LL/A","Apple",{"$nulls":12},"A2197",{"$nulls":3},"12/07/2022 08:31 AM","Logan Hofius"]
["62259","F9FCVJTKMF3M",null,null,"Apple iPad 32GB WIFI (7th Gen)",null,"Available","iPad",{"$nulls":4},"MW7L2LL/A","Apple",{"$nulls":12},"A2197",{"$nulls":3},"12/07/2022 08:31 AM","Logan Hofius"]
["62373","F9FCVJYDMF3M",null,null,"Apple iPad 32GB WIFI (7th Gen)",null,"Available","iPad",{"$nulls":4},"MW7L2LL/A","Apple",{"$nulls":12},"A2197",{"$nulls":3},"12/07/2022 08:31 AM","Logan Hofius"]
["62226","F9FCVK2BMF3M",null,null,"Apple iPad 32GB WIFI (7th Gen)",null,"Available","iPad",{"$nulls":4},"MW7L2LL/A","Apple",{"$nulls":12},"A2197",{"$nulls":3},"12/07/2022 08:31 AM","Logan Hofius"]
["61351","F9FCVKD8MF3M",null,null,"Apple iPad 32GB WIFI (7th Gen)",null,"Available","iPad",{"$nulls":4},"MW7L2LL/A","Apple",{"$nulls":12},"A2197",{"$nulls":3},"12/07/2022 08:31 AM","Logan Hofius"]
["61161","F9FCVKGFMF3M",null,null,"Apple iPad 32GB WIFI (7th Gen)",null,"Available","iPad",{"$nulls":4},"MW7L2LL/A","Apple",{"$nulls":12},"A2197",{"$nulls":3},"12/07/2022 08:31 AM","Logan Hofius"]
["61499","F9FCVKJWMF3M",null,null,"Apple iPad 32GB WIFI (7th Gen)",null,"Available","iPad",{"$nulls":4},"MW7L2LL/A","Apple",{"$nulls":12},"A2197",{"$nulls":3},"12/07/2022 08:31 AM","Logan Hofius"]
["61335","F9FCVKPKMF3M",null,null,"Apple iPad 32GB WIFI (7th Gen)",null,"Available","iPad",{"$nulls":4},"MW7L2LL/A","Apple",{"$nulls":12},"A2197",{"$nulls":3},"12/07/2022 08:31 AM","Logan Hofius"]
["61530","F9FCVKTSMF3M",null,null,"Apple iPad 32GB WIFI (7th Gen)",null,"Available","iPad",{"$nulls":4},"MW7L2LL/A","Apple",{"$nulls":12},"A2197",{"$nulls":3},"12/07/2022 08:31 AM","Logan Hofius"]
["61523","F9FCVKU9MF3M",null,null,"Apple iPad 32GB WIFI (7th Gen)",null,"Available","iPad",{"$nulls":4},"MW7L2LL/A","Apple",{"$nulls":12},"A2197",{"$nulls":3},"12/07/2022 08:31 AM","Logan Hofius"]
["61441","F9FCVKZXMF3M",null,null,"Apple iPad 32GB WIFI (7th Gen)",null,"Available","iPad",{"$nulls":4},"MW7L2LL/A","Apple",{"$nulls":12},"A2197",{"$nulls":3},"12/07/2022 08:31 AM","Logan Hofius"]
["61270","F9FCVL3AMF3M",null,null,"Apple iPad 32GB WIFI (7th Gen)",null,"Available","iPad",{"$nulls":4},"MW7L2LL/A","Apple",{"$nulls":12},"A2197",{"$nulls":3},"12/07/2022 08:31 AM","Logan Hofius"]
["61392","F9FCVL72MF3M",null,null,"Apple iPad 32GB WIFI (7th Gen)",null,"Available","iPad",{"$nulls":4},"MW7L2LL/A","Apple",{"$nulls":12},"A2197",{"$nulls":3},"12/07/2022 08:31 AM","Logan Hofius"]
["61095","F9FCVL9GMF3M",null,null,"Apple iPad 32GB WIFI (7th Gen)",null,"Available","iPad",{"$nulls":4},"MW7L2LL/A","Apple",{"$nulls":12},"A2197",{"$nulls":3},"12/07/2022 08:31 AM","Logan Hofius"]
["62121","F9FCVLL2MF3M",null,null,"Apple iPad 32GB WIFI (7th Gen)",null,"Available","iPad",{"$nulls":4},"MW7L2LL/A","Apple",{"$nulls":12},"A2197",{"$nulls":3},"12/07/2022 08:31 AM","Logan Hofius"]
["61064","F9FCVLZRMF3M",null,null,"Apple iPad 32GB WIFI (7th Gen)",null,"Available","iPad",{"$nulls":4},"MW7L2LL/A","Apple",{"$nulls":12},"A2197",{"$nulls":3},"12/07/2022 08:31 AM","Logan Hofius"]
["61496","F9FCVMBKMF3M",null,null,"Apple iPad 32GB WIFI (7th Gen)",null,"Available","iPad",{"$nulls":4},"MW7L2LL/A","Apple",{"$nulls":12},"A2197",{"$nulls":3},"12/07/2022 08:31 AM","Logan Hofius"]
["61520","F9FCVMP8MF3M",null,null,"Apple iPad 32GB WIFI (7th Gen)",null,"Available","iPad",{"$nulls":4},"MW7L2LL/A","Apple",{"$nulls":12},"A2197",{"$nulls":3},"12/07/2022 08:31 AM","Logan Hofius"]
["61187","F9FCVN68MF3M",null,null,"Apple iPad 32GB WIFI (7th Gen)",null,"Available","iPad",{"$nulls":4},"MW7L2LL/A","Apple",{"$nulls":12},"A2197",{"$nulls":3},"12/07/2022 08:31 AM","Logan Hofius"]
["61247","F9FCVNCUMF3M",null,null,"Apple iPad 32GB WIFI (7th Gen)",null,"Available","iPad",{"$nulls":4},"MW7L2LL/A","Apple",{"$nulls":12},"A2197",{"$nulls":3},"12/07/2022 08:31 AM","Logan Hofius"]
["61244","F9FCVNJRMF3M",null,null,"Apple iPad 32GB WIFI (7th Gen)",null,"Available","iPad",{"$nulls":4},"MW7L2LL/A","Apple",{"$nulls":12},"A2197",{"$nulls":3},"12/07/2022 08:31 AM","Logan Hofius"]
["60901","F9FCVNMBMF3M",null,null,"Apple iPad 32GB WIFI (7th Gen)",null,"Available","iPad",{"$nulls":4},"MW7L2LL/A","Apple",{"$nulls":12},"A2197",{"$nulls":3},"12/07/2022 08:31 AM","Logan Hofius"]
["62515","F9FCVSMDMF3M",null,null,"Apple iPad 32GB WIFI (7th Gen)",null,"Available","iPad",{"$nulls":4},"MW7L2LL/A","Apple",{"$nulls":12},"A2197",{"$nulls":3},"12/07/2022 08:31 AM","Logan Hofius"]
["62042","F9FCVUL5MF3M",null,null,"Apple iPad 32GB WIFI (7th Gen)",null,"Available","iPad",{"$nulls":4},"MW7L2LL/A","Apple",{"$nulls":12},"A2197",{"$nulls":3},"12/07/2022 08:31 AM","Logan Hofius"]
["62198","F9FCVUR5MF3M",null,null,"Apple iPad 32GB WIFI (7th Gen)",null,"Available","iPad",{"$nulls":4},"MW7L2LL/A","Apple",{"$nulls":12},"A2197",{"$nulls":3},"12/07/2022 08:31 AM","Logan Hofius"]
["61908","F9FCVUTJMF3M",null,null,"Apple iPad 32GB WIFI (7th Gen)",null,"Available","iPad",{"$nulls":4},"MW7L2LL/A","Apple",{"$nulls":12},"A2197",{"$nulls":3},"12/07/2022 08:31 AM","Logan Hofius"]
["61654","F9FCVUWWMF3M",null,null,"Apple iPad 32GB WIFI (7th Gen)",null,"Available","iPad",{"$nulls":4},"MW7L2LL/A","Apple",{"$nulls":12},"A2197",{"$nulls":3},"12/07/2022 08:31 AM","Logan Hofius"]
["60887","F9FCVV4DMF3M",null,null,"Apple iPad 32GB WIFI (7th Gen)",null,"Available","iPad",{"$nulls":4},"MW7L2LL/A","Apple",{"$nulls":12},"A2197",{"$nulls":3},"12/07/2022 08:31 AM","Logan Hofius"]
["60865","F9FCVV8DMF3M",null,null,"Apple iPad 32GB WIFI (7th Gen)",null,"Available","iPad",{"$nulls":4},"MW7L2LL/A","Apple",{"$nulls":12},"A2197",{"$nulls":3},"12/07/2022 08:31 AM","Logan Hofius"]
["61909","F9FCVVB7MF3M",null,null,"Apple iPad 32GB WIFI (7th Gen)",null,"Available","iPad",{"$nulls":4},"MW7L2LL/A","Apple",{"$nulls":12},"A2197",{"$nulls":3},"12/07/2022 08:31 AM","Logan Hofius"]
["61609","F9FCVVFPMF3M",null,null,"Apple iPad 32GB WIFI (7th Gen)",null,"Available","iPad",{"$nulls":4},"MW7L2LL/A","Apple",{"$nulls":12},"A2197",{"$nulls":3},"12/07/2022 08:31 AM","Logan Hofius"]
["61848","F9FCVVR9MF3M",null,null,"Apple iPad 32GB WIFI (7th Gen)",null,"Available","iPad",{"$nulls":4},"MW7L2LL/A","Apple",{"$nulls":12},"A2197",{"$nulls":3},"12/07/2022 08:31 AM","Logan Hofius"]
["62186","F9GCT1D7MF3M",null,null,"Apple iPad 32GB WIFI (7th Gen)",null,"Available","iPad",{"$nulls":4},"MW7L2LL/A","Apple",{"$nulls":12},"A2197",{"$nulls":3},"12/07/2022 08:31 AM","Logan Hofius"]
["60808","F9GCT1Q3MF3M",null,null,"Apple iPad 32GB WIFI (7th Gen)",null,"Available","iPad",{"$nulls":4},"MW7L2LL/A","Apple",{"$nulls":12},"A2197",{"$nulls":3},"12/07/2022 08:31 AM","Logan Hofius"]
["62193","F9GCT2HLMF3M",null,null,"Apple iPad 32GB WIFI (7th Gen)",null,"Available","iPad",{"$nulls":4},"MW7L2LL/A","Apple",{"$nulls":12},"A2197",{"$nulls":3},"12/07/2022 08:31 AM","Logan Hofius"]
["61039","F9GCT41WMF3M",null,null,"Apple iPad 32GB WIFI (7th Gen)",null,"Available","iPad",{"$nulls":4},"MW7L2LL/A","Apple",{"$nulls":12},"A2197",{"$nulls":3},"12/07/2022 08:32 AM","Logan Hofius"]
["61761","F9GCT5DKMF3M",null,null,"Apple iPad 32GB WIFI (7th Gen)",null,"Available","iPad",{"$nulls":4},"MW7L2LL/A","Apple",{"$nulls":12},"A2197",{"$nulls":3},"12/07/2022 08:32 AM","Logan Hofius"]
["62054","F9GCT62EMF3M",null,null,"Apple iPad 32GB WIFI (7th Gen)",null,"Available","iPad",{"$nulls":4},"MW7L2LL/A","Apple",{"$nulls":12},"A2197",{"$nulls":3},"12/07/2022 08:32 AM","Logan Hofius"]
["61966","F9GCT79UMF3M",null,null,"Apple iPad 32GB WIFI (7th Gen)",null,"Available","iPad",{"$nulls":4},"MW7L2LL/A","Apple",{"$nulls":12},"A2197",{"$nulls":3},"12/07/2022 08:32 AM","Logan Hofius"]
["61986","F9GCT7NNMF3M",null,null,"Apple iPad 32GB WIFI (7th Gen)",null,"Available","iPad",{"$nulls":4},"MW7L2LL/A","Apple",{"$nulls":12},"A2197",{"$nulls":3},"12/07/2022 08:32 AM","Logan Hofius"]
["61892","F9GCTBLQMF3M",null,null,"Apple iPad 32GB WIFI (7th Gen)",null,"Available","iPad",{"$nulls":4},"MW7L2LL/A","Apple",{"$nulls":12},"A2197",{"$nulls":3},"12/07/2022 08:32 AM","Logan Hofius"]
["62548","F9GCTE0AMF3M",null,null,"Apple iPad 32GB WIFI (7th Gen)",null,"Available","iPad",{"$nulls":4},"MW7L2LL/A","Apple",{"$nulls":12},"A2197",{"$nulls":3},"12/07/2022 08:32 AM","Logan Hofius"]
["60926","F9GCTEE9MF3M",null,null,"Apple iPad 32GB WIFI (7th Gen)",null,"Available","iPad",{"$nulls":4},"MW7L2LL/A","Apple",{"$nulls":12},"A2197",{"$nulls":3},"12/07/2022 08:32 AM","Logan Hofius"]
["62529","F9GCTG58MF3M",null,null,"Apple iPad 32GB WIFI (7th Gen)",null,"Available","iPad",{"$nulls":4},"MW7L2LL/A","Apple",{"$nulls":12},"A2197",{"$nulls":3},"12/07/2022 08:32 AM","Logan Hofius"]
["61008","F9GCTJ2LMF3M",null,null,"Apple iPad 32GB WIFI (7th Gen)",null,"Available","iPad",{"$nulls":4},"MW7L2LL/A","Apple",{"$nulls":12},"A2197",{"$nulls":3},"12/07/2022 08:32 AM","Logan Hofius"]
["61120","F9GCTJSKMF3M",null,null,"Apple iPad 32GB WIFI (7th Gen)",null,"Available","iPad",{"$nulls":4},"MW7L2LL/A","Apple",{"$nulls":12},"A2197",{"$nulls":3},"12/07/2022 08:32 AM","Logan Hofius"]
["62842","FFLFL0KNMF3M",null,null,"Apple iPad 32GB WIFI (7th Gen)",null,"Available","iPad",{"$nulls":4},"MW7L2LL/A","Apple",{"$nulls":12},"A2197",{"$nulls":3},"12/07/2022 08:32 AM","Logan Hofius"]
["63017","FFLGD0H3MF3M",null,null,"Apple iPad 32GB WIFI (7th Gen)",null,"Available","iPad",{"$nulls":4},"MW7L2LL/A","Apple",{"$nulls":12},"A2197",{"$nulls":3},"12/07/2022 08:32 AM","Logan Hofius"]
["67769","FFLH9146MF3M",null,null,"Apple iPad 32GB WIFI (7th Gen)",null,"Available","iPad",{"$nulls":4},"MW7L2LL/A","Apple",{"$nulls":12},"A2197",{"$nulls":3},"12/07/2022 08:32 AM","Logan Hofius"]
["68213","FFLHN05GMF3M",null,null,"Apple iPad 32GB WIFI (7th Gen)",null,"Available","iPad",{"$nulls":4},"MW7L2LL/A","Apple",{"$nulls":12},"A2197",{"$nulls":3},"12/07/2022 08:32 AM","Logan Hofius"]
["67736","FNXGT12MMF3M",null,null,"Apple iPad 32GB WIFI (7th Gen)",null,"Available","iPad",{"$nulls":4},"MW7L2LL/A","Apple",{"$nulls":12},"A2197",{"$nulls":3},"12/07/2022 08:32 AM","Logan Hofius"]
["68562","FNXJ30QWMF3M",null,null,"Apple iPad 32GB WIFI (7th Gen)",null,"Available","iPad",{"$nulls":4},"MW7L2LL/A","Apple",{"$nulls":12},"A2197",{"$nulls":3},"12/07/2022 08:32 AM","Logan Hofius"]
["62802","F9FG81Q1Q1GC",null,null,"Apple iPad 32GB WIFI (8th Gen)",null,"Available","iPad",{"$nulls":4},"MYL92LL/A","Apple",{"$nulls":12},"A2270",{"$nulls":3},"12/07/2022 08:32 AM","Logan Hofius"]
["64040","DMPFQ2BPQ1GC",null,null,"Apple iPad 32GB WIFI (8th Gen)",null,"Available","iPad",{"$nulls":4},"MYLU2LL/A","Apple",{"$nulls":12},"A2270",{"$nulls":3},"12/07/2022 08:32 AM","Logan Hofius"]
["64953","DMPFRURUQ1GC",null,null,"Apple iPad 32GB WIFI (8th Gen)",null,"Available","iPad",{"$nulls":4},"MYLU2LL/A","Apple",{"$nulls":12},"A2270",{"$nulls":3},"12/07/2022 08:32 AM","Logan Hofius"]
["64590","DMPFRVCQQ1GC",null,null,"Apple iPad 32GB WIFI (8th Gen)",null,"Available","iPad",{"$nulls":4},"MYLU2LL/A","Apple",{"$nulls":12},"A2270",{"$nulls":3},"12/07/2022 08:32 AM","Logan Hofius"]
["64116","DMPFT03EQ1GC",null,null,"Apple iPad 32GB WIFI (8th Gen)",null,"Available","iPad",{"$nulls":4},"MYLU2LL/A","Apple",{"$nulls":12},"A2270",{"$nulls":3},"12/07/2022 08:32 AM","Logan Hofius"]
["64115","DMPFT0D4Q1GC",null,null,"Apple iPad 32GB WIFI (8th Gen)",null,"Available","iPad",{"$nulls":4},"MYLU2LL/A","Apple",{"$nulls":12},"A2270",{"$nulls":3},"12/07/2022 08:32 AM","Logan Hofius"]
["63488","DMPFT11ZQ1GC",null,null,"Apple iPad 32GB WIFI (8th Gen)",null,"Available","iPad",{"$nulls":4},"MYLU2LL/A","Apple",{"$nulls":12},"A2270",{"$nulls":3},"12/07/2022 08:32 AM","Logan Hofius"]
["64046","DMPFT1GLQ1GC",null,null,"Apple iPad 32GB WIFI (8th Gen)",null,"Available","iPad",{"$nulls":4},"MYLU2LL/A","Apple",{"$nulls":12},"A2270",{"$nulls":3},"12/07/2022 08:32 AM","Logan Hofius"]
["63692","DMPFT23HQ1GC",null,null,"Apple iPad 32GB WIFI (8th Gen)",null,"Available","iPad",{"$nulls":4},"MYLU2LL/A","Apple",{"$nulls":12},"A2270",{"$nulls":3},"12/07/2022 08:32 AM","Logan Hofius"]
["64135","DMPFT28HQ1GC",null,null,"Apple iPad 32GB WIFI (8th Gen)",null,"Available","iPad",{"$nulls":4},"MYLU2LL/A","Apple",{"$nulls":12},"A2270",{"$nulls":3},"12/07/2022 08:32 AM","Logan Hofius"]
["63656","DMPFT2HRQ1GC",null,null,"Apple iPad 32GB WIFI (8th Gen)",null,"Available","iPad",{"$nulls":4},"MYLU2LL/A","Apple",{"$nulls":12},"A2270",{"$nulls":3},"12/07/2022 08:32 AM","Logan Hofius"]
["64754","DMQFQMA7Q1GC",null,null,"Apple iPad 32GB WIFI (8th Gen)",null,"Available","iPad",{"$nulls":4},"MYLU2LL/A","Apple",{"$nulls":12},"A2270",{"$nulls":3},"12/07/2022 08:32 AM","Logan Hofius"]
["64725","DMQFR4W2Q1GC",null,null,"Apple iPad 32GB WIFI (8th Gen)",null,"Available","iPad",{"$nulls":4},"MYLU2LL/A","Apple",{"$nulls":12},"A2270",{"$nulls":3},"12/07/2022 08:32 AM","Logan Hofius"]
["64121","DMQFR7XZQ1GC",null,null,"Apple iPad 32GB WIFI (8th Gen)",null,"Available","iPad",{"$nulls":4},"MYLU2LL/A","Apple",{"$nulls":12},"A2270",{"$nulls":3},"12/07/2022 08:32 AM","Logan Hofius"]
["64056","DMQFR93BQ1GC",null,null,"Apple iPad 32GB WIFI (8th Gen)",null,"Available","iPad",{"$nulls":4},"MYLU2LL/A","Apple",{"$nulls":12},"A2270",{"$nulls":3},"12/07/2022 08:32 AM","Logan Hofius"]
["SSD-106879","H97DH89TQ1GC","Special School District","Unknown","Apple iPad 32GB WIFI (8th Gen)",null,"Available","iPad",null,"221.47","2100032",null,"MYLU2LL/A","Apple",{"$nulls":12},"A2270",null,null,"SSD","11/18/2022 09:47 AM","Logan Hofius"]
["SSD-105454","R90VS9Y3","Central Office","Imaging Room/SSD","Lenovo ThinkPad L390 Yoga Laptop",null,"Available","Laptop",null,"889.00","2000168",null,"20NT0006US","Lenovo",{"$nulls":15},"SSD","11/18/2022 09:47 AM","Logan Hofius"]
["SSD-105462","R90VS9X1","Central Office","Imaging Room/SSD","Lenovo ThinkPad L390 Yoga Laptop",null,"Available","Laptop",null,"889.00","2000168",null,"20NT0006US","Lenovo",{"$nulls":15},"Speech","11/18/2022 09:47 AM","Logan Hofius"]
["68886","RD026687","Sperreng Middle","129","FrontRow Pro Digital 940R Receiver/Amplifier with 940TM Transmitter/Microphone",null,"Available","Classroom Audio",{"$nulls":4},"940R","FrontRow",{"$nulls":16},"01/24/2023 09:36 PM","Logan Hofius"]
["68912","RD0037804","Sperreng Middle","001","FrontRow Pro Digital 940R Receiver/Amplifier with 940TM Transmitter/Microphone",null,"Available","Classroom Audio",{"$nulls":4},"940R","FrontRow",{"$nulls":16},"01/24/2023 09:36 PM","Logan Hofius"]
["68826","I161040374","Dressel Elementary","108","TeachLogic Maxim III",null,"Available","Classroom Audio",{"$nulls":4},"Maxim III","TeachLogic",{"$nulls":16},"01/23/2023 07:13 AM","Logan Hofius"]
["68839","CN0FJ44J74445442EGLM","Dressel Elementary","Main Office","Dell 22\" Monitor",null,"Available","Monitor",{"$nulls":4},"P2213t","Dell",{"$nulls":16},"01/23/2023 07:13 AM","Logan Hofius"]
["68814","H161040747","Dressel Elementary","207","TeachLogic Maxim III",null,"Available","Classroom Audio",{"$nulls":4},"Maxim III","TeachLogic",{"$nulls":16},"01/23/2023 07:13 AM","Logan Hofius"]
["68774","RD0037805","Concord Elementary","024","FrontRow Pro Digital 940R Receiver/Amplifier with 940TM Transmitter/Microphone",null,"Available","Classroom Audio",{"$nulls":4},"940R","FrontRow",{"$nulls":16},"01/19/2023 08:01 AM","Logan Hofius"]
["52622","LR09YEVU","Concord Elementary","Unknown","Lenovo N23 Chromebook","Concord Elementary","Checked out","Chromebook","2018-01-25","195.58","18-53343","ITsavvy","N23 Non Touch","Lenovo","CC-CBLOANER-04","1c4d703caf9b","2022/2023",null,"26626-6412",null,null,"Building Budget","Pilot Project - Purchased with NON-technology funds",{"$nulls":3},"81MC001EUS","CBRedistribute",null,"5th Grade","01/15/2019 08:38 AM","Ted Meyer"]
["50175","DMPWVNJ5JF8J","District Storage","Surplus - iPad Summer 2023","Apple iPad 32GB WIFI (6th Gen)",null,"Sold","iPad","2018-06-21","294.00","18-55426","Apple","PR8A2LL/A","Apple","17-01","a056f3d1d919","2022/2023",null,"27871-6412",{"$nulls":7},"A1893","IPRedistribute",null,"1st Grade","01/15/2019 08:34 AM","Ted Meyer"]
["50157","DMPWVMW7JF8J","District Storage","Surplus - iPad Summer 2023","Apple iPad 32GB WIFI (6th Gen)",null,"Sold","iPad","2018-06-21","294.00","18-55426","Apple","MR7F2LL/A","Apple","16-07","a056f3ce0d1c","2022/2023",null,"27871-6412",{"$nulls":7},"A1893","IPRedistribute",null,"1st Grade","01/15/2019 08:34 AM","Ted Meyer"]
["50456","DMPWVP2CJF8J","District Storage","Surplus - iPad Summer 2023","Apple iPad 32GB WIFI (6th Gen)",null,"Sold","iPad","2018-06-21","294.00","18-55426","Apple","PR8A2LL/A","Apple","18-06","a056f3cac696","2022/2023",null,"27871-6412",{"$nulls":7},"A1893","IPRedistribute",null,"2nd Grade","01/15/2019 08:35 AM","Ted Meyer"]
["50449","DMPWVNNHJF8J","District Storage","Surplus - iPad Summer 2023","Apple iPad 32GB WIFI (6th Gen)",null,"Sold","iPad","2018-06-21","294.00","18-55426","Apple","PR8A2LL/A","Apple","11-07","a056f3d632b9","2022/2023",null,"27871-6412",{"$nulls":7},"A1893","IPRedistribute",null,"2nd Grade","01/15/2019 08:38 AM","Ted Meyer"]
["50438","DMPWVP8NJF8J","District Storage","Surplus - iPad Summer 2023","Apple iPad 32GB WIFI (6th Gen)",null,"Sold","iPad","2018-06-21","294.00","18-55426","Apple","MR7F2LL/A","Apple","116-02","a056f3cd7cb7","2022/2023",null,"27871-6412",{"$nulls":7},"A1893","IPRedistribute",null,"2nd Grade","01/15/2019 08:40 AM","Ted Meyer"]
["50351","DMPWVNFWJF8J","District Storage","Surplus - iPad Summer 2023","Apple iPad 32GB WIFI (6th Gen)",null,"Sold","iPad","2018-06-21","294.00","18-55426","Apple","MR7F2LL/A","Apple","203-02","a056f3d838f7","2022/2023",null,"27871-6412",{"$nulls":7},"A1893","IPRedistribute",null,"1st Grade","01/15/2019 08:40 AM","Ted Meyer"]
["50315","DMPWVNHKJF8J","District Storage","Surplus - iPad Summer 2023","Apple iPad 32GB WIFI (6th Gen)",null,"Sold","iPad","2018-06-21","294.00","18-55426","Apple","MR7F2LL/A","Apple","206-02","a056f3ccca8b","2022/2023",null,"27871-6412",{"$nulls":7},"A1893","IPRedistribute",null,"1st Grade","01/15/2019 08:40 AM","Ted Meyer"]
["50059","DMQWQLE3JF8J","District Storage","Surplus - iPad Summer 2023","Apple iPad 32GB WIFI (6th Gen)",null,"Sold","iPad","2018-06-04","294.00","18-54945","Apple Store","PR8A2LL/A","Apple","5-02","14205ef3c4b1","2022/2023",null,"27871-6412",{"$nulls":7},"A1893","IPRedistribute",null,"1st Grade","01/15/2019 09:35 AM","Ted Meyer"]
["50119","DMQWQMLZJF8J","District Storage","Surplus - iPad Summer 2023","Apple iPad 32GB WIFI (6th Gen)",null,"Sold","iPad","2018-06-04","294.00","18-54945","Apple Store","PR8A2LL/A","Apple",null,"94bf2da0f455","2022/2023",null,"27871-6412",{"$nulls":7},"A1893","IPRedistribute",null,"Technology","01/15/2019 09:35 AM","Ted Meyer"]
["46060","DMQWQW4KJF8J","District Storage","Surplus - iPad Summer 2023","Apple iPad 32GB WIFI (6th Gen)",null,"Sold","iPad","2018-06-18","299.00","18-55341","Apple","MR7F2LL/A","Apple","3-03","94bf2daf2edc","2022/2023",null,"Gifted PD",null,null,"Building Budget",{"$nulls":4},"A1893",null,null,"LEAP","01/15/2019 09:53 AM","Ted Meyer"]
["50227","DMQZ4XUFJF8J","District Storage","Surplus - iPad Summer 2023","Apple iPad 32GB WIFI (6th Gen)",null,"Sold","iPad","2019-08-09","294.00","20-57892","Apple","PR8A2LL/A","Apple",null,"1495ceb418c9","2024/2025",null,"TE PD",{"$nulls":7},"A1893","IPRedistribute",null,"Kindergarten","08/09/2019 09:26 AM","Jan Liebel"]
["50488","DMPWVP4GJF8J","District Storage","Surplus - iPad Summer 2023","Apple iPad 32GB WIFI (6th Gen)",null,"Sold","iPad","2018-06-21","294.00","18-55426","Apple","MR7F2LL/A","Apple","3-06","a056f3cc8977","2022/2023",null,"27871-6412",{"$nulls":7},"A1893","IPRedistribute",null,null,"01/15/2019 08:35 AM","Ted Meyer"]
["50521","DMPWVNJ9JF8J","District Storage","Surplus - iPad Summer 2023","Apple iPad 32GB WIFI (6th Gen)",null,"Sold","iPad","2018-06-21","294.00","18-55426","Apple","MR7F2LL/A","Apple","14-03","a056f3cc7c96","2022/2023",null,"27871-6412",{"$nulls":7},"A1893","IPRedistribute",null,"Kindergarten","01/15/2019 08:38 AM","Ted Meyer"]
["51464","F9FTQ9VTHLFD","District Storage","Surplus - iPad Summer 2023","Apple iPad 128GB WIFI (5th Gen)",null,"Sold","iPad",{"$nulls":4},"MP2H2LL/A","Apple",null,"78886db8768f","UnKnown",{"$nulls":5},"Apple Order # 1006280809",{"$nulls":3},"A1822",{"$nulls":3},"01/15/2019 08:40 AM","Ted Meyer"]
["52805","DMQWQLHKJF8J","District Storage","Surplus - iPad Summer 2023","Apple iPad 32GB WIFI (6th Gen)",null,"Sold","iPad","2018-06-04","294.00","18-54945","Apple Store","PR8A2LL/A","Apple","8-07","94bf2d9c64e7","2022/2023",null,"27871-6412",{"$nulls":7},"A1893","Issued for Virtual Learning - COVID-19",null,"1st Grade","01/15/2019 09:04 AM","Ted Meyer"]
["52859","DMQWQMUBJF8J","District Storage","Surplus - iPad Summer 2023","Apple iPad 32GB WIFI (6th Gen)",null,"Sold","iPad","2018-06-04","294.00","18-54945","Apple Store","PR8A2LL/A","Apple","14-02","14205ef2bc5a","2022/2023",null,"27871-6412",{"$nulls":7},"A1893","iPRedistribute",null,"2nd Grade","01/15/2019 09:04 AM","Ted Meyer"]
["52893","DMQWQMW1JF8J","District Storage","Surplus - iPad Summer 2023","Apple iPad 32GB WIFI (6th Gen)",null,"Sold","iPad","2018-06-04","294.00","18-54945","Apple Store","PR8A2LL/A","Apple","1-03","14205ef380ee","2022/2023",null,"27871-6412",{"$nulls":7},"A1893","Issued for Virtual Learning - COVID-19",null,"Kindergarten","01/15/2019 09:04 AM","Ted Meyer"]
["52941","DMQWQLM6JF8J","District Storage","Surplus - iPad Summer 2023","Apple iPad 32GB WIFI (6th Gen)",null,"Sold","iPad","2018-06-04","294.00","18-54945","Apple Store","PR8A2LL/A","Apple","5-01","94bf2d9c56c8","2022/2023",null,"27871-6412",{"$nulls":7},"A1893","IPRedistribute",null,"1st Grade","01/15/2019 09:35 AM","Ted Meyer"]
["52990","DMQWQN86JF8J","District Storage","Surplus - iPad Summer 2023","Apple iPad 32GB WIFI (6th Gen)",null,"Sold","iPad","2018-06-04","294.00","18-54945","Apple Store","PR8A2LL/A","Apple","4-07","94bf2d96e245","2022/2023",null,"27871-6412",{"$nulls":7},"A1893","IPRedistribute",null,"2nd Grade","01/15/2019 09:46 AM","Ted Meyer"]
["52933","DMQWQLKDJF8J","District Storage","Surplus - iPad Summer 2023","Apple iPad 32GB WIFI (6th Gen)",null,"Sold","iPad","2018-06-04","294.00","18-54945","Apple Store","PR8A2LL/A","Apple","19-02","94bf2d9b97c8","2022/2023",null,"27871-6412",{"$nulls":7},"A1893","IPRedistribute",null,"1st Grade","01/15/2019 09:46 AM","Ted Meyer"]
["51755","F9FTXLLBHLFD","District Storage","Surplus - iPad Summer 2023","Apple iPad 128GB WIFI (5th Gen)",null,"Sold","iPad",{"$nulls":4},"MP2H2LL/A","Apple","PLTW-11",{"$nulls":11},"A1822","IPRedistribute",null,"STEAM","03/12/2019 11:22 AM","Ann Barton"]
["53240","DMPX1FWVJF8J","District Storage","Surplus - iPad Summer 2023","Apple iPad 32GB WIFI (6th Gen)",null,"Sold","iPad","2018-08-06","294.00","19-54900","Apple","MR7F2LL/A","Apple","11-02","549963779822","2022/2023",null,"TE Paid",{"$nulls":7},"A1893","IPRedistribute",null,"Kindergarten","01/15/2019 08:35 AM","Ted Meyer"]
["53676","DMPX5MVHJF8J","District Storage","Surplus - iPad Summer 2023","Apple iPad 32GB WIFI (6th Gen)",null,"Sold","iPad","2018-08-21","299.00","19-54494","Apple","MR7F2LL/A","Apple","CC037-01","241b7a1e42c2","2022/2023",null,"TE PD",{"$nulls":7},"A1893","IPRedistribute",null,"Music","01/15/2019 08:38 AM","Ted Meyer"]
["53375","DMPX41PWJF8J","District Storage","Surplus - iPad Summer 2023","Apple iPad 32GB WIFI (6th Gen)",null,"Sold","iPad","2018-08-06","294.00","19-54900","Apple","MR7F2LL/A","Apple","LIBRARY - 10","5499639f01f5","2022/2023",null,"TE Paid",{"$nulls":7},"A1893","Issued for Virtual Learning - COVID-19",null,"Library","01/15/2019 08:40 AM","Ted Meyer"]
["53688","DMQX51Q4JF8J","District Storage","Surplus - iPad Summer 2023","Apple iPad 32GB WIFI (6th Gen)",null,"Sold","iPad","2018-08-21","299.00","19-54494","Apple","MR7F2LL/A","Apple","Mike Franzel","241b7a103c30","2022/2023",null,"TE PD",{"$nulls":7},"A1893","IPRedistribute",null,"Music","01/15/2019 09:04 AM","Ted Meyer"]
["53600","DMQX51DPJF8J","District Storage","Surplus - iPad Summer 2023","Apple iPad 32GB WIFI (6th Gen)",null,"Sold","iPad","2018-07-11","294.00","19-54486","Apple","MR7F2LL/A","Apple","316-02","241b7a0ff005","2022/2023",null,"C&amp;I PD",null,null,"Dept Budget",{"$nulls":4},"A1893","IPRedistribute",null,"Modern Language","01/15/2019 09:22 AM","Ted Meyer"]
["53353","DMPX36MWJF8J","District Storage","Surplus - iPad Summer 2023","Apple iPad 32GB WIFI (6th Gen)",null,"Sold","iPad","2018-08-06","294.00","19-54900","Apple","MR7F2LL/A","Apple","Jillian Skouby","5499637cb8a7","2022/2023",null,"TE Paid",{"$nulls":7},"A1893",null,null,"3rd Grade","01/15/2019 09:46 AM","Ted Meyer"]
["53633","DMPX5MRVJF8J","District Storage","Surplus - iPad Summer 2023","Apple iPad 32GB WIFI (6th Gen)",null,"Sold","iPad","2018-07-11","294.00","19-54486","Apple","MR7F2LL/A","Apple","CART-05","241b7a0f725d","2022/2023",null,"C&amp;I PD",null,null,"Dept Budget",{"$nulls":4},"A1893","IPRedistribute",null,"Modern Language","01/15/2019 09:53 AM","Ted Meyer"]
["53273","DMPXCFZDJF8J","District Storage","Surplus - iPad Summer 2023","Apple iPad 32GB WIFI (6th Gen)",null,"Sold","iPad","2018-09-14","299.00","19-55638","Apple","MR7F2LL/A","Apple","2-02","608c4ab486f6","2022/2023",null,"TE PD",{"$nulls":7},"A1893",null,null,"LEAP","01/15/2019 09:53 AM","Ted Meyer"]
["53655","DMQX51AYJF8J","District Storage","Surplus - iPad Summer 2023","Apple iPad 32GB WIFI (6th Gen)",null,"Sold","iPad","2018-07-11","294.00","19-54486","Apple","MR7F2LL/A","Apple","117-02","241b7a131bec","2022/2023",null,"C&amp;I PD",null,null,"Dept Budget",{"$nulls":4},"A1893","IPRedistribute",null,"Modern Language","01/15/2019 10:00 AM","Ted Meyer"]
["55498","DMPYWVR4JF8J","District Storage","Surplus - iPad Summer 2023","Apple iPad 32GB WIFI (6th Gen)",null,"Sold","iPad","2019-06-25","294.00","20-57432","Apple","PR8A2LL/A","Apple","CR034-02","c42ad0ddba30","2024/2025",null,"TE PD",{"$nulls":7},"A1893","IPRedistribute",null,"4th Grade","06/27/2019 10:19 AM","Mary Plass"]
["55503","DMPYWX2DJF8J","District Storage","Surplus - iPad Summer 2023","Apple iPad 32GB WIFI (6th Gen)",null,"Sold","iPad","2019-06-25","294.00","20-57432","Apple","PR8A2LL/A","Apple","CR038-01","c42ad0e085bd","2024/2025",null,"TE PD",{"$nulls":7},"A1893","IPRedistribute",null,"5th Grade","06/27/2019 10:19 AM","Mary Plass"]
["55717","DMPYRXC4JF8J","District Storage","Surplus - iPad Summer 2023","Apple iPad 32GB WIFI (6th Gen)",null,"Sold","iPad","2019-06-25","294.00","20-57432","Apple","PR8A2LL/A","Apple","SP203-13","c42ad0dfea7e","2024/2025",null,"TE PD",{"$nulls":7},"A1893","IPRedistribute",null,"Science","06/27/2019 10:19 AM","Mary Plass"]
["55547","DMPYWV95JF8J","District Storage","Surplus - iPad Summer 2023","Apple iPad 32GB WIFI (6th Gen)",null,"Sold","iPad","2019-06-25","294.00","20-57432","Apple","PR8A2LL/A","Apple","KE104-01","c42ad0d86d74","2024/2025",null,"TE PD",{"$nulls":7},"A1893","IPRedistribute",null,"5th Grade","06/27/2019 10:19 AM","Mary Plass"]
["55876","DMPYWVFVJF8J","District Storage","Surplus - iPad Summer 2023","Apple iPad 32GB WIFI (6th Gen)",null,"Sold","iPad","2019-06-25","294.00","20-57432","Apple","PR8A2LL/A","Apple","ISLAB22-17","c42ad0dfc2f2","2024/2025",null,"TE PD",{"$nulls":7},"A1893","IPRedistribute",null,"3rd Grade","06/27/2019 10:19 AM","Mary Plass"]
["55572","DMPYWVM3JF8J","District Storage","Surplus - iPad Summer 2023","Apple iPad 32GB WIFI (6th Gen)",null,"Sold","iPad","2019-06-25","294.00","20-57432","Apple","PR8A2LL/A","Apple","LO037-02","c42ad0e1771f","2024/2025",null,"TE PD",{"$nulls":7},"A1893",null,null,"5th Grade","06/27/2019 10:19 AM","Mary Plass"]
["55767","DMPYWVS3JF8J","District Storage","Surplus - iPad Summer 2023","Apple iPad 32GB WIFI (6th Gen)",null,"Sold","iPad","2019-06-25","294.00","20-57432","Apple","PR8A2LL/A","Apple","Liam Theisen","c42ad0d0b626","2024/2025",null,"TE PD",{"$nulls":7},"A1893","IPRedistribute",null,"Kindergarten","06/27/2019 10:19 AM","Mary Plass"]
["55618","DMPYWVX4JF8J","District Storage","Surplus - iPad Summer 2023","Apple iPad 32GB WIFI (6th Gen)",null,"Sold","iPad","2019-06-25","294.00","20-57432","Apple","PR8A2LL/A","Apple","Thaddaeus Sell","c42ad0d08811","2024/2025",null,"TE PD",{"$nulls":7},"A1893","IPRedistribute",null,"Kindergarten","06/27/2019 10:19 AM","Mary Plass"]
["55679","DMPYWW6XJF8J","District Storage","Surplus - iPad Summer 2023","Apple iPad 32GB WIFI (6th Gen)",null,"Sold","iPad","2019-06-25","294.00","20-57432","Apple","PR8A2LL/A","Apple","SP132-05","c42ad0e371a8","2024/2025",null,"TE PD",{"$nulls":7},"A1893","IPRedistribute",null,"Science","06/27/2019 10:19 AM","Mary Plass"]
["55616","DMPYWWA1JF8J","District Storage","Surplus - iPad Summer 2023","Apple iPad 32GB WIFI (6th Gen)",null,"Sold","iPad","2019-06-25","294.00","20-57432","Apple","PR8A2LL/A","Apple","TR228-02","c42ad0d0ea07","2024/2025",null,"TE PD",{"$nulls":7},"A1893","IPRedistribute",null,"Science","06/27/2019 10:19 AM","Mary Plass"]
["55837","DMPYWX1DJF8J","District Storage","Surplus - iPad Summer 2023","Apple iPad 32GB WIFI (6th Gen)",null,"Sold","iPad","2019-06-25","294.00","20-57432","Apple","PR8A2LL/A","Apple","Mason Endermuhle","c42ad0db4548","2024/2025",null,"TE PD",{"$nulls":7},"A1893","IPRedistribute",null,"4th Grade","06/27/2019 10:19 AM","Mary Plass"]
["55628","DMPYWX54JF8J","District Storage","Surplus - iPad Summer 2023","Apple iPad 32GB WIFI (6th Gen)",null,"Sold","iPad","2019-06-25","294.00","20-57432","Apple","PR8A2LL/A","Apple","TR228-14","c42ad0d24dc1","2024/2025",null,"TE PD",{"$nulls":7},"A1893","IPRedistribute",null,"Science","06/27/2019 10:19 AM","Mary Plass"]
["55731","DMQYR9NPJF8J","District Storage","Surplus - iPad Summer 2023","Apple iPad 32GB WIFI (6th Gen)",null,"Sold","iPad","2019-06-25","294.00","20-57432","Apple","PR8A2LL/A","Apple","SP210-12","c42ad0cdfe13","2024/2025",null,"TE PD",{"$nulls":7},"A1893","IPRedistribute",null,"Science","06/27/2019 10:20 AM","Mary Plass"]
["56091","DMPYWVCSJF8J","District Storage","Surplus - iPad Summer 2023","Apple iPad 32GB WIFI (6th Gen)",null,"Sold","iPad","2019-06-25","294.00","20-57432","Apple","PR8A2LL/A","Apple","ISLAB30-28","c42ad0de1dce","2024/2025",null,"TE PD",{"$nulls":7},"A1893",null,null,"Social Studies","06/27/2019 10:19 AM","Mary Plass"]
["55984","DMPYWVJUJF8J","District Storage","Surplus - iPad Summer 2023","Apple iPad 32GB WIFI (6th Gen)",null,"Sold","iPad","2019-06-25","294.00","20-57432","Apple","PR8A2LL/A","Apple","ISLAB27-05","c42ad0d64145","2024/2025",null,"TE PD",{"$nulls":7},"A1893",{"$nulls":3},"06/27/2019 10:19 AM","Mary Plass"]
["56230","DMPYWVLKJF8J","District Storage","Surplus - iPad Summer 2023","Apple iPad 32GB WIFI (6th Gen)",null,"Sold","iPad","2019-06-25","294.00","20-57432","Apple","PR8A2LL/A","Apple","ISLAB35-27","c42ad0d84fed","2024/2025",null,"TE PD",{"$nulls":7},"A1893",null,null,"Social Studies","06/27/2019 10:19 AM","Mary Plass"]
["56149","DMPYWVQGJF8J","District Storage","Surplus - iPad Summer 2023","Apple iPad 32GB WIFI (6th Gen)",null,"Sold","iPad","2019-06-25","294.00","20-57432","Apple","PR8A2LL/A","Apple","ISLAB33-02","c42ad0e17bcc","2024/2025",null,"TE PD",{"$nulls":7},"A1893","IPRedistribute",null,"Math","06/27/2019 10:19 AM","Mary Plass"]
["55961","DMPYWVTPJF8J","District Storage","Surplus - iPad Summer 2023","Apple iPad 32GB WIFI (6th Gen)",null,"Sold","iPad","2019-06-25","294.00","20-57432","Apple","PR8A2LL/A","Apple","ISLAB26-06","c42ad0d7993f","2024/2025",null,"TE PD",{"$nulls":7},"A1893","IPRedistribute",null,"4th Grade","06/27/2019 10:19 AM","Mary Plass"]
["56140","DMPYWW16JF8J","District Storage","Surplus - iPad Summer 2023","Apple iPad 32GB WIFI (6th Gen)",null,"Sold","iPad","2019-06-25","294.00","20-57432","Apple","PR8A2LL/A","Apple","ISLAB32-21","c42ad0d1ac68","2024/2025",null,"TE PD",{"$nulls":7},"A1893",null,null,"English","06/27/2019 10:19 AM","Mary Plass"]
["56151","DMPYWWBMJF8J","District Storage","Surplus - iPad Summer 2023","Apple iPad 32GB WIFI (6th Gen)",null,"Sold","iPad","2019-06-25","294.00","20-57432","Apple","PR8A2LL/A","Apple","ISLAB33-04","c42ad0ded72a","2024/2025",null,"TE PD",{"$nulls":7},"A1893","IPRedistribute",null,"Math","06/27/2019 10:19 AM","Mary Plass"]
["56137","DMPYWX21JF8J","District Storage","Surplus - iPad Summer 2023","Apple iPad 32GB WIFI (6th Gen)",null,"Sold","iPad","2019-06-25","294.00","20-57432","Apple","PR8A2LL/A","Apple","ISLAB32-18","c42ad0d69678","2024/2025",null,"TE PD",{"$nulls":7},"A1893",null,null,"English","06/27/2019 10:19 AM","Mary Plass"]
["55990","DMQYR140JF8J","District Storage","Surplus - iPad Summer 2023","Apple iPad 32GB WIFI (6th Gen)",null,"Sold","iPad","2019-06-25","294.00","20-57432","Apple","PR8A2LL/A","Apple","ISLAB27-11","c42ad0cfdc31","2024/2025",null,"TE PD",{"$nulls":7},"A1893",{"$nulls":3},"06/27/2019 10:19 AM","Mary Plass"]
["56089","DMQYRA3BJF8J","District Storage","Surplus - iPad Summer 2023","Apple iPad 32GB WIFI (6th Gen)",null,"Sold","iPad","2019-06-25","294.00","20-57432","Apple","PR8A2LL/A","Apple","ISLAB30-26","c42ad0e1d5a3","2024/2025",null,"TE PD",{"$nulls":7},"A1893",null,null,"Social Studies","06/27/2019 10:20 AM","Mary Plass"]
["31334","8869994","District Storage","Surplus - Spring 2023","Sony Compact Disc Player/Recorder",null,"Sold","CD Player","2004-08-11","245.00","05-24088","HRS","RCDW500C","Sony",{"$nulls":4},"30010-6542",{"$nulls":10},"Music","01/15/2019 08:34 AM","Ted Meyer"]
["41257","2011270076112000","District Storage","Surplus - Spring 2023","Nook Color",null,"Sold","eReader","2011-06-01","234.06","11-37735","Barnes & Noble","BNRV200","Nook",null,"58671a18be4b",null,null,"29901-6411",{"$nulls":10},"Library","01/15/2019 08:34 AM","Ted Meyer"]
["33934","565981","District Storage","Surplus - Spring 2023","Sony DVD/VCR Combo Player Unit",null,"Sold","DVD Player","2006-08-17","108.56","07-27678","CDWG, INC","SLV-D370P","Sony",{"$nulls":4},"27870-6541",{"$nulls":11},"01/15/2019 09:21 AM","Ted Meyer"]
["40630","32232063","District Storage","Surplus - Spring 2023","Nikon Coolpix, L18 Digital Camera",null,"Sold","Camera",{"$nulls":4},"Coolpix L18","Nikon",{"$nulls":15},"Technology","01/15/2019 09:34 AM","Ted Meyer"]
["35531","04J93CKH702654Z","District Storage","Surplus - Spring 2023","Samsung Flat Screen Monitor",null,"Sold","TV",{"$nulls":4},"UN32J5205AF","Samsung","LO-Library",{"$nulls":14},"Library","01/15/2019 09:35 AM","Ted Meyer"]
["34954","951985","District Storage","Surplus - Spring 2023","ELMO TT-02u Document Camera",null,"Sold","Document Camera","2006-09-17","555.00","07-27832","PC MALL","TT-02u","ELMO","Surplus 2021-2022 ",{"$nulls":3},"27870-6541",{"$nulls":8},"No Longer being used",null,"Resource","01/15/2019 09:59 AM","Ted Meyer"]
["40696",null,"District Storage","Surplus - Spring 2023","Bretford A/V Learning Cart",null,"Sold","Cart",{"$nulls":4},"ECILS3-BK","Bretford",null,null,"UnKnown",{"$nulls":12},"6th Grade","01/15/2019 09:59 AM","Ted Meyer"]
["36720",null,"District Storage","Surplus - Spring 2023","ELMO TT-02 Document Camera",null,"Sold","Document Camera",{"$nulls":4},"TT-02","ELMO",{"$nulls":16},"03/07/2019 03:01 PM","Mary Plass"]
["37575","1101850336","District Storage","Surplus - Spring 2023","Gateway 19\" Monitor",null,"Sold","Monitor",{"$nulls":4},"TFT19W80PS","Gateway",{"$nulls":16},"03/20/2019 12:15 PM","Keith Loveless"]
["36749",null,"District Storage","Surplus - Spring 2023","DYNEX wall mounted TV",null,"Sold",{"$nulls":23},"07/29/2023 10:22 AM","Logan Hofius"]
["39493",null,"District Storage","Surplus - Spring 2023","Walkie Talkie CP200 Two-Way Radio",null,"Sold",{"$nulls":23},"07/29/2023 10:22 AM","Logan Hofius"]
["41313","2011270005062000","District Storage","Surplus - Spring 2023","Nook Color",null,"Sold","eReader","2011-06-01","234.06","11-37735","Barnes & Noble","BNRV200","Nook",null,"58671a17a1cd",null,null,"29901-6411",{"$nulls":10},"Library","01/15/2019 08:37 AM","Ted Meyer"]
["47332","MP08HSY8","District Storage","Surplus - Spring 2023","Lenovo ThinkPad Yoga 12 (Core i5-5200U, 8GB, 128GB SSD)",null,"Sold","Laptop","2015-07-06","1,174.00","16-30425","TwoTrees","Yoga 12","Lenovo","HS-CANVAS5-21","34028695b69f","2019/2020",{"$nulls":9},"20DKS1LQ00",{"$nulls":3},"01/15/2019 08:37 AM","Ted Meyer"]
["41674","2800984X","District Storage","Surplus - Spring 2023","Sharp LB-T422U LCD TV 1080p",null,"Sold","TV","2013-04-30","534.36","13-13692","ITSavvy",null,"Sharp",null,null,"2017/2018",null,"27870-6541",{"$nulls":10},"Library","01/15/2019 09:21 AM","Ted Meyer"]
["45798","PB1BWK4","District Storage","Surplus - Spring 2023","Lenovo ThinkPad USB 3.0 Dock",null,"Sold","Dock","2013-05-10","135.00","14-15032","TWOTREES","DU9019D1","Lenovo",null,"843a4b0edbdc",{"$nulls":14},"01/15/2019 09:21 AM","Ted Meyer"]
["42957","MRKF080588L","District Storage","Surplus - Spring 2023","Epson Brightlink 450Wi Projector",null,"Sold","Projector",{"$nulls":4},"Brightlink 450Wi","Epson",null,null,"UnKnown","10.004.019.00",null,"Filter","2018-12-11",{"$nulls":8},"Music","01/15/2019 09:34 AM","Ted Meyer"]
["41302","2011270091732000","District Storage","Surplus - Spring 2023","Nook Color",null,"Sold","eReader","2011-06-01","234.06","11-37735","Barnes & Noble","BNRV200","Nook",null,"58671a18286f","2015/2016",null,"29901-6411",{"$nulls":10},"Library","01/15/2019 09:45 AM","Ted Meyer"]
["45822","PB5ZN6D","District Storage","Surplus - Spring 2023","Lenovo ThinkPad USB 3.0 Dock",null,"Sold","Dock","2013-05-10","135.00","14-15032","TWOTREES","DU9019D1","Lenovo","Surplus","843a4b0edbdc",{"$nulls":7},"2020-07-30",{"$nulls":5},"TECHNOLOGY STG","01/15/2019 09:52 AM","Ted Meyer"]
["46333",null,"District Storage","Surplus - Spring 2023","ELMO TT-02 Document Camera",null,"Sold","Document Camera","2007-03-09","620.00","07-28761","CDWG","TT-02","ELMO",{"$nulls":4},"27870-6541",{"$nulls":11},"01/15/2019 09:52 AM","Ted Meyer"]
["46111","MJ02GK0Q","District Storage","Surplus - Spring 2023","Lenovo ThinkCentre M93P",null,"Sold","Desktop","2015-08-06","1,055.00","16-30894","TwoTrees","M93P","Lenovo","TR304-20","acfdce2d04f7","2019/2020",null,"24488-6542",{"$nulls":3},"Purchased for PLTW",{"$nulls":3},"10A90048US",null,null,"PLTW","01/15/2019 09:59 AM","Ted Meyer"]
["44951","50749342753","District Storage","Surplus - Spring 2023","Microsoft Surface Pro 3",null,"Sold","Laptop","2014-07-21","904.46","15-18827","Microsoft Corporation","Surface Pro 3","Microsoft","HR-SURFACE-01","3059b7162c0a",null,null,"27870-6541",{"$nulls":11},"01/15/2019 10:39 AM","Ted Meyer"]
["50261","P2021CP0","District Storage","Surplus - Spring 2023","Lenovo 300e Chromebook",null,"Sold","Chromebook","2018-06-20","276.49","18-55529","Firefly Computers","300e","Lenovo","KE-PEGS CB-14","a81d1609c36b","2022/2023",null,"100.1211.6412.5020.06100.1.000",{"$nulls":7},"81FY000BUS",null,null,"PEGS","01/15/2019 09:04 AM","Ted Meyer"]
["48075","1S3695QEUMJ51W68MD","District Storage","Surplus - Spring 2023","Lenovo ThinkStation E31",null,"Sold","Desktop","2013-07-13","1,015.00","14-15477","Two Trees","E31","Lenovo",null,null,"2017/2018",null,"27870-6541",{"$nulls":7},"3695QEU",null,null,"Industrial Technology","01/15/2019 09:21 AM","Ted Meyer"]
["49643","MP144MZ5","District Storage","Surplus - Spring 2023","Lenovo ThinkPad Yoga 260 (Core i5-6300U, 8GB, 256GB)",null,"Sold","Laptop","2017-03-27","1,234.90","17-39996","ITsavvy LLC","Yoga 260","Lenovo",null,"e4a4716ba50d","2021/2022",null,"27870-6541",{"$nulls":3},"400-2331-6543-824-000-000",{"$nulls":3},"20FD002DUS",null,null,"Academy","01/15/2019 09:21 AM","Ted Meyer"]
["49701","MP14DXL5","District Storage","Surplus - Spring 2023","Lenovo ThinkPad Yoga 260 (Core i5-6300U, 8GB, 256GB)",null,"Sold","Laptop","2017-03-27","1,234.90","17-39996","ITsavvy LLC","Yoga 260","Lenovo",null,"e4b3189271ce","2021/2022",null,"27870-6541",{"$nulls":3},"400-2331-6543-824-000-000",{"$nulls":3},"20FD002DUS",null,null,"Teacher Assistant","01/15/2019 09:21 AM","Ted Meyer"]
["49384","GESC62700EJX","District Storage","Surplus - Spring 2023","Intel Compute Stick",null,"Sold","Compute Stick","2016-09-26","127.65","17-37447","ITSavvy","STK1AW32SC","Intel",null,null,"2020/2021",null,"27870-6411",{"$nulls":10},"Technology","01/15/2019 09:46 AM","Ted Meyer"]
["49558","MP145CNK","District Storage","Surplus - Spring 2023","Lenovo ThinkPad Yoga 260 (Core i5-6300U, 8GB, 256GB)",null,"Sold","Laptop","2017-03-27","1,234.90","17-39996","ITsavvy LLC","Yoga 260","Lenovo","Repair at Matt's Desk","e4b318d692d7","2021/2022",null,"27870-6541",{"$nulls":3},"400-2331-6543-824-000-000",{"$nulls":3},"20FD002DUS",null,null,"Technology","01/15/2019 09:53 AM","Ted Meyer"]
["49644","MP14DVJM","District Storage","Surplus - Spring 2023","Lenovo ThinkPad Yoga 260 (Core i5-6300U, 8GB, 256GB)",null,"Sold","Laptop","2017-03-27","1,234.90","17-39996","ITsavvy LLC","Yoga 260","Lenovo",null,"e4b3189271ba","2021/2022",null,"27870-6541",{"$nulls":3},"400-2331-6543-824-000-000",{"$nulls":3},"20FD002DUS",null,null,"Technology","01/15/2019 09:53 AM","Ted Meyer"]
["49550","MP145E7W","District Storage","Surplus - Spring 2023","Lenovo ThinkPad Yoga 260 (Core i5-6300U, 8GB, 256GB)",null,"Sold","Laptop","2017-03-27","1,234.90","17-39996","ITsavvy LLC","Yoga 260","Lenovo","SP-LOANER-03","e4b318d5b155","2021/2022",null,"27870-6541",{"$nulls":3},"400-2331-6543-824-000-000",{"$nulls":3},"20FD002DUS",null,null,"English","01/15/2019 10:00 AM","Ted Meyer"]
["50528","P202CYJX","District Storage","Surplus - Spring 2023","Lenovo 500e Chromebook (Gen 1)",null,"Sold","Chromebook","2018-06-19","287.00","19-54624","Firefly Computers","500e","Lenovo","TR15-CB-02","7470fda2cb32","2022/2023",null,"100-1151-6412-3080-07360-1-000",{"$nulls":3},"CHROMEBOOK MANAGEMENT CONSOLE @$23.49\nFIREFLY CHROMEBOOK SUPPORT FOR LENOVO\nLANSCHOOL PERPETUAL PER DEVICE LICENSE WITH 1 YR OF SNS",{"$nulls":3},"81ES0007US","CBRedistribute",null,"English","01/15/2019 10:00 AM","Ted Meyer"]
["47714","P2034V61","District Storage","Surplus - Spring 2023","Lenovo 500e Chromebook (Gen 1)",null,"Sold","Chromebook","2018-10-04","310.49","19-55702","Firefly Computers","500e","Lenovo","TR-LIBLAB1-07","38baf850a0f5","2022/2023",null,"TE PD",{"$nulls":7},"81ES0007US","CBRedistribute",null,"Library","01/15/2019 10:00 AM","Ted Meyer"]
["51185","LR09EAP8","District Storage","Surplus - Spring 2023","Lenovo ThinkPad 11e",null,"Sold","Laptop","2017-06-15","456.90","18-50158","STAPLES","11e","Lenovo","TR-Leap-02 Recycle","e442a6a41ae6","2021/2022",null,"27871-6412",{"$nulls":3},"EXTENDED SERVICE AGREEMENT PARTS AND LABOR 3 YEAR PICK UP AND RETURN TOPSELLER SERVICE @$55.00",{"$nulls":3},"20GB001HUS",null,null,"LEAP","01/15/2019 09:04 AM","Ted Meyer"]
["50766","P202D97D","District Storage","Surplus - Spring 2023","Lenovo 500e Chromebook (Gen 1)",null,"Sold","Chromebook","2018-06-19","287.00","19-54624","Firefly Computers","500e","Lenovo","HSSCML3-CB-17","7c2a311cdcb1","2022/2023",null,"100-1151-6412-1050-07360-1-000",{"$nulls":3},"CHROMEBOOK MANAGEMENT CONSOLE @$23.49\nFIREFLY CHROMEBOOK SUPPORT FOR LENOVO\nLANSCHOOL PERPETUAL PER DEVICE LICENSE WITH 1 YR OF SNS",{"$nulls":3},"81ES0007US","CBRedistribute",null,"Science","01/15/2019 09:21 AM","Ted Meyer"]
["50802","P202D9CX","District Storage","Surplus - Spring 2023","Lenovo 500e Chromebook (Gen 1)",null,"Sold","Chromebook","2018-06-19","287.00","19-54624","Firefly Computers","500e","Lenovo","HSENGML3-CB-25","7c2a311bda37","2022/2023",null,"100-1151-6412-1050-07360-1-000",{"$nulls":3},"CHROMEBOOK MANAGEMENT CONSOLE @$23.49\nFIREFLY CHROMEBOOK SUPPORT FOR LENOVO\nLANSCHOOL PERPETUAL PER DEVICE LICENSE WITH 1 YR OF SNS",{"$nulls":3},"81ES0007US","CBRedistribute",null,null,"01/15/2019 09:21 AM","Ted Meyer"]
["50844","P202DF0G","District Storage","Surplus - Spring 2023","Lenovo 500e Chromebook (Gen 1)",null,"Sold","Chromebook","2018-06-19","287.00","19-54624","Firefly Computers","500e","Lenovo","HSFLML1-CB-11","7c2a311af6e4","2022/2023",null,"100-1151-6412-1050-07360-1-000",{"$nulls":3},"CHROMEBOOK MANAGEMENT CONSOLE @$23.49\nFIREFLY CHROMEBOOK SUPPORT FOR LENOVO\nLANSCHOOL PERPETUAL PER DEVICE LICENSE WITH 1 YR OF SNS",{"$nulls":3},"81ES0007US",null,null,"Modern Language","01/15/2019 09:21 AM","Ted Meyer"]
["50925","P202CY1V","District Storage","Surplus - Spring 2023","Lenovo 500e Chromebook (Gen 1)",null,"Sold","Chromebook","2018-06-19","287.00","19-54624","Firefly Computers","500e","Lenovo","HSACAD-CB-008","7470fda28fa5","2022/2023",null,"100-1151-6412-1050-07360-1-000",{"$nulls":3},"CHROMEBOOK MANAGEMENT CONSOLE @$23.49\nFIREFLY CHROMEBOOK SUPPORT FOR LENOVO\nLANSCHOOL PERPETUAL PER DEVICE LICENSE WITH 1 YR OF SNS",{"$nulls":3},"81ES0007US","Issued for Virtual Learning - COVID-19",null,"Academy","01/15/2019 09:21 AM","Ted Meyer"]
["50957","P202DF0J","District Storage","Surplus - Spring 2023","Lenovo 500e Chromebook (Gen 1)",null,"Sold","Chromebook","2018-06-19","287.00","19-54624","Firefly Computers","500e","Lenovo","Vera Clark","7c2a311a670b","2022/2023",null,"100-1151-6412-1050-07360-1-000",{"$nulls":3},"CHROMEBOOK MANAGEMENT CONSOLE @$23.49FIREFLY CHROMEBOOK SUPPORT FOR LENOVOLANSCHOOL PERPETUAL PER DEVICE LICENSE WITH 1 YR OF SNS",{"$nulls":3},"81ES0007US","Issued for Virtual Learning - COVID-19",null,"3rd Grade","01/15/2019 09:21 AM","Ted Meyer"]
["50992","P202DF26","District Storage","Surplus - Spring 2023","Lenovo 500e Chromebook (Gen 1)",null,"Sold","Chromebook","2018-06-19","287.00","19-54624","Firefly Computers","500e","Lenovo","SP212-CB-05","7c2a311d74a0","2022/2023",null,"100-1151-6412-3070-07360-1-000",{"$nulls":3},"CHROMEBOOK MANAGEMENT CONSOLE @$23.49\nFIREFLY CHROMEBOOK SUPPORT FOR LENOVO\nLANSCHOOL PERPETUAL PER DEVICE LICENSE WITH 1 YR OF SNS",{"$nulls":3},"81ES0007US","CBRedistribute",null,"Social Studies","01/15/2019 09:53 AM","Ted Meyer"]
["50582","P202D9KE","District Storage","Surplus - Spring 2023","Lenovo 500e Chromebook (Gen 1)",null,"Sold","Chromebook","2018-06-19","287.00","19-54624","Firefly Computers","500e","Lenovo","TR222-CB-01","7c2a311b10a2","2022/2023",null,"100-1151-6412-3080-07360-1-000",{"$nulls":3},"CHROMEBOOK MANAGEMENT CONSOLE @$23.49\nFIREFLY CHROMEBOOK SUPPORT FOR LENOVO\nLANSCHOOL PERPETUAL PER DEVICE LICENSE WITH 1 YR OF SNS",{"$nulls":3},"81ES0007US","CBRedistribute",null,"Social Studies","01/15/2019 10:00 AM","Ted Meyer"]
["50618","P202D95U","District Storage","Surplus - Spring 2023","Lenovo 500e Chromebook (Gen 1)",null,"Sold","Chromebook","2018-06-19","287.00","19-54624","Firefly Computers","500e","Lenovo","TRML2-CB-07","7c2a311b3aa0","2022/2023",null,"100-1151-6412-3080-07360-1-000",{"$nulls":3},"CHROMEBOOK MANAGEMENT CONSOLE @$23.49\nFIREFLY CHROMEBOOK SUPPORT FOR LENOVO\nLANSCHOOL PERPETUAL PER DEVICE LICENSE WITH 1 YR OF SNS",{"$nulls":3},"81ES0007US","CBRedistribute",null,"Modern Language","01/15/2019 10:00 AM","Ted Meyer"]
["50636","P202CY61","District Storage","Surplus - Spring 2023","Lenovo 500e Chromebook (Gen 1)",null,"Sold","Chromebook","2018-06-19","287.00","19-54624","Firefly Computers","500e","Lenovo","TRML2-CB-25","7470fda2ade6","2022/2023",null,"100-1151-6412-3080-07360-1-000",{"$nulls":3},"CHROMEBOOK MANAGEMENT CONSOLE @$23.49\nFIREFLY CHROMEBOOK SUPPORT FOR LENOVO\nLANSCHOOL PERPETUAL PER DEVICE LICENSE WITH 1 YR OF SNS",{"$nulls":3},"81ES0007US","CBRedistribute",null,"Modern Language","01/15/2019 10:00 AM","Ted Meyer"]
["50710","P202D0KD","District Storage","Surplus - Spring 2023","Lenovo 500e Chromebook (Gen 1)",null,"Sold","Chromebook","2018-06-19","287.00","19-54624","Firefly Computers","500e","Lenovo","TRML1-CB-17","7470fdc3919b","2022/2023",null,"100-1151-6412-3080-07360-1-000",{"$nulls":3},"CHROMEBOOK MANAGEMENT CONSOLE @$23.49\nFIREFLY CHROMEBOOK SUPPORT FOR LENOVO\nLANSCHOOL PERPETUAL PER DEVICE LICENSE WITH 1 YR OF SNS",{"$nulls":3},"81ES0007US","CBRedistribute",null,"Modern Language","01/15/2019 10:00 AM","Ted Meyer"]
["54135","P2034UEX","District Storage","Surplus - Spring 2023","Lenovo 500e Chromebook (Gen 1)",null,"Sold","Chromebook","2018-10-04","310.49","19-55702","Firefly Computers","500e","Lenovo","CC-LIBLAB1-05","38baf85cb7d7","2022/2023",null,"TE PD",{"$nulls":7},"81ES0007US","CBRedistribute",null,"Library","01/15/2019 08:38 AM","Ted Meyer"]
["53299","R90RBU5K","District Storage","Surplus - Spring 2023","Lenovo ThinkPad L380 Yoga (Core i5-8250U, 8GB, 256GB)",null,"Sold","Laptop","2018-07-10","1,088.56","19-54752","ITsavvy","L380 Yoga","Lenovo",null,"34e12d95b4ba","2022/2023",null,"PURCHASED BY TECHNOLOGY",{"$nulls":7},"20M7000KUS",null,null,"Counselor","01/15/2019 09:22 AM","Ted Meyer"]
["54027","P2034UB3","District Storage","Surplus - Spring 2023","Lenovo 500e Chromebook (Gen 1)",null,"Sold","Chromebook","2018-10-04","310.49","19-55702","Firefly Computers","500e","Lenovo","LO-LIBLAB1-01","38baf85bbefe","2022/2023",null,"TE PD",{"$nulls":7},"81ES0007US",null,null,"Library","01/15/2019 09:35 AM","Ted Meyer"]
["54017","P2034U18","District Storage","Surplus - Spring 2023","Lenovo 500e Chromebook (Gen 1)",null,"Sold","Chromebook","2018-10-04","310.49","19-55702","Firefly Computers","500e","Lenovo",null,"38baf83aca2d","2022/2023",null,"TE PD",{"$nulls":7},"81ES0007US","Issued for Virtual Learning - COVID-19",null,"Technology","01/15/2019 09:46 AM","Ted Meyer"]
["53090","P202E84W","District Storage","Surplus - Spring 2023","Lenovo 500e Chromebook (Gen 1)",null,"Sold","Chromebook","2018-06-19","287.00","19-54624","Firefly Computers","500e","Lenovo","SP218-CB-01","7c7635fc6949","2022/2023",null,"100-1151-6412-3070-07360-1-000",{"$nulls":3},"CHROMEBOOK MANAGEMENT CONSOLE @$23.49\nFIREFLY CHROMEBOOK SUPPORT FOR LENOVO\nLANSCHOOL PERPETUAL PER DEVICE LICENSE WITH 1 YR OF SNS",{"$nulls":3},"81ES0007US","CBRedistribute",null,"Math","01/15/2019 09:53 AM","Ted Meyer"]
["53109","P202D99Q","District Storage","Surplus - Spring 2023","Lenovo 500e Chromebook (Gen 1)",null,"Sold","Chromebook","2018-06-19","287.00","19-54624","Firefly Computers","500e","Lenovo","SP210-CB-05","7c2a311cce56","2022/2023",null,"100-1151-6412-3070-07360-1-000",{"$nulls":3},"CHROMEBOOK MANAGEMENT CONSOLE @$23.49\nFIREFLY CHROMEBOOK SUPPORT FOR LENOVO\nLANSCHOOL PERPETUAL PER DEVICE LICENSE WITH 1 YR OF SNS",{"$nulls":3},"81ES0007US","CBRedistribute",null,"Math","01/15/2019 09:53 AM","Ted Meyer"]
["53177","P202D9G7","District Storage","Surplus - Spring 2023","Lenovo 500e Chromebook (Gen 1)",null,"Sold","Chromebook","2018-06-19","287.00","19-54624","Firefly Computers","500e","Lenovo","SPML3-CB-10","7c2a311bbfac","2022/2023",null,"100-1151-6412-3070-07360-1-000",{"$nulls":3},"CHROMEBOOK MANAGEMENT CONSOLE @$23.49\nFIREFLY CHROMEBOOK SUPPORT FOR LENOVO\nLANSCHOOL PERPETUAL PER DEVICE LICENSE WITH 1 YR OF SNS",{"$nulls":3},"81ES0007US","Issued for Virtual Learning - COVID-19",null,"Modern Language","01/15/2019 09:53 AM","Ted Meyer"]
["53198","P202DUZ2","District Storage","Surplus - Spring 2023","Lenovo 500e Chromebook (Gen 1)",null,"Sold","Chromebook","2018-06-19","287.00","19-54624","Firefly Computers","500e","Lenovo","SPML4-CB-03","7470fd437e02","2022/2023",null,"100-1151-6412-3070-07360-1-000",{"$nulls":3},"CHROMEBOOK MANAGEMENT CONSOLE @$23.49\nFIREFLY CHROMEBOOK SUPPORT FOR LENOVO\nLANSCHOOL PERPETUAL PER DEVICE LICENSE WITH 1 YR OF SNS",{"$nulls":3},"81ES0007US","Issued for Virtual Learning - COVID-19",null,"Modern Language","01/15/2019 09:53 AM","Ted Meyer"]
["53740","YD04Q2K9","District Storage","Surplus - Spring 2023","Lenovo 300e Chromebook",null,"Sold","Chromebook","2018-09-17","270.55","19-55704","CDW-G","300e","Lenovo","SP005-LEAP-01","7470fd7adbe5","2022/2023",null,"TE PD",{"$nulls":7},"81FY000BUS",null,null,"LEAP","01/15/2019 09:53 AM","Ted Meyer"]
["54224","P2033TJK","District Storage","Surplus - Spring 2023","Lenovo 500e Chromebook (Gen 1)",null,"Sold","Chromebook","2018-10-29","314.49","19-56383","Firefly Computers","500e","Lenovo","TRML7-16","38baf85106da","2022/2023",null,"TR PTG PD",null,null,"Grant",{"$nulls":4},"81ES0007US","CBRedistribute",null,null,"01/15/2019 10:00 AM","Ted Meyer"]
["54381","P2033TNJ","District Storage","Surplus - Spring 2023","Lenovo 500e Chromebook (Gen 1)",null,"Sold","Chromebook","2018-11-20","314.49","19-56517","Firefly Computers","500e","Lenovo","SA048-02","38baf85c2060","2022/2023",null,"SA Soda (SA PTG will reimburse)",null,null,"Grant",{"$nulls":4},"81ES0007US","CBRedistribute",null,"4th Grade","01/15/2019 09:46 AM","Ted Meyer"]
["54390","P2033TBM","District Storage","Surplus - Spring 2023","Lenovo 500e Chromebook (Gen 1)",null,"Sold","Chromebook","2018-11-20","314.49","19-56517","Firefly Computers","500e","Lenovo","SA056-03","38baf85dc8b1","2022/2023",null,"SA Soda (SA PTG will reimburse)",null,null,"Grant",{"$nulls":4},"81ES0007US","CBRedistribute",null,"5th Grade","01/15/2019 09:46 AM","Ted Meyer"]
["54706","P2033UCL","District Storage","Surplus - Spring 2023","Lenovo 500e Chromebook (Gen 1)",null,"Sold","Chromebook","2019-01-10","314.49","19-57076","Firefly Computers","500e","Lenovo","SPML9-30","38baf85ddfc7","2023/2024",null,"SP PD PTO Reimburse",null,null,"Grant",{"$nulls":4},"81ES0007US","CBRedistribute",null,null,"01/15/2019 09:53 AM","Ted Meyer"]
["55374","P204V6XJ","District Storage","Surplus - Spring 2023","Lenovo 500e Chromebook (Gen 2)",null,"Sold","Chromebook","2019-07-11","309.00","20-57400","Firefly Computers","500e","Lenovo","HSACAD-71","58a0235c9e23","2024/2025",null,"TE PD",{"$nulls":6},"Impact Study (Moved to Academy due to shortage)","81MC001EUS","Issued for Virtual Learning - COVID-19",null,"Technology","07/11/2019 10:33 AM","Mary Plass"]
["55099","P204V82G","District Storage","Surplus - Spring 2023","Lenovo 500e Chromebook (Gen 2)",null,"Sold","Chromebook","2019-07-11","309.00","20-57400","Firefly Computers","500e","Lenovo","ISLAB9-22","58a023391b79","2024/2025",null,"TE PD",{"$nulls":6},"Impact Study","81MC001EUS","Issued for Virtual Learning - COVID-19",null,null,"07/11/2019 10:33 AM","Mary Plass"]
["55118","P204V7RQ","District Storage","Surplus - Spring 2023","Lenovo 500e Chromebook (Gen 2)",null,"Sold","Chromebook","2019-07-11","309.00","20-57400","Firefly Computers","500e","Lenovo","ISLAB11-09","58a023390b2f","2024/2025",null,"TE PD",{"$nulls":6},"Impact Study","81MC001EUS","Issued for Virtual Learning - COVID-19",null,"Science","07/11/2019 10:33 AM","Mary Plass"]
["54932","P2035YLE","District Storage","Surplus - Spring 2023","Lenovo 500e Chromebook (Gen 1)",null,"Sold","Chromebook","2019-07-10","295.00","20-57600","Firefly Computers","500e","Lenovo","Ella Wolfard","00bb60647b16","2024/2025",null,"TE PD",{"$nulls":6},"IMPACT STUDY","81ES0007US",null,null,"Technology","07/15/2019 03:09 PM","Mary Plass"]
["56320","R90VG3EV","District Storage","Surplus - Spring 2023","Lenovo ThinkPad L380 Yoga (Core i5-8250U, 8GB, 256GB)",null,"Sold","Laptop","2019-07-24","865.00","19-58509","Firefly Computers","L380 Yoga","Lenovo","Meredith Holtmann","84fdd1678db0","2024/2025",null,"TE PD",{"$nulls":7},"20M7000MUS",{"$nulls":3},"07/24/2019 02:13 PM","Mary Plass"]
["56352","R90VG3E5","District Storage","Surplus - Spring 2023","Lenovo ThinkPad L380 Yoga (Core i5-8250U, 8GB, 256GB)",null,"Sold","Laptop","2019-07-24","865.00","19-58509","Firefly Computers","L380 Yoga","Lenovo","Margaret Brady","84fdd16777c6","2024/2025",null,"TE PD",{"$nulls":7},"20M7000MUS",{"$nulls":3},"07/24/2019 02:13 PM","Mary Plass"]
["56443","R90VKG7A","District Storage","Surplus - Spring 2023","Lenovo ThinkPad L380 Yoga (Core i5-8250U, 8GB, 256GB)",null,"Sold","Laptop","2019-07-24","865.00","20-57411","Firefly Computers","L380 Yoga","Lenovo","Amy Becker","d4d252872c5b","2024/2025",null,"TE PD",{"$nulls":7},"20M7000MUS",{"$nulls":3},"07/31/2019 06:37 AM","Jan Liebel"]
["56485","R90VS9XD","District Storage","Surplus - Spring 2023","Lenovo ThinkPad L380 Yoga (Core i5-8250U, 8GB, 256GB)",null,"Sold","Laptop","2019-08-29","865.00","20-57467","Firefly Computers","L380 Yoga","Lenovo","Corie McKean","24ee9a694600","2024/2025",null,"TE PD",{"$nulls":7},"20M7000KUS",null,null,"Kindergarten","08/29/2019 09:05 AM","Jan Liebel"]
["50516","DMPWVNE1JF8J","District Storage","Surplus - iPad Summer 2023","Apple iPad 32GB WIFI (6th Gen)",null,"Sold","iPad","2018-06-21","294.00","18-55426","Apple","MR7F2LL/A","Apple","21-06","a056f3d52f10","2022/2023",null,"27871-6412",{"$nulls":7},"A1893","IPRedistribute",null,"Kindergarten","01/15/2019 08:38 AM","Ted Meyer"]
["51496","F9FTMN62HLFD","District Storage","Surplus - iPad Summer 2023","Apple iPad 128GB WIFI (5th Gen)",null,"Sold","iPad",{"$nulls":4},"MP2H2LL/A","Apple","KEPEGS-I6-08","dca904513a5d","UnKnown",{"$nulls":9},"A1822",null,null,"PEGS","01/15/2019 09:04 AM","Ted Meyer"]
["53575","DMPX5MNEJF8J","District Storage","Surplus - iPad Summer 2023","Apple iPad 32GB WIFI (6th Gen)",null,"Sold","iPad","2018-07-11","294.00","19-54486","Apple","MR7F2LL/A","Apple","321-02","241b7a15a573","2022/2023",null,"C&amp;I PD",null,null,"Dept Budget",{"$nulls":4},"A1893",null,null,"Modern Language","01/15/2019 09:22 AM","Ted Meyer"]
["55516","DMPYWVJ0JF8J","District Storage","Surplus - iPad Summer 2023","Apple iPad 32GB WIFI (6th Gen)",null,"Sold","iPad","2019-06-25","294.00","20-57432","Apple","PR8A2LL/A","Apple","DR119-02","c42ad0da394f","2024/2025",null,"TE PD",{"$nulls":7},"A1893","IPRedistribute",null,"4th Grade","06/27/2019 10:19 AM","Mary Plass"]
["56221","DMPYWW87JF8J","District Storage","Surplus - iPad Summer 2023","Apple iPad 32GB WIFI (6th Gen)",null,"Sold","iPad","2019-06-25","294.00","20-57432","Apple","PR8A2LL/A","Apple","ISLAB35-18","c42ad0d819a5","2024/2025",null,"TE PD",{"$nulls":7},"A1893","IPRedistribute",null,"Social Studies","06/27/2019 10:19 AM","Mary Plass"]
["55590","DMQYR3JRJF8J","District Storage","Surplus - iPad Summer 2023","Apple iPad 32GB WIFI (6th Gen)",null,"Sold","iPad","2019-06-25","294.00","20-57432","Apple","PR8A2LL/A","Apple",null,"c42ad0d87df4","2024/2025",null,"TE PD",{"$nulls":6},"Cracked Screen. Sending to copilot.","A1893",{"$nulls":3},"06/27/2019 10:19 AM","Mary Plass"]
["52202","LR099D71","District Storage","CO Surplus 2021","Lenovo ThinkPad 11e",null,"Sold","Laptop","2017-09-26","458.25","18-51735","SoftChoice","11e","Lenovo","HSLIBML4-16","e442a6242502","2021/2022",null,"17821-6412",null,null,"Building Budget",{"$nulls":4},"20GBS00S00",{"$nulls":3},"01/15/2019 09:21 AM","Ted Meyer"]
["38279","L3AGL9M","District Storage","CO Surplus 2021","Lenovo ThinkPad x200T Tablet Laptop",null,"Sold","Laptop","2009-06-05","1,569.00","10-33737","Lenovo","x200t","Lenovo",null,null,"2013/2014",null,"27870-6541",{"$nulls":10},"LEAP","01/15/2019 09:52 AM","Ted Meyer"]
["46376","SLR03U1UX","District Storage","CO Surplus 2021","Lenovo ThinkPad 11e",null,"Sold","Laptop","2015-05-20","473.00","15-22831","TwoTrees Technologies, LLC","11e","Lenovo","LEAP-001","104a7d1a9fa0","2019/2020",null,"3069-6542",{"$nulls":7},"20DAS0VX00",null,null,"LEAP","01/15/2019 09:52 AM","Ted Meyer"]
["46386","SLR03U1V6","District Storage","CO Surplus 2021","Lenovo ThinkPad 11e",null,"Sold","Laptop","2015-05-20","473.00","15-22831","TwoTrees Technologies, LLC","11e","Lenovo",null,"104a7d1a9794","2019/2020",null,"3069-6542",{"$nulls":7},"20DAS0VX00",null,null,"LEAP","01/15/2019 09:52 AM","Ted Meyer"]
["43237","LRC43X3","District Storage","CO Surplus 2021","Lenovo ThinkPad X130e",null,"Sold","Laptop","2012-05-18","573.00","12-40254","Two Trees","X130e","Lenovo",null,null,"2016/2017",null,"27870-6541",{"$nulls":10},"LEAP","01/15/2019 09:52 AM","Ted Meyer"]
["36350",null,"District Storage","HS 2022 Surplus","Bretford A/V Learning Cart",null,"Sold","Cart","2007-09-04","305.00","08-29976","CDWG","ECILS3-BK","Bretford",{"$nulls":4},"27870-6541",{"$nulls":11},"01/15/2019 09:21 AM","Ted Meyer"]
["45713","PB5ZN3W","District Storage","HS 2022 Surplus","Lenovo ThinkPad USB 3.0 Dock",null,"Sold","Dock","2013-05-10","135.00","14-15032","TWOTREES","DU9019D1","Lenovo",null,"843a4b0edbdc",{"$nulls":14},"01/15/2019 09:21 AM","Ted Meyer"]
["45807","PB6BW0A","District Storage","HS 2022 Surplus","Lenovo ThinkPad USB 3.0 Dock",null,"Sold","Dock","2013-05-10","135.00","14-15032","TWOTREES","DU9019D1","Lenovo",null,"843a4b0edbdc",{"$nulls":13},"Science","01/15/2019 09:21 AM","Ted Meyer"]
["44074",null,"District Storage","HS 2022 Surplus","Epson Brightlink 450Wi Projector",null,"Sold","Projector",{"$nulls":4},"Brightlink 450Wi","Epson","Bryan Peske",null,"UnKnown","10.0.19.204",null,"Filter","2016-03-24",{"$nulls":8},"Social Studies","01/15/2019 09:21 AM","Ted Meyer"]
["46300","514444","District Storage","HS 2022 Surplus","ELMO TT-02RX Document Camera",null,"Sold","Document Camera",{"$nulls":4},"TT-02RX","ELMO",{"$nulls":15},"Social Studies","01/15/2019 09:21 AM","Ted Meyer"]
["42318","544910","District Storage","HS 2022 Surplus","ELMO TT-02RX Document Camera",null,"Sold","Document Camera",{"$nulls":4},"TT-02RX","ELMO",{"$nulls":15},"Technology","01/15/2019 09:34 AM","Ted Meyer"]
["43638","DMPJ972XDJ8T","District Storage","SURPLUS CO 215","Apple iPad 16GB WIFI (3rd Gen)",null,"Disposed","iPad","2012-08-22","479.00","13-10778","Apple","MC705LL/A","Apple",null,"d8004ddc1bfa","2016/2017",null,"27870-6541",{"$nulls":7},"A1416",null,null,"TECHNOLOGY STG","01/15/2019 08:37 AM","Ted Meyer"]
["43651","DMPJ9DENDJ8T","District Storage","SURPLUS CO 215","Apple iPad 16GB WIFI (3rd Gen)",null,"Disposed","iPad","2012-08-22","479.00","13-10778","Apple","MC705LL/A","Apple",null,"d8004dddc9c5","2016/2017",null,"27870-6541",{"$nulls":7},"A1416",null,null,"TECHNOLOGY STG","01/15/2019 08:37 AM","Ted Meyer"]
["43696","DMPJ986DDJ8T","District Storage","SURPLUS CO 215","Apple iPad 16GB WIFI (3rd Gen)",null,"Disposed","iPad","2012-08-22","479.00","13-10778","Apple","MC705LL/A","Apple",null,"d8004ddb0b48","2016/2017",null,"27870-6541",{"$nulls":7},"A1416",null,null,"TECHNOLOGY STG","01/15/2019 08:37 AM","Ted Meyer"]
["38094","4750676-0001","District Storage","SURPLUS CO 215","Gateway E-265M Laptop",null,"Disposed","Laptop","2008-07-02","1,050.00","09-31838","MPC/Gateway","E-265M","Gateway",{"$nulls":4},"27870-6541",{"$nulls":3},"80GB harddrive, intel core 2 duo processor 2.0ghz, 1024 mb sdram",{"$nulls":6},"TECHNOLOGY STG","01/15/2019 09:01 AM","Ted Meyer"]
["43757","DMPJ97EMDJ8T","District Storage","SURPLUS CO 215","Apple iPad 16GB WIFI (3rd Gen)",null,"Disposed","iPad","2012-08-22","479.00","13-10778","Apple","MC705LL/A","Apple",null,"d8004ddaa928","2016/2017",null,"27870-6541",{"$nulls":7},"A1416",null,null,"TECHNOLOGY STG","01/15/2019 09:04 AM","Ted Meyer"]
["43037","DMPHNCD2DJ8T","District Storage","SURPLUS CO 215","Apple iPad 16GB WIFI (3rd Gen)",null,"Disposed","iPad","2012-05-07","479.00","12-40102","Apple","MD339LL/A","Apple",null,"64200c79a047","2016/2017",null,"31213-6541",{"$nulls":7},"A1416",null,null,"TECHNOLOGY STG","01/15/2019 10:07 AM","Ted Meyer"]
["43724","DMQJ889JDJ8T","District Storage","SURPLUS CO 215","Apple iPad 16GB WIFI (3rd Gen)",null,"Disposed","iPad","2012-08-22",null,"13-10778",null,"MC705LL/A","Apple",null,"d8004dd942c5","2016/2017",null,"27870-6541",{"$nulls":7},"A1416",null,null,"TECHNOLOGY STG","01/15/2019 10:07 AM","Ted Meyer"]
["43745","DMPJ9DJ7DJ8T","District Storage","SURPLUS CO 215","Apple iPad 16GB WIFI (3rd Gen)",null,"Disposed","iPad","2012-08-22",null,"13-10778",null,"MC705LL/A","Apple",null,"d9004dde3748","2016/2017",null,"27870-6541",{"$nulls":7},"A1416",null,null,"TECHNOLOGY STG","01/15/2019 10:07 AM","Ted Meyer"]
["43667","DMQJ8AAADJ8T","District Storage","SURPLUS CO 215","Apple iPad 16GB WIFI (3rd Gen)",null,"Disposed","iPad","2012-08-22","479.00","13-10778","Apple","MC705LL/A","Apple",null,"98fe94cf512a","2016/2017",null,"27870-6541",{"$nulls":7},"A1416",null,null,"TECHNOLOGY STG","01/15/2019 10:39 AM","Ted Meyer"]
["43814","DMQJ87W1DJ8T","District Storage","SURPLUS CO 215","Apple iPad 16GB WIFI (3rd Gen)",null,"Disposed","iPad","2012-08-22","479.00","13-10778","Apple","MC705LL/A","Apple",null,"98fe94ceea15","2016/2017",null,"27870-6541",{"$nulls":7},"A1416",null,null,"TECHNOLOGY STG","01/15/2019 10:39 AM","Ted Meyer"]
["43838","DMPJ96WKDJ8T","District Storage","SURPLUS CO 215","Apple iPad 16GB WIFI (3rd Gen)",null,"Disposed","iPad","2012-08-22","479.00","13-10778","Apple","MC705LL/A","Apple",null,"d8004ddccf2e","2016/2017",null,"27870-6541",{"$nulls":7},"A1416",null,null,"TECHNOLOGY STG","01/15/2019 10:39 AM","Ted Meyer"]
["39220","108364","District Storage","SURPLUS TR 020","ELMO TT-02s Document Camera",null,"Disposed","Document Camera","2007-09-04","550.00","08-29976","CDWG","TT-02s","ELMO",{"$nulls":4},"27870-6541",{"$nulls":10},"4th Grade","01/15/2019 08:37 AM","Ted Meyer"]
["40329","R9-4P7X6","District Storage","SURPLUS TR 020","Lenovo ThinkPad x201T Tablet Laptop",null,"Disposed","Laptop",{"$nulls":4},"x201T","Lenovo",null,null,"UnKnown",{"$nulls":12},"Technology","01/15/2019 09:04 AM","Ted Meyer"]
["41969","RF2CB0KLVNE","District Storage","SURPLUS TR 020","Samsung Galaxy Tab II  7inch 8GB",null,"Disposed","Tablet","2012-11-21","181.00","13-11987","Two Trees","GT-P3113","Samsung",null,"845181a8d6c9",null,null,"27870-6541",{"$nulls":10},"Library","01/15/2019 09:21 AM","Ted Meyer"]
["38488",null,"District Storage","SURPLUS TR 020","Lenovo Thinkpad X220 Ultrabase Base",null,"Disposed","Docking Station",{"$nulls":4},"x200 Ultrabase","Lenovo",null,null,"UnKnown",{"$nulls":8},"Key# H32",{"$nulls":3},"SSD","01/15/2019 09:52 AM","Ted Meyer"]
["31899","E51A40560","District Storage","SURPLUS TR 020","Panasonic DVD/VCR Combination Unit",null,"Disposed","VCR/DVD Combo","2005-06-06","126.10","06-24871","CSD","PV-D4745","Panasonic",{"$nulls":15},"Library","01/15/2019 09:59 AM","Ted Meyer"]
["38165","L3AGM3F","District Storage","SURPLUS TR 020","Lenovo ThinkPad x200T Tablet Laptop",null,"Disposed","Laptop","2009-06-05","1,569.00","10-33737","Lenovo","x200t","Lenovo",{"$nulls":4},"27870-6541",{"$nulls":10},"SSD","01/15/2019 10:07 AM","Ted Meyer"]
["40940","LR5A420","District Storage","SURPLUS TR 020","Lenovo Thinkpad x120e",null,"Disposed","Laptop","2011-05-17","498.00","11-37629","TwoTrees Technologies","X120e","Lenovo",null,"68a3c4ab96f4",null,null,"30010-6542",{"$nulls":10},"Technology","01/15/2019 10:07 AM","Ted Meyer"]
["41178","LR8B98W","District Storage","SURPLUS TR 020","Lenovo Thinkpad x120e",null,"Disposed","Laptop","2011-05-17","498.00","11-37629","TwoTrees Technologies","X120e","Lenovo",null,"68a3c4ed3f11",null,null,"30010-6542",{"$nulls":10},"Technology","01/15/2019 10:07 AM","Ted Meyer"]
["41439","LR5K0MR","District Storage","SURPLUS TR 020","Lenovo Thinkpad x120e",null,"Disposed","Laptop",{"$nulls":4},"X120e","Lenovo",null,"d0df9a4a7d71","UnKnown",{"$nulls":12},"Technology","01/15/2019 10:07 AM","Ted Meyer"]
["40898",null,"District Storage","SURPLUS TR 020","Lenovo Thinkpad x120e",null,"Disposed","Laptop",{"$nulls":4},"X120e","Lenovo",{"$nulls":15},"TECHNOLOGY STG","06/20/2019 11:02 AM","Sonia Kesselring"]
["NA","U64965G8N571449","District Storage","SURPLUS TR 020","Brother HL-L2370DW Printer",null,"Disposed","Printer",{"$nulls":4},"HL-L2370DW","Brother",{"$nulls":16},"06/02/2021 02:57 PM","Keith Loveless"]
["46304","MJHANXG","District Storage","SURPLUS TR 020","Lenovo ThinkCentre M91p",null,"Disposed","Desktop",{"$nulls":4},"M91p","Lenovo",null,null,"UnKnown",{"$nulls":12},"Nurse Office","01/15/2019 09:01 AM","Ted Meyer"]
["45324","PB7GVR2","District Storage","SURPLUS TR 020","Lenovo ThinkPad X131e",null,"Disposed","Laptop","2013-05-20","508.00","13-13931","Two Trees","X131e","Lenovo","HSDRSC-25","f4b7e2d2802d",null,null,"27870-6541",{"$nulls":11},"01/15/2019 09:21 AM","Ted Meyer"]
["42824","LR0LHXN","District Storage","SURPLUS TR 020","Lenovo ThinkPad X130e",null,"Disposed","Laptop","2012-05-18","573.00","12-40254","Two Trees","X130e","Lenovo","SP100-06","9cb70d1ffcc2",null,null,"27870-6541",{"$nulls":11},"01/15/2019 09:52 AM","Ted Meyer"]
["42832","LR0LHRE","District Storage","SURPLUS TR 020","Lenovo ThinkPad X130e",null,"Disposed","Laptop","2012-05-18","573.00","12-40254","Two Trees","X130e","Lenovo",null,"9cb70d1ffc0f",null,null,"27870-6541",{"$nulls":11},"01/15/2019 09:52 AM","Ted Meyer"]
["44132","MRKF060587L","District Storage","SURPLUS TR 020","Epson Brightlink 450Wi Projector",null,"Disposed","Projector",{"$nulls":4},"Brightlink 450Wi","Epson",null,null,"UnKnown","10.6.19.219",null,"Filter","2018-12-03",{"$nulls":8},"English","01/15/2019 09:59 AM","Ted Meyer"]
["071511",null,"District Storage","SURPLUS TR 020","SSD Gateway na1",null,"Disposed","Laptop",{"$nulls":21},"2nd Grade","06/26/2019 08:51 AM","Matthew Brenner"]
["077574",null,"District Storage","SURPLUS TR 020","SSD X200",null,"Disposed","Laptop",{"$nulls":21},"2nd Grade","06/26/2019 09:01 AM","Matthew Brenner"]
["41665","DMQKD7K9F182","District Storage","TR Warehouse Surplus Summer 2022","Apple iPad 16GB WIFI (4th Gen)",null,"Disposed","iPad","2013-03-21","499.00","13-13190","Apple","MD510LL/A","Apple","SSD41641-02","60fecc5a13233","2017/2018",null,"27870-6541",{"$nulls":7},"A1458",null,null,"SSD","01/15/2019 08:37 AM","Ted Meyer"]
["35692","MJ046YVH","District Storage","TR Warehouse Surplus Summer 2022","Lenovo ThinkCentre M700 10HY Tiny Desktop (Core i3-6100T, 8GB, 128GB)",null,"Disposed","Desktop","2016-07-25","430.05","17-36702","ITsavvy","M700","Lenovo","KELIBCIRM-01",null,"2020/2021",null,"27870-6541",{"$nulls":3},"400-2331-6543-824-000-000",{"$nulls":3},"10HY0021US",null,null,"Library","01/15/2019 09:04 AM","Ted Meyer"]
["40218","MJTXA22","District Storage","TR Warehouse Surplus Summer 2022","Lenovo ThinkStation E20",null,"Disposed","Desktop","2010-05-25","898.00","11-35519","Lenovo","E20","Lenovo","HSMUSIC-03",null,"2014/2015",null,"27870-6541",{"$nulls":7},"4220W5B",null,null,"Music","01/15/2019 09:21 AM","Ted Meyer"]
["41393","V8-W3168","District Storage","TR Warehouse Surplus Summer 2022","Lenovo ThinkVision 22\" LCD Monitor",null,"Disposed","Monitor","2011-08-17","180.00","12-37763","Lenovo","L2250p","Lenovo",{"$nulls":4},"27870-6541",{"$nulls":11},"01/15/2019 09:21 AM","Ted Meyer"]
["43336","R9-PEGAH","District Storage","TR Warehouse Surplus Summer 2022","Lenovo ThinkPad x220 Tablet Laptop",null,"Disposed","Laptop","2012-08-27","1,550.00","13-10812","Two Trees","X220","Lenovo","HSLIBMLC1-12","8c705a910b04","2016/2017",null,"27870-6541",{"$nulls":7},"42963MU",null,null,"Library","01/15/2019 09:21 AM","Ted Meyer"]
["41546","DMQJF1PCF182","District Storage","TR Warehouse Surplus Summer 2022","Apple iPad 16GB WIFI (4th Gen)",null,"Disposed","iPad","2012-11-15","499.00","13-11912","Apple","MD510LL/A","Apple","1-05","34c0595debe1","2016/2017",null,"27870-6541",{"$nulls":7},"A1458",null,null,"LEAP","01/15/2019 09:52 AM","Ted Meyer"]
["41796","PB44H7R","District Storage","TR Warehouse Surplus Summer 2022","Lenovo ThinkPad X131e",null,"Disposed","Laptop","2012-11-27","715.00","13-12007","TwoTrees","X131e","Lenovo","TR136-02 Surplus 2020-2021","083e8eaf1917",null,null,"31590-6542",{"$nulls":11},"01/15/2019 09:59 AM","Ted Meyer"]
["37004","MWT70BON00767","District Storage","TR Warehouse Surplus Summer 2022","Gateway Core 2 Duo1.8 GHz 1024 MB Ram CPU",null,"Disposed","Desktop",{"$nulls":5},"Gateway",{"$nulls":15},"Principal","01/15/2019 10:07 AM","Ted Meyer"]
["43526","DMPJ9BLTDJ8T","District Storage","TR Warehouse Surplus Summer 2022","Apple iPad 16GB WIFI (3rd Gen)",null,"Disposed","iPad","2012-08-22","479.00","13-10778","Apple","MC705LL/A","Apple",null,"d8004ddee343",null,null,"27870-6541",{"$nulls":7},"A1416",null,null,"Kindergarten","01/15/2019 10:39 AM","Ted Meyer"]
["41501","V8K3485","District Storage","TR Warehouse Surplus Summer 2022","Lenovo ThinkVision 22\" LCD Monitor",null,"Disposed","Monitor",{"$nulls":4},"L2250pw","Lenovo",{"$nulls":16},"03/20/2019 12:57 PM","Keith Loveless"]
["47333","MP08HSAT","District Storage","TR Warehouse Surplus Summer 2022","Lenovo ThinkPad Yoga 12 (Core i5-5200U, 8GB, 128GB SSD)",null,"Disposed","Laptop","2015-07-06","1,174.00","16-30425","TwoTrees","Yoga 12","Lenovo","Sandy Trokey","6057186e59c4","2019/2020",{"$nulls":9},"20DKS1LQ00",{"$nulls":3},"01/15/2019 08:37 AM","Ted Meyer"]
["45557","PB7HCF8","District Storage","TR Warehouse Surplus Summer 2022","Lenovo ThinkPad X131e",null,"Disposed","Laptop","2013-05-20","508.00","13-13931","Two Trees","X131e","Lenovo","HSCANVAS1-25","f4b7e2d288f3","2017/2018",null,"27870-6541",{"$nulls":11},"01/15/2019 09:21 AM","Ted Meyer"]
["44628","PF020R7R","District Storage","TR Warehouse Surplus Summer 2022","Lenovo ThinkPad Edge E540",null,"Disposed","Laptop","2014-07-21","670.74","15-18830","ITsavvy","E540","Lenovo","HS315ML-07","a0a8cd8ab849","2018/2019",{"$nulls":9},"20C6S01Q00",{"$nulls":3},"01/15/2019 09:21 AM","Ted Meyer"]
["47523","MJ02S1BM","District Storage","TR Warehouse Surplus Summer 2022","Lenovo ThinkCentre M73 10AY - Tiny Desktop (Core i3-4150T, 4GB, 500GB HDD)",null,"Disposed","Desktop","2015-10-13","425.00","16-31985","TwoTrees Technologies, LLC","M37","Lenovo","HS-AALTGILBERS",null,"2019/2020",null,"27870-6541",{"$nulls":3},"400-2331-6541-824-000-000\nw/3year onsite top seller warranty",{"$nulls":3},"10AY0082US",null,null,"Guidance","01/15/2019 09:21 AM","Ted Meyer"]
["47308","PC06CWR4","District Storage","TR Warehouse Surplus Summer 2022","Lenovo ThinkPad Onelink Pro Dock for Thinkpad Yoga",null,"Disposed","Dock","2015-07-06","132.00","16-30425","TWOTREES","DU9033S1","Lenovo","Sappington 049",null,"2019/2020",{"$nulls":12},"4th Grade","01/15/2019 09:46 AM","Ted Meyer"]
["47993","F9HNPK2WF196","District Storage","TR Warehouse Surplus Summer 2022","iPad mini DonorsChoose.org/#BestSchoolDay Grant 1/5",null,"Disposed","iPad","2016-03-17",null,null,"Amazon","iPad Mini","Apple","Elizabeth Hageman","18ee69b7b680","2020/2021",{"$nulls":4},"Grant","DonorsChoose.org/#BestSchoolDay Jack Dorsey",{"$nulls":3},"A1432",null,null,"2nd Grade","01/15/2019 09:46 AM","Ted Meyer"]
["47446","MJ02HLM1","District Storage","TR Warehouse Surplus Summer 2022","Lenovo ThinkCentre M93",null,"Disposed","Desktop",{"$nulls":4},"M93","Lenovo",null,null,"UnKnown",{"$nulls":9},"10A90048US",null,null,"Industrial Technology","01/15/2019 09:52 AM","Ted Meyer"]
["45243","K1315004440","District Storage","TR Warehouse Surplus Summer 2022","Lenovo ThinkPad USB 3.0 Dock",null,"Disposed","Dock","2013-05-10","135.00","14-15032","TWOTREES","DU9019D1","Lenovo","Surplus 2021-2022","843a4b0edbdc",{"$nulls":13},"Modern Language","01/15/2019 09:59 AM","Ted Meyer"]
["46113","MJ02GK0M","District Storage","TR Warehouse Surplus Summer 2022","Lenovo ThinkCentre M93P",null,"Disposed","Desktop","2015-08-06","1,055.00","16-30894","TwoTrees","M93P","Lenovo","TR304-18","acfdce2c3701","2019/2020",null,"24488-6542",{"$nulls":3},"Purchased for PLTW",{"$nulls":3},"10A90048US",null,null,"PLTW","01/15/2019 10:00 AM","Ted Meyer"]
["45697","PB5ZH3A","District Storage","TR Warehouse Surplus Summer 2022","Lenovo ThinkPad USB 3.0 Dock",null,"Disposed","Dock","2013-05-10","135.00","14-15032","TWOTREES","DU9019D1","Lenovo","Surplus 2021-2022","843a4b0edbdc",{"$nulls":13},"Technology","01/15/2019 10:39 AM","Ted Meyer"]
["54155","P2034UB8","District Storage","TR Warehouse Surplus Summer 2022","Lenovo 500e Chromebook (Gen 1)",null,"Disposed","Chromebook","2018-10-04","310.49","19-55702","Firefly Computers","500e","Lenovo","CC-LIBLAB1-25","38baf85bb747","2022/2023",null,"TE PD",{"$nulls":7},"81ES0007US","CBRedistribute",null,"Library","01/15/2019 08:38 AM","Ted Meyer"]
["49878","MJ05F81B","District Storage","TR Warehouse Surplus Summer 2022","Lenovo ThinkCentre M910z (Core i5-7500, 8GB, 500GB HDD)",null,"Disposed","Desktop","2017-07-18","1,163.44","18-50498","ITsavvy","M910z","Lenovo","DRCAFE-002",{"$nulls":3},"39038-65421",null,null,"Building Budget","Prop G",{"$nulls":3},"10NR000MUS",{"$nulls":3},"01/15/2019 08:40 AM","Ted Meyer"]
["51840","LR09EAPU","District Storage","TR Warehouse Surplus Summer 2022","Lenovo ThinkPad 11e",null,"Disposed","Laptop","2017-06-15","456.90","18-50158","STAPLES","11e","Lenovo","HSENGML1-19","e442a6a41b90","2021/2022",null,"27873-6412",{"$nulls":3},"EXTENDED SERVICE AGREEMENT PARTS AND LABOR 3 YEAR PICK UP AND RETURN TOPSELLER SERVICE @$55.00",{"$nulls":3},"20GB001HUS",null,null,"Yearbook","01/15/2019 09:21 AM","Ted Meyer"]
["49972","MJ05N1QG","District Storage","TR Warehouse Surplus Summer 2022","Lenovo ThinkCentre M9108 (Core i5-7500, 8GB, 1TB HDD)",null,"Disposed","Desktop","2017-08-14","755.41","18-50422","Staples","M92108","Lenovo","Carrie Rapp",null,"2021/2022",null,"27873-6412",{"$nulls":7},"10MK000QUS",null,null,"Yearbook","01/15/2019 09:21 AM","Ted Meyer"]
["49999","MJ05N1RF","District Storage","TR Warehouse Surplus Summer 2022","Lenovo ThinkCentre M9108 (Core i5-7500, 8GB, 1TB HDD)",null,"Disposed","Desktop","2017-08-14","755.41","18-50422","Staples","M92108","Lenovo","Blackwood/Imboden",null,"2021/2022",null,"27873-6412",{"$nulls":7},"10MK000QUS",null,null,"Attendance Office","01/15/2019 09:21 AM","Ted Meyer"]
["51002","P202CZDW","District Storage","TR Warehouse Surplus Summer 2022","Lenovo 500e Chromebook (Gen 1)",null,"Disposed","Chromebook","2018-06-19","287.00","19-54624","Firefly Computers","500e","Lenovo","SP102-CB-05","7470fda44a5c","2022/2023",null,"100-1151-6412-3070-07360-1-000",{"$nulls":3},"CHROMEBOOK MANAGEMENT CONSOLE @$23.49\nFIREFLY CHROMEBOOK SUPPORT FOR LENOVO\nLANSCHOOL PERPETUAL PER DEVICE LICENSE WITH 1 YR OF SNS",{"$nulls":3},"81ES0007US","CBRedistribute",null,"Social Studies","01/15/2019 09:53 AM","Ted Meyer"]
["54345","P2034UFH","District Storage","TR Warehouse Surplus Summer 2022","Lenovo 500e Chromebook (Gen 1)",null,"Disposed","Chromebook","2018-10-04","310.49","19-55702","Firefly Computers","500e","Lenovo","SP-LIBLAB1-20","38baf83cc292","2022/2023",null,"TE PD",{"$nulls":7},"81ES0007US",null,null,"Library","01/15/2019 09:53 AM","Ted Meyer"]
["53980",null,"District Storage","TR Warehouse Surplus Summer 2022","Lenovo ThinkCentre M93z 10AF All In One",null,"Disposed","Desktop",{"$nulls":4},"M93p","ThinkCentre",{"$nulls":12},"10AD0001US",null,null,"Cafeteria","03/21/2019 09:38 AM","Ann Barton"]
["55042","P204UMDW","District Storage","TR Warehouse Surplus Summer 2022","Lenovo 500e Chromebook (Gen 2)",null,"Disposed","Chromebook","2019-07-11","309.00","20-57400","Firefly Computers","500e","Lenovo","ISLAB15-04","3cf011df3af4","2024/2025",null,"TE PD",{"$nulls":6},"Impact Study","81MC001EUS",null,null,"Technology","07/11/2019 10:33 AM","Mary Plass"]
["43497","R9L8T5F","ATS","ATS","Lenovo Thinkpad X220 Ultrabase Base",null,"Disposed","Docking Station","2012-05-21","1,550.00","12-40270","Two Trees","x220 Ultrabase","Lenovo","Donna Woodland",null,"2016/2017",null,"27870-6541",{"$nulls":6},"Key # H64",{"$nulls":4},"01/15/2019 10:18 AM","Ted Meyer"]
["43911","DMPJ9DHXDJ8T","District Storage","SURPLUS CO 215","Apple iPad 16GB WIFI (3rd Gen)",null,"Disposed","iPad","2012-08-22","479.00","13-10778","Apple","MC705LL/A","Apple",null,"d8004dde34ce","2016/2017",null,"27870-6541",{"$nulls":7},"A1416",null,null,"TECHNOLOGY STG","01/15/2019 08:40 AM","Ted Meyer"]
["43895","DMPJ99XEDJ8T","District Storage","SURPLUS CO 215","Apple iPad 16GB WIFI (3rd Gen)",null,"Disposed","iPad","2012-08-22","479.00","13-10778","Apple","MC705LL/A","Apple",null,"d8004dddb3d1","2016/2017",null,"27870-6541",{"$nulls":7},"A1416",null,null,"TECHNOLOGY STG","01/15/2019 10:07 AM","Ted Meyer"]
["43380","DMQJ87YSDJ8T","District Storage","Trash","Apple iPad 16GB WIFI (3rd Gen)",null,"Disposed","iPad","2012-08-22","479.00","13-10778","Apple","MC705LL/A","Apple",null,"98fe94cea551",null,null,"27870-6541",{"$nulls":7},"A1416",null,null,"5th Grade","01/15/2019 08:37 AM","Ted Meyer"]
["49761","MP145B0Z","District Storage","Trash","Lenovo ThinkPad Yoga 260 (Core i5-6300U, 8GB, 256GB)",null,"Disposed","Laptop","2017-03-27","1,234.90","17-39996","ITsavvy LLC","Yoga 260","Lenovo",null,"e4b318d6a6e1","2021/2022",null,"27870-6541",{"$nulls":3},"400-2331-6543-824-000-000",{"$nulls":3},"20FD002DUS",{"$nulls":3},"01/15/2019 09:21 AM","Ted Meyer"]
["42419","PC7F191061L","District Storage","Trash","Epson Brightlink 455Wi Projector",null,"Disposed","Projector",{"$nulls":4},"Brightlink 455Wi","Epson",null,null,"UnKnown",null,null,"Filter","2017-01-20",{"$nulls":8},"3rd Grade","01/15/2019 09:45 AM","Ted Meyer"]
["38900","L3AGM3M","Truman Middle","000Surplus Computers","Lenovo ThinkPad x200T Tablet Laptop",null,"Disposed","Laptop","2009-06-05","1,569.00","10-33737","Lenovo","x200t","Lenovo",{"$nulls":4},"27870-6541",{"$nulls":10},"Technology","01/15/2019 09:21 AM","Ted Meyer"]
["49201","LR05U2LE","Truman Middle","000Surplus Computers","Lenovo ThinkPad 11e",null,"Disposed","Laptop","2016-07-13","357.00","17-36572","PROTECH COMPUTER SYSTEMS INC\n7100 N BROADWAY 3-C\nDENVER, CO 80221","11e","Lenovo","Bryan Peske","484520f19816","2020/2021",null,"27871-6541",{"$nulls":3},"$53.00 WARRANTY TSS 3 YR DEPOT UPGRADE",{"$nulls":3},"20GBS00000",{"$nulls":3},"01/15/2019 09:21 AM","Ted Meyer"]
["52206","LR099D88","Truman Middle","000Surplus Computers","Lenovo ThinkPad 11e",null,"Disposed","Laptop","2017-09-26","458.25","18-51735","SoftChoice","11e","Lenovo","HSLIBML4-20","e442a62404e1","2021/2022",null,"17821-6412",null,null,"Building Budget",{"$nulls":4},"20GBS00S00",{"$nulls":3},"01/15/2019 09:21 AM","Ted Meyer"]
["53823","LR0AVPTX","Truman Middle","000Surplus Computers","Lenovo ThinkPad 11e",null,"Disposed","Laptop","2018-09-07","485.00","19-55635","TwoTrees","11e","Lenovo","LHS-BUS2-23","cc2f71617461","2022/2023",null,"TE PD - HS Business",{"$nulls":7},"20GB000SUS",{"$nulls":3},"01/15/2019 09:22 AM","Ted Meyer"]
["50200","LR0AVP9E","Truman Middle","000Surplus Computers","Lenovo ThinkPad 11e",null,"Disposed","Laptop","2018-09-07","485.00","19-55635","TwoTrees","11e","Lenovo","HSLIBMLC1-08","aced5cfa6ad1","2022/2023",null,"TE PD - HS Business",{"$nulls":7},"20GB000SUS",{"$nulls":3},"01/15/2019 09:22 AM","Ted Meyer"]
["46640","SLR03ZUUZ","Truman Middle","000Surplus Computers","Lenovo ThinkPad 11e",null,"Disposed","Laptop","2015-07-06","473.00","16-30271","TwoTrees Technology","11e","Lenovo","TR115-02 --Surplus 2021-2022","104a7d2797dc","2019/2020",null,"27872-6541",{"$nulls":7},"20DAS0VX00","No Longer being used",null,"Technology","01/15/2019 09:59 AM","Ted Meyer"]
["22117","26952","Truman Middle","Surplus Fall 2020","Eiki Aidio Cassette Tape Recorder/Player With CD Player",null,"Disposed","Tape Recorder","1998-06-10","205.41","44932","CSD (Shoemaker)","7070A","Eiki",{"$nulls":16},"01/15/2019 09:21 AM","Ted Meyer"]
["44200",null,"Warehouse","T1 Surplus Pallet Lot Projectors","Epson Brightlink 450Wi Projector",null,"Disposed","Projector",{"$nulls":4},"Brightlink 450Wi","Epson","Adams",null,"UnKnown","10.3.19.19",{"$nulls":11},"3rd Grade","01/15/2019 09:04 AM","Ted Meyer"]
["39307","MRKF071295L","Warehouse","T1 Surplus Pallet Lot Projectors","Epson Brightlink 450Wi Projector",null,"Disposed","Projector",{"$nulls":4},"Brightlink 450Wi","Epson","TR230",null,"UnKnown","10.6.19.230",null,"Filter","2018-12-03",{"$nulls":8},"English","01/15/2019 09:59 AM","Ted Meyer"]
["42794","LR6PVRR","Warehouse","T13 Surplus Pallet Lot 130 laptops","Lenovo ThinkPad X130e",null,"Sold","Laptop","2012-05-18","573.00","12-40254","Two Trees","X130e","Lenovo","CR-MLA-06","7ce9d3ef02a3","2016/2017",null,"27870-6541",{"$nulls":11},"01/15/2019 08:34 AM","Ted Meyer"]
["42671","LR6PXRZ","Warehouse","T13 Surplus Pallet Lot 130 laptops","Lenovo ThinkPad X130e",null,"Sold","Laptop","2012-05-18","573.00","12-40254","Two Trees","X130e","Lenovo","DR-MLA-09","7ce9d3eecb4d","2016/2017",null,"27870-6541",{"$nulls":11},"01/15/2019 08:40 AM","Ted Meyer"]
["42551","LR6PXYV","Warehouse","T13 Surplus Pallet Lot 130 laptops","Lenovo ThinkPad X130e",null,"Sold","Laptop","2012-05-18","573.00","12-40254","Two Trees","X130e","Lenovo","KE-MLA-17","7ce9d3eecc35",null,null,"27870-6541",{"$nulls":10},"1st Grade","01/15/2019 09:04 AM","Ted Meyer"]
["42770","LR6PXEA","Warehouse","T13 Surplus Pallet Lot 130 laptops","Lenovo ThinkPad X130e",null,"Sold","Laptop","2012-05-18","573.00","12-40254","Two Trees","X130e","Lenovo","LO-MLA-13","7ce9d3ef0c9e",null,null,"27870-6541",{"$nulls":10},"5th Grade","01/15/2019 09:34 AM","Ted Meyer"]
["42577","LR5ZMGX","Warehouse","T13 Surplus Pallet Lot 130 laptops","Lenovo ThinkPad X130e",null,"Sold","Laptop","2012-05-18","573.00","12-40254","Two Trees","X130e","Lenovo","SA-MLA-03","7ce9d3ee0964","2016/2017",null,"27870-6541",{"$nulls":11},"01/15/2019 09:45 AM","Ted Meyer"]
["42732","LR5ZMFT","Warehouse","T13 Surplus Pallet Lot 130 laptops","Lenovo ThinkPad X130e",null,"Sold","Laptop","2012-05-18","573.00","12-40254","Two Trees","X130e","Lenovo","TRMLC-05","7ce9d3ee0901","2016/2017",null,"27870-6541",{"$nulls":11},"01/15/2019 09:59 AM","Ted Meyer"]
["42608","LR5ZMLP","Warehouse","T14 Surplus Pallet Lot 131 Laptops","Lenovo ThinkPad X130e",null,"Sold","Laptop","2012-05-18","573.00","12-40254","Two Trees","X130e","Lenovo","DR-MLA-04","7ce9d3ee0118","2016/2017",null,"27870-6541",{"$nulls":10},"5th Grade","01/15/2019 08:40 AM","Ted Meyer"]
["45452","PB7RAP3","Warehouse","T14 Surplus Pallet Lot 131 Laptops","Lenovo ThinkPad X131e",null,"Sold","Laptop","2013-05-20","508.00","13-13931","Two Trees","X131e","Lenovo","HSDRSC-11","f4b7e2d2a8f9",null,null,"27870-6541",{"$nulls":11},"01/15/2019 09:21 AM","Ted Meyer"]
["45581","PB1DV9K","Warehouse","T14 Surplus Pallet Lot 131 Laptops","Lenovo ThinkPad X131e",null,"Sold","Laptop","2013-05-20","508.00","13-13931","Two Trees","X131e","Lenovo","HSSSML3-10","2cd05a004788","2017/2018",null,"27870-6541",{"$nulls":10},"Social Studies","01/15/2019 09:21 AM","Ted Meyer"]
["41798","PB44K0C","Warehouse","T14 Surplus Pallet Lot 131 Laptops","Lenovo ThinkPad X131e",null,"Sold","Laptop","2012-11-27","715.00","13-12007","TwoTrees","X131e","Lenovo","TR-MLA-18","083e8eaea527","2016/2017",null,"31590-6542",{"$nulls":11},"01/15/2019 09:59 AM","Ted Meyer"]
["45638","PB7HCF4","Warehouse","T14 Surplus Pallet Lot 131 Laptops","Lenovo ThinkPad X131e",null,"Sold","Laptop","2013-05-20","508.00","13-13931","Two Trees","X131e","Lenovo","TR-MLA-27","f4b7e2d28975","2017/2018",null,"27870-6541",{"$nulls":11},"01/15/2019 09:59 AM","Ted Meyer"]
["48795","PB027EUQ","Warehouse","T15 Surplus Pallet Lot 140 Laptops","Lenovo ThinkPad x140e",null,"Sold","Laptop","2014-06-05","434.00","15-18339","TwoTrees","X140e","Lenovo","CRML1-18","142d27e3ba13","2018/2019",null,"27870-6541",{"$nulls":10},"ELL","01/15/2019 08:34 AM","Ted Meyer"]
["48718","PB-024TJV","Warehouse","T15 Surplus Pallet Lot 140 Laptops","Lenovo ThinkPad x140e",null,"Sold","Laptop","2014-06-05","434.00","15-18339","TwoTrees","X140e","Lenovo","CRTLAB-17","b8ee65d2d8f2","2018/2019",null,"27870-6541",{"$nulls":11},"01/15/2019 08:34 AM","Ted Meyer"]
["48886","PB0248ZE","Warehouse","T15 Surplus Pallet Lot 140 Laptops","Lenovo ThinkPad x140e",null,"Sold","Laptop","2014-06-05","434.00","15-18339","TwoTrees","X140e","Lenovo","CC002-08","b8ee65d2e3e5","2018/2019",null,"27870-6541",{"$nulls":10},"3rd Grade","01/15/2019 08:37 AM","Ted Meyer"]
["44001","PB024903","Warehouse","T15 Surplus Pallet Lot 140 Laptops","Lenovo ThinkPad x140e",null,"Sold","Laptop","2014-06-05","434.00","15-18339","TwoTrees","X140e","Lenovo","DR-TLAB-25","b8ee65d2d8f0","2018/2019",null,"27870-6541",{"$nulls":11},"01/15/2019 08:40 AM","Ted Meyer"]
["48832","PB024TFG","Warehouse","T15 Surplus Pallet Lot 140 Laptops","Lenovo ThinkPad x140e",null,"Sold","Laptop","2014-06-05","434.00","15-18339","TwoTrees","X140e","Lenovo","KELIB-02","b8ee65d50239","2018/2019",null,"27870-6541",{"$nulls":10},"Library","01/15/2019 09:04 AM","Ted Meyer"]
["48514","PB01FHUR","Warehouse","T15 Surplus Pallet Lot 140 Laptops","Lenovo ThinkPad x140e",null,"Sold","Laptop","2014-05-23","468.00","14-19284","TwoTrees","X140e","Lenovo","HSMATH3-20","b8ee6504b978","2018/2019",null,"30690-6542",{"$nulls":11},"01/15/2019 09:21 AM","Ted Meyer"]
["48867","PB02490Y","Warehouse","T15 Surplus Pallet Lot 140 Laptops","Lenovo ThinkPad x140e",null,"Sold","Laptop","2014-06-05","434.00","15-18339","TwoTrees","X140e","Lenovo","HSSCML2-13","b8ee65d2ed27","2018/2019",null,"27870-6541",{"$nulls":10},"Science","01/15/2019 09:21 AM","Ted Meyer"]
["48502","PB02498L","Warehouse","T15 Surplus Pallet Lot 140 Laptops","Lenovo ThinkPad x140e",null,"Sold","Laptop","2014-06-05","434.00","15-18339","TwoTrees","X140e","Lenovo","LOML1-07","b8ee65d2e51f","2018/2019",null,"27870-6541",{"$nulls":10},"2nd Grade","01/15/2019 09:34 AM","Ted Meyer"]
["48777","PB027DUS","Warehouse","T15 Surplus Pallet Lot 140 Laptops","Lenovo ThinkPad x140e",null,"Sold","Laptop","2014-06-05","434.00","15-18339","TwoTrees","X140e","Lenovo","SAML1-19","142d27e3a2b3","2018/2019",null,"27870-6541",{"$nulls":10},"Library","01/15/2019 09:46 AM","Ted Meyer"]
["48598","PB027DUU","Warehouse","T15 Surplus Pallet Lot 140 Laptops","Lenovo ThinkPad x140e",null,"Sold","Laptop","2014-06-05","434.00","15-18339","TwoTrees","X140e","Lenovo","SP-MLA-21","142d27e3c3fd","2018/2019",null,"27870-6541",{"$nulls":11},"01/15/2019 09:52 AM","Ted Meyer"]
["48559","PB01MFTY","Warehouse","T15 Surplus Pallet Lot 140 Laptops","Lenovo ThinkPad x140e",null,"Sold","Laptop","2014-05-23","468.00","14-19284","TwoTrees","X140e","Lenovo","TR-LEAP-02","342387fe1447","2018/2019",null,"30690-6542",{"$nulls":10},"LEAP","01/15/2019 09:59 AM","Ted Meyer"]
["41763","PB44H4W","Warehouse","T15 Surplus Pallet Lot 140 Laptops","Lenovo ThinkPad X131e",null,"Sold","Laptop","2012-11-27",null,"13-12007",null,"X131e","Lenovo",null,"083e8eaf3021",null,null,"31590-6542",{"$nulls":10},"Technology","01/15/2019 08:34 AM","Ted Meyer"]
["44664","PB02UZBW","Warehouse","T15 Surplus Pallet Lot 140 Laptops","Lenovo ThinkPad x140e",null,"Sold","Laptop","2014-07-02","434.00","15-18591","TwoTrees Technologies LLC","X140e","Lenovo","LHS-LAB1-26","18cf5e56e706","2018/2019",null,"27870-6541",{"$nulls":11},"01/15/2019 09:21 AM","Ted Meyer"]
["44802","PB03DYLX","Warehouse","T15 Surplus Pallet Lot 140 Laptops","Lenovo ThinkPad x140e",null,"Sold","Laptop","2014-09-17","402.00","15-19808","ITSavvy","X140e","Lenovo","LOML2-10","18cf5eb82b6f","2018/2019",null,"31920-6542",{"$nulls":10},"4th Grade","01/15/2019 09:35 AM","Ted Meyer"]
["48774","PB027EZH","Warehouse","T15 Surplus Pallet Lot 140 Laptops","Lenovo ThinkPad x140e",null,"Sold","Laptop","2014-06-05","434.00","15-18339","TwoTrees","X140e","Lenovo","SAML1-16","142d27e3c7b7","2018/2019",null,"27870-6541",{"$nulls":10},"Library","01/15/2019 09:46 AM","Ted Meyer"]
["44418","PB02SBQ2","Warehouse","T15 Surplus Pallet Lot 140 Laptops","Lenovo ThinkPad x140e",null,"Sold","Laptop","2014-06-17","383.00","15-18392","Two Trees","X140e","Lenovo","SA-LIBSTLAP-15","18cf5e56da01","2018/2019",null,"11310-6542",{"$nulls":10},"Library","01/15/2019 09:46 AM","Ted Meyer"]
["51142","LR08MY28","Warehouse","T16 Surplus Pallet Lot 11e","Lenovo ThinkPad 11e",null,"Sold","Laptop","2017-05-24","367.00","17-40901","TWOTREES TECHNOLOGIES, LLC 200 NORTH EMPORIA STREET #300 WICHITAK KS 67202-2508","11e","Lenovo","CR033-02","c82158e6ec63","2021/2022",null,"27871-6541",{"$nulls":3},"5WSOE84849 LENOVO EPAC REPAIR EXTENDEND SERVICE @$49.99",{"$nulls":3},"20GBS00S00",null,null,"3rd Grade","01/15/2019 08:34 AM","Ted Meyer"]
["51523","LR09DV4Q","Warehouse","T16 Surplus Pallet Lot 11e","Lenovo ThinkPad 11e",null,"Sold","Laptop","2017-06-15","456.90","18-50158","STAPLES","11e","Lenovo","CR038-02","34f64bb70a93","2021/2022",null,"27871-6412",{"$nulls":3},"EXTENDED SERVICE AGREEMENT PARTS AND LABOR 3 YEAR PICK UP AND RETURN TOPSELLER SERVICE @$55.00",{"$nulls":3},"20GB001HUS",null,null,"5th Grade","01/15/2019 08:34 AM","Ted Meyer"]
["46866","LR-03ZUQH","Warehouse","T16 Surplus Pallet Lot 11e","Lenovo ThinkPad 11e",null,"Sold","Laptop","2015-07-06","473.00","16-30271","TwoTrees","11e","Lenovo","CC041-22","104a7da3042b","2019/2020",null,"27872-6541",{"$nulls":7},"20DAS0VX00",null,null,"4th Grade","01/15/2019 08:37 AM","Ted Meyer"]
["49485","LR-0838Z8","Warehouse","T16 Surplus Pallet Lot 11e","Lenovo ThinkPad 11e",null,"Sold","Laptop","2017-01-31","460.05","17-39252","ITsavvy","11e","Lenovo","CC041-14","d0577b65a1f3","2021/2022",null,"29541-6542",null,null,"Building Budget","400-1111-6542-417-001-000 CC inst equip",{"$nulls":3},"20GB000NUS",null,null,"4th Grade","01/15/2019 08:38 AM","Ted Meyer"]
["51065","LR-08MYEQ","Warehouse","T16 Surplus Pallet Lot 11e","Lenovo ThinkPad 11e",null,"Sold","Laptop","2017-05-24","367.00","17-40901","TwoTrees","11e","Lenovo","CC041-03","c82158e664c8","2021/2022",null,"27871-6541",{"$nulls":3},"5WSOE84849 LENOVO EPAC REPAIR EXTENDEND SERVICE @$49.99",{"$nulls":3},"20GBS00S00",null,null,"4th Grade","01/15/2019 08:38 AM","Ted Meyer"]
["51092","LR-08MY9T","Warehouse","T16 Surplus Pallet Lot 11e","Lenovo ThinkPad 11e",null,"Sold","Laptop","2017-05-24","367.00","17-40901","TwoTrees","11e","Lenovo","CC040-09","c82158e67b75","2021/2022",null,"27871-6541",{"$nulls":3},"5WSOE84849 LENOVO EPAC REPAIR EXTENDEND SERVICE @$49.99",{"$nulls":3},"20GBS00S00",null,null,"4th Grade","01/15/2019 08:38 AM","Ted Meyer"]
["51113","LR-08MY7J","Warehouse","T16 Surplus Pallet Lot 11e","Lenovo ThinkPad 11e",null,"Sold","Laptop","2017-05-24","367.00","17-40901","TwoTrees","11e","Lenovo","CC039-09","c82158e6e637","2021/2022",null,"27871-6541",{"$nulls":3},"5WSOE84849 LENOVO EPAC REPAIR EXTENDEND SERVICE @$49.99",{"$nulls":3},"20GBS00S00",null,null,"4th Grade","01/15/2019 08:38 AM","Ted Meyer"]
["49057","LR04X1VT","Warehouse","T16 Surplus Pallet Lot 11e","Lenovo ThinkPad 11e",null,"Sold","Laptop","2016-06-01","374.00","17-36124","TWOTREES TECHNOLOGY LLC","11e","Lenovo","DRML1-01","1002b51397a5","2020/2021",null,"39038-65421",{"$nulls":3},"5WSOE8461 3YR EXTENDED WARRANTY $53.00",{"$nulls":3},"20GBS00000",{"$nulls":3},"01/15/2019 08:40 AM","Ted Meyer"]
["49079","LR04X1VJ","Warehouse","T16 Surplus Pallet Lot 11e","Lenovo ThinkPad 11e",null,"Sold","Laptop","2016-06-01","374.00","17-36124","TWOTREES TECHNOLOGY LLC","11e","Lenovo","DRML1-23","1002b5139845","2020/2021",null,"39038-65421",{"$nulls":3},"5WSOE8461 3YR EXTENDED WARRANTY $53.00",{"$nulls":3},"20GBS00000",{"$nulls":3},"01/15/2019 08:40 AM","Ted Meyer"]
["46433","LR03Z54Y","Warehouse","T16 Surplus Pallet Lot 11e","Lenovo ThinkPad 11e",null,"Sold","Laptop","2015-07-06","473.00","16-30271","TwoTrees Technology","11e","Lenovo","HSSCML1-20","104a7d93a8a5","2019/2020",null,"27873-6541",{"$nulls":7},"20DAS0VX00",{"$nulls":3},"01/15/2019 09:21 AM","Ted Meyer"]
["47820","LR0584XW","Warehouse","T16 Surplus Pallet Lot 11e","Lenovo ThinkPad 11e",null,"Sold","Laptop","2016-03-07","492.71","16-33723","ITsavvy","11e","Lenovo","SAML2-12","4ceb42c2069b","2020/2021",null,"11300-6411",{"$nulls":3},"Library cart at Sappington purchased by Sappington PTG",{"$nulls":3},"20DAS1FW00",null,null,"Modern Language","01/15/2019 09:46 AM","Ted Meyer"]
["51526","LR09EA07","Warehouse","T16 Surplus Pallet Lot 11e","Lenovo ThinkPad 11e",null,"Sold","Laptop","2017-06-15","456.90","18-50158","STAPLES","11e","Lenovo","CR038-05","e442a6a44afc","2021/2022",null,"27871-6412",{"$nulls":3},"EXTENDED SERVICE AGREEMENT PARTS AND LABOR 3 YEAR PICK UP AND RETURN TOPSELLER SERVICE @$55.00",{"$nulls":3},"20GB001HUS",null,null,"5th Grade","01/15/2019 08:34 AM","Ted Meyer"]
["51204","LR09EAWA","Warehouse","T16 Surplus Pallet Lot 11e","Lenovo ThinkPad 11e",null,"Sold","Laptop","2017-06-15","456.90","18-50158","STAPLES","11e","Lenovo","DRML2-12","e442a6a42e3c","2021/2022",null,"27871-6412",{"$nulls":3},"EXTENDED SERVICE AGREEMENT PARTS AND LABOR 3 YEAR PICK UP AND RETURN TOPSELLER SERVICE @$55.00",{"$nulls":3},"20GB001HUS",{"$nulls":3},"01/15/2019 08:40 AM","Ted Meyer"]
["51722","LR09EAUV","Warehouse","T16 Surplus Pallet Lot 11e","Lenovo ThinkPad 11e",null,"Sold","Laptop","2017-06-15","456.90","18-50158","STAPLES","11e","Lenovo","DR222-07","e442a6a3b254","2021/2022",null,"27871-6412",{"$nulls":3},"EXTENDED SERVICE AGREEMENT PARTS AND LABOR 3 YEAR PICK UP AND RETURN TOPSELLER SERVICE @$55.00",{"$nulls":3},"20GB001HUS",null,null,"5th Grade","01/15/2019 08:40 AM","Ted Meyer"]
["51660","LR09E9YG","Warehouse","T16 Surplus Pallet Lot 11e","Lenovo ThinkPad 11e",null,"Sold","Laptop","2017-06-15","456.90","18-50158","STAPLES","11e","Lenovo","DR4th-13","e442a696196e","2021/2022",null,"27871-6412",{"$nulls":3},"EXTENDED SERVICE AGREEMENT PARTS AND LABOR 3 YEAR PICK UP AND RETURN TOPSELLER SERVICE @$55.00",{"$nulls":3},"20GB001HUS",null,null,"4th Grade","01/15/2019 08:40 AM","Ted Meyer"]
["51182","LR09EAZ3","Warehouse","T16 Surplus Pallet Lot 11e","Lenovo ThinkPad 11e",null,"Sold","Laptop","2017-06-15","456.90","18-50158","STAPLES","11e","Lenovo","KE021-07","e442a6a3b1be","2021/2022",null,"27871-6412",{"$nulls":3},"EXTENDED SERVICE AGREEMENT PARTS AND LABOR 3 YEAR PICK UP AND RETURN TOPSELLER SERVICE @$55.00",{"$nulls":3},"20GB001HUS",{"$nulls":3},"01/15/2019 09:04 AM","Ted Meyer"]
["51256","LR09EAR0","Warehouse","T16 Surplus Pallet Lot 11e","Lenovo ThinkPad 11e",null,"Sold","Laptop","2017-06-15","456.90","18-50158","STAPLES","11e","Lenovo","KE204-07","34f64bb82694","2021/2022",null,"27871-6412",{"$nulls":3},"EXTENDED SERVICE AGREEMENT PARTS AND LABOR 3 YEAR PICK UP AND RETURN TOPSELLER SERVICE @$55.00",{"$nulls":3},"20GB001HUS",{"$nulls":3},"01/15/2019 09:04 AM","Ted Meyer"]
["51348","LR09EAS7","Warehouse","T16 Surplus Pallet Lot 11e","Lenovo ThinkPad 11e",null,"Sold","Laptop","2017-06-15","456.90","18-50158","STAPLES","11e","Lenovo","LO019-02","e442a6a4254a","2021/2022",null,"27871-6412",{"$nulls":3},"EXTENDED SERVICE AGREEMENT PARTS AND LABOR 3 YEAR PICK UP AND RETURN TOPSELLER SERVICE @$55.00",{"$nulls":3},"20GB001HUS",null,null,"3rd Grade","01/15/2019 09:35 AM","Ted Meyer"]
["51607","LR09EAXJ","Warehouse","T16 Surplus Pallet Lot 11e","Lenovo ThinkPad 11e",null,"Sold","Laptop","2017-06-15","456.90","18-50158","STAPLES","11e","Lenovo","LO017-04","e442a6a42e9b","2021/2022",null,"27871-6412",{"$nulls":3},"EXTENDED SERVICE AGREEMENT PARTS AND LABOR 3 YEAR PICK UP AND RETURN TOPSELLER SERVICE @$55.00",{"$nulls":3},"20GB001HUS",null,null,"4th Grade","01/15/2019 09:35 AM","Ted Meyer"]
["51597","LR09EAV6","Warehouse","T16 Surplus Pallet Lot 11e","Lenovo ThinkPad 11e",null,"Sold","Laptop","2017-06-15","456.90","18-50158","STAPLES","11e","Lenovo","LO035-01","e442a6a3b209","2021/2022",null,"27871-6412",{"$nulls":3},"EXTENDED SERVICE AGREEMENT PARTS AND LABOR 3 YEAR PICK UP AND RETURN TOPSELLER SERVICE @$55.00",{"$nulls":3},"20GB001HUS",null,null,"4th Grade","01/15/2019 09:35 AM","Ted Meyer"]
["51303","LR09EAXP","Warehouse","T16 Surplus Pallet Lot 11e","Lenovo ThinkPad 11e",null,"Sold","Laptop","2017-06-15","456.90","18-50158","STAPLES","11e","Lenovo","SA042-06","e442a6a40b23","2021/2022",null,"27871-6412",{"$nulls":3},"EXTENDED SERVICE AGREEMENT PARTS AND LABOR 3 YEAR PICK UP AND RETURN TOPSELLER SERVICE @$55.00",{"$nulls":3},"20GB001HUS",null,null,"3rd Grade","01/15/2019 09:46 AM","Ted Meyer"]
["51315","LR09EARZ","Warehouse","T16 Surplus Pallet Lot 11e","Lenovo ThinkPad 11e",null,"Sold","Laptop","2017-06-15","456.90","18-50158","STAPLES","11e","Lenovo","SA045-04","e442a6a41b5e","2021/2022",null,"27871-6412",{"$nulls":3},"EXTENDED SERVICE AGREEMENT PARTS AND LABOR 3 YEAR PICK UP AND RETURN TOPSELLER SERVICE @$55.00",{"$nulls":3},"20GB001HUS",null,null,"3rd Grade","01/15/2019 09:46 AM","Ted Meyer"]
["46758","SLR03ZURC","Warehouse","T16 Surplus Pallet Lot 11e","Lenovo ThinkPad 11e",null,"Sold","Laptop",{"$nulls":4},"11e","Lenovo","CRML2-04","104a7da2abfc","UnKnown",null,"27872-6541",{"$nulls":7},"20DAS0VX00",{"$nulls":3},"01/15/2019 08:34 AM","Ted Meyer"]
["46895","SLR03ZUUU","Warehouse","T16 Surplus Pallet Lot 11e","Lenovo ThinkPad 11e",null,"Sold","Laptop","2015-07-06","473.00","16-30271","TwoTrees Technology","11e","Lenovo","DR215-07","104a7d27bfc3","2019/2020",null,"27872-6541",{"$nulls":7},"20DAS0VX00",null,null,"3rd Grade","01/15/2019 08:40 AM","Ted Meyer"]
["52385","LR0A79T8","Warehouse","T16 Surplus Pallet Lot 11e","Lenovo ThinkPad 11e",null,"Sold","Laptop","2017-11-14","375.00","18-52217","Softchoice","11e","Lenovo","DRML4-01","f496346aacd4","2021/2022",null,"26890-6412",{"$nulls":3},"5WSOE84849 3YR EXTENDED WARRANTY $52.68",{"$nulls":3},"20HVS00000",{"$nulls":3},"01/15/2019 08:40 AM","Ted Meyer"]
["46780","SLR03ZUNG","Warehouse","T16 Surplus Pallet Lot 11e","Lenovo ThinkPad 11e",null,"Sold","Laptop","2015-07-06","473.00","16-30271","TwoTrees Technology","11e","Lenovo","KEML2-02","104a7d365957","2019/2020",null,"27872-6541",{"$nulls":7},"20DAS0VX00",null,null,"5th Grade","01/15/2019 09:04 AM","Ted Meyer"]
["46789","SLR03ZUTS","Warehouse","T16 Surplus Pallet Lot 11e","Lenovo ThinkPad 11e",null,"Sold","Laptop","2015-07-06","473.00","16-30271","TwoTrees Technology","11e","Lenovo","KEML2-11","104a7d27c040","2019/2020",null,"27872-6541",{"$nulls":7},"20DAS0VX00",null,null,"5th Grade","01/15/2019 09:04 AM","Ted Meyer"]
["53775","LR0AV9VE","Warehouse","T16 Surplus Pallet Lot 11e","Lenovo ThinkPad 11e",null,"Sold","Laptop","2018-09-07","485.00","19-55635","TwoTrees","11e","Lenovo","LHS-BUS1-04","cc2f7160f27a","2022/2023",null,"TE PD - HS Business",{"$nulls":7},"20GB000SUS",{"$nulls":3},"01/15/2019 09:22 AM","Ted Meyer"]
["46833","SLR03ZUT2","Warehouse","T16 Surplus Pallet Lot 11e","Lenovo ThinkPad 11e",null,"Sold","Laptop","2015-07-06","473.00","16-30271","TwoTrees Technology","11e","Lenovo","LOML4-07","104a7d367090","2019/2020",null,"27872-6541",{"$nulls":7},"20DAS0VX00",null,null,"3rd Grade","01/15/2019 09:35 AM","Ted Meyer"]
["46644","SLR03ZUPD","Warehouse","T16 Surplus Pallet Lot 11e","Lenovo ThinkPad 11e",null,"Sold","Laptop","2015-07-06","473.00","16-30271","TwoTrees Technology","11e","Lenovo","LOHEALTH-18","104a7d3659ca","2019/2020",null,"27872-6541",{"$nulls":7},"20DAS0VX00",null,null,"Library","01/15/2019 09:35 AM","Ted Meyer"]
["51614","LR09EB1T","Warehouse","T16 Surplus Pallet Lot 11e","Lenovo ThinkPad 11e",null,"Sold","Laptop","2017-06-15","456.90","18-50158","STAPLES","11e","Lenovo","LO036-04","e442a6a424f0","2021/2022",null,"27871-6412",{"$nulls":3},"EXTENDED SERVICE AGREEMENT PARTS AND LABOR 3 YEAR PICK UP AND RETURN TOPSELLER SERVICE @$55.00",{"$nulls":3},"20GB001HUS",null,null,"5th Grade","01/15/2019 09:35 AM","Ted Meyer"]
["51257","LR09EB3D","Warehouse","T16 Surplus Pallet Lot 11e","Lenovo ThinkPad 11e",null,"Sold","Laptop","2017-06-15","456.90","18-50158","STAPLES","11e","Lenovo","SA046-01","e442a6a41bd6","2021/2022",null,"27871-6412",{"$nulls":3},"EXTENDED SERVICE AGREEMENT PARTS AND LABOR 3 YEAR PICK UP AND RETURN TOPSELLER SERVICE @$55.00",{"$nulls":3},"20GB001HUS",null,null,"ELL","01/15/2019 09:46 AM","Ted Meyer"]
["51173","SR09EAVL","Warehouse","T16 Surplus Pallet Lot 11e","Lenovo ThinkPad 11e",null,"Sold","Laptop","2017-06-15","456.90","18-50158","STAPLES","11e","Lenovo","KE007-05","e442a6a3b358","2021/2022",null,"27871-6412",{"$nulls":3},"EXTENDED SERVICE AGREEMENT PARTS AND LABOR 3 YEAR PICK UP AND RETURN TOPSELLER SERVICE @$55.00",{"$nulls":3},"20GB001HUS",null,null,"3rd Grade","01/15/2019 09:04 AM","Ted Meyer"]
["42603","LR6PXTX","Warehouse","T17 Surplus Pallet Lot 130 damaged April 2021","Lenovo ThinkPad X130e",null,"Sold","Laptop","2012-05-18","573.00","12-40254","Two Trees","X130e","Lenovo","LO-MLA-12","7ce9d3ef0874","2016/2017",null,"27870-6541",{"$nulls":10},"5th Grade","01/15/2019 09:34 AM","Ted Meyer"]
["41694","PB44H7T","Warehouse","T18 Surplus Pallet Lot 131 damaged April 2021","Lenovo ThinkPad X131e",null,"Sold","Laptop","2012-11-27","715.00","13-12007","TwoTrees","X131e","Lenovo","HSFACS-028","083e8eaf1913","2016/2017",null,"31590-6542",{"$nulls":11},"01/15/2019 09:21 AM","Ted Meyer"]
["45455","PB7RAT7","Warehouse","T18 Surplus Pallet Lot 131 damaged April 2021","Lenovo ThinkPad X131e",null,"Sold","Laptop","2013-05-20","508.00","13-13931","Two Trees","X131e","Lenovo","HSMATH3-07","f4b7e2d2887f","2017/2018",null,"27870-6541",{"$nulls":11},"01/15/2019 09:21 AM","Ted Meyer"]
["45343","PB7GVA1","Warehouse","T18 Surplus Pallet Lot 131 damaged April 2021","Lenovo ThinkPad X131e",null,"Sold","Laptop","2013-05-20","508.00","13-13931","Two Trees","X131e","Lenovo","SP129-01","f4b7e2d27f71","2017/2018",null,"27870-6541",{"$nulls":11},"01/15/2019 09:52 AM","Ted Meyer"]
["41835","PB44H8K","Warehouse","T18 Surplus Pallet Lot 131 damaged April 2021","Lenovo ThinkPad X131e",null,"Sold","Laptop","2012-11-27","715.00","13-12007","TwoTrees","X131e","Lenovo","SPLIB-08","083e8eaf1483","2016/2017",null,"31590-6542",{"$nulls":10},"Library","01/15/2019 10:07 AM","Ted Meyer"]
["44259","PB025NA5","Warehouse","T19 Surplus Pallet Lot 140 damaged April 2021","Lenovo ThinkPad x140e",null,"Sold","Laptop","2014-06-05","434.00","15-18339","TwoTrees","X140e","Lenovo","DR-TLAB-06","b8ee65d50de7","2018/2019",null,"27870-6541",{"$nulls":11},"01/15/2019 08:40 AM","Ted Meyer"]
["48746","PB02495W","Warehouse","T19 Surplus Pallet Lot 140 damaged April 2021","Lenovo ThinkPad x140e",null,"Sold","Laptop","2014-06-05","434.00","15-18339","TwoTrees","X140e","Lenovo","KEML1-19","b8ee65d2eb3a","2018/2019",null,"27870-6541",{"$nulls":10},"2nd Grade","01/15/2019 09:04 AM","Ted Meyer"]
["44005","PB025NBJ","Warehouse","T19 Surplus Pallet Lot 140 damaged April 2021","Lenovo ThinkPad x140e",null,"Sold","Laptop","2014-06-05","434.00","15-18339","TwoTrees","X140e","Lenovo","HSSSML2-18","b8ee65d506ad","2018/2019",null,"27870-6541",{"$nulls":10},"Social Studies","01/15/2019 09:21 AM","Ted Meyer"]
["48610","PB02497R","Warehouse","T19 Surplus Pallet Lot 140 damaged April 2021","Lenovo ThinkPad x140e",null,"Sold","Laptop","2014-06-05","434.00","15-18339","TwoTrees","X140e","Lenovo","SP-MLA-22","b8ee65d2e296","2018/2019",null,"27870-6541",{"$nulls":11},"01/15/2019 09:52 AM","Ted Meyer"]
["44543","PB0249AE","Warehouse","T19 Surplus Pallet Lot 140 damaged April 2021","Lenovo ThinkPad x140e",null,"Sold","Laptop","2014-06-05","434.00","15-18339","TwoTrees","X140e","Lenovo","SP111-05","b8ee65d506df","2018/2019",null,"27870-6541",{"$nulls":11},"01/15/2019 09:52 AM","Ted Meyer"]
["44880","SMJ01FNR7","Warehouse","T20 Surplus Pallet Lot ThinkCentre Desktops","Lenovo ThinkCentre M93z 10AF All In One",null,"Sold","Desktop","2014-09-15","820.00","15-19747","TwoTrees Technology","M93z","Lenovo","HSBUS108-01","00c2c6833128","2018/2019",null,"31214-6542",{"$nulls":7},"10AD0001US",null,null,"Business Department","01/15/2019 09:21 AM","Ted Meyer"]
["43421","R9LNHXC","Warehouse","T21 Surplus Pallet Lot 200 220 540 Helix","Lenovo ThinkPad x220 Tablet Laptop",null,"Sold","Laptop","2012-05-21","1,550.00","12-40270","Two Trees","X220","Lenovo","DR-Lisa Bilderback","100ba97b5078","2016/2017",null,"27870-6541",{"$nulls":7},"42963MU",null,null,"Nurse Office","01/15/2019 08:40 AM","Ted Meyer"]
["43308","R9-PEGA4","Warehouse","T21 Surplus Pallet Lot 200 220 540 Helix","Lenovo ThinkPad x220 Tablet Laptop",null,"Sold","Laptop","2012-08-27","1,550.00","13-10812","Two Trees","X220","Lenovo","LOANER-43308","8c705a937aec","2016/2017",null,"27870-6541",{"$nulls":7},"42963MU",{"$nulls":3},"01/15/2019 09:52 AM","Ted Meyer"]
["45049","SR9YTT53","Warehouse","T21 Surplus Pallet Lot 200 220 540 Helix","Lenovo ThinkPad Helix",null,"Sold","Laptop","2013-05-10","1,455.00","14-15032","TWOTREES","Helix","Lenovo","Patti Thomas","843a4b0aed30","2017/2018",{"$nulls":9},"36984LU",{"$nulls":3},"01/15/2019 10:07 AM","Ted Meyer"]
["48894","PB0248XY","Warehouse","T22 Surplus Pallet Lot 140 Laptops","Lenovo ThinkPad x140e",null,"Sold","Laptop","2014-06-05","434.00","15-18339","TwoTrees","X140e","Lenovo","HSSCML2-27","b8ee65d2dbe1","2018/2019",null,"27870-6541",{"$nulls":10},"Science","01/15/2019 09:21 AM","Ted Meyer"]
["44522","PB0248Y0","Warehouse","T22 Surplus Pallet Lot 140 Laptops","Lenovo ThinkPad x140e",null,"Sold","Laptop","2014-06-05","434.00","15-18339","TwoTrees","X140e","Lenovo","TR231-02","b8ee65d2f697","2018/2019",null,"27870-6541",{"$nulls":10},"ELL","01/15/2019 09:59 AM","Ted Meyer"]
["42677","LR5ZMKM","Warehouse","T23 Surplus Pallet Lot 130 Laptops","Lenovo ThinkPad X130e",null,"Sold","Laptop","2012-05-18","573.00","12-40254","Two Trees","X130e","Lenovo","TRMLC-02","7ce9d3ee08bc","2016/2017",null,"27870-6541",{"$nulls":11},"01/15/2019 09:59 AM","Ted Meyer"]
["43544","DMPJ94XZDJ8T","Warehouse","T24 Surplus Pallet Lot iPad 3 April 2021","Apple iPad 16GB WIFI (3rd Gen)",null,"Sold","iPad","2012-08-22","479.00","13-10778","Apple","MC705LL/A","Apple","DR-SSD-102-4","d8004ddc00eb",null,null,"27870-6541",{"$nulls":7},"A1416",null,null,"SSD","01/15/2019 09:04 AM","Ted Meyer"]
["43601","DMPJ9DG1DJ8T","Warehouse","T24 Surplus Pallet Lot iPad 3 April 2021","Apple iPad 16GB WIFI (3rd Gen)",null,"Sold","iPad","2012-08-22","479.00","13-10778","Apple","MC705LL/A","Apple","ART-03","d8004dde3cbd","2016/2017",null,"27870-6541",{"$nulls":7},"A1416",null,null,"4th Grade","01/15/2019 10:07 AM","Ted Meyer"]
["43949","DMPJDTTDF182","Warehouse","T25 Surplus Pallet Lot iPad 4 April 2021","Apple iPad 16GB WIFI (4th Gen)",null,"Sold","iPad","2012-11-15","499.00","13-11912","Apple","MD510LL/A","Apple","Patti Haberberger","34c05952d149",null,null,"27870-6541",{"$nulls":7},"A1458",null,null,"Reading","01/15/2019 08:34 AM","Ted Meyer"]
["41595","DMPJFK52F182","Warehouse","T25 Surplus Pallet Lot iPad 4 April 2021","Apple iPad 16GB WIFI (4th Gen)",null,"Sold","iPad","2012-11-15","499.00","13-11912","Apple","MD510LL/A","Apple","01-02","34c05958eef2",null,null,"27870-6541",{"$nulls":7},"A1458",null,null,"Kindergarten","01/15/2019 08:37 AM","Ted Meyer"]
["43982","DMRJD4CBF182","Warehouse","T25 Surplus Pallet Lot iPad 4 April 2021","Apple iPad 16GB WIFI (4th Gen)",null,"Sold","iPad","2012-11-15","499.00","13-11912","Apple","MD510LL/A","Apple","KE21-01","34c0595155a9","2016/2017",null,"27870-6541",{"$nulls":7},"A1458",null,null,"3rd Grade","01/15/2019 09:04 AM","Ted Meyer"]
["48095","DMTL4KAFF182","Warehouse","T25 Surplus Pallet Lot iPad 4 April 2021","Apple iPad 16GB WIFI (4th Gen)",null,"Sold","iPad","2013-08-12","499.00","14-15784","Apple","MD510LL/A","Apple","KEPEGS-I5-02","a88808cb77ea",null,null,"30690-6542",{"$nulls":7},"A1458",null,null,"LEAP","01/15/2019 09:04 AM","Ted Meyer"]
["43973","DMPJF3VRF182","Warehouse","T25 Surplus Pallet Lot iPad 4 April 2021","Apple iPad 16GB WIFI (4th Gen)",null,"Sold","iPad","2012-11-15","499.00","13-11912","Apple","MD510LL/A","Apple","LO37-02","34c0594f864f",null,null,"27870-6541",{"$nulls":7},"A1458",null,null,"TECHNOLOGY STG","01/15/2019 09:34 AM","Ted Meyer"]
["48346","DMRMP5Q8F182","Warehouse","T25 Surplus Pallet Lot iPad 4 April 2021","Apple iPad 16GB WIFI (4th Gen)",null,"Sold","iPad","2014-05-15","399.00","14-19206","Apple","MD510LL/A","Apple","SAELL-02","e498d69398cc","2018/2019",null,"295416542",{"$nulls":7},"A1458",null,null,"ELL","01/15/2019 09:46 AM","Ted Meyer"]
["44467","DMPN1484F182","Warehouse","T25 Surplus Pallet Lot iPad 4 April 2021","Apple iPad 16GB WIFI (4th Gen)",null,"Sold","iPad","2014-06-25","379.00","15-18514","Apple Store","MD510LL/A","Apple",null,"f82793bba641","2018/2019",null,"11310-6542",{"$nulls":7},"A1458",null,null,"Library","01/15/2019 09:46 AM","Ted Meyer"]
["44498","DMPN13RUF182","Warehouse","T25 Surplus Pallet Lot iPad 4 April 2021","Apple iPad 16GB WIFI (4th Gen)",null,"Sold","iPad","2014-06-25","379.00","15-18514","Apple Store","MD510LL/A","Apple",null,"f82793c31384","2018/2019",null,"11310-6542",{"$nulls":6},"from Sappington Library","A1458",null,null,"Library","01/15/2019 09:46 AM","Ted Meyer"]
["41117","2011270035042000","Warehouse","T25 Surplus Pallet Lot iPad 4 April 2021","Nook Color",null,"Sold","eReader","2011-06-01","234.06","11-37735","Barnes & Noble","BNRV200","Nook","09","58671a16dfb8","2015/2016",null,"29901-6411",{"$nulls":10},"Library","01/15/2019 09:59 AM","Ted Meyer"]
["46041","DMQP75KVFK10","Warehouse","T26 Surplus Pallet Lot iPad Air April 2021","Apple iPad Air 16GB WIFI (1st Gen)",null,"Sold","iPad","2015-02-06","379.00","15-21518","Apple","PD785LL/B","Apple","CCC1D-07","5cf5da6bd220","2019/2020",null,"27870-6541",null,null,"Grant",{"$nulls":4},"A1474",null,null,"Kindergarten","01/15/2019 08:37 AM","Ted Meyer"]
["43221","DMPJ97FVDJ8T","Warehouse","T27 Surplus Pallet Lot iPad PARTS April 2021","Apple iPad 16GB WIFI (3rd Gen)",null,"Sold","iPad","2012-11-15","499.00","13-11912","Apple","MC705LL/A","Apple","TMLIB-04","d8004ddaa346",null,null,"27870-6541",{"$nulls":4},"2017-09-28","Item is no longer functional",null,"A1416",null,null,"Technology","01/15/2019 09:59 AM","Ted Meyer"]
["48596","SPB024964","Warehouse","T28 Surplus Pallet Lot x140 April 2021","Lenovo ThinkPad x140e",null,"Sold","Laptop","2014-06-05","434.00","15-18339","TwoTrees","X140e","Lenovo","HS-ENGML4-06","b8ee65d2eb95","2018/2019",null,"27870-6541",{"$nulls":11},"01/15/2019 09:21 AM","Ted Meyer"]
["48620","PB027DU6","Warehouse","T28 Surplus Pallet Lot x140 April 2021","Lenovo ThinkPad x140e",null,"Sold","Laptop","2014-06-05","434.00","15-18339","TwoTrees","X140e","Lenovo","SP-MLA-13","142d27e3afb7","2018/2019",null,"27870-6541",{"$nulls":11},"01/15/2019 09:52 AM","Ted Meyer"]
["48633","PB027EVS","Warehouse","T28 Surplus Pallet Lot x140 April 2021","Lenovo ThinkPad x140e",null,"Sold","Laptop","2014-06-05","434.00","15-18339","TwoTrees","X140e","Lenovo","SP-MLA-02","142d27e3badf","2018/2019",null,"27870-6541",{"$nulls":11},"01/15/2019 09:52 AM","Ted Meyer"]
["48724","PB-0248Y9","Warehouse","T28 Surplus Pallet Lot x140 April 2021","Lenovo ThinkPad x140e",null,"Sold","Laptop","2014-06-05","434.00","15-18339","TwoTrees","X140e","Lenovo","SPBPE-14","b8ee65d2e53e","2018/2019",null,"27870-6541",{"$nulls":10},"PE","01/15/2019 09:52 AM","Ted Meyer"]
["44390","PB024TKP","Warehouse","T28 Surplus Pallet Lot x140 April 2021","Lenovo ThinkPad x140e",null,"Sold","Laptop","2014-06-05","434.00","15-18339","TwoTrees","X140e","Lenovo","SPBPE-11","b8ee65d2ed20","2018/2019",null,"27870-6541",{"$nulls":10},"PE","01/15/2019 09:52 AM","Ted Meyer"]
["41743","PB44H8W","Warehouse","T29 Surplus Pallet Lot x131 April 2021","Lenovo ThinkPad X131e",null,"Sold","Laptop","2012-11-27","715.00","13-12007","TwoTrees","X131e","Lenovo","HSCANVAS2-16","083e8eaebb2d",null,null,"31590-6542",{"$nulls":11},"01/15/2019 08:34 AM","Ted Meyer"]
["41712","PB44H7H","Warehouse","T29 Surplus Pallet Lot x131 April 2021","Lenovo ThinkPad X131e",null,"Sold","Laptop","2012-11-27","715.00","13-12007","TwoTrees","X131e","Lenovo","HSPE-004","083e8aef194b",null,null,"31590-6542",{"$nulls":11},"01/15/2019 09:21 AM","Ted Meyer"]
["45403","PB7RAV0","Warehouse","T29 Surplus Pallet Lot x131 April 2021","Lenovo ThinkPad X131e",null,"Sold","Laptop","2013-05-20","508.00","13-13931","Two Trees","X131e","Lenovo","HSCANVAS1-13","f4b7e2d28ab5","2017/2018",null,"27870-6541",{"$nulls":11},"01/15/2019 09:21 AM","Ted Meyer"]
["45521","PB7HCC4","Warehouse","T29 Surplus Pallet Lot x131 April 2021","Lenovo ThinkPad X131e",null,"Sold","Laptop","2013-05-20","508.00","13-13931","Two Trees","X131e","Lenovo","HS-CANVAS4-05","f4b7e2d280c5","2017/2018",null,"27870-6541",{"$nulls":11},"01/15/2019 09:21 AM","Ted Meyer"]
["45536","PB7GVG0","Warehouse","T29 Surplus Pallet Lot x131 April 2021","Lenovo ThinkPad X131e",null,"Sold","Laptop","2013-05-20","508.00","13-13931","Two Trees","X131e","Lenovo","HS-CANVAS4-08","4B7E2D287A1","2017/2018",null,"27870-6541",{"$nulls":11},"01/15/2019 09:21 AM","Ted Meyer"]
["45577","PB7HCH3","Warehouse","T29 Surplus Pallet Lot x131 April 2021","Lenovo ThinkPad X131e",null,"Sold","Laptop","2013-05-20","508.00","13-13931","Two Trees","X131e","Lenovo","HSDRSC-01","f4b7e2d289b9","2017/2018",null,"27870-6541",{"$nulls":11},"01/15/2019 09:21 AM","Ted Meyer"]
["45667","PB7HCC3","Warehouse","T29 Surplus Pallet Lot x131 April 2021","Lenovo ThinkPad X131e",null,"Sold","Laptop","2013-05-20","508.00","13-13931","Two Trees","X131e","Lenovo","HS111-16","f4b7e2d280c1","2017/2018",null,"27870-6541",{"$nulls":11},"01/15/2019 09:21 AM","Ted Meyer"]
["43236",null,"Warehouse","T30 Surplus Pallet Lot x130 April 2021","Lenovo ThinkPad X130e",null,"Sold","Laptop",{"$nulls":4},"x130e","Lenovo","SP_GPE_03",null,"UnKnown",{"$nulls":12},"PE","01/15/2019 09:52 AM","Ted Meyer"]
["45157","SR9YTD3B","Warehouse","T31 Surplus Pallet Lot x220, x200, x40 April 2021","Lenovo ThinkPad Helix",null,"Sold","Laptop","2013-05-10","1,455.00","14-15032","TWOTREES","Helix","Lenovo",null,"843a4b0ef208",{"$nulls":10},"36984LU",{"$nulls":3},"01/15/2019 09:21 AM","Ted Meyer"]
["38346",null,"Warehouse","T31 Surplus Pallet Lot x220, x200, x40 April 2021","Lenovo Thinkpad X220 Ultrabase Base",null,"Sold","Docking Station",{"$nulls":4},"x200 Ultrabase","Lenovo",null,null,"UnKnown",{"$nulls":8},"Key# H18",{"$nulls":4},"01/15/2019 09:52 AM","Ted Meyer"]
["43435","R9LNHXF","Warehouse","T31 Surplus Pallet Lot x220, x200, x40 April 2021","Lenovo ThinkPad x220 Tablet Laptop",null,"Sold","Laptop","2012-05-21","1,550.00","12-40270","Two Trees","X220","Lenovo","TR131-04","100ba97b3c20","2016/2017",null,"27870-6541",{"$nulls":7},"42963MU",null,null,"Reading","01/15/2019 09:59 AM","Ted Meyer"]
["51022","LR-08MY7S","Warehouse","T32 Surplus Pallet Lot 11e April 2021","Lenovo ThinkPad 11e",null,"Sold","Laptop","2017-05-24","367.00","17-40901","TwoTrees","11e","Lenovo","DR221-05","c82158e6e4b1","2021/2022",null,"27871-6541",{"$nulls":3},"5WSOE84849 LENOVO EPAC REPAIR EXTENDEND SERVICE @$49.99",{"$nulls":3},"20GBS00S00",null,null,"5th Grade","01/15/2019 08:40 AM","Ted Meyer"]
["51268","LR09EAVG","Warehouse","T32 Surplus Pallet Lot 11e April 2021","Lenovo ThinkPad 11e",null,"Sold","Laptop","2017-06-15","456.90","18-50158","STAPLES","11e","Lenovo","SA047-05","e442a6a3be70","2021/2022",null,"27871-6412",{"$nulls":3},"EXTENDED SERVICE AGREEMENT PARTS AND LABOR 3 YEAR PICK UP AND RETURN TOPSELLER SERVICE @$55.00",{"$nulls":3},"20GB001HUS",{"$nulls":3},"01/15/2019 09:46 AM","Ted Meyer"]
["49037","LR04WQWT","Warehouse","T32 Surplus Pallet Lot 11e April 2021","Lenovo ThinkPad 11e",null,"Sold","Laptop","2016-05-31","392.47","16-34768","ITSAVVY","11e","Lenovo","SPML6-09","1002b58e53dc","2020/2021",null,"32042-6542",{"$nulls":3},"14897329 3YR EXTENDED WARRANTY $69.86",{"$nulls":3},"20GBS00000",{"$nulls":3},"01/15/2019 09:53 AM","Ted Meyer"]
["49182","LR05U2LB","Warehouse","T32 Surplus Pallet Lot 11e April 2021","Lenovo ThinkPad 11e",null,"Sold","Laptop","2016-07-13","357.00","17-36572","PROTECH COMPUTER SYSTEMS INC\n7100 N BROADWAY 3-C\nDENVER, CO 80221","11e","Lenovo","SP-PE-33","484520f198a2","2020/2021",null,"27871-6541",{"$nulls":3},"$53.00 WARRANTY TSS 3 YR DEPOT UPGRADE",{"$nulls":3},"20GBS00000",null,null,"PE","01/15/2019 09:53 AM","Ted Meyer"]
["49256","LR05U5RY","Warehouse","T32 Surplus Pallet Lot 11e April 2021","Lenovo ThinkPad 11e",null,"Sold","Laptop","2016-07-13","357.00","17-36572","PROTECH COMPUTER SYSTEMS INC\n7100 N BROADWAY 3-C\nDENVER, CO 80221","11e","Lenovo","SP122_01","484520f1923f","2020/2021",null,"27872-6541",{"$nulls":3},"$53.00 WARRANTY TSS 3 YR DEPOT UPGRADE",{"$nulls":3},"20GBS00000",null,null,"Science","01/15/2019 09:53 AM","Ted Meyer"]
["49279","LR05U2KP","Warehouse","T32 Surplus Pallet Lot 11e April 2021","Lenovo ThinkPad 11e",null,"Sold","Laptop","2016-07-13","357.00","17-36572","PROTECH COMPUTER SYSTEMS INC\n7100 N BROADWAY 3-C\nDENVER, CO 80221","11e","Lenovo","SPKEYBD-19","484520f198d9","2020/2021",null,"27872-6541",{"$nulls":3},"$53.00 WARRANTY TSS 3 YR DEPOT UPGRADE",{"$nulls":3},"20GBS00000",{"$nulls":3},"01/15/2019 09:53 AM","Ted Meyer"]
["52654","LR08GTB0","Warehouse","T32 Surplus Pallet Lot 11e April 2021","Lenovo ThinkPad 11e",null,"Sold","Laptop","2018-02-12","334.68","18-53633","SOFTCHOICE","11e","Lenovo","SPML1-27","c82158c60cd7","2022/2023",null,"27872-6412",{"$nulls":7},"20GBS00S00",{"$nulls":3},"01/15/2019 09:53 AM","Ted Meyer"]
["46543","LR03ZUY4","Warehouse","T32 Surplus Pallet Lot 11e April 2021","Lenovo ThinkPad 11e",null,"Sold","Laptop","2015-07-06","473.00","16-30271","TwoTrees Technology","11e","Lenovo","TRDL-19","104a7d6ee669","2019/2020",null,"27872-6541",{"$nulls":7},"20DAS0VX00",null,null,"Digital Literacy","01/15/2019 09:59 AM","Ted Meyer"]
["49020","LR04X20V","Warehouse","T32 Surplus Pallet Lot 11e April 2021","Lenovo ThinkPad 11e",null,"Sold","Laptop","2016-05-31","392.47","16-34768","ITSAVVY","11e","Lenovo","TRML6-20","185e0fdc7c1a","2020/2021",null,"32042-6542",{"$nulls":3},"14897329 3YR EXTENDED WARRANTY $69.86",{"$nulls":3},"20GBS00000",{"$nulls":3},"01/15/2019 10:00 AM","Ted Meyer"]
["52114","LR09MPTZ","Warehouse","T32 Surplus Pallet Lot 11e April 2021","Lenovo ThinkPad 11e",null,"Sold","Laptop","2017-09-08","434.42","18-51391","SoftChoice","11e","Lenovo","TR-PE-16","aced5cb2e1e3","2021/2022",null,"13861-6412",null,null,"Building Budget",{"$nulls":4},"20GBS00S00",null,null,"Technology","01/15/2019 10:00 AM","Ted Meyer"]
["51236","LR09EAYW","Warehouse","T33 Surplus Pallet Lot 11e Damaged April 2021","Lenovo ThinkPad 11e",null,"Sold","Laptop","2017-06-15","456.90","18-50158","STAPLES","11e","Lenovo","KE007-14","e442a6a3b187","2021/2022",null,"27871-6412",{"$nulls":3},"EXTENDED SERVICE AGREEMENT PARTS AND LABOR 3 YEAR PICK UP AND RETURN TOPSELLER SERVICE @$55.00",{"$nulls":3},"20GB001HUS",{"$nulls":3},"01/15/2019 09:04 AM","Ted Meyer"]
["46415","LR03Z56G","Warehouse","T33 Surplus Pallet Lot 11e Damaged April 2021","Lenovo ThinkPad 11e",null,"Sold","Laptop","2015-07-06","473.00","16-30271","TwoTrees Technology","11e","Lenovo","HSSCML1-02","104a7d938cd5","2019/2020",null,"27873-6541",{"$nulls":7},"20DAS0VX00",{"$nulls":3},"01/15/2019 09:21 AM","Ted Meyer"]
["46605","LR03ZUZ0","Warehouse","T33 Surplus Pallet Lot 11e Damaged April 2021","Lenovo ThinkPad 11e",null,"Sold","Laptop","2015-07-06","473.00","16-30271","TwoTrees Technology","11e","Lenovo","SPKEYBD-28","104a7d6ee6e1","2019/2020",null,"27872-6541",{"$nulls":7},"20DAS0VX00",null,null,"Technology","01/15/2019 09:52 AM","Ted Meyer"]
["46548","SLR03ZUWS","Warehouse","T33 Surplus Pallet Lot 11e Damaged April 2021","Lenovo ThinkPad 11e",null,"Sold","Laptop","2015-07-06","473.00","16-30271","TwoTrees Technology","11e","Lenovo","TRDL-24","104a7d6e6a13","2019/2020",null,"27872-6541",{"$nulls":7},"20DAS0VX00",null,null,"Digital Literacy","01/15/2019 09:59 AM","Ted Meyer"]
["45992","SR9YRBKY","Warehouse","T34 Surplus Pallet Lot Helix, 540, old junk damaged April 2021","Lenovo ThinkPad Helix",null,"Sold","Laptop","2013-05-10","1,455.00","14-15032","TWOTREES","Helix","Lenovo","Pamela Gordon","843a4b720ffc","2017/2018",{"$nulls":9},"36984LU",{"$nulls":3},"01/15/2019 09:52 AM","Ted Meyer"]
["41104","2011150065802000","Warehouse","T34 Surplus Pallet Lot Nook April 2021","Nook Color",null,"Sold","eReader","2011-06-01","234.06","11-37735","Barnes & Noble","BNRV200","Nook",null,"58671a157b0c",null,null,"29901-6411",{"$nulls":10},"Library","01/15/2019 09:21 AM","Ted Meyer"]
["41184","2011270034422000","Warehouse","T34 Surplus Pallet Lot Nook April 2021","Nook Color",null,"Sold","eReader","2011-06-01","234.06","11-37735","Barnes & Noble","BNRV200","Nook","13","58671a18be13","2015/2016",null,"29901-6411",{"$nulls":10},"Library","01/15/2019 09:59 AM","Ted Meyer"]
["41976","RF2CB0KG50N","Warehouse","T34 Surplus Pallet Lot Nook April 2021","Samsung Galaxy Tab II  7inch 8GB",null,"Sold","Tablet","2012-11-21","181.00","13-11987","Two Trees","GT-P3113","Samsung","TRLibTab-05","845181a8aea7",null,null,"27870-6541",{"$nulls":10},"TECHNOLOGY STG","01/15/2019 09:59 AM","Ted Meyer"]
["39652","932108959","Warehouse","T35 Surplus Pallet Lot Printers June 2021","Dell 3110cn Color Laser Printer",null,"Sold","Printer",{"$nulls":4},"3110cn","Dell",{"$nulls":3},"10.0.21.107",{"$nulls":11},"Business","01/15/2019 09:21 AM","Ted Meyer"]
["47758",null,"Warehouse","T35 Surplus Pallet Lot Printers June 2021","Dell B2360dn Laser Printer",null,"Sold","Printer","2016-07-19","155.63","17-36550","CDW-G","B2360dn","Dell",null,null,"2020/2021",null,"27870-6411",{"$nulls":11},"01/15/2019 09:53 AM","Ted Meyer"]
["42297","CN0DX7874873097S1CB6","Warehouse","T36 Surplus Pallet Lot Broken Printers June 2021","Dell 2330dn Laser Printer",null,"Sold","Printer","2009-09-11","208.00","10-34400","Dell","2330dn","Dell",null,null,"2013/2014",null,"27870-6541",{"$nulls":10},"PEGS","01/15/2019 09:52 AM","Ted Meyer"]
["46070","40283451153","Warehouse","T37 Surplus Pallet Lot Computers- Good June 2021","Microsoft Surface Pro 3",null,"Sold","Laptop","2015-03-30","839.00","15-22136","Microsoft Corportation","Surface Pro 3","Microsoft","HSBUSSUR-10","c0335e166901",null,null,"24486-6411",{"$nulls":3},"110-2213-6411-823-005-000 Carl Perkins Mktng Supplies S/N for Keyboard 085970645054",{"$nulls":6},"Business","01/15/2019 09:21 AM","Ted Meyer"]
["42694","LR5ZMLC","Warehouse","T37 Surplus Pallet Lot Computers- Good June 2021","Lenovo ThinkPad X130e",null,"Sold","Laptop","2012-05-18","573.00","12-40254","Two Trees","X130e","Lenovo",null,"7ce9d3ee0941",null,null,"27870-6541",{"$nulls":11},"01/15/2019 10:39 AM","Ted Meyer"]
["47813","YFGN0915008433","Warehouse","T39 Surplus Pallet Lot Other June 2021","Nextbook Flexx 9 8.9 inch 32 GB Intel quad core 2-in-1 tablet w/detachable keyboard windows 10 black",null,"Sold","Tablet","2016-04-28","94.83","16-34377","Amazon.com Credit","Flexx9","Nextbook","HS207-02","58635663b132",null,null,"15430-6411",{"$nulls":3},"Mother's Club Purchase 110-1151-6411-001-000-009",{"$nulls":7},"01/15/2019 09:21 AM","Ted Meyer"]
["49909","MJ05N1QB","Warehouse","T39 Surplus Pallet Lot Other June 2021","Lenovo ThinkCentre M9108 (Core i5-7500, 8GB, 1TB HDD)",null,"Sold","Desktop","2017-08-14","755.41","18-50422","Staples","M92108","Lenovo","Blackwood/Imboden",null,"2021/2022",null,"27873-6412",{"$nulls":7},"10MK000QUS",null,null,"Industrial Technology","01/15/2019 09:21 AM","Ted Meyer"]
["54826",null,"Warehouse","T39 Surplus Pallet Lot Other June 2021","ELMO TT-02s Document Camera",null,"Sold","Document Camera",{"$nulls":4},"TT-02s","ELMO",{"$nulls":16},"03/19/2019 02:24 PM","Keith Loveless"]
["46369","SLR03W5BJ","Warehouse","T32 Surplus Pallet Lot 11e April 2021","Lenovo ThinkPad 11e",null,"Sold","Laptop","2015-06-04","473.00","15-22978","TwoTrees Technologies, LLC","11e","Lenovo","PEGS-024","104a7d4e101a","2019/2020",null,"3069-6542",{"$nulls":7},"20DAS0VX00",null,null,"PEGS","01/15/2019 09:52 AM","Ted Meyer"]
["46628","SLR03ZUQV","Warehouse","T32 Surplus Pallet Lot 11e April 2021","Lenovo ThinkPad 11e",null,"Sold","Laptop","2015-07-06","473.00","16-30271","TwoTrees Technology","11e","Lenovo","SPDL-23","104a7da2b45d","2019/2020",null,"27872-6541",{"$nulls":7},"20DAS0VX00",null,null,"Technology","01/15/2019 09:52 AM","Ted Meyer"]
["46928","SLR03ZUQZ","Warehouse","T32 Surplus Pallet Lot 11e April 2021","Lenovo ThinkPad 11e",null,"Sold","Laptop","2015-07-06","473.00","16-30271","TwoTrees Technology","11e","Lenovo","SPML5-24","104a7da2b4ee","2019/2020",null,"27872-6541",{"$nulls":7},"20DAS0VX00",null,null,"Technology","01/15/2019 09:52 AM","Ted Meyer"]
["46671","SLR03ZUUC","Warehouse","T32 Surplus Pallet Lot 11e April 2021","Lenovo ThinkPad 11e",null,"Sold","Laptop",{"$nulls":4},"11e","Lenovo","SP223-03","104a7d27bf91","UnKnown",{"$nulls":9},"20DAS0VX00",{"$nulls":3},"01/15/2019 09:53 AM","Ted Meyer"]
["46675","SLR03ZUNP","Warehouse","T32 Surplus Pallet Lot 11e April 2021","Lenovo ThinkPad 11e",null,"Sold","Laptop","2015-07-06","473.00","16-30271","TwoTrees Technology","11e","Lenovo","TRKEYBD-02","104a7d3658bc","2019/2020",null,"27872-6541",{"$nulls":7},"20DAS0VX00",null,null,"Keyboarding","01/15/2019 09:59 AM","Ted Meyer"]
["46746","SLR03ZUW2","Warehouse","T32 Surplus Pallet Lot 11e April 2021","Lenovo ThinkPad 11e",null,"Sold","Laptop","2015-07-06","473.00","16-30271","TwoTrees Technology","11e","Lenovo","TRML5-20","104a7d270772","2019/2020",null,"27872-6541",{"$nulls":7},"20DAS0VX00",null,null,"Modern Language","01/15/2019 09:59 AM","Ted Meyer"]
["46748","SLR03ZUYM","Warehouse","T32 Surplus Pallet Lot 11e April 2021","Lenovo ThinkPad 11e",null,"Sold","Laptop","2015-07-06","473.00","16-30271","TwoTrees Technology","11e","Lenovo","TRML5-22","104a7d6ee59c","2019/2020",null,"27872-6541",{"$nulls":7},"20DAS0VX00",null,null,"Modern Language","01/15/2019 09:59 AM","Ted Meyer"]
["31349","8811401","District Storage","Trash","Sony Dual Cassette Tape Deck",null,"Disposed","Tape Recorder","2004-08-11","130.00","05-24088","HRS","TC-WE475","Sony",{"$nulls":4},"30010-6542",{"$nulls":6},"Removed from Concord 037",{"$nulls":4},"01/15/2019 08:37 AM","Ted Meyer"]
["31897","244573","District Storage","Surplus - Spring 2023","Eiki Aidio Cassette Tape Recorder/Player With CD Player",null,"Disposed","Tape Recorder","2005-06-05","192.31","06-24871","CSD (W. SCHILLER & CO)","7070A","Eiki",{"$nulls":15},"Modern Language","01/15/2019 09:59 AM","Ted Meyer"]
["35939","40334277","District Storage","Trash","Gateway E-265M Laptop",null,"Disposed","Laptop","2007-09-14","1,400.00","08-29953","GATEWAY","E-265M","Gateway",null,null,"2011/2012",null,"27870-6541",{"$nulls":4},"2016-07-13","broken recycled",{"$nulls":5},"01/15/2019 10:03 AM","Ted Meyer"]
["27093","C05A26161","District Storage","Trash","Panasonic HI-FI Stereo 4 Head Video Cassette Tape Recorder",null,"Disposed","VCR","2000-12-20","125.50","13656","CSD (W.Schiller & Co.)","PV-V4540","Panasonic",{"$nulls":4},"29550-6542",{"$nulls":4},"2017-09-28","Item is no longer functional",{"$nulls":4},"Kindergarten","01/15/2019 10:06 AM","Ted Meyer"]
["29716","848140","District Storage","Surplus - Spring 2023","Sony Dual Stereo Cassette Tape Deck",null,"Disposed","Audio","2003-10-02","149.99","04-22221","BEST BUY","TC-WE475","Sony",{"$nulls":4},"26622-6411",{"$nulls":10},"Technology","01/15/2019 10:06 AM","Ted Meyer"]
["30916",null,"District Storage","Trash","Canon Mini Digital Video Camcorder Compact Power Adapter Supply",null,"Disposed","Adapter","2004-09-13",null,"05-24083","BEST BUY","CA-570","Canon",{"$nulls":10},"SEE R8 30915 FOR COST",{"$nulls":5},"01/15/2019 10:06 AM","Ted Meyer"]
["34339","6806793601","District Storage","Trash","Gateway M460E Laptop Computer A/C Adapter",null,"Disposed","Adapter","2006-09-07",null,"07-27828","GATEWAY BUSINESS","PA-1650-01","Gateway",{"$nulls":4},"27870-6542",{"$nulls":11},"01/15/2019 10:06 AM","Ted Meyer"]
["35958","40333214","District Storage","Trash","Gateway E-265M Laptop",null,"Disposed","Laptop","2007-09-12","1,301.67","08-29954","GATEWAY","E-M265","Gateway",{"$nulls":4},"27870-6541",{"$nulls":10},"Reading","01/15/2019 10:06 AM","Ted Meyer"]
["35779","39189837","District Storage","Trash","Gateway E-2610N Core 2 Duo 1.8 GHz",null,"Disposed","Desktop",{"$nulls":4},"E-2610N","Gateway",null,null,"UnKnown",{"$nulls":6},"2017-09-28","Item is no longer functional",{"$nulls":4},"Office","01/15/2019 10:07 AM","Ted Meyer"]
["35117","1S36984LUR9YTD4R","Warehouse","T21 Surplus Pallet Lot 200 220 540 Helix","Lenovo ThinkPad Helix",null,"Disposed","Laptop",{"$nulls":4},"Helix","Lenovo",null,null,"UnKnown",{"$nulls":5},"Unknown - R8 had been removed prior to 2/5/2018",{"$nulls":3},"36984LU",{"$nulls":3},"01/15/2019 10:39 AM","Ted Meyer"]
["36629","8Z01248FF","District Storage","Trash","NEC Video Projector",null,"Disposed","Projector","2008-12-13","659.00","09-33069","CDWG","NP300","NEC",null,null,"2012/2013",null,"27870-6541",{"$nulls":10},"Technology","01/15/2019 10:39 AM","Ted Meyer"]
["38132","6922335502","District Storage","Trash","Canon Power Shot Digital Camera, 8.0MP, 4x Zoom, 32M SD Card, with case",null,"Disposed","Camera","2009-03-02","130.00",null,null,"A590","Canon",{"$nulls":8},"PURCHASED WITH GRANT CREDIT CARD",null,null,"No longer functional; take-apart station",{"$nulls":3},"Library","01/15/2019 09:45 AM","Ted Meyer"]
["38855","L3AGM4B","District Storage","Trash","Lenovo ThinkPad x200T Tablet Laptop",null,"Disposed","Laptop","2009-06-05","1,569.00","10-33737","Lenovo","x200t","Lenovo",null,null,"2013/2014",null,"27870-6541",{"$nulls":11},"01/15/2019 10:03 AM","Ted Meyer"]
["37061","73190-821-1061","District Storage","Trash","Dell 1720dn Laser Printer",null,"Disposed","Printer","2008-03-10","224.00","08-31160","DELL","1720dn","Dell",{"$nulls":4},"27820-6541",{"$nulls":4},"2017-09-28","Item is no longer functional",{"$nulls":4},"5th Grade","01/15/2019 10:06 AM","Ted Meyer"]
["38285","L3AGM6V","District Storage","Trash","Lenovo ThinkPad x200T Tablet Laptop",null,"Disposed","Laptop","2009-06-05","1,569.00","10-33737","Lenovo","x200t","Lenovo",null,null,"2013/2014",null,"27870-6541",{"$nulls":10},"SSD","01/15/2019 10:07 AM","Ted Meyer"]
["38281","L3AGM0G","District Storage","Trash","Lenovo ThinkPad x200T Tablet Laptop",null,"Disposed","Laptop","2009-06-05","1,569.00","10-33737","Lenovo","x200t","Lenovo",null,null,"2013/2014",null,"27870-6541",{"$nulls":10},"ELL","01/15/2019 10:07 AM","Ted Meyer"]
["38216",null,"District Storage","Trash","Lenovo Thinkpad X220 Ultrabase Base",null,"Disposed","Docking Station",{"$nulls":4},"x200 Ultrabase","Lenovo",{"$nulls":11},"Key# H97",{"$nulls":3},"Reading","01/15/2019 10:07 AM","Ted Meyer"]
["38303","L3AGM2X","District Storage","Trash","Lenovo ThinkPad x200T Tablet Laptop",null,"Disposed","Laptop",{"$nulls":4},"x200t","Lenovo",null,null,"UnKnown",{"$nulls":13},"01/15/2019 10:07 AM","Ted Meyer"]
["37804","8700438EH","District Storage","Trash","NEC VT491 Projector",null,"Disposed","Projector","2008-08-05","545.00","09-32121","CDWG","VT491","NEC",null,null,"2012/2013",null,"27870-6541",{"$nulls":3},"Cost split w/ C&amp;amp;I Dept.",{"$nulls":6},"Technology","01/15/2019 10:39 AM","Ted Meyer"]
["38148",null,"District Storage","Trash","Canon CanoScan Flatbed Scanner",null,"Disposed","Scanner","2009-08-03","123.39","10-34092","World Wide Technology",null,"Canon",{"$nulls":4},"23332-6411",{"$nulls":3},"model# 5600F",{"$nulls":6},"Office","01/15/2019 10:39 AM","Ted Meyer"]
["38913","MJ39233","District Storage","Trash","Lenovo ThinkCentre M58",null,"Disposed","Desktop","2009-08-25","505.00","10-34231","Lenovo","M58","Lenovo",{"$nulls":4},"27870-6541",{"$nulls":11},"01/15/2019 10:39 AM","Ted Meyer"]
["41610","DMPJ900WF182","Warehouse","T27 Surplus Pallet Lot iPad PARTS April 2021","Apple iPad 16GB WIFI (4th Gen)",null,"Disposed","iPad","2012-11-15","499.00","13-11912","Apple","MD510LL/A","Apple",null,"34c059548f0c",null,null,"27870-6541",{"$nulls":7},"A1458",null,null,"2nd Grade","01/15/2019 08:37 AM","Ted Meyer"]
["42314","73190-87H-1314","District Storage","Trash","Dell 1720dn Laser Printer",null,"Disposed","Printer",{"$nulls":4},"1720dn","Dell",{"$nulls":9},"2017-01-12","Recycle",{"$nulls":5},"01/15/2019 10:03 AM","Ted Meyer"]
["41977","RF2CB0KKYKA","District Storage","Trash","Samsung Galaxy Tab II  7inch 8GB",null,"Disposed","Tablet","2012-11-21","181.00","13-11987","Two Trees","GT-P3113","Samsung",null,"845181a8cf07",null,null,"27870-6541",{"$nulls":11},"01/15/2019 10:03 AM","Ted Meyer"]
["40364","CN-0DX78-48730-07R-10DQ","District Storage","Trash","Dell 2330dn Laser Printer",null,"Disposed","Printer","2010-10-08","229.00","11-36188","Dell","2330dn","Dell",{"$nulls":4},"27870-6541",{"$nulls":10},"Math","01/15/2019 10:07 AM","Ted Meyer"]
["41370","LR5K1AY","District Storage","Trash","Lenovo Thinkpad x120e",null,"Disposed","Laptop","2011-08-18","538.00","12-37782","TwoTrees","x120e","Lenovo",null,"d0df9a724597","2015/2016",null,"34089-6521",{"$nulls":10},"Technology","01/15/2019 10:07 AM","Ted Meyer"]
["39308",null,"District Storage","Trash","Dell 2350dn Laser Printer",null,"Disposed","Printer",{"$nulls":4},"2350dn","Dell",{"$nulls":9},"2017-08-22","No longer works",{"$nulls":4},"Cafeteria","01/15/2019 10:07 AM","Ted Meyer"]
["41913","RF2CB0KG3DN","Warehouse","T34 Surplus Pallet Lot Nook April 2021","Samsung Galaxy Tab II 7inch 8GB",null,"Disposed","Tablet","2012-11-21","181.00","13-11987","TwoTrees","GT-P3113","Samsung",null,"845181a8ae3d",null,null,"27870-6541",{"$nulls":11},"01/15/2019 10:07 AM","Ted Meyer"]
["40024","R94NVYE","District Storage","Trash","Lenovo Thinkpad X220 Ultrabase Base",null,"Disposed","Docking Station","2010-05-25","1,724.00","11-35514","Lenovo","x201T Ultrabase","Lenovo",{"$nulls":4},"27870-6541",{"$nulls":6},"Key# G05",{"$nulls":3},"Technology","01/15/2019 10:39 AM","Ted Meyer"]
["40276","R94NVKB","District Storage","Trash","Lenovo Thinkpad X220 Ultrabase Base",null,"Disposed","Docking Station","2010-05-25","1,724.00","11-35514","Lenovo","x201T Ultrabase","Lenovo",{"$nulls":4},"27870-6541",{"$nulls":6},"Key# G44",{"$nulls":3},"Technology","01/15/2019 10:39 AM","Ted Meyer"]
["42005","R9F04N1","District Storage","Trash","Lenovo Thinkpad X220 Ultrabase Base",null,"Disposed","Docking Station","2011-06-23","1,425.00","12-37311","TwoTrees","x220 Ultrabase","Lenovo",{"$nulls":4},"27870-6541",{"$nulls":6},"Key: G49",{"$nulls":3},"Technology","01/15/2019 10:39 AM","Ted Meyer"]
["42011","R9F1T63","District Storage","Trash","Lenovo Thinkpad X220T Ultrabase Base",null,"Disposed","Docking Station","2011-06-23","1,425.00","12-37311","TwoTrees","X220T Ultrabase","Lenovo",{"$nulls":4},"27870-6541",{"$nulls":6},"Key# G02",{"$nulls":3},"Technology","01/15/2019 10:39 AM","Ted Meyer"]
["43286","LRC43K5","District Storage","Trash","Lenovo ThinkPad X130e",null,"Disposed","Laptop","2012-05-18","573.00","12-40254","Two Trees","X130e","Lenovo",null,null,"2016/2017",null,"27870-6541",{"$nulls":11},"01/15/2019 09:52 AM","Ted Meyer"]
["43186","CN-OTNW57-48730-25Q-2HZK","District Storage","Trash","Dell 2350dn Laser Printer",null,"Disposed","Printer",{"$nulls":4},"2350dn","Dell",{"$nulls":3},"10.0.21.109",{"$nulls":5},"2017-01-12","broken",{"$nulls":4},"Science","01/15/2019 10:03 AM","Ted Meyer"]
["42910","R9LGHF2","District Storage","Trash","Lenovo Thinkpad X220 Ultrabase Base",null,"Disposed","Docking Station","2012-05-21","1,550.00","12-40270","Two Trees","x220 Ultrabase","Lenovo",{"$nulls":4},"27870-6541",{"$nulls":6},"Key # G58",{"$nulls":3},"2nd Grade","01/15/2019 10:07 AM","Ted Meyer"]
["43403","R9L8T88","District Storage","Trash","Lenovo Thinkpad X220 Ultrabase Base",null,"Disposed","Docking Station","2012-07-09","1,550.00","13-10310","Two Trees","x220 Ultrabase","Lenovo",{"$nulls":4},"27870-6541",{"$nulls":6},"Key # H51",{"$nulls":3},"English","01/15/2019 10:07 AM","Ted Meyer"]
["42345","557794","District Storage","Trash","ELMO TT-02RX Document Camera",null,"Disposed","Document Camera",{"$nulls":4},"TT-02RX","ELMO",{"$nulls":15},"Technology","01/15/2019 10:39 AM","Ted Meyer"]
["42727","LR6PVPH","District Storage","Trash","Lenovo ThinkPad X130e",null,"Disposed","Laptop","2012-05-18","573.00","12-40254","Two Trees","X130e","Lenovo",null,"7ce9d3eeeaf2","2016/2017",null,"27870-6541",{"$nulls":10},"Technology","01/15/2019 10:39 AM","Ted Meyer"]
["42926","R9L8T3E","District Storage","Trash","Lenovo Thinkpad X220 Ultrabase Base",null,"Disposed","Docking Station","2012-05-21","1,550.00","12-40270","Two Trees","x220 Ultrabase","Lenovo",{"$nulls":4},"27870-6541",{"$nulls":6},"Key # H42",{"$nulls":3},"Technology","01/15/2019 10:39 AM","Ted Meyer"]
["43094","R9L8PZ3","District Storage","Trash","Lenovo Thinkpad X220 Ultrabase Base",null,"Disposed","Docking Station","2012-05-21","1,550.00","12-40270","Two Trees","x220 Ultrabase","Lenovo",{"$nulls":4},"27870-6541",{"$nulls":6},"Key # H30",{"$nulls":3},"Technology","01/15/2019 10:39 AM","Ted Meyer"]
["43173","R9-PCZD5","District Storage","Trash","Lenovo Thinkpad X220T Ultrabase Base",null,"Disposed","Docking Station",null,null,"13-10812",null,"X220T Ultrabase","Lenovo",{"$nulls":11},"Key: G90",{"$nulls":3},"Technology","01/15/2019 10:39 AM","Ted Meyer"]
["43446","R9L8T81","District Storage","Trash","Lenovo Thinkpad X220T Ultrabase Base",null,"Disposed","Docking Station","2012-05-21","1,550.00","12-40270","Two Trees","X220T Ultrabase","Lenovo",{"$nulls":4},"27870-6541",{"$nulls":6},"Key: H43",{"$nulls":3},"Technology","01/15/2019 10:39 AM","Ted Meyer"]
["43697","DMQJ88AKDJ8T","Warehouse","T25 Surplus Pallet Lot iPad 4 April 2021","Apple iPad 16GB WIFI (3rd Gen)",null,"Disposed","iPad","2012-08-22","479.00","13-10778","Apple","MC705LL/A","Apple",null,"d8004dda2133",null,null,"27870-6541",{"$nulls":6},"SK: I believe these were found in Concord 013 ELMO cart in Sept, and delivered to Central Office","A1416",{"$nulls":3},"01/15/2019 08:37 AM","Ted Meyer"]
["45775","PB1BZN0","District Storage","Trash","Lenovo ThinkPad USB 3.0 Dock",null,"Disposed","Dock","2013-05-10","135.00","14-15032","TWOTREES","DU9019D1","Lenovo",null,"843a4b0edbdc",{"$nulls":14},"01/15/2019 09:21 AM","Ted Meyer"]
["45462","PB7HCC7","District Storage","Trash","Lenovo ThinkPad X131e",null,"Disposed","Laptop","2013-05-20","508.00","13-13931","Two Trees","X131e","Lenovo",null,"f4b7e2d27f95","2017/2018",null,"27870-6541",{"$nulls":4},"2016-09-06","Using for parts bad motherboard. nh",{"$nulls":5},"01/15/2019 10:03 AM","Ted Meyer"]
["43654","DMPJ9DFCDJ8T","District Storage","Trash","Apple iPad 16GB WIFI (3rd Gen)",null,"Disposed","iPad","2012-08-22","479.00","13-10778","Apple","MC705LL/A","Apple",null,"d8004dde40b9","2016/2017",null,"27870-6541",{"$nulls":7},"A1416",{"$nulls":3},"01/15/2019 10:07 AM","Ted Meyer"]
["43522","R9PCZM4","District Storage","Trash","Lenovo Thinkpad X220T Ultrabase Base",null,"Disposed","Docking Station",{"$nulls":4},"X220T Ultrabase","Lenovo",{"$nulls":11},"Key no. G42",{"$nulls":3},"English","01/15/2019 10:07 AM","Ted Meyer"]
["44788","2CE9380X4P","District Storage","Trash","HP EliteBook 6930p",null,"Disposed","Laptop",{"$nulls":4},"EliteBook 6930p","HP",null,null,"UnKnown",{"$nulls":13},"01/15/2019 10:07 AM","Ted Meyer"]
["44974","3448242853","District Storage","Trash","Microsoft Surface Pro 3",null,"Disposed","Laptop","2014-07-21","904.46","15-18827","Microsoft Corporation","Surface Pro 3","Microsoft",null,"3059b7161c4c",null,null,"27870-6541",{"$nulls":3},"Replaced R8 46025","2015-03-02","Intermittent network issues.",{"$nulls":4},"Technology","01/15/2019 10:39 AM","Ted Meyer"]
["45855","PB5ZH3V","District Storage","HS 2022 Surplus","Lenovo ThinkPad USB 3.0 Dock",null,"Disposed","Dock","2013-05-10","135.00","14-15032","TWOTREES","DU9019D1","Lenovo",null,"843a4b0edbdc",{"$nulls":13},"Technology","01/15/2019 10:39 AM","Ted Meyer"]
["45946","RF2D50AVXFD","District Storage","Trash","Samsung Galaxy Tab II  7inch 8GB",null,"Disposed","Tablet","2013-01-14","1,990.00","13-12446","Two Trees","GT-P3113","Samsung",null,"64b310d256a4",null,null,"27870-6541",{"$nulls":3},"Model # GT-P3113TSYXAR",{"$nulls":6},"Technology","01/15/2019 10:39 AM","Ted Meyer"]
["45968","RF2D50AY64N","District Storage","Trash","Samsung Galaxy Tab II  7inch 8GB",null,"Disposed","Tablet","2013-01-14","1,990.00","13-12446","Two Trees","GT-P3113","Samsung",null,"64b310d269e4",null,null,"27870-6541",{"$nulls":3},"Model # GT-P3113TSYXAR",{"$nulls":6},"Technology","01/15/2019 10:39 AM","Ted Meyer"]
["48592","PB027DUZ","Warehouse","T15 Surplus Pallet Lot 140 Laptops","Lenovo ThinkPad x140e",null,"Disposed","Laptop","2014-06-05","434.00","15-18339","TwoTrees","X140e","Lenovo",null,"142d27e3af27","2018/2019",null,"27870-6541",{"$nulls":10},"ELL","01/15/2019 08:34 AM","Ted Meyer"]
["48134","RF2DA1E2MBN","District Storage","Trash","Samsung Galaxy Tab 3 (8 inch)",null,"Disposed","Tablet","2014-01-29","269.00","14-17786","Amazon","SM-T310","Samsung",null,"c462ea307518","2018/2019",null,"11310-6542",{"$nulls":10},"Library","01/15/2019 09:46 AM","Ted Meyer"]
["48769","PB027DUX","District Storage","Trash","Lenovo ThinkPad x140e",null,"Disposed","Laptop","2014-06-05","434.00","15-18339","TwoTrees","X140e","Lenovo",null,"142d27e3c40f","2018/2019",null,"27870-6541",{"$nulls":10},"Technology","01/15/2019 10:03 AM","Ted Meyer"]
["46344","FRXWSS1","District Storage","Trash","Dell 2360dn Laser Printer",null,"Disposed","Printer",{"$nulls":4},"2360dn","Dell",null,"0021B7761005F",{"$nulls":7},"2017-01-12","broken",{"$nulls":4},"Science","01/15/2019 10:03 AM","Ted Meyer"]
["47198","PC06CTBR","District Storage","Trash","Lenovo ThinkPad Onelink Pro Dock for Thinkpad Yoga",null,"Disposed","Dock","2015-07-06",null,"16-30425",null,"DU9033S1","Lenovo",{"$nulls":16},"01/15/2019 10:07 AM","Ted Meyer"]
["49299","B6413484","District Storage","Trash","Lenovo ThinkPad UltraSlim USB DVD Burner",null,"Disposed","DVD Drive","2016-09-21","71.96","17-37442","ITsavvy","4XA0E97775","Lenovo",{"$nulls":4},"10212-6411",null,null,"Building Budget",{"$nulls":7},"Music","01/15/2019 10:07 AM","Ted Meyer"]
["48904","RF2D50AQHDJ","District Storage","Trash","Samsung Galaxy Tab II  7inch 8GB",null,"Disposed","Tablet","2013-01-14","1,990.00","13-12446","Two Trees","GT-P3113","Samsung",null,"64b310d2313e",null,null,"27870-6541",{"$nulls":3},"Model # GT-P3113TSYXAR",{"$nulls":6},"Technology","01/15/2019 10:39 AM","Ted Meyer"]
["48919","RF2D50AWW6Z","District Storage","Trash","Samsung Galaxy Tab II  7inch 8GB",null,"Disposed","Tablet","2013-01-14","1,990.00","13-12446","Two Trees","GT-P3113","Samsung",null,"64b310d25ed2",null,null,"27870-6541",{"$nulls":3},"Model # GT-P3113TSYXAR",{"$nulls":6},"Technology","01/15/2019 10:39 AM","Ted Meyer"]
["48953","RF2D50AVSWX","District Storage","Trash","Samsung Galaxy Tab II  7inch 8GB",null,"Disposed","Tablet","2013-01-14","1,990.00","13-12446","Two Trees","GT-P3113","Samsung",null,"64b310d255b8",null,null,"27870-6541",{"$nulls":3},"Model # GT-P3113TSYXAR",{"$nulls":6},"Technology","01/15/2019 10:39 AM","Ted Meyer"]
["48969","RF2D50AQ99P","District Storage","Trash","Samsung Galaxy Tab II  7inch 8GB",null,"Disposed","Tablet","2013-01-14","1,990.00","13-12446","Two Trees","GT-P3113","Samsung",null,"64b310d22f26",null,null,"27870-6541",{"$nulls":3},"Model # GT-P3113TSYXAR",{"$nulls":6},"Technology","01/15/2019 10:39 AM","Ted Meyer"]
["HS00002","R9ZLM92","District Storage","Trash","Lenovo ThinkPad Helix",null,"Disposed","Laptop","2013-07-15","1,515.00","14-15330","TWOTREES","Helix","Lenovo",null,"843a4b9824c4",{"$nulls":10},"36984LU",null,null,"English","01/15/2019 09:21 AM","Ted Meyer"]
["HS00009",null,"District Storage","Trash","Lumens CL510 Document Camera",null,"Disposed","Document Camera",{"$nulls":4},"CL510","Lumens",{"$nulls":15},"Music","01/15/2019 09:21 AM","Ted Meyer"]
["RD00003",null,"District Storage","Trash","LCD TV Box w/Remote",null,"Disposed","Tvator",{"$nulls":21},"Kindergarten","01/15/2019 10:03 AM","Ted Meyer"]
["UN00017",null,"District Storage","Trash","Lenovo ThinkPad 11e",null,"Disposed","Laptop","2016-03-07","492.71","16-33723","ITsavvy","11e","Lenovo",null,null,"2020/2021",null,"113006411",{"$nulls":3},"Library cart at Sappington purchased by Sappington PTG",{"$nulls":3},"20DAS1FW00",null,null,"Library","01/15/2019 10:07 AM","Ted Meyer"]
["55831","DMPYWVWTJF8J",null,null,"Apple iPad 32GB WIFI (6th Gen)","Crestwood Elementary / 022","Checked out","iPad","2019-06-25","294.00","20-57432","Apple","PR8A2LL/A","Apple","ISLAB20-20","c42ad0d3abe4","2024/2025",null,"TE PD",{"$nulls":7},"A1893","IPRedistribute",null,"3rd Grade","06/27/2019 10:19 AM","Mary Plass"]
["55378","P204VJ31","Crestwood Elementary","Library Chromebook Cart","Lenovo 500e Chromebook (Gen 2)","Crestwood Elementary / 023","Checked out","Chromebook","2019-07-11","309.00","20-57400","Firefly Computers","500e","Lenovo","ISLAB2-02","58a0235e95e3","2024/2025",null,"TE PD",{"$nulls":6},"Impact Study","81MC001EUS","CBRedistribute",null,null,"07/11/2019 10:33 AM","Mary Plass"]
["51138","LR08MYFE","Central Office","Technology","Lenovo ThinkPad 11e","Crestwood Elementary / 024","Checked out","Laptop","2017-05-24","367.00","17-40901","TWOTREES TECHNOLOGIES, LLC 200 NORTH EMPORIA STREET #300 WICHITAK KS 67202-2508","11e","Lenovo","CR-ISLAB1-18","c82158e67229","2021/2022",null,"27871-6541",{"$nulls":3},"5WSOE84849 LENOVO EPAC REPAIR EXTENDEND SERVICE @$49.99",{"$nulls":3},"20GBS00S00",null,null,"3rd Grade","01/15/2019 08:34 AM","Ted Meyer"]
["56021","DMPYWW92JF8J",null,null,"Apple iPad 32GB WIFI (6th Gen)","Sperreng Middle / 211","Checked out","iPad","2019-06-25","294.00","20-57432","Apple","PR8A2LL/A","Apple","ISLAB28-14","c42ad0e45101","2024/2025",null,"TE PD",{"$nulls":7},"A1893","IPRedistribute",null,"English","06/27/2019 10:19 AM","Mary Plass"]
["55233","P204V6UN","Central Office","214","Lenovo 500e Chromebook (Gen 2)","Truman Middle / 222","Checked out","Chromebook","2019-07-11","309.00","20-57400","Firefly Computers","500e","Lenovo","ISLAB12-16","58a0235cb246","2024/2025",null,"TE PD",{"$nulls":6},"Impact Study","81MC001EUS","Issued for Virtual Learning - COVID-19",null,"Social Studies","07/11/2019 10:33 AM","Mary Plass"]
["56081","DMPYWWAMJF8J",null,null,"Apple iPad 32GB WIFI (6th Gen)","Truman Middle / 226","Checked out","iPad","2019-06-25","294.00","20-57432","Apple","PR8A2LL/A","Apple","ISLAB30-18","c42ad0e12567","2024/2025",null,"TE PD",{"$nulls":7},"A1893","IPRedistribute",null,"Social Studies","06/27/2019 10:19 AM","Mary Plass"]
["55251","P204V7BL","Sappington Elementary","Unknown","Lenovo 500e Chromebook (Gen 2)","Sappington Elementary / 048","Checked out","Chromebook","2019-07-11","309.00","20-57400","Firefly Computers","500e","Lenovo","ISLAB7-06","3cf011e2ada6","2024/2025",null,"TE PD",{"$nulls":6},"Impact Study","81MC001EUS","CBRedistribute",null,"4th Grade","07/11/2019 10:33 AM","Mary Plass"]
["55971","DMPYWVWUJF8J",null,null,"Apple iPad 32GB WIFI (6th Gen)","Sappington Elementary / 047","Checked out","iPad","2019-06-25","294.00","20-57432","Apple","PR8A2LL/A","Apple","ISLAB26-16","c42ad0d970db","2024/2025",null,"TE PD",{"$nulls":7},"A1893","IPRedistribute",null,"4th Grade","06/27/2019 10:19 AM","Mary Plass"]
["55770","DMPYWVY3JF8J",null,null,"Apple iPad 32GB WIFI (6th Gen)","Concord Elementary / 001","Checked out","iPad","2019-06-25","294.00","20-57432","Apple","PR8A2LL/A","Apple","ISLAB18-07","c42ad0cf81c1","2024/2025",null,"TE PD",{"$nulls":7},"A1893","IPRedistribute",null,"5th Grade","06/27/2019 10:19 AM","Mary Plass"]
["55048","P204TRQ2","Central Office","214","Lenovo 500e Chromebook (Gen 2)","Lindbergh High School / 051","Checked out","Chromebook","2019-07-11","309.00","20-57400","Firefly Computers","500e","Lenovo","ISLAB14-26","58a0233944c8","2024/2025",null,"TE PD",{"$nulls":6},"Impact Study","81MC001EUS","Issued for Virtual Learning - COVID-19",null,"Technology","07/11/2019 10:33 AM","Mary Plass"]
["55394","P204UME2","Lindbergh High School","250","Lenovo 500e Chromebook (Gen 2)","Lindbergh High School / 250","Checked out","Chromebook","2019-07-11","309.00","20-57400","Firefly Computers","500e","Lenovo","ISLAB15-16","3cf011e03dd2","2024/2025",null,"TE PD",{"$nulls":6},"Impact Study","81MC001EUS",null,null,"Technology","07/11/2019 10:33 AM","Mary Plass"]
["55197","P204V6WH","Central Office","214","Lenovo 500e Chromebook (Gen 2)","Lindbergh High School / 225","Checked out","Chromebook","2019-07-11","309.00","20-57400","Firefly Computers","500e","Lenovo","ISLAB16-28","58a0235ea0ce","2024/2025",null,"TE PD",{"$nulls":6},"Impact Study","81MC001EUS","Issued for Virtual Learning - COVID-19",null,"Technology","07/11/2019 10:33 AM","Mary Plass"]
["56181","DMPYWVZ0JF8J","Central Office","216","Apple iPad 32GB WIFI (6th Gen)","Lindbergh High School / 206","Checked out","iPad","2019-06-25","294.00","20-57432","Apple","PR8A2LL/A","Apple",null,"c42ad0dd1328","2024/2025",null,"TE PD",{"$nulls":7},"A1893",null,null,"Technology","06/27/2019 10:19 AM","Mary Plass"]
["55532","DMPYWW29JF8J",null,null,"Apple iPad 32GB WIFI (6th Gen)","Dressel Elementary / 222","Checked out","iPad","2019-06-25","294.00","20-57432","Apple","PR8A2LL/A","Apple","DR222-02","c42ad0db6e37","2024/2025",null,"TE PD",{"$nulls":7},"A1893","IPRedistribute",null,"5th Grade","06/27/2019 10:19 AM","Mary Plass"]
["55737","DMPYWVR7JF8J",null,null,"Apple iPad 32GB WIFI (6th Gen)","Sperreng Middle / 122","Checked out","iPad","2019-06-25","294.00","20-57432","Apple","PR8A2LL/A","Apple","SP122-03","c42ad0d9b466","2024/2025",null,"TE PD",{"$nulls":7},"A1893","IPRedistribute",null,"Science","06/27/2019 10:19 AM","Mary Plass"]
["55636","DMPYWX57JF8J",null,null,"Apple iPad 32GB WIFI (6th Gen)","Truman Middle / 204","Checked out","iPad","2019-06-25","294.00","20-57432","Apple","PR8A2LL/A","Apple","TR204-07","c42ad0dd39c7","2024/2025",null,"TE PD",{"$nulls":7},"A1893","IPRedistribute",null,"Science","06/27/2019 10:19 AM","Mary Plass"]
["55361","P204UMSU","Kennerly Elementary","Unknown","Lenovo 500e Chromebook (Gen 2)","Kennerly Elementary / 019","Checked out","Chromebook","2019-07-11","309.00","20-57400","Firefly Computers","500e","Lenovo","ISLAB4-09","58a0235e63de","2024/2025",null,"TE PD",{"$nulls":6},"Impact Study","81MC001EUS","CBRedistribute",null,"Technology","07/11/2019 10:33 AM","Mary Plass"]
["S57634","R90VLCN9","Truman Middle","132","Lenovo ThinkPad L390 (Core i5-8265U, 8GB, 256GB)","Truman Middle / 132","Checked out","Laptop","2019-07-29","919.00","20-57651","Firefly Computers","L390","Lenovo","TR-CompSci-10","84fdd1b3c464","2024/2025",null,"T&amp;L PD",null,null,"Dept Budget\t229",{"$nulls":4},"20NR000FUS",null,null,"Computer Science","08/01/2019 08:03 AM","Jan Liebel"]
["47070","MP08HT0L","Lindbergh High School","Library","Lenovo ThinkPad Yoga 12 (Core i5-5200U, 8GB, 128GB SSD)","Lindbergh High School / Library","Checked out","Laptop","2015-07-06","1,174.00","16-30425","TWOTREES","Yoga 12","Lenovo","HS-PWRLNCH-02","6057186e64cd","2019/2020",{"$nulls":9},"20DKS1LQ00",null,null,"Resource","01/15/2019 08:40 AM","Ted Meyer"]
["47092","MP08HSZ3","Sperreng Middle","009 (Lab 9)","Lenovo ThinkPad Yoga 12 (Core i5-5200U, 8GB, 128GB SSD)","Sperreng Middle / 009 (Lab 9)","Checked out","Laptop","2015-07-06","1,174.00","16-30425","TWOTREES","Yoga 12","Lenovo","SP009-PEGS-CAST","34028695a8f8","2019/2020",{"$nulls":9},"20DKS1LQ00",null,null,"PEGS","01/15/2019 09:46 AM","Ted Meyer"]
["55859","DMPYWW2TJF8J",null,null,"Apple iPad 32GB WIFI (6th Gen)","Dressel Elementary / 122","Checked out","iPad","2019-06-25","294.00","20-57432","Apple","PR8A2LL/A","Apple","ISLAB21-24","c42ad0d27591","2024/2025",null,"TE PD",{"$nulls":7},"A1893","IPRedistribute",null,"4th Grade","06/27/2019 10:19 AM","Mary Plass"]
["45209","SR9YTD31","District Storage","Summer20 Surplus","Lenovo ThinkPad Helix",null,"Disposed","Laptop","2013-05-10","1,455.00","14-15032","TWOTREES","Helix","Lenovo",null,"843a4b0f0218",{"$nulls":10},"36984LU",null,null,"Reading","01/15/2019 08:34 AM","Ted Meyer"]
["45063","SR9YTD0C","District Storage","Summer20 Surplus","Lenovo ThinkPad Helix",null,"Disposed","Laptop","2013-05-10","1,455.00","14-15032","TWOTREES","Helix","Lenovo",null,"843a4b0f7458","2017/2018",{"$nulls":9},"36984LU",{"$nulls":3},"01/15/2019 09:21 AM","Ted Meyer"]
["45090","SR9YW346","District Storage","Summer20 Surplus","Lenovo ThinkPad Helix",null,"Disposed","Laptop","2013-05-10","1,455.00","14-15032","TWOTREES","Helix","Lenovo",null,"843a4b0b7ab8","2017/2018",{"$nulls":9},"36984LU",{"$nulls":3},"01/15/2019 09:21 AM","Ted Meyer"]
["45026","SR9YRBKX","District Storage","Summer20 Surplus","Lenovo ThinkPad Helix",null,"Disposed","Laptop","2013-05-10","1,455.00","14-15032","TWOTREES","Helix","Lenovo",null,"843a4b721004",{"$nulls":10},"36984LU",null,null,"TECHNOLOGY STG","01/15/2019 09:34 AM","Ted Meyer"]
["47031","PC06CT7Y","District Storage","Summer20 Surplus","Lenovo ThinkPad USB 3.0 Dock",null,"Disposed","Dock","2015-07-06","132.00","16-30425","TWOTREES","DU9019D1","Lenovo",null,null,"2019/2020",{"$nulls":12},"Kindergarten","01/15/2019 09:46 AM","Ted Meyer"]
["45038","SR9YTT35","District Storage","Summer20 Surplus","Lenovo ThinkPad Helix",null,"Disposed","Laptop","2013-05-10","1,455.00","14-15032","TWOTREES","Helix","Lenovo",null,"843a4b0aea54","2017/2018",{"$nulls":9},"36984LU",{"$nulls":3},"01/15/2019 09:52 AM","Ted Meyer"]
["45050","SR9YTV9X","District Storage","Summer20 Surplus","Lenovo ThinkPad Helix",null,"Disposed","Laptop","2013-05-10","1,455.00","14-15032","TWOTREES","Helix","Lenovo",null,"843a4b454bc8","2017/2018",{"$nulls":9},"36984LU",null,null,"Music","01/15/2019 10:07 AM","Ted Meyer"]
["42890","R9LE50E","District Storage","Summer20 Surplus","Lenovo Thinkpad X220 Ultrabase Base",null,"Disposed","Docking Station",{"$nulls":4},"x220 UltraBase","Lenovo",{"$nulls":11},"Key # G24",{"$nulls":3},"Guidance","01/15/2019 10:07 AM","Ted Meyer"]
["42539","LR6PXTG","District Storage","Summer20 Surplus","Lenovo ThinkPad X130e",null,"Disposed","Laptop","2012-05-18","573.00","12-40254","Two Trees","X130e","Lenovo",null,"7ce9d3ef0ba2","2016/2017",null,"27870-6541",{"$nulls":10},"Technology","01/15/2019 10:39 AM","Ted Meyer"]
["45048","SR9YTD25","District Storage","Summer20 Surplus","Lenovo ThinkPad Helix",null,"Disposed","Laptop","2013-05-10","1,455.00","14-15032","TWOTREES","Helix","Lenovo",null,"843a4b0f61e0",{"$nulls":10},"36984LU",{"$nulls":3},"01/15/2019 10:39 AM","Ted Meyer"]
["39736","R9ZLM8E","Lindbergh High School","Surplus Tech Library","Lenovo ThinkPad Helix",null,"Disposed","Laptop","2013-05-10","1,455.00","14-15032","TWOTREES","Helix","Lenovo",null,"843a4b988df0","2017/2018",{"$nulls":9},"36984LU",{"$nulls":3},"01/15/2019 10:39 AM","Ted Meyer"]
["47116","MP08HSYR","Dressel Elementary","209 (Library)","Lenovo ThinkPad Yoga 12 (Core i5-5200U, 8GB, 128GB SSD)","Dressel Elementary","Checked out","Laptop","2015-07-06",null,"16-30425",null,"Yoga 12","Lenovo","DR-LIB-TV","34028695a5d3","2019/2020",{"$nulls":9},"20DKS1LQ00",{"$nulls":3},"01/15/2019 10:07 AM","Ted Meyer"]
["49568","MP144QZY","Central Office","216","Lenovo ThinkPad Yoga 260 (Core i5-6300U, 8GB, 256GB)",null,"Broken","Laptop","2017-03-27","1,234.90","17-39996","ITsavvy LLC","Yoga 260","Lenovo",null,"e4a4716a252a","2021/2022",null,"27870-6541",{"$nulls":3},"400-2331-6543-824-000-000",{"$nulls":3},"20FD002DUS",null,null,"Math","01/15/2019 09:53 AM","Ted Meyer"]
["43524","DMPJ920EDJ8T","District Storage","Trash","Apple iPad 16GB WIFI (3rd Gen)",null,"Broken","iPad","2012-08-22",null,"13-10778",null,"MC705LL/A","Apple","SA-SSD-051-02","d8004dde2f56",null,null,"16491-6411",{"$nulls":7},"A1416",null,null,"SSD","01/15/2019 10:07 AM","Ted Meyer"]
["54034","P2034UFB",null,null,"Lenovo 500e Chromebook (Gen 1)",null,"Lost/Missing","Chromebook","2018-10-04","310.49","19-55702","Firefly Computers","500e","Lenovo",null,"38baf83ce731","2022/2023",null,"TE PD",{"$nulls":7},"81ES0007US","CBRedistribute",null,null,"01/15/2019 09:35 AM","Ted Meyer"]
["55045","P204V80Y","Concord Elementary","034","Lenovo 500e Chromebook (Gen 2)","Concord Elementary / 034","Checked out","Chromebook","2019-07-11","309.00","20-57400","Firefly Computers","500e","Lenovo","Caden Carrillo","3cf011fd4436","2024/2025",null,"TE PD",{"$nulls":6},"Impact Study","81MC001EUS",null,null,"5th Grade","07/11/2019 10:33 AM","Mary Plass"]
["39091","CN-0DX787-48730-94H-OTYE","Truman Middle","020","Dell 2330dn Laser Printer",null,"Disposed","Printer","2009-09-11","208.00","10-34400","Dell","2330dn","Dell","VH714 -Surplus 2020-2021",null,null,"10.6.21.199","27870-6541",{"$nulls":10},"Technology","01/15/2019 09:59 AM","Ted Meyer"]
["39522","CN-0DX787-48730-98M-1F0B","Truman Middle","000Surplus Printers Working","Dell 2330dn Laser Printer",null,"Disposed","Printer","2009-09-11","208.00","10-34400","Dell","2330dn","Dell","VH485 - Surplus 2020-2021",null,null,"10.6.21.227","27870-6541",{"$nulls":10},"Technology","01/15/2019 09:59 AM","Ted Meyer"]
["39333",null,"Warehouse","T36 Surplus Pallet Lot Broken Printers June 2021","Dell 2350dn Laser Printer",null,"Disposed","Printer",{"$nulls":4},"2350dn","Dell",{"$nulls":3},"10.3.21.15",{"$nulls":11},"Technology","01/15/2019 09:04 AM","Ted Meyer"]
["44145","PC7F190538L","Unknown",null,"Epson Brightlink 455Wi Projector",null,"Disposed","Projector",{"$nulls":4},"Brightlink 455Wi","Epson",null,null,"UnKnown","10.6.19.31",null,"Filter","2018-08-01",{"$nulls":8},"Technology","01/15/2019 09:59 AM","Ted Meyer"]
["42193","PC7F151477L","Support Service Center",null,"Epson Brightlink 455Wi Projector",null,"Disposed","Projector",{"$nulls":4},"Brightlink 455Wi","Epson","Surplus 2020-2021",null,"UnKnown","10.6.19.247",null,"Filter","2018-08-01",{"$nulls":8},"Technology","01/15/2019 09:59 AM","Ted Meyer"]
["51009","AC-PLUS-10323","Truman Middle","Library","AC-Plus 36 Bay Charging Cart","Truman Middle / Library","Checked out","Cart","2017-09-06","906.22","18-51039","ITsavvy","AC-Plus","All Carts",null,null,"2021/2022",null,"13861-6412",null,null,"Building Budget",{"$nulls":7},"DESIGN LAB","01/15/2019 10:00 AM","Ted Meyer"]
["42133",null,"District Storage","Surplus - Spring 2023","Bretford A/V Learning Cart",null,"Disposed","Cart","2009-08-10","320.00","10-34109","CDWG","ECILS3-BK","Bretford",{"$nulls":4},"27870-6541",{"$nulls":5},"Re-cycled school yr 2020-2021",null,null,"no longer used",null,"TECHNOLOGY STG","01/15/2019 09:59 AM","Ted Meyer"]
["52497","LR0A3PR8","Central Office","**Disposed","Lenovo N23 Chromebook",null,"Disposed","Chromebook","2018-01-17","270.32","18-53260","SoftChoice","N23 Touch","Lenovo","Lucas Burket -Student","1c4d704803aa","2022/2023",null,"See Below",null,null,"Building Budget","26606--6412 CC Camp Ignite  24932-6412 CC Boeing Grant   26626-6412 CC Soda Fund - Purchased to pilot Chrombooks at the elementary level.",{"$nulls":3},"81MC001EUS",null,null,"2nd Grade","01/15/2019 08:38 AM","Ted Meyer"]
["52528","LR0A3PRN","Central Office","**Disposed","Lenovo N23 Chromebook",null,"Disposed","Chromebook","2018-01-17","270.32","18-53260","SoftChoice","N23 Touch","Lenovo","CC-CBL2-08","1c4d70481124","2022/2023",null,"See Below",null,null,"Building Budget","26606--6412 CC Camp Ignite  24932-6412 CC Boeing Grant   26626-6412 CC Soda Fund - Purchased to pilot Chromebooks at the elementary level.",{"$nulls":3},"81MC001EUS","CBRedistribute",null,"5th Grade","01/15/2019 08:38 AM","Ted Meyer"]
["52559","LR09YEUV","Central Office","**Disposed","Lenovo N23 Chromebook",null,"Disposed","Chromebook","2018-01-25","195.58","18-53343","ITsavvy","N23 Non Touch","Lenovo","CC-CBL3-10","1c4d703cb068","2022/2023",null,"10192-6412",null,null,"Building Budget","Pilot Project - Purchased with NON-technology funds",{"$nulls":3},"81MC001EUS","CBRedistribute",null,"5th Grade","01/15/2019 08:38 AM","Ted Meyer"]
["47089","MP08FEW2","Central Office","**Disposed","Lenovo ThinkPad Yoga 12 (Core i5-5200U, 8GB, 128GB SSD)",null,"Disposed","Laptop","2015-07-06","1,174.00","16-30425","TWOTREES","Yoga 12","Lenovo","SP100-01","605718a9ff88","2019/2020",{"$nulls":9},"20DKS1LQ00",null,null,"Academic Monitor","01/15/2019 08:40 AM","Ted Meyer"]
["46499","LR03Z567","Central Office","**Disposed","Lenovo ThinkPad 11e",null,"Disposed","Laptop","2015-07-06","473.00","16-30271","TwoTrees Technology","11e","Lenovo","HSMATH2-003","104a7d93a8e6","2019/2020",null,"27873-6541",{"$nulls":7},"20DAS0VX00",{"$nulls":3},"01/15/2019 09:21 AM","Ted Meyer"]
["51788","LR09EARG","Central Office","**Disposed","Lenovo ThinkPad 11e",null,"Disposed","Laptop","2017-06-15","456.90","18-50158","STAPLES","11e","Lenovo","HSFML2-26","e442a6a41ac8","2021/2022",null,"27871-6412",{"$nulls":3},"EXTENDED SERVICE AGREEMENT PARTS AND LABOR 3 YEAR PICK UP AND RETURN TOPSELLER SERVICE @$55.00",{"$nulls":3},"20GB001HUS",{"$nulls":3},"01/15/2019 09:21 AM","Ted Meyer"]
["51866","LR09EAR4","Central Office","**Disposed","Lenovo ThinkPad 11e",null,"Disposed","Laptop","2017-06-15","456.90","18-50158","STAPLES","11e","Lenovo","HSLIBML2-17","e442a696093d","2021/2022",null,"27873-6412",{"$nulls":3},"EXTENDED SERVICE AGREEMENT PARTS AND LABOR 3 YEAR PICK UP AND RETURN TOPSELLER SERVICE @$55.00",{"$nulls":3},"20GB001HUS",{"$nulls":3},"01/15/2019 09:21 AM","Ted Meyer"]
["44315","PB02491E","Central Office","**Disposed","Lenovo ThinkPad x140e",null,"Disposed","Laptop","2014-06-05","434.00","15-18339","TwoTrees","X140e","Lenovo","LO004-SSD-02","b8ee65d2d902","2018/2019","10.4.21.90 1720","27870-6541",{"$nulls":10},"SSD","01/15/2019 09:34 AM","Ted Meyer"]
["52476","LR0A3PK3","Central Office","**Disposed","Lenovo N23 Chromebook",null,"Disposed","Chromebook","2018-01-12","270.32","18-53260","SoftChoice","N23 Touch","Lenovo","SPML8-14","1c4d70ded5af","2022/2023",null,"See Below",null,null,"Building Budget","26606-6412 Camp Ignite  - 24932-6412 CC Boeing Grant  - 26626-6412 CC Soda       This purchase is to pilot Chromebooks in the middle school.",{"$nulls":3},"81MC001EUS","CBRedistribute",null,null,"01/15/2019 09:53 AM","Ted Meyer"]
["52482","LR0A3PSD","Central Office","**Disposed","Lenovo N23 Chromebook",null,"Disposed","Chromebook","2018-01-12","270.32","18-53260","SoftChoice","N23 Touch","Lenovo","SPML8-20","1c4d70481101","2022/2023",null,"See Below",null,null,"Building Budget","26606-6412 Camp Ignite  - 24932-6412 CC Boeing Grant  - 26626-6412 CC Soda       This purchase is to pilot Chromebooks in the middle school.",{"$nulls":3},"81MC001EUS","CBRedistribute",null,null,"01/15/2019 09:53 AM","Ted Meyer"]
["47004","MP089894","Central Office","**Disposed","Lenovo ThinkPad Yoga 12 (Core i5-5200U, 8GB, 128GB SSD)",null,"Disposed","Laptop","2015-07-01","1,120.00","16-30183","TwoTrees","Yoga 12","Lenovo",null,"f0761c090b9d","2019/2020",null,"27870-6541",{"$nulls":3},"Dock R8 47005",null,null,"FOR PARTS","20DKS1LQ00",{"$nulls":3},"01/15/2019 10:39 AM","Ted Meyer"]
["S57610","R90VLCNQ","Truman Middle","132","Lenovo ThinkPad L390 (Core i5-8265U, 8GB, 256GB)","Truman Middle / 132","Checked out","Laptop","2019-07-29","919.00","20-57651","Firefly Computers","L390","Lenovo","SP-CompSci-14","34e12d5e9750","2024/2025",null,"T&amp;L PD",null,null,"Dept Budget\t229",{"$nulls":4},"20NR000FUS",null,null,"Curriculum & Instruction","08/01/2019 07:59 AM","Jan Liebel"]
["52776","1801AV02C8B6","Central Office","215","Algo SIP Audio Alerter",null,"Disposed","Intercom","2018-05-07","206.95","18-55094","Graybar Electric Company","8180","Algo","Broken","0022ee02c8b6",null,null,"39044-6521",null,null,"Building Budget","Prop G Contingency Work District - Putting in CR Elem. for testing of system.","2023-05-05",{"$nulls":5},"Technology","01/15/2019 08:34 AM","Ted Meyer"]
["62993","FVFF66KQQ6L4","Central Office","Technology","Apple MacBook Air M1, 8GB, 256GB SSD (2020)","Gary Brinker","Checked out","MacBook","2021-04-01","899.00","21-0000-1516","Apple","MacBook Air w/ M1 Chip","Apple","Gary Brinker",{"$nulls":3},"TE PD",{"$nulls":7},"MGN63LL/A",null,null,"Technology","04/20/2021 09:55 AM","Jan Liebel"]
["67899","MJ0HBZDF","Lindbergh High School",null,"Lenovo ThinkStation P340 (Core i5-10500, 16GB, 512GB)","Laura Ratliff","Checked out","Desktop","2022-05-03","995.78","22-0000-3903","DHE Computer Systems","P340","Lenovo","Laura Ratliff",{"$nulls":3},"TE PD",{"$nulls":3},"w/3YR Warranty",{"$nulls":3},"30DK000MUS",{"$nulls":3},"05/03/2022 02:38 PM","Jan Liebel"]
["48353","DMPMRJ41F182","Central Office","114","Apple iPad 16GB WIFI (4th Gen)","Sarah Hamman","Checked out","Laptop","2014-05-27","399.00","14-19303","Apple","MD510LL/A",null,null,"e498d6ac9859","2018/2019",null,"26621-6411",{"$nulls":7},"A1458",{"$nulls":3},"01/15/2019 09:46 AM","Ted Meyer"]
["63061","GG7FM4JFQ1GC","Concord Elementary","*Staff/Teacher Devices","Apple iPad 32GB WIFI (8th Gen)","Alicia Tullock","Checked out","iPad","2021-05-19","299.00","21-0000-1749","Apple","MYL92LL/A","Apple",{"$nulls":4},"TE PD",{"$nulls":7},"A2270",{"$nulls":3},"05/20/2021 09:52 AM","Jan Liebel"]
["50223","DMQX8GUTJF8J","Concord Elementary","*Staff/Teacher Devices","Apple iPad 32GB WIFI (6th Gen)","Gina Niebur","Checked out","iPad","2018-09-06","299.00","19-55393","Apple","MR7F2LL/A","Apple","Liz Keutzer","241b7a6facd3","2022/2023",null,"CC PD",{"$nulls":7},"A1893",{"$nulls":3},"01/15/2019 08:38 AM","Ted Meyer"]
["50413","DMPWVP98JF8J","Concord Elementary","*Staff/Teacher Devices","Apple iPad 32GB WIFI (6th Gen)","Tara Hickel","Checked out","iPad","2018-06-21","294.00","18-55426","Apple","MR7F2LL/A","Apple","Tara Hickel","a056f3d14a2e","2022/2023",null,"27871-6412",{"$nulls":7},"A1893",null,null,"1st Grade","01/15/2019 08:38 AM","Ted Meyer"]
["52803","DMQWQM8KJF8J","Crestwood Elementary","036","Apple iPad 32GB WIFI (6th Gen)","Nicole Jones","Checked out","iPad","2018-06-04","294.00","18-54945","Apple Store","PR8A2LL/A","Apple","Nicole Jones","94bf2da2fd8f","2022/2023",null,"27871-6412",{"$nulls":7},"A1893",null,null,"5th Grade","01/15/2019 08:34 AM","Ted Meyer"]
["68640","332131VAD02927","Dressel Elementary","121","IPEVO VZ-R HDMI/USB 8MP Document Camera","Mallory Schneider","Checked out","Document Camera","2022-09-15","239.00","23-0000-0763","IPEVO","VZ-R","IPEVO",{"$nulls":12},"VZ-R",{"$nulls":3},"10/31/2022 08:55 AM","Jan Liebel"]
["SSD-118093","C02JGL4MQ6L4","Special School District","ECE Main","Apple MacBook Air M1, 8GB, 256GB SSD (2020)","Colleen Kubiak","Checked out","MacBook",{"$nulls":4},"MGN63LL/A","Apple",{"$nulls":8},"ECE",{"$nulls":3},"MGNF3LL/A",null,null,"SSD","12/07/2022 09:20 AM","Logan Hofius"]
["67152","DMQFRULMQ1GC","ECE Main",null,"Apple iPad 32GB WIFI (8th Gen)","Katie Therina","Checked out","iPad","2021-07-15","295.00","22-0000-0015","Apple","MYLU2LL/A","Apple","Katie Therina",{"$nulls":7},"Purchase on Apple Lease 1188-3-103110",{"$nulls":3},"A2270",null,null,"ECE","04/22/2022 01:07 PM","Ayden Kolnik"]
["57103","R90YFC91","Lindbergh High School",null,"Lenovo ThinkPad L13 Yoga (Core i5-10210U, 16GB, 256GB) [Gen 1]","Andrew Edwards","Checked out","Laptop","2020-07-01","1,005.40","21-0000-0007","DHE Computer Systems","L13 Yoga (Gen 1)","Lenovo","Andrew Edwards","9CFCE84A7DAB","2024/2025",null,"TE PD",{"$nulls":5},"Device was stolen-San Francisco Police report 200-464-393",null,"20R6S17W00",{"$nulls":3},"06/25/2020 07:32 AM","Jan Liebel"]
["68042","FVFHR01TQ6L3","Truman Middle","*Staff/Teacher Devices","Apple MacBook Air M1, 8GB, 128GB SSD (2020)","Chelsea Silvermintz","Checked out","MacBook","2022-05-31","799.00","22-0000-4000","Apple Store","A2337","Apple","Chelsea Silvermintz",{"$nulls":3},"TE PD",{"$nulls":7},"MGN53LL/A",null,null,"Band","05/31/2022 07:57 AM","Jan Liebel"]
["57134","R90YFC8M","Lindbergh High School",null,"Lenovo ThinkPad L13 Yoga (Core i5-10210U, 16GB, 256GB) [Gen 1]","Edward Perniciaro","Checked out","Laptop","2020-07-01","1,005.40","21-0000-0007","DHE Computer Systems","L13 Yoga (Gen 1)","Lenovo","Edward Perniciaro","9CFCE84E9940","2024/2025",null,"TE PD",{"$nulls":7},"20R6S17W00",{"$nulls":3},"06/25/2020 07:32 AM","Jan Liebel"]
["49655","MP14DZLR","Lindbergh High School","337-OLD","Lenovo ThinkPad Yoga 260 (Core i5-6300U, 8GB, 256GB)","Katherine Garcia","Checked out","Laptop","2017-03-27","1,234.90","17-39996","ITsavvy LLC","Yoga 260","Lenovo","Kathy Garcia","e4b31890164a","2021/2022",null,"27870-6541",{"$nulls":3},"400-2331-6543-824-000-000",{"$nulls":3},"20FD002DUS",null,null,"Modern Language","01/15/2019 09:21 AM","Ted Meyer"]
["57186","R90YFCBQ","Lindbergh High School",null,"Lenovo ThinkPad L13 Yoga (Core i5-10210U, 16GB, 256GB) [Gen 1]","Madeline Cocos","Checked out","Laptop","2020-07-01","1,005.40","21-0000-0007","DHE Computer Systems","L13 Yoga (Gen 1)","Lenovo","Madeline Cocos","9CFCE8348816","2024/2025",null,"TE PD",{"$nulls":7},"20R6S17W00",{"$nulls":3},"06/25/2020 07:32 AM","Jan Liebel"]
["57197","R90YFCA3","Lindbergh High School",null,"Lenovo ThinkPad L13 Yoga (Core i5-10210U, 16GB, 256GB) [Gen 1]","Megan Roegner","Checked out","Laptop","2020-07-01","1,005.40","21-0000-0007","DHE Computer Systems","L13 Yoga (Gen 1)","Lenovo","Megan Roegner","9CFCE84A8C7E","2024/2025",null,"TE PD",{"$nulls":7},"20R6S17W00",{"$nulls":3},"06/25/2020 07:40 AM","Jan Liebel"]
["67900","MJ0HBZDL","Lindbergh High School",null,"Lenovo ThinkStation P340 (Core i5-10500, 16GB, 512GB)","Teresa Pollien","Checked out","Desktop","2022-05-03","995.78","22-0000-3903","DHE Computer Systems","P340","Lenovo","Teresa Pollien",{"$nulls":3},"TE PD",{"$nulls":3},"w/3YR Warranty",{"$nulls":3},"30DK000MUS",{"$nulls":3},"05/03/2022 02:38 PM","Jan Liebel"]
["53857","DMPXCLPUJF8J","Kennerly Elementary",null,"Apple iPad 32GB WIFI (6th Gen)","Ann Allenbaugh","Checked out","iPad","2018-09-14","299.00","19-55638","Apple","MR7F2LL/A","Apple","Ann Allenbaugh","608c4aab1ec8","2022/2023",null,"TE PD",{"$nulls":7},"A1893",null,null,"Instructional Technology","01/15/2019 09:04 AM","Ted Meyer"]
["52469","LR0A3PQ4","Kennerly Elementary","011","Lenovo N23 Chromebook","Maggie Wigger","Checked out","Chromebook","2018-01-12","270.32","18-53260","SoftChoice","N23 Touch","Lenovo","SPML8-07","1c4d704810b6","2022/2023",null,"See Below",null,null,"Building Budget","26606-6412 Camp Ignite  - 24932-6412 CC Boeing Grant  - 26626-6412 CC Soda       This purchase is to pilot Chromebooks in the middle school.",{"$nulls":3},"81MC001EUS","CBRedistribute",null,null,"01/15/2019 09:53 AM","Ted Meyer"]
["50139","DMQWQLFGJF8J","Long Elementary","*Staff/Teacher Devices","Apple iPad 32GB WIFI (6th Gen)","Lauren Welch","Checked out","iPad","2018-06-04","294.00","18-54945","Apple","PR8A2LL/A","Apple",null,"94bf2d95d90c","2022/2023",null,"27871-6412",{"$nulls":7},"A1893","IPRedistribute",null,null,"01/15/2019 09:35 AM","Ted Meyer"]
["51764","GCGV35Z0HLFD","Long Elementary","*Staff/Teacher Devices","Apple iPad 128GB WIFI (5th Gen)","Natalie Luna","Checked out","iPad","2018-06-04","294.00","18-54945","Apple Store","MP2H2LL/A","Apple","Natalie Luna","a4e9757cca03","2022/2023",null,"27871-6412",{"$nulls":7},"A1822",{"$nulls":3},"01/15/2019 09:35 AM","Ted Meyer"]
["47382","MP08KW0H","Sappington Elementary","Gym Hallway","Lenovo ThinkPad Yoga 12 (Core i5-5200U, 8GB, 128GB SSD)","Mary Driemeyer","Checked out","Laptop","2015-07-06","1,174.00","16-30425","TWOTREES","Yoga 12","Lenovo","Laura Macheca","4c3488067638","2019/2020",{"$nulls":9},"20DKS1LQ00",null,null,"PE","01/15/2019 09:04 AM","Ted Meyer"]
["56938","F9GCMPY1MF3M","Sperreng Middle","*Staff/Teacher Devices","Apple iPad 32 GB WIFI (7th Gen)","Angela Rathjen","Checked out","iPad","2020-07-01","439.84","21-0000-0005","Apple","MW742LL/A","Apple","Angie Rathjen",null,"2024/2025",null,"TE PD - LEASED",{"$nulls":3},"FQ9CFNVLGWTJ",null,null,"Misc. field has S/N for Apple Pencil","A2197",null,"2020/2021",null,"05/13/2020 09:08 AM","Jan Liebel"]
["56946","F9GCMK6PMF3M","Sperreng Middle","*Staff/Teacher Devices","Apple iPad 32 GB WIFI (7th Gen)","Chad Lembach","Checked out","iPad","2020-07-01","439.84","21-0000-0005","Apple","MW742LL/A","Apple","Chad Lembach",null,"2024/2025",null,"TE PD - LEASED",{"$nulls":3},"FQ9CFJ8KGWTJ",null,null,"Misc. field has S/N for Apple Pencil","A2197",null,"2020/2021",null,"05/13/2020 09:08 AM","Jan Liebel"]
["50693","P202E83N","Sperreng Middle","*Staff/Teacher Devices","Lenovo 500e Chromebook (Gen 1)","Gina Leaders","Checked out","Chromebook","2018-06-19","287.00","19-54624","Firefly Computers","500e","Lenovo","TRML3-CB-28","7c7635b11a16","2022/2023",null,"100-1151-6412-3080-07360-1-000",{"$nulls":3},"CHROMEBOOK MANAGEMENT CONSOLE @$23.49FIREFLY CHROMEBOOK SUPPORT FOR LENOVOLANSCHOOL PERPETUAL PER DEVICE LICENSE WITH 1 YR OF SNS",{"$nulls":3},"81ES0007US","CBRedistribute",null,"Modern Language","01/15/2019 10:00 AM","Ted Meyer"]
["46003","MG00C1X3","Central Office","114","Lenovo ThinkCentre M73 10AY","Julie Doss","Checked out","Desktop","2015-02-12","590.67","15-21602","ITsavvy","M73","Lenovo","Julie Doss","0023247af85f","2019/2020",null,"27870-6541",{"$nulls":3},"00C2C68DAD2E",{"$nulls":3},"10AY001YUS",null,null,"Human Resources","01/15/2019 10:39 AM","Ted Meyer"]
["56987","F9FCKB4TMF3M","Sperreng Middle","*Staff/Teacher Devices","Apple iPad 32 GB WIFI (7th Gen)","Patrick Dempsey","Checked out","iPad","2020-07-01","439.84","21-0000-0005","Apple","MW742LL/A","Apple","Patrick Dempsey",null,"2024/2025",null,"TE PD - LEASED",{"$nulls":3},"FQDCFALVGWTJ",null,null,"Misc. field has S/N for Apple Pencil","A2197",null,"2020/2021",null,"05/13/2020 09:08 AM","Jan Liebel"]
["56750","FVFCL2C9Q0WM","Truman Middle","*Staff/Teacher Devices","Apple MacBook Air Intel Core i3, 8GB, 128GB SSD (2020)","Brittany Solomon","Checked out","MacBook","2020-07-01","762.15","21-0000-0005","Apple","MacBook Air 2020","Apple","Brittany Soloman","3C22FB6E3F58","2024/2025",null,"TE PD - LEASED",{"$nulls":7},"MYY82LL/A",null,"2020/2021",null,"05/05/2020 09:57 AM","Jan Liebel"]
["57019","F9GCM01JMF3M","Truman Middle","*Staff/Teacher Devices","Apple iPad 32 GB WIFI (7th Gen)","Kathryn Kirchhoff","Checked out","iPad","2020-07-01","439.84","21-0000-0005","Apple","MW742LL/A","Apple","Katie Kirchhoff",null,"2024/2025",null,"TE PD - LEASED",{"$nulls":3},"FQ9CFS83GWTJ",null,null,"Misc. field has S/N for Apple Pencil","A2197",null,"2020/2021",null,"05/13/2020 11:51 AM","Jan Liebel"]
["56773","FVFCL2ERQ0WM","Truman Middle","*Staff/Teacher Devices","Apple MacBook Air Intel Core i3, 8GB, 128GB SSD (2020)","Kristina Kohl","Checked out","MacBook","2020-07-01","762.15","21-0000-0005","Apple","MacBook Air 2020","Apple","Kristina Kohl","3C22FB6E3D0c","2024/2025",null,"TE PD - LEASED",{"$nulls":7},"MYY82LL/A",null,"2020/2021","English","05/05/2020 09:57 AM","Jan Liebel"]
["57030","F9GCMQRYMF3M","Truman Middle","*Staff/Teacher Devices","Apple iPad 32 GB WIFI (7th Gen)","Megan Vallis","Checked out","iPad","2020-07-01","439.84","21-0000-0005","Apple","MW742LL/A","Apple","Megan Vallis",null,"2024/2025",null,"TE PD - LEASED",{"$nulls":3},"FQ9CFJBVGWTJ",null,null,"Misc. field has S/N for Apple Pencil","A2197",null,"2020/2021","Library","05/13/2020 11:51 AM","Jan Liebel"]
["57015","F9GCMXHJMF3M","Truman Middle","*Staff/Teacher Devices","Apple iPad 32 GB WIFI (7th Gen)","Jody Jenkerson","Checked out","iPad","2020-07-01","439.84","21-0000-0005","Apple","MW742LL/A","Apple","Jody Jenkerson",null,"2024/2025",null,"TE PD - LEASED",{"$nulls":3},"FQ9CFTJPGWTJ",null,null,"Misc. field has S/N for Apple Pencil","A2197",null,"2020/2021","Science","05/13/2020 11:51 AM","Jan Liebel"]
["54600","1415990","Long Elementary","Lounge","ELMO TT-12iD Document Camera","Sara Levine","Checked out","Document Camera","2018-11-20","567.37","19-56170","ITsavvy","TT-12iD","ELMO",{"$nulls":4},"TE PD",{"$nulls":10},"Library","01/29/2019 01:51 PM","Mary Plass"]
["52782","DMPWL6VSJF8N","Kennerly Elementary","Unknown","Apple iPad 128GB WIFI (6th Gen)","Tracy Bednarick-Humes","Checked out","iPad","2018-06-06","399.00","18-55364","Apple","MR7K2LL/A","Apple",null,"94bf2d9aef89","2022/2023",null,"100.2225.1050.07310.1.000",{"$nulls":7},"A1893",null,null,"PEGS","01/15/2019 10:39 AM","Ted Meyer"]
["67897","MJ0HBZG0","Support Service Center","Facilities Offices","Lenovo ThinkStation P340 (Core i5-10500, 16GB, 512GB)","Rebekah Leslie","Checked out","Desktop","2022-05-03","995.78","22-0000-3903","DHE Computer Systems","P340","Lenovo","Rebekah Leslie",{"$nulls":3},"TE PD",{"$nulls":3},"w/3YR Warranty",{"$nulls":3},"30DK000MUS",null,null,"Facilities","05/03/2022 02:38 PM","Jan Liebel"]
["56981","F9GCMQYUMF3M","Sperreng Middle","*Staff/Teacher Devices","Apple iPad 32 GB WIFI (7th Gen)","Mary Maille","Checked out","iPad","2020-07-01","439.84","21-0000-0005","Apple","MW742LL/A","Apple","Katy Maille",null,"2024/2025",null,"TE PD - LEASED",{"$nulls":3},"Fq9CFKP0GWTJ",null,null,"Misc. field has S/N for Apple Pencil","A2197",null,"2020/2021",null,"05/13/2020 09:08 AM","Jan Liebel"]
["57196","R90YFCBP","Lindbergh High School",null,"Lenovo ThinkPad L13 Yoga (Core i5-10210U, 16GB, 256GB) [Gen 1]","Megan Pelizzaro","Checked out","Laptop","2020-07-01","1,005.40","21-0000-0007","DHE Computer Systems","L13 Yoga (Gen 1)","Lenovo","Megan Pelizarro","9CFCE832F7E9","2024/2025",null,"TE PD",{"$nulls":7},"20R6S17W00",{"$nulls":3},"06/25/2020 07:40 AM","Jan Liebel"]
["68549","pw02jkwm","Concord Elementary",null,"Lenovo ThinkPad L13 Yoga Gen 2, i7-1165G7 16.0GB 512GB SSD","Stacy Jacobs","Checked out","Laptop","2022-11-16","766.29","23-0000-1184","DHE Computer Systems","20VK0019US","Lenovo","Stacy Jacobs - Proctor Sub",{"$nulls":3},"TE PD",{"$nulls":7},"20VK0019US",null,null,"Proctor Sub","11/21/2022 10:17 AM","Jan Liebel"]
["49692","MP144NNR","Truman Middle","Guidance","Lenovo ThinkPad Yoga 260 (Core i5-6300U, 8GB, 256GB)","Maghen Riek","Checked out","Laptop","2017-03-27","1,234.90","17-39996","ITsavvy LLC","Yoga 260","Lenovo","Maghen Riek","e4a471592b94","2021/2022",null,"27870-6541",{"$nulls":3},"400-2331-6543-824-000-000",{"$nulls":3},"20FD002DUS",null,null,"Guidance","01/15/2019 10:00 AM","Ted Meyer"]
["47122","MP08FE45","Lindbergh High School",null,"Lenovo ThinkPad Yoga 12 (Core i5-5200U, 8GB, 128GB SSD)","LHS Co-Pilot","Checked out","Laptop","2015-07-06","1,174.00","16-30425","TWOTREES","Yoga 12","Lenovo","LHS COPILOT","6057186e6473","2019/2020",{"$nulls":9},"20DKS1LQ00",null,null,"COPILOT","01/15/2019 09:46 AM","Ted Meyer"]
["67909","MJ0HBZDG","Concord Elementary","Library","Lenovo ThinkStation P340 (Core i5-10500, 16GB, 512GB)","Library","Checked out","Desktop","2022-05-03","995.78","22-0000-3903","DHE Computer Systems","P340","Lenovo","Library Area",{"$nulls":3},"TE PD",{"$nulls":3},"w/3YR Warranty",{"$nulls":3},"30DK000MUS",null,null,"Library","05/03/2022 02:38 PM","Jan Liebel"]
["53280","MJ078G4F","Central Office","209","Lenovo ThinkCentre M710Q 10MR Tiny (Core i3-6100T, 8GB, 128GB)","Bailey Harbit","Checked out","Desktop","2018-08-17","828.48","19-54977","ITsavvy","M710Q","Lenovo","Tony Dobson",null,"2022/2023",null,"TE PD",{"$nulls":7},"10MR004JUS",null,null,"Community Relations","01/15/2019 10:39 AM","Ted Meyer"]
["53435","DMPX41LXJF8J","Long Elementary","*Staff/Teacher Devices","Apple iPad 32GB WIFI (6th Gen)","Jennifer Cole","Checked out","iPad","2018-08-06","294.00","19-54900","Apple","MR7F2LL/A","Apple",null,"549963a6026e","2022/2023",null,"TE Paid",{"$nulls":7},"A1893",{"$nulls":3},"01/15/2019 09:53 AM","Ted Meyer"]
["63085","GG7FM5HXQ1GC","Concord Elementary","*Staff/Teacher Devices","Apple iPad 32GB WIFI (8th Gen)","Rebecca Zide","Checked out","iPad","2021-05-19","299.00","21-0000-1749","Apple","MYLU2LL/A","Apple",{"$nulls":4},"TE PD",{"$nulls":6},"Comes with Apple Pencil R8 11147","A2270",null,null,"Technology","05/20/2021 09:52 AM","Jan Liebel"]
["SSD-116970","TP7JQMKGCL","Special School District","Dressel Elementary","Apple iPad 64GB WIFI (9th Gen)","Caroline Haffner","Checked out","iPad",{"$nulls":4},"MK2K3LL/A","Apple",{"$nulls":12},"A2602",null,null,"SSD","12/07/2022 09:20 AM","Logan Hofius"]
["SSD-112062","FVFG32C4Q6L3","Special School District","Concord Elementary","Apple MacBook Air M1, 8GB, 128GB SSD (2020)","Laura Krull","Checked out","MacBook",null,"779.00","2107331",null,"MGNF3LL/A","Apple",{"$nulls":12},"MGNF3LL/A",null,null,"SSD","11/18/2022 09:47 AM","Logan Hofius"]
["67326","MJ0G7DCE","Central Office","214","Lenovo ThinkStation P340 (Core i7-10700, 32GB, 1TB)","Logan Hofius","Checked out","Desktop","2021-09-28","1,410.00","22-0000-0175","DHE","P340","Lenovo",{"$nulls":4},"TE PD",{"$nulls":7},"30DLS37J00",null,null,"Technology","12/21/2021 08:00 AM","Jan Liebel"]
["62785","332039VAD00661",null,null,"IPEVO VZ-R HDMI/USB 8MP Document Camera","Amanda Schmidt","Checked out","Document Camera","2020-11-05","219.00","21-0000-0790","IPEVO","VZ-R","IPEVO",{"$nulls":4},"COVID",null,null,"COVID-19",{"$nulls":8},"11/16/2020 03:18 PM","Jan Liebel"]
["56941","F9GCMUQ1MF3M","Sperreng Middle","*Staff/Teacher Devices","Apple iPad 32 GB WIFI (7th Gen)","Audrey Nixon","Checked out","iPad","2020-07-01","439.84","21-0000-0005","Apple","MW742LL/A","Apple","Audrey Nixon",null,"2024/2025",null,"TE PD - LEASED",{"$nulls":3},"FQ9CFP46GWTJ",null,null,"Misc. field has S/N for Apple Pencil","A2197",null,"2020/2021",null,"05/13/2020 09:08 AM","Jan Liebel"]
["57028","F9GCMQY4MF3M","Truman Middle","*Staff/Teacher Devices","Apple iPad 32 GB WIFI (7th Gen)","Mary Rother","Checked out","iPad","2020-07-01","439.84","21-0000-0005","Apple","MW742LL/A","Apple","Mary Deery",null,"2024/2025",null,"TE PD - LEASED",{"$nulls":3},"FQ9CFQ3TGWTJ",null,null,"Misc. field has S/N for Apple Pencil","A2197",null,"2020/2021","Math","05/13/2020 11:51 AM","Jan Liebel"]
["54740","FVFY86A0JK77","Concord Elementary","*Staff/Teacher Devices","Apple MacBook Air Intel Core i5, 8GB, 128GB SSD (2018)","Emily Fowler","Checked out","MacBook","2019-03-13","1,054.00","19-57667","Apple","MRE82LL/A","Apple","Emily Fowler",null,"2023/2024",null,"TE PD",{"$nulls":7},"MRF82LL/A",null,null,"Social Studies","03/13/2019 08:03 AM","Jan Liebel"]
["50943","P202D9RC","Truman Middle","405","Lenovo 500e Chromebook (Gen 1)","Lauren Bell","Checked out","Chromebook","2018-06-19","287.00","19-54624","Firefly Computers","500e","Lenovo","TR-CB Loaner-04 - Lauren Bell Student Teacher","7c2a311ccf19","2022/2023",null,"100-1151-6412-1050-07360-1-000",{"$nulls":3},"CHROMEBOOK MANAGEMENT CONSOLE @$23.49FIREFLY CHROMEBOOK SUPPORT FOR LENOVOLANSCHOOL PERPETUAL PER DEVICE LICENSE WITH 1 YR OF SNS",{"$nulls":3},"81ES0007US","CBRedistribute Loaner - Truman",null,"Family and Consumer Science","01/15/2019 09:21 AM","Ted Meyer"]
["64657","DMQFRALLQ1GC",null,null,"Apple iPad 32GB WIFI (8th Gen)",null,"Available","iPad",{"$nulls":4},"MYLU2LL/A","Apple",{"$nulls":12},"A2270",{"$nulls":3},"12/07/2022 08:32 AM","Logan Hofius"]
["67110","DMQFRC3YQ1GC",null,null,"Apple iPad 32GB WIFI (8th Gen)",null,"Available","iPad",{"$nulls":4},"MYLU2LL/A","Apple",{"$nulls":12},"A2270",{"$nulls":3},"12/07/2022 08:32 AM","Logan Hofius"]
["67096","DMQFREP7Q1GC",null,null,"Apple iPad 32GB WIFI (8th Gen)",null,"Available","iPad",{"$nulls":4},"MYLU2LL/A","Apple",{"$nulls":12},"A2270",{"$nulls":3},"12/07/2022 08:32 AM","Logan Hofius"]
["64431","DMQFRG9FQ1GC",null,null,"Apple iPad 32GB WIFI (8th Gen)",null,"Available","iPad",{"$nulls":4},"MYLU2LL/A","Apple",{"$nulls":12},"A2270",{"$nulls":3},"12/07/2022 08:32 AM","Logan Hofius"]
["67350","DMQFRK20Q1GC",null,null,"Apple iPad 32GB WIFI (8th Gen)",null,"Available","iPad",{"$nulls":4},"MYLU2LL/A","Apple",{"$nulls":12},"A2270",{"$nulls":3},"12/07/2022 08:32 AM","Logan Hofius"]
["64581","DMQFRKR4Q1GC",null,null,"Apple iPad 32GB WIFI (8th Gen)",null,"Available","iPad",{"$nulls":4},"MYLU2LL/A","Apple",{"$nulls":12},"A2270",{"$nulls":3},"12/07/2022 08:32 AM","Logan Hofius"]
["64690","DMQFRLUNQ1GC",null,null,"Apple iPad 32GB WIFI (8th Gen)",null,"Available","iPad",{"$nulls":4},"MYLU2LL/A","Apple",{"$nulls":12},"A2270",{"$nulls":3},"12/07/2022 08:32 AM","Logan Hofius"]
["64337","DMQFRNCBQ1GC",null,null,"Apple iPad 32GB WIFI (8th Gen)",null,"Available","iPad",{"$nulls":4},"MYLU2LL/A","Apple",{"$nulls":12},"A2270",{"$nulls":3},"12/07/2022 08:32 AM","Logan Hofius"]
["64836","DMQFRP22Q1GC",null,null,"Apple iPad 32GB WIFI (8th Gen)",null,"Available","iPad",{"$nulls":4},"MYLU2LL/A","Apple",{"$nulls":12},"A2270",{"$nulls":3},"12/07/2022 08:32 AM","Logan Hofius"]
["64518","DMQFRPSEQ1GC",null,null,"Apple iPad 32GB WIFI (8th Gen)",null,"Available","iPad",{"$nulls":4},"MYLU2LL/A","Apple",{"$nulls":12},"A2270",{"$nulls":3},"12/07/2022 08:32 AM","Logan Hofius"]
["64629","DMQFRQNLQ1GC",null,null,"Apple iPad 32GB WIFI (8th Gen)",null,"Available","iPad",{"$nulls":4},"MYLU2LL/A","Apple",{"$nulls":12},"A2270",{"$nulls":3},"12/07/2022 08:32 AM","Logan Hofius"]
["67077","DMQFRSL9Q1GC",null,null,"Apple iPad 32GB WIFI (8th Gen)",null,"Available","iPad",{"$nulls":4},"MYLU2LL/A","Apple",{"$nulls":12},"A2270",{"$nulls":3},"12/07/2022 08:32 AM","Logan Hofius"]
["64237","DMQFRT44Q1GC",null,null,"Apple iPad 32GB WIFI (8th Gen)",null,"Available","iPad",{"$nulls":4},"MYLU2LL/A","Apple",{"$nulls":12},"A2270",{"$nulls":3},"12/07/2022 08:32 AM","Logan Hofius"]
["64365","DMQFRU8GQ1GC",null,null,"Apple iPad 32GB WIFI (8th Gen)",null,"Available","iPad",{"$nulls":4},"MYLU2LL/A","Apple",{"$nulls":12},"A2270",{"$nulls":3},"12/07/2022 08:32 AM","Logan Hofius"]
["63970","DMQFRV83Q1GC",null,null,"Apple iPad 32GB WIFI (8th Gen)",null,"Available","iPad",{"$nulls":4},"MYLU2LL/A","Apple",{"$nulls":12},"A2270",{"$nulls":3},"12/07/2022 08:32 AM","Logan Hofius"]
["67022","DMQFRVHWQ1GC",null,null,"Apple iPad 32GB WIFI (8th Gen)",null,"Available","iPad",{"$nulls":4},"MYLU2LL/A","Apple",{"$nulls":12},"A2270",{"$nulls":3},"12/07/2022 08:32 AM","Logan Hofius"]
["64257","DMQFRVXHQ1GC",null,null,"Apple iPad 32GB WIFI (8th Gen)",null,"Available","iPad",{"$nulls":4},"MYLU2LL/A","Apple",{"$nulls":12},"A2270",{"$nulls":3},"12/07/2022 08:32 AM","Logan Hofius"]
["67156","DMQFRW5ZQ1GC",null,null,"Apple iPad 32GB WIFI (8th Gen)",null,"Available","iPad",{"$nulls":4},"MYLU2LL/A","Apple",{"$nulls":12},"A2270",{"$nulls":3},"12/07/2022 08:32 AM","Logan Hofius"]
["63810","DMQFRWGTQ1GC",null,null,"Apple iPad 32GB WIFI (8th Gen)",null,"Available","iPad",{"$nulls":4},"MYLU2LL/A","Apple",{"$nulls":12},"A2270",{"$nulls":3},"12/07/2022 08:32 AM","Logan Hofius"]
["64069","DMQFRXRMQ1GC",null,null,"Apple iPad 32GB WIFI (8th Gen)",null,"Available","iPad",{"$nulls":4},"MYLU2LL/A","Apple",{"$nulls":12},"A2270",{"$nulls":3},"12/07/2022 08:32 AM","Logan Hofius"]
["64831","DMQFRYQ7Q1GC",null,null,"Apple iPad 32GB WIFI (8th Gen)",null,"Available","iPad",{"$nulls":4},"MYLU2LL/A","Apple",{"$nulls":12},"A2270",{"$nulls":3},"12/07/2022 08:32 AM","Logan Hofius"]
["64745","DMQFRYS4Q1GC",null,null,"Apple iPad 32GB WIFI (8th Gen)",null,"Available","iPad",{"$nulls":4},"MYLU2LL/A","Apple",{"$nulls":12},"A2270",{"$nulls":3},"12/07/2022 08:32 AM","Logan Hofius"]
["63544","DMQFRZBMQ1GC",null,null,"Apple iPad 32GB WIFI (8th Gen)",null,"Available","iPad",{"$nulls":4},"MYLU2LL/A","Apple",{"$nulls":12},"A2270",{"$nulls":3},"12/07/2022 08:32 AM","Logan Hofius"]
["64074","DMQFRZL7Q1GC",null,null,"Apple iPad 32GB WIFI (8th Gen)",null,"Available","iPad",{"$nulls":4},"MYLU2LL/A","Apple",{"$nulls":12},"A2270",{"$nulls":3},"12/07/2022 08:32 AM","Logan Hofius"]
["64248","DMRFR0AQQ1GC",null,null,"Apple iPad 32GB WIFI (8th Gen)",null,"Available","iPad",{"$nulls":4},"MYLU2LL/A","Apple",{"$nulls":12},"A2270",{"$nulls":3},"12/07/2022 08:32 AM","Logan Hofius"]
["65000","DMRFR0Z1Q1GC",null,null,"Apple iPad 32GB WIFI (8th Gen)",null,"Available","iPad",{"$nulls":4},"MYLU2LL/A","Apple",{"$nulls":12},"A2270",{"$nulls":3},"12/07/2022 08:32 AM","Logan Hofius"]
["63967","DMRFR18FQ1GC",null,null,"Apple iPad 32GB WIFI (8th Gen)",null,"Available","iPad",{"$nulls":4},"MYLU2LL/A","Apple",{"$nulls":12},"A2270",{"$nulls":3},"12/07/2022 08:32 AM","Logan Hofius"]
["64708","DMRFR20VQ1GC",null,null,"Apple iPad 32GB WIFI (8th Gen)",null,"Available","iPad",{"$nulls":4},"MYLU2LL/A","Apple",{"$nulls":12},"A2270",{"$nulls":3},"12/07/2022 08:32 AM","Logan Hofius"]
["63873","DMRFR2EZQ1GC",null,null,"Apple iPad 32GB WIFI (8th Gen)",null,"Available","iPad",{"$nulls":4},"MYLU2LL/A","Apple",{"$nulls":12},"A2270",{"$nulls":3},"12/07/2022 08:32 AM","Logan Hofius"]
["64266","DMRFR32KQ1GC",null,null,"Apple iPad 32GB WIFI (8th Gen)",null,"Available","iPad",{"$nulls":4},"MYLU2LL/A","Apple",{"$nulls":12},"A2270",{"$nulls":3},"12/07/2022 08:32 AM","Logan Hofius"]
["64554","DMRFR3G9Q1GC",null,null,"Apple iPad 32GB WIFI (8th Gen)",null,"Available","iPad",{"$nulls":4},"MYLU2LL/A","Apple",{"$nulls":12},"A2270",{"$nulls":3},"12/07/2022 08:32 AM","Logan Hofius"]
["64338","DMRFR49GQ1GC",null,null,"Apple iPad 32GB WIFI (8th Gen)",null,"Available","iPad",{"$nulls":4},"MYLU2LL/A","Apple",{"$nulls":12},"A2270",{"$nulls":3},"12/07/2022 08:32 AM","Logan Hofius"]
["64241","DMRFR4SJQ1GC",null,null,"Apple iPad 32GB WIFI (8th Gen)",null,"Available","iPad",{"$nulls":4},"MYLU2LL/A","Apple",{"$nulls":12},"A2270",{"$nulls":3},"12/07/2022 08:32 AM","Logan Hofius"]
["64814","DMRFR51ZQ1GC",null,null,"Apple iPad 32GB WIFI (8th Gen)",null,"Available","iPad",{"$nulls":4},"MYLU2LL/A","Apple",{"$nulls":12},"A2270",{"$nulls":3},"12/07/2022 08:32 AM","Logan Hofius"]
["64027","DMRFR5NGQ1GC",null,null,"Apple iPad 32GB WIFI (8th Gen)",null,"Available","iPad",{"$nulls":4},"MYLU2LL/A","Apple",{"$nulls":12},"A2270",{"$nulls":3},"12/07/2022 08:32 AM","Logan Hofius"]
["64072","DMRFR6GCQ1GC",null,null,"Apple iPad 32GB WIFI (8th Gen)",null,"Available","iPad",{"$nulls":4},"MYLU2LL/A","Apple",{"$nulls":12},"A2270",{"$nulls":3},"12/07/2022 08:32 AM","Logan Hofius"]
["64620","DMRFR6ZRQ1GC",null,null,"Apple iPad 32GB WIFI (8th Gen)",null,"Available","iPad",{"$nulls":4},"MYLU2LL/A","Apple",{"$nulls":12},"A2270",{"$nulls":3},"12/07/2022 08:32 AM","Logan Hofius"]
["64004","DMRFR86NQ1GC",null,null,"Apple iPad 32GB WIFI (8th Gen)",null,"Available","iPad",{"$nulls":4},"MYLU2LL/A","Apple",{"$nulls":12},"A2270",{"$nulls":3},"12/07/2022 08:32 AM","Logan Hofius"]
["63858","DMRFR8KBQ1GC",null,null,"Apple iPad 32GB WIFI (8th Gen)",null,"Available","iPad",{"$nulls":4},"MYLU2LL/A","Apple",{"$nulls":12},"A2270",{"$nulls":3},"12/07/2022 08:32 AM","Logan Hofius"]
["67073","DMRFR90WQ1GC",null,null,"Apple iPad 32GB WIFI (8th Gen)",null,"Available","iPad",{"$nulls":4},"MYLU2LL/A","Apple",{"$nulls":12},"A2270",{"$nulls":3},"12/07/2022 08:32 AM","Logan Hofius"]
["64059","DMRFR9EDQ1GC",null,null,"Apple iPad 32GB WIFI (8th Gen)",null,"Available","iPad",{"$nulls":4},"MYLU2LL/A","Apple",{"$nulls":12},"A2270",{"$nulls":3},"12/07/2022 08:32 AM","Logan Hofius"]
["67032","DMRFR9J4Q1GC",null,null,"Apple iPad 32GB WIFI (8th Gen)",null,"Available","iPad",{"$nulls":4},"MYLU2LL/A","Apple",{"$nulls":12},"A2270",{"$nulls":3},"12/07/2022 08:32 AM","Logan Hofius"]
["63730","DMRFR9J9Q1GC",null,null,"Apple iPad 32GB WIFI (8th Gen)",null,"Available","iPad",{"$nulls":4},"MYLU2LL/A","Apple",{"$nulls":12},"A2270",{"$nulls":3},"12/07/2022 08:32 AM","Logan Hofius"]
["67125","DMRFR9SZQ1GC",null,null,"Apple iPad 32GB WIFI (8th Gen)",null,"Available","iPad",{"$nulls":4},"MYLU2LL/A","Apple",{"$nulls":12},"A2270",{"$nulls":3},"12/07/2022 08:32 AM","Logan Hofius"]
["64258","DMRFR9Y7Q1GC",null,null,"Apple iPad 32GB WIFI (8th Gen)",null,"Available","iPad",{"$nulls":4},"MYLU2LL/A","Apple",{"$nulls":12},"A2270",{"$nulls":3},"12/07/2022 08:32 AM","Logan Hofius"]
["63888","DMRFRA1JQ1GC",null,null,"Apple iPad 32GB WIFI (8th Gen)",null,"Available","iPad",{"$nulls":4},"MYLU2LL/A","Apple",{"$nulls":12},"A2270",{"$nulls":3},"12/07/2022 08:32 AM","Logan Hofius"]
["64899","DMRFRA5UQ1GC",null,null,"Apple iPad 32GB WIFI (8th Gen)",null,"Available","iPad",{"$nulls":4},"MYLU2LL/A","Apple",{"$nulls":12},"A2270",{"$nulls":3},"12/07/2022 08:32 AM","Logan Hofius"]
["64938","DMRFRACRQ1GC",null,null,"Apple iPad 32GB WIFI (8th Gen)",null,"Available","iPad",{"$nulls":4},"MYLU2LL/A","Apple",{"$nulls":12},"A2270",{"$nulls":3},"12/07/2022 08:32 AM","Logan Hofius"]
["63835","DMRFRANLQ1GC",null,null,"Apple iPad 32GB WIFI (8th Gen)",null,"Available","iPad",{"$nulls":4},"MYLU2LL/A","Apple",{"$nulls":12},"A2270",{"$nulls":3},"12/07/2022 08:32 AM","Logan Hofius"]
["64323","DMRFRAX5Q1GC",null,null,"Apple iPad 32GB WIFI (8th Gen)",null,"Available","iPad",{"$nulls":4},"MYLU2LL/A","Apple",{"$nulls":12},"A2270",{"$nulls":3},"12/07/2022 08:32 AM","Logan Hofius"]
["64881","DMRFRBC5Q1GC",null,null,"Apple iPad 32GB WIFI (8th Gen)",null,"Available","iPad",{"$nulls":4},"MYLU2LL/A","Apple",{"$nulls":12},"A2270",{"$nulls":3},"12/07/2022 08:32 AM","Logan Hofius"]
["64322","DMRFRBULQ1GC",null,null,"Apple iPad 32GB WIFI (8th Gen)",null,"Available","iPad",{"$nulls":4},"MYLU2LL/A","Apple",{"$nulls":12},"A2270",{"$nulls":3},"12/07/2022 08:32 AM","Logan Hofius"]
["63865","DMRFRC6PQ1GC",null,null,"Apple iPad 32GB WIFI (8th Gen)",null,"Available","iPad",{"$nulls":4},"MYLU2LL/A","Apple",{"$nulls":12},"A2270",{"$nulls":3},"12/07/2022 08:32 AM","Logan Hofius"]
["64313","DMRFRCWEQ1GC",null,null,"Apple iPad 32GB WIFI (8th Gen)",null,"Available","iPad",{"$nulls":4},"MYLU2LL/A","Apple",{"$nulls":12},"A2270",{"$nulls":3},"12/07/2022 08:32 AM","Logan Hofius"]
["64414","DMRFRD97Q1GC",null,null,"Apple iPad 32GB WIFI (8th Gen)",null,"Available","iPad",{"$nulls":4},"MYLU2LL/A","Apple",{"$nulls":12},"A2270",{"$nulls":3},"12/07/2022 08:32 AM","Logan Hofius"]
["64705","DMRFRDB9Q1GC",null,null,"Apple iPad 32GB WIFI (8th Gen)",null,"Available","iPad",{"$nulls":4},"MYLU2LL/A","Apple",{"$nulls":12},"A2270",{"$nulls":3},"12/07/2022 08:32 AM","Logan Hofius"]
["64927","DMRFRDLCQ1GC",null,null,"Apple iPad 32GB WIFI (8th Gen)",null,"Available","iPad",{"$nulls":4},"MYLU2LL/A","Apple",{"$nulls":12},"A2270",{"$nulls":3},"12/07/2022 08:32 AM","Logan Hofius"]
["64350","DMRFRDT4Q1GC",null,null,"Apple iPad 32GB WIFI (8th Gen)",null,"Available","iPad",{"$nulls":4},"MYLU2LL/A","Apple",{"$nulls":12},"A2270",{"$nulls":3},"12/07/2022 08:32 AM","Logan Hofius"]
["63621","DMRFRE22Q1GC",null,null,"Apple iPad 32GB WIFI (8th Gen)",null,"Available","iPad",{"$nulls":4},"MYLU2LL/A","Apple",{"$nulls":12},"A2270",{"$nulls":3},"12/07/2022 08:32 AM","Logan Hofius"]
["62847","F9FFWVCRQ1GC",null,null,"Apple iPad 32GB WIFI (8th Gen)",null,"Available","iPad",{"$nulls":4},"MYLU2LL/A","Apple",{"$nulls":12},"A2270",{"$nulls":3},"12/07/2022 08:32 AM","Logan Hofius"]
["58823",null,"Central Office",null,"Lenovo 500e",null,"Available","Chromebook",{"$nulls":4},"500e","Lenovo",{"$nulls":16},"03/22/2023 08:50 AM","Miles Godfrey"]
["23-0077-09","MY2BK7B2TG","Lindbergh High School","MDF CORE","ARUBA 25G SPF28 LC ESR 400M TRANSCEIVER",null,"In Service","Transceiver",{"$nulls":4},"JL485A","Aruba"]
["23-0077-33","CN25L6W6B5",null,null,"Aruba 50G SFP56 TO SPF56 0.65M DAC Cable",null,"In Service","Cable",{"$nulls":4},"R0M46A","Aruba"]
["34540",null,"Support Services Building","Facilities Offices","Dell 3110cn Color Laser Printer",null,"In Service","Printer",{"$nulls":4},"3110cn","Dell"]
["35798","MGM7170P05164","Lindbergh High School","008A","Gateway 19' Monitor",null,"In Service","Monitor",{"$nulls":4},"FPD1775W","Gateway"]
["36387","035TMC09PX","Sappington Elementary",20,"Motorola DTR650 Two-Way Radio",null,"In Service","Walkie Talkie",{"$nulls":4},"DTR650","Motorola"]
["36472","RD026917","Kennerly Elementary",5,"FrontRow Pro Digital 940R Receiver/Amplifier with 940TM Transmitter/Microphone",null,"In Service","Classroom Audio",{"$nulls":4},"940R","FrontRow"]
["36663",47761,"Long Elementary","Tech Assistant","ELMO TT-02RX Document Camera",null,"In Service","Document Camera",{"$nulls":4},"TT-02RX","ELMO"]
["36796","MWT79 BON 00759","Central Office","Technology","Gateway 19' Monitor",null,"In Service","Monitor",{"$nulls":4},"TFT19W80PS","Gateway"]
["37729",1101848589,"Sperreng Middle","056 (Custodial)","Gateway 19' Monitor",null,"In Service","Monitor",{"$nulls":4},"FTP1975W","Gateway"]
["38043",556431,"Sappington Elementary",17,"ELMO TT-02s Document Camera",null,"In Service","Document Camera",{"$nulls":4},"TT-02s","ELMO"]
["38979","V6 - E3886","Truman Middle","Guidance Office","Lenovo ThinkVision 22' LCD Monitor",null,"In Service","Monitor",{"$nulls":4},"L2240P","Lenovo"]
["39208",120775,"Concord Elementary",20,"ELMO TT-02s Document Camera",null,"In Service","Document Camera",{"$nulls":4},"TT-02s","ELMO"]
["39300","D801570","Long Elementary","Library","Anchor AN-130",null,"In Service","Speaker",{"$nulls":4},"AN-130","Anchor"]
["39357","D801636","Truman Middle",20,"Anchor AN-130",null,"In Service","Speaker",{"$nulls":4},"AN-130","Anchor"]
["39457",null,"Truman Middle",20,"Anchor AN-130",null,"In Storage","Speaker",{"$nulls":4},"AN-130","Anchor"]
["39629",null,"Truman Middle",114,"Bretford A/V Learning Cart",null,"In Service","Cart",{"$nulls":4},"ECILS3-BK","Bretford"]
["39814",471162,"Central Office",null,"ELMO TT-12 Document Camera",null,"In Service","Document Camera",{"$nulls":4},"TT-12","ELMO"]
["40525","RD0037261","Sappington Elementary",12,"FrontRow Pro Digital 940R Receiver/Amplifier with 940TM Transmitter/Microphone",null,"In Service","Classroom Audio",{"$nulls":4},"940R","FrontRow"]
["40551","RD0037500","Sappington Elementary",15,"FrontRow Pro Digital 940R Receiver/Amplifier with 940TM Transmitter/Microphone",null,"In Service","Classroom Audio",{"$nulls":4},"940R","FrontRow"]
["40636","MRKF082090L",null,"Lounge","Epson Brightlink 450Wi Projector",null,"In Service","Projector",{"$nulls":4},"Brightlink 450Wi","Epson"]
["40677",null,"Truman Middle","District Warehouse","Bretford A/V Learning Cart",null,"In Storage","Cart",{"$nulls":4},"ECILS3-BK","Bretford"]
["40698","RD026870","Truman Middle",15,"FrontRow Pro Digital 940R Receiver/Amplifier with 940TM Transmitter/Microphone",null,"In Service","Classroom Audio",{"$nulls":4},"940R","FrontRow"]
["40743","RD026684","Truman Middle",231,"FrontRow Pro Digital 940R Receiver/Amplifier with 940TM Transmitter/Microphone",null,"In Service","Classroom Audio",{"$nulls":4},"940R","FrontRow"]
["41213","V8-K3496","Lindbergh High School",111,"Lenovo ThinkVision 22' LCD Monitor",null,"In Service","Monitor",{"$nulls":4},"L2250pwd","Lenovo"]
["41448",null,"Sappington Elementary",49,"Bretford A/V Learning Cart",null,"In Service","Cart",{"$nulls":4},"ECILS3-BK","Bretford"]
["42023",null,"Truman Middle",9,"FrontRow Student Microphone",null,"In Service","Classroom Audio",{"$nulls":4},"940R","FrontRow"]
["42070",null,"Lindbergh High School","140F","Lenovo Flat Screen Monitor",null,"In Service","Monitor",{"$nulls":5},"Lenovo"]
["42106",null,"Concord Elementary","Cafeteria","Bretford A/V Learning Cart",null,"In Service","Cart",{"$nulls":4},"ECILS3-BK","Bretford"]
["42238","RD0044553","Truman Middle",20,"FrontRow Pro Digital 940R Receiver/Amplifier with 940TM Transmitter/Microphone",null,"In Storage","Classroom Audio",{"$nulls":5},"FrontRow"]
["42326",null,"Long Elementary",7,"Bretford A/V Learning Cart",null,"In Service","Cart",{"$nulls":4},"ECILS3-BK","Bretford"]
["42434",1512497,"Sappington Elementary",43,"ELMO TT-12 Document Camera",null,"In Service","Document Camera",{"$nulls":4},"TT-12","ELMO"]
["42481","MRKF081986L",null,null,"Epson Brightlink 450Wi Projector",null,"In Service","Projector",{"$nulls":4},"Brightlink 450Wi","Epson"]
["42999",{"$nulls":3},"FrontRow Pro Digital 940R Receiver/Amplifier with 940TM Transmitter/Microphone",null,"In Service","Classroom Audio",{"$nulls":4},"940R","FrontRow"]
["44624",1533290,"Sappington Elementary",4,"ELMO TT-12i Document Camera",null,"In Service","Document Camera",{"$nulls":4},"TT-12i","ELMO"]
["44924",1700571,"Truman Middle",9,"ELMO VPR-1 Transeiver for MO-1w  wireless",null,"In Service","Document Camera",{"$nulls":4},"VPR-1","ELMO"]
["45240","K1315004462","Central Office",124,"Lenovo ThinkPad USB 3.0 Dock",null,"In Service","Docking Station",{"$nulls":4},"DU9019D1","Lenovo"]
["45898",1277090,"Crestwood Elementary",25,"ELMO TT-12 Document Camera",null,"In Service","Document Camera",{"$nulls":4},"TT-12","ELMO"]
["46046","MJVZZOT","Sperreng Middle","Cafeteria","Lenovo ThinkCentre M92z 3311 (Core i5-3470T, 4GB, 500GB HDD)",null,"In Service","Desktops",{"$nulls":4},"M92z","Lenovo"]
["46209",514105,null,null,"ELMO TT-02RX Document Camera",null,"In Service","Document Camera",{"$nulls":4},"TT-02RX","ELMO"]
["46315",null,"Sperreng Middle","Tech Office","ELMO TT-02s Document Camera",null,"In Service","Document Camera",{"$nulls":5},"ELMO"]
["47016","MP08HT0V","Lindbergh High School",null,"Lenovo ThinkPad Yoga 12 (Core i5-5200U, 8GB, 128GB SSD)",null,"In Storage","Laptops",{"$nulls":4},"Yoga 12","Lenovo"]
["47100","MP08HS7D",null,null,"Lenovo ThinkPad Yoga 12 (Core i5-5200U, 8GB, 128GB SSD)",null,"Retired/Surplused","Laptops",{"$nulls":4},"Yoga 12","Lenovo"]
["47122","MP08FE45","Lindbergh High School","034A","Lenovo ThinkPad Yoga 12 (Core i5-5200U, 8GB, 128GB SSD)",null,"In Service","Laptops",{"$nulls":4},"Yoga 12","Lenovo"]
["47330","MP08HS94","Truman Middle",null,"Lenovo ThinkPad Yoga 12 (Core i5-5200U, 8GB, 128GB SSD)",null,"Retired/Surplused","Laptops",{"$nulls":4},"Yoga 12","Lenovo"]
["47382","MP08KW0H","Sappington Elementary","Gym Hallway","Lenovo ThinkPad Yoga 12 (Core i5-5200U, 8GB, 128GB SSD)",null,"In Service","Laptops",{"$nulls":4},"Yoga 12","Lenovo"]
["47419","RD0036448","Long Elementary",30,"FrontRow Pro Digital 940R Receiver/Amplifier with 940TM Transmitter/Microphone",null,"In Service","Classroom Audio",{"$nulls":4},"940R","FrontRow"]
["47486","TT0152120100","Sperreng Middle",53,"ViewSonic 23' Display LED w/IPS Pan",null,"In Service","Monitor",{"$nulls":4},"VA2349S","ViewSonic"]
["47594",null,"Sappington Elementary",50,"Bretford 24 Unit Capacity Laptop Computer Roll Around Storage Unit",null,"In Service","Cart",{"$nulls":5},"Bretford"]
["47701",null,"Truman Middle",304,"ViewSonic 23' Display LED w/IPS Pan",null,"In Service","Monitor",{"$nulls":4},"VA2349S","ViewSonic"]
["47704",null,"Truman Middle",304,"ViewSonic 23' Display LED w/IPS Pan",null,"In Service","Monitor",{"$nulls":4},"VA2349S","ViewSonic"]
["47744","P2034GT0","Pending","Pending Chromebooks","Lenovo 500e Chromebook (Gen 1)",null,"Retired/Surplused","Chromebooks",{"$nulls":5},"Lenovo"]
["47983","MP136CEZ","Central Office",216,"Lenovo ThinkPad Yoga 260 (Core i5-6200U, 8GB, 192GB)",null,"Retired/Surplused","Laptops",{"$nulls":4},"Yoga 260","Lenovo"]
["48035","V11558","Central Office",105,"Lenovo ThinkVision 23' Monitor",null,"In Service","Monitor",{"$nulls":4},"LS2323","Lenovo"]
["48081","1S3695QEUMJ961FG","Lindbergh High School","108A","Lenovo ThinkStation E31",null,"In Service","Desktops",{"$nulls":4},"E31","Lenovo"]
["48411",null,"Sperreng Middle","049 (LEAP Makerspace)","ELMO TT-12 Document Camera",null,"In Service","Document Camera",{"$nulls":4},"TT-12","ELMO"]
["48454","ECILS3-BK","Sperreng Middle",215,"Bretford A/V Learning Cart",null,"In Service","Cart",{"$nulls":4},"ECILS3-BK","Bretford"]
["49109","IN64G4F138","Concord Elementary","Data - 036","HP 5400R Power Supply",null,"In Service","Power Supply",{"$nulls":4},"J9829A","HP"]
["49138","SG66GPR26G","Concord Elementary","Data - 036","HP 5406R Switch",null,"In Service","Switch",{"$nulls":4},"JL003A","HP"]
["49144","SG66GPR272","Truman Middle","Data - 218","HP 5406R Switch",null,"In Service","Switch",{"$nulls":4},"JL003A","HP"]
["49409","DMQSF39QG5W1","Sappington Elementary","Library","Apple iPad Air 128GB WIFI (2nd Gen)",null,"In Service","iPads",{"$nulls":4},"PGTX2LL/A","Apple"]
["49511","752TSYG443","Lindbergh High School","105B","Motorola CP200D",null,"In Service","Walkie Talkie",{"$nulls":4},"CP200D","Motorola"]
["49563","MP144LA2","Lindbergh High School",22,"Lenovo ThinkPad Yoga 260 (Core i5-6300U, 8GB, 256GB)",null,"Retired/Surplused","Laptops",{"$nulls":4},"Yoga 260","Lenovo"]
["49576","MP145E6C","Dressel Elementary",118,"Lenovo ThinkPad Yoga 260 (Core i5-6300U, 8GB, 256GB)",null,"Retired/Surplused","Laptops",{"$nulls":4},"Yoga 260","Lenovo"]
["49610","MP144Q2F","Central Office",209,"Lenovo ThinkPad Yoga 260 (Core i5-6300U, 8GB, 256GB)",null,"Retired/Surplused","Laptops",{"$nulls":4},"Yoga 260","Lenovo"]
["49659","MP14DXJ2","Central Office","Imaging Room/Staff Devices","Lenovo ThinkPad Yoga 260 (Core i5-6300U, 8GB, 256GB)",null,"Retired/Surplused","Laptops",{"$nulls":4},"Yoga 260","Lenovo"]
["49673","MP144LC6","Truman Middle","Office","Lenovo ThinkPad Yoga 260 (Core i5-6300U, 8GB, 256GB)",null,"In Service","Laptops",{"$nulls":4},"Yoga 260","Lenovo"]
["49694","MP145CLZ","Central Office","Technology","Lenovo ThinkPad Yoga 260 (Core i5-6300U, 8GB, 256GB)",null,"Retired/Surplused","Laptops",{"$nulls":4},"Yoga 260","Lenovo"]
["49733","MP145E5C",null,null,"Lenovo ThinkPad Yoga 260 (Core i5-6300U, 8GB, 256GB)",null,"Retired/Surplused","Laptops",{"$nulls":4},"Yoga 260","Lenovo"]
["49755","MP145E5B","Lindbergh High School",32,"Lenovo ThinkPad Yoga 260 (Core i5-6300U, 8GB, 256GB)",null,"In Service","Laptops",{"$nulls":4},"Yoga 260","Lenovo"]
["49783","MP145B0A","Lindbergh High School",112,"Lenovo ThinkPad Yoga 260 (Core i5-6300U, 8GB, 256GB)",null,"Retired/Surplused","Laptops",{"$nulls":4},"Yoga 260","Lenovo"]
["49795","MP14DXM2","Truman Middle","*Staff/Teacher Devices","Lenovo ThinkPad Yoga 260 (Core i5-6300U, 8GB, 256GB)",null,"Retired/Surplused","Laptops",{"$nulls":4},"Yoga 260","Lenovo"]
["49913","035TTN04HW","Dressel Elementary",220,"Motorola DTR650 Two-Way Radio",null,"In Service","Walkie Talkie",{"$nulls":4},"DTR650","Motorola"]
["49965","MJ05N1PK","Surplus",null,"Lenovo ThinkCentre M9108 (Core i5-7500, 8GB, 1TB HDD)",null,"Retired/Surplused","Desktops",{"$nulls":4},"M92108","Lenovo"]
["50056","DMQWQN0JJF8J",null,null,"Apple iPad 32GB WIFI (6th Gen)",null,"Lost/Missing","iPads",{"$nulls":4},"PR8A2LL/A","Apple"]
["50072","DMQWQL5DJF8J","Sappington Elementary",null,"Apple iPad 32GB WIFI (6th Gen)",null,"Retired/Surplused","iPads",{"$nulls":4},"PR8A2LL/A","Apple"]
["50089","DMQWQLLVJF8J","Central Office",null,"Apple iPad 32GB WIFI (6th Gen)","Erica Keating","In Service","iPads",{"$nulls":4},"PR8A2LL/A","Apple"]
["50108","DMQWQMKEJF8J",null,null,"Apple iPad 32GB WIFI (6th Gen)",null,"Retired/Surplused","iPads",{"$nulls":4},"PR8A2LL/A","Apple"]
["50134","DMQWQLPPJF8J","Kennerly Elementary",null,"Apple iPad 32GB WIFI (6th Gen)",null,"Retired/Surplused","iPads",{"$nulls":4},"PR8A2LL/A","Apple"]
["50168","DMPWVP4JJF8J","Pending",null,"Apple iPad 32GB WIFI (6th Gen)",null,"Retired/Surplused","iPads",{"$nulls":4},"MR7F2LL/A","Apple"]
["50191","DMPWVNS9JF8J","Dressel Elementary",null,"Apple iPad 32GB WIFI (6th Gen)",null,"Retired/Surplused","iPads",{"$nulls":4},"MR7F2LL/A","Apple"]
["50255","P2021CRH","Pending","Pending Chromebooks","Lenovo 300e Chromebook",null,"Retired/Surplused","Chromebooks",{"$nulls":5},"Lenovo"]
["50278","P2021CBE","Pending","Pending Chromebooks","Lenovo 300e Chromebook",null,"In Service","Chromebooks",{"$nulls":5},"Lenovo"]
["50288","P2021CNY","Pending","Pending Chromebooks","Lenovo 300e Chromebook",null,"In Storage","Chromebooks",{"$nulls":5},"Lenovo"]
["50312","DMPWVMS5JF8J","Dressel Elementary",null,"Apple iPad 32GB WIFI (6th Gen)",null,"Retired/Surplused","iPads",{"$nulls":4},"MR7F2LL/A","Apple"]
["50347","DMPWVN2SJF8J","Truman Middle",null,"Apple iPad 32GB WIFI (6th Gen)",null,"Retired/Surplused","iPads",{"$nulls":4},"MR7F2LL/A","Apple"]
["50361","DMPWVNLEJF8J","Concord Elementary",null,"Apple iPad 32GB WIFI (6th Gen)",null,"Retired/Surplused","iPads",{"$nulls":4},"MR7F2LL/A","Apple"]
["50383","DMPWVMRUJF8J","Concord Elementary",null,"Apple iPad 32GB WIFI (6th Gen)",null,"Retired/Surplused","iPads",{"$nulls":4},"PR8A2LL/A","Apple"]
["50428","DMPWVNFYJF8J","Concord Elementary",null,"Apple iPad 32GB WIFI (6th Gen)",null,"Retired/Surplused","iPads",{"$nulls":4},"PR8A2LL/A","Apple"]
["50441","DMPWVN3CJF8J","Concord Elementary",null,"Apple iPad 32GB WIFI (6th Gen)",null,"Retired/Surplused","iPads",{"$nulls":4},"MR7F2LL/A","Apple"]
["50484","DMPWVNESJF8J","Surplus",null,"Apple iPad 32GB WIFI (6th Gen)",null,"Retired/Surplused","iPads",{"$nulls":4},"MR7F2LL/A","Apple"]
["50487","DMPWVNEVJF8J","Kennerly Elementary",null,"Apple iPad 32GB WIFI (6th Gen)",null,"Retired/Surplused","iPads",{"$nulls":4},"MR7F2LL/A","Apple"]
["50519","DMPWVMUPJF8J","Surplus",null,"Apple iPad 32GB WIFI (6th Gen)",null,"Retired/Surplused","iPads",{"$nulls":4},"MR7F2LL/A","Apple"]
["50547","P202CYE8","Lindbergh High School",null,"Lenovo 500e Chromebook (Gen 1)",null,"In Service","Chromebooks",{"$nulls":5},"Lenovo"]
["50561","P202CY9C","Pending","Pending Chromebooks","Lenovo 500e Chromebook (Gen 1)",null,"Retired/Surplused","Chromebooks",{"$nulls":5},"Lenovo"]
["50604","P202D9FU","Pending","Pending Chromebooks","Lenovo 500e Chromebook (Gen 1)",null,"Retired/Surplused","Chromebooks",{"$nulls":5},"Lenovo"]
["50618","P202D95U","Pending","Pending Chromebooks","Lenovo 500e Chromebook (Gen 1)",null,"Retired/Surplused","Chromebooks",{"$nulls":5},"Lenovo"]
["50638","P202D9HG","Pending","Pending Chromebooks","Lenovo 500e Chromebook (Gen 1)",null,"Retired/Surplused","Chromebooks",{"$nulls":5},"Lenovo"]
["50678","P202D02M","Pending","Pending Chromebooks","Lenovo 500e Chromebook (Gen 1)",null,"Retired/Surplused","Chromebooks",{"$nulls":5},"Lenovo"]
["50686","P202D9EK","Pending","Pending Chromebooks","Lenovo 500e Chromebook (Gen 1)",null,"In Storage","Chromebooks",{"$nulls":5},"Lenovo"]
["50722","P202D9BW","Pending","Pending Chromebooks","Lenovo 500e Chromebook (Gen 1)",null,"In Service","Chromebooks",{"$nulls":5},"Lenovo"]
["50745","P202DFDE","Pending","Pending Chromebooks","Lenovo 500e Chromebook (Gen 1)",null,"In Service","Chromebooks",{"$nulls":5},"Lenovo"]
["50756","P202D9P6","Pending","Pending Chromebooks","Lenovo 500e Chromebook (Gen 1)",null,"Retired/Surplused","Chromebooks",{"$nulls":5},"Lenovo"]
["50778","P202E8A5","Pending","Pending Chromebooks","Lenovo 500e Chromebook (Gen 1)",null,"Retired/Surplused","Chromebooks",{"$nulls":5},"Lenovo"]
["50802","P202D9CX","Pending","Pending Chromebooks","Lenovo 500e Chromebook (Gen 1)",null,"Retired/Surplused","Chromebooks",{"$nulls":5},"Lenovo"]
["50836","P202DF8G","Truman Middle","Office","Lenovo 500e Chromebook (Gen 1)",null,"In Storage","Chromebooks",{"$nulls":5},"Lenovo"]
["50859","P202D8ZM","Lindbergh High School",null,"Lenovo 500e Chromebook (Gen 1)",null,"In Storage","Chromebooks",{"$nulls":5},"Lenovo"]
["50877","P202D9AR","Lindbergh High School",null,"Lenovo 500e Chromebook (Gen 1)",null,"In Storage","Chromebooks",{"$nulls":5},"Lenovo"]
["50916","P202D9G1","Pending","Pending Chromebooks","Lenovo 500e Chromebook (Gen 1)",null,"In Storage","Chromebooks",{"$nulls":5},"Lenovo"]
["50938","P202D9A2","Pending","Pending Chromebooks","Lenovo 500e Chromebook (Gen 1)",null,"Retired/Surplused","Chromebooks",{"$nulls":5},"Lenovo"]
["50958","P202DF4P","Pending","Pending Chromebooks","Lenovo 500e Chromebook (Gen 1)",null,"In Service","Chromebooks",{"$nulls":5},"Lenovo"]
["50972","P202D9RD","Pending","Pending Chromebooks","Lenovo 500e Chromebook (Gen 1)",null,"Retired/Surplused","Chromebooks",{"$nulls":5},"Lenovo"]
["50999","P202CXUK","Pending","Pending Chromebooks","Lenovo 500e Chromebook (Gen 1)",null,"Retired/Surplused","Chromebooks",{"$nulls":5},"Lenovo"]
["51482","F9FTQAMLHLFD","Sappington Elementary",null,"Apple iPad 128GB WIFI (5th Gen)",null,"Retired/Surplused","iPads",{"$nulls":4},"MP2H2LL/A","Apple"]
["51551","SG76GPS061","Lindbergh High School",null,"Aruba 5412R 92GT PoE+ Aand 4 Port SFP+ (No PSU) v3 z12 Switch",null,"In Service","Switch",{"$nulls":4},"JL001A","Aruba"]
["51734","F9FTXHUDHLFD","Pending",null,"Apple iPad 128GB WIFI (5th Gen)",null,"Retired/Surplused","iPads",{"$nulls":4},"MP2H2LL/A","Apple"]
["51749","F9FTXK0WHLFD","Pending",null,"Apple iPad 128GB WIFI (5th Gen)",null,"In Service","iPads",{"$nulls":4},"MP2H2LL/A","Apple"]
["51904","GCGV3LK0HLFD","Concord Elementary",null,"Apple iPad 128GB WIFI (5th Gen)",null,"Retired/Surplused","iPads",{"$nulls":4},"MP2H2LL/A","Apple"]
["51938","GCGV42Q7HLFD","Kennerly Elementary",null,"Apple iPad 128GB WIFI (5th Gen)",null,"Retired/Surplused","iPads",{"$nulls":4},"MP2H2LL/A","Apple"]
["51952","MJ05J16Y","Dressel Elementary","Custodial Closet","Lenovo ThinkCentre M710Q 10MR Tiny (Core i3-6100T, 8GB, 128GB)",null,"In Service","Desktops",{"$nulls":4},"M710Q","Lenovo"]
["52033","X28B720111L","Dressel Elementary",213,"Epson Brighlink 695Wi Projector",null,"In Service","Projector",{"$nulls":4},"Brightlink 695Wi","Epson"]
["52062",37166571353,"Lindbergh High School",330,"Microsoft Surface Pro 4 Tablet (Core i5 6300U, 8GB, 256GB SSD)",null,"Retired/Surplused","Laptops",{"$nulls":4},"Surface Pro 4","Microsoft"]
["52225","X3UW770137L","Sappington Elementary","Gym","EPSON Powerlite 5520w Projector 5500 Lumens",null,"In Service","Projector",{"$nulls":4},"Powerlite 5520W","Epson"]
["52257",1367676,"Sappington Elementary",59,"ELMO TT-12iD Document Camera",null,"In Service","Document Camera",{"$nulls":4},"TT-12iD","ELMO"]
["52324","06LR3CCJ901781","Kennerly Elementary","Cafeteria/Gym","Samsung 65' 4K Ultra HD Smart TV",null,"In Service","TV",{"$nulls":4},"UN65MU6300FXZA","Samsung"]
["52359",1353613,"Dressel Elementary",116,"ELMO TT-12iD Document Camera",null,"In Service","Document Camera",{"$nulls":4},"TT-12iD","ELMO"]
["52414","X28C7602291","Sappington Elementary",58,"Epson Brighlink 695Wi Projector",null,"In Service","Projector",{"$nulls":4},"Brightlink 695Wi","Epson"]
["52440","LR0A3PP9","Pending","Pending Chromebooks","Lenovo N23 Chromebook",null,"Deprovisioned","Chromebooks",{"$nulls":5},"Lenovo"]
["52457","LR0A3PQW","Pending","Pending Chromebooks","Lenovo N23 Chromebook",null,"Deprovisioned","Chromebooks",{"$nulls":5},"Lenovo"]
["52474","LR0A3PQ3","Pending","Pending Chromebooks","Lenovo N23 Chromebook",null,"Deprovisioned","Chromebooks",{"$nulls":5},"Lenovo"]
["52515","LR0A3PRV","Pending","Pending Chromebooks","Lenovo N23 Chromebook",null,"Deprovisioned","Chromebooks",{"$nulls":5},"Lenovo"]
["52532","LR0A3PQH","Pending","Pending Chromebooks","Lenovo N23 Chromebook",null,"Deprovisioned","Chromebooks",{"$nulls":5},"Lenovo"]
["52552","LR09YJE3","Pending","Pending Chromebooks","Lenovo N23 Chromebook (Touch)",null,"Deprovisioned","Chromebooks",{"$nulls":5},"Lenovo"]
["52581","LR09YJJW","Pending","Pending Chromebooks","Lenovo N23 Chromebook (Touch)",null,"Deprovisioned","Chromebooks",{"$nulls":5},"Lenovo"]
["52609","LR09YJEN","Pending","Pending Chromebooks","Lenovo N23 Chromebook (Touch)",null,"In Storage","Chromebooks",{"$nulls":5},"Lenovo"]
["52615","LR09YJ8C","Pending","Pending Chromebooks","Lenovo N23 Chromebook (Touch)",null,"Deprovisioned","Chromebooks",{"$nulls":5},"Lenovo"]
["52694","GG7W4NVFHLFD","Dressel Elementary",null,"Apple iPad 128GB WIFI (5th Gen)",null,"Retired/Surplused","iPads",{"$nulls":4},"MP2H2LL/A","Apple"]
["52757","1801AV02C786","Crestwood Elementary",21,"Algo 8180 SIP Audio Alerter (G1)",null,"In Service","Intercom",{"$nulls":4},8180,"ALGO"]
["52792","P202CD3BP29YB8503003","Pending","Pending Chromebooks","Lenovo 500e Chromebook (Gen 1)",null,"In Service","Chromebooks",{"$nulls":5},"Lenovo"]
["52834","DMQWQLHDJF8J","Sappington Elementary",null,"Apple iPad 32GB WIFI (6th Gen)",null,"Retired/Surplused","iPads",{"$nulls":4},"PR8A2LL/A","Apple"]
["52859","DMQWQMUBJF8J","Kennerly Elementary",null,"Apple iPad 32GB WIFI (6th Gen)",null,"Retired/Surplused","iPads",{"$nulls":4},"PR8A2LL/A","Apple"]
["52881","DMQWQLE4JF8J",null,null,"Apple iPad 32GB WIFI (6th Gen)",null,"Retired/Surplused","iPads",{"$nulls":4},"PR8A2LL/A","Apple"]
["52895","DMQWQN3QJF8J","Dressel Elementary",null,"Apple iPad 32GB WIFI (6th Gen)",null,"Retired/Surplused","iPads",{"$nulls":4},"PR8A2LL/A","Apple"]
["52920","DMQWQN8RJF8J",null,null,"Apple iPad 32GB WIFI (6th Gen)",null,"Retired/Surplused","iPads",{"$nulls":4},"PR8A2LL/A","Apple"]
["52958","DMQWQLUTJF8J","Pending",null,"Apple iPad 32GB WIFI (6th Gen)",null,"Retired/Surplused","iPads",{"$nulls":4},"PR8A2LL/A","Apple"]
["52979","DMQWQMATJF8J","Sappington Elementary",null,"Apple iPad 32GB WIFI (6th Gen)",null,"Retired/Surplused","iPads",{"$nulls":4},"PR8A2LL/A","Apple"]
["53037","P202D0JY","Pending","Pending Chromebooks","Lenovo 500e Chromebook (Gen 1)",null,"Retired/Surplused","Chromebooks",{"$nulls":5},"Lenovo"]
["53049","P202DF66","Pending","Pending Chromebooks","Lenovo 500e Chromebook (Gen 1)",null,"Retired/Surplused","Chromebooks",{"$nulls":5},"Lenovo"]
["53078","P202E4QY","Pending","Pending Chromebooks","Lenovo 500e Chromebook (Gen 1)",null,"Retired/Surplused","Chromebooks",{"$nulls":5},"Lenovo"]
["53094","P202E89T","Pending","Pending Chromebooks","Lenovo 500e Chromebook (Gen 1)",null,"Retired/Surplused","Chromebooks",{"$nulls":5},"Lenovo"]
["53135","P202CXZS","Pending","Pending Chromebooks","Lenovo 500e Chromebook (Gen 1)",null,"Retired/Surplused","Chromebooks",{"$nulls":5},"Lenovo"]
["53151","P202CZAR","Pending","Pending Chromebooks","Lenovo 500e Chromebook (Gen 1)",null,"Retired/Surplused","Chromebooks",{"$nulls":5},"Lenovo"]
["53168","P202DF1G","Pending","Pending Chromebooks","Lenovo 500e Chromebook (Gen 1)",null,"Retired/Surplused","Chromebooks",{"$nulls":5},"Lenovo"]
["53210","P202D9R8","Pending","Pending Chromebooks","Lenovo 500e Chromebook (Gen 1)",null,"In Service","Chromebooks",{"$nulls":5},"Lenovo"]
["53236","DMPX36UWJF8J",null,null,"Apple iPad 32GB WIFI (6th Gen)",null,"Retired/Surplused","iPads",{"$nulls":4},"MR7F2LL/A","Apple"]
["53245","DMPX36XLJF8J",null,null,"Apple iPad 32GB WIFI (6th Gen)",null,"Retired/Surplused","iPads",{"$nulls":4},"MR7F2LL/A","Apple"]
["53271","DMPXCF0UJF8J","Concord Elementary",null,"Apple iPad 32GB WIFI (6th Gen)",null,"Retired/Surplused","iPads",{"$nulls":4},"MR7F2LL/A","Apple"]
["53307","DMPX37DUJF8J","Crestwood Elementary",null,"Apple iPad 32GB WIFI (6th Gen)",null,"Retired/Surplused","iPads",{"$nulls":4},"MR7F2LL/A","Apple"]
["53345","DMPX36HYJF8J",null,null,"Apple iPad 32GB WIFI (6th Gen)",null,"Retired/Surplused","iPads",{"$nulls":4},"MR7F2LL/A","Apple"]
["53358","DMPX36HTJF8J",null,null,"Apple iPad 32GB WIFI (6th Gen)",null,"Retired/Surplused","iPads",{"$nulls":4},"MR7F2LL/A","Apple"]
["53383","DMPX43A5JF8J","Kennerly Elementary","Library","Apple iPad 32GB WIFI (6th Gen)",null,"In Service","iPads",{"$nulls":4},"MR7F2LL/A","Apple"]
["53424","DMPX37JRJF8J","Lindbergh High School","Library","Apple iPad 32GB WIFI (6th Gen)",null,"In Service","iPads",{"$nulls":4},"MR7F2LL/A","Apple"]
["53445","DMPX2X2LJF8J","Sperreng Middle","Library","Apple iPad 32GB WIFI (6th Gen)",null,"In Service","iPads",{"$nulls":4},"MR7F2LL/A","Apple"]
["53495","P2023X9W","Pending","Pending Chromebooks","Lenovo 300e Chromebook",null,"Deprovisioned","Chromebooks",{"$nulls":5},"Lenovo"]
["53508",36216365253,"Lindbergh High School",330,"Microsoft Surface Pro 4 Tablet (Core i5 6300U, 8GB, 256GB SSD)",null,"Retired/Surplused","Laptops",{"$nulls":4},"Surface Pro 4","Microsoft"]
["53545","P20249H7","Pending","Pending Chromebooks","Lenovo 300e Chromebook",null,"Deprovisioned","Chromebooks",{"$nulls":5},"Lenovo"]
["53565","DMQX51QRJF8J","Sappington Elementary",null,"Apple iPad 32GB WIFI (6th Gen)",null,"Retired/Surplused","iPads",{"$nulls":4},"MR7F2LL/A","Apple"]
["53603","DMPX5N00JF8J",null,null,"Apple iPad 32GB WIFI (6th Gen)",null,"Retired/Surplused","iPads",{"$nulls":4},"MR7F2LL/A","Apple"]
["53610","DMQX51JAJF8J","Concord Elementary",null,"Apple iPad 32GB WIFI (6th Gen)",null,"Retired/Surplused","iPads",{"$nulls":4},"MR7F2LL/A","Apple"]
["53641","DMPX5MUFJF8J","Kennerly Elementary",null,"Apple iPad 32GB WIFI (6th Gen)",null,"Retired/Surplused","iPads",{"$nulls":4},"MR7F2LL/A","Apple"]
["53688","DMQX51Q4JF8J","Kennerly Elementary",null,"Apple iPad 32GB WIFI (6th Gen)",null,"Retired/Surplused","iPads",{"$nulls":4},"MR7F2LL/A","Apple"]
["53707","DMQX51EJJF8J","Truman Middle",null,"Apple iPad 32GB WIFI (6th Gen)",null,"Retired/Surplused","iPads",{"$nulls":4},"MR7F2LL/A","Apple"]
["53724","YD04Q351","Pending","Pending Chromebooks","Lenovo 300e Chromebook",null,"Retired/Surplused","Chromebooks",{"$nulls":5},"Lenovo"]
["53744","YD04Q2KS","Pending","Pending Chromebooks","Lenovo 300e Chromebook",null,"In Service","Chromebooks",{"$nulls":5},"Lenovo"]
["53853","DMPXCLSKJF8J","Concord Elementary",null,"Apple iPad 32GB WIFI (6th Gen)",null,"Retired/Surplused","iPads",{"$nulls":4},"MR7F2LL/A","Apple"]
["53882","P2034FL7","Pending","Pending Chromebooks","Lenovo 500e Chromebook (Gen 1)",null,"Retired/Surplused","Chromebooks",{"$nulls":5},"Lenovo"]
["53916","P2034FL9","Pending","Pending Chromebooks","Lenovo 500e Chromebook (Gen 1)",null,"Retired/Surplused","Chromebooks",{"$nulls":5},"Lenovo"]
["53952","SG521JZ045","Crestwood Elementary","Data - 014","HP Procurve switch 5308xl",null,"In Service","Switch",{"$nulls":4},"5308xl","HP"]
["54006","P2034V49","Pending","Pending Chromebooks","Lenovo 500e Chromebook (Gen 1)",null,"Retired/Surplused","Chromebooks",{"$nulls":5},"Lenovo"]
["54053","P2034TRU","Pending","Pending Chromebooks","Lenovo 500e Chromebook (Gen 1)",null,"In Storage","Chromebooks",{"$nulls":5},"Lenovo"]
["54075","P2034U04","Pending","Pending Chromebooks","Lenovo 500e Chromebook (Gen 1)",null,"Retired/Surplused","Chromebooks",{"$nulls":5},"Lenovo"]
["54086","P2034UCM","Kennerly Elementary","Library","Lenovo 500e Chromebook (Gen 1)",null,"In Service","Chromebooks",{"$nulls":5},"Lenovo"]
["54109","P2034U63","Pending","Pending Chromebooks","Lenovo 500e Chromebook (Gen 1)",null,"Retired/Surplused","Chromebooks",{"$nulls":5},"Lenovo"]
["54127","P2034GYR","Pending","Pending Chromebooks","Lenovo 500e Chromebook (Gen 1)",null,"Retired/Surplused","Chromebooks",{"$nulls":5},"Lenovo"]
["54166","P2034UX1","Concord Elementary",null,"Lenovo 500e Chromebook (Gen 1)",null,"In Service","Chromebooks",{"$nulls":5},"Lenovo"]
["54223","P2033UAY","Pending","Pending Chromebooks","Lenovo 500e Chromebook (Gen 1)",null,"In Storage","Chromebooks",{"$nulls":5},"Lenovo"]
["54258","RD0042822","Central Office","Broken Equipment","FrontRow Student Microphone",null,"Retired/Surplused","Classroom Audio",{"$nulls":5},"FrontRow"]
["54273","X28B7Y0964L","Long Elementary",35,"Epson Brighlink 695Wi Projector",null,"In Service","Projector",{"$nulls":4},"Brightlink 695Wi","Epson"]
["54300","X28C8602431","Sperreng Middle","009 (Lab 9)","Epson Brighlink 695Wi Projector",null,"In Service","Projector",{"$nulls":4},"Brightlink 695Wi","Epson"]
["54332","P2034THE","Sperreng Middle","Library","Lenovo 500e Chromebook (Gen 1)",null,"In Service","Chromebooks",{"$nulls":5},"Lenovo"]
["54359","P2033TU7","Pending","Pending Chromebooks","Lenovo 500e Chromebook (Gen 1)",null,"Deprovisioned","Chromebooks",{"$nulls":5},"Lenovo"]
["54366","P2033TJL","Pending","Pending Chromebooks","Lenovo 500e Chromebook (Gen 1)",null,"Retired/Surplused","Chromebooks",{"$nulls":5},"Lenovo"]
["54392","P2033G81","Pending","Pending Chromebooks","Lenovo 500e Chromebook (Gen 1)",null,"Retired/Surplused","Chromebooks",{"$nulls":5},"Lenovo"]
["54485","C07YTJ50JG2X","Sperreng Middle","057 (Fitness Room)","Apple TV (4th Gen) 32GB",null,"In Service","Apple TVs",{"$nulls":4},"MR912LL/A","Apple"]
["54509","C07DXXX6JG2X","Truman Middle",312,"Apple TV (4th Gen) 32GB",null,"In Service","Apple TVs",{"$nulls":4},"MR912LL/A","Apple"]
["54554",1415548,"Crestwood Elementary",34,"ELMO TT-12iD Document Camera",null,"In Service","Document Camera",{"$nulls":4},"TT-12iD","ELMO"]
["54563",1415544,"Sappington Elementary",47,"ELMO TT-12iD Document Camera",null,"In Service","Document Camera",{"$nulls":4},"TT-12iD","ELMO"]
["54590",1415527,"Truman Middle",20,"ELMO TT-12iD Document Camera",null,"In Service","Document Camera",{"$nulls":4},"TT-12iD","ELMO"]
["54628","DMRY2FT4JF8J",null,null,"Apple iPad 32GB WIFI (6th Gen)",null,"Retired/Surplused","iPads",{"$nulls":4},"PR7F2LL/A","Apple"]
["54680","P2033UW5","Pending","Pending Chromebooks","Lenovo 500e Chromebook (Gen 1)",null,"Retired/Surplused","Chromebooks",{"$nulls":5},"Lenovo"]
["54690","P2033UDX","Pending","Pending Chromebooks","Lenovo 500e Chromebook (Gen 1)",null,"Retired/Surplused","Chromebooks",{"$nulls":5},"Lenovo"]
["54730","C07XN0VBJG2X","Central Office",210,"Apple TV (4th Gen) 32GB",null,"In Service","Apple TVs",{"$nulls":4},"MR912LL/A","Apple"]
["54792",651501,null,null,"ELMO TT-02RX Document Camera",null,"In Service","Document Camera",{"$nulls":4},"TT-02RX","ELMO"]
["54888","X28B720124L","Kennerly Elementary",13,"Epson Brighlink 695Wi Projector",null,"In Service","Projector",{"$nulls":4},"Brightlink 695Wi","Epson"]
["54911","FVFYR09RJK77","Truman Middle",null,"Apple MacBook Air Intel Core i5, 8GB, 128GB SSD (2018)",null,"Retired/Surplused","MacBook",{"$nulls":4},"MRF82LL/A","Apple"]
["54928","P2035Q9V","Pending","Pending Chromebooks","Lenovo 500e Chromebook (Gen 1)",null,"Retired/Surplused","Chromebooks",{"$nulls":5},"Lenovo"]
["55026","P204V7S1","Surplus",null,"Lenovo 500e Chromebook (Gen 2)",null,"In Service","Chromebooks",{"$nulls":5},"Lenovo"]
["55043","P204V6ME","Pending","Pending Chromebooks","Lenovo 500e Chromebook (Gen 2)",null,"Retired/Surplused","Chromebooks",{"$nulls":5},"Lenovo"]
["55059","P204SJ9F","Pending","Pending Chromebooks","Lenovo 500e Chromebook (Gen 2)",null,"In Storage","Chromebooks",{"$nulls":5},"Lenovo"]
["55088","P204V7PB","Lindbergh High School",null,"Lenovo 500e Chromebook (Gen 2)",null,"In Storage","Chromebooks",{"$nulls":5},"Lenovo"]
["55116","P204V800","Lindbergh High School","Pending Chromebooks","Lenovo 500e Chromebook (Gen 2)",null,"In Service","Chromebooks",{"$nulls":5},"Lenovo"]
["55145","P204V6RA","Lindbergh High School",null,"Lenovo 500e Chromebook (Gen 2)",null,"In Storage","Chromebooks",{"$nulls":5},"Lenovo"]
["55156","P204V6N8","Lindbergh High School","Pending Chromebooks","Lenovo 500e Chromebook (Gen 2)",null,"Broken","Chromebooks",{"$nulls":5},"Lenovo"]
["55181","P204V6Z4","Lindbergh High School",null,"Lenovo 500e Chromebook (Gen 2) [FINE]",null,"Broken","FINE Assessed",{"$nulls":5},"Lenovo"]
["55201","P204V7EN","Lindbergh High School",null,"Lenovo 500e Chromebook (Gen 2)",null,"In Storage","Chromebooks",{"$nulls":5},"Lenovo"]
["55241","P204V6X1","Pending","Pending Chromebooks","Lenovo 500e Chromebook (Gen 2)",null,"Retired/Surplused","Chromebooks",{"$nulls":5},"Lenovo"]
["55261","P204V6W8","Lindbergh High School",null,"Lenovo 500e Chromebook (Gen 2)","Armando Aljic","In Service","Chromebooks",{"$nulls":5},"Lenovo"]
["55282","P204V6CG","Lindbergh High School","Pending Chromebooks","Lenovo 500e Chromebook (Gen 2)",null,"In Service","Chromebooks",{"$nulls":5},"Lenovo"]
["55295","P204V6Z3","Pending","Pending Chromebooks","Lenovo 500e Chromebook (Gen 2)",null,"Retired/Surplused","Chromebooks",{"$nulls":5},"Lenovo"]
["55339","P204V6N5","Lindbergh High School",null,"Lenovo 500e Chromebook (Gen 2)",null,"In Storage","Chromebooks",{"$nulls":5},"Lenovo"]
["55353","P204UMG9","Lindbergh High School",null,"Lenovo 500e Chromebook (Gen 2)",null,"In Storage","Chromebooks",{"$nulls":5},"Lenovo"]
["55375","P204V7ZA","Lindbergh High School",null,"Lenovo 500e Chromebook (Gen 2)",null,"Broken","Chromebooks",{"$nulls":5},"Lenovo"]
["55405","P204UMUG","Lindbergh High School",null,"Lenovo 500e Chromebook (Gen 2)",null,"In Storage","Chromebooks",{"$nulls":5},"Lenovo"]
["55432","P204V7XT","Lindbergh High School",null,"Lenovo 500e Chromebook (Gen 2)",null,"In Storage","Chromebooks",{"$nulls":5},"Lenovo"]
["55438","P204UN6N","Surplus",null,"Lenovo 500e Chromebook (Gen 2)",null,"In Service","Chromebooks",{"$nulls":5},"Lenovo"]
["55478","DMPYWWAVJF8J","Concord Elementary",null,"Apple iPad 32GB WIFI (6th Gen)",null,"Retired/Surplused","iPads",{"$nulls":4},"PR8A2LL/A","Apple"]
["55497","DMPYWWXZJF8J","Sappington Elementary",null,"Apple iPad 32GB WIFI (6th Gen)",null,"Retired/Surplused","iPads",{"$nulls":4},"PR8A2LL/A","Apple"]
["55517","DMQYR20BJF8J","Dressel Elementary",null,"Apple iPad 32GB WIFI (6th Gen)",null,"Retired/Surplused","iPads",{"$nulls":4},"PR8A2LL/A","Apple"]
["55535","DMPYWX05JF8J","Concord Elementary",null,"Apple iPad 32GB WIFI (6th Gen)",null,"Retired/Surplused","iPads",{"$nulls":4},"PR8A2LL/A","Apple"]
["55580","DMPYWX1MJF8J","Sappington Elementary",null,"Apple iPad 32GB WIFI (6th Gen)",null,"Retired/Surplused","iPads",{"$nulls":4},"PR8A2LL/A","Apple"]
["55608","DMQYR9TMJF8J","Crestwood Elementary",null,"Apple iPad 32GB WIFI (6th Gen)",null,"Retired/Surplused","iPads",{"$nulls":4},"PR8A2LL/A","Apple"]
["55617","DMPYWW1FJF8J","Concord Elementary",null,"Apple iPad 32GB WIFI (6th Gen)",null,"Retired/Surplused","iPads",{"$nulls":4},"PR8A2LL/A","Apple"]
["55641","DMPYWX19JF8J","Sappington Elementary",null,"Apple iPad 32GB WIFI (6th Gen)",null,"Retired/Surplused","iPads",{"$nulls":4},"PR8A2LL/A","Apple"]
["55668","DMPYWW3TJF8J","Sappington Elementary",null,"Apple iPad 32GB WIFI (6th Gen)",null,"Retired/Surplused","iPads",{"$nulls":4},"PR8A2LL/A","Apple"]
["55699","DMPYWVKMJF8J","Crestwood Elementary",null,"Apple iPad 32GB WIFI (6th Gen)",null,"Retired/Surplused","iPads",{"$nulls":4},"PR8A2LL/A","Apple"]
["55735","DMPYT1LGJF8J","Crestwood Elementary",null,"Apple iPad 32GB WIFI (6th Gen)",null,"Retired/Surplused","iPads",{"$nulls":4},"PR8A2LL/A","Apple"]
["55760","DMQYR2JCJF8J","Crestwood Elementary",null,"Apple iPad 32GB WIFI (6th Gen)",null,"Retired/Surplused","iPads",{"$nulls":4},"PR8A2LL/A","Apple"]
["55770","DMPYWVY3JF8J","Sappington Elementary",null,"Apple iPad 32GB WIFI (6th Gen)",null,"Retired/Surplused","iPads",{"$nulls":4},"PR8A2LL/A","Apple"]
["55805","DMPYRYEHJF8J","Sappington Elementary",null,"Apple iPad 32GB WIFI (6th Gen)",null,"Retired/Surplused","iPads",{"$nulls":4},"PR8A2LL/A","Apple"]
["55827","DMPYWVKBJF8J","Concord Elementary",null,"Apple iPad 32GB WIFI (6th Gen)",null,"Retired/Surplused","iPads",{"$nulls":4},"PR8A2LL/A","Apple"]
["55841","DMPYWVFFJF8J","Dressel Elementary",null,"Apple iPad 32GB WIFI (6th Gen)",null,"Retired/Surplused","iPads",{"$nulls":4},"PR8A2LL/A","Apple"]
["55876","DMPYWVFVJF8J","Sappington Elementary",null,"Apple iPad 32GB WIFI (6th Gen)",null,"Retired/Surplused","iPads",{"$nulls":4},"PR8A2LL/A","Apple"]
["55895","DMPYWVP7JF8J","Surplus",null,"Apple iPad 32GB WIFI (6th Gen)",null,"Retired/Surplused","iPads",{"$nulls":4},"PR8A2LL/A","Apple"]
["55924","DMPYWX4QJF8J","Kennerly Elementary",null,"Apple iPad 32GB WIFI (6th Gen)",null,"Retired/Surplused","iPads",{"$nulls":4},"PR8A2LL/A","Apple"]
["55932","DMPYWVPVJF8J",null,null,"Apple iPad 32GB WIFI (6th Gen)",null,"Retired/Surplused","iPads",{"$nulls":4},"PR8A2LL/A","Apple"]
["55959","DMPYWWADJF8J","Kennerly Elementary",null,"Apple iPad 32GB WIFI (6th Gen)",null,"Retired/Surplused","iPads",{"$nulls":4},"PR8A2LL/A","Apple"]
["55991","DMPYRZFMJF8J","Crestwood Elementary",null,"Apple iPad 32GB WIFI (6th Gen)",null,"Retired/Surplused","iPads",{"$nulls":4},"PR8A2LL/A","Apple"]
["56021","DMPYWW92JF8J","Sappington Elementary",null,"Apple iPad 32GB WIFI (6th Gen)",null,"Retired/Surplused","iPads",{"$nulls":4},"PR8A2LL/A","Apple"]
["56035","DMPYWVNJJF8J","Pending",null,"Apple iPad 32GB WIFI (6th Gen)",null,"In Service","iPads",{"$nulls":4},"PR8A2LL/A","Apple"]
["56057","DMPYWW5CJF8J","Dressel Elementary",null,"Apple iPad 32GB WIFI (6th Gen)",null,"Retired/Surplused","iPads",{"$nulls":4},"PR8A2LL/A","Apple"]
["56102","DMQYR2TQJF8J","Dressel Elementary",null,"Apple iPad 32GB WIFI (6th Gen)",null,"Retired/Surplused","iPads",{"$nulls":4},"PR8A2LL/A","Apple"]
["56126","DMPYWW1HJF8J","Concord Elementary",null,"Apple iPad 32GB WIFI (6th Gen)",null,"Retired/Surplused","iPads",{"$nulls":4},"PR8A2LL/A","Apple"]
["56137","DMPYWX21JF8J",null,null,"Apple iPad 32GB WIFI (6th Gen)",null,"Retired/Surplused","iPads",{"$nulls":4},"PR8A2LL/A","Apple"]
["56160","DMPYWV8FJF8J",null,null,"Apple iPad 32GB WIFI (6th Gen)",null,"Retired/Surplused","iPads",{"$nulls":4},"PR8A2LL/A","Apple"]
["56194","DMPYWVNFJF8J",null,null,"Apple iPad 32GB WIFI (6th Gen)",null,"Retired/Surplused","iPads",{"$nulls":4},"PR8A2LL/A","Apple"]
["56218","DMPYWWEEJF8J",null,null,"Apple iPad 32GB WIFI (6th Gen)",null,"Retired/Surplused","iPads",{"$nulls":4},"PR8A2LL/A","Apple"]
["56243","DMPYWVNTJF8J","Sappington Elementary",null,"Apple iPad 32GB WIFI (6th Gen)",null,"Retired/Surplused","iPads",{"$nulls":4},"PR8A2LL/A","Apple"]
["56259","R90VS9WZ","Central Office",206,"Lenovo ThinkPad L380 Yoga (Core i5-8250U, 8GB, 256GB)","Theresa Musante","In Service","Laptops",{"$nulls":4},"L380 Yoga","Lenovo"]
["56282","R90VG3DW","Crestwood Elementary",null,"Lenovo ThinkPad L380 Yoga (Core i5-8250U, 8GB, 256GB)",null,"Retired/Surplused","Laptops",{"$nulls":4},"L380 Yoga","Lenovo"]
["56305","R90VG3EX","Lindbergh High School",null,"Lenovo ThinkPad L380 Yoga (Core i5-8250U, 8GB, 256GB)",null,"In Storage","Laptops",{"$nulls":4},"L380 Yoga","Lenovo"]
["56325","R90VG3DN","Central Office","Imaging Room/Staff Devices","Lenovo ThinkPad L380 Yoga (Core i5-8250U, 8GB, 256GB)",null,"Retired/Surplused","Laptops",{"$nulls":4},"L380 Yoga","Lenovo"]
["56361","R90VG3FR","Crestwood Elementary","*Staff/Teacher Devices","Lenovo ThinkPad L380 Yoga (Core i5-8250U, 8GB, 256GB)",null,"Retired/Surplused","Laptops",{"$nulls":4},"L380 Yoga","Lenovo"]
["56382","R90VG3EL","Kennerly Elementary","*Staff/Teacher Devices","Lenovo ThinkPad L380 Yoga (Core i5-8250U, 8GB, 256GB)",null,"Retired/Surplused","Laptops",{"$nulls":4},"L380 Yoga","Lenovo"]
["56396","R90VG3CJ","Sappington Elementary",null,"Lenovo ThinkPad L380 Yoga (Core i5-8250U, 8GB, 256GB)",null,"Retired/Surplused","Laptops",{"$nulls":4},"L380 Yoga","Lenovo"]
["56423","R90VKPLA","Long Elementary","*Staff/Teacher Devices","Lenovo ThinkPad L380 Yoga (Core i5-8250U, 8GB, 256GB)",null,"In Service","Laptops",{"$nulls":4},"L380 Yoga","Lenovo"]
["56454","R90VKPKR","Dressel Elementary","*Staff/Teacher Devices","Lenovo ThinkPad L380 Yoga (Core i5-8250U, 8GB, 256GB)",null,"Retired/Surplused","Laptops",{"$nulls":4},"L380 Yoga","Lenovo"]
["56481","R90VKPJY","Kennerly Elementary","*Staff/Teacher Devices","Lenovo ThinkPad L380 Yoga (Core i5-8250U, 8GB, 256GB)",null,"Retired/Surplused","Laptops",{"$nulls":4},"L380 Yoga","Lenovo"]
["56519","X2AD9501325","Crestwood Elementary",15,"Epson Powerlite 685W Projector",null,"In Service","Projector",{"$nulls":4},"Powerlite 685w","Epson"]
["56522","X2AD9600875","Crestwood Elementary",24,"Epson Powerlite 685W Projector",null,"In Service","Projector",{"$nulls":4},"Powerlite 685w","Epson"]
["56569","332024VAD03246","Dressel Elementary",105,"IPEVO VZ-R HDMI/USB 8MP Document Camera",null,"In Service","Document Camera",{"$nulls":4},"VZ-R","IPEVO"]
["56580","U460FXLZ","Sperreng Middle","Guidance Office - Office 1 (Aaron Swatosh)","Lenovo L27M-28 27' LED Monitor",null,"In Service","Monitor",{"$nulls":4},"L27M-28","Lenovo"]
["56631","R90YKTQE","Lindbergh High School",null,"Lenovo ThinkPad L13 Yoga (Core i5-10210U, 16GB, 256GB) [Gen 1]",null,"Stolen","Laptops",{"$nulls":4},"L13 Yoga (Gen 1)","Lenovo"]
["56645","07TM3CHM911833","Concord Elementary",26,"Samsung 50' Class NU6900 Series LED 4K UHD Smart Tizen TV",null,"In Service","TV",{"$nulls":4},"UN50NU6900FXZA","Samsung"]
["56672","PF3PLEQL","Lindbergh High School",null,"Lenovo Legion 7 16ACHG6 (Ryzen 9 5900HX, 32GB, 2TB)","Michael Imboden","In Service","Laptops",{"$nulls":4},"Legion 7","Lenovo"]
["56709","FVFCL01KQ0WM","Sperreng Middle",null,"Apple MacBook Air Intel Core i3, 8GB, 128GB SSD (2020)",null,"Retired/Surplused","MacBook",{"$nulls":4},"MYY82LL/A","Apple"]
["56733","FVFCK0AFQ0WM","Idea Center",null,"Apple MacBook Air Intel Core i3, 8GB, 128GB SSD (2020)",null,"In Service","MacBook",{"$nulls":4},"MYY82LL/A","Apple"]
["56743","FVFCL2F2Q0WM","Truman Middle",null,"Apple MacBook Air Intel Core i3, 8GB, 128GB SSD (2020)",null,"Retired/Surplused","MacBook",{"$nulls":4},"MYY82LL/A","Apple"]
["56774","FVFCL2DFQ0WM","Sperreng Middle",null,"Apple MacBook Air Intel Core i3, 8GB, 128GB SSD (2020)",null,"Retired/Surplused","MacBook",{"$nulls":4},"MYY82LL/A","Apple"]
["56800","FVFCK0Q4Q0WM","Sperreng Middle",null,"Apple MacBook Air Intel Core i3, 8GB, 128GB SSD (2020)",null,"Retired/Surplused","MacBook",{"$nulls":4},"MYY82LL/A","Apple"]
["56822","FVFCK0L6Q0WM","Long Elementary",null,"Apple MacBook Air Intel Core i3, 8GB, 128GB SSD (2020)",null,"In Service","MacBook",{"$nulls":4},"MYY82LL/A","Apple"]
["56855","C07ZX354J1WF","Sperreng Middle",224,"Apple TV 4K (1st Gen) 32GB",null,"In Service","Apple TVs",{"$nulls":4},"MQD22LL/A","Apple"]
["56879","C07ZX34SJ1WF","Sperreng Middle",1,"Apple TV 4K (1st Gen) 32GB",null,"In Service","Apple TVs",{"$nulls":4},"MQD22LL/A","Apple"]
["56896","C07ZX3MEJ1WF","Truman Middle",230,"Apple TV 4K (1st Gen) 32GB",null,"In Service","Apple TVs",{"$nulls":4},"MQD22LL/A","Apple"]
["56913","C07ZX2QHJ1WF",null,null,"Apple TV 4K (1st Gen) 32GB",null,"In Service","Apple TVs",{"$nulls":4},"MQD22LL/A","Apple"]
["56929","C07ZX3EUJ1WF","Truman Middle",110,"Apple TV 4K (1st Gen) 32GB",null,"In Service","Apple TVs",{"$nulls":4},"MQD22LL/A","Apple"]
["56960","F9GCMTH0MF3M","Sperreng Middle",null,"Apple iPad 32GB WIFI (7th Gen) - NO WARRANTY",null,"Retired/Surplused","iPads",{"$nulls":4},"MW742LL/A","Apple"]
["56988","F9GCMKRVMF3M","Truman Middle",null,"Apple iPad 32GB WIFI (7th Gen) - NO WARRANTY",null,"Retired/Surplused","iPads",{"$nulls":4},"MW742LL/A","Apple"]
["57018","F9GCMQ08MF3M","Truman Middle",null,"Apple iPad 32GB WIFI (7th Gen) - NO WARRANTY",null,"Retired/Surplused","iPads",{"$nulls":4},"MW742LL/A","Apple"]
["57030","F9GCMQRYMF3M","Central Office",null,"Apple iPad 32GB WIFI (7th Gen) - NO WARRANTY",null,"Broken","iPads",{"$nulls":5},"Apple"]
["57063","X2AD0200373","Long Elementary",7,"Epson Powerlite 685W Projector",null,"In Service","Projector",{"$nulls":4},"Powerlite 685w","Epson"]
["57083","X2AD0200396","Sperreng Middle",121,"Epson Powerlite 685W Projector",null,"In Service","Projector",{"$nulls":4},"Powerlite 685w","Epson"]
["57120","R90YFCAD","Lindbergh High School",null,"Lenovo ThinkPad L13 Yoga (Core i5-10210U, 16GB, 256GB) [Gen 1]",null,"In Storage","Laptops",{"$nulls":4},"L13 Yoga (Gen 1)","Lenovo"]
["57140","R90YFC9Y","Lindbergh High School",null,"Lenovo ThinkPad L13 Yoga (Core i5-10210U, 16GB, 256GB) [Gen 1]",null,"In Storage","Laptops",{"$nulls":4},"L13 Yoga (Gen 1)","Lenovo"]
["57161","R90YFC8W","Lindbergh High School",null,"Lenovo ThinkPad L13 Yoga (Core i5-10210U, 16GB, 256GB) [Gen 1]",null,"In Storage","Laptops",{"$nulls":4},"L13 Yoga (Gen 1)","Lenovo"]
["57197","R90YFCA3","Lindbergh High School",null,"Lenovo ThinkPad L13 Yoga (Core i5-10210U, 16GB, 256GB) [Gen 1]",null,"In Storage","Laptops",{"$nulls":4},"L13 Yoga (Gen 1)","Lenovo"]
["57218","PHK2KD511R","Sperreng Middle",104,"Aruba AP-515 Dual Radio",null,"In Service","Access Points",{"$nulls":4},"AP-515","Aruba"]
["57231","PHK2KD50ZJ","Sperreng Middle",126,"Aruba AP-515 Dual Radio",null,"In Service","Access Points",{"$nulls":4},"AP-515","Aruba"]
["57253","PHK2KD50XD","Sperreng Middle",210,"Aruba AP-515 Dual Radio",null,"In Service","Access Points",{"$nulls":4},"AP-515","Aruba"]
["57283","PHK2KD5117","Truman Middle",26,"Aruba AP-515 Dual Radio",null,"In Service","Access Points",{"$nulls":4},"AP-515","Aruba"]
["57310","PHK2KD50WT","Truman Middle",214,"Aruba AP-515 Dual Radio",null,"In Service","Access Points",{"$nulls":4},"AP-515","Aruba"]
["57316","PHK2KD50KS","Truman Middle",221,"Aruba AP-515 Dual Radio",null,"In Service","Access Points",{"$nulls":4},"AP-515","Aruba"]
["57344","CNJ6K9W3T6","Sperreng Middle","Library","Aruba AP-535 Dual Radio",null,"In Service","Access Points",{"$nulls":4},"AP-535","Aruba"]
["57375","R90YFCAH","Lindbergh High School",null,"Lenovo ThinkPad L13 Yoga (Core i5-10210U, 16GB, 256GB) [Gen 1]",null,"In Service","Laptops",{"$nulls":4},"L13 Yoga (Gen 1)","Lenovo"]
["57391","R90YFCC0","Lindbergh High School","034A","Lenovo ThinkPad L13 Yoga (Core i5-10210U, 16GB, 256GB) [Gen 1]",null,"In Service","Laptops",{"$nulls":4},"L13 Yoga (Gen 1)","Lenovo"]
["57437","X2AD0Z00354","Truman Middle",231,"Epson Powerlite 685W Projector",null,"In Service","Projector",{"$nulls":4},"Powerlite 685w","Epson"]
["57453","MJ0CVMTS","Lindbergh High School",307,"Lenovo ThinkCentre M630E Desktop",null,"In Service","Desktops",{"$nulls":4},"M630E","Lenovo"]
["57475","MJ0CVMTP","Lindbergh High School",307,"Lenovo ThinkCentre M630E Desktop",null,"In Service","Desktops",{"$nulls":4},"M630E","Lenovo"]
["58510","P208ENKW","Lindbergh High School",null,"Lenovo 500e Chromebook (Gen 2)",null,"In Storage","Chromebooks",{"$nulls":5},"Lenovo"]
["58540","P208D7SQ","Lindbergh High School",null,"Lenovo 500e Chromebook (Gen 2)","Julien Peck","In Service","Chromebooks",{"$nulls":5},"Lenovo"]
["58543","P208D85H","Lindbergh High School",null,"Lenovo 500e Chromebook (Gen 2)",null,"In Storage","Chromebooks",{"$nulls":5},"Lenovo"]
["58576","P208D869","Lindbergh High School",null,"Lenovo 500e Chromebook (Gen 2)",null,"In Service","Chromebooks",{"$nulls":5},"Lenovo"]
["58610","P208D7TT","Lindbergh High School",null,"Lenovo 500e Chromebook (Gen 2)",null,"In Storage","Chromebooks",{"$nulls":5},"Lenovo"]
["58633","P208D7AZ","Lindbergh High School",null,"Lenovo 500e Chromebook (Gen 2)",null,"In Storage","Chromebooks",{"$nulls":5},"Lenovo"]
["58643","P208D7FA","Lindbergh High School",null,"Lenovo 500e Chromebook (Gen 2)",null,"In Service","Chromebooks",{"$nulls":5},"Lenovo"]
["58678","P208EP0R","Lindbergh High School",null,"Lenovo 500e Chromebook (Gen 2)",null,"In Storage","Chromebooks",{"$nulls":5},"Lenovo"]
["58700","P208EP2E","Lindbergh High School",null,"Lenovo 500e Chromebook (Gen 2)",null,"In Storage","Chromebooks",{"$nulls":5},"Lenovo"]
["58712","P208EP01","Lindbergh High School",null,"Lenovo 500e Chromebook (Gen 2)",null,"In Service","Chromebooks",{"$nulls":5},"Lenovo"]
["58746","P208ENZK","Lindbergh High School",null,"Lenovo 500e Chromebook (Gen 2)",null,"In Service","Chromebooks",{"$nulls":5},"Lenovo"]
["58765","P208EP15","Lindbergh High School",null,"Lenovo 500e Chromebook (Gen 2)",null,"In Storage","Chromebooks",{"$nulls":5},"Lenovo"]
["58791","P208EP37","Lindbergh High School",null,"Lenovo 500e Chromebook (Gen 2)",null,"In Storage","Chromebooks",{"$nulls":5},"Lenovo"]
["58822","P208D7FQ","Lindbergh High School",null,"Lenovo 500e Chromebook (Gen 2)",null,"In Storage","Chromebooks",{"$nulls":5},"Lenovo"]
["58848","P208ENZ4","Lindbergh High School",null,"Lenovo 500e Chromebook (Gen 2)",null,"In Storage","Chromebooks",{"$nulls":5},"Lenovo"]
["58856","P208D7KG","Lindbergh High School",null,"Lenovo 500e Chromebook (Gen 2)",null,"In Storage","Chromebooks",{"$nulls":5},"Lenovo"]
["58884","P208D7G2","Lindbergh High School",null,"Lenovo 500e Chromebook (Gen 2)",null,"In Storage","Chromebooks",{"$nulls":5},"Lenovo"]
["58898","P208D6HN","Lindbergh High School",null,"Lenovo 500e Chromebook (Gen 2)",null,"In Storage","Chromebooks",{"$nulls":5},"Lenovo"]
["58943","P208D7BA","Lindbergh High School",null,"Lenovo 500e Chromebook (Gen 2)",null,"In Storage","Chromebooks",{"$nulls":5},"Lenovo"]
["58965","P208E40T","Lindbergh High School",null,"Lenovo 500e Chromebook (Gen 2)",null,"In Storage","Chromebooks",{"$nulls":5},"Lenovo"]
["58989","P208E3W5","Lindbergh High School",null,"Lenovo 500e Chromebook (Gen 2)",null,"In Storage","Chromebooks",{"$nulls":5},"Lenovo"]
["58999","P208E3X0","Lindbergh High School",null,"Lenovo 500e Chromebook (Gen 2)",null,"In Storage","Chromebooks",{"$nulls":5},"Lenovo"]
["59023","P208E3XV","Lindbergh High School",null,"Lenovo 500e Chromebook (Gen 2)",null,"In Storage","Chromebooks",{"$nulls":5},"Lenovo"]
["59057","P208E44V","Lindbergh High School",null,"Lenovo 500e Chromebook (Gen 2)",null,"In Storage","Chromebooks",{"$nulls":5},"Lenovo"]
["59080","P208ENMJ","Lindbergh High School",null,"Lenovo 500e Chromebook (Gen 2)",null,"In Storage","Chromebooks",{"$nulls":5},"Lenovo"]
["59102","P208ENCZ","Lindbergh High School",null,"Lenovo 500e Chromebook (Gen 2)",null,"In Storage","Chromebooks",{"$nulls":5},"Lenovo"]
["59114","P208ENHG","Pending","Pending Chromebooks","Lenovo 500e Chromebook (Gen 2)",null,"Lost/Missing","Chromebooks",{"$nulls":5},"Lenovo"]
["59137","P208ENNK","Lindbergh High School",null,"Lenovo 500e Chromebook (Gen 2)",null,"Broken","Chromebooks",{"$nulls":5},"Lenovo"]
["59171","P208ENSJ","Lindbergh High School",null,"Lenovo 500e Chromebook (Gen 2)",null,"In Storage","Chromebooks",{"$nulls":5},"Lenovo"]
["59203","P208ENAN","Lindbergh High School",null,"Lenovo 500e Chromebook (Gen 2)",null,"In Storage","Chromebooks",{"$nulls":5},"Lenovo"]
["59216","P208ENMQ","Lindbergh High School",null,"Lenovo 500e Chromebook (Gen 2)",null,"In Storage","Chromebooks",{"$nulls":5},"Lenovo"]
["59237","P208ENFJ","Lindbergh High School",null,"Lenovo 500e Chromebook (Gen 2)",null,"In Storage","Chromebooks",{"$nulls":5},"Lenovo"]
["59275","P208ENCY","Pending","Pending Chromebooks","Lenovo 500e Chromebook (Gen 2)",null,"In Service","Chromebooks",{"$nulls":5},"Lenovo"]
["59279","P208ENMA","Lindbergh High School",null,"Lenovo 500e Chromebook (Gen 2)","Charlie Edwards","In Service","Chromebooks",{"$nulls":5},"Lenovo"]
["59310","P208ENG9","Lindbergh High School",null,"Lenovo 500e Chromebook (Gen 2)",null,"In Storage","Chromebooks",{"$nulls":5},"Lenovo"]
["59338","P208ENH5","Lindbergh High School",null,"Lenovo 500e Chromebook (Gen 2)",null,"In Storage","Chromebooks",{"$nulls":5},"Lenovo"]
["59368","P208ENH1","Pending","Pending Chromebooks","Lenovo 500e Chromebook (Gen 2)",null,"In Storage","Chromebooks",{"$nulls":5},"Lenovo"]
["59391","P208ENNV","Lindbergh High School",null,"Lenovo 500e Chromebook (Gen 2)",null,"In Service","Chromebooks",{"$nulls":5},"Lenovo"]
["59404","P208EPCQ","Lindbergh High School",null,"Lenovo 500e Chromebook (Gen 2)",null,"In Storage","Chromebooks",{"$nulls":5},"Lenovo"]
["59425","P208ENLL","Lindbergh High School",null,"Lenovo 500e Chromebook (Gen 2)",null,"In Storage","Chromebooks",{"$nulls":5},"Lenovo"]
["59461","P208EP9V","Lindbergh High School",null,"Lenovo 500e Chromebook (Gen 2)",null,"In Storage","Chromebooks",{"$nulls":5},"Lenovo"]
["59470","P208EPB0","Lindbergh High School",null,"Lenovo 500e Chromebook (Gen 2) [FINE]",null,"In Storage","FINE Assessed",{"$nulls":5},"Lenovo"]
["59494","P208EPAT","Lindbergh High School",null,"Lenovo 500e Chromebook (Gen 2)",null,"Broken","Chromebooks",{"$nulls":5},"Lenovo"]
["59527","P208E3S0","Lindbergh High School",null,"Lenovo 500e Chromebook (Gen 2)",null,"In Storage","Chromebooks",{"$nulls":5},"Lenovo"]
["59552","P208E3R9","Lindbergh High School",null,"Lenovo 500e Chromebook (Gen 2)",null,"Broken","Chromebooks",{"$nulls":5},"Lenovo"]
["59586","P208E2H8","Lindbergh High School",null,"Lenovo 500e Chromebook (Gen 2)",null,"In Storage","Chromebooks",{"$nulls":5},"Lenovo"]
["59594","P208E2AT","Lindbergh High School",null,"Lenovo 500e Chromebook (Gen 2)",null,"In Storage","Chromebooks",{"$nulls":5},"Lenovo"]
["59621","P208E3RT","Lindbergh High School",null,"Lenovo 500e Chromebook (Gen 2) [FINE]",null,"In Service","FINE Assessed",{"$nulls":5},"Lenovo"]
["59643","P208E3FH","Lindbergh High School",null,"Lenovo 500e Chromebook (Gen 2)",null,"In Storage","Chromebooks",{"$nulls":5},"Lenovo"]
["59676","P208CYYD","Lindbergh High School",null,"Lenovo 500e Chromebook (Gen 2)",null,"In Storage","Chromebooks",{"$nulls":5},"Lenovo"]
["59700","P208CZ0H","Lindbergh High School",null,"Lenovo 500e Chromebook (Gen 2)",null,"In Storage","Chromebooks",{"$nulls":5},"Lenovo"]
["59717","P208CZ0M","Lindbergh High School",null,"Lenovo 500e Chromebook (Gen 2)",null,"In Storage","Chromebooks",{"$nulls":5},"Lenovo"]
["59734","P208CZ8L","Lindbergh High School",null,"Lenovo 500e Chromebook (Gen 2)",null,"In Storage","Chromebooks",{"$nulls":5},"Lenovo"]
["59774","P208CZ32","Lindbergh High School",null,"Lenovo 500e Chromebook (Gen 2)",null,"In Storage","Chromebooks",{"$nulls":5},"Lenovo"]
["59779","P208CZ23","Lindbergh High School",null,"Lenovo 500e Chromebook (Gen 2)",null,"Broken","Chromebooks",{"$nulls":5},"Lenovo"]
["59807","P208CYWR","Lindbergh High School",null,"Lenovo 500e Chromebook (Gen 2)",null,"In Storage","Chromebooks",{"$nulls":5},"Lenovo"]
["59836","P208E3CY","Lindbergh High School",null,"Lenovo 500e Chromebook (Gen 2)",null,"In Storage","Chromebooks",{"$nulls":5},"Lenovo"]
["59870","P208E2QQ","Lindbergh High School",null,"Lenovo 500e Chromebook (Gen 2)",null,"In Storage","Chromebooks",{"$nulls":5},"Lenovo"]
["59872","P208E2KQ","Lindbergh High School",null,"Lenovo 500e Chromebook (Gen 2)",null,"In Storage","Chromebooks",{"$nulls":5},"Lenovo"]
["59915","P208E2RD","Lindbergh High School",null,"Lenovo 500e Chromebook (Gen 2)",null,"In Storage","Chromebooks",{"$nulls":5},"Lenovo"]
["59929","P208E2LJ","Lindbergh High School",null,"Lenovo 500e Chromebook (Gen 2)",null,"In Storage","Chromebooks",{"$nulls":5},"Lenovo"]
["59949","P208E2ML","Lindbergh High School",null,"Lenovo 500e Chromebook (Gen 2)",null,"In Storage","Chromebooks",{"$nulls":5},"Lenovo"]
["59988","P208E3XF","Lindbergh High School",null,"Lenovo 500e Chromebook (Gen 2)",null,"In Storage","Chromebooks",{"$nulls":5},"Lenovo"]
["60009","P208E446","Pending","Pending Chromebooks","Lenovo 500e Chromebook (Gen 2)",null,"In Storage","Chromebooks",{"$nulls":5},"Lenovo"]
["60031","P208EP9T","Lindbergh High School",null,"Lenovo 500e Chromebook (Gen 2)",null,"In Storage","Chromebooks",{"$nulls":5},"Lenovo"]
["60045","P208EP9D","Lindbergh High School",null,"Lenovo 500e Chromebook (Gen 2)",null,"In Storage","Chromebooks",{"$nulls":5},"Lenovo"]
["60067","P208EP58","Lindbergh High School",null,"Lenovo 500e Chromebook (Gen 2)",null,"In Storage","Chromebooks",{"$nulls":5},"Lenovo"]
["60097","P208EP5P","Lindbergh High School",null,"Lenovo 500e Chromebook (Gen 2)","Katelyn Rodebaugh","In Service","Chromebooks",{"$nulls":5},"Lenovo"]
["60124","P208E2D9","Lindbergh High School",null,"Lenovo 500e Chromebook (Gen 2)",null,"In Storage","Chromebooks",{"$nulls":5},"Lenovo"]
["60154","P208ENPN","Lindbergh High School",null,"Lenovo 500e Chromebook (Gen 2)",null,"In Storage","Chromebooks",{"$nulls":5},"Lenovo"]
["60158","P208D83P","Lindbergh High School",null,"Lenovo 500e Chromebook (Gen 2)",null,"In Storage","Chromebooks",{"$nulls":5},"Lenovo"]
["60187","P208CYZT","Lindbergh High School",null,"Lenovo 500e Chromebook (Gen 2)",null,"In Storage","Chromebooks",{"$nulls":5},"Lenovo"]
["60226","P208D759","Lindbergh High School",null,"Lenovo 500e Chromebook (Gen 2)",null,"In Storage","Chromebooks",{"$nulls":5},"Lenovo"]
["60244","P208D76V","Lindbergh High School",null,"Lenovo 500e Chromebook (Gen 2)",null,"In Storage","Chromebooks",{"$nulls":5},"Lenovo"]
["60260","P208D76L","Lindbergh High School",null,"Lenovo 500e Chromebook (Gen 2)",null,"In Storage","Chromebooks",{"$nulls":5},"Lenovo"]
["60283","P208D77P","Lindbergh High School",null,"Lenovo 500e Chromebook (Gen 2)",null,"In Storage","Chromebooks",{"$nulls":5},"Lenovo"]
["60310","P208CZ2R","Lindbergh High School",null,"Lenovo 500e Chromebook (Gen 2)",null,"In Storage","Chromebooks",{"$nulls":5},"Lenovo"]
["60340","P208E487","Lindbergh High School",null,"Lenovo 500e Chromebook (Gen 2)",null,"In Storage","Chromebooks",{"$nulls":5},"Lenovo"]
["60367","P208E45F","Lindbergh High School",null,"Lenovo 500e Chromebook (Gen 2)",null,"In Storage","Chromebooks",{"$nulls":5},"Lenovo"]
["60374","P208E464","Lindbergh High School",null,"Lenovo 500e Chromebook (Gen 2)",null,"In Storage","Chromebooks",{"$nulls":5},"Lenovo"]
["60409","P208E48M","Lindbergh High School",null,"Lenovo 500e Chromebook (Gen 2)",null,"In Storage","Chromebooks",{"$nulls":5},"Lenovo"]
["60432","P208E45B","Lindbergh High School",null,"Lenovo 500e Chromebook (Gen 2)",null,"In Storage","Chromebooks",{"$nulls":5},"Lenovo"]
["60442","P208E425","Lindbergh High School",null,"Lenovo 500e Chromebook (Gen 2)",null,"In Storage","Chromebooks",{"$nulls":5},"Lenovo"]
["60467","P208E47D","Lindbergh High School",null,"Lenovo 500e Chromebook (Gen 2)",null,"In Storage","Chromebooks",{"$nulls":5},"Lenovo"]
["60489","P208E2LS","Lindbergh High School",null,"Lenovo 500e Chromebook (Gen 2)","Emmett Miller","Lost/Missing","Chromebooks",{"$nulls":5},"Lenovo"]
["60532","P208E2HK","Lindbergh High School",null,"Lenovo 500e Chromebook (Gen 2)",null,"In Storage","Chromebooks",{"$nulls":5},"Lenovo"]
["60546","P208E2FT","Lindbergh High School",null,"Lenovo 500e Chromebook (Gen 2)",null,"In Storage","Chromebooks",{"$nulls":5},"Lenovo"]
["60566","P208E2BN","Pending","Pending Chromebooks","Lenovo 500e Chromebook (Gen 2)",null,"In Service","Chromebooks",{"$nulls":5},"Lenovo"]
["60592","P208E2AH","Lindbergh High School",null,"Lenovo 500e Chromebook (Gen 2)",null,"In Storage","Chromebooks",{"$nulls":5},"Lenovo"]
["60624","P2080EH7","Lindbergh High School",null,"Lenovo 500e Chromebook (Gen 2)",null,"In Storage","Chromebooks",{"$nulls":5},"Lenovo"]
["60650","P2080FV9","Lindbergh High School",null,"Lenovo 500e Chromebook (Gen 2)",null,"In Storage","Chromebooks",{"$nulls":5},"Lenovo"]
["60657","P2080G4H","Lindbergh High School",null,"Lenovo 500e Chromebook (Gen 2)","Mars Gonzalez","Stolen","Chromebooks",{"$nulls":5},"Lenovo"]
["60684","P2080G9A","Lindbergh High School",null,"Lenovo 500e Chromebook (Gen 2)",null,"In Storage","Chromebooks",{"$nulls":5},"Lenovo"]
["60723","P2080G6N","Lindbergh High School",null,"Lenovo 500e Chromebook (Gen 2)",null,"In Storage","Chromebooks",{"$nulls":5},"Lenovo"]
["60742","P2080G16","Lindbergh High School",null,"Lenovo 500e Chromebook (Gen 2)",null,"In Storage","Chromebooks",{"$nulls":5},"Lenovo"]
["60764","P207ZV7Y","Lindbergh High School",null,"Lenovo 500e Chromebook (Gen 2)",null,"In Storage","Chromebooks",{"$nulls":5},"Lenovo"]
["60788","P208ENAX","Lindbergh High School",null,"Lenovo 500e Chromebook (Gen 2)",null,"In Storage","Chromebooks",{"$nulls":5},"Lenovo"]
["60798","P208ENV0","Lindbergh High School",null,"Lenovo 500e Chromebook (Gen 2)",null,"In Storage","Chromebooks",{"$nulls":5},"Lenovo"]
["60822","F9FCV329MF3M","Sperreng Middle",null,"Apple iPad 32GB WIFI (7th Gen) - WARRANTY",null,"Retired/Surplused","iPads",{"$nulls":4},"MW7L2LL/A","Apple"]
["60856","F9FCV2BKMF3M","Sperreng Middle",null,"Apple iPad 32GB WIFI (7th Gen) - WARRANTY",null,"Retired/Surplused","iPads",{"$nulls":4},"MW7L2LL/A","Apple"]
["60879","F9FCVESCMF3M","Sperreng Middle",null,"Apple iPad 32GB WIFI (7th Gen) - WARRANTY",null,"Retired/Surplused","iPads",{"$nulls":4},"MW7L2LL/A","Apple"]
["60901","F9FCVNMBMF3M","Surplus",null,"Apple iPad 32GB WIFI (7th Gen) - WARRANTY",null,"Retired/Surplused","iPads",{"$nulls":4},"MW7L2LL/A","Apple"]
["60936","F9GCT88JMF3M","Sperreng Middle",null,"Apple iPad 32GB WIFI (7th Gen) - WARRANTY",null,"Retired/Surplused","iPads",{"$nulls":4},"MW7L2LL/A","Apple"]
["60958","F9FCVNE8MF3M","Sperreng Middle",null,"Apple iPad 32GB WIFI (7th Gen) - WARRANTY",null,"Retired/Surplused","iPads",{"$nulls":4},"MW7L2LL/A","Apple"]
["60969","F9GCTGL2MF3M","Surplus",null,"Apple iPad 32GB WIFI (7th Gen) - WARRANTY",null,"Retired/Surplused","iPads",{"$nulls":4},"MW7L2LL/A","Apple"]
["61001","F9GCTF13MF3M","Sperreng Middle",null,"Apple iPad 32GB WIFI (7th Gen) - WARRANTY",null,"In Storage","iPads",{"$nulls":4},"MW7L2LL/A","Apple"]
["61014","F9FCV1REMF3M","Sperreng Middle",null,"Apple iPad 32GB WIFI (7th Gen) - WARRANTY",null,"Retired/Surplused","iPads",{"$nulls":4},"MW7L2LL/A","Apple"]
["61034","F9FCV0TUMF3M","Sperreng Middle",null,"Apple iPad 32GB WIFI (7th Gen) - WARRANTY",null,"Retired/Surplused","iPads",{"$nulls":4},"MW7L2LL/A","Apple"]
["61071","F9FCVFFYMF3M","Sperreng Middle",null,"Apple iPad 32GB WIFI (7th Gen) - WARRANTY",null,"Retired/Surplused","iPads",{"$nulls":4},"MW7L2LL/A","Apple"]
["61099","F9FCVKZPMF3M","Surplus",null,"Apple iPad 32GB WIFI (7th Gen) - WARRANTY",null,"Retired/Surplused","iPads",{"$nulls":4},"MW7L2LL/A","Apple"]
["61105","F9FCV0U1MF3M","Sperreng Middle",null,"Apple iPad 32GB WIFI (7th Gen) - WARRANTY",null,"Retired/Surplused","iPads",{"$nulls":4},"MW7L2LL/A","Apple"]
["61132","F9FCVUPKMF3M","Sperreng Middle",null,"Apple iPad 32GB WIFI (7th Gen) - WARRANTY",null,"Retired/Surplused","iPads",{"$nulls":4},"MW7L2LL/A","Apple"]
["61162","F9FCVL24MF3M","Sperreng Middle",null,"Apple iPad 32GB WIFI (7th Gen) - WARRANTY",null,"Retired/Surplused","iPads",{"$nulls":4},"MW7L2LL/A","Apple"]
["61184","F9FCVKPAMF3M","Sperreng Middle",null,"Apple iPad 32GB WIFI (7th Gen) - WARRANTY",null,"Retired/Surplused","iPads",{"$nulls":4},"MW7L2LL/A","Apple"]
["61197","F9FCVLENMF3M","Sperreng Middle",null,"Apple iPad 32GB WIFI (7th Gen) - WARRANTY",null,"Retired/Surplused","iPads",{"$nulls":4},"MW7L2LL/A","Apple"]
["61241","F9FCVKRKMF3M","Sperreng Middle",null,"Apple iPad 32GB WIFI (7th Gen) - WARRANTY",null,"Retired/Surplused","iPads",{"$nulls":4},"MW7L2LL/A","Apple"]
["61254","F9FCVN1RMF3M","Sperreng Middle",null,"Apple iPad 32GB WIFI (7th Gen) - WARRANTY",null,"In Storage","iPads",{"$nulls":4},"MW7L2LL/A","Apple"]
["61275","F9FCVGCDMF3M","Sperreng Middle",null,"Apple iPad 32GB WIFI (7th Gen) - WARRANTY",null,"Retired/Surplused","iPads",{"$nulls":4},"MW7L2LL/A","Apple"]
["61311","F9FCVVSRMF3M","Truman Middle",null,"Apple iPad 32GB WIFI (7th Gen) - WARRANTY",null,"Retired/Surplused","iPads",{"$nulls":4},"MW7L2LL/A","Apple"]
["61321","F9FCVUXRMF3M","Sperreng Middle",null,"Apple iPad 32GB WIFI (7th Gen) - WARRANTY",null,"In Storage","iPads",{"$nulls":4},"MW7L2LL/A","Apple"]
["61345","F9FCVKWXMF3M","Sperreng Middle",null,"Apple iPad 32GB WIFI (7th Gen) - WARRANTY",null,"Retired/Surplused","iPads",{"$nulls":4},"MW7L2LL/A","Apple"]
["61378","F9FCVKYGMF3M","Sperreng Middle",null,"Apple iPad 32GB WIFI (7th Gen) - WARRANTY",null,"Retired/Surplused","iPads",{"$nulls":4},"MW7L2LL/A","Apple"]
["61400","F9FCVKWUMF3M","Truman Middle",null,"Apple iPad 32GB WIFI (7th Gen) - WARRANTY",null,"Retired/Surplused","iPads",{"$nulls":4},"MW7L2LL/A","Apple"]
["61410","F9FCVVMXMF3M","Sperreng Middle",null,"Apple iPad 32GB WIFI (7th Gen) - WARRANTY",null,"Retired/Surplused","iPads",{"$nulls":4},"MW7L2LL/A","Apple"]
["61434","F9FCVNKPMF3M","Sperreng Middle",null,"Apple iPad 32GB WIFI (7th Gen) - WARRANTY",null,"Retired/Surplused","iPads",{"$nulls":4},"MW7L2LL/A","Apple"]
["61468","F9FCVNCWMF3M","Surplus",null,"Apple iPad 32GB WIFI (7th Gen) - WARRANTY",null,"Retired/Surplused","iPads",{"$nulls":4},"MW7L2LL/A","Apple"]
["61492","F9FCVKLVMF3M","Sperreng Middle",null,"Apple iPad 32GB WIFI (7th Gen) - WARRANTY",null,"Retired/Surplused","iPads",{"$nulls":4},"MW7L2LL/A","Apple"]
["61509","F9FCVL3TMF3M","Sperreng Middle",null,"Apple iPad 32GB WIFI (7th Gen) - WARRANTY",null,"Retired/Surplused","iPads",{"$nulls":4},"MW7L2LL/A","Apple"]
["61549","F9FCVL1MMF3M","Sperreng Middle",null,"Apple iPad 32GB WIFI (7th Gen) - WARRANTY",null,"Retired/Surplused","iPads",{"$nulls":4},"MW7L2LL/A","Apple"]
["61566","F9FCVKXKMF3M","Truman Middle",null,"Apple iPad 32GB WIFI (7th Gen) - WARRANTY",null,"Retired/Surplused","iPads",{"$nulls":4},"MW7L2LL/A","Apple"]
["61594","F9GCT1FHMF3M","Truman Middle",null,"Apple iPad 32GB WIFI (7th Gen) - WARRANTY",null,"Retired/Surplused","iPads",{"$nulls":4},"MW7L2LL/A","Apple"]
["61605","F9FCVVMRMF3M","Truman Middle",null,"Apple iPad 32GB WIFI (7th Gen) - WARRANTY",null,"Retired/Surplused","iPads",{"$nulls":4},"MW7L2LL/A","Apple"]
["61631","F9FCVEVWMF3M","Surplus",null,"Apple iPad 32GB WIFI (7th Gen) - WARRANTY",null,"Retired/Surplused","iPads",{"$nulls":4},"MW7L2LL/A","Apple"]
["61662","F9FCVURUMF3M","Truman Middle",null,"Apple iPad 32GB WIFI (7th Gen) - WARRANTY",null,"Retired/Surplused","iPads",{"$nulls":4},"MW7L2LL/A","Apple"]
["61688","F9FCVJKKMF3M","Truman Middle",null,"Apple iPad 32GB WIFI (7th Gen) - WARRANTY",null,"Retired/Surplused","iPads",{"$nulls":4},"MW7L2LL/A","Apple"]
["61707","F9FCVGPXMF3M","Truman Middle",null,"Apple iPad 32GB WIFI (7th Gen) - WARRANTY",null,"Retired/Surplused","iPads",{"$nulls":4},"MW7L2LL/A","Apple"]
["61721","F9FCVUKFMF3M","Surplus",null,"Apple iPad 32GB WIFI (7th Gen) - WARRANTY",null,"Retired/Surplused","iPads",{"$nulls":4},"MW7L2LL/A","Apple"]
["61741","F9FCVUZ4MF3M","Truman Middle",null,"Apple iPad 32GB WIFI (7th Gen) - WARRANTY",null,"Broken","iPads",{"$nulls":4},"MW7L2LL/A","Apple"]
["61778","F9FCVEM5MF3M","Truman Middle",null,"Apple iPad 32GB WIFI (7th Gen) - WARRANTY",null,"Retired/Surplused","iPads",{"$nulls":4},"MW7L2LL/A","Apple"]
["61798","F9FCVJ7MMF3M","Surplus",null,"Apple iPad 32GB WIFI (7th Gen) - WARRANTY",null,"Retired/Surplused","iPads",{"$nulls":4},"MW7L2LL/A","Apple"]
["61819","F9FCVJFXMF3M","Truman Middle",null,"Apple iPad 32GB WIFI (7th Gen) - WARRANTY",null,"Retired/Surplused","iPads",{"$nulls":4},"MW7L2LL/A","Apple"]
["61832","F9FCVD6EMF3M","Truman Middle",null,"Apple iPad 32GB WIFI (7th Gen) - WARRANTY",null,"Retired/Surplused","iPads",{"$nulls":4},"MW7L2LL/A","Apple"]
["61877","F9GCT2KTMF3M","Truman Middle",null,"Apple iPad 32GB WIFI (7th Gen) - WARRANTY",null,"Retired/Surplused","iPads",{"$nulls":4},"MW7L2LL/A","Apple"]
["61884","F9GCT1G3MF3M","Truman Middle",null,"Apple iPad 32GB WIFI (7th Gen) - WARRANTY",null,"Retired/Surplused","iPads",{"$nulls":4},"MW7L2LL/A","Apple"]
["61911","F9FCVREFMF3M","Truman Middle",null,"Apple iPad 32GB WIFI (7th Gen) - WARRANTY",null,"Retired/Surplused","iPads",{"$nulls":4},"MW7L2LL/A","Apple"]
["61941","F9FCVH27MF3M","Surplus",null,"Apple iPad 32GB WIFI (7th Gen) - WARRANTY",null,"Retired/Surplused","iPads",{"$nulls":4},"MW7L2LL/A","Apple"]
["61968","F9GCT6NMMF3M","Surplus",null,"Apple iPad 32GB WIFI (7th Gen) - WARRANTY",null,"Retired/Surplused","iPads",{"$nulls":4},"MW7L2LL/A","Apple"]
["61974","F9FCVG5JMF3M","Truman Middle",null,"Apple iPad 32GB WIFI (7th Gen) - WARRANTY",null,"Retired/Surplused","iPads",{"$nulls":4},"MW7L2LL/A","Apple"]
["62013","F9FCVC69MF3M","Truman Middle",null,"Apple iPad 32GB WIFI (7th Gen) - WARRANTY",null,"Retired/Surplused","iPads",{"$nulls":4},"MW7L2LL/A","Apple"]
["62031","F9FCVCGRMF3M","Truman Middle",null,"Apple iPad 32GB WIFI (7th Gen) - WARRANTY",null,"Retired/Surplused","iPads",{"$nulls":4},"MW7L2LL/A","Apple"]
["62047","F9FCVKCHMF3M","Truman Middle",null,"Apple iPad 32GB WIFI (7th Gen) - WARRANTY",null,"Retired/Surplused","iPads",{"$nulls":4},"MW7L2LL/A","Apple"]
["62069","F9FCRG87MF3M","Truman Middle",null,"Apple iPad 32GB WIFI (7th Gen) - WARRANTY",null,"Retired/Surplused","iPads",{"$nulls":4},"MW7L2LL/A","Apple"]
["62096","F9FCVK3DMF3M","Surplus",null,"Apple iPad 32GB WIFI (7th Gen) - WARRANTY",null,"Retired/Surplused","iPads",{"$nulls":4},"MW7L2LL/A","Apple"]
["62126","F9FCVG81MF3M","Surplus",null,"Apple iPad 32GB WIFI (7th Gen) - WARRANTY",null,"Retired/Surplused","iPads",{"$nulls":4},"MW7L2LL/A","Apple"]
["62153","F9FCVDUHMF3M","Surplus",null,"Apple iPad 32GB WIFI (7th Gen) - WARRANTY",null,"Retired/Surplused","iPads",{"$nulls":4},"MW7L2LL/A","Apple"]
["62160","F9FCVC2BMF3M","Truman Middle",null,"Apple iPad 32GB WIFI (7th Gen) - WARRANTY",null,"Retired/Surplused","iPads",{"$nulls":4},"MW7L2LL/A","Apple"]
["62194","F9FCVJT0MF3M","Sperreng Middle",null,"Apple iPad 32GB WIFI (7th Gen) - WARRANTY",null,"Broken","iPads",{"$nulls":4},"MW7L2LL/A","Apple"]
["62217","F9FCVH3JMF3M","Sperreng Middle",null,"Apple iPad 32GB WIFI (7th Gen) - WARRANTY",null,"Broken","iPads",{"$nulls":4},"MW7L2LL/A","Apple"]
["62251","F9FCVULNMF3M","Sperreng Middle",null,"Apple iPad 32GB WIFI (7th Gen) - WARRANTY",null,"Retired/Surplused","iPads",{"$nulls":4},"MW7L2LL/A","Apple"]
["62274","F9FCVUK8MF3M","Sperreng Middle",null,"Apple iPad 32GB WIFI (7th Gen) - WARRANTY",null,"Broken","iPads",{"$nulls":4},"MW7L2LL/A","Apple"]
["62296","F9FCVKB9MF3M","Truman Middle",null,"Apple iPad 32GB WIFI (7th Gen) - WARRANTY",null,"Retired/Surplused","iPads",{"$nulls":4},"MW7L2LL/A","Apple"]
["62316","F9GCT96DMF3M","Truman Middle",null,"Apple iPad 32GB WIFI (7th Gen) - WARRANTY",null,"Retired/Surplused","iPads",{"$nulls":4},"MW7L2LL/A","Apple"]
["62330","F9FCVGQ8MF3M","Truman Middle",null,"Apple iPad 32GB WIFI (7th Gen) - WARRANTY",null,"Retired/Surplused","iPads",{"$nulls":4},"MW7L2LL/A","Apple"]
["62349","F9FCVGSSMF3M","Truman Middle",null,"Apple iPad 32GB WIFI (7th Gen) - WARRANTY",null,"Retired/Surplused","iPads",{"$nulls":4},"MW7L2LL/A","Apple"]
["62375","F9FCVD7WMF3M","Sperreng Middle",null,"Apple iPad 32GB WIFI (7th Gen) - WARRANTY",null,"Retired/Surplused","iPads",{"$nulls":4},"MW7L2LL/A","Apple"]
["62406","F9FCVVSBMF3M","Surplus",null,"Apple iPad 32GB WIFI (7th Gen) - WARRANTY",null,"Retired/Surplused","iPads",{"$nulls":4},"MW7L2LL/A","Apple"]
["62432","F9FCVG5TMF3M","Truman Middle",null,"Apple iPad 32GB WIFI (7th Gen) - WARRANTY",null,"Retired/Surplused","iPads",{"$nulls":4},"MW7L2LL/A","Apple"]
["62463","F9GCT18RMF3M","Sperreng Middle",null,"Apple iPad 32GB WIFI (7th Gen) - WARRANTY",null,"Retired/Surplused","iPads",{"$nulls":4},"MW7L2LL/A","Apple"]
["62466","F9GCT9KJMF3M","Truman Middle",null,"Apple iPad 32GB WIFI (7th Gen) - WARRANTY",null,"Retired/Surplused","iPads",{"$nulls":4},"MW7L2LL/A","Apple"]
["62488","F9FCVKXNMF3M","Sperreng Middle",null,"Apple iPad 32GB WIFI (7th Gen) - WARRANTY",null,"Retired/Surplused","iPads",{"$nulls":4},"MW7L2LL/A","Apple"]
["62528","F9GCT3PYMF3M","Surplus",null,"Apple iPad 32GB WIFI (7th Gen) - WARRANTY",null,"Retired/Surplused","iPads",{"$nulls":4},"MW7L2LL/A","Apple"]
["62545","F9GCTB7XMF3M","Sperreng Middle",null,"Apple iPad 32GB WIFI (7th Gen) - WARRANTY",null,"Retired/Surplused","iPads",{"$nulls":4},"MW7L2LL/A","Apple"]
["62562","X2AD0200008","Truman Middle",217,"Epson Powerlite 685W Projector",null,"In Service","Projector",{"$nulls":4},"Powerlite 685w","Epson"]
["62605","2011AH125F6F","Long Elementary",11,"Algo 8180 SIP Audio Alerter (G2)",null,"In Service","Intercom",{"$nulls":4},8180,"ALGO"]
["62629",null,"Concord Elementary",7,"Epson Powerlite 685W Projector",null,"In Service","Projector",{"$nulls":4},"Powerlite 685w","Epson"]
["62639",null,"Sperreng Middle",5,"Epson Powerlite 685W Projector",null,"In Service","Projector",{"$nulls":4},"Powerlite 685w","Epson"]
["62663","X2AD7100226","Concord Elementary",4,"Epson Powerlite 685W Projector",null,"In Service","Projector",{"$nulls":4},"Powerlite 685w","Epson"]
["62753","3BC31398840","Concord Elementary","Tech Office","Shure Digital Wireless Cardioid Headset Microphone System",null,"In Service","Microphone",{"$nulls":4},"PGXD14/PGA31-X8","Shure"]
["62793","332039VAD04590","Long Elementary",16,"IPEVO VZ-R HDMI/USB 8MP Document Camera","Lindsey Smiley","In Service","Document Camera",{"$nulls":4},"VZ-R","IPEVO"]
["62816","FFLGT0T8MF3M","Sperreng Middle",null,"Apple iPad 32GB WIFI (7th Gen) - WARRANTY",null,"Retired/Surplused","iPads",{"$nulls":4},"MW7L2LL/A","Apple"]
["62827","FFLF5095MF3M","Truman Middle",null,"Apple iPad 32GB WIFI (7th Gen) - WARRANTY",null,"Retired/Surplused","iPads",{"$nulls":4},"MW7L2LL/A","Apple"]
["62883","FFLDQ0MTMF3M","Truman Middle",null,"Apple iPad 32GB WIFI (7th Gen) - WARRANTY",null,"Retired/Surplused","iPads",{"$nulls":4},"MW7L2LL/A","Apple"]
["62913","MJ0DTT7Q","Central Office",214,"Lenovo ThinkCentre M720Q 10T8 Tiny (Core i5-9500T, 8GB, 256GB)","Jan Liebel","In Service","Desktops",{"$nulls":4},"M720Q","Lenovo"]
["62966","PHL7KD57TJ","ECE West",508,"Aruba AP-515 Dual Radio",null,"In Service","Access Points",{"$nulls":4},"JL001A","Aruba"]
["62979","PHL6KD54BM","ECE Main","FACULTY LOUNGE","Aruba AP-515 Dual Radio",null,"In Service","Access Points",{"$nulls":4},"JL001A","Aruba"]
["63009","DY5DX571J1WF","Sappington Elementary",57,"Apple TV 4K (1st Gen) 32GB",null,"In Service","Apple TVs",{"$nulls":4},"MQD22LL/A","Apple"]
["63040","GG7FNB5MQ1GC","Long Elementary",null,"Apple iPad 32GB WIFI (8th Gen)","Jessica Slade","In Service","iPads",{"$nulls":4},"MYLU2LL/A","Apple"]
["63044","GG7FN9B9Q1GC","Truman Middle",null,"Apple iPad 32GB WIFI (8th Gen)",null,"In Storage","iPads",{"$nulls":4},"MYL92LL/A","Apple"]
["63074","GG7FM4X8Q1GC","Dressel Elementary",null,"Apple iPad 32GB WIFI (8th Gen)","Lisa Pride","In Service","iPads",{"$nulls":4},"MYL92LL/A","Apple"]
["63096","GG7FK17MQ1GC","Crestwood Elementary",null,"Apple iPad 32GB WIFI (8th Gen)","Rebecca Saari","In Service","iPads",{"$nulls":4},"MYL92LL/A","Apple"]
["63137","FFLFC0DRMF3M","Sperreng Middle",null,"Apple iPad 32GB WIFI (7th Gen) - WARRANTY",null,"Retired/Surplused","iPads",{"$nulls":4},"MW7L2LL/A","Apple"]
["63160",null,"Sappington Elementary",10,"Epson Powerlite 725W Projector",null,"In Service","Projector",{"$nulls":4},"Powerlite 725W","Epson"]
["63173",null,"Dressel Elementary",109,"Epson Powerlite 725W Projector",null,"In Service","Projector",{"$nulls":4},"Powerlite 725W","Epson"]
["63212","WM96JPCWT0","Dressel Elementary",203,"Apple TV 4K (2nd Gen) 32GB",null,"In Service","Apple TVs",{"$nulls":4},"MXGY2LL/A","Apple"]
["63248","X4KQPMQV1Q","Kennerly Elementary",14,"Apple TV 4K (2nd Gen) 32GB",null,"In Service","Apple TVs",{"$nulls":4},"MXGY2LL/A","Apple"]
["63257","L2YD76TCJK","Kennerly Elementary",202,"Apple TV 4K (2nd Gen) 32GB",null,"In Service","Apple TVs",{"$nulls":4},"MXGY2LL/A","Apple"]
["63281","PP9YW5RXGW","Crestwood Elementary",21,"Apple TV 4K (2nd Gen) 32GB",null,"In Service","Apple TVs",{"$nulls":4},"MXGY2LL/A","Apple"]
["63314","MQW0L40H4V","Long Elementary",14,"Apple TV 4K (2nd Gen) 32GB",null,"In Service","Apple TVs",{"$nulls":4},"MXGY2LL/A","Apple"]
["63336","GHD4JFJLFL","Long Elementary",36,"Apple TV 4K (2nd Gen) 32GB",null,"In Service","Apple TVs",{"$nulls":4},"MXGY2LL/A","Apple"]
["63370","QGY617MQQ0","Concord Elementary",11,"Apple TV 4K (2nd Gen) 32GB",null,"In Service","Apple TVs",{"$nulls":4},"MXGY2LL/A","Apple"]
["63393","FHT2QH16CQ","Sappington Elementary",51,"Apple TV 4K (2nd Gen) 32GB",null,"In Service","Apple TVs",{"$nulls":4},"MXGY2LL/A","Apple"]
["63403","PYJL96K3JC","Sappington Elementary",12,"Apple TV 4K (2nd Gen) 32GB",null,"In Service","Apple TVs",{"$nulls":4},"MXGY2LL/A","Apple"]
["63427","FVFFVC1FQ6L4","Central Office",null,"Apple MacBook Air M1, 8GB, 128GB SSD (2020)","Jaime Cavato","In Service","MacBook",{"$nulls":4},"MGN63LL/A","Apple"]
["63447","DMRFRE1VQ1GC","Long Elementary",null,"Apple iPad 32GB WIFI (8th Gen)","Abigail Devoto","In Storage","iPads",{"$nulls":4},"MYLU2LL/A","Apple"]
["63487","DMRFRC32Q1GC","Kennerly Elementary",null,"Apple iPad 32GB WIFI (8th Gen)","Layla Sapp","In Service","iPads",{"$nulls":4},"MYLU2LL/A","Apple"]
["63504","DMPFT24VQ1GC","Sappington Elementary",null,"Apple iPad 32GB WIFI (8th Gen)","Abigail Parker","In Storage","iPads",{"$nulls":4},"MYLU2LL/A","Apple"]
["63521","DMPFJ8WUQ1GC","Kennerly Elementary",null,"Apple iPad 32GB WIFI (8th Gen)","Charles Hill","In Service","iPads",{"$nulls":4},"MYLU2LL/A","Apple"]
["63543","DMPFT2MBQ1GC","Pending",null,"Apple iPad 32GB WIFI (8th Gen)",null,"In Service","iPads",{"$nulls":4},"MYLU2LL/A","Apple"]
["63569","DMQFR6KPQ1GC","Kennerly Elementary",null,"Apple iPad 32GB WIFI (8th Gen)","Phoebe Bimpasis","In Service","iPads",{"$nulls":4},"MYLU2LL/A","Apple"]
["63600","DMRFRELYQ1GC","Concord Elementary",null,"Apple iPad 32GB WIFI (8th Gen)","Jack Kolkovich","In Storage","iPads",{"$nulls":4},"MYLU2LL/A","Apple"]
["63626","DMRFR4MLQ1GC","Pending",null,"Apple iPad 32GB WIFI (8th Gen)",null,"Broken","iPads",{"$nulls":4},"MYLU2LL/A","Apple"]
["63645","DMRFR9STQ1GC","Concord Elementary",null,"Apple iPad 32GB WIFI (8th Gen)","Josephine Caito","In Storage","iPads",{"$nulls":4},"MYLU2LL/A","Apple"]
["63659","DMPFPKNDQ1GC","Pending",null,"Apple iPad 32GB WIFI (8th Gen)",null,"Broken","iPads",{"$nulls":4},"MYLU2LL/A","Apple"]
["63702","DMRFR24UQ1GC","Sappington Elementary",null,"Apple iPad 32GB WIFI (8th Gen)","Morgan Sennott","In Storage","iPads",{"$nulls":4},"MYLU2LL/A","Apple"]
["63716","DMQFRVA2Q1GC","Idea Center",null,"Apple iPad 32GB WIFI (8th Gen)","Evan Kourkafas","In Storage","iPads",{"$nulls":4},"MYLU2LL/A","Apple"]
["63736","DMRFR99EQ1GC","Sappington Elementary",null,"Apple iPad 32GB WIFI (8th Gen)","Sienna Patton","In Storage","iPads",{"$nulls":4},"MYLU2LL/A","Apple"]
["63758","DMQFRUNPQ1GC","Kennerly Elementary",null,"Apple iPad 32GB WIFI (8th Gen)","Felix Powderly","In Service","iPads",{"$nulls":4},"MYLU2LL/A","Apple"]
["63781","DMQFRC19Q1GC","Long Elementary",null,"Apple iPad 32GB WIFI (8th Gen)","Rowan Bright","In Storage","iPads",{"$nulls":4},"MYLU2LL/A","Apple"]
["63815","DMRFRAV1Q1GC","Long Elementary",null,"Apple iPad 32GB WIFI (8th Gen)","Reese Koebbe","In Storage","iPads",{"$nulls":4},"MYLU2LL/A","Apple"]
["63822","DMRFR2EFQ1GC","Sappington Elementary",null,"Apple iPad 32GB WIFI (8th Gen)","Ava Willett","In Storage","iPads",{"$nulls":4},"MYLU2LL/A","Apple"]
["63849","DMRFR24DQ1GC","Pending",null,"Apple iPad 32GB WIFI (8th Gen)",null,"In Service","iPads",{"$nulls":4},"MYLU2LL/A","Apple"]
["63879","DMQFRLPKQ1GC","Kennerly Elementary",null,"Apple iPad 32GB WIFI (8th Gen)","Seraphina Seymore","In Service","iPads",{"$nulls":4},"MYLU2LL/A","Apple"]
["63906","DMRFR9WKQ1GC","Technology Storage","Imaging Room","Apple iPad 32GB WIFI (8th Gen)",null,"In Service","iPads",{"$nulls":4},"MYLU2LL/A","Apple"]
["63936","DMRFR1NVQ1GC","Concord Elementary",null,"Apple iPad 32GB WIFI (8th Gen)","Matthew Huff","In Storage","iPads",{"$nulls":4},"MYLU2LL/A","Apple"]
["63951","DMRFRB93Q1GC","Sappington Elementary",null,"Apple iPad 32GB WIFI (8th Gen)",null,"In Storage","iPads",{"$nulls":4},"MYLU2LL/A","Apple"]
["63969","DMQFRSJCQ1GC","Concord Elementary",null,"Apple iPad 32GB WIFI (8th Gen)","Penelope Shaver","In Storage","iPads",{"$nulls":4},"MYLU2LL/A","Apple"]
["63985","DMRFR4FGQ1GC","Concord Elementary",null,"Apple iPad 32GB WIFI (8th Gen)","Everleigh Lauber","In Storage","iPads",{"$nulls":4},"MYLU2LL/A","Apple"]
["64019","DMQFRBS4Q1GC","Dressel Elementary",null,"Apple iPad 32GB WIFI (8th Gen)","Jayden Gonzalez","In Storage","iPads",{"$nulls":4},"MYLU2LL/A","Apple"]
["64034","DMRFR6B3Q1GC","Kennerly Elementary",null,"Apple iPad 32GB WIFI (8th Gen)","Mark Hammerschmidt","In Service","iPads",{"$nulls":4},"MYLU2LL/A","Apple"]
["64064","DMQFRWLRQ1GC","Concord Elementary",null,"Apple iPad 32GB WIFI (8th Gen)","Lyla Prinster","In Storage","iPads",{"$nulls":4},"MYLU2LL/A","Apple"]
["64091","DMQFRB1EQ1GC","Concord Elementary",null,"Apple iPad 32GB WIFI (8th Gen)",null,"Broken","iPads",{"$nulls":4},"MYLU2LL/A","Apple"]
["64121","DMQFR7XZQ1GC","Long Elementary",null,"Apple iPad 32GB WIFI (8th Gen)","August Schwob","In Storage","iPads",{"$nulls":4},"MYLU2LL/A","Apple"]
["64132","DMQFRX3VQ1GC","Dressel Elementary",null,"Apple iPad 32GB WIFI (8th Gen)","Deryn Poniewaz","In Storage","iPads",{"$nulls":4},"MYLU2LL/A","Apple"]
["64155","DMRFREHXQ1GC","Crestwood Elementary",null,"Apple iPad 32GB WIFI (8th Gen)","Marguerite King","In Storage","iPads",{"$nulls":4},"MYLU2LL/A","Apple"]
["64189","DMRFRA1SQ1GC","Dressel Elementary",null,"Apple iPad 32GB WIFI (8th Gen)","Jax Powell","In Storage","iPads",{"$nulls":4},"MYLU2LL/A","Apple"]
["64212","DMQFRBWCQ1GC","Dressel Elementary",null,"Apple iPad 32GB WIFI (8th Gen)","Zavier Mertz","In Storage","iPads",{"$nulls":4},"MYLU2LL/A","Apple"]
["64234","DMQFRWC3Q1GC","Sappington Elementary",null,"Apple iPad 32GB WIFI (8th Gen)","Olive Gragnani","In Storage","iPads",{"$nulls":4},"MYLU2LL/A","Apple"]
["64254","DMRFR9ZDQ1GC","Sappington Elementary",null,"Apple iPad 32GB WIFI (8th Gen)","Luke Ganey","In Storage","iPads",{"$nulls":4},"MYLU2LL/A","Apple"]
["64268","DMPFT2CAQ1GC","Crestwood Elementary",null,"Apple iPad 32GB WIFI (8th Gen)","Mackenna Shultz","In Storage","iPads",{"$nulls":4},"MYLU2LL/A","Apple"]
["64311","DMRFR0A0Q1GC","Sperreng Middle",null,"Apple iPad 32GB WIFI (8th Gen)","Rowynn Lang","In Service","iPads",{"$nulls":4},"MYLU2LL/A","Apple"]
["64313","DMRFRCWEQ1GC","Long Elementary",null,"Apple iPad 32GB WIFI (8th Gen)","Harper Wynne","In Storage","iPads",{"$nulls":4},"MYLU2LL/A","Apple"]
["64344","DMPFT1NEQ1GC","Concord Elementary",null,"Apple iPad 32GB WIFI (8th Gen)","Andrew Hotaling","In Storage","iPads",{"$nulls":4},"MYLU2LL/A","Apple"]
["64370","DMQFRBPAQ1GC","Sappington Elementary",null,"Apple iPad 32GB WIFI (8th Gen)","Cecilia Zielinski","In Storage","iPads",{"$nulls":4},"MYLU2LL/A","Apple"]
["64401","DMRFRDBQQ1GC","Dressel Elementary",null,"Apple iPad 32GB WIFI (8th Gen)","Tyler Scheipeter","In Storage","iPads",{"$nulls":4},"MYLU2LL/A","Apple"]
["64427","DMQFRKF1Q1GC","Sappington Elementary",null,"Apple iPad 32GB WIFI (8th Gen)","Greta Sanders","In Storage","iPads",{"$nulls":4},"MYLU2LL/A","Apple"]
["64449","DMRFR7N9Q1GC","Sappington Elementary",null,"Apple iPad 32GB WIFI (8th Gen)","Leo Popp","In Storage","iPads",{"$nulls":4},"MYLU2LL/A","Apple"]
["64466","DMRFR40GQ1GC","Kennerly Elementary",null,"Apple iPad 32GB WIFI (8th Gen)","Bradley Revelle","In Service","iPads",{"$nulls":4},"MYLU2LL/A","Apple"]
["64483","DMQFR8F8Q1GC","Dressel Elementary",null,"Apple iPad 32GB WIFI (8th Gen)","Claire King","In Storage","iPads",{"$nulls":4},"MYLU2LL/A","Apple"]
["64523","DMQFRM3FQ1GC","Crestwood Elementary",null,"Apple iPad 32GB WIFI (8th Gen)","James Wilhelm","In Storage","iPads",{"$nulls":4},"MYLU2LL/A","Apple"]
["64540","DMQFRDRBQ1GC","Idea Center",null,"Apple iPad 32GB WIFI (8th Gen)","Jack Richardson","In Storage","iPads",{"$nulls":4},"MYLU2LL/A","Apple"]
["64564","DMPFRPLJQ1GC","Kennerly Elementary",null,"Apple iPad 32GB WIFI (8th Gen)","Bao Nguyen","In Service","iPads",{"$nulls":4},"MYLU2LL/A","Apple"]
["64574","DMQFR4RBQ1GC","Idea Center",null,"Apple iPad 32GB WIFI (8th Gen)","Eliza Merideth","In Storage","iPads",{"$nulls":4},"MYLU2LL/A","Apple"]
["64597","DMQFRT7QQ1GC","Kennerly Elementary",null,"Apple iPad 32GB WIFI (8th Gen)","Theodore Burst","In Service","iPads",{"$nulls":4},"MYLU2LL/A","Apple"]
["64619","DMQFR8ZYQ1GC","Kennerly Elementary",null,"Apple iPad 32GB WIFI (8th Gen)","Lincoln Witt","In Service","iPads",{"$nulls":4},"MYLU2LL/A","Apple"]
["64653","DMQFRK0QQ1GC","Crestwood Elementary",null,"Apple iPad 32GB WIFI (8th Gen)","Evan Gross","In Storage","iPads",{"$nulls":4},"MYLU2LL/A","Apple"]
["64686","DMQFRAFHQ1GC","Crestwood Elementary",null,"Apple iPad 32GB WIFI (8th Gen)","Grace Morton","In Storage","iPads",{"$nulls":4},"MYLU2LL/A","Apple"]
["64710","DMRFRDRGQ1GC","Long Elementary",null,"Apple iPad 32GB WIFI (8th Gen)","Nora Lough","In Storage","iPads",{"$nulls":4},"MYLU2LL/A","Apple"]
["64719","DMQFRX38Q1GC","Dressel Elementary",null,"Apple iPad 32GB WIFI (8th Gen)","Kali Scott","In Storage","iPads",{"$nulls":4},"MYLU2LL/A","Apple"]
["64755","DMQFRZGYQ1GC","Dressel Elementary",null,"Apple iPad 32GB WIFI (8th Gen)","Emma Vogelweid","In Storage","iPads",{"$nulls":4},"MYLU2LL/A","Apple"]
["64776","DMQFRWJPQ1GC","Crestwood Elementary",null,"Apple iPad 32GB WIFI (8th Gen)","Rose McDoniel","In Storage","iPads",{"$nulls":4},"MYLU2LL/A","Apple"]
["64789","DMRFR404Q1GC","Kennerly Elementary",null,"Apple iPad 32GB WIFI (8th Gen)","Ruby Zimmerman","In Service","iPads",{"$nulls":4},"MYLU2LL/A","Apple"]
["64809","DMPFQSVBQ1GC","Truman Middle",null,"Apple iPad 32GB WIFI (8th Gen)",null,"In Service","iPads",{"$nulls":4},"MYLU2LL/A","Apple"]
["64846","DMRFRDK9Q1GC","Crestwood Elementary",null,"Apple iPad 32GB WIFI (8th Gen)","Emma Goeke","In Storage","iPads",{"$nulls":4},"MYLU2LL/A","Apple"]
["64874","DMRFQ2QCQ1GC","Crestwood Elementary",null,"Apple iPad 32GB WIFI (8th Gen)","Jennifer Hoover","In Storage","iPads",{"$nulls":4},"MYLU2LL/A","Apple"]
["64880","DMQFRX8EQ1GC","Crestwood Elementary",null,"Apple iPad 32GB WIFI (8th Gen)","Beatrice Wiegert","In Storage","iPads",{"$nulls":4},"MYLU2LL/A","Apple"]
["64902","DMRFRAY5Q1GC","Dressel Elementary",null,"Apple iPad 32GB WIFI (8th Gen)","August Boofer","In Storage","iPads",{"$nulls":4},"MYLU2LL/A","Apple"]
["64939","DMPFT0VAQ1GC","Crestwood Elementary",null,"Apple iPad 32GB WIFI (8th Gen)","Adelynn Rapplean","In Storage","iPads",{"$nulls":4},"MYLU2LL/A","Apple"]
["64959","DMQFRF4NQ1GC","Crestwood Elementary",null,"Apple iPad 32GB WIFI (8th Gen)","Julia Hall","In Storage","iPads",{"$nulls":4},"MYLU2LL/A","Apple"]
["64972","DMRFR212Q1GC","Dressel Elementary",null,"Apple iPad 32GB WIFI (8th Gen)","Padraic Nicollerat","In Storage","iPads",{"$nulls":4},"MYLU2LL/A","Apple"]
["64993","DMQFRJH0Q1GC","Dressel Elementary",null,"Apple iPad 32GB WIFI (8th Gen)","Evie Trentmann","In Storage","iPads",{"$nulls":4},"MYLU2LL/A","Apple"]
["67025","DMQFRK6BQ1GC","Concord Elementary",null,"Apple iPad 32GB WIFI (8th Gen)","Charlie Wucher","In Storage","iPads",{"$nulls":4},"MYLU2LL/A","Apple"]
["67057","DMRFR5ALQ1GC","Long Elementary",null,"Apple iPad 32GB WIFI (8th Gen)","Lydia Rauls","In Storage","iPads",{"$nulls":4},"MYLU2LL/A","Apple"]
["67082","DMQFRW0VQ1GC","Kennerly Elementary",null,"Apple iPad 32GB WIFI (8th Gen)","Jacob Kahan","In Service","iPads",{"$nulls":4},"MYLU2LL/A","Apple"]
["67091","DMQFRS71Q1GC","Long Elementary",null,"Apple iPad 32GB WIFI (8th Gen)","Penelope Navarro","In Storage","iPads",{"$nulls":4},"MYLU2LL/A","Apple"]
["67113","DMQFRSQEQ1GC","Sappington Elementary",null,"Apple iPad 32GB WIFI (8th Gen)",null,"Broken","iPads",{"$nulls":4},"MYLU2LL/A","Apple"]
["67147","DMRFRCNLQ1GC","Concord Elementary",null,"Apple iPad 32GB WIFI (8th Gen)","Avett Wasmer","In Service","iPads",{"$nulls":4},"MYLU2LL/A","Apple"]
["67170","DMRFREHKQ1GC","ECE West",null,"Apple iPad 32GB WIFI (8th Gen)","Lauren Jenkerson","In Service","iPads",{"$nulls":4},"MYLU2LL/A","Apple"]
["67180","DMRFRCRAQ1GC","Long Elementary",null,"Apple iPad 32GB WIFI (8th Gen)","Liz Rich","In Service","iPads",{"$nulls":4},"MYLU2LL/A","Apple"]
["67204","MJ0F3TZQ","Central Office",114,"Lenovo ThinkCentre M720Q 10T8 Tiny (Core i5-9500T, 8GB + 8GB Added, 256GB)","Sarah Hamman","In Service","Desktops",{"$nulls":4},"M720Q","Lenovo"]
["67251","MJ0G7DDE","Sperreng Middle",53,"Lenovo ThinkStation P340",null,"In Service","Desktops",{"$nulls":4},"P340","Lenovo"]
["67294","V7N4T4JQWH",null,null,"Apple TV 4K (2nd Gen) 32GB",null,"In Service","Apple TVs",{"$nulls":4},"MXGY2LL/A","Apple"]
["67312","MJ0G7DC9","Truman Middle",304,"Lenovo ThinkStation P340",null,"In Service","Desktops",{"$nulls":4},"P340","Lenovo"]
["67330","JLDV2L3","Long Elementary","Data - Downstairs","DELL EMC SERVER POWEREDGE R540 | 302.1",null,"In Service","Server",{"$nulls":4},"R540","Dell"]
["67352","DMQFRW6JQ1GC","Central Office",null,"Apple iPad 32GB WIFI (8th Gen)","Joan OspinaOrjuela","In Storage","iPads",{"$nulls":4},"MYLU2LL/A","Apple"]
["67378","CNM6KD5PPW","Dressel Elementary",118,"Aruba AP-515 Dual Radio",null,"In Service","Access Points",{"$nulls":4},"AP-515","Aruba"]
["67409","CNM6KD5QND","Crestwood Elementary","CR Hallway","Aruba AP-515 Dual Radio",null,"In Service","Access Points",{"$nulls":4},"AP-515","Aruba"]
["67435","CNM6KD5PS9","Crestwood Elementary",26,"Aruba AP-515 Dual Radio",null,"In Service","Access Points",{"$nulls":4},"AP-515","Aruba"]
["67454","CNM6KD5QMQ","Long Elementary","Counselor's Office","Aruba AP-515 Dual Radio",null,"In Service","Access Points",{"$nulls":4},"AP-515","Aruba"]
["67492","VNLJK9W0JN","Concord Elementary","Data - 036","Aruba AP-535 Dual Radio",null,"In Service","Access Points",{"$nulls":4},"AP-535","Aruba"]
["67511","CNM6KD5PSN","Concord Elementary",17,"Aruba AP-515 Dual Radio",null,"In Service","Access Points",{"$nulls":4},"AP-515","Aruba"]
["67525","CNM6KD5PLK","Concord Elementary",33,"Aruba AP-515 Dual Radio",null,"In Service","Access Points",{"$nulls":4},"AP-515","Aruba"]
["67545","CNM6KD5PQ0","Kennerly Elementary",2,"Aruba AP-515 Dual Radio",null,"In Service","Access Points",{"$nulls":4},"AP-515","Aruba"]
["67567","CNM6KD5PRB","Kennerly Elementary",202,"Aruba AP-515 Dual Radio",null,"In Service","Access Points",{"$nulls":4},"AP-515","Aruba"]
["67590","CNM6KD5PTC","Sappington Elementary","031 (Design Lab)","Aruba AP-515 Dual Radio",null,"In Service","Access Points",{"$nulls":4},"AP-515","Aruba"]
["67634","PW00917D","Support Services Building","Facilities/Warehouse","Lenovo ThinkPad L13 Yoga (Core i5-1135G7, 16GB, 256GB) [Gen 2]","Scott Barbagallo","In Service","Laptops",{"$nulls":4},"L13 Yoga (Gen 2)","Lenovo"]
["67666","278TXVW988","Sperreng Middle","PE - Girls Locker Room","Motorola CP100D",null,"In Service","Walkie Talkie",{"$nulls":4},"CP100D","Motorola"]
["67669","278TXVW219","Truman Middle","Locker Room - Boys","Motorola CP100D","Eric Kunz","In Service","Walkie Talkie",{"$nulls":4},"CP100D","Motorola"]
["67699","278TXX4531","Truman Middle",9,"Motorola CP100D","Robert Bartolone","In Service","Walkie Talkie",{"$nulls":4},"CP100D","Motorola"]
["67727","H4TH20EHQ7H6","Lindbergh High School",21,"Apple iMac 24' M1, 16GB, 512GB SSD (2021)",null,"In Service","iMac",{"$nulls":4},"Z13K","Apple"]
["67757","FFLH911JMF3M","Sperreng Middle",null,"Apple iPad 32GB WIFI (7th Gen) - WARRANTY",null,"Retired/Surplused","iPads",{"$nulls":4},"MW7L2LL/A","Apple"]
["67772","P208ENQ7","Kennerly Elementary","Library","Lenovo 500e Chromebook (Gen 2)",null,"In Service","Chromebooks",{"$nulls":5},"Lenovo"]
["67873","09LV3CNT500362","Lindbergh High School","346B","Samsung 75'  Series 4K UHD Smart TV",null,"In Service","TV",{"$nulls":4},"UN75TU7000FXZA","Samsung"]
["67903","MJ0HBZDP","Lindbergh High School",111,"Lenovo ThinkStation P340 (Core i5-10500, 16GB, 512GB)",null,"In Service","Desktops",{"$nulls":4},"P340","Lenovo"]
["67927",22017084890,"Sperreng Middle","Library Room 1","PRUSA MINI+",null,"In Service","3D Printer",{"$nulls":4},"MINI+","Prusa"]
["67969","PW0232FK","Central Office",null,"Lenovo ThinkPad L13 Yoga (Core i7-1165G7, 16GB, 512GB) [Gen 2]","Dominic Jaggie","In Service","Laptops",{"$nulls":4},"L13 Yoga (Gen 2)","Lenovo"]
["67975","MJ0GX3ZQ","Sappington Elementary","Cafeteria","Lenovo ThinkCentre M70q 11MY Tiny (Core i5-11400T, 8GB, 256GB SSD) [Gen 2]",null,"In Service","Desktops",{"$nulls":4},"M70Q","Lenovo"]
["68015",null,"Lindbergh High School",31,"ASUS VG248QG Gaming Monitor 24' Full HD 165Hz",null,"In Service","Monitor",{"$nulls":4},"VG248QG","Asus"]
["68045","MJ0HHE5K","Lindbergh High School",null,"Lenovo Legion T5-26IOB6 (Core i7-11700, 16GB, 1TB SSD, 2TB HDD)",null,"In Service","Desktops",{"$nulls":4},"Legion T5-26IOB6","Lenovo"]
["68056","MJ0HHE5B","Lindbergh High School",31,"Lenovo Legion T5-26IOB6 (Core i7-11700, 16GB, 1TB SSD, 2TB HDD)",null,"In Service","Desktops",{"$nulls":4},"Legion T5-26IOB6","Lenovo"]
["68079","MJ0HTCQY","Lindbergh High School",31,"Lenovo Legion T5-26IOB6 (Core i7-11700, 16GB, 1TB SSD, 2TB HDD)",null,"In Service","Desktops",{"$nulls":4},"Legion T5-26IOB6","Lenovo"]
["68115","MJ0GCRNL",null,null,"Lenovo ThinkPad E14 (Core i5-1135G7, 8GB, 256GB) [Gen 2]",null,"In Service","Desktops",{"$nulls":4},"E14","Lenovo"]
["68220","FNXHM02PMF3M","Truman Middle",null,"Apple iPad 32GB WIFI (7th Gen) - WARRANTY",null,"Retired/Surplused","iPads",{"$nulls":4},"MW7L2LL/A","Apple"]
["68252","DH6FQC70DW","Concord Elementary",30,"Apple TV 4K (2nd Gen) 32GB",null,"In Service","Apple TVs",{"$nulls":4},"MXGY2LL/A","Apple"]
["68396","X8WE2300257","Lindbergh High School",335,"Epson Powerlite 725W Projector",null,"In Service","Projector",{"$nulls":4},"Powerlite 725W","Epson"]
["68434",null,"Lindbergh High School",233,"Epson Powerlite 725W Projector",null,"In Service","Projector",{"$nulls":4},"Powerlite 725W","Epson"]
["68454",null,"Lindbergh High School",null,"Epson Powerlite 725W Projector",null,"In Service","Projector",{"$nulls":4},"Powerlite 725W","Epson"]
["68468","CWMKFV0H6G","Central Office",null,"Apple iPad 64GB WIFI (9th Gen)",null,"Broken","iPads",{"$nulls":4},"MK2Y3LL/A","Apple"]
["68487","QC1J6JD2F6","Long Elementary",null,"Apple iPad 64GB WIFI (9th Gen)","Hamza Delic","In Storage","iPads",{"$nulls":4},"MK2Y3LL/A","Apple"]
["68513","DVJXDLCLGX","Sappington Elementary",null,"Apple iPad 64GB WIFI (9th Gen)","Emily Barbato","In Storage","iPads",{"$nulls":4},"MK2Y3LL/A","Apple"]
["68556","PW02JL00","Sperreng Middle",206,"Lenovo ThinkPad L13 Yoga (Core i7-1165G7, 16GB, 512GB) [Gen 2]","Austin Holtzmann","In Service","Laptops",{"$nulls":4},"20VK0019US","Lenovo"]
["68582","FNXJ3121MF3M","Sperreng Middle",null,"Apple iPad 32GB WIFI (7th Gen) - WARRANTY",null,"Retired/Surplused","iPads",{"$nulls":4},"MW7L2LL/A","Apple"]
["68604","C02JLFKEQ6L4","Central Office",null,"Apple MacBook Air M1, 8GB, 128GB SSD (2020)",null,"In Service","MacBook",{"$nulls":4},"MGN63LL/A","Apple"]
["68621","HVH27Y9LPV","ECE West",504,"Apple TV 4K (2nd Gen) 32GB",null,"In Service","Apple TVs",{"$nulls":4},"MXGY2LL/A","Apple"]
["68638","332131VAD02944",null,null,"IPEVO VZ-R HDMI/USB 8MP Document Camera",null,"In Service","Document Camera",{"$nulls":4},"VZ-R","IPEVO"]
["68681","09LV3CNTA08787","Lindbergh High School","Outside Library Lower Level","Samsung 75' Class 7 Series LED-Backlit LCD 4K TV",null,"In Service","TV",{"$nulls":4},"UN75TU7000TXZA","Samsung"]
["68699","H4TJY00HQ7H6","Lindbergh High School",108,"Apple iMac 24' M1, 16GB, 512GB SSD (2021)",null,"In Service","iMac",{"$nulls":4},"z13k0017f","Apple"]
["68723","FFKJT05CMF3M","Truman Middle",null,"Apple iPad 32GB WIFI (7th Gen) - WARRANTY",null,"Retired/Surplused","iPads",{"$nulls":5},"Apple"]
["68769","Z3FP3CHB402265F","Concord Elementary","Principal's Office","Samsung 46' TV",null,"In Service","TV",{"$nulls":4},"LN46D630M3FXZA","Samsung"]
["68793","CN-OFY6RN-7444-638-A8TM-A01","Crestwood Elementary","Principal's Office","Dell 22' Monitor",null,"In Service","Monitor",{"$nulls":4},"P2213t","Dell"]
["68814","H161040747","Dressel Elementary",221,"TeachLogic Maxim III",null,"In Service","Classroom Audio",{"$nulls":4},"Maxim III","TeachLogic"]
["68825","H161040725","Dressel Elementary",107,"TeachLogic Maxim III",null,"In Service","Classroom Audio",{"$nulls":4},"Maxim III","TeachLogic"]
["68859","CN0FY6RN74445631591MA01","Sperreng Middle",53,"Dell 22' Monitor",null,"In Service","Monitor",{"$nulls":4},"P2213t","Dell"]
["68883","RD0027738","Sperreng Middle",123,"FrontRow Pro Digital 940R Receiver/Amplifier with 940TM Transmitter/Microphone",null,"In Service","Classroom Audio",{"$nulls":4},"940R","FrontRow"]
["68892","RD0051182","Sperreng Middle",105,"FrontRow Pro Digital 940R Receiver/Amplifier with 940TM Transmitter/Microphone",null,"In Service","Classroom Audio",{"$nulls":4},"940R","FrontRow"]
["68928","CN0FP04F7287236PC6TM","Lindbergh High School",312,"Dell 22' Monitor",null,"In Service","Monitor",{"$nulls":5},"Dell"]
["68949","CNHSKD59JC","Lindbergh High School",301,"Aruba AP-515 Dual Radio",null,"In Service","Access Points",{"$nulls":5},"Aruba"]
["68962","CNHSKD585S","Lindbergh High School",338,"Aruba AP-515 Dual Radio",null,"In Service","Access Points",{"$nulls":5},"Aruba"]
["68993","GV337VY6MQ","Concord Elementary",null,"Apple iPad 64GB WIFI (9th Gen)",null,"In Storage","iPads",{"$nulls":4},"MK2K3LL/A","Apple"]
["69030","FFLK20NYMF3M","Truman Middle",null,"Apple iPad 32GB WIFI (7th Gen) - WARRANTY",null,"Retired/Surplused","iPads",{"$nulls":5},"Apple"]
["69052","DQ14YT7N62","Concord Elementary",null,"Apple MacBook Air M2, 8GB, 256GB  (2022)","Clementine Hoeing","In Service","MacBook",{"$nulls":4},"MLY73LL/A","Apple"]
["69082","JV47FPCF2C","Concord Elementary",null,"Apple MacBook Air M2, 8GB, 256GB  (2022)","Nenita Schaefer","In Service","MacBook",{"$nulls":4},"MLY73LL/A","Apple"]
["69109","G59GV9YCQV","Kennerly Elementary",null,"Apple MacBook Air M2, 8GB, 256GB  (2022)","Brendan Doyle","In Service","MacBook",{"$nulls":4},"MLY73LL/A","Apple"]
["69123","MGM6X722RW","Concord Elementary",null,"Apple MacBook Air M2, 8GB, 256GB  (2022)","Lauren Stotlar","In Service","MacBook",{"$nulls":4},"MLY73LL/A","Apple"]
["69143","CY7RH4WPF9","Crestwood Elementary",null,"Apple MacBook Air M2, 8GB, 256GB  (2022)","Darrion Cockrell","In Service","MacBook",{"$nulls":4},"MLY73LL/A","Apple"]
["69180","FCC67KX3PW","Dressel Elementary",null,"Apple MacBook Air M2, 8GB, 256GB  (2022)","Raichel Panicker","In Service","MacBook",{"$nulls":4},"MLY73LL/A","Apple"]
["69200","HWR91QHVQN","Dressel Elementary",null,"Apple MacBook Air M2, 8GB, 256GB  (2022)","Meighan Shamia","In Service","MacBook",{"$nulls":4},"MLY73LL/A","Apple"]
["69213","C7XD7223VV","Sappington Elementary",null,"Apple MacBook Air M2, 8GB, 256GB  (2022)","Chelsey Meyer","In Service","MacBook",{"$nulls":4},"MLY73LL/A","Apple"]
["69245","G1WN4030G5","Sappington Elementary",null,"Apple MacBook Air M2, 8GB, 256GB  (2022)","Angela Matejcic","In Service","MacBook",{"$nulls":4},"MLY73LL/A","Apple"]
["69256","DDGVCY0H3K","Long Elementary",null,"Apple MacBook Air M2, 8GB, 256GB  (2022)","Stephanie Meesey","In Service","MacBook",{"$nulls":4},"MLY73LL/A","Apple"]
["69278","H2J9HCVDW7","Dressel Elementary",null,"Apple MacBook Air M2, 8GB, 256GB  (2022)","Anna Oswald","In Service","MacBook",{"$nulls":4},"MLY73LL/A","Apple"]
["69313","DJ6X6YK17N","Crestwood Elementary",null,"Apple MacBook Air M2, 8GB, 256GB  (2022)","Jessica Engelbrecht","In Service","MacBook",{"$nulls":4},"MLY73LL/A","Apple"]
["69340",{"$nulls":3},"Samsung UN75TU7000F 7 Series 75' Class LED TV 4K UN75TU7000FXZA",null,"In Service","TV",{"$nulls":4},"UN75TU7000FXZA","Samsung"]
["69364","CN0YMYH1742613B15W8S","Lindbergh High School",330,"Dell 24' Widescreen Monitor",null,"In Service","Monitor",{"$nulls":4},"U2412Mb","Dell"]
["69374","CNHCKD55VZ","Lindbergh High School",204,"Aruba AP-515 Dual Radio",null,"In Service","Access Points",{"$nulls":4},"AP-515","Aruba"]
["69398","CN0YMYH17426151S29RS","Lindbergh High School","143D","Dell 24' Widescreen Monitor",null,"In Service","Monitor",{"$nulls":4},"U2412Mb","Dell"]
["69451","CN0FJ44J7444544OESAS","Lindbergh High School","108A","Dell 24' Widescreen Monitor",null,"In Service","Monitor",{"$nulls":4},"U2412Mb","Dell"]
["69467","CNJDKPP2PH","Lindbergh High School","Guidance Hallway","Aruba AP-515 Dual Radio",null,"In Service","Access Points",{"$nulls":4},"AP-505","Aruba"]
["69512","CN944ZQ12X","Sperreng Middle","Data - 054","HP Procurve Switch 2610-24-PWR",null,"In Service","Switch",{"$nulls":4},"J9086A","HP"]
["69592","RD026692","Truman Middle",20,"FrontRow Pro Digital 940R Receiver/Amplifier with 940TM Transmitter/Microphone",null,"In Service","Classroom Audio",{"$nulls":4},"940R","FrontRow"]
["69614","RD026923","Truman Middle",20,"FrontRow Pro Digital 940R Receiver/Amplifier with 940TM Transmitter/Microphone",null,"In Service","Classroom Audio",{"$nulls":4},"940R","FrontRow"]
["69641",null,"Truman Middle",20,"FrontRow Pro Digital 940R Receiver/Amplifier with 940TM Transmitter/Microphone",null,"In Service","Classroom Audio",{"$nulls":4},"940R","FrontRow"]
["69687","M1E33J000369","Lindbergh High School",null,"BrightSign HD225",null,"In Service","Digital Signage",{"$nulls":5},"BrightSign"]
["69713","FFLKQ024MF3M","Truman Middle",null,"Apple iPad 32GB WIFI (7th Gen) - WARRANTY",null,"Retired/Surplused","iPads",{"$nulls":4},"MW742LL/A","Apple"]
["69732","SG33KMY7K0",null,null,"ARUBA 6300M 48 PORT HPE SMART RATE SWITCH JL659A",null,"In Service","Switch",{"$nulls":4},"JL659A","Aruba"]
["69851","K2012LNF6C","Dressel Elementary",null,"Apple iPad 64GB WIFI (9th Gen)",null,"Broken","iPads",{"$nulls":4},"MK2Y3LL/A","Apple"]
["69870","J639LVQGMF","Central Office",null,"Apple iPad 64GB WIFI (9th Gen)","Sarah Valter","In Service","iPads",{"$nulls":4},"MK2Y3LL/A","Apple"]
["69884","VYHWPV7JW6","Dressel Elementary",null,"Apple iPad 64GB WIFI (9th Gen)","Grace Naylor","In Storage","iPads",{"$nulls":4},"MK2Y3LL/A","Apple"]
["69904","M9FYQL2909","Sappington Elementary",null,"Apple iPad 64GB WIFI (9th Gen)","Harper Davis","In Storage","iPads",{"$nulls":4},"MK2Y3LL/A","Apple"]
["69926","V2WM39X6CG","Dressel Elementary",null,"Apple iPad 64GB WIFI (9th Gen)",null,"Retired/Surplused","iPads",{"$nulls":4},"MK2Y3LL/A","Apple"]
["69949","LRH3713XTD","Concord Elementary",null,"Apple iPad 64GB WIFI (9th Gen)","Hattie Jansen","In Storage","iPads",{"$nulls":4},"MK2Y3LL/A","Apple"]
["69983","J7T1XQ7L64","Crestwood Elementary",null,"Apple iPad 64GB WIFI (9th Gen)","Emmett Karagiannis","In Storage","iPads",{"$nulls":4},"MK2Y3LL/A","Apple"]
["70006","HVKVM4J2T2","Crestwood Elementary",null,"Apple iPad 64GB WIFI (9th Gen)","Katherine Mudd","In Storage","iPads",{"$nulls":4},"MK2Y3LL/A","Apple"]
["70040","KM6YX7T4KR","Concord Elementary",null,"Apple iPad 64GB WIFI (9th Gen)","Crosby King","In Storage","iPads",{"$nulls":4},"MK2Y3LL/A","Apple"]
["70047","RYVFP73JNJ","Concord Elementary",null,"Apple iPad 64GB WIFI (9th Gen)","Hadley Kerner","In Storage","iPads",{"$nulls":4},"MK2Y3LL/A","Apple"]
["70074","LXHTWFGW0Q","Central Office",null,"Apple iPad 64GB WIFI (9th Gen)","Allison Mach","In Service","iPads",{"$nulls":4},"MK2Y3LL/A","Apple"]
["70104","GRX6K6D4XY","Dressel Elementary",null,"Apple iPad 64GB WIFI (9th Gen)","Hudson Schmitz","In Storage","iPads",{"$nulls":4},"MK2Y3LL/A","Apple"]
["70119","WP12J0VY6P","Dressel Elementary",null,"Apple iPad 64GB WIFI (9th Gen)","Gracie Garibay","In Storage","iPads",{"$nulls":4},"MK2Y3LL/A","Apple"]
["70153","LGJT9DY76C","Central Office",null,"Apple iPad 64GB WIFI (9th Gen)","Kathleen Stolzenberg","In Service","iPads",{"$nulls":4},"MK2Y3LL/A","Apple"]
["70169","HJPC2NKGG7","Concord Elementary",null,"Apple iPad 64GB WIFI (9th Gen)","Piper Word","In Storage","iPads",{"$nulls":4},"MK2Y3LL/A","Apple"]
["70187","VHDWY2QL7F","Central Office",null,"Apple iPad 64GB WIFI (9th Gen)","Jennifer Zelch","In Service","iPads",{"$nulls":4},"MK2Y3LL/A","Apple"]
["70226","HFPV4WD67Q","Crestwood Elementary",null,"Apple iPad 64GB WIFI (9th Gen)","Sarah Pichler","In Service","iPads",{"$nulls":4},"MK2Y3LL/A","Apple"]
["70232","YL93D7T4WW","Concord Elementary",null,"Apple iPad 64GB WIFI (9th Gen)","Eleanor Pisoni","In Service","iPads",{"$nulls":4},"MK2Y3LL/A","Apple"]
["70259","X6NN2H670P","Long Elementary",null,"Apple iPad 64GB WIFI (9th Gen)","Owen Paluczak","In Storage","iPads",{"$nulls":4},"MK2Y3LL/A","Apple"]
["70289","HD2TGY2P91","Sappington Elementary",null,"Apple iPad 64GB WIFI (9th Gen)","Liam Hosp","In Storage","iPads",{"$nulls":4},"MK2Y3LL/A","Apple"]
["70324","KMHPHCGWJ0","Sappington Elementary",null,"Apple iPad 64GB WIFI (9th Gen)",null,"In Service","iPads",{"$nulls":4},"MK2Y3LL/A","Apple"]
["70346","FWR2QMNXK1","Long Elementary",null,"Apple iPad 64GB WIFI (9th Gen)","Blake Kisner","In Storage","iPads",{"$nulls":4},"MK2Y3LL/A","Apple"]
["70368","VJPQYGWJR6","Long Elementary",null,"Apple iPad 64GB WIFI (9th Gen)","Addison Nall","In Storage","iPads",{"$nulls":4},"MK2Y3LL/A","Apple"]
["70381","LC4GTK9DT9","Kennerly Elementary",null,"Apple iPad 64GB WIFI (9th Gen)",null,"In Storage","iPads",{"$nulls":4},"MK2Y3LL/A","Apple"]
["70402","MXH9R4WKCQ","Dressel Elementary",null,"Apple iPad 64GB WIFI (9th Gen)","Reese Schoenekase","In Storage","iPads",{"$nulls":4},"MK2Y3LL/A","Apple"]
["70422","X4J73RR9VY","Long Elementary",null,"Apple iPad 64GB WIFI (9th Gen)","Riley Clements","In Storage","iPads",{"$nulls":4},"MK2Y3LL/A","Apple"]
["70459","W2JM7RJ24G","Kennerly Elementary",null,"Apple iPad 64GB WIFI (9th Gen)",null,"In Storage","iPads",{"$nulls":4},"MK2Y3LL/A","Apple"]
["70479","F14VPD40F9","Dressel Elementary",null,"Apple iPad 64GB WIFI (9th Gen)","Annie Harrison","In Storage","iPads",{"$nulls":4},"MK2Y3LL/A","Apple"]
["70493","C69L92KX55","Sappington Elementary",null,"Apple iPad 64GB WIFI (9th Gen)","Lana Meqbil","In Storage","iPads",{"$nulls":4},"MK2Y3LL/A","Apple"]
["70512","JXW0HNPNQQ","Sappington Elementary",null,"Apple iPad 64GB WIFI (9th Gen)","Osman Umarov","In Storage","iPads",{"$nulls":4},"MK2Y3LL/A","Apple"]
["70538","D7XNW4QVTV","Long Elementary",null,"Apple iPad 64GB WIFI (9th Gen)","Owen Maxfield","In Storage","iPads",{"$nulls":4},"MK2Y3LL/A","Apple"]
["70569","WGPLQ1FQ3M","Dressel Elementary",null,"Apple iPad 64GB WIFI (9th Gen)",null,"In Storage","iPads",{"$nulls":4},"MK2Y3LL/A","Apple"]
["70595","GX574D4LGQ","Concord Elementary",null,"Apple iPad 64GB WIFI (9th Gen)","Emma Eisenbach","In Storage","iPads",{"$nulls":4},"MK2Y3LL/A","Apple"]
["70617","G6MM7JP226","Kennerly Elementary",null,"Apple iPad 64GB WIFI (9th Gen)",null,"In Storage","iPads",{"$nulls":4},"MK2Y3LL/A","Apple"]
["70634","NDQJVXG79X","Long Elementary",null,"Apple iPad 64GB WIFI (9th Gen)","Veronica Hayden","In Storage","iPads",{"$nulls":4},"MK2Y3LL/A","Apple"]
["70674","T7K4341K23","Long Elementary",null,"Apple iPad 64GB WIFI (9th Gen)","Isla O'Guin","In Service","iPads",{"$nulls":4},"MK2Y3LL/A","Apple"]
["70691","FCMW5F7N14","Long Elementary",null,"Apple iPad 64GB WIFI (9th Gen)","Lucas Darr","In Storage","iPads",{"$nulls":4},"MK2Y3LL/A","Apple"]
["70708","TNPN6RWGG6","Kennerly Elementary",null,"Apple iPad 64GB WIFI (9th Gen)","Lexi Tocco","In Service","iPads",{"$nulls":4},"MK2Y3LL/A","Apple"]
["70732","M6P9KKPQ7M","Kennerly Elementary",null,"Apple iPad 64GB WIFI (9th Gen)","Lucas Firth","In Service","iPads",{"$nulls":4},"MK2Y3LL/A","Apple"]
["70765","RL92XRP97D","Kennerly Elementary",null,"Apple iPad 64GB WIFI (9th Gen)","Natalie Nichols","In Service","iPads",{"$nulls":4},"MK2Y3LL/A","Apple"]
["70789","H23X3HKN4M","Kennerly Elementary",null,"Apple iPad 64GB WIFI (9th Gen)","Gina Hershfeld","In Service","iPads",{"$nulls":4},"MK2Y3LL/A","Apple"]
["70799","R2321HPHM3","Sappington Elementary",null,"Apple iPad 64GB WIFI (9th Gen)","Charles Will","In Storage","iPads",{"$nulls":4},"MK2Y3LL/A","Apple"]
["70821","TFWJQV6GFK","Sappington Elementary",null,"Apple iPad 64GB WIFI (9th Gen)","Charles Betts","In Storage","iPads",{"$nulls":4},"MK2Y3LL/A","Apple"]
["70854","CF3G60FHJW","Kennerly Elementary",null,"Apple iPad 64GB WIFI (9th Gen)","Elizabeth Malaga","In Service","iPads",{"$nulls":4},"MK2Y3LL/A","Apple"]
["70878","FQ0D3W9XCM","Concord Elementary",null,"Apple iPad 64GB WIFI (9th Gen)","Vincent Giacalone","In Storage","iPads",{"$nulls":4},"MK2Y3LL/A","Apple"]
["70887","W2HDF9DR94","Concord Elementary",null,"Apple iPad 64GB WIFI (9th Gen)","Grayson Hutchcraft","In Storage","iPads",{"$nulls":4},"MK2Y3LL/A","Apple"]
["70923","VQHN7LWR9W","Dressel Elementary",null,"Apple iPad 64GB WIFI (9th Gen)","Zara Truong","In Storage","iPads",{"$nulls":4},"MK2Y3LL/A","Apple"]
["70944","DRXW3LPDQT","Dressel Elementary",null,"Apple iPad 64GB WIFI (9th Gen)","Adem Salkic","In Storage","iPads",{"$nulls":4},"MK2Y3LL/A","Apple"]
["70980","W7F6YJJJQX","Dressel Elementary",null,"Apple iPad 64GB WIFI (9th Gen)","Nolan Monahan","In Storage","iPads",{"$nulls":4},"MK2Y3LL/A","Apple"]
["71001","JPH6H14L36","Dressel Elementary",null,"Apple iPad 64GB WIFI (9th Gen)","Inara Beqiri","In Storage","iPads",{"$nulls":4},"MK2Y3LL/A","Apple"]
["71014","DHH2HV441W","Concord Elementary",null,"Apple iPad 64GB WIFI (9th Gen)","Silvio DeOliveira","In Storage","iPads",{"$nulls":4},"MK2Y3LL/A","Apple"]
["71036","LN7R7J9TPW","Dressel Elementary",null,"Apple iPad 64GB WIFI (9th Gen)","Karter BaxleySmith","In Storage","iPads",{"$nulls":4},"MK2Y3LL/A","Apple"]
["71066","J75XQMXRWM","Crestwood Elementary",null,"Apple iPad 64GB WIFI (9th Gen)","Rose Smith","In Storage","iPads",{"$nulls":4},"MK2Y3LL/A","Apple"]
["71093","F9T66P67VY","Dressel Elementary",null,"Apple iPad 64GB WIFI (9th Gen)","Amelia Truong","In Storage","iPads",{"$nulls":4},"MK2Y3LL/A","Apple"]
["71107","TJY2KKPHWL","Long Elementary",null,"Apple iPad 64GB WIFI (9th Gen)","Charlotte Berry","In Storage","iPads",{"$nulls":4},"MK2Y3LL/A","Apple"]
["71127","F77MXX5JHW","Crestwood Elementary",null,"Apple iPad 64GB WIFI (9th Gen)","Nora Bales","In Storage","iPads",{"$nulls":4},"MK2Y3LL/A","Apple"]
["71164","YQCNG2WWXY","Crestwood Elementary",null,"Apple iPad 64GB WIFI (9th Gen)","Leilani Moore","In Service","iPads",{"$nulls":4},"MK2Y3LL/A","Apple"]
["71184","JF7165P403","Crestwood Elementary",null,"Apple iPad 64GB WIFI (9th Gen)","Rosella Mazdra","In Storage","iPads",{"$nulls":4},"MK2Y3LL/A","Apple"]
["71197","DVPKJ7DW2C","Concord Elementary",null,"Apple iPad 64GB WIFI (9th Gen)","Isabelle Fischer","In Storage","iPads",{"$nulls":4},"MK2Y3LL/A","Apple"]
["71229","Y4NVDT9NG9","Dressel Elementary",null,"Apple iPad 64GB WIFI (9th Gen)","Declan Riley","In Storage","iPads",{"$nulls":4},"MK2Y3LL/A","Apple"]
["71240","M7L14NVYVV","Concord Elementary",null,"Apple iPad 64GB WIFI (9th Gen)","Hannah Cassidy","In Storage","iPads",{"$nulls":4},"MK2Y3LL/A","Apple"]
["71262","QKL9J750YW","Kennerly Elementary",null,"Apple iPad 64GB WIFI (9th Gen)","Sean Cook","In Service","iPads",{"$nulls":4},"MK2Y3LL/A","Apple"]
["71297","RG72RXDF2D","Sappington Elementary",null,"Apple iPad 64GB WIFI (9th Gen)","Truman Von Kloha","In Storage","iPads",{"$nulls":4},"MK2Y3LL/A","Apple"]
["71319","MQVWVV0226","Concord Elementary",null,"Apple iPad 64GB WIFI (9th Gen)","William Nussbaum","In Storage","iPads",{"$nulls":4},"MK2Y3LL/A","Apple"]
["71342","F192MXXDQL","Concord Elementary",null,"Apple iPad 64GB WIFI (9th Gen)","Oskar Driesner","In Storage","iPads",{"$nulls":4},"MK2Y3LL/A","Apple"]
["71376","F6KT2QT46V","Concord Elementary",null,"Apple iPad 64GB WIFI (9th Gen)","Theodore Ewing","In Storage","iPads",{"$nulls":4},"MK2Y3LL/A","Apple"]
["71399","C9P5P4919C","Sappington Elementary",null,"Apple iPad 64GB WIFI (9th Gen)","Savannah Boyer","In Storage","iPads",{"$nulls":4},"MK2Y3LL/A","Apple"]
["71417","G2XGFCYQRV","Crestwood Elementary",null,"Apple iPad 64GB WIFI (9th Gen)","Mateo Abeln","In Storage","iPads",{"$nulls":4},"MK2Y3LL/A","Apple"]
["71433","WQ3GNWHL90","Long Elementary",null,"Apple iPad 64GB WIFI (9th Gen)","Harper Hentrich","In Storage","iPads",{"$nulls":4},"MK2Y3LL/A","Apple"]
["71455","TNQNHCY2C7","Long Elementary",null,"Apple iPad 64GB WIFI (9th Gen)","Cecelia Vigueira","In Storage","iPads",{"$nulls":4},"MK2Y3LL/A","Apple"]
["71474","P7JN5HH52J","Crestwood Elementary",null,"Apple iPad 64GB WIFI (9th Gen)","Asher Robben","In Storage","iPads",{"$nulls":4},"MK2Y3LL/A","Apple"]
["71512","X6HHFWF95W","Concord Elementary",null,"Apple iPad 64GB WIFI (9th Gen)","Olivia Evans","In Storage","iPads",{"$nulls":4},"MK2Y3LL/A","Apple"]
["71539","XCAB3100103","Lindbergh High School",162,"EPSON POWERLITE 760W PROJECTOR",null,"In Service","Projector",{"$nulls":4},"V11HA81020","Epson"]
["71546","XCAB3100204","Lindbergh High School",264,"EPSON POWERLITE 760W PROJECTOR",null,"In Service","Projector",{"$nulls":4},"V11HA81020","Epson"]
["71572","XCAB3100174","Lindbergh High School",260,"EPSON POWERLITE 760W PROJECTOR",null,"In Service","Projector",{"$nulls":4},"V11HA81020","Epson"]
["71603","HX0G27JGH7","Long Elementary",null,"Apple MacBook Air M2, 8GB, 256GB  (2022)","Emily Scott","In Service","MacBook",{"$nulls":4},"MLXW3LL/A","Apple"]
["71629","PHQ7KYJ09Y","Idea Center",null,"Aruba AP-635",null,"In Service","Access Points",{"$nulls":4},"AP-635","Aruba"]
["71648","PHQ4KD51Y0","Crestwood Elementary",7,"Aruba AP-515 Dual Radio",null,"In Service","Access Points",{"$nulls":4},"Q9H63A","Aruba"]
["71770","SLV6P29RFW2","ECE Main","Multipurpose Room","Apple TV 4K WIFI + Ethernet 128GB",null,"In Service","Apple TVs",{"$nulls":4},"mn893ll/a","Apple"]
["71897","DHWF5FH1W6","Concord Elementary",null,"Apple iPad 64GB WIFI (9th Gen)",null,"Broken","iPads",{"$nulls":4},"MK2Y3LL/A","Apple"]
["71919","MJG2XMRXKV","Sappington Elementary",null,"Apple iPad 64GB WIFI (9th Gen)","Grace Nemec","In Service","iPads",{"$nulls":4},"MK2Y3LL/A","Apple"]
["71943","MFDWDM6596","Central Office",null,"Apple iPad 64GB WIFI (9th Gen)",null,"In Storage","iPads",{"$nulls":4},"MK2Y3LL/A","Apple"]
["71953",{"$nulls":3},"Samsung 75' Class CU7000 Crystal UHD 4K Smart Tizen TV UN75CU7000FXZA",null,"In Service","TV",{"$nulls":4},"UN75CU7000FXZA","Samsung"]
["71976",null,"Truman Middle","Data - 307","APC RBC55 BATTERY CARTRIDGE",null,"In Storage","UPS",{"$nulls":4},"RBC55","APC"]
["72010",1353607,"Kennerly Elementary",20,"ELMO TT-12iD Document Camera",null,"In Service","Document Camera",{"$nulls":5},"ELMO"]
["72025","MJHX0DXCRF","Idea Center",null,"Apple iPad 64GB WIFI (9th Gen)",null,"In Service","iPads",{"$nulls":4},"MK2Y3LL/A","Apple"]
["72052","CL9H62X035","Long Elementary",null,"Apple iPad 64GB WIFI (9th Gen)","Mark Schuessler","In Storage","iPads",{"$nulls":4},"MK2Y3LL/A","Apple"]
["72099","332041VAD01644","Crestwood Elementary",23,"IPEVO VZ-R HDMI/USB 8MP Document Camera","Hannah Cordes","In Service","Document Camera",{"$nulls":5},"IPEVO"]
["72114","CZPX4323X004XC28225","Lindbergh High School",7,"PRUSA I3 MK3S+","Robert Droege","In Service","3D Printer",{"$nulls":4},"I3 MK3S+","Prusa"]
["72148","HC62NDFXK","Kennerly Elementary",null,"MacBook Air (M2,2022)","Alexa Adams","In Service","MacBook",{"$nulls":4},"A2681","Apple"]
["72164","PF4HLZPX","Lindbergh High School",32,"Legion T5 26ARA8 Gaming Desktop 16GB RAM - Tower",null,"In Service","Desktops",{"$nulls":4},"90UX000QUS","Lenovo"]
["72225","FFLL20LZMF3M","Sperreng Middle",null,"Apple iPad 32GB WIFI (7th Gen) - WARRANTY",null,"Retired/Surplused","iPads",{"$nulls":4},"MW7L2LL/A","Apple"]
["72241","FFLL4060MF3M","Sperreng Middle",null,"Apple iPad 32GB WIFI (7th Gen) - WARRANTY",null,"Retired/Surplused","iPads",{"$nulls":4},"MW7L2LL/A","Apple"]
["72270","FFLL70J1MF3M","Truman Middle",null,"Apple iPad 32GB WIFI (7th Gen) - WARRANTY",null,"Retired/Surplused","iPads",{"$nulls":4},"NW742LL/A","Apple"]
["72285","3752A04263","Central Office",206,"DisplayLink 4K Plug and Display USB-C Triple 4K HDMI and Displayport Display Docking Station","Michelle McRoy","In Service","Docking Station",{"$nulls":4},"UD-6950PDZ","Plugable"]
["72361","Y23B0P2000340","Lindbergh High School",113,"5-Port Gigabit Desktop PoE+ Switch",null,"In Service","Switch",{"$nulls":5},"TP-Link"]
["72408","2G0YBW1G0Z017C","Lindbergh High School","034A","Quest 3 128GB + Eliete Strap Meta Quest Platform",null,"In Service","VR",{"$nulls":4},"891-01221-01","Quest"]
["72438","F6PM9019MF3M","Truman Middle",null,"Apple iPad 32GB WIFI (7th Gen) - WARRANTY",null,"Retired/Surplused","iPads",{"$nulls":4},"NW742LL/A","Apple"]
["72507","G171040272","Truman Middle",20,"TeachLogic Maxim III",null,"In Storage","Classroom Audio",{"$nulls":4},"IMA-520","TeachLogic"]
["72520","RD0051224","Truman Middle",20,"FrontRow Pro Digital 940R Receiver/Amplifier with 940TM Transmitter/Microphone",null,"In Storage","Classroom Audio",{"$nulls":4},"940R","FrontRow"]
["72541","F6QMJ0MDMF3M","Sperreng Middle",null,"Apple iPad 32GB WIFI (7th Gen) - WARRANTY",null,"Retired/Surplused","iPads",{"$nulls":4},"NW742LL/A","Apple"]
["75618","G42R61XVKJ","Crestwood Elementary","006A","Apple TV 4K WIFI + Ethernet 128GB",null,"In Storage","Apple TVs",{"$nulls":5},"Apple"]
["75655","0GV43CDX602363","Lindbergh High School",31,"Samsung 75' Smart 4K Ultra HD TV",null,"In Storage","TV",{"$nulls":4},"UN75DU7200FXZA","Samsung"]
["75675","2DA12986002","Sperreng Middle","Cafeteria","Shure QLXD4 Digital Wireless Receiver - H50 Band",null,"In Service","Microphone",{"$nulls":4},"QLXD4-H50","Shure"]
["75690","PF50PS9H","Truman Middle","Assistant Principal's Office","Lenovo 500e Yoga Chromebook (Gen 4)",null,"In Service","Chromebooks",{"$nulls":5},"Lenovo"]
["75733","PF50S153","Lindbergh High School",null,"Lenovo 500e Yoga Chromebook (Gen 4)","Max Haegele","In Service","Chromebooks",{"$nulls":5},"Lenovo"]
["75758","GTVGW2MQXP","Idea Center",null,"Apple MacBook Air M3, 8GB, 2565GB SSD (2024)","Laura Macheca","In Service","MacBook",{"$nulls":4},"MRXX3LL/A","Apple"]
["75769","JGFNPJ4DYR","Sperreng Middle",null,"Apple MacBook Air M3, 8GB, 2565GB SSD (2024)","Colleen McCain","In Service","MacBook",{"$nulls":4},"MRXX3LL/A","Apple"]
["75798","LTJ7M23N45","Sperreng Middle",null,"Apple MacBook Air M3, 8GB, 2565GB SSD (2024)","Elizabeth Derickson","In Service","MacBook",{"$nulls":4},"MRXX3LL/A","Apple"]
["75814","J905H2YYT4","Lindbergh High School",null,"Apple MacBook Air M3, 8GB, 2565GB SSD (2024)","Chelsea Silvermintz","In Service","MacBook",{"$nulls":4},"MRXX3LL/A","Apple"]
["75831","LCQFPJ97LP","Technology Storage",null,"Apple MacBook Air M3, 8GB, 2565GB SSD (2024)",null,"In Storage","MacBook",{"$nulls":4},"MRXX3LL/A","Apple"]
["75871","L0Q4YWXDHH","Truman Middle",null,"Apple MacBook Air M3, 8GB, 2565GB SSD (2024)","Alice Lore","In Service","MacBook",{"$nulls":4},"MRXX3LL/A","Apple"]
["75888","C2P0KW2R9D","Truman Middle",null,"Apple MacBook Air M3, 16GB,512GB SSD (2024)-STARLIGHT","Alex Fischer","In Service","MacBook",{"$nulls":4},"MXCY3LL/A","Apple"]
["75905","LQKGG7Q01G","Central Office",null,"Apple MacBook Air M3, 8GB, 2565GB SSD (2024)","Rebecca Haible","In Service","MacBook",{"$nulls":4},"MRXX3LL/A","Apple"]
["75929","PF518949","Lindbergh High School",null,"Lenovo 500e Yoga Chromebook (Gen 4)","Madalyne Schmidt","In Service","Chromebooks",{"$nulls":5},"Lenovo"]
["75962","PF5100YY","Lindbergh High School",null,"Lenovo 500e Yoga Chromebook (Gen 4)","Megan Ramos","In Service","Chromebooks",{"$nulls":5},"Lenovo"]
["75986","PF5138M6","Lindbergh High School",null,"Lenovo 500e Yoga Chromebook (Gen 4)","Minea Karahodzic","In Service","Chromebooks",{"$nulls":5},"Lenovo"]
["75996","PF50P077","Lindbergh High School",null,"Lenovo 500e Yoga Chromebook (Gen 4)","Tessa Hamel","In Service","Chromebooks",{"$nulls":5},"Lenovo"]
["76018","PF50P6ZG","Pending",null,"Lenovo 500e Yoga Chromebook (Gen 4)",null,"In Storage","Chromebooks",{"$nulls":5},"Lenovo"]
["76051","PF51674H","Lindbergh High School",null,"Lenovo 500e Yoga Chromebook (Gen 4)","Alma Garriga","In Service","Chromebooks",{"$nulls":5},"Lenovo"]
["76075","PF518DLS","Lindbergh High School",null,"Lenovo 500e Yoga Chromebook (Gen 4)","Maya Deleon","In Service","Chromebooks",{"$nulls":5},"Lenovo"]
["76108","PF50PFAF","Lindbergh High School",null,"Lenovo 500e Yoga Chromebook (Gen 4)","Emily Ippolito","In Service","Chromebooks",{"$nulls":5},"Lenovo"]
["76120","PF50S1AJ","Lindbergh High School",null,"Lenovo 500e Yoga Chromebook (Gen 4)","Isabella Angelo","In Service","Chromebooks",{"$nulls":5},"Lenovo"]
["76141","PF50ZT8E","Sperreng Middle","Library","Lenovo 500e Yoga Chromebook (Gen 4)",null,"In Service","Chromebooks",{"$nulls":5},"Lenovo"]
["76177","PF50ZTB2","Lindbergh High School",null,"Lenovo 500e Yoga Chromebook (Gen 4)","Justin Stockhausen","In Service","Chromebooks",{"$nulls":5},"Lenovo"]
["76198","PF51N7NX","Lindbergh High School",null,"Lenovo 500e Yoga Chromebook (Gen 4)","Melinda Suljic","In Service","Chromebooks",{"$nulls":5},"Lenovo"]
["76211","PF50SCP6","Lindbergh High School",null,"Lenovo 500e Yoga Chromebook (Gen 4)","Braden Blumenstock","In Service","Chromebooks",{"$nulls":5},"Lenovo"]
["76233","PF50YLME","Lindbergh High School",null,"Lenovo 500e Yoga Chromebook (Gen 4)","Tarik Selimovic","In Service","Chromebooks",{"$nulls":5},"Lenovo"]
["76263","PF50P6YR","Lindbergh High School",null,"Lenovo 500e Yoga Chromebook (Gen 4)","Evan Lorraine","In Service","Chromebooks",{"$nulls":5},"Lenovo"]
["76290","PF50Q9A4","Lindbergh High School",null,"Lenovo 500e Yoga Chromebook (Gen 4)","Samantha Kobe","In Service","Chromebooks",{"$nulls":5},"Lenovo"]
["76320","PF50Q3QX","Lindbergh High School",null,"Lenovo 500e Yoga Chromebook (Gen 4)","Channing Bond","In Service","Chromebooks",{"$nulls":5},"Lenovo"]
["76324","PF50MVZ5","Lindbergh High School",null,"Lenovo 500e Yoga Chromebook (Gen 4)","Sky Leavitt","In Service","Chromebooks",{"$nulls":5},"Lenovo"]
["76361","PF50PHGP","Lindbergh High School",null,"Lenovo 500e Yoga Chromebook (Gen 4)","Beatrice Smith","In Service","Chromebooks",{"$nulls":5},"Lenovo"]
["76381","PF50S3K2","Lindbergh High School",null,"Lenovo 500e Yoga Chromebook (Gen 4)","Sydney Jones","In Service","Chromebooks",{"$nulls":5},"Lenovo"]
["76394","PF517F48","Lindbergh High School",null,"Lenovo 500e Yoga Chromebook (Gen 4)","William Freels","In Service","Chromebooks",{"$nulls":5},"Lenovo"]
["76426","PF51NPXD","Lindbergh High School",null,"Lenovo 500e Yoga Chromebook (Gen 4)","Charlie Phillips","In Service","Chromebooks",{"$nulls":5},"Lenovo"]
["76460","PF50PVJ3","Lindbergh High School",null,"Lenovo 500e Yoga Chromebook (Gen 4)","Kathryn Schultz","In Service","Chromebooks",{"$nulls":5},"Lenovo"]
["76483","PF518JB7","Lindbergh High School",null,"Lenovo 500e Yoga Chromebook (Gen 4)","Ava Bockskopf","In Service","Chromebooks",{"$nulls":5},"Lenovo"]
["76494","PF50ZPTH","Lindbergh High School",null,"Lenovo 500e Yoga Chromebook (Gen 4)","Drew Kreidler","In Service","Chromebooks",{"$nulls":5},"Lenovo"]
["76516","PF50PKS0","Lindbergh High School",null,"Lenovo 500e Yoga Chromebook (Gen 4)","Katherine Vander Tuig","In Service","Chromebooks",{"$nulls":5},"Lenovo"]
["76539","PF50PFCN","Lindbergh High School",null,"Lenovo 500e Yoga Chromebook (Gen 4)","Lara Pimentel","In Service","Chromebooks",{"$nulls":5},"Lenovo"]
["76573","PF50YG33","Lindbergh High School",null,"Lenovo 500e Yoga Chromebook (Gen 4)","Laaibah Sharief","In Service","Chromebooks",{"$nulls":5},"Lenovo"]
["76596","PF50WX3N","Lindbergh High School",null,"Lenovo 500e Yoga Chromebook (Gen 4)","Nicholas Ranciglio","In Service","Chromebooks",{"$nulls":5},"Lenovo"]
["76614","PF51NF8M","Lindbergh High School",null,"Lenovo 500e Yoga Chromebook (Gen 4)","Landon Watts","In Service","Chromebooks",{"$nulls":5},"Lenovo"]
["76630","PF517KR6","Lindbergh High School",null,"Lenovo 500e Yoga Chromebook (Gen 4)","Madeline Stecher","In Service","Chromebooks",{"$nulls":5},"Lenovo"]
["76652","PF517F8V","Lindbergh High School",null,"Lenovo 500e Yoga Chromebook (Gen 4)","Aydin Oechsner","In Service","Chromebooks",{"$nulls":5},"Lenovo"]
["76695","PF51092V","Lindbergh High School",null,"Lenovo 500e Yoga Chromebook (Gen 4)","Jake Etter","In Service","Chromebooks",{"$nulls":5},"Lenovo"]
["76709","PF518J9P","Lindbergh High School",null,"Lenovo 500e Yoga Chromebook (Gen 4)","Nicholas Bocklage","In Service","Chromebooks",{"$nulls":5},"Lenovo"]
["76736","PF50TW1R","Lindbergh High School",null,"Lenovo 500e Yoga Chromebook (Gen 4)","Olivia Hipp","In Service","Chromebooks",{"$nulls":5},"Lenovo"]
["76766","PF50ZT93","Lindbergh High School",null,"Lenovo 500e Yoga Chromebook (Gen 4)",null,"In Service","Chromebooks",{"$nulls":5},"Lenovo"]
["76769","PF510ESP","Lindbergh High School",null,"Lenovo 500e Yoga Chromebook (Gen 4)","Benjamin Gale","In Service","Chromebooks",{"$nulls":5},"Lenovo"]
["76800","PF518LM2","Lindbergh High School",null,"Lenovo 500e Yoga Chromebook (Gen 4)","Leila Thomas","In Service","Chromebooks",{"$nulls":5},"Lenovo"]
["76826","PF50PXT5","Lindbergh High School",null,"Lenovo 500e Yoga Chromebook (Gen 4)","Caroline Vollmann","In Service","Chromebooks",{"$nulls":5},"Lenovo"]
["76845","PF50ZSZ5","Lindbergh High School",null,"Lenovo 500e Yoga Chromebook (Gen 4)","Maxim Bryantsev","In Service","Chromebooks",{"$nulls":5},"Lenovo"]
["76879","PF51NVG2","Lindbergh High School",null,"Lenovo 500e Yoga Chromebook (Gen 4)","Julia Ward","In Service","Chromebooks",{"$nulls":5},"Lenovo"]
["76891","PF51NPWG","Lindbergh High School",null,"Lenovo 500e Yoga Chromebook (Gen 4)","Benjamin Koller","In Service","Chromebooks",{"$nulls":5},"Lenovo"]
["76924","PF50YBNE","Lindbergh High School",null,"Lenovo 500e Yoga Chromebook (Gen 4)","Jacob Henson","In Service","Chromebooks",{"$nulls":5},"Lenovo"]
["76948","PF50PD2G","Lindbergh High School",null,"Lenovo 500e Yoga Chromebook (Gen 4)","Keagan Rueter","In Service","Chromebooks",{"$nulls":5},"Lenovo"]
["76958","PF50TSEE","Lindbergh High School",null,"Lenovo 500e Yoga Chromebook (Gen 4)","Morgan Baker","In Service","Chromebooks",{"$nulls":5},"Lenovo"]
["76981","PF50PQ43","Lindbergh High School",null,"Lenovo 500e Yoga Chromebook (Gen 4)","Joshua Smith","In Service","Chromebooks",{"$nulls":5},"Lenovo"]
["77015","PF50YDTM","Lindbergh High School",null,"Lenovo 500e Yoga Chromebook (Gen 4)","Lillian Yemm","In Service","Chromebooks",{"$nulls":5},"Lenovo"]
["77046","PF50YBNQ","Lindbergh High School",null,"Lenovo 500e Yoga Chromebook (Gen 4)","Sophia Pelizzaro-Miller","In Service","Chromebooks",{"$nulls":5},"Lenovo"]
["77072","PF50Q1HK","Lindbergh High School",null,"Lenovo 500e Yoga Chromebook (Gen 4)","Zayne Williams","In Service","Chromebooks",{"$nulls":5},"Lenovo"]
["77079","PF51N7PX","Lindbergh High School",null,"Lenovo 500e Yoga Chromebook (Gen 4)","Diego Reyes","In Service","Chromebooks",{"$nulls":5},"Lenovo"]
["77117","PF50SEZA","Lindbergh High School",null,"Lenovo 500e Yoga Chromebook (Gen 4)","Melody Crook","In Service","Chromebooks",{"$nulls":5},"Lenovo"]
["77128","PF50QJL6","Lindbergh High School",null,"Lenovo 500e Yoga Chromebook (Gen 4)","Gwyneth Willbanks","In Service","Chromebooks",{"$nulls":5},"Lenovo"]
["77144","PF50YG2B","Lindbergh High School",null,"Lenovo 500e Yoga Chromebook (Gen 4)","Joshua Frantti","In Service","Chromebooks",{"$nulls":5},"Lenovo"]
["77185","PF51623H","Lindbergh High School",null,"Lenovo 500e Yoga Chromebook (Gen 4)","Amina Salihovic","In Service","Chromebooks",{"$nulls":5},"Lenovo"]
["77201","PF50PD27","Kennerly Elementary",null,"Lenovo 500e Yoga Chromebook (Gen 4)",null,"In Service","Chromebooks",{"$nulls":5},"Lenovo"]
["77230","PF50Z3J1","Lindbergh High School",null,"Lenovo 500e Yoga Chromebook (Gen 4)","Reis Ramsey","In Service","Chromebooks",{"$nulls":5},"Lenovo"]
["77258","PF50PF5H","Lindbergh High School",null,"Lenovo 500e Yoga Chromebook (Gen 4)","Natalie Bocquillon","In Service","Chromebooks",{"$nulls":5},"Lenovo"]
["77264","PF5184KW","Lindbergh High School",null,"Lenovo 500e Yoga Chromebook (Gen 4)","Payce Burch-Guthrie","In Service","Chromebooks",{"$nulls":5},"Lenovo"]
["77291","PF517HDD","Lindbergh High School",null,"Lenovo 500e Yoga Chromebook (Gen 4)","Charlie Edwards","In Service","Chromebooks",{"$nulls":5},"Lenovo"]
["77321","PF518DJW","Lindbergh High School",null,"Lenovo 500e Yoga Chromebook (Gen 4)","John Strubhart","In Service","Chromebooks",{"$nulls":5},"Lenovo"]
["77343","PF50PVLP","Lindbergh High School",null,"Lenovo 500e Yoga Chromebook (Gen 4)","Matthew Abeln","In Service","Chromebooks",{"$nulls":5},"Lenovo"]
["77356","PF50WZAG","Lindbergh High School",null,"Lenovo 500e Yoga Chromebook (Gen 4)","Abigail Schneider","In Service","Chromebooks",{"$nulls":5},"Lenovo"]
["77400","PF510SK5","Lindbergh High School",null,"Lenovo 500e Yoga Chromebook (Gen 4)","Dylan Langlois","In Service","Chromebooks",{"$nulls":5},"Lenovo"]
["77421","PF513CRN","Lindbergh High School",null,"Lenovo 500e Yoga Chromebook (Gen 4)","Andrew Michelsen","In Service","Chromebooks",{"$nulls":5},"Lenovo"]
["77434","PF5164YZ","Lindbergh High School",null,"Lenovo 500e Yoga Chromebook (Gen 4)","Kate Otte","In Service","Chromebooks",{"$nulls":5},"Lenovo"]
["77454","PF51096N","Lindbergh High School",null,"Lenovo 500e Yoga Chromebook (Gen 4)","Zoe Clermont","In Service","Chromebooks",{"$nulls":5},"Lenovo"]
["77491","PF50PXTX","Lindbergh High School",null,"Lenovo 500e Yoga Chromebook (Gen 4)",null,"In Storage","Chromebooks",{"$nulls":5},"Lenovo"]
["77511","PF50QLWV","Lindbergh High School",null,"Lenovo 500e Yoga Chromebook (Gen 4)","Connor Haislip","In Service","Chromebooks",{"$nulls":5},"Lenovo"]
["77536","PF518BAM","Lindbergh High School",null,"Lenovo 500e Yoga Chromebook (Gen 4)","Javonte Tiller","In Service","Chromebooks",{"$nulls":5},"Lenovo"]
["77547","PF51NPW3","Lindbergh High School",null,"Lenovo 500e Yoga Chromebook (Gen 4)","Leila Causevic","In Service","Chromebooks",{"$nulls":5},"Lenovo"]
["77576","PF50YG6T","Sappington Elementary",null,"Lenovo 500e Yoga Chromebook (Gen 4)",null,"In Service","Chromebooks",{"$nulls":5},"Lenovo"]
["77604","PF50ZSZD","Lindbergh High School",null,"Lenovo 500e Yoga Chromebook (Gen 4)","Maleka Naqibullah","In Service","Chromebooks",{"$nulls":5},"Lenovo"]
["77633","PF50PF7H","Lindbergh High School",null,"Lenovo 500e Yoga Chromebook (Gen 4)","Charles Phillips","In Service","Chromebooks",{"$nulls":5},"Lenovo"]
["77649","PF50S5QA","Lindbergh High School",null,"Lenovo 500e Yoga Chromebook (Gen 4)","Grayson Joynt","In Service","Chromebooks",{"$nulls":5},"Lenovo"]
["77666","PF50NWMB","Lindbergh High School",null,"Lenovo 500e Yoga Chromebook (Gen 4)","Jessica Wheatley","In Service","Chromebooks",{"$nulls":5},"Lenovo"]
["77683","PF5134SW","Lindbergh High School",null,"Lenovo 500e Yoga Chromebook (Gen 4)","William Turcios","In Service","Chromebooks",{"$nulls":5},"Lenovo"]
["77707","PF50AB5V","Lindbergh High School",null,"Lenovo 500e Yoga Chromebook (Gen 4)","Blake Wolaver","In Service","Chromebooks",{"$nulls":5},"Lenovo"]
["77740","PF50P08T","Dressel Elementary",null,"Lenovo 500e Yoga Chromebook (Gen 4)",null,"In Service","Chromebooks",{"$nulls":5},"Lenovo"]
["77762","PF50SESM","Lindbergh High School",null,"Lenovo 500e Yoga Chromebook (Gen 4)","Peyton Beck","In Service","Chromebooks",{"$nulls":5},"Lenovo"]
["77788","PF50S3D0","Lindbergh High School",null,"Lenovo 500e Yoga Chromebook (Gen 4)","Amalia Kavanaugh","In Service","Chromebooks",{"$nulls":5},"Lenovo"]
["77819","PF51626K","Lindbergh High School",null,"Lenovo 500e Yoga Chromebook (Gen 4)","Rosie Grebe","In Service","Chromebooks",{"$nulls":5},"Lenovo"]
["77829","PF5104HZ","Lindbergh High School",null,"Lenovo 500e Yoga Chromebook (Gen 4)","Olivia Lange","In Service","Chromebooks",{"$nulls":5},"Lenovo"]
["77853","PF517HB8","Lindbergh High School",null,"Lenovo 500e Yoga Chromebook (Gen 4)","Amalia Routt","In Service","Chromebooks",{"$nulls":5},"Lenovo"]
["77886","PF5169BV","Lindbergh High School",null,"Lenovo 500e Yoga Chromebook (Gen 4)","Madison Wallace","In Service","Chromebooks",{"$nulls":5},"Lenovo"]
["77898","PF510S53","Lindbergh High School",null,"Lenovo 500e Yoga Chromebook (Gen 4)","Charles Yong","In Service","Chromebooks",{"$nulls":5},"Lenovo"]
["77919","PF5100YL","Lindbergh High School",null,"Lenovo 500e Yoga Chromebook (Gen 4)","Preston Roberts","In Service","Chromebooks",{"$nulls":5},"Lenovo"]
["77955","PF50P98C","Lindbergh High School",null,"Lenovo 500e Yoga Chromebook (Gen 4)","Aryana Kilian","In Service","Chromebooks",{"$nulls":5},"Lenovo"]
["77966","PF50QLTS","Lindbergh High School",null,"Lenovo 500e Yoga Chromebook (Gen 4)","Khloie Licari","In Service","Chromebooks",{"$nulls":5},"Lenovo"]
["78008","PF50ZQBT","Lindbergh High School",null,"Lenovo 500e Yoga Chromebook (Gen 4)","Lucian Mansell","In Service","Chromebooks",{"$nulls":5},"Lenovo"]
["78011","PF518NQ5","Lindbergh High School",null,"Lenovo 500e Yoga Chromebook (Gen 4)","Nolan Erpelding","In Service","Chromebooks",{"$nulls":5},"Lenovo"]
["78041","PF5134VQ","Lindbergh High School",null,"Lenovo 500e Yoga Chromebook (Gen 4)","Ava Brewer","In Service","Chromebooks",{"$nulls":5},"Lenovo"]
["78068","PF50PSCB","Lindbergh High School",null,"Lenovo 500e Yoga Chromebook (Gen 4)","Sampanna Rijal","In Service","Chromebooks",{"$nulls":5},"Lenovo"]
["78098","PF50Z3JA","Lindbergh High School",null,"Lenovo 500e Yoga Chromebook (Gen 4)","Brylie Hitchcock","In Service","Chromebooks",{"$nulls":5},"Lenovo"]
["78125","PF4WDQV7","Sperreng Middle",217,"Lenovo 500e Yoga Chromebook (Gen 4)",null,"In Service","Chromebooks",{"$nulls":5},"Lenovo"]
["78139","PF4WDQV3","Sperreng Middle",217,"Lenovo 500e Yoga Chromebook (Gen 4)",null,"In Service","Chromebooks",{"$nulls":5},"Lenovo"]
["78159","PF4WDLD7","Truman Middle",132,"Lenovo 500e Yoga Chromebook (Gen 4)",null,"In Service","Chromebooks",{"$nulls":5},"Lenovo"]
["78196","PW0C117N","Lindbergh High School",null,"Lenovo ThinkPad L13 Yoga (Core i7) [Gen 4]","Daniel Murphy","In Service","Laptops",{"$nulls":5},"Lenovo"]
["78204","PW0C1184","Lindbergh High School",null,"Lenovo ThinkPad L13 Yoga (Core i7) [Gen 4]","Jessica Langhammer","In Service","Laptops",{"$nulls":5},"Lenovo"]
["78238","PW0C11D1","Lindbergh High School",null,"Lenovo ThinkPad L13 Yoga (Core i7) [Gen 4]","Scott Luczak","In Service","Laptops",{"$nulls":5},"Lenovo"]
["78261","PW0C11DQ","Lindbergh High School",null,"Lenovo ThinkPad L13 Yoga (Core i7) [Gen 4]","Erin McGrath","In Service","Laptops",{"$nulls":5},"Lenovo"]
["78272","PW0C11CZ","Lindbergh High School",null,"Lenovo ThinkPad L13 Yoga (Core i7) [Gen 4]","Edward Perniciaro","In Service","Laptops",{"$nulls":5},"Lenovo"]
["78294","PW0C118E","Lindbergh High School",null,"Lenovo ThinkPad L13 Yoga (Core i7) [Gen 4]","Alexis Herbig","In Service","Laptops",{"$nulls":5},"Lenovo"]
["78317","PW0C11CQ","Lindbergh High School",null,"Lenovo ThinkPad L13 Yoga (Core i7) [Gen 4]","Sarah Saunders","In Service","Laptops",{"$nulls":5},"Lenovo"]
["78351","PW0C11D8","Lindbergh High School",null,"Lenovo ThinkPad L13 Yoga (Core i7) [Gen 4]","Jason Brown","In Service","Laptops",{"$nulls":5},"Lenovo"]
["78403","T2L95M6HX9","Sperreng Middle",null,"Apple iPad 64GB (10th Gen)","Sadie Dirkers","In Service","iPads",{"$nulls":4},"MPQT3LL/A","Apple"]
["78437","Q36V90MX6R","Sperreng Middle",null,"Apple iPad 64GB (10th Gen)","Benjamin Keusenkothen","In Service","iPads",{"$nulls":4},"MPQT3LL/A","Apple"]
["78460","X2X0GPH370","Sperreng Middle",null,"Apple iPad 64GB (10th Gen)","Emilee Torrie","In Service","iPads",{"$nulls":4},"MPQT3LL/A","Apple"]
["78482","VJ20WR04JK","Truman Middle",null,"Apple iPad 64GB (10th Gen)","Dillan Caito","In Service","iPads",{"$nulls":4},"MPQT3LL/A","Apple"]
["78502","WJH9TXT6WD","Truman Middle",null,"Apple iPad 64GB (10th Gen)","Zoe Demertzis","In Service","iPads",{"$nulls":4},"MPQT3LL/A","Apple"]
["78516","Y3WXCQ692H","Sperreng Middle",null,"Apple iPad 64GB (10th Gen)","Evan Dierkes","In Service","iPads",{"$nulls":4},"MPQT3LL/A","Apple"]
["78543","QX2J956HCW","Sperreng Middle",null,"Apple iPad 64GB (10th Gen)","Alyssa Samuels","In Service","iPads",{"$nulls":4},"MPQT3LL/A","Apple"]
["78573","N1F6LC7N75","Truman Middle",null,"Apple iPad 64GB (10th Gen)","Allison Kemp","In Service","iPads",{"$nulls":4},"MPQT3LL/A","Apple"]
["78600","RL9QGWGK6N","Sperreng Middle",null,"Apple iPad 64GB (10th Gen)","Owen Schlereth","In Service","iPads",{"$nulls":4},"MPQT3LL/A","Apple"]
["78607","XMHC64567G","Truman Middle",null,"Apple iPad 64GB (10th Gen)","Charles Cave","In Service","iPads",{"$nulls":4},"MPQT3LL/A","Apple"]
["78633","WK6GDLW16L","Sperreng Middle",null,"Apple iPad 64GB (10th Gen)","Adam Harbuck","In Service","iPads",{"$nulls":4},"MPQT3LL/A","Apple"]
["78652","F39Q409N4L","Sperreng Middle",null,"Apple iPad 64GB (10th Gen)","Raina Johnson","In Service","iPads",{"$nulls":4},"MPQT3LL/A","Apple"]
["78686","C23C4R925J","Sperreng Middle",null,"Apple iPad 64GB (10th Gen)","Joseph Onder","In Service","iPads",{"$nulls":4},"MPQT3LL/A","Apple"]
["78698","N7WH905NVX","Sperreng Middle",null,"Apple iPad 64GB (10th Gen)","Samantha Lopez","In Service","iPads",{"$nulls":4},"MPQT3LL/A","Apple"]
["78731","Y6PQKM02XW","Sperreng Middle",null,"Apple iPad 64GB (10th Gen)","Lucas Kloster","In Service","iPads",{"$nulls":4},"MPQT3LL/A","Apple"]
["78755","G7674LD4KJ","Truman Middle",null,"Apple iPad 64GB (10th Gen)","Kayla Forbes","In Service","iPads",{"$nulls":4},"MPQT3LL/A","Apple"]
["78788","QWC542132Q","Truman Middle",null,"Apple iPad 64GB (10th Gen)","Harper Greenlee","In Service","iPads",{"$nulls":4},"MPQT3LL/A","Apple"]
["78812","WWCDGM2WKC","Truman Middle",null,"Apple iPad 64GB (10th Gen)","Connor Roewe","In Service","iPads",{"$nulls":4},"MPQT3LL/A","Apple"]
["78822","YD9TGF657N","Truman Middle",null,"Apple iPad 64GB (10th Gen)","Charles Wise","In Service","iPads",{"$nulls":4},"MPQT3LL/A","Apple"]
["78853","CQPH0WGVV1","Truman Middle",null,"Apple iPad 64GB (10th Gen)","Diyari Darweesh","In Service","iPads",{"$nulls":4},"MPQT3LL/A","Apple"]
["78879","L0VX76RQ7W","Truman Middle",null,"Apple iPad 64GB (10th Gen)","Camilla Hippe","In Service","iPads",{"$nulls":4},"MPQT3LL/A","Apple"]
["78901","YM63N407WM","Truman Middle",null,"Apple iPad 64GB (10th Gen)","Ace Horn","In Service","iPads",{"$nulls":4},"MPQT3LL/A","Apple"]
["78910","X452T2F9P9","Sperreng Middle",null,"Apple iPad 64GB (10th Gen)","Wyatt Taylor","In Service","iPads",{"$nulls":4},"MPQT3LL/A","Apple"]
["78935","PXHY66130G","Truman Middle",null,"Apple iPad 64GB (10th Gen)","Avery Wallace","In Service","iPads",{"$nulls":4},"MPQT3LL/A","Apple"]
["78975","YWKN20WC9R","Sperreng Middle",null,"Apple iPad 64GB (10th Gen)","Emma Figueroa-Williams","In Service","iPads",{"$nulls":4},"MPQT3LL/A","Apple"]
["78992","NL9F96099T","Sperreng Middle",null,"Apple iPad 64GB (10th Gen)","Annabella Whitehead","In Service","iPads",{"$nulls":4},"MPQT3LL/A","Apple"]
["79008","GM0W026PW1","Truman Middle",null,"Apple iPad 64GB (10th Gen)","Joseph Ritter","In Service","iPads",{"$nulls":4},"MPQT3LL/A","Apple"]
["79037","QF37D9241W","Truman Middle",null,"Apple iPad 64GB (10th Gen)","Sophia Lawrence","In Service","iPads",{"$nulls":4},"MPQT3LL/A","Apple"]
["79065","X37G7CYWM3","Sperreng Middle",null,"Apple iPad 64GB (10th Gen)","Avery Heath","In Service","iPads",{"$nulls":4},"MPQT3LL/A","Apple"]
["79094","VNY7X7P77G","Sperreng Middle",null,"Apple iPad 64GB (10th Gen)","Austin Simpson","In Service","iPads",{"$nulls":4},"MPQT3LL/A","Apple"]
["79098","NW96H5WT90","Sperreng Middle",null,"Apple iPad 64GB (10th Gen)","Selma Karahodzic","In Service","iPads",{"$nulls":4},"MPQT3LL/A","Apple"]
["79128","C7P719V27K","Truman Middle",null,"Apple iPad 64GB (10th Gen)","Jaxson Kindle","In Service","iPads",{"$nulls":4},"MPQT3LL/A","Apple"]
["79150","W2GQ20VJW6","Truman Middle",null,"Apple iPad 64GB (10th Gen)","Fiona Egizi","In Service","iPads",{"$nulls":4},"MPQT3LL/A","Apple"]
["79187","QKW24CN4T3","Truman Middle",null,"Apple iPad 64GB (10th Gen)","Nathaly Werkmeister","In Service","iPads",{"$nulls":4},"MPQT3LL/A","Apple"]
["79207","NTQ76XPN4W","Truman Middle",null,"Apple iPad 64GB (10th Gen)","Wesley McRae","In Service","iPads",{"$nulls":4},"MPQT3LL/A","Apple"]
["79228","P320D6GYNX","Truman Middle",null,"Apple iPad 64GB (10th Gen)","Sonia Haas","In Service","iPads",{"$nulls":4},"MPQT3LL/A","Apple"]
["79241","QY0K7YJYHK","Truman Middle",null,"Apple iPad 64GB (10th Gen)","Owen Brasher","In Service","iPads",{"$nulls":4},"MPQT3LL/A","Apple"]
["79261","JF6TMWP060","Truman Middle",null,"Apple iPad 64GB (10th Gen)","Mia Zagarri","In Service","iPads",{"$nulls":4},"MPQT3LL/A","Apple"]
["79298","L4PQY4VPFP","Sperreng Middle",null,"Apple iPad 64GB (10th Gen)","Josie Dobbs","In Service","iPads",{"$nulls":4},"MPQT3LL/A","Apple"]
["79318","WNQ9XCX62T","Truman Middle",null,"Apple iPad 64GB (10th Gen)","Orion Penick","In Service","iPads",{"$nulls":4},"MPQT3LL/A","Apple"]
["79343","QCDP90GNFJ","Sperreng Middle",null,"Apple iPad 64GB (10th Gen)","Elise Holdman","In Service","iPads",{"$nulls":4},"MPQT3LL/A","Apple"]
["79354","C9FYW40CP7","Sperreng Middle",null,"Apple iPad 64GB (10th Gen)","Chase Watkins","In Service","iPads",{"$nulls":4},"MPQT3LL/A","Apple"]
["79383","QJNMJYYG3G","Sperreng Middle",null,"Apple iPad 64GB (10th Gen)","Madelynn Birkenmeier","In Service","iPads",{"$nulls":4},"MPQT3LL/A","Apple"]
["79411","NT796GFVPT","Sperreng Middle",null,"Apple iPad 64GB (10th Gen)","Ellee Dobbins","In Service","iPads",{"$nulls":4},"MPQT3LL/A","Apple"]
["79440","V9WWJ0CVJM","Truman Middle",null,"Apple iPad 64GB (10th Gen)","Kailynn Linek","In Service","iPads",{"$nulls":4},"MPQT3LL/A","Apple"]
["79456","D732VQ3N2P","Sperreng Middle",null,"Apple iPad 64GB (10th Gen)","Annabelle Haberberger","In Service","iPads",{"$nulls":4},"MPQT3LL/A","Apple"]
["79473","V9FTQJKTW6","Truman Middle",null,"Apple iPad 64GB (10th Gen)","Lena Uelk","In Service","iPads",{"$nulls":4},"MPQT3LL/A","Apple"]
["79513","V25CVM6YQG","Sperreng Middle",null,"Apple iPad 64GB (10th Gen)","Carson Brockschmidt","In Service","iPads",{"$nulls":4},"MPQT3LL/A","Apple"]
["79538","JF0CWCV5VF","Sperreng Middle",null,"Apple iPad 64GB (10th Gen)","Boston Bailey","In Service","iPads",{"$nulls":4},"MPQT3LL/A","Apple"]
["79547","NVTHGV2LMC","Sperreng Middle",null,"Apple iPad 64GB (10th Gen)","Wyatt Bauman","In Service","iPads",{"$nulls":4},"MPQT3LL/A","Apple"]
["79569","PV4JT62PVX","Sperreng Middle",null,"Apple iPad 64GB (10th Gen)","Jaxson Muraski","In Service","iPads",{"$nulls":4},"MPQT3LL/A","Apple"]
["79595","JPJ4V6M5HQ","Truman Middle",null,"Apple iPad 64GB (10th Gen)","Lily Hendrickson","In Service","iPads",{"$nulls":4},"MPQT3LL/A","Apple"]
["79626","F45CYX90QT","Sperreng Middle",null,"Apple iPad 64GB (10th Gen)","Maggie Murphy","In Service","iPads",{"$nulls":4},"MPQT3LL/A","Apple"]
["79636","F9326MD640","Truman Middle",null,"Apple iPad 64GB (10th Gen)","Charles Lind","In Service","iPads",{"$nulls":4},"MPQT3LL/A","Apple"]
["79660","QVL7VXH4QL","Truman Middle",null,"Apple iPad 64GB (10th Gen)","Eve Kibler","In Service","iPads",{"$nulls":4},"MPQT3LL/A","Apple"]
["79693","X21PXKPDQ9","Sperreng Middle",null,"Apple iPad 64GB (10th Gen)","Marvin Sarmiento","In Service","iPads",{"$nulls":4},"MPQT3LL/A","Apple"]
["79717","M4MD7Q1FK0","Sperreng Middle",null,"Apple iPad 64GB (10th Gen)","Aidan Leahy","In Service","iPads",{"$nulls":4},"MPQT3LL/A","Apple"]
["79750","LNY7XX4694","Sperreng Middle",null,"Apple iPad 64GB (10th Gen)","Zoe Perniciaro","In Service","iPads",{"$nulls":4},"MPQT3LL/A","Apple"]
["79762","HX05VV49XJ","Sperreng Middle",null,"Apple iPad 64GB (10th Gen)","Wynne Brakefield","In Service","iPads",{"$nulls":4},"MPQT3LL/A","Apple"]
["79796","QHCJ470K9M","Truman Middle",null,"Apple iPad 64GB (10th Gen)","Archer Thomas","In Service","iPads",{"$nulls":4},"MPQT3LL/A","Apple"]
["79815","C0H0CV24VR","Sperreng Middle",null,"Apple iPad 64GB (10th Gen)","Mya Suess","In Service","iPads",{"$nulls":4},"MPQT3LL/A","Apple"]
["79841","XCQ03M6FQF","Truman Middle",null,"Apple iPad 64GB (10th Gen)","Markuss Davis","In Service","iPads",{"$nulls":4},"MPQT3LL/A","Apple"]
["79848","HK6GQYX9YQ","Sperreng Middle",null,"Apple iPad 64GB (10th Gen)","Julia Skelton","In Service","iPads",{"$nulls":4},"MPQT3LL/A","Apple"]
["79875","T43YM2MGX1","Sperreng Middle",null,"Apple iPad 64GB (10th Gen)","Simone Smith","In Service","iPads",{"$nulls":4},"MPQT3LL/A","Apple"]
["79905","LP226CQ92H","Truman Middle",null,"Apple iPad 64GB (10th Gen)","Delaney Lutz","In Service","iPads",{"$nulls":4},"MPQT3LL/A","Apple"]
["79932","CMYXW1WLCL","Truman Middle",null,"Apple iPad 64GB (10th Gen)","Cali DeRousse","In Service","iPads",{"$nulls":4},"MPQT3LL/A","Apple"]
["79946","QN32C7TGDG","Sperreng Middle",null,"Apple iPad 64GB (10th Gen)","Megan Campbell","In Service","iPads",{"$nulls":4},"MPQT3LL/A","Apple"]
["79966","YKQ05FP45K","Sperreng Middle",null,"Apple iPad 64GB (10th Gen)","Max Swan","In Service","iPads",{"$nulls":4},"MPQT3LL/A","Apple"]
["79988","Y17D09QC2V","Sperreng Middle",null,"Apple iPad 64GB (10th Gen)","Zoe Roman","In Service","iPads",{"$nulls":4},"MPQT3LL/A","Apple"]
["80011","FCPV4X66HR","Truman Middle",null,"Apple iPad 64GB (10th Gen)","Jaxson Gilbert","In Service","iPads",{"$nulls":4},"MPQT3LL/A","Apple"]
["80045","F4TJFJ47Q0","Sperreng Middle",null,"Apple iPad 64GB (10th Gen)","Graham Brueckmann","In Service","iPads",{"$nulls":4},"MPQT3LL/A","Apple"]
["80068","PTQR2VJ3NC","Truman Middle",null,"Apple iPad 64GB (10th Gen)","Dahmo Malagic","In Service","iPads",{"$nulls":4},"MPQT3LL/A","Apple"]
["80102","D0M435C7RQ","Sperreng Middle",null,"Apple iPad 64GB (10th Gen)","Olivia Birchfield","In Service","iPads",{"$nulls":4},"MPQT3LL/A","Apple"]
["80125","LFWGQ03773","Sperreng Middle",null,"Apple iPad 64GB (10th Gen)","ChloeRenee King-Nash","In Service","iPads",{"$nulls":4},"MPQT3LL/A","Apple"]
["80147","G2744W00LK","Sperreng Middle",null,"Apple iPad 64GB (10th Gen)","Sar Thapa-Magar","In Service","iPads",{"$nulls":4},"MPQT3LL/A","Apple"]
["80278","278TZR2958","Dressel Elementary",null,"Motorola CP100D w/ Screen",null,"In Service","Walkie Talkie",{"$nulls":5},"Motorola"]
["80301","278TAKM910","Kennerly Elementary",null,"Motorola CP100D w/ Screen",null,"In Service","Walkie Talkie",{"$nulls":5},"Motorola"]
["80335","278TAKM711","Long Elementary",null,"Motorola CP100D w/ Screen",null,"In Service","Walkie Talkie",{"$nulls":5},"Motorola"]
["80358","278TAKM467","Sappington Elementary",null,"Motorola CP100D w/ Screen",null,"In Service","Walkie Talkie",{"$nulls":5},"Motorola"]
["80380","278TAKM922","Kennerly Elementary",null,"Motorola CP100D w/ Screen",null,"In Service","Walkie Talkie",{"$nulls":5},"Motorola"]
["80400","278TAFM004","Concord Elementary",null,"Motorola CP100D w/ Screen",null,"In Service","Walkie Talkie",{"$nulls":5},"Motorola"]
["80414","278TAFM216","Dressel Elementary",null,"Motorola CP100D w/ Screen",null,"In Service","Walkie Talkie",{"$nulls":5},"Motorola"]
["80441","278TAFM165","Concord Elementary",null,"Motorola CP100D w/ Screen",null,"In Service","Walkie Talkie",{"$nulls":5},"Motorola"]
["80471","P2663V52RR","Sperreng Middle",null,"Apple iPad 64GB (10th Gen)","Kimberly Onder","In Service","iPads",{"$nulls":4},"MPQT3LL/A","Apple"]
["80498","XJF7L6HH9F","Sperreng Middle",null,"Apple iPad 64GB (10th Gen)","Kelly Rebhan","In Service","iPads",{"$nulls":4},"MPQT3LL/A","Apple"]
["80505","W23P540P9X","Pending",null,"Apple iPad 64GB (10th Gen)",null,"In Storage","iPads",{"$nulls":4},"MPQT3LL/A","Apple"]
["80531","J4L6549M6F","Idea Center",null,"Apple iPad 64GB (10th Gen)","Nicole Gordon","In Service","iPads",{"$nulls":4},"MPQT3LL/A","Apple"]
["80573","G9PXWL4T4D","Pending",null,"Apple iPad 64GB (10th Gen)",null,"In Storage","iPads",{"$nulls":4},"MPQT3LL/A","Apple"]
["80584","LH97C94GHY","Sperreng Middle",null,"Apple iPad 64GB (10th Gen)","Lisa Struckhoff","In Service","iPads",{"$nulls":4},"MPQT3LL/A","Apple"]
["80620","GDHR7TV2W5","Pending",null,"Apple iPad 64GB (10th Gen)",null,"In Storage","iPads",{"$nulls":4},"MPQT3LL/A","Apple"]
["80663","PF50AX2C","Lindbergh High School",null,"Lenovo 500e Yoga Chromebook (Gen 4)","Elliana Huckstep","In Service","Chromebooks",{"$nulls":5},"Lenovo"]
["80675","PF50CFY8","Lindbergh High School",null,"Lenovo 500e Yoga Chromebook (Gen 4)","Molly Shellenbergar","In Service","Chromebooks",{"$nulls":5},"Lenovo"]
["80708","PF50AX2J","Lindbergh High School",null,"Lenovo 500e Yoga Chromebook (Gen 4)","Eleanor Lewis","In Service","Chromebooks",{"$nulls":5},"Lenovo"]
["80732","PF5186SN","Lindbergh High School",null,"Lenovo 500e Yoga Chromebook (Gen 4)","Darriyon Ervin","In Service","Chromebooks",{"$nulls":5},"Lenovo"]
["80742","PF50RWR2","Lindbergh High School",null,"Lenovo 500e Yoga Chromebook (Gen 4)","Mira Wissel","In Service","Chromebooks",{"$nulls":5},"Lenovo"]
["80773","PF50YDVX","Lindbergh High School",null,"Lenovo 500e Yoga Chromebook (Gen 4)","Kinley Lord","In Service","Chromebooks",{"$nulls":5},"Lenovo"]
["80799","PF510JHE","Lindbergh High School",null,"Lenovo 500e Yoga Chromebook (Gen 4)","Rome Crocker","In Service","Chromebooks",{"$nulls":5},"Lenovo"]
["80821","PF50T04C","Lindbergh High School",null,"Lenovo 500e Yoga Chromebook (Gen 4)","Poppy Gardner","In Service","Chromebooks",{"$nulls":5},"Lenovo"]
["80854","PF50SEVP","Lindbergh High School",null,"Lenovo 500e Yoga Chromebook (Gen 4)","Daniel Indelicato","In Service","Chromebooks",{"$nulls":5},"Lenovo"]
["80855","PF50SACP","Lindbergh High School",null,"Lenovo 500e Yoga Chromebook (Gen 4)","Gavin Schaper-Hopkins","In Service","Chromebooks",{"$nulls":5},"Lenovo"]
["80895","S1LMQS013140","Kennerly Elementary","Nurse's Office","23.8 Inch Monitor Full HD VA24DQSB",null,"In Service","Monitor",{"$nulls":4},"VA24DQSB","Asus"]
["80912","JMGD972JXG","Central Office",209,"MacBook Pro 16' Customized w/4Yr AppleCare+ For Schools",null,"In Service","MacBook",{"$nulls":4},"A2991","Apple"]
["80928","J3N46WQXNH","Central Office",null,"TV 4K",null,"In Storage","Projectors",{"$nulls":4},"A2843","Apple"]
["81021","GG7NYPX6Y9","Truman Middle",null,"Apple iPad 64GB (10th Gen)","Rowdy Shea","In Service","iPads",{"$nulls":5},"Apple"]
["DRIVE",{"$nulls":3},"Drive",null,"In Service","Business",{"$nulls":5},"Google"]
["N/A17","AS1519124965","Sappington Elementary","Data - 2nd Floor Elevator Closet","APC SMT2200",null,"In Service","UPS",{"$nulls":4},"SMT2200","APC"]
["PAGES",{"$nulls":3},"Pages",null,"In Service","Business",{"$nulls":5},"Apple"]
["PEN00023","HK8KF4BAGWTJ","Crestwood Elementary",null,"Apple Pencil (1st Generation)","Michael Bowe","In Service","Apple Pencil",{"$nulls":4},"MQLY3AM/A","Apple"]
["PEN00043","HK8KF38XGWTJ",null,null,"Apple Pencil (1st Generation)",null,"In Service","Apple Pencil",{"$nulls":4},"MQLY3AM/A","Apple"]
["S57520","DMPYN1JHJF8J","Pending",null,"Apple iPad 32GB WIFI (6th Gen)",null,"Retired/Surplused","iPads",{"$nulls":4},"MR7F2LL/A","Apple"]
["S57541","R52M30Y84NE","Truman Middle",132,"Samsung Galaxy Tab A (2019)",null,"In Service","Tablet",{"$nulls":4},"SMT710NZSAXAR","Samsung"]
["S57554","DMPYXA29JF8J","Dressel Elementary",null,"Apple iPad 32GB WIFI (6th Gen)",null,"Retired/Surplused","iPads",{"$nulls":4},"PR7F2LL/A","Apple"]
["S57602","R90VLCNE","Lindbergh High School",34,"Lenovo ThinkPad L390 (Core i5-8265U, 8GB, 256GB)",null,"In Service","Laptops",{"$nulls":4},"L390","Lenovo"]
["S57646","R90VLCP6","Truman Middle",132,"Lenovo ThinkPad L390 (Core i5-8265U, 8GB, 256GB)",null,"In Service","Laptops",{"$nulls":4},"L390","Lenovo"]
["S57660","P2035PA7","Pending","Pending Chromebooks","Lenovo 500e Chromebook (Gen 1)",null,"Retired/Surplused","Chromebooks",{"$nulls":5},"Lenovo"]
["S57699",6819410935,"Crestwood Elementary","Library","Honeywell International QuantumT Scanner",null,"In Service","Barcode Scanner",{"$nulls":4},"MK3580","Honeywell"]
["S57840","478IWY0219","Kennerly Elementary","Data - 001","Motorola SLR5700U Digital Repeater UHF, 50 Watt Duplexer",null,"In Service","Two-Way Radio Repeater",{"$nulls":4},"SLR5700U","Motorola"]
["S57841","478IWY0216","Concord Elementary","Data - 004","Motorola SLR5700U Digital Repeater UHF, 50 Watt Duplexer",null,"In Service","Two-Way Radio Repeater",{"$nulls":4},"SLR5700U","Motorola"]
["S57842","478IWY0256","Long Elementary","Data - Upstairs","Motorola SLR5700U Digital Repeater UHF, 50 Watt Duplexer",null,"In Service","Two-Way Radio Repeater",{"$nulls":4},"SLR5700U","Motorola"]
["S57845","478IWY0231","Sappington Elementary","Data - 038 Closet","Motorola SLR5700U Digital Repeater UHF, 50 Watt Duplexer",null,"In Service","Two-Way Radio Repeater",{"$nulls":4},"SLR5700U","Motorola"]
["S57846","478IWY0225","Sperreng Middle","Data - 217A","Motorola SLR5700U Digital Repeater UHF, 50 Watt Duplexer",null,"In Service","Two-Way Radio Repeater",{"$nulls":4},"SLR5700U","Motorola"]
["S57847","478IWY0221","Crestwood Elementary","Data - 002","Motorola SLR5700U Digital Repeater UHF, 50 Watt Duplexer",null,"In Service","Two-Way Radio Repeater",{"$nulls":4},"SLR5700U","Motorola"]
["S57851","867TWR9089","Sperreng Middle","Welcome Center","Motorola XPR3500E",null,"In Service","Walkie Talkie",{"$nulls":4},"XPR3500E","Motorola"]
["S57852","867TWR9086","Concord Elementary","Office","Motorola XPR3500E",null,"In Service","Walkie Talkie",{"$nulls":4},"XPR3500E","Motorola"]
["S57854","F9FDQ971Q1GC","Concord Elementary",null,"Apple iPad 32GB WIFI (8th Gen)",null,"In Service","iPads",{"$nulls":4},"PYL92LL/A","Apple"]
["S57856","F9FDQB9XQ1GC","Dressel Elementary",109,"Apple iPad 32GB WIFI (8th Gen)",null,"In Service","iPads",{"$nulls":4},"PYL92LL/A","Apple"]
["S57857","F9FDQ90FQ1GC","Kennerly Elementary",null,"Apple iPad 32GB WIFI (8th Gen)",null,"In Service","iPads",{"$nulls":4},"PYL92LL/A","Apple"]
["S57858","F9FDQB9LQ1GC","Long Elementary",null,"Apple iPad 32GB WIFI (8th Gen)",null,"In Service","iPads",{"$nulls":4},"PYL92LL/A","Apple"]
["S57859","F9FDQ7WLQ1GC","Sappington Elementary",null,"Apple iPad 32GB WIFI (8th Gen)",null,"In Service","iPads",{"$nulls":4},"PYL92LL/A","Apple"]
["S57861","CZPX2121X004XC83431","Idea Center","IC16","PRUSA I3 MK3S+",null,"In Service","3D Printer",{"$nulls":4},"I3 MK3S+","Prusa"]
["S57862","CZPX2121X004XC83773","Idea Center","IC13","PRUSA I3 MK3S+",null,"In Service","3D Printer",{"$nulls":4},"I3 MK3S+","Prusa"]
["S57880","C0CC009046","Idea Center","IC7 (Reception)","Fujitsu iX1500 ScanSnap Scanner",null,"In Service","Scanner",{"$nulls":4},"iX1500","Fujitsu"]
["S57881","C02FM075MD6W","Central Office",null,"MacBook Pro 16' with Touch Bar, Silver 64GB 2T SSD 4 Year AppleCare +","Bailey Harbit","In Service","MacBook",{"$nulls":4},"Z0Y3002XZ","Apple"]
["S57884","CZPX3121X004XC98908","Crestwood Elementary","Library","PRUSA I3 MK3S+",null,"In Service","3D Printer",{"$nulls":4},"I3 MK3S+","Prusa"]
["S57885","CZPX3821X004XC11331","Sappington Elementary","Library","PRUSA I3 MK3S+",null,"In Service","3D Printer",{"$nulls":4},"I3 MK3S+","Prusa"]
["SAVVASEASYBRIDGE",{"$nulls":3},"Savvas Easybridge",null,"In Service","Learning Applications",{"$nulls":5},"Savvas"]
["SCREENCASTIFY",{"$nulls":3},"Screencastify",null,"In Service","Utility Tools",{"$nulls":5},"Screencastify"]
["SECURLY",{"$nulls":3},"Securly",null,"In Service","Management",{"$nulls":5},"Securly"]
["SEESAW",{"$nulls":3},"Seesaw",null,"In Service","Education / Learning",{"$nulls":5},"Seesaw"]
["SORA",{"$nulls":3},"Sora",null,"In Service","Education / Learning",{"$nulls":5},"Sora"]
["SSD-106879","H97DH89TQ1GC",null,null,"Apple iPad 32GB WIFI (8th Gen)",null,"In Storage","iPads",{"$nulls":4},"MYLU2LL/A","Apple"]
["SSD-106884","H97DH51XQ1GC",null,null,"Apple iPad 32GB WIFI (8th Gen)",null,"In Storage","iPads",{"$nulls":4},"MYLU2LL/A","Apple"]
["SSD-106887","H97DH7J3Q1GC",null,null,"Apple iPad 32GB WIFI (8th Gen)",null,"In Storage","iPads",{"$nulls":4},"MYLU2LL/A","Apple"]
["SSD-91625","MP0931MD","Central Office",null,"Lenovo ThinkPad Yoga 260 (Core i5-6300U, 8GB, 256GB)",null,"Returned to SSD","Laptops",{"$nulls":4},"20DKS1G200","Lenovo"]
["SSD-91630","MP09318N","Central Office",null,"Lenovo ThinkPad Yoga 260 (Core i5-6300U, 8GB, 256GB)",null,"Returned to SSD","Laptops",{"$nulls":4},"20DKS1G200","Lenovo"]
["SSD-91639","MP09317M","Central Office",null,"Lenovo ThinkPad Yoga 260 (Core i5-6300U, 8GB, 256GB)",null,"Returned to SSD","Laptops",{"$nulls":4},"20DKS1G200","Lenovo"]
["SSD-91646","MP0931AZ","Central Office",null,"Lenovo ThinkPad Yoga 260 (Core i5-6300U, 8GB, 256GB)",null,"Returned to SSD","Laptops",{"$nulls":4},"20DKS1G200","Lenovo"]
["SSD-91670","MP0931JC","Central Office",null,"Lenovo ThinkPad Yoga 260 (Core i5-6300U, 8GB, 256GB)",null,"Returned to SSD","Laptops",{"$nulls":4},"20DKS1G200","Lenovo"]
["SSD-91675","MP09317D","Central Office",null,"Lenovo ThinkPad Yoga 260 (Core i5-6300U, 8GB, 256GB)",null,"Returned to SSD","Laptops",{"$nulls":4},"20DKS1G200","Lenovo"]
["SSD-95049","MP14QZF2","Central Office",null,"Lenovo ThinkPad Yoga 260 (Core i5-6300U, 8GB, 256GB)",null,"Returned to SSD","Laptops",{"$nulls":4},"20FD002DUS","Lenovo"]
["SSD-97440","MP14XP8A","Central Office",null,"Lenovo ThinkPad Yoga 260 (Core i5-6300U, 8GB, 256GB)",null,"Returned to SSD","Laptops",{"$nulls":4},"20FD002DUS","Lenovo"]
["SSD-97442","MP14XPKD",null,null,"Lenovo ThinkPad Yoga 260 (Core i5-6300U, 8GB, 256GB)",null,"Retired/Surplused","Laptops",{"$nulls":4},"20FD002DUS","Lenovo"]
["SSD-97443","MP14XP0F","Central Office",null,"Lenovo ThinkPad Yoga 260 (Core i5-6300U, 8GB, 256GB)",null,"Returned to SSD","Laptops",{"$nulls":4},"20FD002DUS","Lenovo"]
["SSD-98238","MP176H4L","Central Office",null,"Lenovo ThinkPad Yoga 260 (Core i5-6300U, 8GB, 256GB)",null,"Returned to SSD","Laptops",{"$nulls":4},"20FD002DUS","Lenovo"]
["SSD-98241","MP176H60","Central Office",null,"Lenovo ThinkPad Yoga 260 (Core i5-6300U, 8GB, 256GB)",null,"Returned to SSD","Laptops",{"$nulls":4},"20FD002DUS","Lenovo"]
["SSD-98251","MP176HV0","Central Office",null,"Lenovo ThinkPad Yoga 260 (Core i5-6300U, 8GB, 256GB)",null,"Returned to SSD","Laptops",{"$nulls":4},"20FD002DUS","Lenovo"]
["SSD-98253","MP176KCX","Central Office",null,"Lenovo ThinkPad Yoga 260 (Core i5-6300U, 8GB, 256GB)",null,"Returned to SSD","Laptops",{"$nulls":4},"20FD002DUS","Lenovo"]
["SSD098034","DLXVLCTMJ262","Lindbergh High School",null,"iPad Pro (12.9-inch) (2nd Gen) (Wifi)","Alexander Bieser","In Service","iPads",{"$nulls":5},"Apple"]
["SSD100573","R90RGWMZ","Central Office",null,"Lenovo ThinkPad L380 Yoga (Core i5-8250U, 8GB, 256GB)",null,"In Service","Laptops",{"$nulls":4},"20M7000MUS","Lenovo"]
["SSD100574","R90RGWN1","Central Office",null,"Lenovo ThinkPad L380 Yoga (Core i5-8250U, 8GB, 256GB)",null,"Retired/Surplused","Laptops",{"$nulls":4},"20M7000MUS","Lenovo"]
["SSD100575","R90RGWMU","Concord Elementary",null,"Lenovo ThinkPad L380 Yoga (Core i5-8250U, 8GB, 256GB)","Molly Adams","In Service","Laptops",{"$nulls":4},"20M7000MUS","Lenovo"]
["SSD100576","R90RGWN2","Central Office",null,"Lenovo ThinkPad L380 Yoga (Core i5-8250U, 8GB, 256GB)",null,"Retired/Surplused","Laptops",{"$nulls":4},"20M7000MUS","Lenovo"]
["SSD100577","R90RGWMY","Central Office",null,"Lenovo ThinkPad L380 Yoga (Core i5-8250U, 8GB, 256GB)",null,"In Service","Laptops",{"$nulls":4},"20M7000MUS","Lenovo"]
["SSD100578","R90RGWN0","Central Office",null,"Lenovo ThinkPad L380 Yoga (Core i5-8250U, 8GB, 256GB)",null,"Retired/Surplused","Laptops",{"$nulls":4},"20M7000MUS","Lenovo"]
["SSD100579","R90RGWMV","Lindbergh High School",null,"Lenovo ThinkPad L380 Yoga (Core i5-8250U, 8GB, 256GB)",null,"In Service","Laptops",{"$nulls":4},"20M7000MUS","Lenovo"]
["SSD100580","R90RGWMT","Central Office",null,"Lenovo ThinkPad L380 Yoga (Core i5-8250U, 8GB, 256GB)",null,"In Service","Laptops",{"$nulls":4},"20M7000MUS","Lenovo"]
["SSD100581","R90RGWN3","Central Office",null,"Lenovo ThinkPad L380 Yoga (Core i5-8250U, 8GB, 256GB)",null,"In Service","Laptops",{"$nulls":4},"20M7000MUS","Lenovo"]
["SSD100582","R90RGWMW","Central Office",null,"Lenovo ThinkPad L380 Yoga (Core i5-8250U, 8GB, 256GB)",null,"In Service","Laptops",{"$nulls":4},"20M7000MUS","Lenovo"]
["SSD100583","R90RGWMX","Central Office",null,"Lenovo ThinkPad L380 Yoga (Core i5-8250U, 8GB, 256GB)",null,"In Storage","Laptops",{"$nulls":4},"20M7000MUS","Lenovo"]
["SSD100876","R90RXSM4","Central Office",null,"Lenovo ThinkPad L380 Yoga (Core i5-8250U, 8GB, 256GB)",null,"In Service","Laptops",{"$nulls":4},"20M7000MUS","Lenovo"]
["SSD100877","R90RXSM7","Central Office",null,"Lenovo ThinkPad L380 Yoga (Core i5-8250U, 8GB, 256GB)",null,"In Service","Laptops",{"$nulls":4},"20M7000MUS","Lenovo"]
["SSD100878","R90RXSM2","Lindbergh High School",null,"Lenovo ThinkPad L380 Yoga (Core i5-8250U, 8GB, 256GB)",null,"In Service","Laptops",{"$nulls":4},"20M7000MUS","Lenovo"]
["SSD105420","R90VVFQT","Concord Elementary",null,"Lenovo ThinkPad L390 (Core i5-8265U, 8GB, 256GB)",null,"In Service","Laptops",{"$nulls":4},"20NT0006US","Lenovo"]
["SSD105421","R90VVFRN","Central Office",null,"Lenovo ThinkPad L390 (Core i5-8265U, 8GB, 256GB)",null,"Retired/Surplused","Laptops",{"$nulls":4},"20NT0006US","Lenovo"]
["SSD105422","R90VVFR2","Dressel Elementary",null,"Lenovo ThinkPad L390 (Core i5-8265U, 8GB, 256GB)",null,"In Service","Laptops",{"$nulls":4},"20NT0006US","Lenovo"]
["SSD105423","R90VVFQY","Central Office",null,"Lenovo ThinkPad L390 (Core i5-8265U, 8GB, 256GB)",null,"Retired/Surplused","Laptops",{"$nulls":4},"20NT0006US","Lenovo"]
["SSD105424","R90VVFRR","Central Office",null,"Lenovo ThinkPad L390 (Core i5-8265U, 8GB, 256GB)",null,"Retired/Surplused","Laptops",{"$nulls":4},"20NT0006US","Lenovo"]
["SSD105425","R90VVFQN","Central Office",null,"Lenovo ThinkPad L390 (Core i5-8265U, 8GB, 256GB)",null,"Retired/Surplused","Laptops",{"$nulls":4},"20NT0006US","Lenovo"]
["SSD105426","R90VS9X8","Central Office",null,"Lenovo ThinkPad L390 (Core i5-8265U, 8GB, 256GB)",null,"Retired/Surplused","Laptops",{"$nulls":4},"20NT0006US","Lenovo"]
["SSD105427","R90VS9XH","Central Office",null,"Lenovo ThinkPad L390 (Core i5-8265U, 8GB, 256GB)",null,"In Service","Laptops",{"$nulls":4},"20NT0006US","Lenovo"]
["SSD105428","R90VS9XC","Central Office",null,"Lenovo ThinkPad L390 (Core i5-8265U, 8GB, 256GB)",null,"Retired/Surplused","Laptops",{"$nulls":4},"20NT0006US","Lenovo"]
["SSD105429","R90VS9XG","Central Office",null,"Lenovo ThinkPad L390 (Core i5-8265U, 8GB, 256GB)",null,"Retired/Surplused","Laptops",{"$nulls":4},"20NT0006US","Lenovo"]
["SSD105430","R90VS9XE","Central Office",null,"Lenovo ThinkPad L390 (Core i5-8265U, 8GB, 256GB)",null,"Retired/Surplused","Laptops",{"$nulls":4},"20NT0006US","Lenovo"]
["SSD105431","R90VS9XK","Central Office",null,"Lenovo ThinkPad L390 (Core i5-8265U, 8GB, 256GB)",null,"Retired/Surplused","Laptops",{"$nulls":4},"20NT0006US","Lenovo"]
["SSD105432","R90VS9XL","Lindbergh High School",null,"Lenovo ThinkPad L390 (Core i5-8265U, 8GB, 256GB)","Suzette Amelung","In Service","Laptops",{"$nulls":4},"20NT0006US","Lenovo"]
["SSD105433","R90VS9WF","Central Office",null,"Lenovo ThinkPad L390 (Core i5-8265U, 8GB, 256GB)",null,"Retired/Surplused","Laptops",{"$nulls":4},"20NT0006US","Lenovo"]
["SSD105434","R90VS9WM","Central Office",null,"Lenovo ThinkPad L390 (Core i5-8265U, 8GB, 256GB)",null,"Retired/Surplused","Laptops",{"$nulls":4},"20NT0006US","Lenovo"]
["SSD105435","R90VQZ16","Lindbergh High School",null,"Lenovo ThinkPad L390 (Core i5-8265U, 8GB, 256GB)",null,"In Service","Laptops",{"$nulls":4},"20NT0006US","Lenovo"]
["SSD105436","R90VS9Y9","Lindbergh High School",null,"Lenovo ThinkPad L390 (Core i5-8265U, 8GB, 256GB)","Victoria CarlsonCasaregola","In Service","Laptops",{"$nulls":4},"20NT0006US","Lenovo"]
["SSD105437","R90VS9WH","Lindbergh High School",null,"Lenovo ThinkPad L390 (Core i5-8265U, 8GB, 256GB)",null,"In Service","Laptops",{"$nulls":4},"20NT0006US","Lenovo"]
["SSD105438","R90VS9WN","Central Office",null,"Lenovo ThinkPad L390 (Core i5-8265U, 8GB, 256GB)",null,"Retired/Surplused","Laptops",{"$nulls":4},"20NT0006US","Lenovo"]
["SSD105439","R90VS9XF","Lindbergh High School",null,"Lenovo ThinkPad L390 (Core i5-8265U, 8GB, 256GB)",null,"In Service","Laptops",{"$nulls":4},"20NT0006US","Lenovo"]
["SSD105440","R90VS9WY","Central Office",null,"Lenovo ThinkPad L390 (Core i5-8265U, 8GB, 256GB)",null,"Retired/Surplused","Laptops",{"$nulls":4},"20NT0006US","Lenovo"]
["SSD105441","R90VS9X4","Lindbergh High School",null,"Lenovo ThinkPad L390 (Core i5-8265U, 8GB, 256GB)",null,"Broken","Laptops",{"$nulls":4},"20NT0006US","Lenovo"]
["SSD105442","R90VS9XA","Dressel Elementary",null,"Lenovo ThinkPad L390 (Core i5-8265U, 8GB, 256GB)",null,"In Service","Laptops",{"$nulls":4},"20NT0006US","Lenovo"]
["SSD105443","R90VS9X0","Lindbergh High School",null,"Lenovo ThinkPad L390 (Core i5-8265U, 8GB, 256GB)",null,"In Service","Laptops",{"$nulls":4},"20NT0006US","Lenovo"]
["SSD105444","R90VS9Y4","Central Office",null,"Lenovo ThinkPad L390 (Core i5-8265U, 8GB, 256GB)",null,"In Service","Laptops",{"$nulls":4},"20NT0006US","Lenovo"]
["SSD105445","R90VS9XQ","Lindbergh High School",null,"Lenovo ThinkPad L390 (Core i5-8265U, 8GB, 256GB)",null,"In Service","Laptops",{"$nulls":4},"20NT0006US","Lenovo"]
["SSD105446","R90VS9WR","Lindbergh High School",null,"Lenovo ThinkPad L390 (Core i5-8265U, 8GB, 256GB)",null,"In Service","Laptops",{"$nulls":4},"20NT0006US","Lenovo"]
["SSD105447","R90VS9WA","Central Office",null,"Lenovo ThinkPad L390 (Core i5-8265U, 8GB, 256GB)",null,"Retired/Surplused","Laptops",{"$nulls":4},"20NT0006US","Lenovo"]
["SSD105448","R90VS9Y1","Central Office",null,"Lenovo ThinkPad L390 (Core i5-8265U, 8GB, 256GB)","Kelly Peters","In Service","Laptops",{"$nulls":4},"20NT0006US","Lenovo"]
["SSD105449","R90VS9X5","Central Office",null,"Lenovo ThinkPad L390 (Core i5-8265U, 8GB, 256GB)",null,"Retired/Surplused","Laptops",{"$nulls":4},"20NT0006US","Lenovo"]
["SSD105450","R90VS9XX","Central Office",null,"Lenovo ThinkPad L390 (Core i5-8265U, 8GB, 256GB)",null,"Retired/Surplused","Laptops",{"$nulls":4},"20NT0006US","Lenovo"]
["SSD105451","R90VS9XJ","Central Office",null,"Lenovo ThinkPad L390 (Core i5-8265U, 8GB, 256GB)",null,"In Service","Laptops",{"$nulls":4},"20NT0006US","Lenovo"]
["SSD105452","R90VS9WC","Central Office",null,"Lenovo ThinkPad L390 (Core i5-8265U, 8GB, 256GB)",null,"In Service","Laptops",{"$nulls":4},"20NT0006US","Lenovo"]
["SSD105453","R90VS9X9","Central Office",null,"Lenovo ThinkPad L390 (Core i5-8265U, 8GB, 256GB)",null,"In Service","Laptops",{"$nulls":4},"20NT0006US","Lenovo"]
["SSD105454","R90VS9Y3","Central Office",null,"Lenovo ThinkPad L390 (Core i5-8265U, 8GB, 256GB)",null,"Retired/Surplused","Laptops",{"$nulls":4},"20NT0006US","Lenovo"]
["SSD105455","R90VS9XV","Central Office",null,"Lenovo ThinkPad L390 (Core i5-8265U, 8GB, 256GB)",null,"In Service","Laptops",{"$nulls":4},"20NT0006US","Lenovo"]
["SSD105456","R90VS9WS","Lindbergh High School",null,"Lenovo ThinkPad L390 (Core i5-8265U, 8GB, 256GB)",null,"In Service","Laptops",{"$nulls":4},"20NT0006US","Lenovo"]
["SSD105457","R90VS9WQ","Truman Middle",null,"Lenovo ThinkPad L390 (Core i5-8265U, 8GB, 256GB)",null,"In Service","Laptops",{"$nulls":4},"20NT0006US","Lenovo"]
["SSD105458","R90VS9XT","Central Office",null,"Lenovo ThinkPad L390 (Core i5-8265U, 8GB, 256GB)",null,"In Service","Laptops",{"$nulls":4},"20NT0006US","Lenovo"]
["SSD105459","R90VS9X7","Central Office",null,"Lenovo ThinkPad L390 (Core i5-8265U, 8GB, 256GB)",null,"Retired/Surplused","Laptops",{"$nulls":4},"20NT0006US","Lenovo"]
["SSD105460","R90VS9XR","Central Office",null,"Lenovo ThinkPad L390 (Core i5-8265U, 8GB, 256GB)",null,"Retired/Surplused","Laptops",{"$nulls":4},"20NT0006US","Lenovo"]
["SSD105461","R90VS9WV","Central Office",null,"Lenovo ThinkPad L390 (Core i5-8265U, 8GB, 256GB)",null,"Retired/Surplused","Laptops",{"$nulls":4},"20NT0006US","Lenovo"]
["SSD105462","R90VS9X1","Central Office",null,"Lenovo ThinkPad L390 (Core i5-8265U, 8GB, 256GB)",null,"Retired/Surplused","Laptops",{"$nulls":4},"20NT0006US","Lenovo"]
["SSD105463","R90VS9X6","Central Office",null,"Lenovo ThinkPad L390 (Core i5-8265U, 8GB, 256GB)",null,"Retired/Surplused","Laptops",{"$nulls":4},"20NT0006US","Lenovo"]
["SSD105464","R90VS9WT","Lindbergh High School",null,"Lenovo ThinkPad L390 (Core i5-8265U, 8GB, 256GB)",null,"In Service","Laptops",{"$nulls":4},"20NT0006US","Lenovo"]
["SSD105465","R90VS9XS","Central Office",null,"Lenovo ThinkPad L390 (Core i5-8265U, 8GB, 256GB)",null,"In Service","Laptops",{"$nulls":4},"20NT0006US","Lenovo"]
["SSD105466","R90VS9WW","Central Office",null,"Lenovo ThinkPad L390 (Core i5-8265U, 8GB, 256GB)",null,"In Service","Laptops",{"$nulls":4},"20NT0006US","Lenovo"]
["SSD105467","R90VS9Y2","Central Office",null,"Lenovo ThinkPad L390 (Core i5-8265U, 8GB, 256GB)",null,"In Service","Laptops",{"$nulls":4},"20NT0006US","Lenovo"]
["SSD105468","R90VS9XW","Central Office",null,"Lenovo ThinkPad L390 (Core i5-8265U, 8GB, 256GB)",null,"Retired/Surplused","Laptops",{"$nulls":4},"20NT0006US","Lenovo"]
["SSD105469","R90VS9X3","Central Office",null,"Lenovo ThinkPad L390 (Core i5-8265U, 8GB, 256GB)",null,"Retired/Surplused","Laptops",{"$nulls":4},"20NT0006US","Lenovo"]
["SSD105470","R90VS9WX","Central Office",null,"Lenovo ThinkPad L390 (Core i5-8265U, 8GB, 256GB)",null,"In Service","Laptops",{"$nulls":4},"20NT0006US","Lenovo"]
["SSD105471","R90VS9WB","Central Office",null,"Lenovo ThinkPad L390 (Core i5-8265U, 8GB, 256GB)",null,"In Service","Laptops",{"$nulls":4},"20NT0006US","Lenovo"]
["SSD105472","R90VS9WE","Central Office",null,"Lenovo ThinkPad L390 (Core i5-8265U, 8GB, 256GB)",null,"In Service","Laptops",{"$nulls":4},"20NT0006US","Lenovo"]
["SSD105473","R90VS9XZ","Central Office",null,"Lenovo ThinkPad L390 (Core i5-8265U, 8GB, 256GB)",null,"In Service","Laptops",{"$nulls":4},"20NT0006US","Lenovo"]
["SSD105474","R90VS9WJ","Lindbergh High School",null,"Lenovo ThinkPad L390 (Core i5-8265U, 8GB, 256GB)",null,"In Service","Laptops",{"$nulls":4},"20NT0006US","Lenovo"]
["SSD105475","R90VS9Y8","Truman Middle",null,"Lenovo ThinkPad L390 (Core i5-8265U, 8GB, 256GB)",null,"Retired/Surplused","Laptops",{"$nulls":4},"20NT0006US","Lenovo"]
["SSD105476","R90VS9Y6","Central Office",null,"Lenovo ThinkPad L390 (Core i5-8265U, 8GB, 256GB)",null,"In Service","Laptops",{"$nulls":4},"20NT0006US","Lenovo"]
["SSD105477","R90VS9XB","Central Office",null,"Lenovo ThinkPad L390 (Core i5-8265U, 8GB, 256GB)",null,"Retired/Surplused","Laptops",{"$nulls":4},"20NT0006US","Lenovo"]
["SSD105714","R90VS9WK","Central Office",null,"Lenovo ThinkPad L380 Yoga (Core i5-8250U, 8GB, 256GB)",null,"In Storage","Laptops",{"$nulls":4},"20M7000MUS","Lenovo"]
["SSD105715","R90VS9WL","Central Office",null,"Lenovo ThinkPad L380 Yoga (Core i5-8250U, 8GB, 256GB)",null,"In Service","Laptops",{"$nulls":4},"20M7000MUS","Lenovo"]
["SSD105716","R90VS9WG","Central Office",null,"Lenovo ThinkPad L380 Yoga (Core i5-8250U, 8GB, 256GB)",null,"In Service","Laptops",{"$nulls":4},"20M7000MUS","Lenovo"]
["SSD105717","R90VS9X2","Central Office",null,"Lenovo ThinkPad L380 Yoga (Core i5-8250U, 8GB, 256GB)",null,"Retired/Surplused","Laptops",{"$nulls":4},"20M7000MUS","Lenovo"]
["SSD105718","R90VS9Y5","Central Office",null,"Lenovo ThinkPad L380 Yoga (Core i5-8250U, 8GB, 256GB)",null,"In Service","Laptops",{"$nulls":4},"20M7000MUS","Lenovo"]
["SSD105719","R90VS9Y0","Central Office",null,"Lenovo ThinkPad L380 Yoga (Core i5-8250U, 8GB, 256GB)",null,"In Service","Laptops",{"$nulls":4},"20M7000MUS","Lenovo"]
["SSD106852","FVFD337MQ0WM","Sperreng Middle",null,"Apple MacBook Air Intel Core i3, 8GB, 128GB SSD (2020)",null,"Returned to SSD","MacBook",{"$nulls":4},"MYY82LL/A","Apple"]
["SSD106853","FVFD33PPQ0WM","Kennerly Elementary",null,"Apple MacBook Air Intel Core i3, 8GB, 128GB SSD (2020)",null,"Returned to SSD","MacBook",{"$nulls":4},"MYY82LL/A","Apple"]
["SSD106854","FVFD33GTQ0WM","Sperreng Middle",null,"Apple MacBook Air Intel Core i3, 8GB, 128GB SSD (2020)",null,"Returned to SSD","MacBook",{"$nulls":4},"MYY82LL/A","Apple"]
["SSD106855","FVFD33MNQ0WM","Central Office",null,"Apple MacBook Air Intel Core i3, 8GB, 128GB SSD (2020)",null,"Returned to SSD","MacBook",{"$nulls":4},"MYY82LL/A","Apple"]
["SSD106856","FVFD314PQ0WM","Sperreng Middle",null,"Apple MacBook Air Intel Core i3, 8GB, 128GB SSD (2020)",null,"Returned to SSD","MacBook",{"$nulls":4},"MYY82LL/A","Apple"]
["SSD106857","FVFD33ANQ0WM","Sperreng Middle",null,"Apple MacBook Air Intel Core i3, 8GB, 128GB SSD (2020)",null,"Returned to SSD","MacBook",{"$nulls":4},"MYY82LL/A","Apple"]
["SSD106858","FVFD33E2Q0WM","Sperreng Middle",null,"Apple MacBook Air Intel Core i3, 8GB, 128GB SSD (2020)",null,"Returned to SSD","MacBook",{"$nulls":4},"MYY82LL/A","Apple"]
["SSD106859","FVFD33BHQ0WM","Kennerly Elementary",null,"Apple MacBook Air Intel Core i3, 8GB, 128GB SSD (2020)","Nick Wurthmann","In Service","MacBook",{"$nulls":4},"MYY82LL/A","Apple"]
["SSD106860","FVFD33JHQ0WM","Sperreng Middle",null,"Apple MacBook Air Intel Core i3, 8GB, 128GB SSD (2020)",null,"Returned to SSD","MacBook",{"$nulls":4},"MYY82LL/A","Apple"]
["SSD106861","FVFD32ZBQ0WM","Crestwood Elementary",null,"Apple MacBook Air Intel Core i3, 8GB, 128GB SSD (2020)","Kristen Kapodistrias","In Service","MacBook",{"$nulls":4},"MYY82LL/A","Apple"]
["SSD106862","FVFD33T9Q0WM","Truman Middle",null,"Apple MacBook Air Intel Core i3, 8GB, 128GB SSD (2020)",null,"Returned to SSD","MacBook",{"$nulls":4},"MYY82LL/A","Apple"]
["SSD106867","FVFD33UHQ0WM","Truman Middle",null,"Apple MacBook Air Intel Core i3, 8GB, 128GB SSD (2020)",null,"Returned to SSD","MacBook",{"$nulls":4},"MYY82LL/A","Apple"]
["SSD106868","FVFD33XDQ0WM","Kennerly Elementary",null,"Apple MacBook Air Intel Core i3, 8GB, 128GB SSD (2020)","Julie Simokaitis","In Service","MacBook",{"$nulls":4},"MYY82LL/A","Apple"]
["SSD106869","FVFD33W5Q0WM","Truman Middle",null,"Apple MacBook Air Intel Core i3, 8GB, 128GB SSD (2020)",null,"Returned to SSD","MacBook",{"$nulls":4},"MYY82LL/A","Apple"]
["SSD106870","FVFD33SSQ0WM","Sperreng Middle",null,"Apple MacBook Air Intel Core i3, 8GB, 128GB SSD (2020)",null,"Returned to SSD","MacBook",{"$nulls":4},"MYY82LL/A","Apple"]
["SSD106871","FVFD34GZQ0WM","Kennerly Elementary",null,"Apple MacBook Air Intel Core i3, 8GB, 128GB SSD (2020)","Maggie Harmon","In Service","MacBook",{"$nulls":4},"MYY82LL/A","Apple"]
["SSD106872","H97DH1LGQ1GC","Central Office",null,"Apple iPad 32GB WIFI (8th Gen)",null,"Returned to SSD","iPads",{"$nulls":4},"MYLU2LL/A","Apple"]
["SSD106873","H97DH9P3Q1GC","Truman Middle",null,"Apple iPad 32GB WIFI (8th Gen)",null,"Returned to SSD","iPads",{"$nulls":4},"MYLU2LL/A","Apple"]
["SSD106874","H97DH5S0Q1GC","Kennerly Elementary",null,"Apple iPad 32GB WIFI (8th Gen)","Julie Simokaitis","In Service","iPads",{"$nulls":4},"MYLU2LL/A","Apple"]
["SSD106875","H97DH69ZQ1GC","Truman Middle",null,"Apple iPad 32GB WIFI (8th Gen)",null,"Returned to SSD","iPads",{"$nulls":4},"MYLU2LL/A","Apple"]
["SSD106876","H97DHBMNQ1GC","Truman Middle",null,"Apple iPad 32GB WIFI (8th Gen)",null,"Returned to SSD","iPads",{"$nulls":4},"MYLU2LL/A","Apple"]
["SSD106877","H97DHA9GQ1GC","Truman Middle",null,"Apple iPad 32GB WIFI (8th Gen)",null,"Returned to SSD","iPads",{"$nulls":4},"MYLU2LL/A","Apple"]
["SSD106878","H97DH9UTQ1GC","Truman Middle",null,"Apple iPad 32GB WIFI (8th Gen)",null,"Returned to SSD","iPads",{"$nulls":4},"MYLU2LL/A","Apple"]
["SSD106880","H97DH7DVQ1GC","Truman Middle",null,"Apple iPad 32GB WIFI (8th Gen)",null,"Returned to SSD","iPads",{"$nulls":4},"MYLU2LL/A","Apple"]
["SSD106881","H97DH786Q1GC","Pending",null,"Apple iPad 32GB WIFI (8th Gen)",null,"Returned to SSD","iPads",{"$nulls":4},"MYLU2LL/A","Apple"]
["SSD106882","H97DH7LFQ1GC","Sperreng Middle",null,"Apple iPad 32GB WIFI (8th Gen)",null,"Returned to SSD","iPads",{"$nulls":4},"MYLU2LL/A","Apple"]
["SSD106883","H99DGVYQQ1GC","Sperreng Middle",null,"Apple iPad 32GB WIFI (8th Gen)",null,"Returned to SSD","iPads",{"$nulls":4},"MYLU2LL/A","Apple"]
["SSD106885","H97DH8UFQ1GC","Sperreng Middle",null,"Apple iPad 32GB WIFI (8th Gen)",null,"Returned to SSD","iPads",{"$nulls":4},"MYLU2LL/A","Apple"]
["SSD106886","H97DH90YQ1GC","Sperreng Middle",null,"Apple iPad 32GB WIFI (8th Gen)",null,"Returned to SSD","iPads",{"$nulls":4},"MYLU2LL/A","Apple"]
["SSD106888","H97DH798Q1GC","Sperreng Middle",null,"Apple iPad 32GB WIFI (8th Gen)",null,"Returned to SSD","iPads",{"$nulls":4},"MYLU2LL/A","Apple"]
["SSD106889","H97DH8P2Q1GC","Sperreng Middle",null,"Apple iPad 32GB WIFI (8th Gen)",null,"Returned to SSD","iPads",{"$nulls":4},"MYLU2LL/A","Apple"]
["SSD106890","H97DH283Q1GC","Kennerly Elementary",null,"Apple iPad 32GB WIFI (8th Gen)","Maggie Harmon","In Service","iPads",{"$nulls":4},"MYLU2LL/A","Apple"]
["SSD106891","H97DH2DWQ1GC","Sperreng Middle",null,"Apple iPad 32GB WIFI (8th Gen)",null,"Returned to SSD","iPads",{"$nulls":4},"MYLU2LL/A","Apple"]
["SSD112053","FVFG33M4Q6L3","Lindbergh High School",null,"Apple MacBook Air M1, 8GB, 128GB SSD (2020)","Brigid Scherer","In Service","MacBook",{"$nulls":4},"MGNF3LL/A","Apple"]
["SSD112054","FVFG33AUQ6L3","Long Elementary",null,"Apple MacBook Air M1, 8GB, 128GB SSD (2020)","Carolyn Hopfinger","In Service","MacBook",{"$nulls":4},"MGNF3LL/A","Apple"]
["SSD112055","FVFG33QRQ6L3","Central Office",null,"Apple MacBook Air M1, 8GB, 128GB SSD (2020)",null,"In Service","MacBook",{"$nulls":4},"MGNF3LL/A","Apple"]
["SSD112056","FVFG33G1Q6L3","Crestwood Elementary",null,"Apple MacBook Air M1, 8GB, 128GB SSD (2020)",null,"Broken","MacBook",{"$nulls":4},"MGNF3LL/A","Apple"]
["SSD112057","FVFG33PBQ6L3","Concord Elementary",null,"Apple MacBook Air M1, 8GB, 128GB SSD (2020)","Joseph Schmitt","In Service","MacBook",{"$nulls":4},"MGNF3LL/A","Apple"]
["SSD112058","FVFG32ELQ6L3","Dressel Elementary",null,"Apple MacBook Air M1, 8GB, 128GB SSD (2020)","Susan McGlade","In Service","MacBook",{"$nulls":4},"MGNF3LL/A","Apple"]
["SSD112059","FVFG32EAQ6L3","Sappington Elementary",null,"Apple MacBook Air M1, 8GB, 128GB SSD (2020)","Stephanie Harrigan","In Service","MacBook",{"$nulls":4},"MGNF3LL/A","Apple"]
["SSD112060","FVFG32J0Q6L3","Sappington Elementary",null,"Apple MacBook Air M1, 8GB, 128GB SSD (2020)","Jacquelyn Kruse","In Service","MacBook",{"$nulls":4},"MGNF3LL/A","Apple"]
["SSD112061","FVFG32L0Q6L3","Long Elementary",null,"Apple MacBook Air M1, 8GB, 128GB SSD (2020)","Cole Kempfer","In Service","MacBook",{"$nulls":4},"MGNF3LL/A","Apple"]
["SSD112062","FVFG32C4Q6L3","Concord Elementary",null,"Apple MacBook Air M1, 8GB, 128GB SSD (2020)",null,"In Service","MacBook",{"$nulls":4},"MGNF3LL/A","Apple"]
["SSD112063","FVFG32NWQ6L3","Lindbergh High School","034A","Apple MacBook Air M1, 8GB, 128GB SSD (2020)",null,"Broken","MacBook",{"$nulls":4},"MGNF3LL/A","Apple"]
["SSD112064","FVFG32TTQ6L3","Dressel Elementary",null,"Apple MacBook Air M1, 8GB, 128GB SSD (2020)","Walter Hilgendorf","In Service","MacBook",{"$nulls":4},"MGNF3LL/A","Apple"]
["SSD112065","FVFG32M2Q6L3","ECE Main",null,"Apple MacBook Air M1, 8GB, 128GB SSD (2020)","Sarah Nolan","In Service","MacBook",{"$nulls":4},"MGNF3LL/A","Apple"]
["SSD112066","FVFG32XGQ6L3","Sperreng Middle",null,"Apple MacBook Air M1, 8GB, 128GB SSD (2020)","Eleanore Schebek","In Service","MacBook",{"$nulls":4},"MGNF3LL/A","Apple"]
["SSD112067","FVFG32WXQ6L3","Sperreng Middle",null,"Apple MacBook Air M1, 8GB, 128GB SSD (2020)",null,"In Service","MacBook",{"$nulls":4},"MGNF3LL/A","Apple"]
["SSD112068","C02G404UQ6L3","Concord Elementary",null,"Apple MacBook Air M1, 8GB, 128GB SSD (2020)","Elizabeth Matarazzi","In Service","MacBook",{"$nulls":4},"MGN53LL/A","Apple"]
["SSD112069","F9FFWL0QQ1GC","Pending",null,"Apple iPad 32GB WIFI (8th Gen)",null,"Returned to SSD","iPads",{"$nulls":4},"MYLU2LL/A","Apple"]
["SSD112070","F9FFWVHFQ1GC","Concord Elementary",null,"Apple iPad 32GB WIFI (8th Gen)",null,"Returned to SSD","iPads",{"$nulls":4},"MYLU2LL/A","Apple"]
["SSD112071","F9FFWULWQ1GC","Central Office",null,"Apple iPad 32GB WIFI (8th Gen)",null,"Returned to SSD","iPads",{"$nulls":4},"MYLU2LL/A","Apple"]
["SSD112072","F9FFWL6QQ1GC","Long Elementary",null,"Apple iPad 32GB WIFI (8th Gen)","Jessica Comegys","In Service","iPads",{"$nulls":4},"MYLU2LL/A","Apple"]
["SSD112073","F9FFWUPNQ1GC","Concord Elementary",null,"Apple iPad 32GB WIFI (8th Gen)","Sarah Schweppe","In Service","iPads",{"$nulls":4},"MYLU2LL/A","Apple"]
["SSD112074","F9FFWUMGQ1GC","Dressel Elementary",null,"Apple iPad 32GB WIFI (8th Gen)","Susan McGlade","In Service","iPads",{"$nulls":4},"MYLU2LL/A","Apple"]
["SSD112075","F9FFWK7HQ1GC","Sappington Elementary",null,"Apple iPad 32GB WIFI (8th Gen)",null,"Returned to SSD","iPads",{"$nulls":4},"MYLU2LL/A","Apple"]
["SSD112076","F9FFWUYWQ1GC","Sappington Elementary",null,"Apple iPad 32GB WIFI (8th Gen)","Jacquelyn Kruse","In Service","iPads",{"$nulls":4},"MYLU2LL/A","Apple"]
["SSD112077","F9FFWZMNQ1GC","ECE Main",null,"Apple iPad 32GB WIFI (8th Gen)","Elizabeth Fleming","In Service","iPads",{"$nulls":4},"MYLU2LL/A","Apple"]
["SSD112078","F9FFWX4VQ1GC","Concord Elementary",null,"Apple iPad 32GB WIFI (8th Gen)",null,"Returned to SSD","iPads",{"$nulls":4},"MYLU2LL/A","Apple"]
["SSD112079","F9FG81L7Q1GC","Central Office",null,"Apple iPad 32GB WIFI (8th Gen)",null,"Returned to SSD","iPads",{"$nulls":4},"MYL92LL/A","Apple"]
["SSD112080","F9FG854WQ1GC","Concord Elementary",null,"Apple iPad 32GB WIFI (8th Gen)",null,"Returned to SSD","iPads",{"$nulls":4},"MYL92LL/A","Apple"]
["SSD112082","F9FG81M0Q1GC","Sperreng Middle",null,"Apple iPad 32GB WIFI (8th Gen)","Brittany Zimpfer","In Service","iPads",{"$nulls":4},"MYL92LL/A","Apple"]
["SSD112083","F9FG81P9Q1GC","Kennerly Elementary",null,"Apple iPad 32GB WIFI (8th Gen)","Amanda Washington","In Service","iPads",{"$nulls":4},"MYL92LL/A","Apple"]
["SSD112084","DMPG4WXMQ1GC","Pending",null,"Apple iPad 32GB WIFI (8th Gen)",null,"Returned to SSD","iPads",{"$nulls":4},"MYL92LL/A","Apple"]
["SSD115425","VQ26460G7D","Lindbergh High School",null,"iPad Pro 12.9 inch 5th Gen","Sofia Vitale","In Service","iPads",{"$nulls":5},"Apple"]
["SSD116950","C02J824VQ6L4","Crestwood Elementary",null,"Apple MacBook Air M1, 8GB, 128GB SSD (2020)","Amy Hooper","In Service","MacBook",{"$nulls":4},"MGNF3LL/A","Apple"]
["SSD116951","C02J816RQ6L4","Sperreng Middle",null,"Apple MacBook Air M1, 8GB, 128GB SSD (2020)",null,"In Service","MacBook",{"$nulls":4},"MGNF3LL/A","Apple"]
["SSD116952","C02J813AQ6L4","Crestwood Elementary",null,"Apple MacBook Air M1, 8GB, 128GB SSD (2020)","Kelley Kamp","In Service","MacBook",{"$nulls":4},"MGNF3LL/A","Apple"]
["SSD116953","C02J81E8Q6L4","Dressel Elementary",null,"Apple MacBook Air M1, 8GB, 128GB SSD (2020)","Natasha Mallory","In Service","MacBook",{"$nulls":4},"MGNF3LL/A","Apple"]
["SSD116954","C02J81DJQ6L4","ECE Main",null,"MacBook Air M1 (2020)  8GB 256 SSD","Anna Vazquez","In Service","MacBook",{"$nulls":5},"Apple"]
["SSD116956","C02J821CQ6L4","Dressel Elementary",null,"Apple MacBook Air M1, 8GB, 128GB SSD (2020)","Caroline Haffner","In Service","MacBook",{"$nulls":4},"MGNF3LL/A","Apple"]
["SSD116957","C02J815GQ6L4","Crestwood Elementary",null,"Apple MacBook Air M1, 8GB, 128GB SSD (2020)","Virginia Uding","In Service","MacBook",{"$nulls":4},"MGNF3LL/A","Apple"]
["SSD116958","C02J82D9Q6L4","Sappington Elementary",null,"Apple MacBook Air M1, 8GB, 128GB SSD (2020)","Jolee Starkey","In Service","MacBook",{"$nulls":4},"MGNF3LL/A","Apple"]
["SSD116959","C02J8285Q6L4","Concord Elementary",null,"Apple MacBook Air M1, 8GB, 128GB SSD (2020)","Stacey Szydlowski","In Service","MacBook",{"$nulls":4},"MGNF3LL/A","Apple"]
["SSD116960","C02J82B0Q6L4","Central Office",null,"Apple MacBook Air M1, 8GB, 128GB SSD (2020)",null,"In Service","MacBook",{"$nulls":4},"MGNF3LL/A","Apple"]
["SSD116961","C02J80ZSQ6L4","Crestwood Elementary",null,"Apple MacBook Air M1, 8GB, 128GB SSD (2020)","Cindy Stockman","In Service","MacBook",{"$nulls":4},"MGNF3LL/A","Apple"]
["SSD116962","C02J815QQ6L4","Dressel Elementary",null,"Apple MacBook Air M1, 8GB, 128GB SSD (2020)","Kimberly Rappold","In Service","MacBook",{"$nulls":4},"MGNF3LL/A","Apple"]
["SSD116963","C02J8162Q6L4","Concord Elementary",null,"Apple MacBook Air M1, 8GB, 128GB SSD (2020)","Sarah Middleton","In Service","MacBook",{"$nulls":4},"MGNF3LL/A","Apple"]
["SSD116964","QWRL6XWWCT","Crestwood Elementary",null,"Apple iPad 64GB WIFI (9th Gen)","Amy Hooper","In Service","iPads",{"$nulls":4},"MK2K3LL/A","Apple"]
["SSD116965","YJ5454H30M","Central Office",null,"Apple iPad 64GB WIFI (9th Gen)","Kristina Berra","In Service","iPads",{"$nulls":4},"MK2K3LL/A","Apple"]
["SSD116966","T7LN44J2WY","Concord Elementary",null,"Apple iPad 64GB WIFI (9th Gen)","Sarah Middleton","In Service","iPads",{"$nulls":4},"MK2K3LL/A","Apple"]
["SSD116967","H9JQG0VHKX","Dressel Elementary",null,"Apple iPad 64GB WIFI (9th Gen)","Natasha Mallory","In Service","iPads",{"$nulls":4},"MK2K3LL/A","Apple"]
["SSD116968","QN0X3Q22L1","ECE Main",null,"Apple iPad 64GB WIFI (9th Gen)","Sarah Nolan","In Service","iPads",{"$nulls":4},"MK2K3LL/A","Apple"]
["SSD116969","QY2RQVVXMD","Concord Elementary",null,"Apple iPad 64GB WIFI (9th Gen)","Mallory Kettinger","In Service","iPads",{"$nulls":4},"MK2K3LL/A","Apple"]
["SSD116970","TP7JQMKGCL","Dressel Elementary",null,"Apple iPad 64GB WIFI (9th Gen)","Caroline Haffner","In Service","iPads",{"$nulls":4},"MK2K3LL/A","Apple"]
["SSD116971","QR494VFHKL","Crestwood Elementary",null,"Apple iPad 64GB WIFI (9th Gen)","Gretchen Kroll","In Service","iPads",{"$nulls":4},"MK2K3LL/A","Apple"]
["SSD116972","MP2F9CVF37","Sappington Elementary",null,"Apple iPad 64GB WIFI (9th Gen)","Jolee Starkey","In Service","iPads",{"$nulls":4},"MK2K3LL/A","Apple"]
["SSD116973","CWWV3X1XKM","Crestwood Elementary",null,"Apple iPad 64GB WIFI (9th Gen)","Julie Reavis","In Service","iPads",{"$nulls":4},"MK2K3LL/A","Apple"]
["SSD116974","F360DQ0QLM","Crestwood Elementary",null,"Apple iPad 64GB WIFI (9th Gen)","Kristen Kapodistrias","In Service","iPads",{"$nulls":4},"MK2K3LL/A","Apple"]
["SSD116975","D4MYFGKX6Y","Central Office",null,"Apple iPad 64GB WIFI (9th Gen)","Faith Rose","In Service","iPads",{"$nulls":4},"MK2K3LL/A","Apple"]
["SSD116976","TN90YH3H9X","Dressel Elementary",null,"Apple iPad 64GB WIFI (9th Gen)","Kimberly Rappold","In Service","iPads",{"$nulls":4},"MK2K3LL/A","Apple"]
["SSD116977","LY7N77YDJY","Kennerly Elementary",null,"Apple iPad 64GB WIFI (9th Gen)","Jennifer Radil","In Service","iPads",{"$nulls":4},"MK2K3LL/A","Apple"]
["SSD117978","PW02YH0R","Lindbergh High School",null,"Lenovo ThinkPad L13 Yoga (Core i5-10210U, 16GB, 256GB) [Gen 1]",null,"In Service","Laptops",{"$nulls":4},"20VH0022US","Lenovo"]
["SSD117979","PW03FLT7","Central Office",null,"Lenovo ThinkPad L13 Yoga (Core i5-10210U, 16GB, 256GB) [Gen 1]","Laura Beer","In Service","Laptops",{"$nulls":4},"20VH0022US","Lenovo"]
["SSD117980","PW03FLT3","Lindbergh High School",null,"Lenovo ThinkPad L13 Yoga (Core i5-10210U, 16GB, 256GB) [Gen 1]",null,"In Service","Laptops",{"$nulls":4},"20VH0022US","Lenovo"]
["SSD117981","PW03FLT4","Lindbergh High School",null,"Lenovo ThinkPad L13 Yoga (Core i5-10210U, 16GB, 256GB) [Gen 1]","Kip Loui","In Service","Laptops",{"$nulls":4},"20VH0022US","Lenovo"]
["SSD117982","PW03FLT0","Lindbergh High School",null,"Lenovo ThinkPad L13 Yoga (Core i5-10210U, 16GB, 256GB) [Gen 1]",null,"In Service","Laptops",{"$nulls":4},"20VH0022US","Lenovo"]
["SSD117983","PW03FLT5","Lindbergh High School",null,"Lenovo ThinkPad L13 Yoga (Core i5-10210U, 16GB, 256GB) [Gen 1]",null,"In Service","Laptops",{"$nulls":4},"20VH0022US","Lenovo"]
["SSD117984","PW03FLT2","Central Office",null,"Lenovo ThinkPad L13 Yoga (Core i5-10210U, 16GB, 256GB) [Gen 1]",null,"In Service","Laptops",{"$nulls":4},"20VH0022US","Lenovo"]
["SSD117985","PW03FLT6","Lindbergh High School",null,"Lenovo ThinkPad L13 Yoga (Core i5-10210U, 16GB, 256GB) [Gen 1]",null,"In Service","Laptops",{"$nulls":4},"20VH0022US","Lenovo"]
["SSD118090","C02JGL3MQ6L4","ECE Main",null,"Apple MacBook Air M1, 8GB, 128GB SSD (2020)","Rheanna Glon","In Service","MacBook",{"$nulls":4},"MGNF3LL/A","Apple"]
["SSD118091","C02JGL3KQ6L4","ECE Main",null,"Apple MacBook Air M1, 8GB, 128GB SSD (2020)","Tracy Kroenlein","In Service","MacBook",{"$nulls":4},"MGNF3LL/A","Apple"]
["SSD118092","C02JGL3LQ6L4","ECE Main",null,"Apple MacBook Air M1, 8GB, 128GB SSD (2020)","Natalie Mirbaha","In Service","MacBook",{"$nulls":4},"MGNF3LL/A","Apple"]
["SSD118093","C02JGL4MQ6L4","ECE Main",null,"Apple MacBook Air M1, 8GB, 128GB SSD (2020)","Colleen Kubiak","In Service","MacBook",{"$nulls":4},"MGNF3LL/A","Apple"]
["SSD118094","C02JGL3VQ6L4","ECE Main",null,"Apple MacBook Air M1, 8GB, 128GB SSD (2020)","Jessica Schroeder","In Service","MacBook",{"$nulls":4},"MGNF3LL/A","Apple"]
["SSD118095","C02JGEQCQ6L4","ECE West",null,"Apple MacBook Air M1, 8GB, 128GB SSD (2020)","Rebecca Kaletka","In Service","MacBook",{"$nulls":4},"MGNF3LL/A","Apple"]
["SSD118096","FVFJF14F1WFV","ECE Main",null,"Apple MacBook Air M1, 8GB, 128GB SSD (2020)","Jennifer VanHorn","In Service","MacBook",{"$nulls":4},"MGNF3LL/A","Apple"]
["SSD118097","C02JGL3NQ6L4","ECE West",null,"Apple MacBook Air M1, 8GB, 128GB SSD (2020)","Kara Rose","In Service","MacBook",{"$nulls":4},"MGNF3LL/A","Apple"]
["SSD118098","C02JDMD7Q6L4","Crestwood Elementary",null,"Apple MacBook Air M1, 8GB, 128GB SSD (2020)","Amy Hooper","In Service","MacBook",{"$nulls":4},"MGNF3LL/A","Apple"]
["SSD118099","NPGG9D7JPV","ECE Main",null,"Apple iPad 64GB WIFI (9th Gen)","Rheanna Glon","In Service","iPads",{"$nulls":4},"MK2K3LL/A","Apple"]
["SSD118100","Y43VT0W1MQ","ECE Main",null,"Apple iPad 64GB WIFI (9th Gen)","Tracy Kroenlein","In Service","iPads",{"$nulls":4},"MK2K3LL/A","Apple"]
["SSD118101","TCDV2WM6QT","ECE Main",null,"Apple iPad 64GB WIFI (9th Gen)","Natalie Mirbaha","In Service","iPads",{"$nulls":4},"MK2K3LL/A","Apple"]
["SSD118102","N452JH4KD2","ECE Main",null,"Apple iPad 64GB WIFI (9th Gen)","Colleen Kubiak","In Service","iPads",{"$nulls":4},"MK2K3LL/A","Apple"]
["SSD118103","N64272MJ76","ECE Main",null,"Apple iPad 64GB WIFI (9th Gen)","Jessica Schroeder","In Service","iPads",{"$nulls":4},"MK2K3LL/A","Apple"]
["SSD118104","DY6D46RG26","ECE West",null,"Apple iPad 64GB WIFI (9th Gen)","Rebecca Kaletka","In Service","iPads",{"$nulls":4},"MK2K3LL/A","Apple"]
["SSD118105","JMJ4VC7C5K","ECE Main",null,"Apple iPad 64GB WIFI (9th Gen)","Jennifer VanHorn","In Service","iPads",{"$nulls":4},"MK2K3LL/A","Apple"]
["SSD118106","P06XXQT4HQ","Dressel Elementary",null,"Apple iPad 64GB WIFI (9th Gen)","Ashley Luther","In Service","iPads",{"$nulls":4},"MK2K3LL/A","Apple"]
["SSD118107","DXN937MHYT","ECE Main",null,"Apple iPad 64GB WIFI (9th Gen)","Anna Vazquez","In Service","iPads",{"$nulls":4},"MK2K3LL/A","Apple"]
["SSD118108","PW02JKWE","Central Office",null,"Lenovo ThinkPad L13 Yoga (Core i5-10210U, 16GB, 256GB) [Gen 1]","Joyce Doyle","In Service","Laptops",{"$nulls":4},"20VK0019US","Lenovo"]
["SSD118759","D2QDHJQY6F","Sperreng Middle",null,"iPad Pro 12.9' WIFI 128GB (6th Gen)",null,"Returned to SSD","iPads",{"$nulls":5},"Apple"]
["SSD118794","ML77613VDH","Truman Middle",null,"Apple MacBook Air M2, 8GB, 256GB  (2022)","Sarah Gamache","In Service","MacBook",{"$nulls":4},"MLY73LL/A","Apple"]
["SSD118795","K39HYR1FXW","ECE Main",null,"Apple MacBook Air M2, 8GB, 256GB  (2022)","Emily Ulrich","In Service","MacBook",{"$nulls":4},"MLY73LL/A","Apple"]
["SSD118796","CH6MW0R6KC","Kennerly Elementary",null,"Apple MacBook Air M2, 8GB, 256GB  (2022)","Amanda Washington","In Service","MacBook",{"$nulls":4},"MLY73LL/A","Apple"]
["SSD118797","DD70DJFWHK","Central Office",null,"Apple MacBook Air M2, 8GB, 256GB  (2022)","Jessica Hermann","In Service","MacBook",{"$nulls":4},"MLY73LL/A","Apple"]
["SSD118798","K4F6T1YQR9","Crestwood Elementary",null,"Apple MacBook Air M2, 8GB, 256GB  (2022)","Angela Kovarik","In Service","MacBook",{"$nulls":4},"MLY73LL/A","Apple"]
["SSD118799","L6LN765JH1","Sappington Elementary",null,"Apple MacBook Air M2, 8GB, 256GB  (2022)","Holly Slavik","In Service","MacBook",{"$nulls":4},"MLY73LL/A","Apple"]
["SSD118800","JVHHWKQ2FX","ECE Main",null,"Apple MacBook Air M2, 8GB, 256GB  (2022)","Ashlee Scaglione","In Service","MacBook",{"$nulls":4},"MLY73LL/A","Apple"]
["SSD118801","HQ9TXXP6GQ","Sperreng Middle",null,"Apple MacBook Air M2, 8GB, 256GB  (2022)","Anne Nestor","In Service","MacBook",{"$nulls":5},"Apple"]
["SSD118802","C94Y4JFV6L","Crestwood Elementary",null,"Apple MacBook Air M2, 8GB, 256GB  (2022)","Robin Linderer","In Service","MacBook",{"$nulls":4},"MLY73LL/A","Apple"]
["SSD118803","K3WNQW1G6K","Central Office",null,"Apple MacBook Air M2, 8GB, 256GB  (2022)","Shannon Jeralds","In Service","MacBook",{"$nulls":4},"MLY73LL/A","Apple"]
["SSD118804","J32KM6LV71","Long Elementary",null,"Apple MacBook Air M2, 8GB, 256GB  (2022)","Nicole Ewing","In Service","MacBook",{"$nulls":4},"MLY73LL/A","Apple"]
["SSD118805","KXWTWFJ777","Truman Middle",null,"Apple MacBook Air M2, 8GB, 256GB  (2022)","Melissa Wagoner","In Service","MacBook",{"$nulls":4},"MLY73LL/A","Apple"]
["SSD118806","MJXC3RF2HM","Dressel Elementary",null,"Apple MacBook Air M2, 8GB, 256GB  (2022)","Ashley Luther","In Service","MacBook",{"$nulls":4},"MLY73LL/A","Apple"]
["SSD118807","DJ3XV3GXQY","Dressel Elementary",null,"Apple MacBook Air M2, 8GB, 256GB  (2022)","Audrey Utley","In Service","MacBook",{"$nulls":4},"MLY73LL/A","Apple"]
["SSD118808","M0YWVTV07M","ECE Main",null,"Apple MacBook Air M2, 8GB, 256GB  (2022)","Colleen Hoeflinger","In Service","MacBook",{"$nulls":4},"MLY73LL/A","Apple"]
["SSD118809","KK2HRXG19K","Central Office",null,"Apple MacBook Air M2, 8GB, 256GB  (2022)","Marissa Sodoma","In Service","MacBook",{"$nulls":4},"MLY73LL/A","Apple"]
["SSD118810","CH2PC4LQ5D","Long Elementary",null,"Apple MacBook Air M2, 8GB, 256GB  (2022)","Haley Freer","In Service","MacBook",{"$nulls":4},"MLY73LL/A","Apple"]
["SSD118811","KXK3PDYQ5Y","Long Elementary",null,"Apple MacBook Air M2, 8GB, 256GB  (2022)","Amy Kraft","In Service","MacBook",{"$nulls":4},"MLY73LL/A","Apple"]
["SSD118812","J21YYQFGPW","Sappington Elementary",null,"Apple MacBook Air M2, 8GB, 256GB  (2022)","Stefanie Giacopelli","In Service","MacBook",{"$nulls":4},"MLY73LL/A","Apple"]
["SSD118813","H44524RW05","Dressel Elementary",null,"Apple MacBook Air M2, 8GB, 256GB  (2022)","Angela Moll","In Service","MacBook",{"$nulls":4},"MLY73LL/A","Apple"]
["SSD118814","G357WPHKJT","Long Elementary",null,"Apple MacBook Air M2, 8GB, 256GB  (2022)","Kaitlin Heagney","In Service","MacBook",{"$nulls":4},"MLY73LL/A","Apple"]
["SSD118815","FLMJWCGX5Y","Concord Elementary",null,"Apple MacBook Air M2, 8GB, 256GB  (2022)","Ashley Sneed","In Service","MacBook",{"$nulls":4},"MLY73LL/A","Apple"]
["SSD118816","K57KMQF6PM","Central Office",null,"Apple MacBook Air M2, 8GB, 256GB  (2022)","Sarah Crowe","In Service","MacBook",{"$nulls":4},"MLY73LL/A","Apple"]
["SSD118817","D9T3C6WHLW","Sappington Elementary",null,"Apple MacBook Air M2, 8GB, 256GB  (2022)","Jennifer Eilers","In Service","MacBook",{"$nulls":4},"MLY73LL/A","Apple"]
["SSD118818","HQ9WNY202M","Dressel Elementary",null,"Apple MacBook Air M2, 8GB, 256GB  (2022)","Lily Black","In Service","MacBook",{"$nulls":4},"MLY73LL/A","Apple"]
["SSD118819","F7FQ1XQQFC","Concord Elementary",null,"Apple MacBook Air M2, 8GB, 256GB  (2022)","Jaimie Koenig","In Service","MacBook",{"$nulls":4},"MLY73LL/A","Apple"]
["SSD118820","J1H6C3FQ1K","Concord Elementary",null,"Apple MacBook Air M2, 8GB, 256GB  (2022)","Emily Schenewerk","In Service","MacBook",{"$nulls":4},"MLY73LL/A","Apple"]
["SSD118821","M1XLTLD4KQ","Concord Elementary",null,"Apple MacBook Air M2, 8GB, 256GB  (2022)","Mallory Kettinger","In Service","MacBook",{"$nulls":4},"MLY73LL/A","Apple"]
["SSD118822","HJC570Q62F","Sperreng Middle",null,"Apple MacBook Air M2, 8GB, 256GB  (2022)","Holly Fischer","In Service","MacBook",{"$nulls":4},"MLY73LL/A","Apple"]
["SSD118823","LKFVV9P9HW","Sperreng Middle",null,"Apple MacBook Air M2, 8GB, 256GB  (2022)","Jo Lewis","In Service","MacBook",{"$nulls":4},"MLY73LL/A","Apple"]
["SSD118824","FWGDQWD93C","Truman Middle",null,"Apple MacBook Air M2, 8GB, 256GB  (2022)","Marissa Frost","In Service","MacBook",{"$nulls":4},"MLY73LL/A","Apple"]
["SSD118825","M5JCJHP42J","Long Elementary",null,"Apple MacBook Air M2, 8GB, 256GB  (2022)","Jessica Comegys","In Service","MacBook",{"$nulls":4},"MLY73LL/A","Apple"]
["SSD118826","KVGW1W4J09","Crestwood Elementary",null,"Apple MacBook Air M2, 8GB, 256GB  (2022)","Julie Reavis","In Service","MacBook",{"$nulls":4},"MLY73LL/A","Apple"]
["SSD118827","JHL2TWH207","Sperreng Middle",null,"Apple MacBook Air M2, 8GB, 256GB  (2022)","Angie Christian","In Service","MacBook",{"$nulls":4},"MLY73LL/A","Apple"]
["SSD118828","HJWHXW97X9","Lindbergh High School",null,"Apple MacBook Air M2, 8GB, 256GB  (2022)",null,"In Service","MacBook",{"$nulls":4},"MLY73LL/A","Apple"]
["SSD118829","F32J2FPNWV","Dressel Elementary",null,"Apple MacBook Air M2, 8GB, 256GB  (2022)","Stephanie Puellmann","In Service","MacBook",{"$nulls":4},"MLY73LL/A","Apple"]
["SSD118830","GGPGQC4GC6","Crestwood Elementary",null,"Apple MacBook Air M2, 8GB, 256GB  (2022)","Cindy Stockman","In Service","MacBook",{"$nulls":4},"MLY73LL/A","Apple"]
["SSD118831","FD4XJ97MFK","Crestwood Elementary",null,"Apple MacBook Air M2, 8GB, 256GB  (2022)","Bobbie Eades","In Service","MacBook",{"$nulls":4},"MLY73LL/A","Apple"]
["SSD118832","MX6YPXG4L7","Central Office",null,"Apple MacBook Air M2, 8GB, 256GB  (2022)","Amy Kielbasa","In Service","MacBook",{"$nulls":4},"MLY73LL/A","Apple"]
["SSD118833","F2XF752GW6","Sperreng Middle",null,"Apple MacBook Air M2, 8GB, 256GB  (2022)","Melissa Burrell","In Service","MacBook",{"$nulls":4},"MLY73LL/A","Apple"]
["SSD118834","G955FXYWNP","Central Office",null,"Apple MacBook Air M2, 8GB, 256GB  (2022)","Brian Mulvaney","In Service","MacBook",{"$nulls":4},"MLY73LL/A","Apple"]
["SSD118835","M2QFFQVM7H","Sappington Elementary",null,"Apple MacBook Air M2, 8GB, 256GB  (2022)","Grace Milford","In Service","MacBook",{"$nulls":4},"MLY73LL/A","Apple"]
["SSD118836","M65714HWT1","Long Elementary",null,"Apple MacBook Air M2, 8GB, 256GB  (2022)","Meghan Burch","In Service","MacBook",{"$nulls":4},"MLY73LL/A","Apple"]
["SSD118837","M7JHL45P2F","Dressel Elementary",null,"Apple MacBook Air M2, 8GB, 256GB  (2022)","Robin McKenna","In Service","MacBook",{"$nulls":4},"MLY73LL/A","Apple"]
["SSD118838","FQTH9Y5R2P","ECE Main",null,"Apple MacBook Air M2, 8GB, 256GB  (2022)","Elizabeth Fleming","In Service","MacBook",{"$nulls":4},"MLY73LL/A","Apple"]
["SSD122440","CR2XRG9520","Crestwood Elementary",null,"Apple iPad 64GB WIFI (9th Gen)","Cindy Stockman","In Service","iPads",{"$nulls":4},"MK2K3LL/A","Apple"]
["SSD122441","F7CYPF3XGG","Concord Elementary",null,"Apple iPad 64GB WIFI (9th Gen)","Stacey Szydlowski","In Service","iPads",{"$nulls":4},"MK2K3LL/A","Apple"]
["SSD122442","G2QCRG9RT4","Sperreng Middle",null,"Apple iPad 64GB WIFI (9th Gen)","Angie Christian","In Service","iPads",{"$nulls":4},"MK2K3LL/A","Apple"]
["SSD122443","GFXKRQ4KPQ","Central Office",null,"Apple iPad 64GB WIFI (9th Gen)","Sarah Crowe","In Service","iPads",{"$nulls":4},"MK2K3LL/A","Apple"]
["SSD122444","H5KQF6N2H0","Long Elementary",null,"Apple iPad 64GB WIFI (9th Gen)","Kaitlin Heagney","In Service","iPads",{"$nulls":4},"MK2K3LL/A","Apple"]
["SSD122445","H90MMV57HM","Crestwood Elementary",null,"Apple iPad 64GB WIFI (9th Gen)","Bobbie Eades","In Service","iPads",{"$nulls":4},"MK2K3LL/A","Apple"]
["SSD122446","JX7RW44K2X","Sappington Elementary",null,"Apple iPad 64GB WIFI (9th Gen)","Jennifer Eilers","In Service","iPads",{"$nulls":4},"MK2K3LL/A","Apple"]
["SSD122447","JYH7MDP24W","Long Elementary",null,"Apple iPad 64GB WIFI (9th Gen)","Haley Freer","In Service","iPads",{"$nulls":4},"MK2K3LL/A","Apple"]
["SSD122448","K60XT00NGQ","Sappington Elementary",null,"Apple iPad 64GB WIFI (9th Gen)","Stefanie Giacopelli","In Service","iPads",{"$nulls":4},"MK2K3LL/A","Apple"]
["SSD122449","L4C0WQV3C0","ECE West",null,"Apple iPad 64GB WIFI (9th Gen)","Kara Rose","In Service","iPads",{"$nulls":4},"MK2K3LL/A","Apple"]
["SSD122450","L6JPMXX790","Central Office",null,"Apple iPad 64GB WIFI (9th Gen)","Jessica Hermann","In Service","iPads",{"$nulls":4},"MK2K3LL/A","Apple"]
["SSD122451","LL2QMC4YKD","Long Elementary",null,"Apple iPad 64GB WIFI (9th Gen)","Nicole Ewing","In Service","iPads",{"$nulls":4},"MK2K3LL/A","Apple"]
["SSD122452","LRH9KRFQ5Q","Central Office",null,"Apple iPad 64GB WIFI (9th Gen)","Amy Kielbasa","In Service","iPads",{"$nulls":4},"MK2K3LL/A","Apple"]
["SSD122453","M2F4PN2D4V","Concord Elementary",null,"Apple iPad 64GB WIFI (9th Gen)","Jaimie Koenig","In Service","iPads",{"$nulls":4},"MK2K3LL/A","Apple"]
["SSD122454","MH97DQY727","Crestwood Elementary",null,"Apple iPad 64GB WIFI (9th Gen)","Angela Kovarik","In Service","iPads",{"$nulls":4},"MK2K3LL/A","Apple"]
["SSD122455","MT4625Q4HF","Long Elementary",null,"Apple iPad 64GB WIFI (9th Gen)","Amy Kraft","In Service","iPads",{"$nulls":4},"MK2K3LL/A","Apple"]
["SSD122456","MVX5P6QG5Q","Crestwood Elementary",null,"Apple iPad 64GB WIFI (9th Gen)","Robin Linderer","In Service","iPads",{"$nulls":4},"MK2K3LL/A","Apple"]
["SSD122457","N27M2YPXLJ","Dressel Elementary",null,"Apple iPad 64GB WIFI (9th Gen)","Angela Moll","In Service","iPads",{"$nulls":4},"MK2K3LL/A","Apple"]
["SSD122458","P327YKM67Y","Central Office",null,"Apple iPad 64GB WIFI (9th Gen)","Brian Mulvaney","In Service","iPads",{"$nulls":4},"MK2K3LL/A","Apple"]
["SSD122459","PW4NYX3QDW","Long Elementary",null,"Apple iPad 64GB WIFI (9th Gen)","Meghan Burch","In Service","iPads",{"$nulls":4},"MK2K3LL/A","Apple"]
["SSD122460","TTWFQ0R52P","Dressel Elementary",null,"Apple iPad 64GB WIFI (9th Gen)","Stephanie Puellmann","In Service","iPads",{"$nulls":4},"MK2K3LL/A","Apple"]
["SSD122461","TY0GQRH245","Sappington Elementary",null,"Apple iPad 64GB WIFI (9th Gen)","Holly Slavik","In Service","iPads",{"$nulls":4},"MK2K3LL/A","Apple"]
["SSD122462","V9LRX4TMWX","Concord Elementary",null,"Apple iPad 64GB WIFI (9th Gen)","Ashley Sneed","In Service","iPads",{"$nulls":4},"MK2K3LL/A","Apple"]
["SSD122463","VDQK30HM2N","Central Office",null,"Apple iPad 64GB WIFI (9th Gen)","Marissa Sodoma","In Service","iPads",{"$nulls":4},"MK2K3LL/A","Apple"]
["SSD122464","X16306H246","Kennerly Elementary",null,"Apple iPad 64GB WIFI (9th Gen)","Christa Payton","In Service","iPads",{"$nulls":4},"MK2K3LL/A","Apple"]
["SSD122465","XN1HFV94DQ","Dressel Elementary",null,"Apple iPad 64GB WIFI (9th Gen)","Robin McKenna","In Service","iPads",{"$nulls":4},"MK2K3LL/A","Apple"]
["SSD122466","YM7WQWRQ6Y","Sperreng Middle",null,"Apple iPad 64GB WIFI (9th Gen)","Holly Fischer","In Service","iPads",{"$nulls":4},"MK2K3LL/A","Apple"]
["SSD122971","HQGFW09Q56","ECE Main",null,"Apple iPad 64GB WIFI (9th Gen)","Jessica Werkmeister","In Service","iPads",{"$nulls":5},"Apple"]
["SSD122972","J71Q5X4MFK","ECE West",null,"Apple iPad 64GB WIFI (9th Gen)","Susan Agniel","In Service","iPads",{"$nulls":5},"Apple"]
["SSD122973","KT2G6M9VCT","ECE Main",null,"Apple iPad 64GB WIFI (9th Gen)","Ashlee Scaglione","In Service","iPads",{"$nulls":5},"Apple"]
["SSD122974","K43500F47J","ECE Main",null,"Apple iPad 64GB WIFI (9th Gen)","Emily Ulrich","In Service","iPads",{"$nulls":5},"Apple"]
["SSD122975","KHYY2GX1PF","ECE Main",null,"Apple iPad 64GB WIFI (9th Gen)","Michelle Hensel","In Service","iPads",{"$nulls":5},"Apple"]
["SSD122976","MV0XLFWXJ0","Concord Elementary",null,"Apple iPad 64GB WIFI (9th Gen)","Elizabeth Matarazzi","In Service","iPads",{"$nulls":5},"Apple"]
["SSD122977","MLXW3LL/A","ECE West",null,"Apple MacBook Air M2, 8GB, 256GB  (2022)","Susan Agniel","In Service","MacBook",{"$nulls":4},"A2681","Apple"]
["SSD122978","XXKNXY403G","Crestwood Elementary",null,"Apple MacBook Air M2, 8GB, 256GB  (2022)","Gretchen Kroll","In Service","MacBook",{"$nulls":4},"A2681","Apple"]
["SSD122979","JV9RVHY3QN","ECE Main",null,"Apple MacBook Air M2, 8GB, 256GB  (2022)","Michelle Hensel","In Service","MacBook",{"$nulls":4},"A2681","Apple"]
["SSD122980","KJX4C3FX1J","ECE Main",null,"Apple MacBook Air M2, 8GB, 256GB  (2022)","Christy Frost","In Service","MacBook",{"$nulls":4},"A2681","Apple"]
["SSD122981","XG59WD26WR","ECE Main",null,"Apple MacBook Air M2, 8GB, 256GB  (2022)","Jessica Werkmeister","In Storage","MacBook",{"$nulls":4},"A2681","Apple"]
["SSD122982","HF2L0VGKQD","ECE Main",null,"Apple MacBook Air M2, 8GB, 256GB  (2022)","Sarah Lehman","In Storage","MacBook",{"$nulls":4},"A2681","Apple"]
["SSD123283","M23CM2FG9V","Sperreng Middle",null,"Apple MacBook Air M3, 8GB, 2565GB SSD (2024)","Tina Pysz","In Service","MacBook",{"$nulls":4},"MRXX3LL/A","Apple"]
["SSD123284","N4X9LH3C72","Truman Middle",null,"Apple MacBook Air M3, 8GB, 2565GB SSD (2024)","Beth Duffy","In Service","MacBook",{"$nulls":4},"MRXX3LL/A","Apple"]
["SSD123285","GL917DF96T","Long Elementary",null,"Apple MacBook Air M3, 8GB, 2565GB SSD (2024)","Andrea Thavorides","In Service","MacBook",{"$nulls":4},"MRXX3LL/A","Apple"]
["SSD123286","JPQ0KFH0QR","Concord Elementary",null,"Apple MacBook Air M3, 8GB, 2565GB SSD (2024)","Sarah Schweppe","In Service","MacBook",{"$nulls":4},"MRXX3LL/A","Apple"]
["SSD123287","MX7GN9MV74","Kennerly Elementary",null,"Apple MacBook Air M3, 8GB, 2565GB SSD (2024)","Christa Payton","In Service","MacBook",{"$nulls":4},"MRXX3LL/A","Apple"]
["SSD123288","CWV3WP34WX","Truman Middle",null,"Apple MacBook Air M3, 8GB, 2565GB SSD (2024)","Ginger Kekich","In Service","MacBook",{"$nulls":4},"MRXX3LL/A","Apple"]
["SSD123289","CL9K5W91DH","Truman Middle",null,"Apple MacBook Air M3, 8GB, 2565GB SSD (2024)","Kelsey Pfeil","In Service","MacBook",{"$nulls":4},"MRXX3LL/A","Apple"]
["SSD123290","L4042RWC2P","Truman Middle",null,"Apple MacBook Air M3, 8GB, 2565GB SSD (2024)","Shannon Morley","In Service","MacBook",{"$nulls":4},"MRXX3LL/A","Apple"]
["SSD123291","KGTWDQJJ39","Truman Middle",null,"Apple MacBook Air M3, 8GB, 2565GB SSD (2024)","Rhonda LaChance","In Service","MacBook",{"$nulls":4},"MRXX3LL/A","Apple"]
["SSD123292","MYYXY7491C","Truman Middle",null,"Apple MacBook Air M3, 8GB, 2565GB SSD (2024)","Stacey Kozlowski","In Service","MacBook",{"$nulls":4},"MRXX3LL/A","Apple"]
["SSD123293","HD612V5PQX","Concord Elementary",null,"Apple MacBook Air M3, 8GB, 2565GB SSD (2024)","Laura Benson","In Service","MacBook",{"$nulls":4},"MRXX3LL/A","Apple"]
["SSD123294","MHK45HH9QT","Technology Storage",null,"Apple MacBook Air M3, 8GB, 2565GB SSD (2024)",null,"In Storage","MacBook",{"$nulls":4},"MRXX3LL/A","Apple"]
["SSD123295","J5Q4965769","Sperreng Middle",null,"Apple MacBook Air M3, 8GB, 2565GB SSD (2024)","Kathleen Benoist","In Service","MacBook",{"$nulls":4},"MRXX3LL/A","Apple"]
["SSD123296","G42HVV7T4D","Sperreng Middle",null,"Apple MacBook Air M3, 8GB, 2565GB SSD (2024)","Katie Anderson","In Service","MacBook",{"$nulls":4},"MRXX3LL/A","Apple"]
["SSD123297","DL25WY4KQ1","Kennerly Elementary",null,"Apple MacBook Air M3, 8GB, 2565GB SSD (2024)","Jennifer Radil","In Service","MacBook",{"$nulls":4},"MRXX3LL/A","Apple"]
["SSD123298","D32YNYK7LX","Sperreng Middle",null,"Apple MacBook Air M3, 8GB, 2565GB SSD (2024)","Suzanne Catarinicchia","In Service","MacBook",{"$nulls":4},"MRXX3LL/A","Apple"]
["SSD123299","LG0GQJX62D","Sperreng Middle",null,"Apple MacBook Air M3, 8GB, 2565GB SSD (2024)","Lindsey Weatherby","In Service","MacBook",{"$nulls":4},"MRXX3LL/A","Apple"]
["SSD123300","L4HXYYFRQM","Sperreng Middle",null,"Apple MacBook Air M3, 8GB, 2565GB SSD (2024)","Brittany Zimpfer","In Service","MacBook",{"$nulls":4},"MRXX3LL/A","Apple"]
["SSD123301","G9FY09RHWF","Sperreng Middle",null,"Apple MacBook Air M3, 8GB, 2565GB SSD (2024)","Amy Thompson","In Service","MacBook",{"$nulls":4},"MRXX3LL/A","Apple"]
["SSD123302","GC6JWVCGFY","Sperreng Middle",null,"Apple MacBook Air M3, 8GB, 2565GB SSD (2024)","Juliana Von Zur Muehlen","In Service","MacBook",{"$nulls":4},"MRXX3LL/A","Apple"]
["SSD123303","G14W929CM6","Central Office",null,"Apple MacBook Air M3, 8GB, 2565GB SSD (2024)","Faith Rose","In Service","MacBook",{"$nulls":4},"MRXX3LL/A","Apple"]
["SSD123304","L3044L4FL9","Sperreng Middle",null,"Apple iPad 64GB (10th Gen)","Juliana Von Zur Muehlen","In Service","iPads",{"$nulls":4},"MPQT3LL/A","Apple"]
["SSD123305","MPPFH4H66Y","Sperreng Middle",null,"Apple iPad 64GB (10th Gen)","Kathleen Benoist","In Service","iPads",{"$nulls":4},"MPQT3LL/A","Apple"]
["SSD123306","N1W56YRHGC","Truman Middle",null,"Apple iPad 64GB (10th Gen)","Beth Duffy","In Service","iPads",{"$nulls":4},"MPQT3LL/A","Apple"]
["SSD123307","X599C4QXNK","Truman Middle",null,"Apple iPad 64GB (10th Gen)","Stacey Kozlowski","In Service","iPads",{"$nulls":4},"MPQT3LL/A","Apple"]
["SSD123308","JP26Y697QT","Truman Middle",null,"Apple iPad 64GB (10th Gen)","Sarah Gamache","In Service","iPads",{"$nulls":4},"MPQT3LL/A","Apple"]
["SSD123309","KQTQQGCH6L","Truman Middle",null,"Apple iPad 64GB (10th Gen)","Rhonda LaChance","In Service","iPads",{"$nulls":4},"MPQT3LL/A","Apple"]
["SSD123310","QHDCVVYNHG","Truman Middle",null,"Apple iPad 64GB (10th Gen)","Shannon Morley","In Service","iPads",{"$nulls":4},"MPQT3LL/A","Apple"]
["SSD123311","H3XR2H20JF","Truman Middle",null,"Apple iPad 64GB (10th Gen)","Kelsey Pfeil","In Service","iPads",{"$nulls":4},"MPQT3LL/A","Apple"]
["SSD123312","NKW095Y6WX","Truman Middle",null,"Apple iPad 64GB (10th Gen)","Ginger Kekich","In Service","iPads",{"$nulls":4},"MPQT3LL/A","Apple"]
["SSD123313","XX1GFJ96QN","Truman Middle",null,"Apple iPad 64GB (10th Gen)","Melissa Wagoner","In Service","iPads",{"$nulls":4},"MPQT3LL/A","Apple"]
["SSD123314","PJW1C7R573","Truman Middle",null,"Apple iPad 64GB (10th Gen)","Marissa Frost","In Service","iPads",{"$nulls":4},"MPQT3LL/A","Apple"]
["SSD123315","F4VWRWDWK9","Central Office",null,"Apple iPad 64GB (10th Gen)","Shannon Jeralds","In Service","iPads",{"$nulls":4},"MPQT3LL/A","Apple"]
["SSD123316","Q07J0329RJ","Crestwood Elementary",null,"Apple iPad 64GB (10th Gen)","Virginia Uding","In Service","iPads",{"$nulls":4},"MPQT3LL/A","Apple"]
["SSD123317","FTJ2T7JYRR","Truman Middle","Imaging Room/SSD","Apple iPad 64GB (10th Gen)","Caitlin Reyes","In Service","iPads",{"$nulls":4},"MPQT3LL/A","Apple"]
["SSD123318","XVCWG02Y5F","Sperreng Middle",null,"Apple iPad 64GB (10th Gen)","Tina Pysz","In Service","iPads",{"$nulls":4},"MPQT3LL/A","Apple"]
["SSD123319","DM9MD7P9Y2","Sperreng Middle",null,"Apple iPad 64GB (10th Gen)","Eleanore Schebek","In Service","iPads",{"$nulls":4},"MPQT3LL/A","Apple"]
["SSD123320","W034R3WQ00","Sperreng Middle",null,"Apple iPad 64GB (10th Gen)","Anne Nestor","In Service","iPads",{"$nulls":4},"MPQT3LL/A","Apple"]
["SSD123321","GX6Y79PM6M","Sperreng Middle",null,"Apple iPad 64GB (10th Gen)","Katie Anderson","In Service","iPads",{"$nulls":4},"MPQT3LL/A","Apple"]
["SSD123322","TX2PJGYKJP","Sperreng Middle",null,"Apple iPad 64GB (10th Gen)","Jo Lewis","In Service","iPads",{"$nulls":4},"MPQT3LL/A","Apple"]
["SSD123323","GFD6L4WXCF","Sperreng Middle",null,"Apple iPad 64GB (10th Gen)","Suzanne Catarinicchia","In Service","iPads",{"$nulls":4},"MPQT3LL/A","Apple"]
["SSD123324","HG2PW3RMWR","Sperreng Middle",null,"Apple iPad 64GB (10th Gen)","Lindsey Weatherby","In Service","iPads",{"$nulls":4},"MPQT3LL/A","Apple"]
["SSD123325","M5HYHW0VG0","Sperreng Middle",null,"Apple iPad 64GB (10th Gen)","Amy Thompson","In Service","iPads",{"$nulls":4},"MPQT3LL/A","Apple"]
["SSD123326","GWCT9XCKXT","Concord Elementary",null,"Apple iPad 64GB (10th Gen)","Laura Benson","In Service","iPads",{"$nulls":4},"MPQT3LL/A","Apple"]
["SSD128827","PW0C1193","Truman Middle",null,"Lenovo ThinkPad L13 Yoga (Core i7) [Gen 4]","Diana Weber","In Service","Laptops",{"$nulls":5},"Lenovo"]
["SSD128828","PW0C119E","Pending",null,"Lenovo ThinkPad L13 Yoga (Core i7) [Gen 4]",null,"In Service","Laptops",{"$nulls":5},"Lenovo"]
["SSD128829","PW0C1190","Pending",null,"Lenovo ThinkPad L13 Yoga (Core i7) [Gen 4]",null,"In Service","Laptops",{"$nulls":5},"Lenovo"]
["SSD128830","PW-0C119C","Lindbergh High School",null,"Lenovo ThinkPad L13 Yoga (Core i7) [Gen 4]","Robin Atkins","In Service","Laptops",{"$nulls":5},"Lenovo"]
["SSD128831","PW-0C118S","Lindbergh High School",null,"Lenovo ThinkPad L13 Yoga (Core i7) [Gen 4]","Jennifer Ellsworth","In Service","Laptops",{"$nulls":5},"Lenovo"]
["SSD128832","PW-0C11C3","Pending",null,"Lenovo ThinkPad L13 Yoga (Core i7) [Gen 4]",null,"In Service","Laptops",{"$nulls":5},"Lenovo"]
["SSD128833","PW-0C11D4","Pending",null,"Lenovo ThinkPad L13 Yoga (Core i7) [Gen 4]",null,"In Service","Laptops",{"$nulls":5},"Lenovo"]
["SSD128834","PW-0C11CM","Lindbergh High School",null,"Lenovo ThinkPad L13 Yoga (Core i7) [Gen 4]","Andrew Shipp","In Service","Laptops",{"$nulls":5},"Lenovo"]
["SSD128835","PW-0C11DD","Lindbergh High School",null,"Lenovo ThinkPad L13 Yoga (Core i7) [Gen 4]","Joyce Colombo","In Service","Laptops",{"$nulls":5},"Lenovo"]
["SSD128836","PW-0C11BY","Lindbergh High School",null,"Lenovo ThinkPad L13 Yoga (Core i7) [Gen 4]","Kimberly Mayberry","In Service","Laptops",{"$nulls":5},"Lenovo"]
["SSD128837","PW-0C11C0","Lindbergh High School",null,"Lenovo ThinkPad L13 Yoga (Core i7) [Gen 4]","Kristina Goedereis","In Service","Laptops",{"$nulls":5},"Lenovo"]
["SSD128838","PW-0C11BB","Lindbergh High School",null,"Lenovo ThinkPad L13 Yoga (Core i7) [Gen 4]","Anne Thomson","In Service","Laptops",{"$nulls":5},"Lenovo"]
["SSD128839","PW-0C11A8","Lindbergh High School",null,"Lenovo ThinkPad L13 Yoga (Core i7) [Gen 4]","Luke Borcherding","In Service","Laptops",{"$nulls":5},"Lenovo"]
["SSD128840","PW-0C1195","Lindbergh High School",null,"Lenovo ThinkPad L13 Yoga (Core i7) [Gen 4]","Julie Holtz","In Service","Laptops",{"$nulls":5},"Lenovo"]
["SSD128841","PW-0C11CR","Lindbergh High School",null,"Lenovo ThinkPad L13 Yoga (Core i7) [Gen 4]","Jessica Mode","In Service","Laptops",{"$nulls":5},"Lenovo"]
["SSD128842","PW-0C11CV","Lindbergh High School",null,"Lenovo ThinkPad L13 Yoga (Core i7) [Gen 4]","Kip Loui","In Service","Laptops",{"$nulls":5},"Lenovo"]
["SSD128843","PW-0C11AZ","Lindbergh High School",null,"Lenovo ThinkPad L13 Yoga (Core i7) [Gen 4]","Suzette Amelung","In Service","Laptops",{"$nulls":5},"Lenovo"]
["SSD128844","PW-0C117T","Lindbergh High School",null,"Lenovo ThinkPad L13 Yoga (Core i7) [Gen 4]","Brigid Scherer","In Service","Laptops",{"$nulls":5},"Lenovo"]
["SSD128845","PW-0C119A","Lindbergh High School",null,"Lenovo ThinkPad L13 Yoga (Core i7) [Gen 4]","Elizabeth Hutchcraft","In Service","Laptops",{"$nulls":5},"Lenovo"]
["SSD128846","PW-0C119Q","Lindbergh High School",null,"Lenovo ThinkPad L13 Yoga (Core i7) [Gen 4]","Chad Swyres","In Service","Laptops",{"$nulls":5},"Lenovo"]
["SSD128847","PW-0C11BC","Lindbergh High School",null,"Lenovo ThinkPad L13 Yoga (Core i7) [Gen 4]","Jennifer Botkin","In Service","Laptops",{"$nulls":5},"Lenovo"]
["SSD128848","PW-0C119D","Lindbergh High School",null,"Lenovo ThinkPad L13 Yoga (Core i7) [Gen 4]","Lauren Opperman","In Service","Laptops",{"$nulls":5},"Lenovo"]
["SSD128849","PW-0C118H","Pending",null,"Lenovo ThinkPad L13 Yoga (Core i7) [Gen 4]",null,"In Service","Laptops",{"$nulls":5},"Lenovo"]
["SSD128850","PW-0C11CX","Lindbergh High School",null,"Lenovo ThinkPad L13 Yoga (Core i7) [Gen 4]",null,"Under Repair","Laptops",{"$nulls":5},"Lenovo"]
["SSD128851","PW0C1194","Sappington Elementary",null,"Lenovo ThinkPad L13 Yoga (Core i7) [Gen 4]","Stephanie Harrigan","In Service","Laptops",{"$nulls":5},"Lenovo"]
["SSD128852","PW-0C118R","Lindbergh High School",null,"Lenovo ThinkPad L13 Yoga (Core i7) [Gen 4]","Eric Lindhorst","In Service","Laptops",{"$nulls":5},"Lenovo"]
["SSD128853","PW-0C118K","Lindbergh High School",null,"Lenovo ThinkPad L13 Yoga (Core i7) [Gen 4]","Leslie Auer","In Service","Laptops",{"$nulls":5},"Lenovo"]
["SSD128854","PW-0C118G","Lindbergh High School",null,"Lenovo ThinkPad L13 Yoga (Core i7) [Gen 4]","Phoenix Alvarado","In Service","Laptops",{"$nulls":5},"Lenovo"]
["SSD128855","PW-0C11B0","Pending",null,"Lenovo ThinkPad L13 Yoga (Core i7) [Gen 4]",null,"In Service","Laptops",{"$nulls":5},"Lenovo"]
["SSD128896","M2D697LT0Y","Central Office",null,"Apple MacBook Air M3, 8GB, 2565GB SSD (2024)",null,"In Storage","MacBook",{"$nulls":4},"A3113","Apple"]
["SSD128897","L1QQGQ45DF","Concord Elementary",null,"Apple MacBook Air M3, 8GB, 2565GB SSD (2024)","Kathy Scholtes","In Service","MacBook",{"$nulls":4},"A3113","Apple"]
["SSD128898","LW6DXNJX9H","Long Elementary",null,"Apple MacBook Air M3, 8GB, 2565GB SSD (2024)",null,"In Service","MacBook",{"$nulls":4},"A3113","Apple"]
["SSD128899","KHHP0249Y0","Central Office",null,"Apple MacBook Air M3, 8GB, 2565GB SSD (2024)",null,"In Storage","MacBook",{"$nulls":4},"A3113","Apple"]
["SSD900001","R8LMQS190298","Lindbergh High School",62,"23.8 Inch Monitor Full HD VA24DQSB","Leslie Auer","In Service","Monitor",{"$nulls":4},"VA24DQSB","Asus"]
["SSD900002","3935A04684","Lindbergh High School",62,"DisplayLink 4K Plug and Display USB-C Triple 4K HDMI and Displayport Display Docking Station","Leslie Auer","In Service","Docking Station",{"$nulls":5},"Plugable"]
["SSD900003","278TAKM949","Crestwood Elementary",null,"Motorola CP100D w/ Screen",null,"In Service","Walkie Talkie",{"$nulls":4},"CP100D U160","Motorola"]
["SSD900004","278TAKR846","Crestwood Elementary",null,"Motorola CP100D w/ Screen",null,"In Service","Walkie Talkie",{"$nulls":4},"CP100D U160","Motorola"]
["SSD900005","278TAKM981","Crestwood Elementary",null,"Motorola CP100D w/ Screen",null,"In Service","Walkie Talkie",{"$nulls":4},"CP100D U160","Motorola"]
["SSD900006","278TAKR853","Crestwood Elementary",null,"Motorola CP100D w/ Screen",null,"In Service","Walkie Talkie",{"$nulls":4},"CP100D U160","Motorola"]
["SSD900007","278TAKM921","Crestwood Elementary",null,"Motorola CP100D w/ Screen",null,"In Service","Walkie Talkie",{"$nulls":4},"CP100D U160","Motorola"]
["SSD900008","278TAKM976","Crestwood Elementary",null,"Motorola CP100D w/ Screen",null,"In Service","Walkie Talkie",{"$nulls":4},"CP100D U160","Motorola"]
["SSD900009","278TAKM675","Crestwood Elementary",null,"Motorola CP100D w/ Screen",null,"In Service","Walkie Talkie",{"$nulls":4},"CP100D U160","Motorola"]
["SSD900010","278TAKM673","Crestwood Elementary",null,"Motorola CP100D w/ Screen",null,"In Service","Walkie Talkie",{"$nulls":4},"CP100D U160","Motorola"]
["SSD900011","278TABM758","Lindbergh High School",null,"Motorola CP100D",null,"In Service","Walkie Talkie",{"$nulls":4},"CP100D U16","Motorola"]
["SSD91623","MP0931LS","Central Office",null,"Lenovo ThinkPad Yoga 260 (Core i5-6300U, 8GB, 256GB)",null,"In Service","Laptops",{"$nulls":4},"20DKS1G200","Lenovo"]
["SSD91624","MP09310S","Central Office",null,"Lenovo ThinkPad Yoga 260 (Core i5-6300U, 8GB, 256GB)",null,"In Service","Laptops",{"$nulls":4},"20DKS1G200","Lenovo"]
["SSD91626","MP0931KR","Central Office",null,"Lenovo ThinkPad Yoga 260 (Core i5-6300U, 8GB, 256GB)",null,"In Service","Laptops",{"$nulls":4},"20DKS1G200","Lenovo"]
["SSD91627","MP0931TL","Central Office",null,"Lenovo ThinkPad Yoga 260 (Core i5-6300U, 8GB, 256GB)",null,"In Service","Laptops",{"$nulls":4},"20DKS1G200","Lenovo"]
["SSD91628","MP0930XB","Central Office",null,"Lenovo ThinkPad Yoga 260 (Core i5-6300U, 8GB, 256GB)",null,"In Service","Laptops",{"$nulls":4},"20DKS1G200","Lenovo"]
["SSD91629","MP09313X","Central Office",null,"Lenovo ThinkPad Yoga 260 (Core i5-6300U, 8GB, 256GB)",null,"In Service","Laptops",{"$nulls":4},"20DKS1G200","Lenovo"]
["SSD91631","MP09318V","Central Office",null,"Lenovo ThinkPad Yoga 260 (Core i5-6300U, 8GB, 256GB)",null,"In Service","Laptops",{"$nulls":4},"20DKS1G200","Lenovo"]
["SSD91632","MP0931L6","Central Office",null,"Lenovo ThinkPad Yoga 260 (Core i5-6300U, 8GB, 256GB)",null,"In Service","Laptops",{"$nulls":4},"20DKS1G200","Lenovo"]
["SSD91633","MP0931AE","Central Office",null,"Lenovo ThinkPad Yoga 260 (Core i5-6300U, 8GB, 256GB)",null,"In Service","Laptops",{"$nulls":4},"20DKS1G200","Lenovo"]
["SSD91634","MP0932S8","Central Office",null,"Lenovo ThinkPad Yoga 260 (Core i5-6300U, 8GB, 256GB)",null,"In Service","Laptops",{"$nulls":4},"20DKS1G200","Lenovo"]
["SSD91635","MP0931S4","Central Office",null,"Lenovo ThinkPad Yoga 260 (Core i5-6300U, 8GB, 256GB)",null,"In Service","Laptops",{"$nulls":4},"20DKS1G200","Lenovo"]
["SSD91636","MP0932FQ","Central Office",null,"Lenovo ThinkPad Yoga 260 (Core i5-6300U, 8GB, 256GB)",null,"In Service","Laptops",{"$nulls":4},"20DKS1G200","Lenovo"]
["SSD91637","MP0931F0","Central Office",null,"Lenovo ThinkPad Yoga 260 (Core i5-6300U, 8GB, 256GB)",null,"In Service","Laptops",{"$nulls":4},"20DKS1G200","Lenovo"]
["SSD91638","MP0931HF","Central Office",null,"Lenovo ThinkPad Yoga 260 (Core i5-6300U, 8GB, 256GB)",null,"In Service","Laptops",{"$nulls":4},"20DKS1G200","Lenovo"]
["SSD91640","MP0931A8","Central Office",null,"Lenovo ThinkPad Yoga 260 (Core i5-6300U, 8GB, 256GB)",null,"In Service","Laptops",{"$nulls":4},"20DKS1G200","Lenovo"]
["SSD91641","MP0931HZ","Lindbergh High School",null,"Lenovo ThinkPad Yoga 260 (Core i5-6300U, 8GB, 256GB)","Cyndra Franquemont","In Service","Laptops",{"$nulls":4},"20DKS1G200","Lenovo"]
["SSD91642","MP0931U8","Central Office",null,"Lenovo ThinkPad Yoga 260 (Core i5-6300U, 8GB, 256GB)",null,"In Service","Laptops",{"$nulls":4},"20DKS1G200","Lenovo"]
["SSD91643","MP0930Y3","Central Office",null,"Lenovo ThinkPad Yoga 260 (Core i5-6300U, 8GB, 256GB)",null,"In Service","Laptops",{"$nulls":4},"20DKS1G200","Lenovo"]
["SSD91644","MP0932YS","Central Office",null,"Lenovo ThinkPad Yoga 260 (Core i5-6300U, 8GB, 256GB)",null,"In Service","Laptops",{"$nulls":4},"20DKS1G200","Lenovo"]
["SSD91645","MP0931AP","Central Office",null,"Lenovo ThinkPad Yoga 260 (Core i5-6300U, 8GB, 256GB)",null,"In Service","Laptops",{"$nulls":4},"20DKS1G200","Lenovo"]
["SSD91647","MP0931CT","Central Office",null,"Lenovo ThinkPad Yoga 260 (Core i5-6300U, 8GB, 256GB)",null,"In Service","Laptops",{"$nulls":4},"20DKS1G200","Lenovo"]
["SSD91648","MP093193","Central Office",null,"Lenovo ThinkPad Yoga 260 (Core i5-6300U, 8GB, 256GB)",null,"In Service","Laptops",{"$nulls":4},"20DKS1G200","Lenovo"]
["SSD91649","MP0931K0","Central Office",null,"Lenovo ThinkPad Yoga 260 (Core i5-6300U, 8GB, 256GB)",null,"In Service","Laptops",{"$nulls":4},"20DKS1G200","Lenovo"]
["SSD91650","MP0931GL","Central Office",null,"Lenovo ThinkPad Yoga 260 (Core i5-6300U, 8GB, 256GB)",null,"In Service","Laptops",{"$nulls":4},"20DKS1G200","Lenovo"]
["SSD91651","MP0932HA","Central Office",null,"Lenovo ThinkPad Yoga 260 (Core i5-6300U, 8GB, 256GB)",null,"In Service","Laptops",{"$nulls":4},"20DKS1G200","Lenovo"]
["SSD91652","MP093173","Central Office",null,"Lenovo ThinkPad Yoga 260 (Core i5-6300U, 8GB, 256GB)",null,"In Service","Laptops",{"$nulls":4},"20DKS1G200","Lenovo"]
["SSD91653","MP0931G2","Central Office",null,"Lenovo ThinkPad Yoga 260 (Core i5-6300U, 8GB, 256GB)",null,"In Service","Laptops",{"$nulls":4},"20DKS1G200","Lenovo"]
["SSD91654","MP0932FJ","Central Office",null,"Lenovo ThinkPad Yoga 260 (Core i5-6300U, 8GB, 256GB)",null,"In Service","Laptops",{"$nulls":4},"20DKS1G200","Lenovo"]
["SSD91655","MP0930YM","Central Office",null,"Lenovo ThinkPad Yoga 260 (Core i5-6300U, 8GB, 256GB)",null,"In Service","Laptops",{"$nulls":4},"20DKS1G200","Lenovo"]
["SSD91656","MP0932G5","Central Office",null,"Lenovo ThinkPad Yoga 260 (Core i5-6300U, 8GB, 256GB)",null,"In Service","Laptops",{"$nulls":4},"20DKS1G200","Lenovo"]
["SSD91657","MP0932FY","Central Office",null,"Lenovo ThinkPad Yoga 260 (Core i5-6300U, 8GB, 256GB)",null,"In Service","Laptops",{"$nulls":4},"20DKS1G200","Lenovo"]
["SSD91658","MP0930ZP","Central Office",null,"Lenovo ThinkPad Yoga 260 (Core i5-6300U, 8GB, 256GB)",null,"In Service","Laptops",{"$nulls":4},"20DKS1G200","Lenovo"]
["SSD91659","MP0931JN","Central Office",null,"Lenovo ThinkPad Yoga 260 (Core i5-6300U, 8GB, 256GB)",null,"In Service","Laptops",{"$nulls":4},"20DKS1G200","Lenovo"]
["SSD91660","MP0931CD","Central Office",null,"Lenovo ThinkPad Yoga 260 (Core i5-6300U, 8GB, 256GB)",null,"In Service","Laptops",{"$nulls":4},"20DKS1G200","Lenovo"]
["SSD91661","MP0931UX","Central Office",null,"Lenovo ThinkPad Yoga 260 (Core i5-6300U, 8GB, 256GB)",null,"In Service","Laptops",{"$nulls":4},"20DKS1G200","Lenovo"]
["SSD91662","MP0930Z1","Central Office",null,"Lenovo ThinkPad Yoga 260 (Core i5-6300U, 8GB, 256GB)",null,"In Service","Laptops",{"$nulls":4},"20DKS1G200","Lenovo"]
["SSD91663","MP0931KC","Central Office",null,"Lenovo ThinkPad Yoga 260 (Core i5-6300U, 8GB, 256GB)",null,"In Service","Laptops",{"$nulls":4},"20DKS1G200","Lenovo"]
["SSD91664","MP093151","Central Office",null,"Lenovo ThinkPad Yoga 260 (Core i5-6300U, 8GB, 256GB)",null,"In Service","Laptops",{"$nulls":4},"20DKS1G200","Lenovo"]
["SSD91665","MP0932LK","Central Office",null,"Lenovo ThinkPad Yoga 260 (Core i5-6300U, 8GB, 256GB)",null,"In Service","Laptops",{"$nulls":4},"20DKS1G200","Lenovo"]
["SSD91666","MP0931FR","Central Office",null,"Lenovo ThinkPad Yoga 260 (Core i5-6300U, 8GB, 256GB)",null,"In Service","Laptops",{"$nulls":4},"20DKS1G200","Lenovo"]
["SSD91667","MP0931DA","Central Office",null,"Lenovo ThinkPad Yoga 260 (Core i5-6300U, 8GB, 256GB)",null,"In Service","Laptops",{"$nulls":4},"20DKS1G200","Lenovo"]
["SSD91668","MP0931NT","Central Office",null,"Lenovo ThinkPad Yoga 260 (Core i5-6300U, 8GB, 256GB)",null,"In Service","Laptops",{"$nulls":4},"20DKS1G200","Lenovo"]
["SSD91669","MP0931UU","Central Office",null,"Lenovo ThinkPad Yoga 260 (Core i5-6300U, 8GB, 256GB)",null,"In Service","Laptops",{"$nulls":4},"20DKS1G200","Lenovo"]
["SSD91671","MP0931RG","Central Office",null,"Lenovo ThinkPad Yoga 260 (Core i5-6300U, 8GB, 256GB)",null,"In Service","Laptops",{"$nulls":4},"20DKS1G200","Lenovo"]
["SSD91672","MP0931UP","Central Office",null,"Lenovo ThinkPad Yoga 260 (Core i5-6300U, 8GB, 256GB)",null,"In Service","Laptops",{"$nulls":4},"20DKS1G200","Lenovo"]
["SSD91673","MP0931N8","Central Office",null,"Lenovo ThinkPad Yoga 260 (Core i5-6300U, 8GB, 256GB)",null,"In Service","Laptops",{"$nulls":4},"20DKS1G200","Lenovo"]
["SSD91674","MP09318H","Central Office",null,"Lenovo ThinkPad Yoga 260 (Core i5-6300U, 8GB, 256GB)",null,"In Service","Laptops",{"$nulls":4},"20DKS1G200","Lenovo"]
["SSD91676","MP09317X","Central Office",null,"Lenovo ThinkPad Yoga 260 (Core i5-6300U, 8GB, 256GB)",null,"In Service","Laptops",{"$nulls":4},"20DKS1G200","Lenovo"]
["SSD95050","MP14QZD9","Central Office",null,"Lenovo ThinkPad Yoga 260 (Core i5-6300U, 8GB, 256GB)",null,"In Service","Laptops",{"$nulls":4},"20FD002DUS","Lenovo"]
["SSD95051","MP14QZDM","Central Office",null,"Lenovo ThinkPad Yoga 260 (Core i5-6300U, 8GB, 256GB)",null,"In Service","Laptops",{"$nulls":4},"20FD002DUS","Lenovo"]
["SSD95052","MP14QZDU","Central Office",null,"Lenovo ThinkPad Yoga 260 (Core i5-6300U, 8GB, 256GB)",null,"In Service","Laptops",{"$nulls":4},"20FD002DUS","Lenovo"]
["SSD95053","MP14QZDR","Central Office",null,"Lenovo ThinkPad Yoga 260 (Core i5-6300U, 8GB, 256GB)",null,"In Service","Laptops",{"$nulls":4},"20FD002DUS","Lenovo"]
["SSD95054","MP14XSHA","Central Office",null,"Lenovo ThinkPad Yoga 260 (Core i5-6300U, 8GB, 256GB)",null,"In Service","Laptops",{"$nulls":4},"20FD002DUS","Lenovo"]
["SSD95055","MP14Y5MF","Central Office",null,"Lenovo ThinkPad Yoga 260 (Core i5-6300U, 8GB, 256GB)",null,"In Service","Laptops",{"$nulls":4},"20FD002DUS","Lenovo"]
["SSD95056","MP14QVEG","Central Office",null,"Lenovo ThinkPad Yoga 260 (Core i5-6300U, 8GB, 256GB)",null,"In Service","Laptops",{"$nulls":4},"20FD002DUS","Lenovo"]
["SSD95057","MP14Y1QH","Central Office",null,"Lenovo ThinkPad Yoga 260 (Core i5-6300U, 8GB, 256GB)",null,"In Service","Laptops",{"$nulls":4},"20FD002DUS","Lenovo"]
["SSD95058","MP14XWAG","Central Office",null,"Lenovo ThinkPad Yoga 260 (Core i5-6300U, 8GB, 256GB)",null,"In Service","Laptops",{"$nulls":4},"20FD002DUS","Lenovo"]
["SSD95059","MP14QZFU","Central Office",null,"Lenovo ThinkPad Yoga 260 (Core i5-6300U, 8GB, 256GB)",null,"In Service","Laptops",{"$nulls":4},"20FD002DUS","Lenovo"]
["SSD95060","MP14XW5H","Central Office",null,"Lenovo ThinkPad Yoga 260 (Core i5-6300U, 8GB, 256GB)",null,"In Service","Laptops",{"$nulls":4},"20FD002DUS","Lenovo"]
["SSD97438","MP14XPWG","Central Office",null,"Lenovo ThinkPad Yoga 260 (Core i5-6300U, 8GB, 256GB)",null,"In Service","Laptops",{"$nulls":4},"20FD002DUS","Lenovo"]
["SSD97439","MP14XPCG","Central Office",null,"Lenovo ThinkPad Yoga 260 (Core i5-6300U, 8GB, 256GB)",null,"In Service","Laptops",{"$nulls":4},"20FD002DUS","Lenovo"]
["SSD97441","MP14XPXA","Central Office",null,"Lenovo ThinkPad Yoga 260 (Core i5-6300U, 8GB, 256GB)",null,"In Service","Laptops",{"$nulls":4},"20FD002DUS","Lenovo"]
["SSD97444","MP14XPCB","Central Office",null,"Lenovo ThinkPad Yoga 260 (Core i5-6300U, 8GB, 256GB)",null,"In Service","Laptops",{"$nulls":4},"20FD002DUS","Lenovo"]
["SSD98237","MP176H51","Central Office",null,"Lenovo ThinkPad Yoga 260 (Core i5-6300U, 8GB, 256GB)",null,"In Service","Laptops",{"$nulls":4},"20FD002DUS","Lenovo"]
["SSD98239","MP176HWW","Central Office",null,"Lenovo ThinkPad Yoga 260 (Core i5-6300U, 8GB, 256GB)",null,"In Service","Laptops",{"$nulls":4},"20FD002DUS","Lenovo"]
["SSD98240","MP176K9J","Central Office",null,"Lenovo ThinkPad Yoga 260 (Core i5-6300U, 8GB, 256GB)",null,"In Service","Laptops",{"$nulls":4},"20FD002DUS","Lenovo"]
["SSD98242","MP176H5Z","Central Office",null,"Lenovo ThinkPad Yoga 260 (Core i5-6300U, 8GB, 256GB)",null,"In Service","Laptops",{"$nulls":4},"20FD002DUS","Lenovo"]
["SSD98243","MP176JMH","Central Office",null,"Lenovo ThinkPad Yoga 260 (Core i5-6300U, 8GB, 256GB)",null,"In Service","Laptops",{"$nulls":4},"20FD002DUS","Lenovo"]
["SSD98244","MP176K9H","Central Office",null,"Lenovo ThinkPad Yoga 260 (Core i5-6300U, 8GB, 256GB)",null,"In Service","Laptops",{"$nulls":4},"20FD002DUS","Lenovo"]
["SSD98245","MP176H68","Central Office",null,"Lenovo ThinkPad Yoga 260 (Core i5-6300U, 8GB, 256GB)",null,"In Service","Laptops",{"$nulls":4},"20FD002DUS","Lenovo"]
["SSD98246","MP176H8R","Central Office",null,"Lenovo ThinkPad Yoga 260 (Core i5-6300U, 8GB, 256GB)",null,"In Service","Laptops",{"$nulls":4},"20FD002DUS","Lenovo"]
["SSD98247","MP176H50","Central Office",null,"Lenovo ThinkPad Yoga 260 (Core i5-6300U, 8GB, 256GB)",null,"In Service","Laptops",{"$nulls":4},"20FD002DUS","Lenovo"]
["SSD98248","MP176H4Y","Central Office",null,"Lenovo ThinkPad Yoga 260 (Core i5-6300U, 8GB, 256GB)",null,"In Service","Laptops",{"$nulls":4},"20FD002DUS","Lenovo"]
["SSD98249","MP176H5U","Central Office",null,"Lenovo ThinkPad Yoga 260 (Core i5-6300U, 8GB, 256GB)",null,"In Service","Laptops",{"$nulls":4},"20FD002DUS","Lenovo"]
["SSD98250","MP176KAN","Central Office",null,"Lenovo ThinkPad Yoga 260 (Core i5-6300U, 8GB, 256GB)",null,"In Service","Laptops",{"$nulls":4},"20FD002DUS","Lenovo"]
["SSD98252","MP176KCB","Central Office",null,"Lenovo ThinkPad Yoga 260 (Core i5-6300U, 8GB, 256GB)",null,"In Service","Laptops",{"$nulls":4},"20FD002DUS","Lenovo"]
["SSD98254","MP176J1U","Central Office",null,"Lenovo ThinkPad Yoga 260 (Core i5-6300U, 8GB, 256GB)",null,"In Service","Laptops",{"$nulls":4},"20FD002DUS","Lenovo"]
["SSD98255","MP176H45","Central Office",null,"Lenovo ThinkPad Yoga 260 (Core i5-6300U, 8GB, 256GB)",null,"In Service","Laptops",{"$nulls":4},"20FD002DUS","Lenovo"]
["SSD98256","MP176HWY","Central Office",null,"Lenovo ThinkPad Yoga 260 (Core i5-6300U, 8GB, 256GB)",null,"In Service","Laptops",{"$nulls":4},"20FD002DUS","Lenovo"]
["TELLO",{"$nulls":3},"Tello",null,"In Service","Mobile Applications",{"$nulls":5},"DJI"]
["TEST-002",null,"Pending","Test Room - 100","Epson Brighlink 695Wi Projector",null,"In Service","Projector",{"$nulls":5},"Epson"]
["TEST-003",null,"Pending","Test Room - 100","FrontRow Pro Digital 940R Receiver/Amplifier with 940TM Transmitter/Microphone",null,"In Service","Classroom Audio",{"$nulls":5},"FrontRow"]
["TEST-004",null,"Concord Elementary",null,"Apple MacBook Air M2, 8GB, 256GB  (2022)","iiQ Test Faculty","In Service","MacBook",{"$nulls":5},"Apple"]
["TEST-005",null,"Long Elementary",null,"Lenovo 500e Chromebook (Gen 2)",null,"In Service","Chromebooks",{"$nulls":5},"Lenovo"]
["VIMONITORPLUS",{"$nulls":3},"VI Monitor Plus",null,"In Service","Utility Tools",{"$nulls":5},"Panasonic"]
["VISUALIZER",{"$nulls":3},"Visualizer",null,"In Service","Utility Tools",{"$nulls":5},"IPEVO"]
["YOUTUBE",{"$nulls":3},"YouTube",null,"In Service","Business",{"$nulls":5},"Google"]
["ZOOMCONFERENCING",{"$nulls":3},"Zoom Conferencing",null,"In Service","Directory Management",{"$nulls":5},"Zoom"]