{"text_format":"3","workbook":"xlsx","n_sheets":7,"sheets":["Pricing Summary","Admin","Classroom","Multi Purpose","Cafeteria","Media Center","Misc"],"not_rendered":{"images":3},"read":"whole","date_system":"1900"}

{"sheet":"Pricing Summary","index":0,"n_rows":25,"n_cols":3,"rows_kept":25,"merged":[[1,1,1,3],[2,1,2,3],[3,1,3,3]]}
[]
[null,"Response Totals Summary"]
[null,"Fill in the individual tabs."]
[null,"This sheet will self populate."]
[]
["Area"]
[]
["Admin",null,{"$f":"Admin!C1","v":{"v":0,"d":"$0"}}]
[]
["Classroom / Teacher",null,{"$f":"Classroom!C1","v":{"v":0,"d":"$0"}}]
[]
["Multi Purpose",null,{"$f":"'Multi Purpose'!C1","v":{"v":0,"d":"$0"}}]
[]
["Media Center",null,{"$f":"'Media Center'!C1","v":{"v":0,"d":"$0"}}]
[]
["Cafeteria",null,{"$f":"Cafeteria!C1","v":{"v":0,"d":"$0"}}]
[]
["Misc",null,{"$f":"Misc!C1","v":{"v":0,"d":"$0"}}]
[]
[]
["Total Std Desk Opt",null,{"$f":"SUM(C7:C19)","v":{"v":0,"d":"$0"}}]
[]
["Triangle Desks Add:",null,{"$f":"Classroom!E73","v":{"v":0,"d":"$0"}}]
[]
["Total w/Triangle Desks",null,{"$f":"C23+C21","v":{"v":0,"d":"$0"}}]

{"sheet":"Admin","index":1,"n_rows":24,"n_cols":16,"rows_kept":24}
[null,"Page Total",{"$f":"SUM(C24:O24)","v":{"v":0,"d":"$0"}}]
[null,null,"Guest Chairs - Fabric","Lobby Chairs - Vinyl","Lobby Tables","Receptionist Chairs","Executive Style Mesh Chair","L Desk w/Hutch, BackPanel","Mini Conf Table - Seat 4","Filing Cabinet","5 Shelf Bookshelf","Filing Cabinet on wheels","U Desk Bow Front","Conf Table 10ft Boat","Conf Rm Chairs w/Arms and casters","Collaborative Tables (AB Expanse)"]
[1100,"Guest lobby",null,8,3]
[1104,"Receptionist",{"$nulls":3},2]
[1106,"SRO office",2,{"$nulls":3},1,1,null,1]
[1109,"Bookkeeper",2,{"$nulls":3},1,1,null,3,null,1]
[1114,"AP office",5,{"$nulls":3},1,1,1,1,1]
[1116,"Small Conf. room"]
[1117,"AP office",6,{"$nulls":3},1,1,1,1,1]
[1118,"Copy room"]
[1119,"Principal's office",2,{"$nulls":3},1,null,null,1,1,null,1]
[1120,"Confernce room",{"$nulls":11},1,10]
[1121,"Vault",{"$nulls":7},10]
[1306,"Media Specialist",2,{"$nulls":3},1,1,null,1,1]
[1402,"Design Room/Prof. Learning",{"$nulls":12},25,10]
[1404,"Instructional coach office",5,{"$nulls":3},1,1,1,1,1]
[1422,"Counselor conference",{"$nulls":11},1,8]
[1422,"Counselor office",2,{"$nulls":3},1,1]
[1422,"Counselor office",2,{"$nulls":3},1,1]
[]
[null,"Total",{"$f":"SUM(C3:C19)","v":28},8,3,2,9,8,3,19,5,1,1,2,43,10]
[null,"Unit Price",{"v":0,"d":"$0"},{"v":0,"d":"$0"},{"v":0,"d":"$0"},{"v":0,"d":"$0"},{"v":0,"d":"$0"},{"v":0,"d":"$0"},{"v":0,"d":"$0"},{"v":0,"d":"$0"},{"v":0,"d":"$0"},{"v":0,"d":"$0"},{"v":0,"d":"$0"},{"v":0,"d":"$0"},{"v":0,"d":"$0"},{"v":0,"d":"$0"}]
[]
[null,"Extended Cost",{"$f":"C22*C21","v":{"v":0,"d":"$0"}},{"$f":"D22*D21","v":{"v":0,"d":"$0"}},{"$f":"E22*E21","v":{"v":0,"d":"$0"}},{"v":0,"d":"$0"},{"v":0,"d":"$0"},{"v":0,"d":"$0"},{"v":0,"d":"$0"},{"v":0,"d":"$0"},{"v":0,"d":"$0"},{"v":0,"d":"$0"},{"v":0,"d":"$0"},{"v":0,"d":"$0"},{"v":0,"d":"$0"},{"v":0,"d":"$0"}]

{"sheet":"Classroom","index":2,"n_rows":65,"n_cols":12,"rows_kept":65}
[null,"Page Total",{"$f":"SUM(C65:K65)","v":{"v":0,"d":"$0"}}]
[null,null,"Student Desk","Student Chair","Teacher Desk","Teacher Chair","Filing Cabinet","4 Shelf BookCase","Art Table","Horseshoe table","Collaborative Tables (AB Expanse)","Collaborative Tables (AB Nebula)"]
[1110,"ISS",12,12,1,1]
[1229,"coach office",null,null,1,1,1]
[1232,"coach office",null,null,1,1,1]
[1305,"Tech support office",null,null,1,1]
[1403,"STEM lab",40,40,1,1]
[1411,"Art room",null,40,{"$nulls":4},10]
[1414,"self-contained special education",18,18,3,3,2,1,null,1]
[1415,"self-contained special education",20,20,null,1]
[1422,"Attendance clerk office",null,4,1,1]
[1422,"school phychologist/ social worker",null,null,1,1]
[1504,"Standard classroom",32,32,1,1,1,1]
[1505,"Science lab",null,32,1,1,1,1,null,null,8,8]
[1506,"Standard classroom",32,32,1,1,1,1]
[1508,"Standard classroom",32,32,1,1,1,1]
[1510,"Standard classroom",32,32,1,1,1,1]
[1511,"Science lab",null,32,1,1,1,1,null,null,8,8]
[1512,"Standard classroom",32,32,1,1,1,1]
[1513,"Science lab",null,32,1,1,1,1,null,null,8,8]
[1514,"Standard classroom",32,32,1,1,1,1]
[1516,"Standard classroom",32,32,1,1,1,1]
[1517,"Science lab",null,32,1,1,1,1,null,null,8,8]
[1518,"Standard classroom",32,32,1,1,1,1]
[1603,"Standard classroom",32,32,1,1,1,1]
[1605,"Science lab",null,32,1,1,1,1,null,null,8,8]
[1606,"Standard classroom",32,32,1,1,1,1]
[1608,"Standard classroom",32,32,1,1,1,1]
[1610,"Standard classroom",32,32,1,1,1,1]
[1611,"Science lab",null,32,1,1,1,1,null,null,8,8]
[1612,"Standard classroom",32,32,1,1,1,1]
[1613,"Science lab",null,32,1,1,1,1,null,null,8,8]
[1614,"Standard classroom",32,32,1,1,1,1]
[1615,"Science lab",null,32,1,1,1,1,null,null,8,8]
[1616,"Standard classroom",32,32,1,1,1,1]
[1617,"Standard classroom",32,32,1,1,1,1]
[1704,"Standard classroom",32,32,1,1,1,1]
[1705,"Standard classroom",32,32,1,1,1,1]
[1706,"Science lab",null,32,1,1,1,1,null,null,8,8]
[1707,"Standard classroom",32,32,1,1,1,1]
[1709,"Standard classroom",32,32,1,1,1,1]
[1711,"Standard classroom",32,32,1,1,1,1]
[1712,"Science lab",null,32,1,1,1,1,null,null,8,8]
[1713,"Standard classroom",32,32,1,1,1,1]
[1714,"Science lab",null,32,1,1,1,1,null,null,8,8]
[1715,"Standard classroom",32,32,1,1,1,1]
[1716,"Science lab",null,32,1,1,1,1,null,null,8,8]
[1717,"Standard classroom",32,32,1,1,1,1]
[1803,"Standard classroom",32,32,1,1,1,1]
[1805,"Science lab",null,32,1,1,1,1,null,null,8,8]
[1806,"Standard classroom",32,32,1,1,1,1]
[1808,"Standard classroom",32,32,1,1,1,1]
[1810,"Standard classroom",32,32,1,1,1,1]
[1811,"Science lab",null,32,1,1,1,1,null,null,8,8]
[1812,"Standard classroom",32,32,1,1,1,1]
[1813,"Science lab",null,32,1,1,1,1,null,null,8,8]
[1814,"Standard classroom",32,32,1,1,1,1]
[1815,"Science lab",null,32,1,1,1,1,null,null,8,8]
[1816,"Standard classroom",32,32,1,1,1,1]
[1817,"Standard classroom",32,32,1,1,1,1]
[]
[null,"Totals",{"$f":"SUM(C3:C60)","v":{"v":1114,"d":"1,114"}},{"$f":"SUM(D3:D60)","v":{"v":1670,"d":"1,670"}},{"$f":"SUM(E4:E60)","v":57},58,52,49,10,1,128,{"$f":"SUM(L4:L60)","v":128}]
[null,"Unit Price",{"v":0,"d":"$0"},{"v":0,"d":"$0"},{"v":0,"d":"$0"},{"v":0,"d":"$0"},{"v":0,"d":"$0"},{"v":0,"d":"$0"},{"v":0,"d":"$0"},{"v":0,"d":"$0"},{"v":0,"d":"$0"},{"v":0,"d":"$0"}]
[]
[null,"Extended Cost",{"$f":"C62*C63","v":{"v":0,"d":"$0"}},{"$f":"D62*D63","v":{"v":0,"d":"$0"}},{"v":0,"d":"$0"},{"v":0,"d":"$0"},{"v":0,"d":"$0"},{"v":0,"d":"$0"},{"v":0,"d":"$0"},{"v":0,"d":"$0"},{"v":0,"d":"$0"},{"$f":"L62*L63","v":{"v":0,"d":"$0"}}]

{"sheet":"Multi Purpose","index":3,"n_rows":7,"n_cols":7,"rows_kept":7}
[null,"Page Total",{"$f":"SUM(E7:G7)","v":{"v":0,"d":"$0"}}]
[{"$nulls":4},"Church Chairs w/Ganging","72\" Tables","Table Dolly"]
[1202,"Multi-purpose room","Seating for 250 (round tables with chairs)",null,250,42,5]
[]
[{"$nulls":3},"Unit Price",{"v":0,"d":"$0"},{"v":0,"d":"$0"},{"v":0,"d":"$0"}]
[]
[{"$nulls":3},"Ext. Cost",{"$f":"E5*E3","v":{"v":0,"d":"$0"}},{"$f":"F5*F3","v":{"v":0,"d":"$0"}},{"v":0,"d":"$0"}]

{"sheet":"Cafeteria","index":4,"n_rows":23,"n_cols":7,"rows_kept":23}
[null,"Page Total",{"$f":"G23","v":{"v":0,"d":"$0"}}]
[]
[]
[1208,"cafeteria","Seating for 320 or so",null,"Total Price per your design",null,{"v":0,"d":"$0"}]
[]
[]
[{"$nulls":4},"TMR277151GY Grey"]
[null,"O/S Picnic Tables 46\"","Global Industrial ","Quantity",8]
[{"$nulls":3},"Unit Price",{"v":0,"d":"$0"}]
[{"$nulls":3},"Extended Cost",null,null,{"$f":"E9*E8","v":{"v":0,"d":"$0"}}]
[]
[]
[{"$nulls":4},"36\" Diam. Aero Xbase Table ATX4236RD","Encore Chair EMPHP12LUG2"]
[null,"Bistro Height Table/chairs","Palmer Hamilton","Quantity",6,12]
[{"$nulls":3},"Unit Price",{"v":0,"d":"$0"},{"v":0,"d":"$0"}]
[{"$nulls":3},"Extended Cost",{"$f":"E15*E14","v":{"v":0,"d":"$0"}},{"$f":"F15*F14","v":{"v":0,"d":"$0"}},{"$f":"F16+E16","v":{"v":0,"d":"$0"}}]
[]
[{"$nulls":4},"Conf Room Chairs w/Arms &Casters"]
[null,"Chairs for Managers","HON Volt w/ Arms &  Casters","Quantity",2]
[{"$nulls":3},"Unit Price",{"v":0,"d":"$0"}]
[{"$nulls":3},"Extended Cost",null,null,{"$f":"E20*E19","v":{"v":0,"d":"$0"}}]
[]
[{"$nulls":6},{"$f":"SUM(G3:G22)","v":{"v":0,"d":"$0.00"}}]

{"sheet":"Media Center","index":5,"n_rows":17,"n_cols":7,"rows_kept":17,"merged":[[16,6,16,7]]}
[null,"Page Total",{"$f":"SUM(C14:G14)","v":{"v":0,"d":"$0"}}]
[]
[null,"Design the media center with some Soft Seating"]
[null,null,"Student Chairs","Collaborative Tables (Nova)","Collaborative Tables (Nebula)",null,"Soft Seating"]
["1301 and 1303","Media center breakout / resouce room ",30,2,2]
[]
[1302,"Media center"]
[]
[]
[null,"Totals",{"$f":"SUM(C5:C8)","v":30},{"$f":"SUM(D5:D8)","v":2},{"$f":"SUM(E5:E8)","v":2},null,{"$f":"SUM(G5:G8)","v":0}]
[]
[null,"Unit Price",{"v":0,"d":"$0"},{"v":0,"d":"$0"},{"v":0,"d":"$0"},null,{"v":0,"d":"$0"}]
[]
[null,"Extended Cost Est",{"$f":"C10*C12","v":{"v":0,"d":"$0"}},{"$f":"D10*D12","v":{"v":0,"d":"$0"}},{"v":0,"d":"$0"},null,{"v":0,"d":"$0"}]
[]
[]
[null,null,"Nova",null,"Nebula",null,"Expanse"]

{"sheet":"Misc","index":6,"n_rows":16,"n_cols":9,"rows_kept":16}
[null,"Page Total",{"$f":"I16","v":{"v":0,"d":"$0"}}]
[{"$nulls":3},"Recovery Couch","Student Chairs","Filing Cabinet"]
[1103,"Nurse station",null,1,4,1]
[]
[null,null,"Unit Price",{"v":0,"d":"$0"},{"v":0,"d":"$0"},{"v":0,"d":"$0"}]
[null,null,"Extended Cost",{"$f":"D5*D3","v":{"v":0,"d":"$0"}},{"$f":"E5*E3","v":{"v":0,"d":"$0"}},{"$f":"F5*F3","v":{"v":0,"d":"$0"}},null,null,{"$f":"SUM(D6:G6)","v":{"v":0,"d":"$0"}}]
[]
[]
[{"$nulls":3},"Wenger Student Chair","Chair Dolly","Wenger Classic 50 Stand","Stand Dolly"]
[1207,"Band Room",null,80,5,80,4]
[]
[null,null,"Unit Price",{"v":0,"d":"$0"},{"v":0,"d":"$0"},{"v":0,"d":"$0"},{"v":0,"d":"$0"}]
[null,null,"Extended Cost",{"$f":"D12*D10","v":{"v":0,"d":"$0"}},{"$f":"E12*E10","v":{"v":0,"d":"$0"}},{"$f":"F12*F10","v":{"v":0,"d":"$0"}},{"$f":"G12*G10","v":{"v":0,"d":"$0"}},null,{"$f":"SUM(D13:G13)","v":{"v":0,"d":"$0"}}]
[]
[]
[{"$nulls":8},{"$f":"SUM(I5:I15)","v":{"v":0,"d":"$0"}}]