{"text_format":"3","workbook":"xlsx","n_sheets":5,"sheets":["Legend","Sch A","Sch B","Sch C","Bid Tabulation"],"not_rendered":{"images":1,"external_links":1},"read":"whole","date_system":"1900"}

{"sheet":"Legend","index":0,"n_rows":5,"n_cols":2,"rows_kept":5,"merged":[[0,0,0,1],[5,0,5,1]]}
["L E G E N D"]
["COLOR","CONTRACTOR INSTRUCTIONS"]
[0," To Be Entered by Contractor"]
[{"$f":"'[1]Sch A'!$I$15","v":0}," Automatically Calculated and Brought Forward (Contractor Should not Alter)"]
[{"$f":"'[1]Sch A'!$I$15","v":0}," Automatically Calculated (Contractor Should not Alter)"]

{"sheet":"Sch A","index":1,"n_rows":118,"n_cols":24,"rows_kept":118,"merged":[[0,0,0,15],[0,18,6,23],[1,0,1,15],[2,0,2,15],[3,0,3,15],[4,0,4,15],[5,0,5,15],[6,0,6,15],[7,0,7,15],[7,18,8,23],[9,18,9,19],[9,20,9,21],[9,22,9,23],[104,0,104,12],[117,10,117,13],[118,0,118,12],[121,4,121,10],[122,4,122,10],[123,4,123,10],[124,4,124,10],[125,10,125,13],[126,0,126,10]]}
["STORMWATER MANAGEMENT FACILITIES",{"$nulls":17},"FYI - The table below calcuates the Total Annual SF and the Total Annual Cost.\n\nThose costs are transferred to the Routine Line Items and Summary Table (bottom left)"]
["SCHEDULE A - MAINTENANCE PRICING SCHEDULE BY LOCATION"]
[]
["FURNISHING ALL LABOR, MATERIALS, EQUIPMENT, DISPOSAL & HAUL FOR THE INSPECTION & MAINTENANCE"]
["OF COUNTY-OWNED STORMWATER MANAGEMENT FACILITIES IN ARLINGTON, VIRGINIA"]
[]
["CONTRACTOR: PLEASE PROVIDE PRICES IN ALL CELLS HIGHLIGHTED IN BLUE"]
[{"$nulls":18},"does not print"]
["SCHEDULE A - MAINTENANCE PRICING SCHEDULE BY LOCATION"]
["FACILITIES COST BREAKDOWN BY LOCATION",{"$nulls":17},"BIORETENTION",null,"FILTERRA",null,"PERMEABLE PAVEMENT"]
["OWNER","LAT","LONG","FACILITY\nID","CSP","FACILITY LOCATION","FACILITY\nADDRESS","FACILITY \nDESCRIPTION","RELEASE","Pretreatment","SERVICE SPEC\n(LINE ITEM #)","SIZE\n(SF)","SERVICE\nMONTHS **","ANNUAL\nVISITS ","UNIT PRICE\n(PER SITE VISIT)","ONE-YEAR\nCONTRACT\nPRICE ",null,null,"TOTAL\nANNUAL\nSF","TOTAL\nANNUAL\nCOST","TOTAL\nANNUAL\nSF","TOTAL\nANNUAL\nCOST","TOTAL\nANNUAL\nSF","TOTAL\nANNUAL\nCOST"]
["FMB",38.857018,-77.111997,"08-1079D",1100807,"ARL MILL COMM CTR","4975 COLUMBIA PIKE","FILTERRA","UNDERDRAIN","FILTER STRIP","V101-01",24,"AUG  FEB",2,0,{"$f":"N12*O12","v":0},{"$nulls":4},{"$f":"L12*N12","v":48},{"$f":"P12","v":{"v":0,"d":"$0.00"}}]
["FMB",38.857411,-77.058729,"03-872B",767,"FIRE STATION #5","1750 S HAYES ST","FILTERRA","UNDERDRAIN","FILTER STRIP","V101-01",24,"AUG  FEB",2,0,0,{"$nulls":4},{"$f":"L13*N13","v":48},{"$f":"P13","v":{"v":0,"d":"$0.00"}}]
["FMB",38.857341,-77.058629,"03-872C",767,"FIRE STATION #5","1750 S HAYES ST","FILTERRA","UNDERDRAIN","FILTER STRIP","V101-01",24,"AUG  FEB",2,0,0,{"$nulls":4},48,{"v":0,"d":"$0.00"}]
["FMB",38.883699,-77.106263,"89-362",453,"CENTRAL LIBRARY","1015 N QUINCY ST","DRY POND w/CONCRETE SWALE - GRASS","OUTLET TO STORM DRAIN",null,"V100-01",{"v":4570,"d":"4,570"},"AUG",1,0,0,null,null,{"$f":"L15*N15","v":{"v":4570,"d":"4,570"}},{"$f":"P15","v":{"v":0,"d":"$0.00"}}]
["FMB",38.857425,-77.058036,"03-872A",767,"FIRE STATION #5","1750 S HAYES ST","BIORETENTION","UNDERDRAIN","Stone Diaphragm","V100-01",225," AUG  OCT DEC FEB APR  JUN",6,0,0,null,null,{"$f":"L16*N16","v":{"v":1350,"d":"1,350"}},{"$f":"P16","v":{"v":0,"d":"$0.00"}}]
["FMB",38.901976,-77.096898,"07-1069B",501542,"WOODMONT COMM CTR","2422 N FILLMORE ST","BIORETENTION W/STORMCHAMBER","34\" STORMCHAMBER UNDERDRAIN TO STORM DRAIN","Grass Filter Strip","V100-01",943," AUG  OCT DEC FEB APR  JUN",6,0,0,null,null,{"v":5658,"d":"5,658"},{"v":0,"d":"$0.00"}]
["FMB",38.897104,-77.127622,"15-2115A",15252,"FIRE STATION HOUSE","2217 N CULPEPPER ST","SW PLANTER 1 - 9\"","UNDERDRAIN TO TRENCH","Stone Diaphragm","V100-01",32,"AUG  FEB",2,0,0,null,null,{"$f":"L18*N18","v":64},{"$f":"P18","v":{"v":0,"d":"$0.00"}}]
["FMB",38.897083,-77.127537,"15-2115B",15252,"FIRE STATION HOUSE","2217 N CULPEPPER ST","INFILTRATION TRENCH - GRAVEL","INFILTRATION","Planter Box, Drain Pit","V100-01",32,"AUG  FEB",2,0,0,null,null,{"$f":"L19*N19","v":64},{"$f":"P19","v":{"v":0,"d":"$0.00"}}]
["FMB",38.856303,-77.11175,"08-1079B",1100807,"ARL MILL COMM CTR","4975 COLUMBIA PIKE","PERMEABLE PAVERS - OW","UNDERDRAIN TO DETENTION VAULT",null,"P100-01",{"v":8276,"d":"8,276"},"MAR JULY DEC",3,0,0,{"$nulls":6},{"$f":"L20*N20","v":{"v":24828,"d":"24,828"}},{"$f":"P20","v":{"v":0,"d":"$0.00"}}]
["FMB",38.897831,-77.110474,"06-1022D",934,"FIRE STATION #3","4100 OLD DOMINION DR","PERMEABLE PAVERS","INFILTRATION",null,"P100-01",{"v":2200,"d":"2,200"},"MAR JULY DEC",3,0,0,{"$nulls":6},{"$f":"L21*N21","v":{"v":6600,"d":"6,600"}},{"$f":"P21","v":{"v":0,"d":"$0.00"}}]
["FMB",38.857685,-77.058683,"03-872D",767,"FIRE STATION #5","1750 S HAYES ST","OPEN BLOCK PERMEABLE PAVERS ","INFILTRATION",null,"P100-01",{"v":2830,"d":"2,830"},"MAR JULY DEC",3,0,0,{"$nulls":6},{"v":8490,"d":"8,490"},{"v":0,"d":"$0.00"}]
["FMB",38.851756,-77.092373,"13-1522",13187,"FIRE STATION #9","1900 S WALTER REED DR","PAVE DRAIN PERM PAVERS - OW","INFILTRATION",null,"P100-01",{"v":1730,"d":"1,730"},"MAR JULY DEC",3,0,0,{"$nulls":6},{"v":5190,"d":"5,190"},{"v":0,"d":"$0.00"}]
["FMB",38.844692,-77.066814,"18-0156A",19050,"HEAD START A","2920 S GLEBE ROAD","SYNTHETIC TURF* - OW","Underdrain","Sump Pit","P100-01",645,"MAR",1,0,0,{"$nulls":6},645,{"v":0,"d":"$0.00"}]
["FMB",38.844799,-77.066827,"18-0156B",19050,"HEAD START B","2920 S GLEBE ROAD","SYNTHETIC TURF* - OW","Underdrain",null,"P100-01",{"v":1470,"d":"1,470"},"MAR",1,0,0,{"$nulls":6},{"v":1470,"d":"1,470"},{"v":0,"d":"$0.00"}]
["FMB",38.844751,-77.066972,"18-0156C",19050,"HEAD START C","2920 S GLEBE ROAD","SYNTHETIC TURF* - OW","Underdrain","Sump Pit","P100-01",{"v":1578,"d":"1,578"},"MAR",1,0,0,{"$nulls":6},{"v":1578,"d":"1,578"},{"v":0,"d":"$0.00"}]
[{"$nulls":7},"*inspection only"]
["OWNER",null,null,"FACILITY\nID","CSP","FACILITY LOCATION","FACILITY\nADDRESS","FACILITY \nDESCRIPTION",null,null,"SERVICE SPEC\n(LINE ITEM #)","SIZE\n(SF)","SERVICE\nMONTHS **","ANNUAL\nVISITS ","UNIT PRICE\n(PER SITE VISIT)","ONE-YEAR\nCONTRACT\nPRICE ",null,null,"TOTAL\nANNUAL\nSF","TOTAL\nANNUAL\nCOST","TOTAL\nANNUAL\nSF","TOTAL\nANNUAL\nCOST","TOTAL\nANNUAL\nSF","TOTAL\nANNUAL\nCOST"]
["OSEM",38.843711,-77.085879,"2012-3",4620275,"WEENIE BEENIE","2680 S SHIRLINGTON RD","DRY SWALE - GRASS","UNDERDRAIN",null,"V100-01",325,"AUG",1,0,{"$f":"N29*O29","v":0},null,null,{"$f":"L29*N29","v":325},{"$f":"P29","v":{"v":0,"d":"$0.00"}}]
["OSEM",38.919269,-77.120925,"2014-4A",99997,"GULF BRANCH NATURE CTR","3608 N MILITARY RD","SW PLANTER - 3\"","UNDERDRAIN","Stone Diaphragm","V100-01",175,"AUG  FEB ",2,0,0,null,null,{"$f":"L30*N30","v":350},{"$f":"P30","v":{"v":0,"d":"$0.00"}}]
["OSEM",38.919246,-77.121027,"2014-4B",99997,"GULF BRANCH NATURE CTR","3608 N MILITARY RD","SW PLANTER - 3\" ","UNDERDRAIN","Stone Diaphragm","V100-01",60,"AUG  FEB ",2,0,{"$f":"N31*O31","v":0},null,null,{"$f":"L31*N31","v":120},{"$f":"P31","v":{"v":0,"d":"$0.00"}}]
["OSEM",38.86087,-77.060035,"2014-5A",4615133,"PENTAGON CITY","1200 S HAYES ST","SW PLANTER","UNDERDRAIN","Stone or Concrete ","V100-01",100,"JUL AUG SEP OCT DEC FEB APR MAY JUN",9,0,0,null,null,900,{"v":0,"d":"$0.00"}]
["OSEM",38.861155,-77.060003,"2014-5B",4615133,"PENTAGON CITY","1200 S HAYES ST","SW PLANTER","UNDERDRAIN","Stone or Concrete ","V100-01",100,"JUL AUG SEP OCT DEC FEB APR MAY JUN",9,0,0,null,null,900,{"v":0,"d":"$0.00"}]
["OSEM",38.861459,-77.059987,"2014-5C",4615133,"PENTAGON CITY","1200 S HAYES ST","SW PLANTER","UNDERDRAIN","Stone or Concrete ","V100-01",100,"JUL AUG SEP OCT DEC FEB APR MAY JUN",9,0,{"$f":"N34*O34","v":0},null,null,{"$f":"L34*N34","v":900},{"$f":"P34","v":{"v":0,"d":"$0.00"}}]
["OSEM",38.861722,-77.059959,"2014-5D",4615133,"PENTAGON CITY","1200 S HAYES ST","SW PLANTER","UNDERDRAIN","Stone or Concrete ","V100-01",100,"JUL AUG SEP OCT DEC FEB APR MAY JUN",9,0,0,null,null,900,{"v":0,"d":"$0.00"}]
["OSEM",38.862113,-77.059903,"2014-5E",4615133,"PENTAGON CITY","1200 S HAYES ST","SW PLANTER","UNDERDRAIN","Stone or Concrete ","V100-01",100,"JUL AUG SEP OCT DEC FEB APR MAY JUN",9,0,0,null,null,900,{"v":0,"d":"$0.00"}]
["OSEM",38.863524,-77.059574,"2014-5F",4615133,"PENTAGON CITY","1200 S HAYES ST","SW PLANTER","UNDERDRAIN","Stone or Concrete ","V100-01",50,"JUL AUG SEP OCT DEC FEB APR MAY JUN",9,0,0,null,null,450,{"v":0,"d":"$0.00"}]
["OSEM",38.863802,-77.05945,"2014-5G",4615133,"PENTAGON CITY","1200 S HAYES ST","SW PLANTER","UNDERDRAIN","Stone or Concrete ","V100-01",50,"JUL AUG SEP OCT DEC FEB APR MAY JUN",9,0,0,null,null,450,{"v":0,"d":"$0.00"}]
["OSEM",38.864058,-77.05933,"2014-5H",4615133,"PENTAGON CITY","1200 S HAYES ST","SW PLANTER","UNDERDRAIN","Stone or Concrete ","V100-01",50,"JUL AUG SEP OCT DEC FEB APR MAY JUN",9,0,0,null,null,450,{"v":0,"d":"$0.00"}]
["OSEM",38.864494,-77.059101,"2014-5I",4615133,"PENTAGON CITY","1200 S HAYES ST","SW PLANTER","UNDERDRAIN","Stone or Concrete ","V100-01",50,"JUL AUG SEP OCT DEC FEB APR MAY JUN",9,0,0,null,null,450,{"v":0,"d":"$0.00"}]
["OSEM",38.864815,-77.058948,"2014-5J",4615133,"PENTAGON CITY","1200 S HAYES ST","SW PLANTER","UNDERDRAIN","Stone or Concrete ","V100-01",50,"JUL AUG SEP OCT DEC FEB APR MAY JUN",9,0,0,null,null,450,{"v":0,"d":"$0.00"}]
["OSEM",38.86505,-77.058866,"2014-5K",4615133,"PENTAGON CITY","1200 S HAYES ST","SW PLANTER","UNDERDRAIN","Stone or Concrete ","V100-01",50,"JUL AUG SEP OCT DEC FEB APR MAY JUN",9,0,0,null,null,450,{"v":0,"d":"$0.00"}]
["OSEM",38.863653,-77.059236,"2014-5L",4615133,"PENTAGON CITY","1100 S HAYES ST","BIORETENTION","UNDERDRAIN","Stone Diaphragm","V100-01",{"v":1548,"d":"1,548"},"JUL AUG SEP OCT DEC FEB APR MAY JUN",9,0,0,null,null,{"v":13932,"d":"13,932"},{"v":0,"d":"$0.00"}]
["OSEM",38.863823,-77.095843,"2015-6",4620326,"8TH ST S","8TH ST S @ S MONROE ST","BIORETENTION","UNDERDRAIN TO CATCH BASIN","Stone Diaphragm","V100-01",609,"JUL AUG SEP OCT NOV FEB APR MAY JUN",9,0,0,null,null,{"v":5481,"d":"5,481"},{"v":0,"d":"$0.00"}]
["OSEM",38.899428,-77.123711,"2012-2",4620269,"N ALBEMARLE ST","N ALBEMARLE ST @ 23rd ST N","BIORETENTION","UNDERDRAIN","Stone Diaphragm","V100-01",578," AUG  OCT DEC FEB APR  JUN",6,0,0,null,null,{"v":3468,"d":"3,468"},{"v":0,"d":"$0.00"}]
["OSEM",38.87705,-77.141782,"2011-1A",4620279,"PATRICK HENRY DRIVE","949 PATRICK HENRY DR","BIORETENTION","UNDERDRAIN","Stone Diaphragm","V100-01",823,"JUL AUG SEP OCT NOV FEB APR MAY JUN",9,0,0,null,null,{"v":7407,"d":"7,407"},{"v":0,"d":"$0.00"}]
["OSEM",38.876827,-77.141878,"2011-1B",4620279,"PATRICK HENRY DRIVE","949 PATRICK HENRY DR","BIORETENTION","UNDERDRAIN","Stone Diaphragm","V100-01",253,"JUL AUG SEP OCT NOV FEB APR MAY JUN",9,0,0,null,null,{"v":2277,"d":"2,277"},{"v":0,"d":"$0.00"}]
["OSEM",38.8918087519493,-77.1351908388509,"15-1926",15042,"PATRICK HENRY DRIVE","2013 PATRICK HENRY DR","BIORETENTION","Underdrain, overflows back into street","Stone Diaphragm","V100-01",470,"JUL AUG SEP OCT NOV FEB APR MAY JUN",9,0,0,null,null,{"v":4230,"d":"4,230"},{"v":0,"d":"$0.00"}]
["OSEM",38.9039615900541,-77.1251733433648,"16-0103",16109,"26TH ST LEAF STORAGE SITE","4628 26TH ST N","BIORETENTION","Underdrain","Concrete Forebay","V100-01",{"v":1730,"d":"1,730"},"JUL AUG SEP OCT NOV FEB APR MAY JUN",9,0,0,null,null,{"v":15570,"d":"15,570"},{"v":0,"d":"$0.00"}]
["OSEM",38.8866169550431,-77.0908121165375,"15-2067A",15196,"11ST N PARK","11TH ST N @ N DANVILLE ST","BIORETENTION - 12\"","Underdrain to storm sewer","Stone Diaphragm","V100-01",201," AUG  OCT DEC FEB APR  JUN",6,0,{"$f":"N50*O50","v":0},null,null,{"v":1206,"d":"1,206"},{"v":0,"d":"$0.00"}]
["OSEM",38.8867919549534,-77.0904667490481,"15-2067B",15196,"11ST N PARK","11TH ST N @ N DANVILLE ST","BIORETENTION - 6\"","Underdrain to storm sewer","Stone Diaphragm","V100-01",88," AUG  OCT DEC FEB APR  JUN",6,0,{"$f":"N51*O51","v":0},null,null,{"$f":"L51*N51","v":528},{"$f":"P51","v":{"v":0,"d":"$0.00"}}]
["OSEM",38.903686284477,-77.1501814327994,"15-1971A",15094,"JOHN MARSHALL DR","3112 JOHN MARSHALL DR","BIORETENTION - 12\"","Underdrain to storm sewer","Stone Diaphragm","V100-01",{"v":2245,"d":"2,245"},"JUL AUG SEP OCT NOV FEB APR MAY JUN",9,0,0,null,null,{"$f":"L52*N52","v":{"v":20205,"d":"20,205"}},{"$f":"P52","v":{"v":0,"d":"$0.00"}}]
["OSEM",38.9032918509458,-77.1499682450252,"15-1971B",15094,"JOHN MARSHALL DR","3101 JOHN MARSHALL DR","BIORETENTION - 12\"","Underdrain to storm sewer","Stone Diaphragm","V100-01",865,"JUL AUG SEP OCT NOV FEB APR MAY JUN",9,0,0,null,null,{"v":7785,"d":"7,785"},{"v":0,"d":"$0.00"}]
["OSEM",38.9035852435813,-77.1489562878454,"15-1971C",15094,"N KENSINGTON ST","3212 N KENSINGTON ST","BIORETENTION - 6\"","Underdrain to storm sewer","Stone Diaphragm","V100-01",610,"JUL AUG SEP OCT NOV FEB APR MAY JUN",9,0,0,null,null,{"$f":"L54*N54","v":{"v":5490,"d":"5,490"}},{"$f":"P54","v":{"v":0,"d":"$0.00"}}]
["OSEM",38.9032408983432,-77.1484409591879,"15-1971D",15094,"32ND ST N","5640 32ND ST N","BIORETENTION - 6\"","Underdrain to storm sewer","Stone Diaphragm","V100-01",555,"JUL AUG SEP OCT NOV FEB APR MAY JUN",9,0,0,null,null,{"$f":"L55*N55","v":{"v":4995,"d":"4,995"}},{"$f":"P55","v":{"v":0,"d":"$0.00"}}]
["OSEM",38.9114708270127,-77.1386847495647,"15-2091A",15227,"WILLIAMSBURG","WILLIAMSBURG @ 34TH ST N - 34TH RD N","BIORETENTION - 12\"","Underdrain to storm drain","Stone Forebay","V100-01",{"v":1598,"d":"1,598"},"JUL AUG SEP OCT NOV FEB APR MAY JUN",9,0,{"$f":"N56*O56","v":0},null,null,{"v":14382,"d":"14,382"},{"v":0,"d":"$0.00"}]
["OSEM",38.9116849798433,-77.1385904991328,"15-2091B",15227,"WILLIAMSBURG","WILLIAMSBURG @ 33RD RD - 34TH ST N","BIORETENTION - 12\"","Underdrain to storm drain","Stone Forebay","V100-01",{"v":1595,"d":"1,595"},"JUL AUG SEP OCT NOV FEB APR MAY JUN",9,0,0,null,null,{"v":14355,"d":"14,355"},{"v":0,"d":"$0.00"}]
["OSEM",38.907366631495,-77.1453368579899,"16-0320A",16347,"WILLIAMSBURG ","WILLIAMSBURG @ N HARRISON ST","BIORETENTION - 6\"","Underdrain to storm drain","Stone Forebay","V100-01",906,"JUL AUG SEP OCT NOV FEB APR MAY JUN",9,0,0,null,null,{"v":8154,"d":"8,154"},{"v":0,"d":"$0.00"}]
["OSEM",38.9073920098701,-77.14523311803,"16-0320B",16347,"WILLIAMSBURG","WILLIAMSBURG @ N HARRISON ST","BIORETENTION - 6\"","Underdrain to storm drain","Stone Forebay","V100-01",585,"JUL AUG SEP OCT NOV FEB APR MAY JUN",9,0,0,null,null,{"v":5265,"d":"5,265"},{"v":0,"d":"$0.00"}]
["OSEM",38.8874799695702,-77.1005254234414,"17-0253",17271,"KIRKWOOD","N KIRKWOOD RD @ 13TH RD N","BIORETENTION - 8.5\"","Underdrain to storm sewer","Stone Forebay","V100-01",644,"JUL AUG SEP OCT NOV FEB APR MAY JUN",9,0,0,null,null,{"v":5796,"d":"5,796"},{"v":0,"d":"$0.00"}]
["OSEM",38.8717349414,-77.0839122392,"18-0281A",18297,"PENROSE ","PENROSE @2ND ST S","BIORETENTION - 8\"","Underdrain to storm drain","Stone Forebay","V100-01",340,"JUL AUG SEP OCT NOV FEB APR MAY JUN",9,0,0,null,null,{"v":3060,"d":"3,060"},{"v":0,"d":"$0.00"}]
["OSEM",38.871792226,-77.0838409274,"18-0281B",18297,"PENROSE","PENROSE @2ND ST S","BIORETENTION - 9.5\"","Underdrain to storm drain","Stone Forebay","V100-01",436,"JUL AUG SEP OCT NOV FEB APR MAY JUN",9,0,0,null,null,{"v":3924,"d":"3,924"},{"v":0,"d":"$0.00"}]
["OSEM",38.8920190619,-77.1411716321,"18-0007",17343,"KENTUCKY ","N KENTUCKY ST @22ND ST N","BIORETENTION - 6\"","Under drain to Storm drain","Stone Forebay","V100-01",538,"JUL AUG SEP OCT NOV FEB APR MAY JUN",9,0,0,null,null,{"v":4842,"d":"4,842"},{"v":0,"d":"$0.00"}]
["OSEM",38.883576,-77.12333,"18-0051A",18050,"EVERGREEN","N EVERGREEN ST @11ST N","BIORETENTION - 6\"","Under drain to Storm drain","Stone Forebay","V100-01",794,"JUL AUG SEP OCT NOV FEB APR MAY JUN",9,0,{"$f":"N64*O64","v":0},null,null,{"$f":"L64*N64","v":{"v":7146,"d":"7,146"}},{"$f":"P64","v":{"v":0,"d":"$0.00"}}]
["OSEM",38.88337,-77.12408,"18-0051B",18050,"GEORGE MASON","GEO MASON DR @11ST N","BIORETENTION - 6\"","Under drain to Storm drain","Stone Forebay","V100-01",366,"JUL AUG SEP OCT NOV FEB APR MAY JUN",9,0,0,null,null,{"v":3294,"d":"3,294"},{"v":0,"d":"$0.00"}]
["OSEM",38.9191614211894,-77.1209717996542,"2014-4C",99997,"GULF BRANCH NATURE CTR","3608 N MILITARY RD","PERMEABLE PAVERS - OW","INFILTRATION","Stone Diaphragm","P100-01",{"v":2083,"d":"2,083"},"MAR JULY DEC",3,0,0,{"$nulls":6},{"$f":"L66*N66","v":{"v":6249,"d":"6,249"}},{"$f":"P66","v":{"v":0,"d":"$0.00"}}]
["#",null,null,"PLAN NAME","FACILITY\nID",null,"FACILITY \nDESCRIPTION","SERVICE SPEC\n(LINE ITEM #)",{"$nulls":3},"SIZE\n(SF)","SERVICE\nMONTHS **","ANNUAL\nVISITS ","UNIT PRICE\n(PER SITE VISIT)","ONE-YEAR\nCONTRACT\nPRICE ",null,null,"TOTAL\nANNUAL\nSF","TOTAL\nANNUAL\nCOST","TOTAL\nANNUAL\nSF","TOTAL\nANNUAL\nCOST","TOTAL\nANNUAL\nSF","TOTAL\nANNUAL\nCOST"]
["DPR",38.894008,-77.143316,"05-969",701310,"LEE COMM CTR","5722 LEE HWY","FILTERRA","UNDERDRAIN","FILTER STRIP","V101-01",48,"AUG  FEB",2,0,{"$f":"N68*O68","v":0},{"$nulls":4},{"$f":"L68*N68","v":96},{"$f":"P68","v":{"v":0,"d":"$0.00"}}]
["DPR",38.858497,-77.060791,"14-1672A",1400440,"VIRGINIA HIGHLANDS","1600 S HAYES ST","FILTERRA","UNDERDRAIN","FILTER STRIP","V101-01",60,"AUG  FEB",2,0,{"$f":"N69*O69","v":0},{"$nulls":4},{"$f":"L69*N69","v":120},{"$f":"P69","v":{"v":0,"d":"$0.00"}}]
["DPR",38.851208,-77.102953,"11-1164B",1102872,"BARCROFT BASEBALL FIELD","4190 S FOUR MILE RUN DR","BIORETENTION","UNDERDRAINS TO DETENTION TRENCH","Stone Filter Strip","V100-01",{"v":1104,"d":"1,104"}," AUG  OCT DEC FEB APR  JUN",6,0,0,null,null,{"$f":"L70*N70","v":{"v":6624,"d":"6,624"}},{"$f":"P70","v":{"v":0,"d":"$0.00"}}]
["DPR",38.851233,-77.102735,"11-1164C",1102872,"BARCROFT BASEBALL FIELD","4190 S FOUR MILE RUN DR","BIORETENTION","UNDERDRAINS TO DETENTION","Grass Filter Strip","V100-01",304," AUG  OCT DEC FEB APR  JUN",6,0,0,null,null,{"$f":"L71*N71","v":{"v":1824,"d":"1,824"}},{"$f":"P71","v":{"v":0,"d":"$0.00"}}]
["DPR",38.873003,-77.085334,"10-1121",1002905,"BUTLER HOLMES PARK","101 S BARTON ST","BIORETENTION","UNDERDRAIN","Stone Diaphragm","V100-01",450," AUG  OCT DEC FEB APR  JUN",6,0,0,null,null,{"v":2700,"d":"2,700"},{"v":0,"d":"$0.00"}]
["DPR",38.834501,-77.088124,"09-1100A",900335,"FAIRLINGTON COMMUNITY CENTER","3308 S STAFFORD ST","BIORETENTION","4\" UNDERDRAINS","Stone Diaphragm","V100-01",{"v":3500,"d":"3,500"}," AUG  OCT DEC FEB APR  JUN",6,0,0,null,null,{"v":21000,"d":"21,000"},{"v":0,"d":"$0.00"}]
["DPR",38.866626,-77.076747,"12-1354B",12235,"TOWERS PARK","801 S SCOTT ST","BIORETENTION","UNDERDRAIN","Stone Diaphragm","V100-01",715," AUG  OCT DEC FEB APR  JUN",6,0,0,null,null,{"v":4290,"d":"4,290"},{"v":0,"d":"$0.00"}]
["DPR",38.857438,-77.087384,"02-822B",200012,"WALTER REED COMMUNITY CENTER","2909 16TH ST S","DRY SWALE - PLANTED","UNDERDRAIN","Stone Filter Strip","V100-01",{"v":2665,"d":"2,665"}," AUG  OCT DEC FEB APR  JUN",6,0,0,null,null,{"v":15990,"d":"15,990"},{"v":0,"d":"$0.00"}]
["DPR",38.847957,-77.068734,"14-1688",14061,"GUNSTON PARK","2700 S LANG ST","BIORETENTION","UNDERDRAIN","Stone Diaphragm","V100-01",490," AUG  OCT DEC FEB APR  JUN",6,0,0,null,null,{"v":2940,"d":"2,940"},{"v":0,"d":"$0.00"}]
["DPR",38.858497,-77.060791,"14-1672B",1400440,"VIRGINIA HIGHLANDS","1600 S HAYES ST","BIORETENTION","UNDERDRAIN","Stone Diaphragm","V100-01",{"v":1200,"d":"1,200"}," AUG  OCT DEC FEB APR  JUN",6,0,0,null,null,{"v":7200,"d":"7,200"},{"v":0,"d":"$0.00"}]
["DPR",38.856543,-77.110091,"13-1541",1200921,"GLENCARLYN PARK","4955 COLUMBIA PIKE","BIORETENTION","Underdrain to storm sewer","Stone Diaphragm","V100-01",1250," AUG  OCT DEC FEB APR  JUN",6,0,0,null,null,{"v":7500,"d":"7,500"},{"v":0,"d":"$0.00"}]
["DPR",38.860262,-77.117658,"15-1906A",15016,"TYROL HILL PARK ","5101 7TH RD S","BIORETENTION","Infiltration","Sump Pit","V100-01",236," AUG  OCT DEC FEB APR  JUN",6,0,0,null,null,{"v":1416,"d":"1,416"},{"v":0,"d":"$0.00"}]
["DPR",38.896425,-77.117363,"13-1507B",1301844,"WOODSTOCK PARK","2049 N WOODSTOCK ST","BIORETENTION","Underdrain to storm sewer","Planted Forebay","V100-01",416," AUG  OCT DEC FEB APR  JUN",6,0,0,null,null,{"v":2496,"d":"2,496"},{"v":0,"d":"$0.00"}]
["DPR",38.892825,-77.158841,"15-1984",15110,"TUCKAHOE PARK ","2400 N SYCAMORE ST","BIORETENTION","Underdrain to storm sewer","Stone Diaphragm","V100-01",{"v":3389,"d":"3,389"}," AUG  OCT DEC FEB APR  JUN",6,0,0,null,null,{"v":20334,"d":"20,334"},{"v":0,"d":"$0.00"}]
["DPR",38.885307,-77.105571,"15-1975A",15100,"QUINCY PARK","1021 N QUINCY ST","BIORETENTION","Infiltration","Stone Diaphragm","V100-01",639," AUG  OCT DEC FEB APR  JUN",6,0,0,null,null,{"v":3834,"d":"3,834"},{"v":0,"d":"$0.00"}]
["DPR",38.89043,-77.108699,"17-0007A",17001,"OAKGROVE PARK","4021 17TH ST N ","BIORETENTION - 6\"","Underdrain to storm","Stone Diaphragm","V100-01",{"v":1050,"d":"1,050"}," AUG  OCT DEC FEB APR  JUN",6,0,0,null,null,{"v":6300,"d":"6,300"},{"v":0,"d":"$0.00"}]
["DPR",38.8889845471,-77.141356148,"08-1062A",912,"PARKHURST PARK","5820 20TH R N","BIORETENTION - 6\"","Underdrain to storm","Stone Forebay","V100-01",{"v":1000,"d":"1,000"}," AUG  OCT DEC FEB APR  JUN",6,0,0,null,null,{"v":6000,"d":"6,000"},{"v":0,"d":"$0.00"}]
["DPR",38.8690603893372,-77.12881784321,"15-2066A",15195,"PNR MAINTENANCE BUILDING","308 N KENSINGTON ST","SW PLANTER ","Underdrain to Infiltration","Stone Diaphragm","V100-01",135,"AUG  FEB",2,0,0,null,null,270,{"v":0,"d":"$0.00"}]
["DPR",38.8689915552744,-77.128695788045,"15-2066B",15195,"PNR MAINTENANCE BUILDING","308 N KENSINGTON ST","INFILTRATION TRENCH - GRASS","Infiltration","Planter Box","V100-01",840,"AUG",1,0,0,null,null,840,{"v":0,"d":"$0.00"}]
["DPR",38.8512252674388,-77.1031374826616,"17-0174B",17280,"BARCROFT BASEBALL FIELD","4190 S FOUR MILE RUN DR","SW PLANTER  - 6\"","Underdrain to storm sewer","Stone Diaphragm","V100-01",147,"AUG",1,0,0,null,null,147,{"v":0,"d":"$0.00"}]
["DPR",38.8729549852504,-77.1394310226159,"17-0299A",17338,"POWHATAN SPRINGS PARK","6020 WILSON BLVD","BIORETENTION - 6\"","Underdrain to detention","Stone Diaphragm","V100-01",950," AUG  OCT DEC FEB APR  JUN",6,0,{"$f":"N88*O88","v":0},null,null,{"v":5700,"d":"5,700"},{"v":0,"d":"$0.00"}]
["DPR",38.8353987748,-77.0868293172,"17-0094A",17095,"FAIRLINGTON COMMUNITY CENTER","3308 S STAFFORD ST","DRY SWALE - GRASS","Underdrain to daylight",null,"V100-01",585,"AUG",1,0,0,null,null,585,{"v":0,"d":"$0.00"}]
["DPR",38.860134,-77.117628,"15-1906B",15016,"TYROL HILL PARK","5101 7TH RD S","POROUS PAVE* - OW","Infiltration",null,"P100-01",{"v":1798,"d":"1,798"},"MAR ",1,0,0,{"$nulls":6},{"$f":"L90*N90","v":{"v":1798,"d":"1,798"}},{"$f":"P90","v":{"v":0,"d":"$0.00"}}]
["DPR",38.859427,-77.118317,"16-0308A",17090,"TYROL HILL PARK","5101 7TH RD S","PERMEABLE PAVERS - OW","Underdrain",null,"P100-01",{"v":14810,"d":"14,810"},"MAR JULY DEC",3,0,0,{"$nulls":6},{"$f":"L91*N91","v":{"v":44430,"d":"44,430"}},{"$f":"P91","v":{"v":0,"d":"$0.00"}}]
["DPR",38.859926,-77.11818,"16-0308B",17090,"TYROL HILL PARK","5101 7TH RD S","SYNTHETIC TURF* - OW","Underdrain",null,"P100-01",{"v":3742,"d":"3,742"},"MAR ",1,0,0,{"$nulls":6},{"v":3742,"d":"3,742"},{"v":0,"d":"$0.00"}]
["DPR",38.896546,-77.118008,"13-1507A",1301844,"WOODSTOCK PARK","2049 N WOODSTOCK ST","FLEXI-PAVE*","Infiltration",null,"P100-01",{"v":2935,"d":"2,935"},"MAR ",1,0,0,{"$nulls":6},{"v":2935,"d":"2,935"},{"v":0,"d":"$0.00"}]
["DPR",38.887224,-77.087432,"12-1214A",1202002,"ROCKY RUN PARK","1109 N BARTON ST","FLEXI-PAVE* - OW","Infiltration",null,"P100-01",{"v":4710,"d":"4,710"},"MAR ",1,0,0,{"$nulls":6},{"v":4710,"d":"4,710"},{"v":0,"d":"$0.00"}]
["DPR",38.872914,-77.08522,"15-1927",15044,"BUTLER HOLMES PARK","101 S BARTON ST","FLEXI-PAVE*","Infiltration",null,"P100-01",{"v":1794,"d":"1,794"},"MAR ",1,0,0,{"$nulls":6},{"v":1794,"d":"1,794"},{"v":0,"d":"$0.00"}]
["DPR",38.890649,-77.075128,"12-3000",1200609,"FORT MYER HEIGHTS PARK","1400 N FORT MYER DR","SYNTHETIC TURF*","UNDERDRAIN TO DRAIN PIT TO POP-UP EMITTER",null,"P100-01",{"v":3000,"d":"3,000"},"MAR ",1,0,0,{"$nulls":6},{"v":3000,"d":"3,000"},{"v":0,"d":"$0.00"}]
["DPR",38.8680716535267,-77.044811863206,"08-1065",918,"LONG BRIDGE PARK","475 LONG BRIDGE DR ","PERVIOUS CONCRETE","Infiltration",null,"P100-01",{"v":8570,"d":"8,570"},"MAR JULY DEC",3,0,0,{"$nulls":6},{"v":25710,"d":"25,710"},{"v":0,"d":"$0.00"}]
["DPR",38.8936942223988,-77.1271669333752,"15-2094A",16054,"HIGH VIEW PARK","1945 N DINWIDDIE ST","PERMEABLE PAVERS - OW","Underdrain to storm",null,"P100-01",{"v":4879,"d":"4,879"},"MAR JULY DEC",3,0,0,{"$nulls":6},{"v":14637,"d":"14,637"},{"v":0,"d":"$0.00"}]
["DPR",38.8353987748,-77.0868293172,"17-0094A",17095,"FAIRLINGTON COMMUNITY CENTER ","3308 S STAFFORD ST","SYNTHETIC TURF - RIGHT SIDE*","Underdrain to daylight",null,"P100-01",{"v":4796,"d":"4,796"},"MAR ",1,0,0,{"$nulls":6},{"v":4796,"d":"4,796"},{"v":0,"d":"$0.00"}]
["DPR",38.8353904628,-77.0873268756,"17-0094B",17095,"FAIRLINGTON COMMUNITY CENTER","3308 S STAFFORD ST","SYNTHETIC TURF - LEFT SIDE*","Underdrain to daylight",null,"P100-01",{"v":5715,"d":"5,715"},"MAR ",1,0,0,{"$nulls":6},{"v":5715,"d":"5,715"},{"v":0,"d":"$0.00"}]
["DPR",38.8353570453,-77.087045919,"17-0094C",17095,"FAIRLINGTON COMMUNITY CENTER","3308 S STAFFORD ST","FILTER PAVE*","Underdrain to daylight",null,"P100-01",{"v":2933,"d":"2,933"},"MAR ",1,0,0,{"$nulls":6},{"v":2933,"d":"2,933"},{"v":0,"d":"$0.00"}]
["DPR",38.869698,-77.134053,"17-0273",17298,"REEVES FARM","400 N MANCHESTER ST","PERMEABLE PAVERS - OW","Underdrain to daylight",null,"P100-01",540,"MAR JULY DEC",3,0,0,{"$nulls":6},{"v":1620,"d":"1,620"},{"v":0,"d":"$0.00"}]
["DPR",38.846913,-77.070403,"17-0223A ",17249,"GUNSTON PARK","1401 28TH ST S","SYNTHETIC TURF* - OW","Underdrain to storm",null,"P100-01",{"v":77045,"d":"77,045"},"MAR ",1,0,0,{"$nulls":6},{"v":77045,"d":"77,045"},{"v":0,"d":"$0.00"}]
[{"$nulls":7},"*inspection only",{"$nulls":5},{"$f":"SUM(N12:N103)","v":470},null,{"$f":"SUM(P12:P103)","v":0},null,null,{"$f":"SUM(S12:S103)","v":{"v":300483,"d":"300,483"}},{"$f":"SUM(T12:T103)","v":{"v":0,"d":"$0.00"}},360,{"v":0,"d":"$0.00"},{"v":249915,"d":"249,915"},{"v":0,"d":"$0.00"}]
["** RED DENOTES MONTH OF INSPECTION WITH INSPECTION REPORT DUE BY THE 15TH OF THE MONTH FOLLOWING INSPECTION;  \n  MAINTENANCE SHALL BE COMPLETED CONCURRENTLY OR WITHIN 30 DAYS OF INSPECTION. ",{"$nulls":17},"sf","annual cost","sf","annual cost","sf","annual cost"]
[]
[{"$nulls":7},"ROUTINE LINE ITEMS AND SUMMARY TABLE"]
[{"$nulls":7},"NO.","ITEM",null,null,"UNIT","UNIT PRICE","ANNUAL\nFACTOR","TOTAL ANNUAL\nPRICE"]
[{"$nulls":7},"LINE ITEM","BIORETENTION - ROUTINE SERVICES",{"$nulls":4},"(VARIES)"]
[{"$nulls":7},"V100-01","Bioretention - Routine Inspection & Maintenance",null,null,"SF","---",{"$f":"S104","v":{"v":300483,"d":"300,483"}},{"$f":"T104","v":0}]
[{"$nulls":7},"V100-02","Bioretention - Mulch Replacement (Supplied by County)",null,null,"CY",0,{"$f":"N110*0.167/27","v":{"v":1858.543,"d":"1,858.5"}},{"$f":"M111*N111","v":0}]
[{"$nulls":7},"V100-03","Bioretention - Mulch Replacement (Supplied by Contractor)",null,null,"CY",0,{"$f":"N110*0.167/27","v":{"v":1858.543,"d":"1,858.5"}},{"$f":"M112*N112","v":0}]
[{"$nulls":8},"FILTERRA - ROUTINE SERVICES"]
[{"$nulls":7},"V101-01","Filterra - Routine Inspection & Maintenance",null,null,"SF","---",{"$f":"U104","v":360},{"$f":"V104","v":0}]
[{"$nulls":7},"V101-02","Filterra - Mulch Replacement (Supplied by County)",null,null,"CY",0,{"$f":"N114*0.167/27","v":{"v":2.226666666666667,"d":"2.2"}},{"$f":"M115*N115","v":0}]
[{"$nulls":8},"PERMEABLE PAVEMENT - ROUTINE SERVICES"]
[{"$nulls":7},"P100-01","Permeable Pavement - Routine Inspection & Maintenance",null,null,"SF","---",{"$f":"W104","v":{"v":249915,"d":"249,915"}},{"$f":"X104","v":0}]
[{"$nulls":10},"TOTAL BID PRICE - Autopopulates in Bid Form   ",{"$nulls":3},{"$f":"SUM(O110:O117)","v":0}]

{"sheet":"Sch B","index":2,"n_rows":85,"n_cols":6,"rows_kept":85,"merged":[[0,0,0,5],[1,0,1,5],[2,0,2,5],[3,0,3,5],[4,0,4,5],[5,0,5,5],[6,0,6,5],[7,0,7,5],[8,0,8,5],[12,1,12,5],[22,1,22,5],[31,1,31,5],[42,0,42,5],[45,0,45,5],[53,1,53,5],[55,1,55,5],[61,1,61,5],[63,1,63,5],[66,1,66,5],[71,0,71,4],[72,0,72,5],[73,0,73,5],[83,0,83,4],[84,1,84,4]]}
["STORMWATER MANAGEMENT FACILITIES"]
["SCHEDULE B - UNIT PRICES FOR AS-NEEDED SERVICES"]
[]
["FURNISHING ALL LABOR, MATERIALS, EQUIPMENT, DISPOSAL & HAUL FOR THE INSPECTION & MAINTENANCE "]
["OF COUNTY-OWNED STORMWATER MANAGEMENT FACILITIES IN ARLINGTON, VIRGINIA"]
[]
["CONTRACTOR: PLEASE PROVIDE PRICES IN ALL CELLS HIGHLIGHTED IN BLUE"]
[]
["SCHEDULE B - UNIT PRICES FOR AS-NEEDED SERVICES"]
["NO.","ITEM","UNIT","UNIT PRICE","ANNUAL\nFACTOR","TOTAL PRICE"]
["LINE ITEM","BIORETENTION - AS-NEEDED SERVICES",null,null,"VARIES"]
["V100-04","Bioretention - Filter Media (Soil) Replenishment *","CY",null,10,{"$f":"D12*E12","v":0}]
[null,"Bioretention - Stone Replenishment (Major)"]
["V100-05","  Furnish, Deliver & Install - Washed River Rock 3-6\"","TN",0,20,{"$f":"D14*E14","v":0}]
["V100-06","  Furnish, Deliver & Install - Washed River Rock 5-8\"","TN",0,20,0]
["V100-07","  Furnish, Deliver & Install - Pea Gravel","TN",0,20,0]
["V100-08","  Furnish, Deliver & Install - #57 Stone","TN",0,20,0]
["V100-09A","  Furnish, Deliver & Install - Class A1 Riprap 4-8” ","TN",0,15,0]
["V100-09B","  Furnish, Deliver & Install - Class 1 Riprap ","TN",0,15,{"$f":"D19*E19","v":0}]
["V100-09C","  Furnish, Deliver & Install - AASHTO 31 Surge Stone ","TN",0,15,0]
["V100-10","Bioretention - Geotextile Filter Fabric (Non-Woven)","SF",0,300,0]
["V100-11","NOT USED"]
[null,"Bioretention - Plant Replacement - Contractor Supplied"]
["V100-12","  Furnish, Deliver & Install - Med/Lg Tree (2-2.5\" Cal)","EA",0,30,{"$f":"D24*E24","v":0}]
["V100-13","  Furnish, Deliver & Install - Small Tree (1-1.5\" Cal)","EA",0,40,0]
["V100-14","  Furnish, Deliver & Install - Shrub (5 Gal)","EA",0,30,0]
["V100-15","  Furnish, Deliver & Install - Shrub (3 Gal)","EA",0,40,0]
["V100-16","  Furnish, Deliver & Install - Perennial (1 Gal)","EA",0,{"v":2000,"d":"2,000"},0]
["V100-17","  Furnish, Deliver & Install - Perennial (1 Qt)","EA",0,300,0]
["V100-18","  Furnish, Deliver & Install - Perennial Landscape (Deep) Plugs (must be a minimum 4” deep) ","EA",0,480,0]
["V100-19","  Furnish, Deliver & Install - Whips - 18-24” Bareroot Woody Seedlings ","EA",0,500,0]
[null,"Bioretention - Plant Replacement - County Supplied"]
["V100-20","  Plant - Med/Lg Tree (2-2.5\" Cal)","EA",0,30,{"$f":"D33*E33","v":0}]
["V100-21","  Plant - Small Tree (1-1.5\" Cal)","EA",0,40,{"$f":"D34*E34","v":0}]
["V100-22","  Plant - Shrub (5 Gal)","EA",0,30,{"$f":"D35*E35","v":0}]
["V100-23","  Plant - Shrub (3 Gal)","EA",0,40,{"$f":"D36*E36","v":0}]
["V100-24","  Plant - Perennial (1 Gal)","EA",0,{"v":2000,"d":"2,000"},0]
["V100-25","  Plant - Perennial (1 Qt)","EA",0,300,{"$f":"D38*E38","v":0}]
["V100-26","  Plant - Perennial Landscape (Deep) Plugs (must be a minimum 4” deep) ","EA",0,480,{"$f":"D39*E39","v":0}]
["V100-27","  Plant - Whips - 18-24” Bareroot Woody Seedlings ","EA",0,500,0]
["V100-28","Bioretention - Additional Watering","HR",0,40,0]
["V100-29","Bioretention - Furnish & Install Sod for Turf Establishment","SY",0,800,0]
[]
["LINE ITEM","FILTERRA - AS-NEEDED SERVICES",null,null,"VARIES"]
["V101-03","Filterra - Filter Media Replenishment","CY",0,1,0]
[]
["LINE ITEM","PERMEABLE PAVEMENT - AS-NEEDED SERVICES"]
["P100-02","3/8” Aggregate Replenishment (for an average of 2” New Aggregate) ","TN",0,15,{"$f":"D48*E48","v":0}]
["P100-03","Permeable Pavement Weeding","HR",0,16,{"$f":"D49*E49","v":0}]
["P100-04","Infiltration Testing ","EA",0,8,{"$f":"D50*E50","v":0}]
[]
["LINE ITEM","OTHER - AS-NEEDED SERVICES",null,null,"VARIES"]
["V102-03","Excessive Sediment/Silt Removal and Disposal","CY",0,20,{"$f":"D53*E53","v":0}]
[null,"SITE STABILIZATION"]
["V102-07","Furnish & Install Topsoil","CY",0,25,{"$f":"D55*E55","v":0}]
[null,"Furnish & Install Seed for Turf Establishment"]
["V102-09","  Seed Mix 50% K-31; 50% Annual Rye ","SY",0,{"v":1500,"d":"1,500"},{"$f":"D57*E57","v":0}]
["V102-10","  Seed Mix 75% K-31 and 25% Annual Rye ","LB",0,30,0]
["V102-11","  Application of Wetland Seed Mix – Ernst Seed #120 ","LB",0,40,0]
["V102-12","  Application of Wetland Seed Mix – Ernst Seed #131","LB",0,40,0]
["V102-13","Furnish & Install Straw Mulch","SY",0,800,0]
[null,"SEDIMENT & EROSION CONTROLS"]
["V102-24","Furnish & Install Curlex NetFree (or Approved Synthetic Material Free Equal)","SY",0,300,{"$f":"D63*E63","v":0}]
[null,"VEGETATION MANAGEMENT"]
["V102-26","Tree Removal (2\"-4\")","EA",0,36,0]
["V102-27","Weeding","HR",0,36,0]
[null,"MISCELLANEOUS"]
["V102-30","Repairs from Burrowing Animals","SY",0,200,{"$f":"D68*E68","v":0}]
["V102-33","Ponds - Rubber-Tracked Skid Steer Loader (Small)","HR",0,40,0]
["V102-34","Ponds - Rubber-Tracked Compact / Mini Excavator","HR",0,60,0]
["V102-35","Ponds - Rubber-Tired Front-End Loader/Backhoe","HR",0,60,0]
["TOTAL BID PRICE - Autopopulates in Bid Form   ",{"$nulls":4},{"$f":"SUM(F11:F71)","v":0}]
[]
["LABOR RATES - HOURLY & OVERTIME/EMERGENCY (O/E)"]
["CODE","POSITION","UNIT","UNIT PRICE","ANNUAL\nFACTOR","TOTAL PRICE"]
["CF","Crew Foreman/Inspector","HR",0,16,{"$f":"D76*E76","v":0}]
["CF-O/E","Crew Foreman/Inspector - Overtime/Emergency *","HR",0,8,0]
["LAB","Laborer","HR",0,16,0]
["LAB-O/E","Laborer - Overtime/Emergency *","HR",0,8,0]
["FLAG","VDOT Certified Flagger","HR",0,16,0]
["FLAG-O/E","VDOT Certified Flagger - Overtime/Emergency *","HR",0,8,0]
["ARB","Certified Arborist","HR",0,16,0]
["ARB-O/E","Certified Arborist - Overtime/Emergency *","HR",0,8,0]
["TOTAL BID PRICE - Autopopulates in Bid Form   ",{"$nulls":4},{"$f":"SUM(F76:F83)","v":0}]
[null,"* Over 8 Hours of Consecutive Work"]

{"sheet":"Sch C","index":3,"n_rows":106,"n_cols":6,"rows_kept":106,"merged":[[0,0,0,5],[1,0,1,5],[2,0,2,5],[3,0,3,5],[4,0,4,5],[5,0,5,5],[6,0,6,5],[7,0,7,5],[9,0,9,4],[73,0,73,5],[74,0,74,4],[81,0,81,5],[82,0,82,4]]}
["STORMWATER MANAGEMENT FACILITIES"]
["SCHEDULE C - FUTURE FACILITIES MAINTENANCE PRICING SHEET"]
[]
["FURNISHING ALL LABOR, MATERIALS, EQUIPMENT, DISPOSAL & HAUL FOR THE\nINSPECTION & MAINTENANCE OF COUNTY-OWNED STORMWATER MANAGEMENT FACILITIES \nIN ARLINGTON, VIRGINIA"]
[]
["NOTE TO CONTRACTORS: DO NOT COMPLETE THIS FORM -- THE AMOUNTS BELOW (in grey) \nARE AUTOMATICALLY POPULATED FROM SCHEDULE A"]
[]
["SCHEDULE C - FUTURE FACILITIES MAINTENANCE PRICING SHEET (COSTS FROM SCHEDULE A)"]
["FACILITY\nID","FACILITY LOCATION","FACILITY \nDESCRIPTION","SIZE (SF)","UNIT PRICE\n(PER SITE VISIT)","AVG COST (PER UNIT PER SITE VISIT)"]
["BIORETENTION "]
["89-362","CENTRAL LIBRARY","POND w/CONCRETE SWALE - GRASS",{"v":4570,"d":"4,570"},{"$f":"'Sch A'!$O$15","v":0}]
["03-872A","FIRE STATION #5","BIORETENTION",225,{"$f":"'Sch A'!$O$16","v":0}]
["07-1069B","WOODMONT COMM CTR","BIORETENTION W/STORMCHAMBER",943,{"$f":"'Sch A'!$O$17","v":0}]
["15-2115A","FIRE STATION HOUSE","SW PLANTER 1 - 9\"",32,{"$f":"'Sch A'!$O$18","v":0}]
["15-2115B","FIRE STATION HOUSE","INFILTRATION TRENCH - GRAVEL",32,{"$f":"'Sch A'!$O$19","v":0}]
["2012-3","WEENIE BEENIE","DRY SWALE - GRASS",325,{"$f":"'Sch A'!$O$29","v":0}]
["2014-4A","GULF BRANCH NATURE CTR","SW PLANTER - 3\"",175,{"$f":"'Sch A'!$O$30","v":0}]
["2014-4B","GULF BRANCH NATURE CTR","SW PLANTER - 3\"",60,{"$f":"'Sch A'!$O$31","v":0}]
["2014-5A","PENTAGON CITY","SW PLANTER",100,{"$f":"'Sch A'!$O$32","v":0}]
["2014-5B","PENTAGON CITY","SW PLANTER",100,{"$f":"'Sch A'!$O$33","v":0}]
["2014-5C","PENTAGON CITY","SW PLANTER",100,{"$f":"'Sch A'!$O$34","v":0}]
["2014-5D","PENTAGON CITY","SW PLANTER",100,{"$f":"'Sch A'!$O$35","v":0}]
["2014-5E","PENTAGON CITY","SW PLANTER",100,{"$f":"'Sch A'!$O$36","v":0}]
["2014-5F","PENTAGON CITY","SW PLANTER",50,{"$f":"'Sch A'!$O$37","v":0}]
["2014-5G","PENTAGON CITY","SW PLANTER",50,{"$f":"'Sch A'!$O$38","v":0}]
["2014-5H","PENTAGON CITY","SW PLANTER",50,{"$f":"'Sch A'!$O$39","v":0}]
["2014-5I","PENTAGON CITY","SW PLANTER",50,{"$f":"'Sch A'!$O$40","v":0}]
["2014-5J","PENTAGON CITY","SW PLANTER",50,{"$f":"'Sch A'!$O$41","v":0}]
["2014-5K","PENTAGON CITY","SW PLANTER",50,{"$f":"'Sch A'!$O$42","v":0}]
["2014-5L","PENTAGON CITY","BIORETENTION",{"v":1548,"d":"1,548"},{"$f":"'Sch A'!$O$43","v":0}]
["2015-6","8TH ST S","BIORETENTION",609,{"$f":"'Sch A'!$O$44","v":0}]
["2012-2","N ALBEMARLE ST","BIORETENTION",578,{"$f":"'Sch A'!$O$45","v":0}]
["2011-1A","PATRICK HENRY DRIVE","BIORETENTION",823,{"$f":"'Sch A'!$O$46","v":0}]
["2011-1B","PATRICK HENRY DRIVE","BIORETENTION",253,{"$f":"'Sch A'!$O$47","v":0}]
["15-1926","PATRICK HENRY DRIVE","BIORETENTION",470,{"$f":"'Sch A'!$O$48","v":0}]
["16-0103","26TH ST LEAF STORAGE SITE","BIORETENTION",{"v":1730,"d":"1,730"},{"$f":"'Sch A'!$O$49","v":0}]
["15-2067A","11ST N PARK","BIORETENTION",201,{"$f":"'Sch A'!$O$50","v":0}]
["15-2067B","11ST N PARK","BIORETENTION",88,{"$f":"'Sch A'!$O$51","v":0}]
["15-1971A","JOHN MARSHALL DR","BIORETENTION - 12\"",{"v":2245,"d":"2,245"},{"$f":"'Sch A'!$O$52","v":0}]
["15-1971B","JOHN MARSHALL DR","BIORETENTION - 12\"",865,{"$f":"'Sch A'!$O$53","v":0}]
["15-1971C","N KENSINGTON ST","BIORETENTION - 6\"",610,{"$f":"'Sch A'!$O$54","v":0}]
["15-1971D","32ND ST N","BIORETENTION - 6\"",555,{"$f":"'Sch A'!$O$55","v":0}]
["15-2091A","WILLIAMSBURG","BIORETENTION - 12\"",{"v":1598,"d":"1,598"},{"$f":"'Sch A'!$O$56","v":0}]
["15-2091B","WILLIAMSBURG","BIORETENTION - 12\"",{"v":1595,"d":"1,595"},{"$f":"'Sch A'!$O$57","v":0}]
["16-0320A","WILLIAMSBURG ","BIORETENTION - 6\"",906,{"$f":"'Sch A'!$O$58","v":0}]
["16-0320B","WILLIAMSBURG","BIORETENTION - 6\"",585,{"$f":"'Sch A'!$O$59","v":0}]
["17-0253","KIRKWOOD","BIORETENTION - 8.5\"",644,{"$f":"'Sch A'!$O$60","v":0}]
["18-0281A","PENROSE ","BIORETENTION - 8\"",340,{"$f":"'Sch A'!$O$61","v":0}]
["18-0281B","PENROSE","BIORETENTION - 9.5\"",436,{"$f":"'Sch A'!$O$62","v":0}]
["18-0007","KENTUCKY ","BIORETENTION - 6\"",538,{"$f":"'Sch A'!$O$63","v":0}]
["18-0051A","EVERGREEN","BIORETENTION - 6\"",794,{"$f":"'Sch A'!$O$64","v":0}]
["18-0051B","GEORGE MASON","BIORETENTION - 6\"",366,{"$f":"'Sch A'!$O$65","v":0}]
["11-1164B","BARCROFT BASEBALL FIELD","BIORETENTION",{"v":1104,"d":"1,104"},{"$f":"'Sch A'!$O$70","v":0}]
["11-1164C","BARCROFT BASEBALL FIELD","BIORETENTION",304,{"$f":"'Sch A'!$O$71","v":0}]
["10-1121","BUTLER HOLMES PARK","BIORETENTION",450,{"$f":"'Sch A'!$O$72","v":0}]
["09-1100A","FAIRLINGTON COMM CTR","BIORETENTION",{"v":3500,"d":"3,500"},{"$f":"'Sch A'!$O$73","v":0}]
["12-1354B","TOWERS PARK","BIORETENTION",715,{"$f":"'Sch A'!$O$74","v":0}]
["02-822B","WALTER REED COMM CTR","DRY SWALE - PLANTED",{"v":2665,"d":"2,665"},{"$f":"'Sch A'!$O$75","v":0}]
["14-1688","GUNSTON PARK","BIORETENTION",490,{"$f":"'Sch A'!$O$76","v":0}]
["14-1672B","VIRGINIA HIGHLANDS","BIORETENTION",{"v":1200,"d":"1,200"},{"$f":"'Sch A'!$O$77","v":0}]
["13-1541","GLENCARLYN PARK","BIORETENTION",1250,{"$f":"'Sch A'!$O$78","v":0}]
["15-1906A","TYROL HILL PARK ","BIORETENTION",236,{"$f":"'Sch A'!$O$79","v":0}]
["13-1507B","WOODSTOCK PARK","BIORETENTION",416,{"$f":"'Sch A'!$O$80","v":0}]
["15-1984","TUCKAHOE PARK ","BIORETENTION",{"v":3389,"d":"3,389"},{"$f":"'Sch A'!$O$81","v":0}]
["15-1975A","QUINCY PARK","BIORETENTION",639,{"$f":"'Sch A'!$O$82","v":0}]
["17-0007A","OAKGROVE PARK","BIORETENTION - 6\"",{"v":1050,"d":"1,050"},{"$f":"'Sch A'!$O$83","v":0}]
["08-1062","PARKHURST PARK","BIORETENTION - 6\"",{"v":1000,"d":"1,000"},{"$f":"'Sch A'!$O$84","v":0}]
["15-2066A","PNR MAINTENANCE BUILDING","SW PLANTER ",135,{"$f":"'Sch A'!$O$85","v":0}]
["15-2066B","PNR MAINTENANCE BUILDING","INFILTRATION TRENCH - GRASS",840,{"$f":"'Sch A'!$O$86","v":0}]
["17-0174B","BARCROFT BASEBALL FIELD","SW PLANTER  - 6\"",147,{"$f":"'Sch A'!$O$87","v":0}]
["17-0299A","POWHATAN SPRINGS PARK","BIORETENTION - 6\"",950,{"$f":"'Sch A'!$O$88","v":0}]
["17-0094A","FAIRLINGTON COMMUNITY CENTER","DRY SWALE - GRASS",585,{"$f":"'Sch A'!$O$89","v":0}]
[{"$nulls":3},{"$f":"SUM(D11:D72)","v":{"v":46604,"d":"46,604 "}},{"$f":"SUM(E11:E72)","v":0},{"$f":"E73/D73","v":0}]
[]
["FILTERRA"]
["08-1079D","ARL MILL COMM CTR","FILTERRA",24,{"$f":"'Sch A'!$O$12","v":0}]
["03-872B","FIRE STATION #5","FILTERRA",24,{"$f":"'Sch A'!$O$13","v":0}]
["03-872C","FIRE STATION #5","FILTERRA",24,{"$f":"'Sch A'!$O$14","v":0}]
["05-969","LEE COMM CTR","FILTERRA",48,{"$f":"'Sch A'!$O$68","v":0}]
["14-1672A","VIRGINIA HIGHLANDS","FILTERRA",60,{"$f":"'Sch A'!$O$69","v":0}]
[{"$nulls":3},{"$f":"SUM(D76:D80)","v":{"v":180,"d":"180 "}},{"$f":"SUM(E76:E80)","v":0},{"$f":"E81/D81","v":0}]
[]
["PERMEABLE PAVEMENT"]
["08-1079B","ARL MILL COMM CTR","PERMEABLE PAVERS - OW",{"v":8276,"d":"8,276"},{"$f":"'Sch A'!$O$20","v":0}]
["06-1022D","FIRE STATION #3","PERMEABLE PAVERS",{"v":2200,"d":"2,200"},{"$f":"'Sch A'!$O$21","v":0}]
["03-872D","FIRE STATION #5","OPEN BLOCK PERMEABLE PAVERS ",{"v":2830,"d":"2,830"},{"$f":"'Sch A'!$O$22","v":0}]
["13-1522","FIRE STATION #9","PAVE DRAIN PERM PAVERS - OW",{"v":1730,"d":"1,730"},{"$f":"'Sch A'!$O$23","v":0}]
["18-0156A","FACILITY - HEAD START A","SYNTHETIC TURF* - OW",645,{"$f":"'Sch A'!$O$24","v":0}]
["18-0156B","FACILITY - HEAD START B","SYNTHETIC TURF* - OW",{"v":1470,"d":"1,470"},{"$f":"'Sch A'!$O$25","v":0}]
["18-0156C","FACILITY - HEAD START C","SYNTHETIC TURF* - OW",{"v":1578,"d":"1,578"},{"$f":"'Sch A'!$O$26","v":0}]
["2014-4C","GULF BRANCH NATURE CTR","PERMEABLE PAVERS - OW",{"v":2083,"d":"2,083"},{"$f":"'Sch A'!$O$66","v":0}]
["15-1906B","TYROL HILL PARK","POROUS PAVE* - OW",{"v":1798,"d":"1,798"},{"$f":"'Sch A'!$O$90","v":0}]
["16-0308A","TYROL HILL PARK","PERMEABLE PAVERS - OW",{"v":14810,"d":"14,810"},{"$f":"'Sch A'!$O$91","v":0}]
["16-0308B","TYROL HILL PARK","SYNTHETIC TURF* - OW",null,{"$f":"'Sch A'!$O$92","v":0}]
["13-1507A","WOODSTOCK PARK","FLEXI-PAVE*",{"v":2935,"d":"2,935"},{"$f":"'Sch A'!$O$93","v":0}]
["12-1214A","ROCKY RUN PARK","FLEXI-PAVE* - OW",{"v":4710,"d":"4,710"},{"$f":"'Sch A'!$O$94","v":0}]
["15-1927","BUTLER HOLMES PARK","FLEXI-PAVE*",{"v":1794,"d":"1,794"},{"$f":"'Sch A'!$O$95","v":0}]
["12-3000","FORT MYER HEIGHTS PARK","SYNTHETIC TURF*",{"v":3000,"d":"3,000"},{"$f":"'Sch A'!$O$96","v":0}]
["08-1065","LONG BRIDGE PARK","PERVIOUS CONCRETE",{"v":8570,"d":"8,570"},{"$f":"'Sch A'!$O$97","v":0}]
["15-2094A","HIGH VIEW PARK","PERMEABLE PAVERS - OW",{"v":4879,"d":"4,879"},{"$f":"'Sch A'!$O$98","v":0}]
["17-0094A","FAIRLINGTON COMMUNITY CENTER ","SYNTHETIC TURF - RIGHT SIDE*",{"v":4796,"d":"4,796"},{"$f":"'Sch A'!$O$99","v":0}]
["17-0094B","FAIRLINGTON COMMUNITY CENTER","SYNTHETIC TURF - LEFT SIDE*",{"v":5715,"d":"5,715"},{"$f":"'Sch A'!$O$100","v":0}]
["17-0094C","FAIRLINGTON COMMUNITY CENTER","FILTER PAVE*",{"v":2933,"d":"2,933"},{"$f":"'Sch A'!$O$101","v":0}]
["17-0273","REEVES FARM","PERMEABLE PAVERS - OW",540,{"$f":"'Sch A'!$O$102","v":0}]
["17-0223A ","GUNSTON PARK","SYNTHETIC TURF* - OW",{"v":77045,"d":"77,045"},{"$f":"'Sch A'!$O$103","v":0}]
[{"$nulls":3},{"$f":"SUM(D84:D105)","v":{"v":154337,"d":"154,337 "}},{"$f":"SUM(E84:E105)","v":0},{"$f":"E106/D106","v":0}]

{"sheet":"Bid Tabulation","index":4,"n_rows":11,"n_cols":3,"rows_kept":11,"merged":[[0,0,0,2],[1,0,1,2],[2,0,2,2],[3,0,3,2],[4,0,4,2],[5,0,5,1],[6,0,8,0]]}
["STORMWATER MANGAGEMENT FACILITIES"]
["BID TABULATION"]
[]
["NOTE TO CONTRACTORS: DO NOT COMPLETE THIS FORM -- THE AMOUNTS BELOW (in grey) \nARE AUTOMATICALLY POPULATED FROM SCHEDULES A & B"]
[]
["STORMWATER MANGAGEMENT FACILITIES",null,"TOTALS FROM\nSCHEDULE A AND B"]
[null,"SCHEDULE A GRAND TOTAL",{"$f":"'Sch A'!$O$118","v":0}]
[null,"SCHEDULE B GRAND TOTAL",{"$f":"'Sch B'!$F$72","v":0}]
[null,"LABOR RATES TOTAL",{"$f":"'Sch B'!$F$84","v":0}]
[null,"TOTAL BID PRICE * ",{"$f":"SUM(C7:C9)","v":0}]
[null,"* Transfer this amount to the official Bid Form "]