{"text_format":"3","workbook":"xlsx","n_sheets":2,"sheets":["Recap","Produce"],"not_rendered":{"defined_names":11},"read":"whole","date_system":"1900"}

{"sheet":"Recap","index":0,"n_rows":11,"n_cols":7,"rows_kept":11,"merged":[[8,0,8,1]]}
["South Carolina School Food Service Purchasing Alliance, Inc"]
[]
["School Food Authority:","Horry County Schools"]
[]
["Offeror Name:"]
[]
["Firm Fixed Fee",{"v":0,"d":"$0.00"}]
[]
["Bid Recap"]
[{"$nulls":6}," "]
["Lot B Total",{"$f":"Produce!J71","v":0}]

{"sheet":"Produce","index":1,"n_rows":71,"n_cols":10,"rows_kept":71,"merged":[[0,5,0,9],[1,2,4,2],[1,4,1,9],[2,4,2,7]]}
[null,{"$f":"Recap!A3","v":"School Food Authority:"},"Point of Origin",null,"Recap",{"$f":"Recap!A5","v":"Offeror Name:"}]
[null,{"$f":"Recap!B3","v":"Horry County Schools"},"For purposes of submitting  an Offer, the references in this column shall be considered part of the required product specifications. ",null,{"$f":"Recap!B5","v":0}]
["Item","Description",null,null,"Firm Fixed Fee",{"$nulls":3},{"$f":"Recap!B7","v":{"v":0,"d":"$0.00"}}]
["#",null,null,"Distributor","Vendor","Bid Qty","Bid","Unit","Unit Price","Total "]
[{"$nulls":3},"Code","Pack","Bid Qty","Unit","Price","plus Fee","Price"]
[null,"Fresh Produce and Fresh Eggs"]
[1,"Apples, Fuji, WA Fancy Layered Pack not bulk pack","WA",null,"125 CT. ",{"v":0,"d":"0 "},"Cs",0,{"$f":"IF(OR(ISBLANK(F7),F7=0),,ROUND($I$3+H7,2))","v":0},{"$f":"ROUND(I7*F7,2)","v":0}]
[2,"Apples, Gala  WAFancy  Layered Pack not bulk pack ","WA",null,"125 CT. ",{"v":1000,"d":"1,000 "},"Cs",0,{"$f":"IF(OR(ISBLANK(F8),F8=0),,ROUND($I$3+H8,2))","v":0},{"$f":"ROUND(I8*F8,2)","v":0}]
[3,"Apples, Golden Delicious  WAFancy Layered not bulk pack","WA",null,"125 CT. ",{"v":400,"d":"400 "},"Cs",0,{"$f":"IF(OR(ISBLANK(F9),F9=0),,ROUND($I$3+H9,2))","v":0},0]
[4,"Apples, Granny Smith WAFancy Layered Pack not bulk pack","WA",null,"125 CT. ",{"v":700,"d":"700 "},"Cs",0,0,0]
[5,"Apples, Red Delicious WAFancy Layered Pack not bulk pack","WA",null,"125 CT. ",{"v":2500,"d":"2,500 "},"Cs",0,0,0]
[6,"Asparagus, US #1 Grade","SC/NC/WA/NON-DOMESTIC",null,"11#",{"v":0,"d":"0 "},"Cs",0,{"$f":"IF(OR(ISBLANK(F12),F12=0),,ROUND($I$3+H12,2))","v":0},{"$f":"ROUND(I12*F12,2)","v":0}]
[7,"Bananas, IP Premium Label Dole/Del Monte/Chiquita","NON DOMESTIC",null,"150 CT",{"v":0,"d":"0 "},"Cs",0,0,0]
[8,"Bananas  Premium Label   Dole/ Del Monte /Chiquita","NON DOMESTIC",null,"40 #",{"v":4000,"d":"4,000 "},"Cs",0,0,0]
[9,"Blackberries,  US #1 Grade","SC/NC/CA/NON-DOMESTIC",null,"12/1/2 PTS",{"v":0,"d":"0 "},"Cs",0,{"$f":"IF(OR(ISBLANK(F15),F15=0),,ROUND($I$3+H15,2))","v":0},{"$f":"ROUND(I15*F15,2)","v":0}]
[10,"Blueberries. US #1 Grade","SC/NC/CA/NON-DOMESTIC",null,"12/1/2 PTS",{"v":100,"d":"100 "},"Cs",0,0,0]
[11,"Broccoli  Crowns","CA/SC",null,"20 #",{"v":25,"d":"25 "},"Cs",0,0,0]
[12,"Broccoli Florets","CA/TN/GA/SC/MD",null,"4/3 #",{"v":600,"d":"600 "},"Cs",0,0,0]
[13,"Broccoli Slaw Mix ","SC/GA/CA",null,"4/5#",{"v":0,"d":"0 "},"Cs",0,{"$f":"IF(OR(ISBLANK(F19),F19=0),,ROUND($I$3+H19,2))","v":0},{"$f":"ROUND(I19*F19,2)","v":0}]
[14,"Cabbage, Green, Made from US #1 grade","SC/NC/GA/FL",null,"50#",{"v":600,"d":"600 "},"Cs",0,0,0]
[15,"Cabbage, Red, Shredded  ","CA",null,"4/5 #",{"v":0,"d":"0 "},"Cs",0,0,0]
[16,"Cabbage, Green, Shredded ","CA",null,"4/5 #",{"v":100,"d":"100 "},"Cs",0,0,0]
[17,"Cantaloupe US #1 grade","FL/GA/NC/SC/CA/AZ",null,"15 CT.",{"v":300,"d":"300 "},"Cs",0,0,0]
[18,"Carrots US #1 grade","CA/TN/GA/SC/MD",null,"25 #",{"v":0,"d":"0 "},"Cs",0,0,0]
[19,"Carrots, Baby Whole ","CA/TN/GA/SC/MD",null,"4/5#",{"v":600,"d":"600 "},"Cs",0,0,0]
[20,"Carrots, Shredded ","CA",null,"4/5#",{"v":0,"d":"0 "},"Cs",0,0,0]
[21,"Carrot Sticks  ","CA",null,"4/5#",{"v":50,"d":"50 "},"Cs",0,0,0]
[22,"Cauliflower ","CA",null,"12 CT.",{"v":0,"d":"0 "},"Cs",0,0,0]
[23,"Cauliflower Florets","CA",null,"4/3 #",{"v":0,"d":"0 "},"Cs",0,0,0]
[24,"Celery Stalks","CA",null,"30 CT.",{"v":150,"d":"150 "},"Cs",0,0,0]
[25,"Celery Sticks  ","CA",null,"4/5 #",{"v":100,"d":"100 "},"Cs",0,0,0]
[26,"Cucumbers US #1 SMALL SELECT","GA/FL/NC/SC/MI/NJ ",null,"10 #",{"v":500,"d":"500 "},"Cs",0,0,0]
[27,"Grapes, Red, Seedless US Fancy Table MED LARGE","CA / NON DOMESTIC",null,"18 #",{"v":500,"d":"500 "},"Cs",0,0,0]
[28,"Grapes, White, Seedless US Fancy Table MED LARGE","CA / NON DOMESTIC",null,"18 #",{"v":200,"d":"200 "},"Cs",0,0,0]
[29,"Green, Collards, Chopped ","SC",null,"6/2#",{"v":50,"d":"50 "},"Cs",0,{"$f":"IF(OR(ISBLANK(F35),F35=0),,ROUND($I$3+H35,2))","v":0},{"$f":"ROUND(I35*F35,2)","v":0}]
[30,"Honeydew Melons US #1 grade","CA/AZ/NON DOMESTIC",null,"8 CT.",{"v":25,"d":"25 "},"Cs",0,0,0]
[31,"Kale US #1 grade","SC/CA/GA",null,"24 CT.",{"v":0,"d":"0 "},"Cs",0,0,0]
[32,"Kiwi, US #1 grade","SC/CA/ NON DOMESTIC",null,"39 CT.",{"v":0,"d":"0 "},"Cs",0,0,0]
[33,"Lemons  200 ct. US Choice","CA",null,"12 CT.",{"v":10,"d":"10 "},"Cs",0,0,0]
[34,"Lettuce, Cello US #1 grade","CA",null,"24 CT.",{"v":500,"d":"500 "},"Cs",0,0,0]
[35,"Lettuce, Shredded  ","CA",null,"4/5 #",{"v":500,"d":"500 "},"Cs",0,0,0]
[36,"Onions, Green Iceless ","CA/TN/GA/SC/MD",null,"4/2 #",{"v":30,"d":"30 "},"Cs",0,0,0]
[37,"Onions, Red US #1 grade Jumbo","OR/ID/CO/NY/TX",null,"25#",{"v":0,"d":"0 "},"Cs",0,{"$f":"IF(OR(ISBLANK(F43),F43=0),,ROUND($I$3+H43,2))","v":0},{"$f":"ROUND(I43*F43,2)","v":0}]
[38,"Onions, Yellow US #1 grade Jumbo","OR/ID/CO/NY/TX",null,"50 #",{"v":150,"d":"150 "},"Cs",0,0,0]
[39,"Oranges 113 Choice","CA",null,"113 CT.",{"v":4000,"d":"4,000 "},"Cs",0,0,{"$f":"ROUND(I45*F45,2)","v":0}]
[40,"Peaches, US #1 grade","SC/GA/CA",null,"25 #",{"v":0,"d":"0 "},"Cs",0,0,0]
[41,"Pears, Anjou US #1 Grade","WA/CA",null,"120 CT",{"v":70,"d":"70 "},"Cs",0,{"$f":"IF(OR(ISBLANK(F47),F47=0),,ROUND($I$3+H47,2))","v":0},{"$f":"ROUND(I47*F47,2)","v":0}]
[42,"Pears, Asian US #1 Grade","SC/CA/OR/WA",null,"10 #",{"v":0,"d":"0 "},"Cs",0,0,0]
[43,"Pepper, Bell, Medium  US #1 Grade ","GA/FL/NC/SC/MI/NJ/NON DOMESTIC",null,"5 #",{"v":200,"d":"200 "},"Cs",0,0,0]
[44,"Pepper, Red Bell, Medium, US #1 Grade","GA/FL/NC/SC/MI/NJ/NON DOMESTIC",null,"5 #",{"v":0,"d":"0 "},"Cs",0,0,0]
[45,"Pineapple, Golden Ripe   Dole, Del-Monte","NON DOMESTIC",null,"7 CT",{"v":50,"d":"50 "},"Cs",0,0,0]
[46,"Potatoes, Baking US #1 Grade","ID/WI",null,"70 CT.",{"v":250,"d":"250 "},"Cs",0,0,0]
[47,"Potatoes,  Baking US #1 Grade","ID/WI",null,"90 CT.",{"v":400,"d":"400 "},"Cs",0,0,0]
[48,"Potatoes, Sweet US #1 Grade","SC/NC/MS",null,"40 #",{"v":200,"d":"200 "},"Cs",0,0,0]
[49,"Radishes US #1 Grade","FL/NJ",null,"14/1#",{"v":25,"d":"25 "},"Cs",0,0,0]
[50,"Raspberries, US #1 Grade","SC/NC/CA/NON-DOMESTIC",null,"12/1/2 PTS",{"v":0,"d":"0 "},"Cs",0,{"$f":"IF(OR(ISBLANK(F56),F56=0),,ROUND($I$3+H56,2))","v":0},{"$f":"ROUND(I56*F56,2)","v":0}]
[51,"Romaine, Chopped US #1 Grade","CA",null,"6/2 #",{"v":250,"d":"250 "},"Cs",0,0,0]
[52,"Salad Mix  50 / 50 Blend Romaine / Iceberg","CA",null,"4/5 #",{"v":2500,"d":"2,500 "},"Cs",0,{"$f":"IF(OR(ISBLANK(F58),F58=0),,ROUND($I$3+H58,2))","v":0},{"$f":"ROUND(I58*F58,2)","v":0}]
[53,"Salad Mix, Spring","CA",null,"3 #",{"v":100,"d":"100 "},"Cs",0,{"$f":"IF(OR(ISBLANK(F59),F59=0),,ROUND($I$3+H59,2))","v":0},0]
[54,"Spinach, Fresh US #1 Grade","CA",null,"12/10 OZ",{"v":100,"d":"100 "},"Cs",0,0,0]
[55,"Squash, Butternut, Diced","SC/NC/FL/GA/VA",null,"4/5#",{"v":0,"d":"0 "},"Cs",0,{"$f":"IF(OR(ISBLANK(F61),F61=0),,ROUND($I$3+H61,2))","v":0},{"$f":"ROUND(I61*F61,2)","v":0}]
[56,"Squash, Yellow US Medium","FL/GA/NC/SC",null,"20 #",{"v":600,"d":"600 "},"Cs",0,0,{"$f":"ROUND(I62*F62,2)","v":0}]
[57,"Strawberries US #1 Grade","FL/GA/SC",null,"8/1 #",{"v":600,"d":"600 "},"Cs",0,0,0]
[58,"Tomatoes, 6x6 US #1 Grade ","SC/NC/FL/VA",null,"25 #",{"v":550,"d":"550 "},"Cs",0,0,0]
[59,"Tomatoes, 6X6 US #1 Grade","SC/NC/FL/VA",null,"10 #",{"v":1250,"d":"1,250 "},"Cs",0,0,0]
[60,"Tomatoes, Cherry US #1 Grade ","SC/NC/FL/VA",null,"12- PTS.",{"v":150,"d":"150 "},"Cs",0,0,0]
[61,"Tomatoes, Grape US #1 Grade","SC/NC/FL/VA",null,"12- PTS.",{"v":150,"d":"150 "},"Cs",0,0,0]
[62,"Watermelon Seedless 15-18# Average US #1 Grade","FL/GA/NC/SC/NON DOMESTIC",null,"1 EACH",{"v":200,"d":"200 "},"EA",0,0,{"$f":"ROUND(I68*F68,2)","v":0}]
[63,"Zuchinni, US Medium","FL/GA/NC/SC",null,"20 #",{"v":600,"d":"600 "},"CS",0,0,0]
[64,"Eggs, Fresh  Large, White, Grade A","VA/SC",null,"30 DOZ",{"v":350,"d":"350 "},"Cs",0,0,0]
[{"$nulls":5}," ",null," ","Subtotal",{"$f":"SUM(J7:J70)","v":0}]