{"text_format":"3","workbook":"xlsx","n_sheets":1,"sheets":["BID FORM"],"not_rendered":{"external_links":1,"defined_names":1},"read":"whole","date_system":"1900"}

{"sheet":"BID FORM","index":0,"n_rows":83,"n_cols":11,"rows_kept":83,"merged":[[0,1,0,6],[81,1,81,4]]}
[null,"ALLISON ROAD PEDESTRIAN CONNECTOR BID FORM - CITY OF BEAUFORT RFP 2022-001"]
[null,"PAY ITEM","DESCRIPTION","QTY","UNIT","UNIT PRICE","TOTAL PRICE","PAY ITEM","DESCRIPTION","QUANTITY","UNIT"]
[1,{"$f":"'[1]Cost Estimate'!B5","v":1031000},{"$f":"'[1]Cost Estimate'!C5","v":"MOBILIZATION"},{"$f":"'[1]Cost Estimate'!D5","v":1},{"$f":"'[1]Cost Estimate'!E5","v":"LS  "},0,{"$f":"D3*F3","v":0},6800530,"17\"X30\"X28\"D.ELEC.FLUSH UNDGRD.ENCLOSURE-(STR.POLY.CONC.)HD",1,"EA"]
[2,{"$f":"'[1]Cost Estimate'!B6","v":1032010},{"$f":"'[1]Cost Estimate'!C6","v":"BONDS AND INSURANCE"},{"$f":"'[1]Cost Estimate'!D6","v":1},{"$f":"'[1]Cost Estimate'!E6","v":"LS  "},0,{"$f":"D4*F4","v":0},6888110,"INSTALL STREET LIGHT LUMINAIRE",12,"EA"]
[3,{"$f":"'[1]Cost Estimate'!B7","v":1050800},{"$f":"'[1]Cost Estimate'!C7","v":"CONSTRUCTION STAKES, LINES & GRADES"},{"$f":"'[1]Cost Estimate'!D7","v":1},{"$f":"'[1]Cost Estimate'!E7","v":"EA"},0,0,{"$f":"'[1]Cost Estimate'!B47","v":7143618},{"$f":"'[1]Cost Estimate'!C47","v":"18\" SMOOTH WALL PIPE"},{"$f":"'[1]Cost Estimate'!D47","v":176},{"$f":"'[1]Cost Estimate'!E47","v":"LF  "}]
[4,{"$f":"'[1]Cost Estimate'!B8","v":1071000},{"$f":"'[1]Cost Estimate'!C8","v":"TRAFFIC CONTROL"},{"$f":"'[1]Cost Estimate'!D8","v":1},{"$f":"'[1]Cost Estimate'!E8","v":"LS  "},0,0,{"$f":"'[1]Cost Estimate'!B48","v":7143642},{"$f":"'[1]Cost Estimate'!C48","v":"42\" SMOOTH WALL PIPE"},{"$f":"'[1]Cost Estimate'!D48","v":12},{"$f":"'[1]Cost Estimate'!E48","v":"LF  "}]
[5,{"$f":"'[1]Cost Estimate'!B9","v":1090200},{"$f":"'[1]Cost Estimate'!C9","v":"AS-BUILT CONSTRUCTION PLANS"},{"$f":"'[1]Cost Estimate'!D9","v":1},{"$f":"'[1]Cost Estimate'!E9","v":"LS  "},0,0,{"$f":"'[1]Cost Estimate'!B49","v":7143648},{"$f":"'[1]Cost Estimate'!C49","v":"48\" SMOOTH WALL PIPE"},{"$f":"'[1]Cost Estimate'!D49","v":576},{"$f":"'[1]Cost Estimate'!E49","v":"LF  "}]
[6,{"$f":"'[1]Cost Estimate'!B10","v":2011000},{"$f":"'[1]Cost Estimate'!C10","v":"CLEARING & GRUBBING WITHIN RIGHT OF WAY"},{"$f":"'[1]Cost Estimate'!D10","v":1},{"$f":"'[1]Cost Estimate'!E10","v":"LS  "},0,0,{"$f":"'[1]Cost Estimate'!B50","v":7192021},{"$f":"'[1]Cost Estimate'!C50","v":"DROP INLET (24\" X 36\") WITH STANDARD 4' X 4' BOX"},{"$f":"'[1]Cost Estimate'!D50","v":8},{"$f":"'[1]Cost Estimate'!E50","v":"EA  "}]
[7,{"$f":"'[1]Cost Estimate'!B11","v":2021010},{"$f":"'[1]Cost Estimate'!C11","v":"REMOVAL & DISPOSAL OF EXISTING DROP INLET"},{"$f":"'[1]Cost Estimate'!D11","v":1},{"$f":"'[1]Cost Estimate'!E11","v":"EA  "},0,0,{"$f":"'[1]Cost Estimate'!B51","v":7192108},{"$f":"'[1]Cost Estimate'!C51","v":"MANHOLE WITH STANDARD 5' X 5' BOX"},{"$f":"'[1]Cost Estimate'!D51","v":1},{"$f":"'[1]Cost Estimate'!E51","v":"EA"}]
[8,{"$f":"'[1]Cost Estimate'!B12","v":2023000},{"$f":"'[1]Cost Estimate'!C12","v":"REMOVAL & DISPOSAL OF EXISTING PAVEMENT"},{"$f":"'[1]Cost Estimate'!D12","v":{"v":284.90616666666665,"d":"285"}},{"$f":"'[1]Cost Estimate'!E12","v":"SY"},null,0,{"$f":"'[1]Cost Estimate'!B52","v":7204100},{"$f":"'[1]Cost Estimate'!C52","v":"CONCRETE SIDEWALK (4\" UNIFORM)"},{"$f":"'[1]Cost Estimate'!D52","v":{"v":984.6362777777779,"d":"985"}},{"$f":"'[1]Cost Estimate'!E52","v":"SY"}]
[9,{"$f":"'[1]Cost Estimate'!B13","v":2024100},{"$f":"'[1]Cost Estimate'!C13","v":"REMOVAL & DISPOSAL OF EXISTING CURB"},{"$f":"'[1]Cost Estimate'!D13","v":{"v":16.459,"d":"16"}},{"$f":"'[1]Cost Estimate'!E13","v":"LF"},0,0,{"$f":"'[1]Cost Estimate'!B53","v":7204900},{"$f":"'[1]Cost Estimate'!C53","v":"DETECTABLE WARNING MATERIAL"},{"$f":"'[1]Cost Estimate'!D53","v":{"v":25.38,"d":"25"}},{"$f":"'[1]Cost Estimate'!E53","v":"SF  "}]
[10,{"$f":"'[1]Cost Estimate'!B14","v":2027000},{"$f":"'[1]Cost Estimate'!C14","v":"REMOVAL & DISPOSAL OF EXISTING CONCRETE"},{"$f":"'[1]Cost Estimate'!D14","v":{"v":4.944722222222222,"d":"5"}},{"$f":"'[1]Cost Estimate'!E14","v":"CY"},0,0,{"$f":"'[1]Cost Estimate'!B54","v":7209000},{"$f":"'[1]Cost Estimate'!C54","v":"PEDESTRIAN RAMP CONSTRUCTION"},{"$f":"'[1]Cost Estimate'!D54","v":{"v":15.063533333333332,"d":"15"}},{"$f":"'[1]Cost Estimate'!E54","v":"SY"}]
[11,{"$f":"'[1]Cost Estimate'!B15","v":2031000},{"$f":"'[1]Cost Estimate'!C15","v":"UNCLASSIFIED EXCAVATION"},{"$f":"'[1]Cost Estimate'!D15","v":5},{"$f":"'[1]Cost Estimate'!E15","v":"CY"},0,0,{"$f":"'[1]Cost Estimate'!B55","v":8041020},{"$f":"'[1]Cost Estimate'!C55","v":"RIP-RAP (CLASS B)"},{"$f":"'[1]Cost Estimate'!D55","v":63},{"$f":"'[1]Cost Estimate'!E55","v":"TON "}]
[12,{"$f":"'[1]Cost Estimate'!B16","v":2033000},{"$f":"'[1]Cost Estimate'!C16","v":"BORROW EXCAVATION"},{"$f":"'[1]Cost Estimate'!D16","v":241},{"$f":"'[1]Cost Estimate'!E16","v":"CY"},0,0,{"$f":"'[1]Cost Estimate'!B56","v":8048210},{"$f":"'[1]Cost Estimate'!C56","v":"GEOTEXTILE FOR EROSION CONTROL UNDER RIPRAP(CLASS 2)TYPE C"},{"$f":"'[1]Cost Estimate'!D56","v":84},{"$f":"'[1]Cost Estimate'!E56","v":"SY  "}]
[13,2081001,"FINE GRADING",{"$f":"'[1]Cost Estimate'!D17","v":{"v":988.8109222222223,"d":"989"}},"SY",0,0,8091010,"RIGHT OF WAY MARKER (REBAR AND CAP)",2,"EA"]
[14,{"$f":"'[1]Cost Estimate'!B18","v":3069900},{"$f":"'[1]Cost Estimate'!C18","v":"MAINTENANCE STONE"},{"$f":"'[1]Cost Estimate'!D18","v":{"v":96.588025,"d":"97"}},{"$f":"'[1]Cost Estimate'!E18","v":"TON"},0,0,8091050,"RIGHT OF WAY PLAT",1,"LS  "]
[15,{"$f":"'[1]Cost Estimate'!B19","v":4011004},{"$f":"'[1]Cost Estimate'!C19","v":"LIQUID ASPHALT BINDER PG64-22"},{"$f":"'[1]Cost Estimate'!D19","v":{"v":22.75043761935,"d":"23"}},{"$f":"'[1]Cost Estimate'!E19","v":"TON"},0,0,{"$f":"'[1]Cost Estimate'!B59","v":8100100},{"$f":"'[1]Cost Estimate'!C59","v":"PERMANENT COVER"},{"$f":"'[1]Cost Estimate'!D59","v":{"v":0.6723,"d":"0.672"}},{"$f":"'[1]Cost Estimate'!E59","v":"ACRE"}]
[16,{"$f":"'[1]Cost Estimate'!B20","v":4013990},{"$f":"'[1]Cost Estimate'!C20","v":"MILLING EXISTING ASPHALT PAVEMENT (VARIABLE)"},{"$f":"'[1]Cost Estimate'!D20","v":{"v":1266.9250111111112,"d":"1267"}},{"$f":"'[1]Cost Estimate'!E20","v":"SY"},0,0,{"$f":"'[1]Cost Estimate'!B60","v":8100200},{"$f":"'[1]Cost Estimate'!C60","v":"TEMPORARY COVER"},{"$f":"'[1]Cost Estimate'!D60","v":{"v":0.33615,"d":"0.336"}},{"$f":"'[1]Cost Estimate'!E60","v":"ACRE"}]
[17,{"$f":"'[1]Cost Estimate'!B21","v":4030340},{"$f":"'[1]Cost Estimate'!C21","v":"HOT MIX ASPHALT SURFACE COURSE TYPE C"},{"$f":"'[1]Cost Estimate'!D21","v":{"v":361.11805745,"d":"361"}},{"$f":"'[1]Cost Estimate'!E21","v":"TON "},0,0,{"$f":"'[1]Cost Estimate'!B61","v":8101105},{"$f":"'[1]Cost Estimate'!C61","v":"COMPOST"},{"$f":"'[1]Cost Estimate'!D61","v":{"v":180.77399999999997,"d":"181"}},{"$f":"'[1]Cost Estimate'!E61","v":"CY"}]
[18,{"$f":"'[1]Cost Estimate'!B22","v":6021120},{"$f":"'[1]Cost Estimate'!C22","v":"PERMANENT CONSTRUCTION SIGNS (GROUND MOUNTED)"},{"$f":"'[1]Cost Estimate'!D22","v":148},{"$f":"'[1]Cost Estimate'!E22","v":"SF"},0,0,{"$f":"'[1]Cost Estimate'!B62","v":8104005},{"$f":"'[1]Cost Estimate'!C62","v":"FERTILIZER (NITROGEN)"},{"$f":"'[1]Cost Estimate'!D62","v":{"v":67.23,"d":"67"}},{"$f":"'[1]Cost Estimate'!E62","v":"LB"}]
[19,{"$f":"'[1]Cost Estimate'!B23","v":6250005},{"$f":"'[1]Cost Estimate'!C23","v":"4\" WHITE BROKEN LINES -(GAPS EXCLUDED)-FAST DRY PAINT"},{"$f":"'[1]Cost Estimate'!D23","v":{"v":49.01914285714285,"d":"49"}},{"$f":"'[1]Cost Estimate'!E23","v":"LF"},0,0,{"$f":"'[1]Cost Estimate'!B63","v":8104010},{"$f":"'[1]Cost Estimate'!C63","v":"FERTILIZER (PHOSPHORIC ACID)"},{"$f":"'[1]Cost Estimate'!D63","v":{"v":67.23,"d":"67"}},{"$f":"'[1]Cost Estimate'!E63","v":"LB"}]
[20,{"$f":"'[1]Cost Estimate'!B24","v":6250010},{"$f":"'[1]Cost Estimate'!C24","v":"4\" WHITE SOLID LINES (PVT. EDGE LINES)-FAST DRY PAINT"},{"$f":"'[1]Cost Estimate'!D24","v":{"v":36.319,"d":"36"}},{"$f":"'[1]Cost Estimate'!E24","v":"LF"},0,0,{"$f":"'[1]Cost Estimate'!B64","v":8104015},{"$f":"'[1]Cost Estimate'!C64","v":"FERTILIZER (POTASH)"},{"$f":"'[1]Cost Estimate'!D64","v":{"v":67.23,"d":"67"}},{"$f":"'[1]Cost Estimate'!E64","v":"LB"}]
[21,{"$f":"'[1]Cost Estimate'!B25","v":6250015},{"$f":"'[1]Cost Estimate'!C25","v":"8\"WHITE SOLID LINES(CROSSWALK&CHANNELIZATION)FAST DRY PAINT"},{"$f":"'[1]Cost Estimate'!D25","v":{"v":294.429,"d":"294"}},{"$f":"'[1]Cost Estimate'!E25","v":"LF"},0,0,{"$f":"'[1]Cost Estimate'!B65","v":8105005},{"$f":"'[1]Cost Estimate'!C65","v":"AGRICULTURAL GRANULAR LIME"},{"$f":"'[1]Cost Estimate'!D65","v":{"v":1344.6,"d":"1345"}},{"$f":"'[1]Cost Estimate'!E65","v":"LB"}]
[22,{"$f":"'[1]Cost Estimate'!B26","v":6250025},{"$f":"'[1]Cost Estimate'!C26","v":"24\" WHITE SOLID LINES (STOP/DIAGONAL LINES)-FAST DRY PAINT"},{"$f":"'[1]Cost Estimate'!D26","v":128},{"$f":"'[1]Cost Estimate'!E26","v":"LF"},0,0,{"$f":"'[1]Cost Estimate'!B66","v":8109050},{"$f":"'[1]Cost Estimate'!C66","v":"SELECTIVE WATERING"},{"$f":"'[1]Cost Estimate'!D66","v":54300},{"$f":"'[1]Cost Estimate'!E66","v":"GAL"}]
[23,{"$f":"'[1]Cost Estimate'!B27","v":6250030},{"$f":"'[1]Cost Estimate'!C27","v":"WHITE SINGLE ARROW (LEFT, STRAIGHT, RIGHT)-FAST DRY PAINT"},{"$f":"'[1]Cost Estimate'!D27","v":1},{"$f":"'[1]Cost Estimate'!E27","v":"EA  "},0,0,{"$f":"'[1]Cost Estimate'!B67","v":8109901},{"$f":"'[1]Cost Estimate'!C67","v":"MOWING"},{"$f":"'[1]Cost Estimate'!D67","v":{"v":2.0169,"d":"2.017"}},{"$f":"'[1]Cost Estimate'!E67","v":"ACRE"}]
[24,{"$f":"'[1]Cost Estimate'!B28","v":6250040},{"$f":"'[1]Cost Estimate'!C28","v":"WHITE COMBINATION ARROW(STR.& RT.OR STR.& LT.)FAST DRY PAINT"},{"$f":"'[1]Cost Estimate'!D28","v":1},{"$f":"'[1]Cost Estimate'!E28","v":"EA  "},0,0,{"$f":"'[1]Cost Estimate'!B68","v":8110001},{"$f":"'[1]Cost Estimate'!C68","v":"LANDSCAPING"},{"$f":"'[1]Cost Estimate'!D68","v":1},{"$f":"'[1]Cost Estimate'!E68","v":"LS  "}]
[25,{"$f":"'[1]Cost Estimate'!B29","v":6250110},{"$f":"'[1]Cost Estimate'!C29","v":"4\"YELLOW SOLID LINE(PVT.EDGE&NO PASSING ZONE)-FAST DRY PAINT"},{"$f":"'[1]Cost Estimate'!D29","v":{"v":2059.232,"d":"2059"}},{"$f":"'[1]Cost Estimate'!E29","v":"LF"},0,0,{"$f":"'[1]Cost Estimate'!B69","v":8152004},{"$f":"'[1]Cost Estimate'!C69","v":"INLET STRUCTURE FILTER - TYPE F (WEIGHTED)"},{"$f":"'[1]Cost Estimate'!D69","v":208},{"$f":"'[1]Cost Estimate'!E69","v":"LF"}]
[26,{"$f":"'[1]Cost Estimate'!B30","v":6271005},{"$f":"'[1]Cost Estimate'!C30","v":"4\" WHITE BROKEN LINES(GAPS EXCL.)THERMOPLASTIC- 90 MIL."},{"$f":"'[1]Cost Estimate'!D30","v":{"v":49.01914285714285,"d":"49"}},{"$f":"'[1]Cost Estimate'!E30","v":"LF"},0,0,{"$f":"'[1]Cost Estimate'!B70","v":8152006},{"$f":"'[1]Cost Estimate'!C70","v":"INLET STRUCTURE FILTER- TYPE F (NON-WEIGHTED)"},{"$f":"'[1]Cost Estimate'!D70","v":208},{"$f":"'[1]Cost Estimate'!E70","v":"LF"}]
[27,{"$f":"'[1]Cost Estimate'!B31","v":6271010},{"$f":"'[1]Cost Estimate'!C31","v":"4\" WHITE SOLID LINES (PVT. EDGE LINES) THERMO.- 90 MIL."},{"$f":"'[1]Cost Estimate'!D31","v":{"v":36.319,"d":"36"}},{"$f":"'[1]Cost Estimate'!E31","v":"LF"},0,0,{"$f":"'[1]Cost Estimate'!B71","v":8153000},{"$f":"'[1]Cost Estimate'!C71","v":"SILT FENCE"},{"$f":"'[1]Cost Estimate'!D71","v":{"v":2609.55,"d":"2610"}},{"$f":"'[1]Cost Estimate'!E71","v":"LF"}]
[28,{"$f":"'[1]Cost Estimate'!B32","v":6271015},{"$f":"'[1]Cost Estimate'!C32","v":"8\" WHITE SOLID LINES THERMOPLASTIC - 125 MIL."},{"$f":"'[1]Cost Estimate'!D32","v":{"v":294.429,"d":"294"}},{"$f":"'[1]Cost Estimate'!E32","v":"LF"},0,0,{"$f":"'[1]Cost Estimate'!B72","v":8153090},{"$f":"'[1]Cost Estimate'!C72","v":"REPLACE/REPAIR SILT FENCE"},{"$f":"'[1]Cost Estimate'!D72","v":{"v":260.95500000000004,"d":"261"}},{"$f":"'[1]Cost Estimate'!E72","v":"LF"}]
[29,{"$f":"'[1]Cost Estimate'!B33","v":6271025},{"$f":"'[1]Cost Estimate'!C33","v":"24\" WHITE SOLID LINES (STOP/DIAG LINES)-THERMO.-125 MIL"},{"$f":"'[1]Cost Estimate'!D33","v":128},{"$f":"'[1]Cost Estimate'!E33","v":"LF"},0,0,{"$f":"'[1]Cost Estimate'!B73","v":8154050},{"$f":"'[1]Cost Estimate'!C73","v":"REMOVAL OF SILT RETAINED BY SILT FENCE"},{"$f":"'[1]Cost Estimate'!D73","v":{"v":652.3875,"d":"652"}},{"$f":"'[1]Cost Estimate'!E73","v":"LF"}]
[30,{"$f":"'[1]Cost Estimate'!B34","v":6271030},{"$f":"'[1]Cost Estimate'!C34","v":"WHITE SINGLE ARROWS (LT, STRGHT, RT) THERMO.-125 MIL."},{"$f":"'[1]Cost Estimate'!D34","v":1},{"$f":"'[1]Cost Estimate'!E34","v":"EA  "},0,0,{"$f":"'[1]Cost Estimate'!B74","v":8156200},{"$f":"'[1]Cost Estimate'!C74","v":"CLEANING INLET STRUCTURE FILTERS"},{"$f":"'[1]Cost Estimate'!D74","v":16},{"$f":"'[1]Cost Estimate'!E74","v":"EA"}]
[31,{"$f":"'[1]Cost Estimate'!B35","v":6271040},{"$f":"'[1]Cost Estimate'!C35","v":"WHITE COMBINATION ARROWS(STR&RT.OR STR&LT)THERMO-125MIL"},{"$f":"'[1]Cost Estimate'!D35","v":1},{"$f":"'[1]Cost Estimate'!E35","v":"EA  "},0,0,{"$f":"'[1]Cost Estimate'!B75","v":8156490},{"$f":"'[1]Cost Estimate'!C75","v":"STABILIZED CONSTRUCTION ENTRANCE"},{"$f":"'[1]Cost Estimate'!D75","v":550},{"$f":"'[1]Cost Estimate'!E75","v":"SY"}]
[32,{"$f":"'[1]Cost Estimate'!B36","v":6271074},{"$f":"'[1]Cost Estimate'!C36","v":"4\" YELLOW SOLID LINES(PVT.EDGE LINES) THERMO-90 MIL."},{"$f":"'[1]Cost Estimate'!D36","v":{"v":2059.232,"d":"2059"}},{"$f":"'[1]Cost Estimate'!E36","v":"LF"},0,0]
[33,6301100,"PERMANENT YELLOW PAVEMENT MARKERS BI-DIR. -4\"X4\"",13,"EA",0,0]
[34,{"$f":"'[1]Cost Estimate'!B38","v":6510105},{"$f":"'[1]Cost Estimate'!C38","v":"FLAT SHEET,TYPE III,FIXED SIZE"},{"$f":"'[1]Cost Estimate'!D38","v":{"v":26.5,"d":"27"}},{"$f":"'[1]Cost Estimate'!E38","v":"SF"},0,0]
[35,{"$f":"'[1]Cost Estimate'!B39","v":6531210},{"$f":"'[1]Cost Estimate'!C39","v":"U-SECTION POST FOR SIGN SUPPORTS - 3P"},{"$f":"'[1]Cost Estimate'!D39","v":14},{"$f":"'[1]Cost Estimate'!E39","v":"LF"},0,0]
[36,6650900,"FURNISH & INSTALL ELECTRICAL SERVICE CONNECTIONS",1,"EA",0,0]
[37,6651091,"SINGLE DECORATIVE LIGHT POLE WITH SINGLE LIGHT",14,"EA",0,0]
[38,"675027Y","FURNISH & INSTALL 4.0\" SCHD 80 PVC CONDUIT(DIRECTION BORED)",100,"LF",0,0]
[39,6760020,"2\" SCHEDULE 80 HDPE CONDUIT",1435,"LF",0,0]
[40,6770319,"NO. 8 COPPER WIRE, 1 CONDUCTOR, 600V,TYPE RHH,RHW,USE",6005,"LF",0,0]
[41,6800530,"17\"X30\"X28\"D.ELEC.FLUSH UNDGRD.ENCLOSURE-(STR.POLY.CONC.)HD",2,"EA",0,0]
[42,6888110,"INSTALL STREET LIGHT LUMINAIRE",14,"EA",0,0]
[45,{"$f":"H5","v":7143618},{"$f":"I5","v":"18\" SMOOTH WALL PIPE"},{"$f":"J5","v":176},{"$f":"K5","v":"LF  "},0,0]
[46,{"$f":"H6","v":7143642},"42\" SMOOTH WALL PIPE",{"$f":"J6","v":12},{"$f":"K6","v":"LF  "},0,0]
[47,7143648,"48\" SMOOTH WALL PIPE",576,"LF  ",0,0]
[48,7192021,"DROP INLET (24\" X 36\") WITH STANDARD 4' X 4' BOX",8,"EA  ",0,0]
[49,7192108,"MANHOLE WITH STANDARD 5' X 5' BOX",1,"EA",0,0]
[50,7204100,"CONCRETE SIDEWALK (4\" UNIFORM)",{"v":984.6362777777779,"d":"985"},"SY",0,0]
[51,7204900,"DETECTABLE WARNING MATERIAL",{"v":25.38,"d":"25"},"SF  ",0,0]
[52,7209000,"PEDESTRIAN RAMP CONSTRUCTION",{"v":15.063533333333332,"d":"15"},"SY",0,0]
[53,8041020,"RIP-RAP (CLASS B)",63,"TON ",0,0]
[54,8048210,"GEOTEXTILE FOR EROSION CONTROL UNDER RIPRAP(CLASS 2)TYPE C",84,"SY  ",0,0]
[55,8091010,"RIGHT OF WAY MARKER (REBAR AND CAP)",2,"EA",0,0]
[56,8091050,"RIGHT OF WAY PLAT",1,"LS  ",0,0]
[57,8100100,"PERMANENT COVER",{"v":0.6723,"d":"0.672"},"ACRE",0,0]
[58,8100200,"TEMPORARY COVER",{"v":0.33615,"d":"0.336"},"ACRE",0,0]
[59,8101105,"COMPOST",{"v":180.77399999999997,"d":"181"},"CY",0,0]
[60,8104005,"FERTILIZER (NITROGEN)",{"v":67.23,"d":"67"},"LB",0,0]
[61,8104010,"FERTILIZER (PHOSPHORIC ACID)",{"v":67.23,"d":"67"},"LB",0,0]
[62,8104015,"FERTILIZER (POTASH)",{"v":67.23,"d":"67"},"LB",0,0]
[63,8105005,"AGRICULTURAL GRANULAR LIME",{"v":1344.6,"d":"1345"},"LB",0,0]
[64,8109050,"SELECTIVE WATERING",54300,"GAL",0,0]
[65,8109901,"MOWING",2.017,"ACRE",0,0]
[66,8110001,"LANDSCAPING",{"$f":"J26","v":1},"LS  ",0,0]
[67,8152004,"INLET STRUCTURE FILTER - TYPE F (WEIGHTED)",{"$f":"J27","v":208},"LF",0,0]
[68,8152006,"INLET STRUCTURE FILTER- TYPE F (NON-WEIGHTED)",{"$f":"J28","v":208},"LF",0,{"$f":"D68*F68","v":0}]
[69,8153000,"SILT FENCE",2610,"LF",0,0]
[70,8153090,"REPLACE/REPAIR SILT FENCE",{"$f":"J30","v":{"v":260.95500000000004,"d":"261"}},"LF",0,0]
[71,8154050,"REMOVAL OF SILT RETAINED BY SILT FENCE",{"$f":"J31","v":{"v":652.3875,"d":"652"}},"LF",0,0]
[72,8156200,"CLEANING INLET STRUCTURE FILTERS",{"$f":"J32","v":16},"EA",0,0]
[73,8156490,"STABILIZED CONSTRUCTION ENTRANCE",{"$f":"J33","v":550},"SY",0,0]
[null,9800000,"UTILITY DUCT BANK SYSTEM",2144,"LF",0,0]
[null,9800001,"DUCT BANK 6\" TURN-OUT/TURN-UP-ELECTRIC (GROUTED)",20,"EA",0,0]
[null,9800002,"DUCT BANK 3\" TURN-OUT/TURN-UP-ELECTRIC (GROUTED)",50,"EA",0,0]
[null,9800003,"DUCT BANK 2\" TURN-OUT/TURN-UP-ELECTRIC (GROUTED)",24,"EA",0,0]
[null,9800004,"DUCT BANK 4\" TURN-OUT/TURN-UP-COMMUNICATION (NOT GROUTED)",20,"EA",0,0]
[null,9800005,"DUCT BANK 4\" TURN-OUT/TURN-UP-COMMUNICATION (NOT GROUTED)",44,"EA",0,0]
[null,9800006,"3\" SERVICE CONDUIT",1532,"LF",0,0]
[null,9800007,"METER CONVERSIONS (OVERHEAD TO UNDERGROUND)",18,"EA",0,0]
[{"$nulls":5},"TOTAL OF PROJECT =",{"$f":"SUM(G3:G81)","v":0}]
[{"$nulls":3},"***GREY AREAS ARE PROTECTED***"]