{"text_format":"3","workbook":"xlsx","n_sheets":28,"sheets":["Recap Sheet","Beef","Chicken","Turkey","Pork","Fish","Pizza","Pizza ","Frozen Entrees","Franks & Corn Dogs","Dairy&Yogurt","Eggs","Frozen Potato ","Shelf-stable Fruit& Juice","Frozen Fruit & Juice","Frozen Vegetables","Breakfast Products","Shelf-stable Vegetables","Groceries","Beverages","Spices- Flavorings","Condiments Portion Control","Smart Snacks","Bread Products, Frozen","Special Diet Foods","Disposables","Chemicals","Sheet1"],"not_rendered":{"defined_names":34,"comments":1},"read":"whole","date_system":"1900"}

{"sheet":"Recap Sheet","index":0,"n_rows":32,"n_cols":2,"rows_kept":32,"merged":[[4,0,4,1]]}
["South Carolina School Food Service Purchasing Alliance, Inc"]
["School Food Authority:","Colleton County School District Office of Student Nutrition"]
["Offeror Name:"]
["Firm Fixed Fee",{"v":0,"d":"$0.00"}]
["Bid Recap"]
["Categories","Subtotals"]
["Beef",{"$f":"Beef!L95","v":{"v":30847.010000000002,"d":"$30,847.01"}}]
["Chicken",{"$f":"Chicken!L244","v":{"v":292543.28,"d":"$292,543.28"}}]
["Turkey",{"$f":"Turkey!L73","v":{"v":17488.35,"d":"$17,488.35"}}]
["Pork",{"$f":"Pork!L52","v":{"v":95107.75,"d":"$95,107.75"}}]
["Fish",{"$f":"Fish!L44","v":{"v":6304,"d":"$6,304.00"}}]
["Pizza",{"$f":"'Pizza '!L174","v":{"v":34250,"d":"$34,250.00"}}]
["Frozen Entrees",{"$f":"'Frozen Entrees'!L103","v":{"v":53611.25,"d":"$53,611.25"}}]
["Franks & Corn Dogs",{"$f":"'Franks & Corn Dogs'!L73","v":{"v":2791,"d":"$2,791.00"}}]
["Dairy ",{"$f":"'Dairy&Yogurt'!L92","v":{"v":30782.9,"d":"$30,782.90"}}]
["Eggs",{"$f":"Eggs!L56","v":0}]
["Frozen Potato ",{"$f":"'Frozen Potato '!L98","v":{"v":28615,"d":"$28,615.00"}}]
["Frozen Fruit & Juice",{"$f":"'Frozen Fruit & Juice'!L106","v":{"v":9302,"d":"$9,302.00"}}]
["Shelf-stable Fruit& Juice",{"$f":"'Shelf-stable Fruit& Juice'!L107","v":{"v":7628.68,"d":"$7,628.68"}}]
["Frozen Vegetables",{"$f":"'Frozen Vegetables'!L67","v":0}]
["Shelf-stable Vegetables",{"$f":"'Shelf-stable Vegetables'!L120","v":{"v":18148.5,"d":"$18,148.50"}}]
["Breakfast Products",{"$f":"'Breakfast Products'!L303","v":{"v":123222,"d":"$123,222.00"}}]
["Groceries",{"$f":"Groceries!L225","v":0}]
["Beverages",{"$f":"Beverages!L64","v":{"v":15831,"d":"$15,831.00"}}]
["Spices- Flavorings",{"$f":"'Spices- Flavorings'!L148","v":0}]
["Condiments Portion Control",{"$f":"'Condiments Portion Control'!L129","v":{"v":13366.19,"d":"$13,366.19"}}]
["Smart Snacks",{"$f":"'Smart Snacks'!L133","v":{"v":48402,"d":"$48,402.00"}}]
["Special Diet Foods",{"$f":"'Special Diet Foods'!L61","v":0}]
["Bread Products, Frozen",{"$f":"'Bread Products, Frozen'!L30","v":0}]
["Chemicals",{"$f":"Chemicals!L15","v":0}]
["Disposables",{"$f":"Disposables!L231","v":0}]
["Lot A Total",{"$f":"SUM(B7:B31)","v":{"v":828240.91,"d":"$828,240.91"}}]

{"sheet":"Beef","index":1,"n_rows":95,"n_cols":20,"rows_kept":95,"merged":[[0,4,0,12],[1,4,1,12],[2,5,2,9]]}
[null,{"$f":"'Recap Sheet'!A2","v":"School Food Authority:"},null,null,{"$f":"'Recap Sheet'!A3","v":"Offeror Name:"}]
[null,{"$f":"'Recap Sheet'!B2","v":"Colleton County School District Office of Student Nutrition"},"Return to Recap Sheet",null,{"$f":"'Recap Sheet'!B3","v":0},{"$nulls":9}," ","Commodity"]
["Item","Description","Approved Brand Name / Manuf ID # ",null,null,"Firm Fixed Fee",{"$nulls":4},{"$f":"'Recap Sheet'!B4","v":{"v":0,"d":"$0.00"}},null,null,"Processing","Commodity","Pounds of",null,"NOI ","Net NOI ","Total Cost"]
["#",null,null,"Distributor","Vendor","Svgs","Est.","Bid ","Bid","Unit","Unit Price","Total ","Cost per","Fee  for","Value Per","DF Needed","Commodity","Net","Cost Per","Processing Fee"]
[{"$nulls":3},"Code","Pack","per unit","Bid Qty","Qty","Unit","Price","plus Fee","Price","Serving","Service","Pound","Per Case","Value ","Price","Serving","for Service"]
[null,"Category: Beef  ",{"$nulls":4}," ",{"$nulls":7},"Beef Course Ground Frozen CTN 60 Lb 100154"]
[1,"Beef Chili, (For Hot Dogs)","Chandler 65-464",null,"4/5 lbs",160,10,{"$f":"ROUND(G7*F7/F7,2)","v":10},"Cs",{"v":31.6,"d":"$31.60"},{"$f":"IF(OR(ISBLANK(J7),G7=0,ISBLANK(G7)),,ROUND(J7+$K$3,2))","v":{"v":31.6,"d":"$31.60"}},{"$f":"ROUND(H7*K7,2)","v":{"v":316,"d":"$316.00"}},{"$f":"ROUND(K7/F7,2)","v":{"v":0.2,"d":"$0.20"}},0,{"v":2.2248,"d":"$2.2248"},25.44," "," "," ",{"$f":"N7/F7","v":0}]
[null,"Frozen, Fully cooked, No beans, 40-80 calories with no more than 1 g","JTM 5320CE",null,"6/5#",104,null,{"$f":"ROUND(G7*F7/F8,2)","v":15.38},"Cs"," ","  "," "," ",{"v":26.22,"d":"$26.22"},{"v":2.2248,"d":"$2.2248"},9.12,{"$f":"ROUND(O8*P8,2)","v":{"v":20.29,"d":"$20.29"}},0,{"$f":"R8/F8","v":0},{"$f":"N8/F8","v":{"v":0.25211538461538463,"d":"$0.25"}}]
[null,"saturated fat and 250 mg sodium per 2 oz. serving."," "]
[]
[null,"Possible Allergens:  Soy, Wheat",{"$nulls":17}," "]
[2,"Beef Crumbles, Unseasoned","Don Lee Farms CN1540L Com: CNQ15401",null,"4/10 lbs",320,25,{"$f":"ROUND(G12*F12/F12,2)","v":25},"Cs",{"v":111.6,"d":"$111.60"},{"$f":"IF(OR(ISBLANK(J12),G12=0,ISBLANK(G12)),,ROUND(J12+$K$3,2))","v":{"v":111.6,"d":"$111.60"}},{"$f":"ROUND(H12*K12,2)","v":{"v":2790,"d":"$2,790.00"}},{"$f":"ROUND(K12/F12,2)","v":{"v":0.35,"d":"$0.35"}},{"v":28,"d":"$28.00"},{"v":2.2248,"d":"$2.2248"},66.67,{"$f":"ROUND(O12*P12,2)","v":{"v":148.33,"d":"$148.33"}},0,{"$f":"R12/F12","v":0},{"$f":"N12/F12","v":{"v":0.0875,"d":"$0.09"}}]
[null,"Frozen, fully cooked ground beef, (no more than 20% fat), 100-150 ","Adv. Pierre 320410-9 Com# 1-3201410-9",null,"236/2.03z",236,null,{"$f":"ROUND(G12*F12/F13,2)","v":33.9},"Cs"," "," ","  ","  ",0,{"v":2.2248,"d":"$2.2248"},47.72," ",0,0,0]
[null,"calories with no more  than 4 g saturated fat and 250 mg sodium per","Integrated N32000B Com# C32000B",null,"316/2.02z",316,null,{"$f":"ROUND(G12*F12/F14,2)","v":25.32},"Cs"," "," ","  "," ",0,{"v":2.2248,"d":"$2.2248"},53.19,{"v":118.34,"d":"$118.34"},0,0,0]
[null,"2 M/MA serving.  CN Labeled with serving size to provide min. 2 M/MA"]
[null,"Possible Allergens:  None ",{"$nulls":17}," "]
[3,"Beef, Meatball","Adv. Pierre 3-17-505-0 Com #: 1-17-305-0",null,"960/.5z",192,10,{"$f":"ROUND(G17*F17/F17,2)","v":10},"Cs"," "," ","  "," ",0,{"v":2.2248,"d":"$2.2248"},{"v":23.4,"d":"23.40"}," ",0,{"$f":"R17/F17","v":0},{"$f":"N17/F17","v":0}]
[null,"Frozen, IQF, Fully cooked ground beef (no more than 30% fat)","Maid Rite 75156-04105 Com #: 75156-94105",null,"960/.5z",192,null,{"$f":"ROUND(G17*F17/F18,2)","v":10},"Cs",{"$nulls":4},0,{"v":2.2248,"d":"$2.2248"},{"v":24.935,"d":"24.94"},{"$f":"ROUND(O18*P18,2)","v":{"v":55.48,"d":"$55.48"}},0,0,0]
[null,"100-200 calories with no more than 6 g saturated fat and 300 mg ","Integrated N22050B Com #: C22050B",null,"1280/.5z",256,null,{"$f":"ROUND(G17*F17/F19,2)","v":7.5},"Cs",{"$nulls":4},0,{"v":2.2248,"d":"$2.2248"},34.34,{"v":76.4,"d":"$76.40"},0,{"$f":"R19/F19","v":0},0]
[null,"sodium per serving.  CN Labeled for 5 meatballs to provide min 2 M/MA","JTM 5030CE Com #: CP505030",null,"171.2.80z",171,null,{"$f":"ROUND(G17*F17/F20,2)","v":11.23},"Cs",{"$nulls":4},0,{"v":2.2248,"d":"$2.2248"},23.78,{"v":52.91,"d":"$52.91"},0,0,0]
[null,"VPP allowed","Rich Products 55668",null,"2/5 lb",64,null,{"$f":"ROUND(G17*F17/F21,2)","v":30},"Cs",{"$nulls":4}," "]
[null,null,"Don Lee Farms CN28053VS Com #: CNQ28053VS",null,"240/2.0z",240,null,{"$f":"ROUND(G17*F17/F22,2)","v":8},"Cs",{"v":71.1,"d":"$71.10"},{"$f":"IF(OR(ISBLANK(J22),G17=0,ISBLANK(G17)),,ROUND(J22+$K$3,2))","v":{"v":71.1,"d":"$71.10"}},{"$f":"ROUND(H22*K22,2)","v":{"v":568.8,"d":"$568.80"}},{"$f":"ROUND(K22/F22,2)","v":{"v":0.3,"d":"$0.30"}},{"v":23.7,"d":"$23.70"},{"v":2.2248,"d":"$2.2248"},28.63,{"$f":"ROUND(O22*P22,2)","v":{"v":63.7,"d":"$63.70"}},0,{"$f":"R22/F22","v":0},{"$f":"N22/F22","v":{"v":0.09874999999999999,"d":"$0.10"}}]
[null,"Possible Allergens: Wheat, Soy and Milk"]
[4,"Beef Nugget, Teriyaki","Don Lee Farms CNTDO753 Com #: CNQTDO753",null,"160/3.0z",160,0,{"$f":"ROUND(G24*F24/F24,2)","v":0},"Cs",{"v":64.8,"d":"$64.80"},{"$f":"IF(OR(ISBLANK(J24),G24=0,ISBLANK(G24)),,ROUND(J24+$K$3,2))","v":0},{"$f":"ROUND(H24*K24,2)","v":0},{"$f":"ROUND(K24/F24,2)","v":0},{"v":23.7,"d":"$23.70"},{"v":2.2248,"d":"$2.2248"},{"v":26.7,"d":"26.70"},{"$f":"ROUND(O24*P24,2)","v":{"v":59.4,"d":"$59.40"}},0,0,{"$f":"N24/F24","v":{"v":0.148125,"d":"$0.15"}}]
[null,"Frozen, Fully cooked ground beef (no more than 30% fat)","AFG 90927",null,"200/2.40z",200,null,{"$f":"ROUND(G24*F24/F25,2)","v":0},"Cs",null," "," "," "," "]
[null,"100-200 calories with no more than 4g saturated fat and 450 mg ","Advanced Pierre 3840 Com#: 3740",null,"143/2.80z 143",143,null,{"$f":"ROUND(G24*F24/F26,2)","v":0},"Cs"," "," ","  "," ",0,{"v":2.2248,"d":"$2.2248"},22.85," ",0,0,{"$f":"N26/F26","v":0}]
[null,"sodium per serving. CN Labeled for  4 nuggets to provide 2 M/MA VPP"]
[null,"Possible Allergens:  Wheat, Soy",{"$nulls":17}," "]
[5,"Beef Steak Patties, Breaded","Advanced Pierre, 68035     ",null,"85/3.80z",85,125,{"$f":"ROUND(G29*F29/F29,2)","v":125},"Cs",{"v":58.65,"d":"$58.65"},{"$f":"IF(OR(ISBLANK(J29),G29=0,ISBLANK(G29)),,ROUND(J29+$K$3,2))","v":{"v":58.65,"d":"$58.65"}},{"$f":"ROUND(H29*K29,2)","v":{"v":7331.25,"d":"$7,331.25"}},{"$f":"ROUND(K29/F29,2)","v":{"v":0.69,"d":"$0.69"}},0," ",15.71," ",0,0,{"$f":"N29/F29","v":0}]
[null,"Frozen, Fully cooked, ground beef (no more than 20% fat) 100-200","COM #: 69035",{"$nulls":16}," "]
[null,"calories with no more than  5 g saturated fat and 300 mg sodium per"]
[null,"serving. CN Labeled for one portion to provide 2 M/MA. Pack in oven sle",{"$nulls":17}," "]
[null," Possible Allergens:  Soy",{"$nulls":17}," "]
[6,"Beef Patte, Flame or Charbroiled","Advance 3-155-525-0 (COM 1-155-525-20)",null,"200/2.5z",200,125,{"$f":"ROUND(G34*F34/F34,2)","v":125},"Cs"," "," "," "," ",0,{"v":2.2248,"d":"$2.2248"},25.44,{"$f":"ROUND(O34*P34,2)","v":{"v":56.6,"d":"$56.60"}}," "," ",{"$f":"N34/F34","v":0}]
[null,"Frozen, IQF, Fully cooked ground beef no more than 20% fat)","Don Lee Farms 202503CN ",null,"198/2.5z",198,null,{"$f":"ROUND(G34*F34/F35,2)","v":126.26},"Cs",{"v":54.15,"d":"$54.15"},{"$f":"IF(OR(ISBLANK(J35),G34=0,ISBLANK(G34)),,ROUND(J35+$K$3,2))","v":{"v":54.15,"d":"$54.15"}},{"$f":"ROUND(H35*K35,2)","v":{"v":6836.98,"d":"$6,836.98"}},{"$f":"ROUND(K35/F35,2)","v":{"v":0.27,"d":"$0.27"}}," "," "," "," "," "," "," "]
[null,"Alternate protein products must meet the requirements in Apendix A ","Don Lee Farms Commodity CNQ212503",null,"200/2.5z",200,null,0,"Cs",null," ","  "," ",{"v":21.88,"d":"$21.88"},{"v":2.2248,"d":"$2.2248"},23.17,{"$f":"ROUND(O36*P36,2)","v":{"v":51.55,"d":"$51.55"}}," "," ",{"$f":"N36/F36","v":{"v":0.1094,"d":"$0.11"}}]
[null,"of 7 CFR 210.  Sodium content is not more than 250 mg per serving","Maid Rite 75156-03427",null,"213/2.25z",213,null,{"$f":"ROUND($G$34*$F$34/F37,2)","v":117.37},"Cs",null," ","  "," ",0,{"v":2.2248,"d":"$2.2248"},35.06,{"$f":"ROUND(O37*P37,2)","v":{"v":78,"d":"$78.00"}}," "," ",{"$f":"N37/F37","v":0}]
[null,"Product  provides 2 oz. M/MA per serving.",{"$nulls":17}," "]
[null,"Possible Allergens:  Soy",{"$nulls":17}," "]
[7,"Beef Patties, Raw, 100% Beef IQF,  USDA inspected beef.","Distributor Choice",null,"50/3.2z",50,0,{"$f":"ROUND($G$40*$F$40/F40,2)","v":0},"Cs"]
[null,"One patty to meet 2 oz meat/meat alternate. ","Fillable txt box ",null,null,0,null,{"$f":"ROUND(G40*F40/F41,2)","v":{"$error":"#DIV/0!"}},"Cs",0,{"$f":"IF(OR(ISBLANK(G40),G40=0,ISBLANK(F41)),,ROUND(J41+$K$3,2))","v":0},{"$f":"ROUND(H41*K41,2)","v":{"$error":"#DIV/0!"}},{"$f":"ROUND(K41/F41,2)","v":{"$error":"#DIV/0!"}}]
[null,"Possible Allergens:  None Listed "," ",{"$nulls":4}," "," "," "," "," "," ",{"$nulls":6}," "]
[8,"Beef Patties, No TVP","Integrated N32300B-NF",null,"90/3.0z",90,0,{"$f":"ROUND(G43*F43/F43,2)","v":0},"Cs",{"v":61.9,"d":"$61.90"},{"$f":"IF(OR(ISBLANK(J43),G43=0,ISBLANK(G43)),,ROUND(J43+$K$3,2))","v":0},{"$f":"ROUND(H43*K43,2)","v":0},{"$f":"ROUND(K43/F43,2)","v":0},{"v":24.45,"d":"$24.45"},{"v":2.2248,"d":"$2.2248"},22.58,{"$f":"ROUND(O43*P43,2)","v":{"v":50.24,"d":"$50.24"}},0,0,{"$f":"N43/F43","v":{"v":0.27166666666666667,"d":"$0.27"}}]
[null,"Frozen, IQF, Fully cooked ground beef, Not more than 20% fat Sodium ","COM #: C32300B-NF",{"$nulls":16}," "]
[null,"not to exceed 275 mg sodium per serving Must provide 2.0 oz. M/MA  "," ",{"$nulls":16}," "]
[null,"Possible Allergens:  None Listed ",{"$nulls":17}," "]
[9,"Beef Patties, Flame Grilled Grass Fed","Merrywood Farms 302010",null,"175/2.75 z",175,0,{"$f":"ROUND(G47*F47/F47,2)","v":0},"Cs",{"v":175,"d":"$175.00"},{"$f":"IF(OR(ISBLANK(J47),G47=0,ISBLANK(G47)),,ROUND(J47+$K$3,2))","v":0},{"$f":"ROUND(H47*K47,2)","v":0},{"$f":"ROUND(K47/F47,2)","v":0}]
[null,"Frozen, Fully cooked, flame grilled grass fed.  One patty provides "," ",{"$nulls":16}," "]
[null,"2.75 oz. M/MA per serving 150-250 calories and no more than 7 g "]
[null,"saturated fat and 300 mg of sodium per serving",{"$nulls":17}," "]
[null," Possible Allergens:  None Listed",{"$nulls":17}," "]
[10,"Beef, Frozen Ground","Distributor Choice",null,"10Lb",10,0,{"$f":"ROUND($G$52*$F$52/F52,2)","v":0},"Cs",{"$nulls":4}," "]
[null,"USDA inspected bulk, raw fine ground, (no more than 20% fat)","Fillable txt box ",{"$nulls":4},{"$f":"ROUND(G52*F52/F53,2)","v":{"$error":"#DIV/0!"}},"Cs",null,{"$f":"IF(OR(ISBLANK(G52),G52=0,ISBLANK(F53)),,ROUND(J53+$K$3,2))","v":0},{"$f":"ROUND(H53*K53,2)","v":{"$error":"#DIV/0!"}},{"$f":"ROUND(K53/F53,2)","v":{"$error":"#DIV/0!"}}]
[null,"MPS #136 Label statement required, \"Domestic Beef Only\"",{"$nulls":17}," "]
[null,"Possible Allergens:  None Listed ",{"$nulls":17}," "]
[11,"Beef Pattie, Salisbury Steak","Advanced Pierre 3-16-530-0 Com #: 1-16-530-0",null,"170/3.0z",170,50,{"$f":"ROUND(G56*F56/F56,2)","v":50},"Cs"," "," ","  "," ",0]
[null,"Frozen, fully cooked ground beef (no more than 30% fat) 100-200 calories ","JTM 5632CE Com #: CP5632",null,"172/2.78z",172,null,{"$f":"ROUND(G56*F56/F57,2)","v":49.42},"Cs",{"$nulls":4},0,{"v":2.2248,"d":"$2.2248"},25.38,{"$f":"ROUND(O57*P57,2)","v":{"v":56.47,"d":"$56.47"}},0,{"$f":"R57/F57","v":0},{"$f":"N57/F57","v":0}]
[null,"with no more than 6 g sat fat and 450 mg sodium per serving.  CN labeled  ","Don Lee Farms Comm # CNQ752503",null,"200/2.25z",200,null,{"$f":"ROUND(G56*F56/F58,2)","v":42.5},"Cs",{"$nulls":4},{"v":21.88,"d":"$21.88"},{"v":2.2248,"d":"$2.2248"},{"v":33.2,"d":"33.20"},{"v":73.86,"d":"$73.86"},0,0,{"v":0.1094,"d":"$0.11"}]
[null,"for one portion to provide min. 2.0 oz. M/MA. VPP Allowed","Don Lee Farms CN752253 ",null,"240/2.25z",240,null,{"$f":"ROUND(G56*F56/F59,2)","v":35.42},"Cs",{"v":70.54,"d":"$70.54"},{"$f":"IF(OR(ISBLANK(J59),G56=0,ISBLANK(G56)),,ROUND(J59+$K$3,2))","v":{"v":70.54,"d":"$70.54"}},{"$f":"ROUND(H59*K59,2)","v":{"v":2498.53,"d":"$2,498.53"}},{"$f":"ROUND(K59/F59,2)","v":{"v":0.29,"d":"$0.29"}}]
[null," ","AFG 290852",null,"208/2.30z",208,null,{"$f":"ROUND(G56*F56/F60,2)","v":40.87},"Cs",{"$nulls":4},0]
[null,"Possible Allergens: Wheat, Soy, Milk"]
[12,"Beef Steak Burger (Mini Slider). Charbroiled","Don Lee Farms CN161203 Comm #CNQ161203",null,"400/1.2z",400,25,{"$f":"ROUND(G62*F62/F62,2)","v":25},"Cs",{"v":77.7,"d":"$77.70"},{"$f":"IF(OR(ISBLANK(J62),G62=0,ISBLANK(G62)),,ROUND(J62+$K$3,2))","v":{"v":77.7,"d":"$77.70"}},{"$f":"ROUND(H62*K62,2)","v":{"v":1942.5,"d":"$1,942.50"}},{"$f":"ROUND(K62/F62,2)","v":{"v":0.19,"d":"$0.19"}},{"v":21.9,"d":"$21.90"},{"v":2.2248,"d":"$2.2248"},{"v":50.3,"d":"50.30"},{"$f":"ROUND(O62*P62,2)","v":{"v":111.91,"d":"$111.91"}},0,0,{"$f":"N62/F62","v":{"v":0.05474999999999999,"d":"$0.05"}}]
[null,"Frozen, Fully cooked, made from ground beef (no more than 30% fat)"," ",null," "," ",{"$nulls":7}," "," "," "," "," "," "," "]
[null,"0-150 calories with not more than 4 g saturated fat and 200 mg of "]
[null,"sodium per serving. CN labeled for one portion to provide 1 M/MA"]
[]
[null,"Possible Allergens:  None Listed Gluten Free",{"$nulls":17}," "]
[13,"Meatloaf with Ketchup","Advanced Pierre 9300 CN",null,"100/3.0z",100,0,{"$f":"ROUND(G68*F68/F68,2)","v":0},"Cs",{"v":43.3,"d":"$43.30"},{"$f":"IF(OR(ISBLANK(J68),G68=0,ISBLANK(G68)),,ROUND(J68+$K$3,2))","v":0},{"$f":"ROUND(H68*K68,2)","v":0},{"$f":"ROUND(K68/F68,2)","v":0}," "," "," ","  "," "," ","  "]
[null,"Made from ground beef (no more than 30% fat)  Fully cooked, may "," ",null," "," ",{"$nulls":7}," "," "," "," "," "," "," "]
[null,"contain VPP One portion to provide 2 oz. M/MA"]
[]
[null,"Possible Allergens:  Soy",{"$nulls":17}," "]
[14,"Beef, Taco Filling Meat, Reduced Fat and Sodium","JTM 5250CE  Comm #: CP5250 ",null,"6/5 lb",151,300,{"$f":"ROUND(G73*F73/F73,2)","v":300},"Cs",{"v":65.23,"d":"$65.23"},{"$f":"IF(OR(ISBLANK(J73),G73=0,ISBLANK(G73)),,ROUND(J73+$K$3,2))","v":{"v":65.23,"d":"$65.23"}},{"$f":"ROUND(H73*K73,2)","v":{"v":19569,"d":"$19,569.00"}},{"$f":"ROUND(K73/F73,2)","v":{"v":0.43,"d":"$0.43"}},{"v":26.6,"d":"$26.60"},{"v":2.2248,"d":"$2.2248"},16.79,{"$f":"ROUND(O73*P73,2)","v":{"v":37.35,"d":"$37.35"}},0,0,{"$f":"N73/F73","v":{"v":0.176158940397351,"d":"$0.18"}}]
[null,"Frozen, fully cooked ground beef, no more than 20% fat, Boilable bags, 100-200 "," ",{"$nulls":16}," "]
[null,"calories with no more than 2 g sat fat and 300 mg sodium per svg. ",{"$nulls":17}," "]
[null,"CN labeled with serving size to provide min. 2.0 oz. M/MA "]
[null,"and 1/8 cup Red/Orange Vegetable"]
[null,"Possible Allergens: Soy",{"$nulls":17}," "]
[15,"Steak Nugget      ","Advanced Pierre 68036 CN                      ",null,"100/3.85z",100,0,{"$f":"ROUND(G79*F79/F79,2)","v":0},"Cs",{"v":72.79,"d":"$72.79"},{"$f":"IF(OR(ISBLANK(J79),G79=0,ISBLANK(G79)),,ROUND(J79+$K$3,2))","v":0},{"$f":"ROUND(H79*K79,2)","v":0},{"$f":"ROUND(K79/F79,2)","v":0},0,{"v":2.2248,"d":"$2.2248"},19.25," ",0,0,0]
[null,"WGR, Fully cooked, chopped and form, frozen, One serving provides "," ",{"$nulls":16}," "]
[null,"2 0 M/MA and 1 oz. OEG"]
[null,"Possible Allergens:  Soy",{"$nulls":17}," "]
[16,"Beef and Bean Burger","Advance Pierre 68103",null,"110/3.5z",110,0,{"$f":"ROUND(G83*F83/F83,2)","v":0},"Cs",{"v":65.25,"d":"$65.25"},{"$f":"IF(OR(ISBLANK(J83),G83=0,ISBLANK(G83)),,ROUND(J83+$K$3,2))","v":0},{"$f":"ROUND(H83*K83,2)","v":0},{"$f":"ROUND(K83/F83,2)","v":0},0," ","  "," "," "," ","  "]
[null,"Beef patty with beans, Frozen, fully cooked, 3.5 oz. patty provides 2.0 oz. M/MA and not to "," ",{"$nulls":16}," "]
[null,"exceed 200 calories and 190 mg of sodium per serving",{"$nulls":17}," "]
[null,"Possible Allergens: ",{"$nulls":17}," "]
[17,"Cheeseburger Meatloaf","Advanced Pierre 68190",null,"100/2.90z",100,0,{"$f":"ROUND(G87*F87/F87,2)","v":0},"Cs",{"v":62.42,"d":"$62.42"},{"$f":"IF(OR(ISBLANK(J87),G87=0,ISBLANK(G87)),,ROUND(J87+$K$3,2))","v":0},{"$f":"ROUND(H87*K87,2)","v":0},{"$f":"ROUND(K87/F87,2)","v":0},0,{"v":2.2248,"d":"$2.2248"},15.62," ",0,{"$f":"R87/F87","v":0},0]
[null,"Fully cooked, All beef with cheese One serving to meet 2.0 oz. M/MA"," ",{"$nulls":16}," "]
[null," ",{"$nulls":17}," "]
[null,"Possible Allergens: ",{"$nulls":17}," "]
[18,"Beef Brisket with BBQ Sauce","(18-19) Brookwood Farms 11125",null,"2/5 lbs",44,0,{"$f":"ROUND(G91*F91/F91,2)","v":0},"Cs",{"v":49.2,"d":"$49.20"},{"$f":"IF(OR(ISBLANK(J91),G91=0,ISBLANK(G91)),,ROUND(J91+$K$3,2))","v":0},{"$f":"ROUND(H91*K91,2)","v":0},{"$f":"ROUND(K91/F91,2)","v":0},0]
[null,"Frozen, fully cooked, sodium must not exceed 300 mg and 350 calories per 2.0 oz. "," ",{"$nulls":16}," "]
[null,"serving.  Must provide 2 oz. M/MA ",{"$nulls":17}," "]
[null,"Possible Allergens:  Soy",{"$nulls":17}," "]
[{"$nulls":6},0,null,"Page Total",null,null,{"$f":"SUMIF(L34:L94,\">0\")","v":{"v":30847.010000000002,"d":"$30,847.01"}}]

{"sheet":"Chicken","index":2,"n_rows":244,"n_cols":20,"rows_kept":244,"merged":[[0,4,0,12],[1,4,1,12],[2,5,2,9]]}
[null,{"$f":"'Recap Sheet'!A2","v":"School Food Authority:"},null,null,{"$f":"'Recap Sheet'!A3","v":"Offeror Name:"}]
[null,{"$f":"'Recap Sheet'!B2","v":"Colleton County School District Office of Student Nutrition"},"Return to Recap Sheet",null,{"$f":"'Recap Sheet'!B3","v":{"v":0,"d":"0 "}},{"$nulls":9}," ","Commodity"]
["Item","Description","Approved Brand Name / Manuf ID # ",null,null,"Firm Fixed Fee",{"$nulls":4},{"$f":"'Recap Sheet'!B4","v":{"v":0,"d":"$0.00"}},"o provide ",null,"Processing","Commodity","Pounds of",null,"NOI ","Net NOI","Total Cost"]
["#",null,null,"Distributor","Vendor","Svgs","Est.","Bid ","Bid","Unit","Unit Price","Total ","Cost per","Fee for","Value Per","DF Needed","Commodity","Net","Cost Per","Price Fee"]
[{"$nulls":3},"Code","Pack","per unit","Bid Qty","Qty","Unit","Price","plus Fee","Price","Unit","Service","Pound","Per Case","Value ","Price","Serving","For Service"]
[null," Chicken, Whole Muscle (Muscle Intact)",{"$nulls":12},"Chicken, Large 100103 "]
[1,"Chicken Fillet, Breaded, chicken breast meat only.                ","Gold Kist 7516",null,"120/4.0z",120,350,{"$f":"ROUND(G7*F7/F7,2)","v":350},"Cs",{"v":90,"d":"$90.00"},{"$f":"IF(OR(ISBLANK(J7),G7=0,ISBLANK(G7)),,ROUND(J7+$K$3,2))","v":{"v":90,"d":"$90.00"}},{"$f":"ROUND(H7*K7,2)","v":{"v":31500,"d":"$31,500.00"}},{"$f":"ROUND(K7/F7,2)","v":{"v":0.75,"d":"$0.75"}},{"v":66.86,"d":"$66.86"},{"v":0.9345,"d":"$0.9345"},24.76,{"$f":"ROUND(O7*P7,2)","v":{"v":23.14,"d":"$23.14"}},{"$f":"J7-Q7","v":{"v":66.86,"d":"$66.86"}},{"$f":"R7/F7","v":{"v":0.5571666666666667,"d":"$0.56"}},{"$f":"N7/F7","v":{"v":0.5571666666666667,"d":"$0.56"}}]
[null,"Solid Whole muscle meat; fully cooked, IQF.   Each portion must provide ",{"$nulls":17}," "]
[null,"a min to meet 2 M/MA and 1 OEG.  Breading must meet Whole Grain ",{"$nulls":17}," "]
[null,"Rich requirements. Batter/breading not to exceed 30% of the weight of ",{"$nulls":17}," "]
[null,"the finished product. Sodium must not exceed 580mg per serving. ",{"$nulls":13}," ",{"$nulls":3}," "]
[null,"No Egg, No Alternate Protein Product Domestic birds only"]
[null," No bags included"]
[null,"Possible Allergens:  None Listed",{"$nulls":17}," "]
[2,"Chicken Fillet, Breaded, Spicy, chicken breast meat only,                  ","Gold Kist 7517",null,"120/4.0z",120,50,{"$f":"ROUND(G15*F15/F15,2)","v":50},"Cs",{"v":90,"d":"$90.00"},{"$f":"IF(OR(ISBLANK(J15),G15=0,ISBLANK(G15)),,ROUND(J15+$K$3,2))","v":{"v":90,"d":"$90.00"}},{"$f":"ROUND(H15*K15,2)","v":{"v":4500,"d":"$4,500.00"}},{"$f":"ROUND(K15/F15,2)","v":{"v":0.75,"d":"$0.75"}},{"v":66.86,"d":"$66.86"},{"v":0.9345,"d":"$0.9345"},24.76,{"$f":"ROUND(O15*P15,2)","v":{"v":23.14,"d":"$23.14"}},{"$f":"J15-Q15","v":{"v":66.86,"d":"$66.86"}},{"$f":"R15/F15","v":{"v":0.5571666666666667,"d":"$0.56"}},{"$f":"N15/F15","v":{"v":0.5571666666666667,"d":"$0.56"}}]
[null,"Solid Whole muscle meat, fully cooked, IQF.  Each portion must provide ",{"$nulls":17}," "]
[null,"a min to meet 2 M/MA and 1 OEG.  Breading must meet Whole Grain  ",{"$nulls":17}," "]
[null,"Rich requirements. Batter / breading not to exceed 30% of the weight of",{"$nulls":17}," "]
[null,"the finished product. Sodium must not exceed 580mg per serving. ",{"$nulls":17}," "]
[null,"No Egg, No Alternate Protein Product Domestic birds only"]
[null,"Possible Allergens: None Listed ",{"$nulls":17}," "]
[3,"Chicken Chunks, breaded, chicken breast with rib meat only;              ","Gold Kist 7518",null,"30 lbs",128,125,{"$f":"ROUND(G22*F22/F22,2)","v":125},"Cs",{"v":89.6,"d":"$89.60"},{"$f":"IF(OR(ISBLANK(J22),G22=0,ISBLANK(G22)),,ROUND(J22+$K$3,2))","v":{"v":89.6,"d":"$89.60"}},{"$f":"ROUND(H22*K22,2)","v":{"v":11200,"d":"$11,200.00"}},{"$f":"ROUND(K22/F22,2)","v":{"v":0.7,"d":"$0.70"}},{"v":66.46,"d":"$66.46"},{"v":0.9345,"d":"$0.9345"},24.76,{"$f":"ROUND(O22*P22,2)","v":{"v":23.14,"d":"$23.14"}},{"$f":"J22-Q22","v":{"v":66.46,"d":"$66.46"}},{"$f":"R22/F22","v":{"v":0.51921875,"d":"$0.52"}},{"v":0.51921875,"d":"$0.52"}]
[null,"Solid Whole muscle meat, fully cooked, IQF.  Each portion must provide ",{"$nulls":17}," "]
[null,"a min to meet 2 M/MA and 1 OEG.  Breading must meet Whole Grain  ",{"$nulls":17}," "]
[null,"Rich requirements. Batter / breading not to exceed 30% of the weight of",{"$nulls":17}," "]
[null,"the finished product. Sodium must not exceed 580mg per serving. ",{"$nulls":17}," "]
[null,"No Egg, No Alternate Protein Product Domestic birds only"]
[null,"Possible Allergens: None Listed ",{"$nulls":17}," "]
[4,"Chicken Tenders, Breaded, Chicken Breast Meat Only","(18-19) Gold Kist/Pilgrims 7572 ",null,"106/4.35z",110,150,{"$f":"ROUND(G29*F29/F29,2)","v":150},"Cs",{"v":73.39,"d":"$73.39"},{"$f":"IF(OR(ISBLANK(J29),G29=0,ISBLANK(G29)),,ROUND(J29+$K$3,2))","v":{"v":73.39,"d":"$73.39"}},{"$f":"ROUND(H29*K29,2)","v":{"v":11008.5,"d":"$11,008.50"}},{"$f":"ROUND(K29/F29,2)","v":{"v":0.67,"d":"$0.67"}},{"v":49.05,"d":"$49.05"},{"v":0.9345,"d":"$0.9345"},26.05,{"$f":"ROUND(O29*P29,2)","v":{"v":24.34,"d":"$24.34"}},{"$f":"J29-Q29","v":{"v":49.05,"d":"$49.05"}},{"$f":"R29/F29","v":{"v":0.44590909090909087,"d":"$0.45"}},{"$f":"N29/F29","v":{"v":0.44590909090909087,"d":"$0.45"}}]
[null,"Solid Whole muscle meat, fully cooked, IQF.  Each portion must provide ","(18-19) Proview 63830",null,"61/4.90z",61,null,{"$f":"ROUND(G29*F29/F30,2)","v":270.49},"Cs"," "," "," "," ",0,{"v":0,"d":"$0.0000"},0,{"$f":"ROUND(O30*P30,2)","v":{"v":0,"d":"$0.00"}},{"$f":"K30-Q30","v":{"$error":"#VALUE!"}},{"$f":"R30/F30","v":{"$error":"#VALUE!"}},{"$f":"N30/F30","v":0}]
[null,"a min to meet 2 M/MA and 1 OEG.  Breading must meet Whole Grain  ",{"$nulls":17}," "]
[null,"Rich requirements. Batter / breading not to exceed 30% of the weight of",{"$nulls":17}," "]
[null,"the finished product. Sodium must not exceed 580mg per serving. ",{"$nulls":17}," "]
[null,"No Egg, No Alternate Protein Product Domestic birds only"]
[null,"Possible Allergens: None Listed "]
[5,"Chicken Chunks, Breaded Buffalo Style","(18-19) Proview 64230WG",null,"20 lbs",75,75,{"$f":"ROUND(G36*F36/F36,2)","v":75},"Cs",{"v":52,"d":"$52.00"},{"$f":"IF(OR(ISBLANK(J36),G36=0,ISBLANK(G36)),,ROUND(J36+$K$3,2))","v":{"v":52,"d":"$52.00"}},{"$f":"ROUND(H36*K36,2)","v":{"v":3900,"d":"$3,900.00"}},{"$f":"ROUND(K36/F36,2)","v":{"v":0.69,"d":"$0.69"}},{"v":0.8722,"d":"$0.8722"},{"v":0.8722,"d":"$0.8722"},33.74,{"$f":"ROUND(O36*P36,2)","v":{"v":29.43,"d":"$29.43"}},{"$f":"K36-Q36","v":{"v":22.57,"d":"$22.57"}},{"$f":"R36/F36","v":{"v":0.30093333333333333,"d":"$0.30"}},{"$f":"S36/G36","v":{"v":0.004012444444444444,"d":"$0.00"}}]
[null,"Fully Cooked, chicken breast with rib meat, APP and egg allowed,",{"$nulls":17}," "]
[null,"Iin compliance with Apendix A of 7 CFR Part 210 CN label to provide 2 oz. ",{"$nulls":17}," "]
[null,"M/MA and 1.25 OEG, Breading must meet WGR requirements. Batter or ",{"$nulls":17}," "]
[null,"or breading not to exceed 30% of the weight of product, sodium not to ",{"$nulls":17}," "]
[null,"exceed 760 mg.  The label  must specify number of portions per case",{"$nulls":17}," "]
[]
[6,"Chicken Fillet, Breakfast, Breaded (Savory Flavor with Bags)","(18-19) Proview 60415WG",null,"20 lbs",144,25,{"$f":"ROUND(G43*F43/F43,2)","v":25},"Cs",{"v":59.8,"d":"$59.80"},{"$f":"IF(OR(ISBLANK(J43),G43=0,ISBLANK(G43)),,ROUND(J43+$K$3,2))","v":{"v":59.8,"d":"$59.80"}},{"$f":"ROUND(H43*K43,2)","v":{"v":1495,"d":"$1,495.00"}},{"$f":"ROUND(K43/F43,2)","v":{"v":0.42,"d":"$0.42"}},0,{"v":0,"d":"$0.0000"},0,{"$f":"ROUND(O43*P43,2)","v":{"v":0,"d":"$0.00"}},{"$f":"K43-Q43","v":{"v":59.8,"d":"$59.80"}},{"$f":"R43/F43","v":{"v":0.41527777777777775,"d":"$0.42"}},0]
[null,"Fully cooked, chicken breast with rib meat only, APP and egg allowed, in ",{"$nulls":17}," "]
[null,"compliance with Apendix A of 7 CFR Part 210 CN label to provide 1 oz.",{"$nulls":17}," "]
[null,"M/MA and .5 OEG. Breading must meet WGR requirements.  Breading not ",{"$nulls":17}," "]
[null,"to exceed 30% of the weight  of product, Sodium not to exceed 300 mg "]
[null,"The label must specify number of portions per case",{"$nulls":17}," "]
[null,"Possible Allergens:  Wheat, Milk and Soy"]
[null,"Chicken, Made with whole muscle white meat pieces, "]
[7,"Chicken Patty","Tyson 70302-928",null,"132/3.75z",132,0,{"$f":"ROUND(G51*F51/F51,2)","v":0},"Cs"," ","  "," "," ",0,{"v":0.9345,"d":"$0.9345"},33.74,{"$f":"ROUND(O51*P51,2)","v":{"v":31.53,"d":"$31.53"}},{"$f":"J51-Q51","v":{"$error":"#VALUE!"}},{"$f":"R51/F51","v":{"$error":"#VALUE!"}},0]
[null,"Fully Cooked, portioned, CN Labeled. Product is made with whole muscle ","Gold Kist 7522",null,"113/4.25z",113,{"$nulls":3},{"v":73.44,"d":"$73.44"},{"$f":"IF(OR(ISBLANK(J52),G51=0,ISBLANK(G51)),,ROUND(J52+$K$3,2))","v":0},{"$f":"ROUND(H51*K52,2)","v":0},{"$f":"ROUND(K52/F52,2)","v":0},{"v":48.22,"d":"$48.22"},{"v":0.9345,"d":"$0.9345"},26.99,{"$f":"ROUND(O52*P52,2)","v":{"v":25.22,"d":"$25.22"}},{"$f":"J52-Q52","v":{"v":48.22,"d":"$48.22"}},{"$f":"R52/F52","v":{"v":0.42672566371681414,"d":"$0.43"}},{"$f":"N52/F52","v":{"v":0.42672566371681414,"d":"$0.43"}}]
[null,"white meat chicken pieces. No ground Chicken. Each portion must ",{"$nulls":17}," "]
[null,"meet 2 M/MA and 1 OEG. No ground Chicken.  Breading must meet WGR ",{"$nulls":17}," "]
[null,"requirements. Batter / breading not to exceed 30% of weight of the ",{"$nulls":17}," "]
[null,"finished product Sodium not to exceed 400 mg per serving",{"$nulls":17},"  "]
[null,"Domestic birds only",{"$nulls":17}," "]
[8,"Chicken Tender","Proview 63230WG",null,"4/5 lbs",61,0,{"$f":"ROUND(G58*F58/F58,2)","v":0},"Cs",{"v":53,"d":"$53.00"},{"$f":"IF(OR(ISBLANK(J58),G58=0,ISBLANK(G58)),,ROUND(J58+$K$3,2))","v":0},{"$f":"ROUND(H58*K58,2)","v":0},{"$f":"ROUND(K58/F58,2)","v":0},{"v":0.8722,"d":"$0.8722"},{"v":0.8722,"d":"$0.8722"},33.74,{"$f":"ROUND(O58*P58,2)","v":{"v":29.43,"d":"$29.43"}},{"$f":"K58-Q58","v":{"v":-29.43,"d":"$(29.43)"}},{"$f":"R58/F58","v":{"v":-0.48245901639344263,"d":"$(0.48)"}},{"$f":"S58/G58","v":{"$error":"#DIV/0!"}}]
[null,"Fully Cooked, portioned, CN Labeled. Product is made with whole muscle ",{"$nulls":17}," "]
[null,"white meat chicken pieces. No ground chicken. Each portion must provide ",{"$nulls":17}," "]
[null,"a min. 2 M/MA and 1 OEG. Breading must meet WGR requirements",{"$nulls":17}," "]
[null,"Batter / breading not to exceed 30% of weight of the finished product.",{"$nulls":17}," "]
[null,"Sodium must not exceed 400mg per serving.  Domestic Birds only ",{"$nulls":17}," "]
[9,"Chicken Bite","Tyson 70362-928",null,"121/3.95z",121,0,{"$f":"ROUND(G64*F64/F64,2)","v":0},"Cs",{"v":87.6,"d":"$87.60"},{"$f":"IF(OR(ISBLANK(J64),G64=0,ISBLANK(G64)),,ROUND(J64+$K$3,2))","v":0},{"$f":"ROUND(H64*K64,2)","v":0},{"$f":"ROUND(K64/F64,2)","v":0},{"v":57,"d":"$57.00"},{"v":0.9345,"d":"$0.9345"},32.74,{"$f":"ROUND(O64*P64,2)","v":{"v":30.6,"d":"$30.60"}},{"$f":"J64-Q64","v":{"v":56.99999999999999,"d":"$57.00"}},{"$f":"R64/F64","v":{"v":0.4710743801652892,"d":"$0.47"}},{"$f":"N64/F64","v":{"v":0.47107438016528924,"d":"$0.47"}}]
[null,"Fully Cooked, portioned, CN Labeled. Product is made with whole muscle ",{"$nulls":17}," "]
[null,"white meat chicken pieces. No ground Chicken. Each portion must provide",{"$nulls":17}," "]
[null,"min. to meet 2 M/MA and 1 OEG. Breading must meet WGR requirements.",{"$nulls":17}," "]
[null,"Batter / breading not to exceed 30% of weightof the finished product.",{"$nulls":17}," "]
[null,"Sodium must not exceed 400mg per serving.  Domestic Birds only",{"$nulls":17}," "]
[10,"Chicken Breast Bites (Dill Flavor) ","Proview 64015WG",null,"4/5#",103,75,{"$f":"ROUND(G70*F70/F70,2)","v":75},"Cs",{"v":54,"d":"$54.00"},{"$f":"IF(OR(ISBLANK(J70),G70=0,ISBLANK(G70)),,ROUND(J70+$K$3,2))","v":{"v":54,"d":"$54.00"}},{"$f":"ROUND(H70*K70,2)","v":{"v":4050,"d":"$4,050.00"}},{"$f":"ROUND(K70/F70,2)","v":{"v":0.52,"d":"$0.52"}}]
[null,"Fully cooked, chicken breast with rib meat only. App and egg allowed, in ",{"$nulls":17}," "]
[null,"compliance with Apendix A of 7 CFR Part 210 3.2 oz. serving to provide",{"$nulls":17}," "]
[null,"1.75 oz. M/MA and .5 OEG Batter and breading not to exceed 30% of the",{"$nulls":17}," "]
[null,"weight of product, 100-200 calories and not more than 1 g of sat fat and ",{"$nulls":17}," "]
[null,"350 mg of sodium per serving. Domestic birds only",{"$nulls":17}," "]
[null,"Chicken, chopped and formed"]
[11,"Chicken Patty, Breakfast, Breaded.                                                   ","Gold Kist   633100",null,"20Lb",192,0,{"$f":"ROUND(G77*F77/F77,2)","v":0},"Cs"," "," "," "," ",0,{"v":0,"d":"$0.0000"},0,{"$f":"ROUND(O77*P77,2)","v":{"v":0,"d":"$0.00"}},{"$f":"K77-Q77","v":{"$error":"#VALUE!"}},{"$f":"R77/F77","v":{"$error":"#VALUE!"}},0]
[null,"Fully cooked. Chicken breast with rib meat only; chopped and formed; ","King's Delight  66206",null,"20Lb",216,null,{"$f":"ROUND(G77*F77/F78,2)","v":0},"Cs",{"v":32,"d":"$32.00"},{"$f":"IF(OR(ISBLANK(J78),G77=0,ISBLANK(G77)),,ROUND(J78+$K$3,2))","v":0},{"$f":"ROUND(H78*K78,2)","v":0},{"$f":"ROUND(K78/F78,2)","v":0},{"v":0.8722,"d":"$0.8722"},{"v":0.8722,"d":"$0.8722"},32.74,{"$f":"ROUND(O78*P78,2)","v":{"v":28.56,"d":"$28.56"}},{"$f":"K78-Q78","v":{"v":-28.56,"d":"$(28.56)"}},{"$f":"R78/F78","v":{"v":-0.1322222222222222,"d":"$(0.13)"}},{"$error":"#DIV/0!"}]
[null,"APP and egg allowed, in compliance with Appendix A of 7 CFR Part 210","Rich Chicks 54411",null,"20Lb",214,null,{"$f":"ROUND(G77*F77/F79,2)","v":0},"Cs"," "," "," "," ",{"v":36.14,"d":"$36.14"},{"v":0.9345,"d":"$0.9345"},14.59,{"v":13.63,"d":"$13.63"},{"$f":"N79","v":{"v":36.14,"d":"$36.14"}},{"$f":"R79/F79","v":{"v":0.1688785046728972,"d":"$0.17"}},{"v":0.1688785046728972,"d":"$0.17"}]
[null,"CN label to provide 1 oz M/MA, and no more than 1 OEG. Breading","Rich Chicks Commodity#54411",{"$nulls":16}," "]
[null,"must meet WGR requirements. Batter or breading not to exceed 30%",{"$nulls":17}," "]
[null,"of the weight of the product.  Sodium not to exceed 200mg.",{"$nulls":17},"  "]
[null,"The label must specify the minimum number of pieces or portions per case.",{"$nulls":17}," "]
[12,"Chicken Patty, Breaded, Spicy","Tyson  70312-928",null,"132/3.75z",132,0,{"$f":"ROUND(G84*F84/F84,2)","v":0},"Cs"," "," "," "," ",{"v":61.8,"d":"$61.80"},{"v":0.9345,"d":"$0.9345"},33.74,{"$f":"ROUND(O84*P84,2)","v":{"v":31.53,"d":"$31.53"}},{"v":61.8,"d":"$61.80"},{"$f":"R84/F84","v":{"v":0.46818181818181814,"d":"$0.47"}},{"v":0.46818181818181814,"d":"$0.47"}]
[null,"Fully cooked, Chicken breast with rib meat only; chopped and formed;","King's Delight 66214",null,"20Lb",116,null,{"$f":"ROUND(G84*F84/F85,2)","v":0},"Cs",{"v":37.6,"d":"$37.60"},{"$f":"IF(OR(ISBLANK(J85),G84=0,ISBLANK(G84)),,ROUND(J85+$K$3,2))","v":0},{"$f":"ROUND(H85*K85,2)","v":0},{"$f":"ROUND(K85/F85,2)","v":0}]
[null,"APP and egg allowed, in compliance with Appendix A of 7 CFR Part 210.",{"$nulls":17}," "]
[null,"CN label to provide 2 oz M/MA and a not more than 1 OEG. Breading must",{"$nulls":17},"  "]
[null,"meet WGR requirements. Batter or breading not to exceed 30% of the ",{"$nulls":17}," "]
[null,"weight of the product, sodium not to exceed 480 mg.  The label must ",{"$nulls":17},"  "]
[null,"specify the number of portions per case",{"$nulls":17}," "]
[null," ",{"$nulls":17}," "]
[13,"Chicken Patty, Grilled,  ","Advance Pierre 9989",null,"100/2.8z",100,null,{"$f":"ROUND(G92*F92/F92,2)","v":0},"Cs"," "," "," "," "," "," "," ","  "," "," "," "]
[null,"Fully cooked. Unbreaded, breast with rib meat,chopped and formed; "," Proview  55000",null,"64/2.5z",64,null,{"$f":"ROUND(G92*F92/F93,2)","v":0},"Cs",{"v":22,"d":"$22.00"},{"$f":"IF(OR(ISBLANK(J93),G92=0,ISBLANK(G92)),,ROUND(J93+$K$3,2))","v":0},{"$f":"ROUND(H93*K93,2)","v":0},{"$f":"ROUND(K93/F93,2)","v":0}," "," "," ","  "," "," "," "]
[null,"APP and egg allowed, in compliance with Appendix A of 7 CFR Part 210",{"$nulls":17}," "]
[null,"CN label to provide 1 oz. M/MA and 1 OEG, Breading must meet WGR ",{"$nulls":17}," "]
[null,"requirements. Batter / breading not to exceed 30% of weight of the "]
[null,"product, sodium not to exceed 480 mg The label must specify number of "]
[null,"portions per case",{"$nulls":4},0,{"$nulls":12}," "]
[14,"Chicken Nugget, Breaded            ","Gold Kist  613100",null,"20lb",104,0,{"$f":"ROUND(G99*F99/F99,2)","v":0},"Cs",null," ","  "," ",null,{"v":0,"d":"$0.0000"},0,{"$f":"ROUND(O99*P99,2)","v":{"v":0,"d":"$0.00"}},{"$f":"K99-Q99","v":{"$error":"#VALUE!"}},{"$f":"R99/F99","v":{"$error":"#VALUE!"}},{"$f":"N99/F99","v":0}]
[null,"Fully Cooked.  Chopped and formed; chicken breast with rib meat only;  ","Proview 40015-WG",null,"20Lb",106,null,{"$f":"ROUND(G99*F99/F100,2)","v":0},"Cs",{"v":28.2,"d":"$28.20"},{"$f":"IF(OR(ISBLANK(J100),G99=0,ISBLANK(G99)),,ROUND(J100+$K$3,2))","v":0},{"$f":"ROUND(H100*K100,2)","v":0},{"$f":"ROUND(K100/F100,2)","v":0},0,{"v":0.8722,"d":"$0.8722"},29.43,{"$f":"ROUND(O100*P100,2)","v":{"v":25.67,"d":"$25.67"}},{"$f":"K100-Q100","v":{"v":-25.67,"d":"$(25.67)"}},{"$f":"R100/F100","v":{"v":-0.24216981132075474,"d":"$(0.24)"}},0]
[null,"APP and egg allowed, in compliance with Appendix A of 7 CFR Part 210.  ","Rich Chicks 54410",null,"20Lb",107,null,{"$f":"ROUND(G99*F99/F101,2)","v":0},"Cs",null," "," "," ",{"v":36.14,"d":"$36.14"},{"v":0.9345,"d":"$0.9345"},14.59,{"$f":"ROUND(O101*P101,2)","v":{"v":13.63,"d":"$13.63"}},{"$f":"N101","v":{"v":36.14,"d":"$36.14"}},{"$f":"R101/F101","v":{"v":0.3377570093457944,"d":"$0.34"}},{"v":0.3377570093457944,"d":"$0.34"}]
[null,"One serving to contain no more than 54% of total calories from fat; ","Commodity #54410 ",{"$nulls":16}," "]
[null,"sat fat not to exceed 15% of calories per serving. Sodium not to exceed ",{"$nulls":17}," "]
[null,"480 mg per serving.  Batter or breading not to exceed 30% of the weight  ",{"$nulls":17}," "]
[null,"of the finished product. The label must specify the number of portions ",{"$nulls":17}," "]
[null,"per case.",{"$nulls":17}," "]
[15,"Chicken Rings, Breaded                 ","Gold Kist  499180",null,"30Lb",136,0,{"$f":"ROUND(G107*F107/F107,2)","v":0},"Cs"," "," "," "," ",{"v":39.15,"d":"$39.15"},{"v":0.9345,"d":"$0.9345"},29.47,{"$f":"ROUND(O107*P107,2)","v":{"v":27.54,"d":"$27.54"}},{"$f":"N107","v":{"v":39.15,"d":"$39.15"}},{"$f":"R107/F107","v":{"v":0.2878676470588235,"d":"$0.29"}},{"v":0.2878676470588235,"d":"$0.29"}]
[null,"Fully Cooked. Chicken breast with rib meat only, chopped and formed; ","King's Delight 66205",null,"20Lb",80,null,{"$f":"ROUND(G107*F107/F108,2)","v":0},"Cs",{"v":36.4,"d":"$36.40"},{"$f":"IF(OR(ISBLANK(J108),G107=0,ISBLANK(G107)),,ROUND(J108+$K$3,2))","v":0},{"$f":"ROUND(H108*K108,2)","v":0},{"$f":"ROUND(K108/F108,2)","v":0},{"v":0.8722,"d":"$0.8722"},{"v":0.8722,"d":"$0.8722"},29.43," ",{"$f":"K108-Q108","v":{"$error":"#VALUE!"}},{"$f":"R108/F108","v":{"$error":"#VALUE!"}},{"$f":"S108/G108","v":{"$error":"#VALUE!"}}]
[null,"APP and egg allowed,in compliance with Appendix A of 7 CFR Part 210.",null,null," "," ",null," "," "," "," "," "," ",null," "," ","  "," "," "," "]
[null,"CN label to provide 2 oz M/MA and not more than 1.0 OEG. Breading must",{"$nulls":17}," "]
[null,"meet WGR requirements.  Batter or breading not to exceed 30% of the",{"$nulls":17}," "]
[null,"weight of the product. Sodium not to exceed 480 mg.  The label must "," ",{"$nulls":16}," "]
[null,"specify the number of portions per case",{"$nulls":17}," "]
[16,"Chicken Tenders, Breaded                 ","King's Delight 66203",null,"20Lb",106,0,{"$f":"ROUND(G114*F114/F114,2)","v":0},"Cs"," "," "," "," ",{"v":0.8722,"d":"$0.8722"},{"v":0.8722,"d":"$0.8722"},29.46," ",{"$f":"K114-Q114","v":{"$error":"#VALUE!"}},{"$f":"R114/F114","v":{"$error":"#VALUE!"}},{"$f":"S114/G114","v":{"$error":"#VALUE!"}}]
[null,"Fully cooked, chicken breast with rib meat only, chopped and formed, APP ","Proview 46015WG",null,"20Lb",106," ",{"$f":"ROUND(G114*F114/F115,2)","v":0},"Cs",{"v":30.4,"d":"$30.40"},{"$f":"IF(OR(ISBLANK(J115),G114=0,ISBLANK(G114)),,ROUND(J115+$K$3,2))","v":0},{"$f":"ROUND(H115*K115,2)","v":0},{"$f":"ROUND(K115/F115,2)","v":0},{"v":0.8722,"d":"$0.8722"},{"v":0.8722,"d":"$0.8722"},29.46," ",{"$f":"K115-Q115","v":{"$error":"#VALUE!"}},{"$f":"R115/F115","v":{"$error":"#VALUE!"}},{"$f":"S115/G115","v":{"$error":"#VALUE!"}}]
[null,"and egg allowed, in compliance with Apendix A of 7 CFR Part 210 ",{"$nulls":12}," "," ","  "," "," "," "]
[null,"CN label to provide 1 oz. M/MA and 1 OEG, Breading must meet WGR "]
[null,"requirements. Batter / breading not to exceed 30% of weight of the ",{"$nulls":17}," "]
[null,"the product.  Sodium not ot exceed 480 mg.",{"$nulls":17}," "]
[17,"Chicken, Popcorn Chicken, Breaded ","Proview 43015-WG",null,"20Lb",106,0,{"$f":"ROUND(G120*F120/F120,2)","v":0},"Cs",{"v":30.4,"d":"$30.40"},{"$f":"IF(OR(ISBLANK(J120),G120=0,ISBLANK(G120)),,ROUND(J120+$K$3,2))","v":0},{"$f":"ROUND(H120*K120,2)","v":0},{"$f":"ROUND(K120/F120,2)","v":0},{"v":0.8722,"d":"$0.8722"},{"v":0.8722,"d":"$0.8722"},29.46,{"$f":"ROUND(O120*P120,2)","v":{"v":25.7,"d":"$25.70"}},{"$f":"K120-Q120","v":{"v":-25.7,"d":"$(25.70)"}},{"$f":"R120/F120","v":{"v":-0.24245283018867925,"d":"$(0.24)"}},{"$f":"S120/G120","v":{"$error":"#DIV/0!"}}]
[null,"Frozen, Fully Cooked; chicken breast with rib meat only chopped & formedl","Gold Kist 698100",null,"20Lb",103,null,{"$f":"ROUND(G120*F120/F121,2)","v":0},"Cs",null," "," "," ",null," "," "," "," "," ",0]
[null,"APP and egg allowed, in complaince with Appendix A of 7 CFR Part 210","Kings Delight 66209",null,"20Lb",114,null,{"$f":"ROUND(G120*F120/F122,2)","v":0},"Cs",null,"  "," "," ",{"v":0.8722,"d":"$0.8722"}," "," ","  "," "," ",{"$f":"S122/G122","v":{"$error":"#VALUE!"}}]
[null,"CN label to provide 1 oz. M/MA and 1 OEG, Breading must meet WGR ",{"$nulls":17}," "]
[null,"requirements. Batter / breading not to exceed 30% of weight of the ",{"$nulls":17}," "]
[null,"product, sodium not to exceed 480 mg The label must specify number of "]
[null,"portions per case",{"$nulls":17}," "]
[null,"Chicken Leg, 100113 Chicken, Dark Meat, Asian Entrée"]
[18,"Teriyaki Chicken, ","Minh's 69018",null,"240/2.80z",240,0,{"$f":"ROUND(G128*F128/F128,2)","v":0},"Cs",{"v":118,"d":"$118.00"},{"$f":"IF(OR(ISBLANK(J128),G128=0,ISBLANK(G128)),,ROUND(J128+$K$3,2))","v":0},{"$f":"ROUND(H128*K128,2)","v":0},{"$f":"ROUND(K128/F128,2)","v":0},0,{"v":0.4592,"d":"$0.4592"},43.11,{"$f":"ROUND(O128*P128,2)","v":{"v":19.8,"d":"$19.80"}},{"$f":"J128-Q128","v":{"v":98.2,"d":"$98.20"}},{"$f":"R128/F128","v":{"v":0.4091666666666667,"d":"$0.41"}},0]
[null,"Frozen. Unbreaded, Cooked chicken leg meat, boneless, with Teriyaki ",{"$nulls":12}," "," "," "," "," "," "]
[null,"sauce No MSG. No Trans Fat. 100-200 calories with no more than 2g ",{"$nulls":12}," "," ","  "," "," "," "]
[null,"saturated fat and 450 mg sodium per serving. One portion to provide min.",{"$nulls":17}," "]
[null,"2 M.MA"]
[null,"Possible Allergens:  Egg, Wheat, and Soy",{"$nulls":4}," ",{"$nulls":12}," "]
[19,"Spicy Chicken, WG","Yang's 15556-2",null,"240/2.40z",240,0,{"$f":"ROUND(G134*F134/F134,2)","v":0},"Cs",{"v":102.05,"d":"$102.05"},{"$f":"IF(OR(ISBLANK(J134),G134=0,ISBLANK(G134)),,ROUND(J134+$K$3,2))","v":0},{"$f":"ROUND(H134*K134,2)","v":0},{"$f":"ROUND(K134/F134,2)","v":0},{"v":80.96,"d":"$80.96"},{"v":0.4592,"d":"$0.4592"},45.92,{"$f":"ROUND(O134*P134,2)","v":{"v":21.09,"d":"$21.09"}},{"$f":"J134-Q134","v":{"v":80.96,"d":"$80.96"}},{"$f":"R134/F134","v":{"v":0.3373333333333333,"d":"$0.34"}},{"v":0.3373333333333333,"d":"$0.34"}]
[null,"Frozen. Unbreaded dark meat chicken strips in spicy sauce. ",{"$nulls":12}," "," "," "," "," "," "]
[null,"No MSG. No Trans Fat. 100-200 calories with no more than 2 g sat fat",{"$nulls":12}," "," ","  "," "," "," "]
[null,"and 450 mg sodium per serving. One portion to provide min. 2 M/MA. "]
[null,"Possible Allergens:  Egg, Soy, Wheat, and Citrus",{"$nulls":17}," "]
[20,"Citrus Chicken, WG","Yang's 15552-4",null,"192/3.60z",192,150,{"$f":"ROUND(G139*F139/F139,2)","v":150},"Cs",{"v":110.81,"d":"$110.81"},{"$f":"IF(OR(ISBLANK(J139),G139=0,ISBLANK(G139)),,ROUND(J139+$K$3,2))","v":{"v":110.81,"d":"$110.81"}},{"$f":"ROUND(H139*K139,2)","v":{"v":16621.5,"d":"$16,621.50"}},{"$f":"ROUND(K139/F139,2)","v":{"v":0.58,"d":"$0.58"}},{"v":93.34,"d":"$93.34"},{"v":0.4592,"d":"$0.4592"},38.05,{"$f":"ROUND(O139*P139,2)","v":{"v":17.47,"d":"$17.47"}},{"$f":"J139-Q139","v":{"v":93.34,"d":"$93.34"}},{"$f":"R139/F139","v":{"v":0.48614583333333333,"d":"$0.49"}},{"$f":"N139/F139","v":{"v":0.48614583333333333,"d":"$0.49"}}]
[null,"Frozen. Lightly battered or breaded boneless dark meat chicken chunks ",{"$nulls":12}," "," "," "," "," "," "]
[null,"tossed with citrus flavored sauce. No MSG. No Trans Fat. 150-250 ",{"$nulls":12}," "," ","  "," "," "," "]
[null,"calories with no more than 2 g saturated fat and 450 mg sodium ",{"$nulls":17}," "]
[null,"per serving. One portion to provide min. 2 M/MA. ",{"$nulls":17}," "]
[null,"Possible Allergens:  Egg, Soy, Wheat, and Citrus",{"$nulls":17}," "]
[21,"Cherry Blossom/Sweet and Sour Chicken, WG","Asian Solutions 72005",null,"42.9 lbs",176,150,{"$f":"ROUND(G145*F145/F145,2)","v":150},"Cs",{"$nulls":4},0,{"v":0.4592,"d":"$0.4592"},34.65,{"$f":"ROUND(O145*P145,2)","v":{"v":15.91,"d":"$15.91"}},0,0,{"$f":"N145/F145","v":0}]
[null,"Frozen. Lightly battered or breaded boneless dark meat chicken chunks ","Chef's Corner COMWG-114",null,"42 lbs",171,null,{"$f":"ROUND(G145*F145/F146,2)","v":154.39},"Cs",{"$nulls":4},0,{"v":0.4592,"d":"$0.4592"},39.08,{"$f":"ROUND(O146*P146,2)","v":{"v":17.95,"d":"$17.95"}},0,{"$f":"R146/F146","v":0},{"$f":"N146/F146","v":0}]
[null,"tossed with sweet and sour sauce. No MSG. No Trans Fat. 140-250 ","Yang's 155551-7",null,"192/3.60z",192,null,{"$f":"ROUND(G145*F145/F147,2)","v":137.5},"Cs",{"v":107.23,"d":"$107.23"},{"$f":"IF(OR(ISBLANK(J147),G145=0,ISBLANK(G145)),,ROUND(J147+$K$3,2))","v":{"v":107.23,"d":"$107.23"}},{"$f":"ROUND(H147*K147,2)","v":{"v":14744.13,"d":"$14,744.13"}},{"$f":"ROUND(K147/F147,2)","v":{"v":0.56,"d":"$0.56"}},{"v":89.76,"d":"$89.76"},{"v":0.4592,"d":"$0.4592"},38.05,{"v":17.47,"d":"$17.47"},{"$f":"J147-Q147","v":{"v":89.76,"d":"$89.76"}},{"$f":"R147/F147","v":{"v":0.4675,"d":"$0.47"}},{"v":0.4675,"d":"$0.47"}]
[null,"saturated fat and 400 mg sodium per serving.  One serving to provide min.","Schwann's 69016",null,"240/2.80z",240,null,{"$f":"ROUND(G145*F145/F148,2)","v":110},"Cs"," "," ","  "," ",0,{"v":0.4592,"d":"$0.4592"},42.81,{"v":19.66,"d":"$19.66"}," "," ",0]
[null,"2 M/MA"," ",{"$nulls":16}," "]
[null,"Possible Allergens:  Egg, Soy, Wheat, & Citrus"," ",{"$nulls":16}," "]
[22,"General Tso's Chicken, Breaded, WG","Yang's 15563-0",null,"43.5 lbs",192,150,{"$f":"ROUND(G151*F151/F151,2)","v":150},"Cs",{"v":110.81,"d":"$110.81"},{"$f":"IF(OR(ISBLANK(J151),G151=0,ISBLANK(G151)),,ROUND(J151+$K$3,2))","v":{"v":110.81,"d":"$110.81"}},{"$f":"ROUND(H151*K151,2)","v":{"v":16621.5,"d":"$16,621.50"}},{"$f":"ROUND(K151/F151,2)","v":{"v":0.58,"d":"$0.58"}},{"v":93.34,"d":"$93.34"},{"v":0.4592,"d":"$0.4592"},38.05,{"$f":"ROUND(O151*P151,2)","v":{"v":17.47,"d":"$17.47"}},{"$f":"J151-Q151","v":{"v":93.34,"d":"$93.34"}},{"$f":"R151/F151","v":{"v":0.48614583333333333,"d":"$0.49"}},{"$f":"N151/F151","v":{"v":0.48614583333333333,"d":"$0.49"}}]
[null,"Frozen, Breaded chicken chunks in spicy sauce, NO MSG, 100-200 cals",{"$nulls":12}," "," "," "," "," "," "]
[null,"no more than 2 g saturated fat and 450 mg of sodium per serving.  ",{"$nulls":12}," "," ","  "," "," "," "]
[null,"One portion to provide 2 M/MA ",{"$nulls":17}," "]
[null," ",{"$nulls":17}," "]
[null,"Possible Allergens:  Egg, Soy, Wheat, and Citrus",{"$nulls":17}," "]
[23,"Thai Sweet Chili Chicken, Unbreaded","Asian Solutions 73004",null,"42.9 lbs",240,0,{"$f":"ROUND(G157*F157/F157,2)","v":0},"Cs",{"v":119.59,"d":"$119.59"},{"$f":"IF(OR(ISBLANK(J157),G157=0,ISBLANK(G157)),,ROUND(J157+$K$3,2))","v":0},{"$f":"ROUND(H157*K157,2)","v":0},{"$f":"ROUND(K157/F157,2)","v":0},{"v":98.48,"d":"$98.48"},{"v":0.4592,"d":"$0.4592"},45.98,{"$f":"ROUND(O157*P157,2)","v":{"v":21.11,"d":"$21.11"}},{"$f":"J157-Q157","v":{"v":98.48,"d":"$98.48"}},{"$f":"R157/F157","v":{"v":0.4103333333333333,"d":"$0.41"}},{"$f":"N157/F157","v":{"v":0.4103333333333333,"d":"$0.41"}}]
[null,"Frozen, breaded chicken chunks in sweet and spicy chili sauce, NO MSG,",{"$nulls":12}," "," "," "," "," "," "]
[null,"No Trans Fats 100-200 calories with no more than 2 g saturated fat ",{"$nulls":12}," "," ","  "," "," "," "]
[null,"and 350 mg of sodium per serving One 2.85 oz. portion to provide ",{"$nulls":17}," "]
[null,"2 oz. M/MA",{"$nulls":17}," "]
[null,"Possible Allergens:  Soy, Wheat",{"$nulls":17}," "]
[24,"Chicken, BBQ Teriyaki","Yang's 15554-8",null,"42 lbs",240,75,{"$f":"ROUND(G163*F163/F163,2)","v":75},"Cs",{"v":102.05,"d":"$102.05"},{"$f":"IF(OR(ISBLANK(J163),G163=0,ISBLANK(G163)),,ROUND(J163+$K$3,2))","v":{"v":102.05,"d":"$102.05"}},{"$f":"ROUND(H163*K163,2)","v":{"v":7653.75,"d":"$7,653.75"}},{"$f":"ROUND(K163/F163,2)","v":{"v":0.43,"d":"$0.43"}},{"v":80.96,"d":"$80.96"},{"v":0.4592,"d":"$0.4592"},45.92,{"$f":"ROUND(O163*P163,2)","v":{"v":21.09,"d":"$21.09"}},{"$f":"J163-Q163","v":{"v":80.96,"d":"$80.96"}},{"$f":"R163/F163","v":{"v":0.3373333333333333,"d":"$0.34"}},{"v":0.3373333333333333,"d":"$0.34"}]
[null,"Frozen, chicken in sweet teriyaki sauce. No MSG No Trans fat ",{"$nulls":12}," "," "," "," "," "," "]
[null,"100-200 calories with nnot more than 2 g saturated fat and 500 mg of ",{"$nulls":12}," "," ","  "," "," "," "]
[null,"sodium per serving.  One portion to provide 2 M/MA ",{"$nulls":17}," "]
[null," ",{"$nulls":17}," "]
[null,"Possible Allergens:  Soy, Wheat, and Citrus",{"$nulls":17}," "]
[" ","Other Poultry Products"]
[25,"Chicken Drumsticks, Sous Vois","(18-19) Perdue 52273",null,"96/2.0z",96,100,{"$f":"ROUND(G170*F170/F170,2)","v":100},"Cs",{"v":67.84,"d":"$67.84"},{"$f":"IF(OR(ISBLANK(J170),G170=0,ISBLANK(G170)),,ROUND(J170+$K$3,2))","v":{"v":67.84,"d":"$67.84"}},{"$f":"ROUND(H170*K170,2)","v":{"v":6784,"d":"$6,784.00"}},{"$f":"ROUND(K170/F170,2)","v":{"v":0.71,"d":"$0.71"}}]
[null,"Frozen, 100-200 calories with no more than 3 g saturated fat and 400",{"$nulls":17}," "]
[null,"mg sodium per serving.  One portion to provide 2 M/MA"]
[null,"Possible Allergens: None Listed",{"$nulls":17}," "]
[26,"Chicken, Drumsticks, Raw","Tyson 000990-0928",null,"50/2.96z",50,0,{"$f":"ROUND(G174*F174/F174,2)","v":0},"Cs",{"v":28.2,"d":"$28.20"},{"$f":"IF(OR(ISBLANK(J174),G174=0,ISBLANK(G174)),,ROUND(J174+$K$3,2))","v":0},{"$f":"ROUND(H174*K174,2)","v":0},{"$f":"ROUND(K174/F174,2)","v":0}]
[null,"Must yield 1.5 oz. cooked meat, USDA inspected, Grade A, IQF"," "," ",{"$nulls":3}," "," "," "," "," "," "," ",{"$nulls":5}," "]
[null,"Possible Allergens:  None Listed",{"$nulls":17}," "]
[27,"Chicken Thighs, Raw","Tyson 003783-0928",null,"98/5.11z",98,0,{"$f":"ROUND(G177*F177/F177,2)","v":0},"Cs",{"v":30,"d":"$30.00"},{"$f":"IF(OR(ISBLANK(J177),G177=0,ISBLANK(G177)),,ROUND(J177+$K$3,2))","v":0},{"$f":"ROUND(H177*K177,2)","v":0},{"$f":"ROUND(K177/F177,2)","v":0}]
[null,"Minimum 4.9 oz must provide a minimum or 2 oz cooked"," ",{"$nulls":4}," "," "," "," "," ","  ",{"$nulls":6}," "]
[null,"meat. USDA inspected.  Grade A, fryer parts, IQF"]
[null,"Possible Allergens:  None Listed",{"$nulls":17}," "]
[28,"Chicken, Eight Cut, Raw","Tyson 3882",null,"96/4.50z",96,0,{"$f":"ROUND(G181*F181/F181,2)","v":0},"Cs",{"v":52.8,"d":"$52.80"},{"$f":"IF(OR(ISBLANK(J181),G181=0,ISBLANK(G181)),,ROUND(J181+$K$3,2))","v":0},{"$f":"ROUND(H181*K181,2)","v":0},{"$f":"ROUND(K181/F181,2)","v":0}]
[null,"USDA inspected, Grade A fryer parts"," ",{"$nulls":4},"  "," "," "," "," "," ",{"$nulls":6}," "]
[null,"Equal parts of breast, leg, thigh and wings,",{"$nulls":17}," "]
[null,"Minimum 4 oz breast and thigh to meet 2 oz cooked",{"$nulls":17},"  "]
[null,"meat, IQF"]
[null,"Possible Allergens: None Listed",{"$nulls":17}," "]
[29,"Chicken Fajita Strips, Breast Meat w/ Grill marks","King's Delight 66196",null,"20Lb",107,0,{"$f":"ROUND(G187*F187/F187,2)","v":0},"Cs",{"v":58.2,"d":"$58.20"},{"$f":"IF(OR(ISBLANK(J187),G187=0,ISBLANK(G187)),,ROUND(J187+$K$3,2))","v":0},{"$f":"ROUND(H187*K187,2)","v":0},{"$f":"ROUND(K187/F187,2)","v":0}]
[null,"Frozen, Fully cooked, Marinated strips of breast w/rib meat with grill "]
[null,"markings.  Free of bone and skin, 100-200 calories with no more than 2 g"]
[null,"saturated fat and 600 mg of sodium per 2 M/MA",{"$nulls":17}," "]
[null," Possible Allergens:  Soy",{"$nulls":17}," "]
[30,"Chicken Fajita Strips, Unbreaded Dark Meat","Tyson 4621-929",null,"160/3.0z",160,0,{"$f":"ROUND(G192*F192/F192,2)","v":0},"Cs",{"v":92.04,"d":"$92.04"},{"$f":"IF(OR(ISBLANK(J192),G192=0,ISBLANK(G192)),,ROUND(J192+$K$3,2))","v":0},{"$f":"ROUND(H192*K192,2)","v":0},{"$f":"ROUND(K192/F192,2)","v":0},{"v":49.2,"d":"$49.20"},{"v":0.9345,"d":"$0.9345"},45.84,{"$f":"ROUND(O192*P192,2)","v":{"v":42.84,"d":"$42.84"}},{"$f":"K192-Q192","v":{"v":-42.84,"d":"$(42.84)"}},{"$f":"R192/F192","v":{"v":-0.26775000000000004,"d":"$(0.27)"}},{"v":0.3075,"d":"$0.31"}]
[null,"Fully cooked, One serving must provide 2.0 oz M/MA",{"$nulls":17}," "]
[null,"Possible Allergens:  Soy",{"$nulls":17}," "]
[31,"Chicken Fajita Strips, Unbreaded Dark Meat","Gold Kist/Pilgrims 1260",null,"195/2.46z",195,85,{"$f":"ROUND(G195*F195/F195,2)","v":85},"Cs",{"v":96.54,"d":"$96.54"},{"$f":"IF(OR(ISBLANK(J195),G195=0,ISBLANK(G195)),,ROUND(J195+$K$3,2))","v":{"v":96.54,"d":"$96.54"}},{"$f":"ROUND(H195*K195,2)","v":{"v":8205.9,"d":"$8,205.90"}},{"$f":"ROUND(K195/F195,2)","v":{"v":0.5,"d":"$0.50"}},{"v":48.75,"d":"$48.75"},{"v":0.9345,"d":"$0.9345"},51.14,{"$f":"ROUND(O195*P195,2)","v":{"v":47.79,"d":"$47.79"}},{"v":41.19,"d":"$41.19"},{"v":0.25,"d":"$0.25"},{"$f":"N195/F195","v":{"v":0.25,"d":"$0.25"}}]
[null,"Fully cooked, One serving must provide 2.0 oz M/MA",{"$nulls":17}," "]
[null,"Possible Allergens:  Soy",{"$nulls":17}," "]
[32,"Chicken Popcorn, Dark and White Meat, no container, WG","Gold Kist/Pilgrims 110452",null,"108/4.30z",108,0,{"$f":"ROUND(G198*F198/F198,2)","v":0},"Cs",{"v":69.25,"d":"$69.25"},{"$f":"IF(OR(ISBLANK(J198),G198=0,ISBLANK(G198)),,ROUND(J198+$K$3,2))","v":0},{"$f":"ROUND(H198*K198,2)","v":0},{"$f":"ROUND(K198/F198,2)","v":0},{"v":41.25,"d":"$41.25"},{"v":0.9345,"d":"$0.9345"},29.98,{"$f":"ROUND(O198*P198,2)","v":{"v":28.02,"d":"$28.02"}},{"$f":"J198-Q198","v":{"v":41.230000000000004,"d":"$41.23"}},{"$f":"R198/F198","v":{"v":0.3817592592592593,"d":"$0.38"}},{"$f":"N198/F198","v":{"v":0.3819444444444444,"d":"$0.38"}}]
[null,"Frozen, Fully cooked, Chopped and formed w/d chicken meat 200-300"," ",{"$nulls":4}," "," "," "," "," "," "," "," ",{"$nulls":4}," "]
[null,"calories with no more than 5 g saturated fat and 600 mg of sodium per "]
[null,"serving.  CN Labeled for 10 pieces to provide min. 2 M/MA and 1 OEG"]
[null," "," "]
[null,"Possible Allergens:  Wheat, Soy, and Milk",{"$nulls":17}," "]
[33,"Chicken, Breaded, Popcorn (Dark Meat)","Gold Kist/Pilgrims 110458",null,"108/4.30z",108,250,{"$f":"ROUND(G204*F204/F204,2)","v":250},"Cs",{"v":77.76,"d":"$77.76"},{"$f":"IF(OR(ISBLANK(J204),G204=0,ISBLANK(G204)),,ROUND(J204+$K$3,2))","v":{"v":77.76,"d":"$77.76"}},{"$f":"ROUND(H204*K204,2)","v":{"v":19440,"d":"$19,440.00"}},{"$f":"ROUND(K204/F204,2)","v":{"v":0.72,"d":"$0.72"}},{"v":39.87,"d":"$39.87"},{"v":0.9345,"d":"$0.9345"},40.54,{"$f":"ROUND(O204*P204,2)","v":{"v":37.88,"d":"$37.88"}},{"$f":"J204-Q204","v":{"v":39.88,"d":"$39.88"}},{"$f":"R204/F204","v":{"v":0.3692592592592593,"d":"$0.37"}},{"$f":"N204/F204","v":{"v":0.36916666666666664,"d":"$0.37"}}]
[null,"Whole Grain, fully cooked, frozen, must provide 2.0 oz. M/MA Consists of"," ",null," "," ",null," "," ",null," "," "," ",null," "," "," "," "," "," "]
[null,"mixed white and datrk meat 5 gr of sat fat or less & 600 mg of sodium or less"," ",null," "," ",null," "," ",null," "," "," ",null," "," ","  "," "," "," "]
[null,"Possible Allergens:  Wheat, Soy, Egg , Milk",{"$nulls":17}," "]
[34,"Chicken Wings, Buffalo Style","Perdue 8201",null,"10 lbs",19,{"v":0,"d":"0 "},{"$f":"ROUND(G208*F208/F208,2)","v":0},"Cs"," "," "," "," "]
[null,"Frozen, Fully cooked, First and second wing joint, Marinated and seasoned 275-600 ","Tyson 5210-0928",null,"10 lbs",25,null,{"$f":"ROUND(G208*F208/F209,2)","v":0},"Cs",{"v":41.5,"d":"$41.50"},{"$f":"IF(OR(ISBLANK(J209),G208=0,ISBLANK(G208)),,ROUND(J209+$K$3,2))","v":0},{"$f":"ROUND(H209*K209,2)","v":0},{"$f":"ROUND(K209/F209,2)","v":0}]
[null,"calories with no more than 9 g saturated fat and 1450 mg sodium per serving "," ",{"$nulls":11}," "," ","  "," "," "," "]
[null,"Possible Allergens:  Wheat, Soy"," ",{"$nulls":16}," "]
[35,"Chicken Wings, Roasted","Foster Farms 96440",null,"170/6.9z",170,{"v":150,"d":"150 "},{"$f":"ROUND(G212*F212/F212,2)","v":150},"Cs",{"v":40.5,"d":"$40.50"},{"$f":"IF(OR(ISBLANK(J212),G212=0,ISBLANK(G212)),,ROUND(J212+$K$3,2))","v":{"v":40.5,"d":"$40.50"}},{"$f":"ROUND(H212*K212,2)","v":{"v":6075,"d":"$6,075.00"}},{"$f":"ROUND(K212/F212,2)","v":{"v":0.24,"d":"$0.24"}}]
[null,"Frozen, Fully cooked, 300-400 calories with not more than 8 gm saturated fat"," ",null," "," "," "," ","  "," "," "," "," "]
[null,"and 1300 mg of sodium per serving   ",{"$nulls":12}," "," ","  "," "," "," "]
[null,"Possible Allergens:  None Listed, Gluten Free",{"$nulls":17}," "]
[36,"Chicken, Diced, 1/2\" Natual Proportion White Meat","Dutch Quality 3024",null,"10 lbs",176,0,{"$f":"ROUND(G216*F216/F216,2)","v":0},"Cs",{"v":26,"d":"$26.00"},{"$f":"IF(OR(ISBLANK(J216),G216=0,ISBLANK(G216)),,ROUND(J216+$K$3,2))","v":0},{"$f":"ROUND(H216*K216,2)","v":0},{"$f":"ROUND(K216/F216,2)","v":0},0,{"v":0,"d":"$0.0000"},0,{"$f":"ROUND(O216*P216,2)","v":{"v":0,"d":"$0.00"}},{"$f":"K216-Q216","v":0},{"$f":"R216/F216","v":0},{"$f":"N216/F216","v":0}]
[null,"Frozen, fully cooked, oven roasted, white chicken meat, free of bones and skin, thaw and"," ",{"$nulls":11}," "," "," "," "," "," "]
[null,"serve.  No VPP 50-150 calories with no more than 2 g saturated fat and"]
[null,"410 mg of sodium per 2 M/MA serving.  No CN Label "]
[null,"Possible Allergens: None Listed",{"$nulls":12}," "," ","  "," "," "," "]
[37,"Chicken, Diced, 1/2\" Natual Proportion with Dark Meat","Gold Kist/Pilgrims 1230",null,"30 lbs",176,25,{"$f":"ROUND(G221*F221/F221,2)","v":25},"Cs",{"v":80.96,"d":"$80.96"},{"$f":"IF(OR(ISBLANK(J221),G221=0,ISBLANK(G221)),,ROUND(J221+$K$3,2))","v":{"v":80.96,"d":"$80.96"}},{"$f":"ROUND(H221*K221,2)","v":{"v":2024,"d":"$2,024.00"}},{"$f":"ROUND(K221/F221,2)","v":{"v":0.46,"d":"$0.46"}},{"v":47.32,"d":"$47.32"},{"v":0.9345,"d":"$0.9345"},36.01,{"$f":"ROUND(O221*P221,2)","v":{"v":33.65,"d":"$33.65"}},{"$f":"K221-Q221","v":{"v":47.309999999999995,"d":"$47.31"}},{"$f":"R221/F221","v":{"v":0.2688068181818182,"d":"$0.27"}},{"$f":"N221/F221","v":{"v":0.26886363636363636,"d":"$0.27"}}]
[null,"Frozen, fully cooked, oven roasted, natural proportion with dark chicken meat, free of "," ",{"$nulls":11}," "," "," "," "," "," "]
[null,"bones and skin, thaw and serve, No VPP, 50-150 calories with no more "]
[null,"than  2 g saturated fat and 200 mg of sodium per 2 M/MA serving "]
[null,"Possible Allergens:  None Listed",{"$nulls":12}," "," ","  "," "," "," "]
[{"$nulls":14},"Chicken, Small 100100"]
[38,"Chicken, Roasted 4 cut, WG","Gold Kist/Pilgrims 88013",null,"30 lbs",82,0,{"$f":"ROUND(G227*F227/F227,2)","v":0},"Cs",{"v":90.72,"d":"$90.72"},{"$f":"IF(OR(ISBLANK(J227),G227=0,ISBLANK(G227)),,ROUND(J227+$K$3,2))","v":0},{"$f":"ROUND(H227*K227,2)","v":0},{"$f":"ROUND(K227/F227,2)","v":0},{"v":49.08,"d":"$49.08"},{"v":0.93,"d":"$0.9300"},44.78,{"$f":"ROUND(O227*P227,2)","v":{"v":41.65,"d":"$41.65"}},{"$f":"J227-Q227","v":{"v":49.07,"d":"$49.07"}},{"$f":"R227/F227","v":{"v":0.5984146341463414,"d":"$0.60"}},{"$f":"N227/F227","v":{"v":0.5985365853658536,"d":"$0.60"}}]
[null,"Frozen, Fully cooked, Dark meat chopped or shredded chicken with VPP"," ",{"$nulls":11}," "," "," "," "," "," "]
[null,"in tomato based sauce. 100-200 calories with no more than 2 g saturated "]
[null,"fat and 400 mg of sodium per 2 M/MA serving.  CN labeled with serving "]
[null,"size to provide 2 M/MA ",{"$nulls":12}," "," ","  "," "," "," "]
[null," ",{"$nulls":17}," "]
[null,"Possible Allergen:  Wheat, Soy",{"$nulls":17}," "]
[39,"Chicken, Breaded 8 cut, WG","Gold Kist/Pilgrims 7812",null,"30 lbs",74,0,2000,"Cs",{"v":83.3,"d":"$83.30"},{"$f":"IF(OR(ISBLANK(J234),G234=0,ISBLANK(G234)),,ROUND(J234+$K$3,2))","v":0},{"$f":"ROUND(H234*K234,2)","v":0},{"$f":"ROUND(K234/F234,2)","v":0},{"v":50.76,"d":"$50.76"},{"v":0.93,"d":"$0.9300"},34.98,{"$f":"ROUND(O234*P234,2)","v":{"v":32.53,"d":"$32.53"}},{"$f":"J234-Q234","v":{"v":50.769999999999996,"d":"$50.77"}},{"$f":"R234/F234","v":{"v":0.686081081081081,"d":"$0.69"}},{"$f":"N234/F234","v":{"v":0.6859459459459459,"d":"$0.69"}}]
[null,"Frozen, IQF, Fully cooked, oven prep, WGR, 200-300 calories with no more than"," ",{"$nulls":11}," "," "," "," "," "," "]
[null,"4 gr sat fat and 600 mg sodium per 3.0 oz. edible portion",{"$nulls":12}," "," ","  "," "," "," "]
[null,"1 breast,  1 thigh,  or  drumstick/wing to provide 2 oz. M/MA and 1 OEG",{"$nulls":17}," "]
[null,"Possible Allergen:  Wheat, Egg",{"$nulls":17}," "]
[40,"Chicken, Roasted 8 cut, ","Gold Kist/Pligrims 8820",null,"120/4.0z",95,150,1500,"Cs",{"v":84.48,"d":"$84.48"},{"$f":"IF(OR(ISBLANK(J239),G239=0,ISBLANK(G239)),,ROUND(J239+$K$3,2))","v":{"v":84.48,"d":"$84.48"}},{"$f":"ROUND(H239*K239,2)","v":{"v":126720,"d":"$126,720.00"}},{"$f":"ROUND(K239/F239,2)","v":{"v":0.89,"d":"$0.89"}},{"v":42.84,"d":"$42.84"},{"v":0.93,"d":"$0.9300"},44.77,{"$f":"ROUND(O239*P239,2)","v":{"v":41.64,"d":"$41.64"}},{"$f":"J239-Q239","v":{"v":42.84,"d":"$42.84"}},{"$f":"R239/F239","v":{"v":0.45094736842105265,"d":"$0.45"}},{"v":0.45094736842105265,"d":"$0.45"}]
[null,"Frozen, Fully cooked, chicken parts, 8 pc cut, marinated, Must be sealed in plastic"," ",{"$nulls":11}," "," "," "," "," "," "]
[null,"bags, 150-250 calories with no more than 4 gr sat fat and 200 mg sodium ",{"$nulls":12}," "," ","  "," "," "," "]
[null,"per svg 1 breast, 1 thigh, or 1 drumstick/wing to provide 2 oz. M/MA",{"$nulls":17},"  "]
[null,"Possible Allergens:  Soy, Milk",{"$nulls":17}," "]
[{"$nulls":8},"Page Total",null,null,{"$f":"SUMIF(L7:L241,\">0\")","v":{"v":292543.28,"d":"$292,543.28"}}]

{"sheet":"Turkey","index":3,"n_rows":73,"n_cols":20,"rows_kept":73,"merged":[[0,4,0,12],[1,4,1,12],[2,5,2,9]]}
[null,{"$f":"'Recap Sheet'!A2","v":"School Food Authority:"},null,null,{"$f":"'Recap Sheet'!A3","v":"Offeror Name:"}]
[null,{"$f":"'Recap Sheet'!B2","v":"Colleton County School District Office of Student Nutrition"},"Return to Recap Sheet",null,{"$f":"'Recap Sheet'!B3","v":{"v":0,"d":"0 "}},{"$nulls":9}," ","Commodity"]
["Item","Description","Approved Brand Name / Manuf ID # ",null,null,"Firm Fixed Fee",{"$nulls":4},{"$f":"'Recap Sheet'!B4","v":{"v":0,"d":"$0.00"}},null,null,"Processing","Commodity","Pounds of","Commodity","NOI ","Net NOI","Total Cost"]
["#",null,null,"Distributor","Vendor","Svgs","Est.","Bid ","Bid","Unit","Unit Price","Total ","Cost per","Fee for","Value Per","DF Needed","Value  Per","Net","Cost Per","Processing Fee"]
[{"$nulls":3},"Code","Pack","per unit","Bid Qty","Qty","Unit","Price","plus Fee","Price","Unit","Service","Pound","Per Case","Case","Price","Serving","For Service"]
[null,"Category: Turkey ",{"$nulls":11},"Turkey 100124"]
[1,"Turkey Breast, Deli Sliced, Frozen (1/2 oz. slices) ","Jennie O 2099",null,"64/3.0z",64,100,{"$f":"ROUND(G7*F7/F7,2)","v":100},"Cs",{"v":41.4,"d":"$41.40"},{"$f":"IF(OR(ISBLANK(J7),G7=0,ISBLANK(G7)),,ROUND(J7+$K$3,2))","v":{"v":41.4,"d":"$41.40"}},{"$f":"ROUND(H7*K7,2)","v":{"v":4140,"d":"$4,140.00"}},{"$f":"ROUND(K7/F7,2)","v":{"v":0.65,"d":"$0.65"}},{"v":23.04,"d":"$23.04"},{"v":1.0954,"d":"$1.0954"},10.71,{"$f":"ROUND(O7*P7,2)","v":{"v":11.73,"d":"$11.73"}},{"$f":"N7","v":{"v":23.04,"d":"$23.04"}},{"$f":"R7/F7","v":{"v":0.36,"d":"$0.36"}},{"$f":"N7/F7","v":{"v":0.36,"d":"$0.36"}}]
[null,"Frozen, fully cooked, Oven roasted, Round Shape 50-150 calories with  "]
[null,"not more than 2 g saturated fat and  400 mg sodium per serving,  "," ",null," "," ",null," "," "," "," "," "," "," "," "," "," "," "," "," "]
[null,"CN label portion to provide 2 oz. M/MA"]
[null,"Possible Allegens:  None Listed Gluten Free"]
[2,"Turkey Barbecue with Texas Sauce, Low Sodium","Brookwood 16250",null,"4/5#",84,0,{"$f":"ROUND(G12*F12/F12,2)","v":0},"Cs",{"v":74.8,"d":"$74.80"},{"$f":"IF(OR(ISBLANK(J12),G12=0,ISBLANK(G12)),,ROUND(J12+$K$3,2))","v":0},{"$f":"ROUND(H12*K12,2)","v":0},{"$f":"ROUND(K12/F12,2)","v":0},{"v":32,"d":"$32.00"},{"v":1.3552,"d":"$1.3552"},22,{"$f":"ROUND(O12*P12,2)","v":{"v":29.81,"d":"$29.81"}}," "," ",{"$f":"N12/F12","v":{"v":0.38095238095238093,"d":"$0.38"}}]
[null,"Frozen, fully cooked, chopped, One 3.75 oz. portion to provide"]
[null,"2 oz. M/MA, 100-200 calories and not more than 2 g saturated fat and"]
[null,"300 mg of sodium per serving"]
[]
[null,"Possible Allergens:  Soy "]
[3,"Turkey Ham, Sliced, (1/2 oz. slices)","Jennie O 2565",null,"12/1 lb",62,100,{"$f":"ROUND(G18*F18/F18,2)","v":100},"Cs",{"v":40.56,"d":"$40.56"},{"$f":"IF(OR(ISBLANK(J18),G18=0,ISBLANK(G18)),,ROUND(J18+$K$3,2))","v":{"v":40.56,"d":"$40.56"}},{"$f":"ROUND(H18*K18,2)","v":{"v":4056,"d":"$4,056.00"}},{"$f":"ROUND(K18/F18,2)","v":{"v":0.65,"d":"$0.65"}},{"v":23.64,"d":"$23.64"},{"v":1.0954,"d":"$1.0954"},13.26,{"$f":"ROUND(O18*P18,2)","v":{"v":14.53,"d":"$14.53"}},{"$f":"N18","v":{"v":23.64,"d":"$23.64"}},{"$f":"R18/F18","v":{"v":0.38129032258064516,"d":"$0.38"}},{"$f":"N18/F18","v":{"v":0.38129032258064516,"d":"$0.38"}}]
[null,"Frozen, fully cooked, No more than 10% water added 94% fat-free "," ",null," "," ",null," "," ",null," "," "," ",null," "," "," ","  "," "," "]
[null,"by weight, 50-150 calories with no more than 2 g saturated fat and "]
[null,"550 mg sodium per 2 M/MA serving May contain nitrites"," "," "," "," ",null," "," ",null," "," "," ",null," "," "," "," "," "," "]
[null,"Possible Allergens:  None Listed Gluten Free"]
[4,"Turkey, Combo Frozen","Jennie O 2095",null,"4/3/1 lbs",71,0,{"$f":"ROUND(G23*F23/F23,2)","v":0},"Cs",{"v":35.76,"d":"$35.76"},{"$f":"IF(OR(ISBLANK(J23),G23=0,ISBLANK(G23)),,ROUND(J23+$K$3,2))","v":0},{"$f":"ROUND(H23*K23,2)","v":0},{"$f":"ROUND(K23/F23,2)","v":0},{"v":23.64,"d":"$23.64"},{"v":1.0954,"d":"$1.0954"},10.53,{"$f":"ROUND(O23*P23,2)","v":{"v":11.53,"d":"$11.53"}},{"$f":"N23","v":{"v":23.64,"d":"$23.64"}},{"$f":"R23/F23","v":{"v":0.3329577464788733,"d":"$0.33"}},{"$f":"N23/F23","v":{"v":0.3329577464788733,"d":"$0.33"}}]
[null,"Frozen, fully cooked, All turkey equal parts bologna, ham, and salami.  "," ",null," "," ",null," "," ",null," "," "," ",null," "," "," ","  "," "," "]
[null,"Each flavor packed separately, 1/2 oz. slices.  May contain nitrites"," "," "," "," ",null," "," ",null," "," "," ",null," "," "," "," "," "," "]
[null,"Possible Allergens:  None Listed Gluten Free"]
[5,"Turkey, Roast Light and Dark Meat Frozen","Jennie O 3170-04",null,"4/9 lbs",209,40,{"$f":"ROUND(G27*F27/F27,2)","v":40},"Cs",{"v":134.59,"d":"$134.59"},{"$f":"IF(OR(ISBLANK(J27),G27=0,ISBLANK(G27)),,ROUND(J27+$K$3,2))","v":{"v":134.59,"d":"$134.59"}},{"$f":"ROUND(H27*K27,2)","v":{"v":5383.6,"d":"$5,383.60"}},{"$f":"ROUND(K27/F27,2)","v":{"v":0.64,"d":"$0.64"}},{"v":81.7,"d":"$81.70"},{"v":1.0954,"d":"$1.0954"},41.31,{"$f":"ROUND(O27*P27,2)","v":{"v":45.25,"d":"$45.25"}},{"$f":"N27","v":{"v":81.7,"d":"$81.70"}},{"$f":"R27/F27","v":{"v":0.39090909090909093,"d":"$0.39"}},{"$f":"N27/F27","v":{"v":0.39090909090909093,"d":"$0.39"}}]
[null,"Frozen, fully cooked, Whole muscle breast and thigh roast, Packed in"," ",null," "," ",null," "," "," "," ",null," "," "," "," "," "," "," "," "]
[null,"ovenable Mylar bags, natural skin on, 50-150 calories with no more"," "]
[null,"2 g sat fat and 480 mg sodium per 2 M/MA serving"]
[null,"Possible Allergens:  None Listed Gluten Free","Catch Weight per Pound ",{"v":3.13,"d":"$3.13"},{"$nulls":10},"Catch Weight Per Pound",null,{"v":1.9,"d":"$1.90"}]
[6,"Turkey, Roast Light and Dark Meat Frozen","Shady Brook Farms 7000274",null,"4/9#",180,0,{"$f":"ROUND(G32*F32/F32,2)","v":0},"Cs",{"v":124.56,"d":"$124.56"},{"$f":"IF(OR(ISBLANK(J32),G32=0,ISBLANK(G32)),,ROUND(J32+$K$3,2))","v":0},{"$f":"ROUND(H32*K32,2)","v":0},{"$f":"ROUND(K32/F32,2)","v":0},{"v":80.65,"d":"$80.65"},{"v":1.0954,"d":"$1.0954"},20.18,{"$f":"ROUND(O32*P32,2)","v":{"v":22.11,"d":"$22.11"}},{"$f":"N32","v":{"v":80.65,"d":"$80.65"}},{"$f":"R32/F32","v":{"v":0.4480555555555556,"d":"$0.45"}},{"$f":"N32/F32","v":{"v":0.4480555555555556,"d":"$0.45"}}]
[null,"Frozen, fully cooked, Whole muscle breast and thigh roast, Packed in",null,null," "," ",null," "," "," "," "," "," "," "," "," "," "," "," "," "]
[null,"ovenable Mylar bags, natural skin on, 50-150 calories with no more"]
[null,"2 g sat fat and 480 mg sodium per 2 M/MA serving"]
[null,"Possible Allergens:  None Listed Gluten Free","Catch Weight per Pound ",{"v":3.29,"d":"$3.29"},{"$nulls":10},"Catch Weight Per Pound",null,{"v":2.13,"d":"$2.13"}]
[7,"Turkey Sausage Patty ","Jimmy Dean 14106 CN",null,"106/1.50z",106,100,{"$f":"ROUND(G37*F37/F37,2)","v":100},"Cs",{"v":18.5,"d":"$18.50"},{"$f":"IF(OR(ISBLANK(J37),G37=0,ISBLANK(G37)),,ROUND(J37+$K$3,2))","v":{"v":18.5,"d":"$18.50"}},{"$f":"ROUND(H37*K37,2)","v":{"v":1850,"d":"$1,850.00"}},{"$f":"ROUND(K37/F37,2)","v":{"v":0.17,"d":"$0.17"}},13.23,13.23,13.23,{"$f":"ROUND(O37*P37,2)","v":{"v":175.03,"d":"$175.03"}},{"$f":"K37-Q37","v":{"v":-156.53,"d":"$(156.53)"}},{"$f":"R37/F37","v":{"v":-1.4766981132075472,"d":"$(1.48)"}},{"$f":"S37/G37","v":{"v":-0.014766981132075472,"d":"$(0.01)"}}]
[null,"Frozen, Fully cooked, No VPP, 50-100 cals per svg no more than",{"$nulls":12}," "," "," ","  "," "," "]
[null,"3 g sat fat and 320 mg sodium .  CN Label  to provide 1 M/MA "]
[null," "]
[null,"Possible Allergens:  None Listed "]
[8,"Turkey Sausage Patty Lower Sodium","Jennie O 6132",null,"160/1.03z",160,0,{"$f":"ROUND(G42*F42/F42,2)","v":0},"Cs",{"v":36.49,"d":"$36.49"},{"$f":"IF(OR(ISBLANK(J42),G42=0,ISBLANK(G42)),,ROUND(J42+$K$3,2))","v":0},{"$f":"ROUND(H42*K42,2)","v":0},{"$f":"ROUND(K42/F42,2)","v":0},{"v":23.58,"d":"$23.58"},{"v":1.0954,"d":"$1.0954"},9.97,{"$f":"ROUND(O42*P42,2)","v":{"v":10.92,"d":"$10.92"}},{"$f":"N42","v":{"v":23.58,"d":"$23.58"}},{"$f":"R42/F42","v":{"v":0.14737499999999998,"d":"$0.15"}},{"$f":"N42/F42","v":{"v":0.14737499999999998,"d":"$0.15"}}]
[null,"Frozen, Fully cooked, No VPP, 50-100 cals per svg no more than 2 g"]
[null,"sat fat and 150 mg sodium per 1 M/MA serving Must provide 1 M/MA"]
[null," "]
[null,"Possible Allergens:  None Listed Gluten Free"]
[9,"Turkey Taco Filling","Jennie O 2856-28",null,"4/7 lbs",147,0,{"$f":"ROUND(G47*F47/F47,2)","v":0},"Cs",{"v":72.24,"d":"$72.24"},{"$f":"IF(OR(ISBLANK(J47),G47=0,ISBLANK(G47)),,ROUND(J47+$K$3,2))","v":0},{"$f":"ROUND(H47*K47,2)","v":0},{"$f":"ROUND(K47/F47,2)","v":0},{"v":39.76,"d":"$39.76"},{"v":1.0954,"d":"$1.0954"},29.26,{"$f":"ROUND(O47*P47,2)","v":{"v":32.05,"d":"$32.05"}},{"$f":"N47","v":{"v":39.76,"d":"$39.76"}},{"$f":"R47/F47","v":{"v":0.2704761904761905,"d":"$0.27"}},{"$f":"N47/F47","v":{"v":0.2704761904761905,"d":"$0.27"}}]
[null,"Frozen, fully cooked, dark/white meat, pre-seasoned, 100-200 calories with no more than "," ",{"$nulls":11}," "," "," ","  "," "," "]
[null,"with no more than 2 g sat fat and 400 mg sodium per 2 M/MA serving"]
[null,"Boil or steam in bag, CN labeled to provide 2 M/MA"," "]
[null,"Possible Allergens:  None Listed "]
[10,"Turkey Bacon","(18-19) Jennie O 2711-06",null,"120/1.0z",120,25,{"$f":"ROUND(G52*F52/F52,2)","v":25},"Cs",{"v":82.35,"d":"$82.35"},{"$f":"IF(OR(ISBLANK(J52),G52=0,ISBLANK(G52)),,ROUND(J52+$K$3,2))","v":{"v":82.35,"d":"$82.35"}},{"$f":"ROUND(H52*K52,2)","v":{"v":2058.75,"d":"$2,058.75"}},{"$f":"ROUND(K52/F52,2)","v":{"v":0.69,"d":"$0.69"}},{"v":73.65,"d":"$73.65"},{"v":1.0954,"d":"$1.0954"},6.64,{"$f":"ROUND(O52*P52,2)","v":{"v":7.27,"d":"$7.27"}},{"$f":"N52","v":{"v":73.65,"d":"$73.65"}},{"$f":"R52/F52","v":{"v":0.61375,"d":"$0.61"}},{"$f":"N52/F52","v":{"v":0.61375,"d":"$0.61"}}]
[null,"Frozen, pre-cooked and pre-crisped, One slice contains .179 of cooked "," ",{"$nulls":11}," "," "," ","  "," "," "]
[null,"M/MA, Contains both white and dark meat"," "]
[null,"Possible Allergens:  None Listed "]
[11,"Turkey Sliced All Natural Turkey Breast","Jennie O 2318-18",null,"96/3.0z",96,0,{"$f":"ROUND(G56*F56/F56,2)","v":0},"Cs",{"v":78.3,"d":"$78.30"},{"$f":"IF(OR(ISBLANK(J56),G56=0,ISBLANK(G56)),,ROUND(J56+$K$3,2))","v":0},{"$f":"ROUND(H56*K56,2)","v":0},{"$f":"ROUND(K56/F56,2)","v":0},{"v":48.24,"d":"$48.24"},{"v":1.0954,"d":"$1.0954"},18.21,{"$f":"ROUND(O56*P56,2)","v":{"v":19.95,"d":"$19.95"}},{"$f":"N56","v":{"v":48.24,"d":"$48.24"}},{"$f":"R56/F56","v":{"v":0.5025000000000001,"d":"$0.50"}},{"$f":"N56/F56","v":{"v":0.5025000000000001,"d":"$0.50"}}]
[null,"Frozen, fully cooked, oven roasted, round shaped, 50-150 calories  "," ",{"$nulls":11}," "," "," ","  "," "," "]
[null,"with no more than 1 g sat fat and 4500 mg of sodium per serving. CN "]
[null,"labeled with portion to provide 2 M/MA "," "]
[null,"Possible Allergens:  None Listed, Gluten Free "]
[12,"Turkey, All Nat Smoke House Turkey Breast Snack Stick","Jennie O 207130",null,"400/1.2z",400,0,{"$f":"ROUND(G61*F61/F61,2)","v":0},"Cs",{"v":221.1,"d":"$221.10"},{"$f":"IF(OR(ISBLANK(J61),G61=0,ISBLANK(G61)),,ROUND(J61+$K$3,2))","v":0},{"$f":"ROUND(H61*K61,2)","v":0},{"$f":"ROUND(K61/F61,2)","v":0},{"v":183.6,"d":"$183.60"},{"v":1.0954,"d":"$1.0954"},31.76,{"$f":"ROUND(O61*P61,2)","v":{"v":34.79,"d":"$34.79"}},{"$f":"N61","v":{"v":183.6,"d":"$183.60"}},{"$f":"R61/F61","v":{"v":0.45899999999999996,"d":"$0.46"}},{"$f":"N61/F61","v":{"v":0.45899999999999996,"d":"$0.46"}}]
[null,"Frozen, Fully cooked, wach 1.2 oz. sticks provides 1 oz. M/MA 10-100"," ",{"$nulls":11}," "," "," ","  "," "," "]
[null,"calories with no more than 1 g sat fat  and 8 g of protein"," "]
[null,"Possible Allergens:  None Listed, Gluten Free "]
[13,"Turkey Meatballs","Jennie O 639930",null,"184/.85z",184,0,{"$f":"ROUND(G65*F65/F65,2)","v":0},"Cs",{"v":105.9,"d":"$105.90"},{"$f":"IF(OR(ISBLANK(J65),G65=0,ISBLANK(G65)),,ROUND(J65+$K$3,2))","v":0},{"$f":"ROUND(H65*K65,2)","v":0},{"$f":"ROUND(K65/F65,2)","v":0},{"v":72.9,"d":"$72.90"},{"v":1.0954,"d":"$1.0954"},29.28,{"$f":"ROUND(O65*P65,2)","v":{"v":32.07,"d":"$32.07"}},{"$f":"N65","v":{"v":72.9,"d":"$72.90"}},{"$f":"R65/F65","v":{"v":0.39619565217391306,"d":"$0.40"}},{"$f":"N65/F65","v":{"v":0.39619565217391306,"d":"$0.40"}}]
[null,"Fully cooked, IQF, Four meatballs provides 2 M/MA Utlizes both white &"," ",{"$nulls":11}," "," "," ","  "," "," "]
[null,"dark meat, 100-150 cals with no more than 1 g sat fat & 400 mg sodium"," "]
[null,"Possible Allergens:  Wheat, Soy and Milk"]
[14,"Turkey Burger","Jennie O 616630",null,"175/2.75z",175,0,{"$f":"ROUND(G69*F69/F69,2)","v":0},"Cs",{"v":115.5,"d":"$115.50"},{"$f":"IF(OR(ISBLANK(J69),G69=0,ISBLANK(G69)),,ROUND(J69+$K$3,2))","v":0},{"$f":"ROUND(H69*K69,2)","v":0},{"$f":"ROUND(K69/F69,2)","v":0},{"v":83.4,"d":"$83.40"},{"v":1.0954,"d":"$1.0954"},29.07,{"$f":"ROUND(O69*P69,2)","v":{"v":31.84,"d":"$31.84"}},{"$f":"N69","v":{"v":83.4,"d":"$83.40"}},{"$f":"R69/F69","v":{"v":0.4765714285714286,"d":"$0.48"}},{"$f":"N69/F69","v":{"v":0.4765714285714286,"d":"$0.48"}}]
[null,"Frozen, Fully cooked, on patty provides 2.0 oz. M/MA 150-200 calories "," ",{"$nulls":11}," "," "," ","  "," "," "]
[null,"with no more than 2.5 g sat fat and 450 mg of sodium per serving"," "]
[null,"Possible Allergens:  None Listed"]
[{"$nulls":8},"Page Total",null,null,{"$f":"SUMIF(L7:L72,\">0\")","v":{"v":17488.35,"d":"$17,488.35"}}]

{"sheet":"Pork","index":4,"n_rows":52,"n_cols":20,"rows_kept":52,"merged":[[0,4,0,12],[1,4,1,12],[2,5,2,9]]}
[null,{"$f":"'Recap Sheet'!A2","v":"School Food Authority:"}]
[null,{"$f":"'Recap Sheet'!B2","v":"Colleton County School District Office of Student Nutrition"},"Return to Recap Sheet",null,{"$f":"'Recap Sheet'!B3","v":{"v":0,"d":"0 "}},{"$nulls":9}," ","Commodity"]
["Item","Description","Approved Brand Name / Manuf ID # ",null,null,"Firm Fixed Fee",{"$nulls":4},{"$f":"'Recap Sheet'!B4","v":{"v":0,"d":"$0.00"}},null,null,"Processing ","Commodity","Pounds of",null,null,"NOI ","Net "]
["#",null,null,"Distributor","Vendor","Svgs","Est.","Bid ","Bid","Unit","Unit Price","Total ","Cost per","Fee for","Value Per","DF Needed","Commodity","NOI ","Price/","Cost Per"]
[{"$nulls":3},"Code","Pack","per unit","Bid Qty","Qty","Unit","Price","plus Fee","Price","Unit","Service","Pound","Per Case","Value ","Price","Serving","Serving"]
[null,"Pork Products",{"$nulls":12},"Pork 1000193"]
[1,"Pork Barbecue, Tomato Sauce","Chandler 16-550 CN ",null,"4/5 lbs",92,0,{"$f":"ROUND(G7*F7/F7,2)","v":0},"Cs",{"v":51.8,"d":"$51.80"},{"$f":"IF(OR(ISBLANK(J7),G7=0,ISBLANK(G7)),,ROUND(J7+$K$3,2))","v":0},{"$f":"ROUND(H7*K7,2)","v":0},{"$f":"ROUND(K7/F7,2)","v":0}," ",{"v":1.3372,"d":"$1.3372"},10.71," ",{"$f":"K7-Q7","v":{"$error":"#VALUE!"}},{"$f":"R7/F7","v":{"$error":"#VALUE!"}},{"$f":"N7/F7","v":{"$error":"#VALUE!"}}]
[null,"Frozen, fully cooked.  Chopped. Products shall contain no more than ","Brookwood 13017",null,"4/5 lbs",98,null,{"$f":"ROUND(G7*F7/F8,2)","v":0},"Cs",{"$nulls":4}," ",{"v":1.3372,"d":"$1.3372"},10.71," ",{"$f":"K8-Q8","v":{"$error":"#VALUE!"}},{"$f":"R8/F8","v":{"$error":"#VALUE!"}},{"$f":"N8/F8","v":{"$error":"#VALUE!"}}]
[null,"5% textured vegetable protein.  USDA inspected pork.  ","Castleberry 7046CN",null,"4/5 lbs",103,null,{"$f":"ROUND(G7*F7/F9,2)","v":0},"Cs",{"$nulls":4}," ",{"v":1.3372,"d":"$1.3372"},10.71," ",{"$f":"K9-Q9","v":{"$error":"#VALUE!"}},{"$f":"R9/F9","v":{"$error":"#VALUE!"}},{"$error":"#VALUE!"}]
[null,"Possible Allergens:  Soy, Wheat"," ",null," "," ",null," "," "," "," "," "," ",null," "," "," "," "," ",{"$error":"#VALUE!"}]
[2,"Pork Barbecue, Lower Sodium Texas Western Sauce","Brookwood 12013 ",null,"2/5 lbs",40,75,{"$f":"ROUND($G$11*$F$11/F11,2)","v":75},"Cs",{"v":35.4,"d":"$35.40"},{"$f":"IF(OR(ISBLANK(J11),G11=0,ISBLANK(G11)),,ROUND(J11+$K$3,2))","v":{"v":35.4,"d":"$35.40"}},{"v":2655,"d":"$2,655.00"},{"v":0.89,"d":"$0.89"},0,{"v":1.0813,"d":"$1.0813"},22.8,{"$f":"ROUND(O11*P11,2)","v":{"v":24.65,"d":"$24.65"}}," "," ",0]
[null,"Frozen, fully cooked, 150-300 calories with no more than 7g sat fat and","Brookwood Comm # 12307",null,"4/5 lbs",80,null," "," ",null," "," "," ",{"v":31,"d":"$31.00"},{"v":1.0813,"d":"$1.0813"},22.8,{"$f":"ROUND(O12*P12,2)","v":{"v":24.65,"d":"$24.65"}}," "," ",{"$f":"N12/F12","v":{"v":0.3875,"d":"$0.39"}}]
[null,"275 mg sodium per serving.  Must provide 2 oz. M/MA 0 trans fat"," "," "," ","  ",null," "," ",null," "," "," ",null," "," "," "," "," "," "]
[null,"Possible Allergens:  Soy"," ",null," "," ",null," "," ",null," "," "," ",null," "," "," "," "," "," "]
[3,"Pork, Barbecue, Vinegar Marinate/Semi Dry","Brookwood 12105 ",null,"2/5 lbs",64,0,{"$f":"ROUND($G$15*$F$15/F15,2)","v":0},"Cs",{"v":39.1,"d":"$39.10"},{"$f":"IF(OR(ISBLANK(J15),G15=0,ISBLANK(G15)),,ROUND(J15+$K$3,2))","v":0},{"$f":"ROUND(H15*K15,2)","v":0},{"$f":"ROUND(K15/F15,2)","v":0},0,{"v":1.0813,"d":"$1.0813"},64,{"$f":"ROUND(O15*P15,2)","v":{"v":69.2,"d":"$69.20"}},0,{"$f":"R15/F15","v":0},0]
[null,"Frozen, fully cooked 200-300  calories with no more than 7g sat fat and ","Brookwood Comm # 12302",null,"8/5 lbs",256,null," "," ",null," "," "," ",{"v":76.4,"d":"$76.40"},{"v":1.0813,"d":"$1.0813"},64,{"$f":"ROUND(O16*P16,2)","v":{"v":69.2,"d":"$69.20"}}," "," ",{"v":0.2984375,"d":"$0.30"}]
[null,"275 mg of sodium per serving.  Must provide 2 oz. M/MA 0 trans fat"," "," "," ","  ",null," "," ",null," "," "," ",null," "," "," "," "," "," "]
[null,"Possible Allergens:  Soy",{"$nulls":12}," "," "," "," "," "," "]
[4,"Pork Chop Pattie, Breaded, WG","Advanced Pierre 68019",null,"100/3.10 z",100,50,2500,"Cs",{"v":35.37,"d":"$35.37"},{"$f":"IF(OR(ISBLANK(J19),G19=0,ISBLANK(G19)),,ROUND(J19+$K$3,2))","v":{"v":35.37,"d":"$35.37"}},{"$f":"ROUND(H19*K19,2)","v":{"v":88425,"d":"$88,425.00"}},{"$f":"ROUND(K19/F19,2)","v":{"v":0.35,"d":"$0.35"}},0,{"v":1.0813,"d":"$1.0813"},9.51,{"$f":"ROUND(O19*P19,2)","v":{"v":10.28,"d":"$10.28"}}," "," ",{"$f":"N19/F19","v":0}]
[null,"Frozen, fully cooked, 250-350 calories with no more than 6 g sat fat","JTM 5694CE Com #: CP5694",null,"138/3.35z",138,null,2500,"Cs"," "," "," ","  ",{"v":32.48,"d":"$32.48"},{"v":1.0813,"d":"$1.0813"},20.59,{"v":22.26,"d":"$22.26"}," "," ",{"v":0.23536231884057968,"d":"$0.24"}]
[null,"and 500 mg of sodium per serving. CN labeled for one portion to "]
[null,"provide min. 2 M/MA and .5 OEG"]
[null,"Possible Allergens:  Egg, Milk, Soy and Wheat"]
[5,"Pork Rib Pattie, Barbecue Flavored","Advanced Pierre 44-531-0 Com #: 3787",null,"100/2.50z",100,25,{"$f":"ROUND(G24*F24/F24,2)","v":25},"Cs",{"v":27.31,"d":"$27.31"},{"$f":"IF(OR(ISBLANK(J24),G24=0,ISBLANK(G24)),,ROUND(J24+$K$3,2))","v":{"v":27.31,"d":"$27.31"}},{"$f":"ROUND(K24*H24,2)","v":{"v":682.75,"d":"$682.75"}},{"$f":"ROUND(K24/F24,2)","v":{"v":0.27,"d":"$0.27"}},0,{"v":1.0813,"d":"$1.0813"},14.89,{"$f":"ROUND(O24*P24,2)","v":{"v":16.1,"d":"$16.10"}}," "," ",{"$f":"N24/F24","v":0}]
[null,"Frozen, fully cooked, 100-200 calories with no more  than 4 g sat fat","Maid Rite 75156-05324 Com #: 75156-95324",null,"208/2.40z",208,null,{"$f":"ROUND(G24*F24/F25,2)","v":12.02},"Cs",{"$nulls":4},0,{"v":1.0813,"d":"$1.0813"},26.963,{"v":29.16,"d":"$29.16"}," "," ",0]
[null,"and 400 mg sodium per serving CN Labeled for one portion  to provide","Don Lee Farms CN582253 Com #: CNQ582253P",null,"216/2.25z",216,null,{"$f":"ROUND(G24*F24/F26,2)","v":11.57},"Cs",{"$nulls":4},{"v":23.39,"d":"$23.39"},{"v":1.0813,"d":"$1.0813"},38.06,{"v":41.15,"d":"$41.15"}," "," ",{"v":0.10828703703703704,"d":"$0.11"}]
[null,"2 M/MA "]
[null,"Possible Allergens:  Milk, Soy and Wheat"]
[6,"Ham, Buffet","Farmland 70247190454",null,"2/9-10 lb",20,0,{"$f":"ROUND(G29*F29/F29,2)","v":0},"Cs",{"$nulls":5},{"v":0,"d":"$0.0000"},0,{"$f":"ROUND(O29*P29,2)","v":{"v":0,"d":"$0.00"}},{"$f":"K29-Q29","v":0},{"$f":"R29/F29","v":0},0]
[null,"Fully cooked, water added, boneless, smoked","Farmland 190450",null,"2/13 lb",20,null,{"$f":"ROUND(G29*F29/F30,2)","v":0},"Cs",{"v":35.8,"d":"$35.80"},{"$f":"IF(OR(ISBLANK(J30),G29=0,ISBLANK(G29)),,ROUND(J30+$K$3,2))","v":0},{"$f":"ROUND(H30*K30,2)","v":0},{"$f":"ROUND(K30/F30,2)","v":0},null," "," "," "," "," ",0]
[null,null,"John Morrell 70100-04799",null,"2/10 lb",20,null,{"$f":"ROUND(G29*F29/F31,2)","v":0},"Cs",{"$nulls":5}," "," "," "," "," ",0]
[null,null,"Carolina Pride 2328",null,"2/10 lb",18,null,{"$f":"ROUND(G29*F29/F32,2)","v":0},"Cs",{"$nulls":5}," "," "," "," "," ",0]
[null,"Possible Allergens: None Listed",{"$nulls":12}," "," "," "," "," "," "]
[7,"Ham, Pre-Sliced","Distributor Choice",null,"6/2#",12,0,{"$f":"ROUND($G$34*$F$34/F34,2)","v":0},"Cs",{"$nulls":4}," "]
[null,"Water added, .5 oz. slices, 2.0 oz. serving provides .75 oz. M/MA f","Fillable txt box ",{"$nulls":4},{"$f":"ROUND(G34*F34/F35,2)","v":{"$error":"#DIV/0!"}},"Cs",0,{"$f":"IF(OR(ISBLANK(G34),G34=0,ISBLANK(F35)),,ROUND(J35+$K$3,2))","v":0},{"$f":"ROUND(H35*K35,2)","v":{"$error":"#DIV/0!"}},{"$f":"ROUND(K35/F35,2)","v":{"$error":"#DIV/0!"}}]
[null,"Possible Allergens:  None",{"$nulls":12}," "," "," "," "," "," "]
[8,"Sausage Link with APP","Briar Street Market 19331",null,"137/1.16z",137,100,{"$f":"ROUND(G37*F37/F37,2)","v":100},"Cs",{"v":20.95,"d":"$20.95"},{"$f":"IF(OR(ISBLANK(J37),G37=0,ISBLANK(G37)),,ROUND(J37+$K$3,2))","v":{"v":20.95,"d":"$20.95"}},{"$f":"ROUND(H37*K37,2)","v":{"v":2095,"d":"$2,095.00"}},{"$f":"ROUND(K37/F37,2)","v":{"v":0.15,"d":"$0.15"}}," "," "," "," "," "," ",{"$error":"#VALUE!"}]
[null,"Fully cooked, 1.16 ounce to yield 1 M/MA ",{"$nulls":12}," "," "," "," "," "," "]
[null,"Possible Allergens:  Soy"," ",{"$nulls":3},0,{"$nulls":7}," "," "," "," "," "," "]
[9,"Sausage Patty, No APP","Swaggerty 60020",null,"160/1.0z",80,0,{"$f":"ROUND($G$40*$F$40/F40,2)","v":0},"Cs"," ","  "," "," "," "," "," "," "," "," ",{"$error":"#VALUE!"}]
[null,"Frozen, fully cooked, No alternate protein product must provide 1 oz. M/MA","Ember Farms 25468111007",null,"10 lb",79,null,{"$f":"ROUND($G$40*$F$40/F41,2)","v":0},"Cs",{"$nulls":4}," "," "," "," "," "," ",{"$error":"#VALUE!"}]
[null,"Possible Allergens:  None Listed "," JTM 5649CE Com#: CP5649",null,"361/1.33z",361,null,{"$f":"ROUND($G$40*$F$40/F42,2)","v":0},"Cs",{"v":62.26,"d":"$62.26"},{"$f":"IF(OR(ISBLANK(J42),G40=0,ISBLANK(G40)),,ROUND(J42+$K$3,2))","v":0},{"$f":"ROUND(H42*K42,2)","v":0},{"$f":"ROUND(K42/F42,2)","v":0},{"v":29.88,"d":"$29.88"},{"v":1.0813,"d":"$1.0813"},26.41,{"$f":"ROUND(O42*P42,2)","v":{"v":28.56,"d":"$28.56"}}," "," ",{"v":0.08277008310249308,"d":"$0.08"}]
[10,"Sausage Patty with APP","Advanced Pierre 3850 Com #: 3750",null,"250/1.20z",250,0,{"$f":"ROUND(G43*F43/F43,2)","v":0},"Cs",{"$nulls":4},0,{"v":1.0813,"d":"$1.0813"},22.45,{"$f":"ROUND(O43*P43,2)","v":{"v":24.28,"d":"$24.28"}}," "," ",{"$f":"N43/F43","v":0}]
[null,"Frozen, fully cooked, 50-150 calories with no more than 4 g saturated ","Briar Street Market 29667CN",null,"153/1.25z",153,null,{"$f":"ROUND($G$43*$F$43/F44,2)","v":0},"Cs",{"$nulls":4}," "," "," "," "," "," ",{"$error":"#VALUE!"}]
[null,"fat and 275 mg sodium per serving. CN labeled to provide 1 M/MA ","Maid Rite 75156-07112 Com #: 75156-97112",null,"400/1.20z",400,null,{"$f":"ROUND($G$43*$F$43/F45,2)","v":0},"Cs",{"$nulls":4},0,{"v":1.0813,"d":"$1.0813"},34.841,{"$f":"ROUND(O45*P45,2)","v":{"v":37.67,"d":"$37.67"}}," "," ",{"$f":"N45/F45","v":0}]
[null,"per serving. ","Don Lee Farms CN791203L Com #: CNQ791203P",null,"400/1.20z",400,null,{"$f":"ROUND($G$43*$F$43/F46,2)","v":0},"Cs",{"$nulls":4},{"v":21.3,"d":"$21.30"},{"v":1.0813,"d":"$1.0813"},40,{"$f":"ROUND(O46*P46,2)","v":{"v":43.25,"d":"$43.25"}}," "," ",{"v":0.05325,"d":"$0.05"}]
[null,null,"Tennesee Pride 342CN",null,"128/1.50z",128,null,{"$f":"ROUND($G$43*$F$43/F47,2)","v":0},"Cs",{"$nulls":4}," "," "," "," "," "," ",{"$f":"N47/F47","v":{"$error":"#VALUE!"}}]
[null,"Possible Allergens:  Soy","Swaggerty 60125    ",null,"256/1.25z",256,null,{"$f":"ROUND($G$43*$F$43/F48,2)","v":0},"Cs",{"v":31,"d":"$31.00"},{"$f":"IF(OR(ISBLANK(J48),G43=0,ISBLANK(G43)),,ROUND(J48+$K$3,2))","v":0},{"$f":"ROUND(K48*H48,2)","v":0},{"$f":"ROUND(K48/F48,2)","v":0}," "," "," "," "," "," ",{"$error":"#VALUE!"}]
[11,"Sausage, Smoked","Bryan 23258 ",null,"10Lb",80,75,{"$f":"ROUND(G49*F49/F49,2)","v":75},"Cs",{"$nulls":4}," "," "," "," "," "," ",{"$error":"#VALUE!"}]
[null,"Made with pork and beef ","Swaggerty 21057",null,"15Lb",120,null,{"$f":"ROUND($G$49*$F$49/F50,2)","v":50},"Cs",{"v":25,"d":"$25.00"},{"$f":"IF(OR(ISBLANK(J50),G49=0,ISBLANK(G49)),,ROUND(J50+$K$3,2))","v":{"v":25,"d":"$25.00"}},{"v":1250,"d":"$1,250.00"},{"v":0.21,"d":"$0.21"}," "," "," "," "," "," ",{"$error":"#VALUE!"}]
[]
[{"$nulls":8},"Page Total",null,null,{"$f":"SUMIF(L7:L50,\">0\")","v":{"v":95107.75,"d":"$95,107.75"}}]

{"sheet":"Fish","index":5,"n_rows":44,"n_cols":20,"rows_kept":44,"merged":[[1,4,1,12],[2,5,2,9]]}
[null,{"$f":"'Recap Sheet'!A2","v":"School Food Authority:"},null,null,{"$f":"'Recap Sheet'!A3","v":"Offeror Name:"}]
[null,{"$f":"'Recap Sheet'!B2","v":"Colleton County School District Office of Student Nutrition"},"Return to Recap Sheet",null,{"$f":"'Recap Sheet'!B3","v":{"v":0,"d":"0 "}},{"$nulls":9}," ","Commodity"]
["Item","Description","Approved Brand Name / Manuf ID # ",null,null,"Firm Fixed Fee",{"$nulls":4},{"$f":"'Recap Sheet'!B4","v":{"v":0,"d":"$0.00"}},null,null,"Processing","Commodity","Pounds of",null,"Net","Net NOI ","Total Cost"]
["#",null,null,"Distributor","Vendor","Svgs","Est.","Bid ","Bid","Unit","Unit Price","Total ","Cost per","Fee for","Value Per","DF Needed","Commodity","NOI ","Cost Per","Processing Fee "]
[{"$nulls":3},"Code","Pack","per unit","Bid Qty","Qty","Unit","Price","plus Fee","Price","Unit","Service","Pound","Per Case","Value ","Price","Serving","Per Serving"]
[null,"Fish Products",{"$nulls":12},"Fish 110601"]
[1,"Fish Portion, Pollock, WG             ","Trident Seafood 418302",null,"44/3.64z",44,0,{"$f":"ROUND($G$7*$F$7/F7,2)","v":0},"Cs",{"$nulls":4},0,{"v":1.4888,"d":"$1.4888"},6.99,{"$f":"ROUND(O7*P7,2)","v":{"v":10.41,"d":"$10.41"}},0,{"$f":"R7/F7","v":0},{"$f":"N7/F7","v":0}]
[null,"Frozen, min 71% Alaskan Pollock, WGR breading, precooked, Grade A or","High Liner Foods 1089300CN",null,"80/3.60z",80,null,{"$f":"ROUND($G$7*$F$7/F8,2)","v":0},"Cs",{"v":39.16,"d":"$39.16"},{"$f":"IF(OR(ISBLANK(J8),G7=0,ISBLANK(G7)),,ROUND(J8+$K$3,2))","v":0},{"$f":"ROUND(H8*K8,2)","v":0},{"$f":"ROUND(K8/F8,2)","v":0},{"v":19.98,"d":"$19.98"},{"v":1.4888,"d":"$1.4888"},12.84,{"v":19.12,"d":"$19.12"},{"$f":"J8-Q8","v":{"v":20.039999999999996,"d":"$20.04"}},{"v":0.25049999999999994,"d":"$0.25"},{"v":0.24975,"d":"$0.25"}]
[null,"PUFI approved, 150-250 calories with no more than 2 g saturated fat and "," ",null," "," ",null," "," "," "," "," "," "," "," "," "," "," "," "," "]
[null,"400 mg per serving, CN labeled to provide min. 2 M/MA and 1 OEG"," ",null," "," ",null," "," "," "," "," "," "," "," "," "," "," "," "," "]
[null,"Possible Allergens:  Fish, Wheat, Soy",{"$nulls":17}," "]
[2,"Fish Portion, Pollock, Wedge, Potato Breading WG","High Liner - Viking 06533C",null,"46/3.60z",46,150,{"$f":"ROUND(G12*F12/F12,2)","v":150},"Cs",{"v":25.01,"d":"$25.01"},{"$f":"IF(OR(ISBLANK(J12),G12=0,ISBLANK(G12)),,ROUND(J12+$K$3,2))","v":{"v":25.01,"d":"$25.01"}},{"$f":"ROUND(H12*K12,2)","v":{"v":3751.5,"d":"$3,751.50"}},{"$f":"ROUND(K12/F12,2)","v":{"v":0.54,"d":"$0.54"}},{"v":13.99,"d":"$13.99"},{"v":1.4888,"d":"$1.4888"},7.4,{"$f":"ROUND(O12*P12,2)","v":{"v":11.02,"d":"$11.02"}},{"$f":"J12-Q12","v":{"v":13.990000000000002,"d":"$13.99"}},{"$f":"R12/F12","v":{"v":0.30413043478260876,"d":"$0.30"}},{"$f":"N12/F12","v":{"v":0.3041304347826087,"d":"$0.30"}}]
[null,"Frozen, min 71% Alaskan Pollock, WGR breading, precooked, Grade A or","Trident Seafood 422072",null,"44/3.60z",44,null,{"$f":"ROUND(G12*F12/F13,2)","v":156.82},"Cs",{"$nulls":4},0,{"v":1.4888,"d":"$1.4888"},6.99,{"v":10.41,"d":"$10.41"},0,0,0]
[null,"PUFI approved, 150-250 calories with no more than 2 g saturated fat and "]
[null,"300 mg per serving, CN labeled to provide min. 2 M/MA and .5 OEG"]
[null,"Possible Allergens:  Fish, Wheat, Egg, Soy and Milk",{"$nulls":17}," "]
[3,"Fish Nuggets, Natural Cod                                    ","High Liner/Viking 51067CN",null,"160/1.0z",160,0,{"$f":"ROUND(G17*F17/F17,2)","v":0},"Cs",{"v":22.6,"d":"$22.60"},{"$f":"IF(OR(ISBLANK(J17),G17=0,ISBLANK(G17)),,ROUND(J17+$K$3,2))","v":0},0,0,null," "," "," "," "," ",{"$f":"N17/F17","v":0}]
[null,"Natural Cod, chunks pre-breaded, oven ready.   PUFI approved.",{"$nulls":12}," "," "," "," "," "," "]
[null,"One serving will provide 2 oz meat/meat alternate and 1z OEG "]
[null,"Possible Allergens:  Fish, Wheat, Egg  ",{"$nulls":11}," "," "," "," "," ","  "," "]
[4,"Fish Sticks, Pollock             ","High Liner/APS 26240CN",null,"160/1.0z",40,0,{"$f":"ROUND(G21*F21/F21,2)","v":0},"Cs",{"v":21.1,"d":"$21.10"},{"$f":"IF(OR(ISBLANK(J21),G21=0,ISBLANK(G21)),,ROUND(J21+$K$3,2))","v":0},{"$f":"ROUND(H21*K21,2)","v":0},{"$f":"ROUND(K21/F21,2)","v":0},null," "," "," "," "," ",{"$f":"N21/F21","v":0}]
[null,"Frozen, min. 64%  Alaskan Pollock, breaded, oven ready, Grade A or PUFI  ","Trident Seafood 427203",null,"160/1.0z",40,null,{"$f":"ROUND(G21*F21/F22,2)","v":0},"Cs",{"$nulls":4},{"v":14.54,"d":"$14.54"},{"v":1.4888,"d":"$1.4888"},6.42,{"$f":"ROUND(O22*P22,2)","v":{"v":9.56,"d":"$9.56"}},{"$f":"N22","v":{"v":14.54,"d":"$14.54"}},{"$f":"R22/F22","v":{"v":0.3635,"d":"$0.36"}},{"v":0.3635,"d":"$0.36"}]
[null,"approved, 200-300 claories calories with no more than 2 g sat fat and ","Slade Gorton 25152",null,"160/1.0z",40,null,{"$f":"ROUND($G$21*$F$21/F23,2)","v":0},"Cs",{"$nulls":5}," "," "," "," "," ",{"$f":"N23/F23","v":0}]
[null,"350 mg sodium per serving.  ",{"$nulls":17}," "]
[null,"Possible Allergens: Fish, Wheat, Soy",{"$nulls":17}," "]
[5,"Fish Stick, Nacho Breaded, WG","High Liner Foods 38118",null,"320/1.0z",80,50,{"$f":"ROUND(G26*F26/F26,2)","v":50},"Cs",{"v":41.05,"d":"$41.05"},{"$f":"IF(OR(ISBLANK(J26),G26=0,ISBLANK(G26)),,ROUND(J26+$K$3,2))","v":{"v":41.05,"d":"$41.05"}},{"$f":"ROUND(H26*K26,2)","v":{"v":2052.5,"d":"$2,052.50"}},{"$f":"ROUND(K26/F26,2)","v":{"v":0.51,"d":"$0.51"}},{"v":21.7,"d":"$21.70"},{"v":1.4888,"d":"$1.4888"},13,{"$f":"ROUND(O26*P26,2)","v":{"v":19.35,"d":"$19.35"}},{"$f":"J26-Q26","v":{"v":21.699999999999996,"d":"$21.70"}},{"$f":"R26/F26","v":{"v":0.27124999999999994,"d":"$0.27"}},{"$f":"N26/F26","v":{"v":0.27125,"d":"$0.27"}}]
[null,"Frozen, min. 64% Alaskan Pollock, breaded, oven ready, PUFI approved, "," ",null," "," ",null," "," "," "," "," "," "]
[null,"200-300 calories with no more than 2 g sat fat and 350 mg sodium per "," ",null," "," ",null," "," "," "," "," "," "]
[null,"serving.  CN Labeled for 4 sticks to provide min. 2 M/MA and .75 OEG"]
[null,"Possible Allergens:  Fish, Wheat, Soy",{"$nulls":17}," "]
[6,"Fish Sticks, Pollock, Potato Coated, WG","Trident Seafood 422071",null,"160/1.0z",40,0,{"$f":"ROUND(G31*F31/F31,2)","v":0},"Cs",{"v":25.9,"d":"$25.90"},{"$f":"IF(OR(ISBLANK(J31),G31=0,ISBLANK(G31)),,ROUND(J31+$K$3,2))","v":0},{"$f":"ROUND(H31*K31,2)","v":0},{"$f":"ROUND(K31/F31,2)","v":0},{"v":16.42,"d":"$16.42"},{"v":1.4888,"d":"$1.4888"},6.37,{"$f":"ROUND(O31*P31,2)","v":{"v":9.48,"d":"$9.48"}},{"$f":"J31-Q31","v":{"v":16.419999999999998,"d":"$16.42"}},{"$f":"R31/F31","v":{"v":0.4105,"d":"$0.41"}},{"$f":"N31/F31","v":{"v":0.41050000000000003,"d":"$0.41"}}]
[null,"Frozen, min. 64% Alaskan Pollock, breaded, oven ready, PUFI approved, "," ",null," "," ",null," "," "," "," "," "," ",{"$nulls":6}," "]
[null,"200-300 calories with no more than 2 g sat fat and 350 mg sodium per "," ",null," "," ",null," "," "," "," "," "," ",{"$nulls":6}," "]
[null,"serving.  CN Labeled for 4 sticks to provide min. 2 M/MA and .75 OEG",{"$nulls":17}," "]
[null,"Possible Allergens:  Fish, Wheat, Soy, and Egg",{"$nulls":17}," "]
[7,"Shrimp, Popcorn Style, WG","Sea Pak 47039",null,"5/2 lbs",53,0,53,"Cs",{"$nulls":5}," "," "," "," "," ",0]
[null,"Frozen, made from minced shrimp, whole grain rich breading, 150-250 ","Tampa Maid 100220",null,"12/2 lbs",128,null,128,"Cs",{"v":50.16,"d":"$50.16"},{"$f":"IF(OR(ISBLANK(J37),G36=0,ISBLANK(G36)),,ROUND(J37+$K$3,2))","v":0},{"$f":"ROUND(H37*K37,2)","v":0},{"$f":"ROUND(K37/F37,2)","v":0},null," "," "," "," "," ",{"$f":"N37/F37","v":0}]
[null,"calories with no more than 2 g saturated fat and 500 mg sodium per serving, CN labeled to provide min."," ",null," "," ",null," "," "," "," "," "," ",{"$nulls":6}," "]
[null,"1 M/MA and 1.25 OEG per 3 ounce serving",{"$nulls":17}," "]
[null,"Possible Allergens:  Shrimp, Wheat, Milk, Soy",{"$nulls":17}," "]
[8,"Tuna, Chunk Light, Low Sodium","Star-Kist 514540",null,"6/43 z",129,10,{"$f":"ROUND(G41*F41/F41,2)","v":10},"Cs",{"v":50,"d":"$50.00"},{"$f":"IF(OR(ISBLANK(J41),G41=0,ISBLANK(G41)),,ROUND(J41+$K$3,2))","v":{"v":50,"d":"$50.00"}},{"$f":"ROUND(H41*K41,2)","v":{"v":500,"d":"$500.00"}},{"$f":"ROUND(K41/F41,2)","v":{"v":0.39,"d":"$0.39"}},null," "," "," "," "," "," "]
[null,"Pouch, water packed, No soy, Complies with \"Buy American\" provision",{"$nulls":17}," "]
[null,"Possible Allergens:  Fish, Wheat"]
[{"$nulls":6},0,null,"Page Total",null,null,{"$f":"SUMIF(L7:L41,\">0\")","v":{"v":6304,"d":"$6,304.00"}}]

{"sheet":"Pizza","index":6,"n_rows":109,"n_cols":13,"rows_kept":109,"hidden":true,"merged":[[0,4,0,12],[1,4,1,12],[2,5,2,9]]}
[null,{"$f":"'Recap Sheet'!A2","v":"School Food Authority:"},null,null,{"$f":"'Recap Sheet'!A3","v":"Offeror Name:"}]
[null,{"$f":"'Recap Sheet'!B2","v":"Colleton County School District Office of Student Nutrition"},"Return to Recap Sheet",null,{"$f":"'Recap Sheet'!B3","v":{"v":0,"d":"0 "}}]
["Item","Description","Approved Brand Name / Manuf ID # ",null,null,"Firm Fixed Fee",{"$nulls":4},{"$f":"'Recap Sheet'!B4","v":{"v":0,"d":"$0.00"}}]
["#",null,null,"Distributor","Vendor","Svgs","Est.","Bid ","Bid","Unit","Unit Price","Total ","Cost per"]
[{"$nulls":3},"Code","Pack","per unit","Bid Qty","Qty","Unit","Price","plus Fee","Price","Unit"]
[null,"Pizza Products"]
[1,"Pizza Sticks, Pizza Style Crust, 50/50 Blend                                   WGR","The Max Stix 77387-12439 CN ",null,"192/1.93z",192,4500,{"$f":"ROUND($G$7*$F$7/F7,2)","v":4500},"Cs",null,{"$f":"IF(OR(ISBLANK(J7),G7=0,ISBLANK(G7)),,ROUND(J7+$K$3,2))","v":0},{"$f":"ROUND(H7*K7,2)","v":0},{"$f":"ROUND(K7/F7,2)","v":0}]
[null,"Stuffed with Mozzarella cheese, frozen, fully cooked pre-baked pizza sticks ","Bosco Sticks 702011-1120",null,"144/2.06z",144,null,{"$f":"ROUND($G$7*$F$7/F8,2)","v":6000},"Cs",null,{"$f":"IF(OR(ISBLANK(J8),G7=0,ISBLANK(G7)),,ROUND(J8+$K$3,2))","v":0},{"$f":"ROUND(H8*K8,2)","v":0},{"$f":"ROUND(K8/F8,2)","v":0}]
[null,"stuffed with low moisture, part skim mozzarella cheese. One pizza breadstick "]
[null,"must provide 1 oz meat/meat alternate and at least 1 oz equivalent grain."]
[2,"Pizza Strips, 100% Mozzarella Cheese, Individually Wrapped,            WGR","Tony's 78379 CN, WG  ",null,"48/3.1z",48,6000,{"$f":"ROUND(G11*F11/F11,2)","v":6000},"Cs",null,{"$f":"IF(OR(ISBLANK(J11),G11=0,ISBLANK(G11)),,ROUND(J11+$K$3,2))","v":0},{"$f":"ROUND(H11*K11,2)","v":0},{"$f":"ROUND(K11/F11,2)","v":0}]
[null,"30% or less of calories from fat, 0 trans fat.  One serving to "]
[null,"equal  at least 2 oz grain equivalent  servings and 1oz meat/meat alternate."]
[3,"Pizza, Breakfast, 50/50 Blend,                               WGR  No SOY added.","Nardone Brothers 80WSA100",null,"80/3.2z",80,3500,{"$f":"ROUND(G14*F14/F14,2)","v":3500},"Cs",null,{"$f":"IF(OR(ISBLANK(J14),G14=0,ISBLANK(G14)),,ROUND(J14+$K$3,2))","v":0},{"$f":"ROUND(H14*K14,2)","v":0},{"$f":"ROUND(K14/F14,2)","v":0}]
[null,"Made of crust, sausage, pork patty crumble and cheese. One serving provides "]
[null,"1 oz meat/meat alternate , 1.5 oz equivalent grain, may also provide 1/8 cup "]
[null,"vegetable."]
[4,"Pizza, Breakfast, 50/50 Blend,                                                      WGR","The Max 77387-12708 CN ",null,"192/2.66z",192,14000,{"$f":"ROUND($G$18*$F$18/F18,2)","v":14000},"Cs",null,{"$f":"IF(OR(ISBLANK(J18),G18=0,ISBLANK(G18)),,ROUND(J18+$K$3,2))","v":0},{"$f":"ROUND(H18*K18,2)","v":0},{"$f":"ROUND(K18/F18,2)","v":0}]
[null,"Made of crust, turkey sausage, and cheese. ","Tony's   63912 CN WG    ",null,"128/3.31z",128,null,{"$f":"ROUND($G$18*$F$18/F19,2)","v":21000},"Cs",null,{"$f":"IF(OR(ISBLANK(J19),G18=0,ISBLANK(G18)),,ROUND(J19+$K$3,2))","v":0},0,0]
[null,"One serving provides 1 oz meat/meat alternate and 1.5oz equivalent grain.","(15-16) Nardone Brothers 80WBTSA100",null,"80/3.63z",80,null,{"$f":"ROUND($G$18*$F$18/F20,2)","v":33600},"Cs",null,{"$f":"IF(OR(ISBLANK(J20),G18=0,ISBLANK(G18)),,ROUND(J20+$K$3,2))","v":0},0,0]
[]
[5,"Pizza, Breakfast, Sausage Bagel, IW                                                WGR","(15-16) Nardone Brothers M96WBTS1",null,"96/3.10z",96,6000,{"$f":"ROUND(G22*F22/F22,2)","v":6000},"Cs",null,{"$f":"IF(OR(ISBLANK(J22),G22=0,ISBLANK(G22)),,ROUND(J22+$K$3,2))","v":0},{"$f":"ROUND(H22*K22,2)","v":0},{"$f":"ROUND(K22/F22,2)","v":0}]
[null,"50/50 blend cheese with alternate protein product, pizza sauce"]
[null,"One serving = 1 oz meat/meat alternate and 1 oz equivalent grain."]
[6,"Pizza, Cheese, 4x6, 50/50 Blend.                                                    WGR","Tony's Smart Pizza 78673 CN WG  ",null,"96/4.6z",96,15000,{"$f":"ROUND(G25*F25/F25,2)","v":15000},"Cs",null,{"$f":"IF(OR(ISBLANK(J25),G25=0,ISBLANK(G25)),,ROUND(J25+$K$3,2))","v":0},{"$f":"ROUND(H25*K25,2)","v":0},{"$f":"ROUND(K25/F25,2)","v":0}]
[null,"Made of crust, sauce, cheese-Mozzarella and blend other cheese.  ","(15-16)  Nardone 961SWCMA2",null,"96/4.9z",96,null,{"$f":"ROUND(G25*F25/F26,2)","v":15000},"Cs",null,{"$f":"IF(OR(ISBLANK(J26),G25=0,ISBLANK(G25)),,ROUND(J26+$K$3,2))","v":0},0,0]
[null,"CN Label = 2 oz meat/meat alternate and 2 oz equivalent grains, 1/8c Veg optional.  "]
[7,"Pizza, Cheese, 4x6, 50/50 Blend.                          WGR      No SOY added.","Nardone Brothers 96WWA2 4 X 6",null,"96/5.0z",96,2500,{"$f":"ROUND(G28*F28/F28,2)","v":2500},"Cs",null,{"$f":"IF(OR(ISBLANK(J28),G28=0,ISBLANK(G28)),,ROUND(J28+$K$3,2))","v":0},{"$f":"ROUND(H28*K28,2)","v":0},{"$f":"ROUND(K28/F28,2)","v":0}]
[null,"Made of crust, sauce, cheese-Mozzarella and blend other cheese.  "]
[null,"CN Label = 2 oz meat/meat alternate and 2 oz equivalent grains, 1/8c Veg optional."]
[null,"  "]
[8,"Pizza, Cheese, Wedge-shaped, 50/50 Blend       No SOY added        WGR","Nardone Brothers 72RWWEDA2",null,"72/5.0z",72,1000,{"$f":"ROUND(G32*F32/F32,2)","v":1000},"Cs",null,{"$f":"IF(OR(ISBLANK(J32),G32=0,ISBLANK(G32)),,ROUND(J32+$K$3,2))","v":0},{"$f":"ROUND(H32*K32,2)","v":0},{"$f":"ROUND(K32/F32,2)","v":0}]
[null," Product must provide 2 oz meat/meat "]
[null,"alternate, 2 oz equivalent grain, and 1/8 cup vegetable  . "]
[9,"Pizza, Cheese, wedge-shaped, 50/50 Blend                                      WGR","(06-07) The Max Real Slice 77387-12680 CN WG",null,"96/4.67z",96,7000,{"$f":"ROUND($G$35*$F$35/F35,2)","v":7000},"Cs",null,{"$f":"IF(OR(ISBLANK(J35),G35=0,ISBLANK(G35)),,ROUND(J35+$K$3,2))","v":0},{"$f":"ROUND(H35*K35,2)","v":0},{"$f":"ROUND(K35/F35,2)","v":0}]
[null,"One serving  not to exceed 35% of its calories from fat.  0 transfat.  ","(14-15) Nardone 96SWWEDA2",null,"96/4.90z",96,null,{"$f":"ROUND($G$35*$F$35/F36,2)","v":7000},"Cs",null,{"$f":"IF(OR(ISBLANK(J36),G35=0,ISBLANK(G35)),,ROUND(J36+$K$3,2))","v":0},0,0]
[null,"One serving to provide 2 oz meat/meat alternate, 2 oz equivalent grain,"]
[null,"and at least 1/8 cup vegetable."]
[10,"Pizza, Pepperoni, 50/50 Blend                                                         WGR","Tony's 72560 CN  WG   ",null,"96/4.68z",96,11000,{"$f":"ROUND($G$39*$F$39/F39,2)","v":11000},"Cs",null,{"$f":"IF(OR(ISBLANK(J39),G39=0,ISBLANK(G39)),,ROUND(J39+$K$3,2))","v":0},{"$f":"ROUND(H39*K39,2)","v":0},{"$f":"ROUND(K39/F39,2)","v":0}]
[null,"Triangular shaped, made of crust, sauce, cheese, pepperoni. ","(15-16) Nardone Brothers 96SWWEDPA2",null,"96/4.95z",96,null,{"$f":"ROUND($G$39*$F$39/F40,2)","v":11000},"Cs",null,{"$f":"IF(OR(ISBLANK(J40),G39=0,ISBLANK(G39)),,ROUND(J40+$K$3,2))","v":0},0,0]
[null,"CN Label = 2 oz meat/meat alternate, 2oz equivalent grain, 1/8 c veg.","(15-16) The Max 77387-12656",null,"96/4.56z",96,null,{"$f":"ROUND($G$39*$F$39/F41,2)","v":11000},"Cs",null,{"$f":"IF(OR(ISBLANK(J41),G39=0,ISBLANK(G39)),,ROUND(J41+$K$3,2))","v":0},0,0]
[11,"Pizza, Pepperoni, 50/50 Blend     No SOY added                              WGR","Nardone Brothers 96WWEDPA2",null,"96/5.0z",96,4500,{"$f":"ROUND(G42*F42/F42,2)","v":4500},"Cs",null,{"$f":"IF(OR(ISBLANK(J42),G42=0,ISBLANK(G42)),,ROUND(J42+$K$3,2))","v":0},0,0]
[null,"Triangular shaped, made of crust, sauce, cheese, pepperoni. "]
[null,"CN Label = 2 oz meat/meat alternate, 2oz equivalent grain, 1/8 c veg."]
[12,"Pizza, Low Fat Pepperoni, Wedge Shaped, 50/50 Blend                       WGR","(06-07) The Max Real Slice 77387-12681 CN WG",null,"96/4.67z",96,14000,{"$f":"ROUND(G45*F45/F45,2)","v":14000},"Cs",null,{"$f":"IF(OR(ISBLANK(J45),G45=0,ISBLANK(G45)),,ROUND(J45+$K$3,2))","v":0},{"$f":"ROUND(H45*K45,2)","v":0},{"$f":"ROUND(K45/F45,2)","v":0}]
[null,"One serving not to exceed 35% of its calories from fat .  0 transfat.  ","(15-16) Nardone Brothers C96SWWEDPA",null,"96/4.95z",96,null,{"$f":"ROUND(G45*F45/F46,2)","v":14000},"Cs",null,{"$f":"IF(OR(ISBLANK(J46),G45=0,ISBLANK(G45)),,ROUND(J46+$K$3,2))","v":0},{"$f":"ROUND(H46*K46,2)","v":0},{"$f":"ROUND(K46/F46,2)","v":0}]
[null,"One serving to provide 2 oz meat/meat alternate, 2 oz equivalent grain "]
[null,"and at least 1/8 cup vegetable.  "]
[13,"Pizza, self-rising, stuffed crust pizza slice, 100% Mozzarella cheese.    WGR  ","(14-15) Gilardi"]
[null,"One portion provides 2oz equivalent grains and 2oz Meat/ meat alternate.","     16272-20113 Cheese ",null,"96/4.5z",96,2500,{"$f":"ROUND($G$50*$F$50/F50,2)","v":2500},"Cs",null,{"$f":"IF(OR(ISBLANK(J50),G50=0,ISBLANK(G50)),,ROUND(J50+$K$3,2))","v":0},{"$f":"ROUND(H50*K50,2)","v":0},{"$f":"ROUND(K50/F50,2)","v":0}]
[null,"CN labeled. Includes branded serving trays in case.","     16272-20114 Turkey Pepperoni",null,"96/4.5z",96,2500,{"$f":"ROUND($G$51*$F$51/F51,2)","v":2500},"Cs",null,{"$f":"IF(OR(ISBLANK(J51),G51=0,ISBLANK(G51)),,ROUND(J51+$K$3,2))","v":0},0,0]
[]
[14,"Pizza, Sausage, 50/50 Blend, Turkey                                            WGR","Tony's Smart Pizza 78771 CN, WG ",null,"96/4.69z",96,5000,{"$f":"ROUND(G53*F53/F53,2)","v":5000},"Cs",null,{"$f":"IF(OR(ISBLANK(J53),G53=0,ISBLANK(G53)),,ROUND(J53+$K$3,2))","v":0},{"$f":"ROUND(H53*K53,2)","v":0},{"$f":"ROUND(K53/F53,2)","v":0}]
[null,"Made of crust, sauce, turkey sausage 35%  or less calories from fat"]
[null,"1 serving  = 2 oz meat/meat alternate and 2 oz equivalent grain,and 1/8 cup"]
[null,"Vegetable serving"]
[15,"Pizza, Stuff Crust, Cheese 50/50 Blend, Wedge       No SOY added      WGR ","Nardone Brothers 72WWSCMA2",null,"70/5.65z",70,1500,{"$f":"ROUND(G57*F57/F57,2)","v":1500},"Cs",null,{"$f":"IF(OR(ISBLANK(J57),G57=0,ISBLANK(G57)),,ROUND(J57+$K$3,2))","v":0},{"$f":"ROUND(H57*K57,2)","v":0},{"$f":"ROUND(K57/F57,2)","v":0}]
[null,"Provides 2 oz meat/meat alternate and 2 oz equivalent grain,"]
[null," and 1/8 cup vegetable. "]
[16,"Pizza, WW Stuff Crust  Pepperoni                            No SOY added      WGR","Nardones 72WWSCMP2  4x6",null,"70/4.95z",70,2500,{"$f":"ROUND($G$60*$F$60/F60,2)","v":2500},"Cs",null,{"$f":"IF(OR(ISBLANK(J60),G60=0,ISBLANK(G60)),,ROUND(J60+$K$3,2))","v":0},{"$f":"ROUND(H60*K60,2)","v":0},{"$f":"ROUND(K60/F60,2)","v":0}]
[null,"w/ Part Skim Mozz Cheese, Rectangular shaped.      One serving provides"," "]
[null," 2 oz meat/meat alternate, 2 oz equivalent grain, and 1/8 c vegetable serving. "]
[17,"Pizza, Stuffed Crust,  Wedge                                                             WGR","(14-15) Tony's 78650",null,"96/5.42z",96,1000,{"$f":"ROUND($G$63*$F$63/F63,2)","v":1000},"Cs",null,{"$f":"IF(OR(ISBLANK(J63),G63=0,ISBLANK(G63)),,ROUND(J63+$K$3,2))","v":0},{"$f":"ROUND(H63*K63,2)","v":0},{"$f":"ROUND(K63/F63,2)","v":0}]
[null,"Made with Turkey and Beef Pepperoni.  One serving provides 2 oz meat","(15-16) The Max 77387-12717",null,"72/4.8z",72,null,{"$f":"ROUND($G$63*$F$63/F64,2)","v":1333.33},"Cs",null,{"$f":"IF(OR(ISBLANK(J64),G63=0,ISBLANK(G63)),,ROUND(J64+$K$3,2))","v":0},0,0]
[null,"/meat alternate, 2 oz equivalent grain, and 1/8 c Red-orange Veg.","(15-16) Nardone Brothers 72WWSCMTP2",null,"70/4.95z",70,null,{"$f":"ROUND($G$63*$F$63/F65,2)","v":1371.43},"Cs",null,{"$f":"IF(OR(ISBLANK(J65),G63=0,ISBLANK(G63)),,ROUND(J65+$K$3,2))","v":0},0,0]
[18,"Pizza, WW 16\" Pre-Sliced Pizzeria Style Pepperoni Pizza, IQF                WGR","Nardones 64WPSP2",null,"64/5.08z",64,1000,{"$f":"ROUND(G66*F66/F66,2)","v":1000},"Cs",null,{"$f":"IF(OR(ISBLANK(J66),G66=0,ISBLANK(G66)),,ROUND(J66+$K$3,2))","v":0},0,0]
[null,"No SOY added. CN Provides 2 oz meat/meat alt. and 2 oz equivalent grain,"]
[null,"and 1/8 c Veg"]
[19,"Pizza, WG, Cheese/Cheese Substitute","(15-16)  Con Agra The Max",null,"60/5.0z",60,500,{"$f":"ROUND($G$69*$F$69/F69,2)","v":500},"Cs",null,{"$f":"IF(OR(ISBLANK(J69),G69=0,ISBLANK(G69)),,ROUND(J69+$K$3,2))","v":0},{"$f":"ROUND(H69*K69,2)","v":0},{"$f":"ROUND(K69/F69,2)","v":0}]
[null,"Frozen, 5\" round,  reduced-fat Mozzarella cheese ","          77387-12724 Lunch a Round Cheese"]
[null,"One portion meets 2M/MA 2 OEG 1/8c Veg","(15-16) Tony's ",null,"60/5.03",60,null,{"$f":"ROUND($G$69*$F$71/F71,2)","v":500},"Cs",null,{"$f":"IF(OR(ISBLANK(J71),G69=0,ISBLANK(G69)),,ROUND(J71+$K$3,2))","v":0},{"$f":"ROUND(H71*K71,2)","v":0},{"$f":"ROUND(K71/F71,2)","v":0}]
[null,"Possible Allergens: Wheat, Soy, Milk","      72580 WG Pizza LS Cheese     "]
[null,"Smart Snack Compliant"]
[20,"Pizza, Cheese/Cheese Substitute","(15-16)  Nardone Bros. ",null,"60/5.4z",60,500,{"$f":"ROUND(G74*F74/F74,2)","v":500},"Cs",null,{"$f":"IF(OR(ISBLANK(J74),G74=0,ISBLANK(G74)),,ROUND(J74+$K$3,2))","v":0},{"$f":"ROUND(H74*K74,2)","v":0},{"$f":"ROUND(K74/F74,2)","v":0}]
[null,"Frozen, 6\" round, Low-moisture/part-skim Mozzarella, Mozzarella Cheese substitute.","     625SWMA"]
[null,"One portion meets 2M/MA 2.0 OEG, 1/8c Veg"]
[null,"Possible Allergens:  Wheat, Soy, Milk"]
[null,"Smart Snack Compliant"]
[21,"Pizza, Cheese slice, ","(15-16)  Nardone Bros",null,"72/4.90z",72,500,{"$f":"ROUND(G79*F79/F79,2)","v":500},"Cs",null,{"$f":"IF(OR(ISBLANK(J79),G79=0,ISBLANK(G79)),,ROUND(J79+$K$3,2))","v":0},{"$f":"ROUND(H79*K79,2)","v":0},{"$f":"ROUND(K79/F79,2)","v":0}]
[null,"Low moisture Part-skim Mozzarella Cheese, Cheese Substitute ","     72SRWWEDA2 Rolled edge wedge cheese"]
[null,"Frozen, wedge slice,.  Meets 2.0 M/MA 2.0 OEG, 1/8 c Veg"]
[null,"Possible Allergens:  Wheat, Milk, Soy"]
[null,"Smart Snack Compliant"]
[22,"Pizza, Sausage/Cheese/Cheese Substitute","(15-16)  Nardone Bros",null,"96/4.95Z",96,500,{"$f":"ROUND(G84*F84/F84,2)","v":500},"Cs",null,{"$f":"IF(OR(ISBLANK(J84),G84=0,ISBLANK(G84)),,ROUND(J84+$K$3,2))","v":0},{"$f":"ROUND(H84*K84,2)","v":0},{"$f":"ROUND(K84/F84,2)","v":0}]
[null,"Frozen, Wedge slice, made from Pork sausage, low-moisture part skim Mozzarella","     96SWWEDSA2  Sausage/ Cheese"]
[null,"cheese, Mozzarella Cheese substitute."]
[null,"One portion provides 2M/MA 2.0 OEG, 1/8 c Veg"]
[null,"Possible Allergens:  Wheat, Milk, Soy"]
[null,"Smart Snack Compliant"]
[23,"Pizza, Veggie with Red and Green Peppers, Onion, Cheese","(15-16)  Con Agra The Max",null,"60/5.34z",60,null,{"$f":"ROUND(G90*F90/F90,2)","v":0},"Cs",null,{"$f":"IF(OR(ISBLANK(J90),G90=0,ISBLANK(G90)),,ROUND(J90+$K$3,2))","v":0},{"$f":"ROUND(H90*K90,2)","v":0},{"$f":"ROUND(K90/F90,2)","v":0}]
[null,"Frozen, 5\" round,  reduced -fat Mozzarella cheese and ","     77387-12726  Lunch Around Veggie"]
[null,"substitute cheese. One portion meets 2M/MA 2 OEG 1/8c Veg","Item Discontinued by Conagra 07/01/16"]
[null,"Possible Allergens: Wheat, Soy, Milk"]
[null,"Smart Snack Compliant"]
[24,"Pizza, 4 x 6, Cheese/ Cheese Substitute","(15-16)  Nardone Bros",null,"96/4.90z",96,500,{"$f":"ROUND(G95*F95/F95,2)","v":500},"Cs",null,{"$f":"IF(OR(ISBLANK(J95),G95=0,ISBLANK(G95)),,ROUND(J95+$K$3,2))","v":0},{"$f":"ROUND(H95*K95,2)","v":0},{"$f":"ROUND(K95/F95,2)","v":0}]
[null,"Frozen, made from low-moisture/part skim Mozzarella Cheese and Mozzarella Cheese","     961SWCMA2"]
[null,"Substitute.  One portion meets 2 M/MA 2.0 OEG, 1/8 c Veg"]
[null,"Possible Allergens: Wheat, Soy, Milk"]
[null,"Smart Snack Compliant"]
[25,"Pizza, 4 x 6, Turkey Pepperoni","(15-16)  Nardone Bros.",null,"96/4.90z",96,500,{"$f":"ROUND(G100*F100/F100,2)","v":500},"Cs",null,{"$f":"IF(OR(ISBLANK(J100),G100=0,ISBLANK(G100)),,ROUND(J100+$K$3,2))","v":0},{"$f":"ROUND(H100*K100,2)","v":0},{"$f":"ROUND(K100/F100,2)","v":0}]
[null,"Frozen, made from low-moisture/part skim Mozzarella Cheese and Mozzarella Cheese","     961SWTPA2"]
[null,"Substitute; Turkey.  One portion meets 2 M/MA 2.0 OEG, 1/8 c Veg"]
[null,"Possible Allergens: Wheat, Soy, Milk"]
[null,"Smart Snack Compliant"]
[26,"Pizza, WG, Turkey and Beef Pepperoni, 5\" Round","(15-16)  Tony's",null,"60/4.88z",60,500,{"$f":"ROUND(G105*F105/F105,2)","v":500},"Cs",null,{"$f":"IF(OR(ISBLANK(J105),G105=0,ISBLANK(G105)),,ROUND(J105+$K$3,2))","v":0},{"$f":"ROUND(H105*K105,2)","v":0},{"$f":"ROUND(K105/F105,2)","v":0}]
[null," One portion meets 2 M/MA 2.0 OEG, 1/8 c Veg","      72581  Turkey Pepperoni LS"]
[null,"Smart Snack Compliant"]
[]
[{"$nulls":8},"Page Total",null,null,{"$f":"SUMIF(L6:L107,\">0\")","v":0}]

{"sheet":"Pizza ","index":7,"n_rows":174,"n_cols":21,"rows_kept":174,"merged":[[0,4,0,12],[0,14,0,19],[1,4,1,12],[2,5,2,9]]}
[null,{"$f":"'Recap Sheet'!A2","v":"School Food Authority:"},null,null,{"$f":"'Recap Sheet'!A3","v":"Offeror Name:"},{"$nulls":9},"Commodity"]
[null,{"$f":"'Recap Sheet'!B2","v":"Colleton County School District Office of Student Nutrition"},"Return to Recap Sheet",null,{"$f":"'Recap Sheet'!B3","v":{"v":0,"d":"0 "}}]
["Item","Description","Approved Brand Name / Manuf ID # ",null,null,"Firm Fixed Fee",{"$nulls":4},{"$f":"'Recap Sheet'!B4","v":{"v":0,"d":"$0.00"}},null,null,"Processing","Commodity","Pounds of",null,"NOI","Net NOI","Total Cost"]
["#",null,null,"Distributor","Vendor","Svgs","Est.","Bid ","Bid","Unit","Unit Price","Total ","Cost per","Fee For","Value Per","DF Needed","Commodity","Net ","Cost Per ","Processing Fee "]
[{"$nulls":3},"Code","Pack","per unit","Bid Qty","Qty","Unit","Price","plus Fee","Price","Unit","Service","Pound","Per Case","Value ","Price","Serving","For Serving"]
[" ","Pizza",{"$nulls":12},"Commodity LM PT Skim UNIFZ 110244"]
[]
[1,"Bread Stick","Tyson 702011",null,"144/2.14z",144,0,{"$f":"ROUND($G$8*$F$8/F8,2)","v":0},"Cs",{"v":46.67,"d":"$46.67"},{"$f":"IF(OR(ISBLANK(J8),G8=0,ISBLANK(G8)),,ROUND(J8+$K$3,2))","v":0},{"$f":"ROUND(H8*K8,2)","v":0},{"$f":"ROUND(K8/F8,2)","v":0},{"v":32.08,"d":"$32.08"},{"v":1.6208,"d":"$1.6208"},9,{"$f":"ROUND(O8*P8,2)","v":{"v":14.59,"d":"$14.59"}},{"$f":"J8-Q8","v":{"v":32.08,"d":"$32.08"}},{"$f":"R8/F8","v":{"v":0.22277777777777777,"d":"$0.22"}},{"$f":"N8/F8","v":{"v":0.22277777777777777,"d":"$0.22"}}]
[null,"Dough filled with 100% mozzarella, WG"," ",null," "," ",null," "," "," "," "," "," ",null," "," "," ",null," "," "]
[null,"Frozen, WGR One stick must provide 1 M/MA and 1 EOG"," ",null," "," ",null," "," ",null," "," "," ",null," "," "," ",null," "," "]
[null,"Possible Allergens:  Wheat, Milk, Soy"]
[2,"Pizza, Cheese Crunchers","Rich Products 65225",null,"8/3.125 lbs",72,0,{"$f":"ROUND($G$12*$F$12/F12,2)","v":0},"Cs",{"v":57.04,"d":"$57.04"},{"$f":"IF(OR(ISBLANK(J12),G12=0,ISBLANK(G12)),,ROUND(J12+$K$3,2))","v":0},{"$f":"ROUND(H12*K12,2)","v":0},{"$f":"ROUND(K12/F12,2)","v":0},{"v":42.73,"d":"$42.73"},{"v":1.6208,"d":"$1.6208"},8.83,{"$f":"ROUND(O12*P12,2)","v":{"v":14.31,"d":"$14.31"}},{"$f":"J12-Q12","v":{"v":42.73,"d":"$42.73"}},{"$f":"R12/F12","v":{"v":0.5934722222222222,"d":"$0.59"}},{"$f":"N12/F12","v":{"v":0.5934722222222222,"d":"$0.59"}}]
[null,"Frozen, WGR, Low moisture part skim mozzarella with pizza sauce on the inside. Four "]
[null,"pieces to provide 2 M/MA and 2.5 OEG 400-500 calories and not more than 9 g sat fat and"]
[null,"800 mg sodium per serving",{"$nulls":12}," "]
[null,"Possible Allergens:  Wheat"]
[3,"Bread Stick, Blueberry Cinnamon with Mozzarella","Conagra Max 77387-12611",null,"96/2.3z",96,0,{"$f":"ROUND(G17*F17/F17,2)","v":0},"Cs",{"v":38,"d":"$38.00"},{"$f":"IF(OR(ISBLANK(J17),G17=0,ISBLANK(G17)),,ROUND(J17+$K$3,2))","v":0},{"$f":"ROUND(H17*K17,2)","v":0},{"$f":"ROUND(K17/F17,2)","v":0},{"v":33.7,"d":"$33.70"},{"v":1.6208,"d":"$1.6208"},2.65,{"$f":"ROUND(O17*P17,2)","v":{"v":4.3,"d":"$4.30"}},{"$f":"J17-Q17","v":{"v":33.7,"d":"$33.70"}},{"$f":"R17/F17","v":{"v":0.3510416666666667,"d":"$0.35"}},{"$f":"N17/F17","v":{"v":0.3510416666666667,"d":"$0.35"}}]
[null,"Frozen, WGR, Part skim mozzarella cheese, 100-200 calories with not more than 3 g sat"," "]
[null,"fat and 350 mg sodium per serving.  One breadstick provides 1 M/MA and 1 OEG"]
[null," "]
[null,"Possible Allergens:  Wheat, Milk, Soy"]
[4,"Pizza, Cheese Bites","SA Piazza (Wild Mike's) 11003",null,"240/1.0z",240,0,{"$f":"ROUND(G22*F22/F22,2)","v":0},"Cs",{"v":55.78,"d":"$55.78"},{"$f":"IF(OR(ISBLANK(J22),G22=0,ISBLANK(G22)),,ROUND(J22+$K$3,2))","v":0},{"$f":"ROUND(H22*K22,2)","v":0},{"$f":"ROUND(K22/F22,2)","v":0},{"v":43.62,"d":"$43.62"},{"v":1.6208,"d":"$1.6208"},7.5,{"$f":"ROUND(O22*P22,2)","v":{"v":12.16,"d":"$12.16"}},{"$f":"J22-Q22","v":{"v":43.620000000000005,"d":"$43.62"}},{"$f":"R22/F22","v":{"v":0.18175000000000002,"d":"$0.18"}},{"$f":"N22/F22","v":{"v":0.18175,"d":"$0.18"}}]
[null,"Frozen, Part skim mozzarella cheese, four bites provides 2 M/MA and 2 OEG 200-300"," ",{"$nulls":11}," "," "," "," "," "," "]
[null,"calories with not  more than 4 g saturated fat and 600 mg sodium per serving"]
[null," "]
[null,"Possible Allergens:  Wheat, Milk"]
[5,"Pizzasticks, Filled with 100% Mozzarella and Pizza Sauce Wg","Schwann's 78378",null,"48/3.10z",48,0,{"$f":"ROUND(G27*F27/F27,2)","v":0},"Cs",{"v":22.2,"d":"$22.20"},{"$f":"IF(OR(ISBLANK(J27),G27=0,ISBLANK(G27)),,ROUND(J27+$K$3,2))","v":0},{"$f":"ROUND(H27*K27,2)","v":0},{"$f":"ROUND(K27/F27,2)","v":0},null,{"v":1.6208,"d":"$1.6208"},1.32,{"$f":"ROUND(O27*P27,2)","v":{"v":2.14,"d":"$2.14"}},{"$f":"J27-Q27","v":{"v":20.06,"d":"$20.06"}},{"$f":"R27/F27","v":{"v":0.41791666666666666,"d":"$0.42"}},{"$f":"N27/F27","v":0}]
[null,"Frozen, Low moisture part skim mozzarella cheese stick with WGR breading, pepperoni"," ",null," "," "," "," "," ",{"$nulls":5}," "," "," "," "," "," "]
[null,"inside 200-400 calories with no more than  6 g sat fat and 400 mg of sodium per serving "]
[null,"1 stick serving to provide min. 1 M/MA and 2 OEG"]
[null,"Possible Allergens:  Wheat, Milk, Soy, and Eggs"]
[6,"Pizza, 100% Mozzarella, 4x6, WG","Schwann's 78697",null,"96/4.50z",96,0,{"$f":"ROUND(G32*$F$47/F32,2)","v":0},"Cs"," "," ","  "," ",null,{"v":1.6208,"d":"$1.6208"},8.4,{"$f":"ROUND(O32*P32,2)","v":{"v":13.61,"d":"$13.61"}},{"$f":"J32-Q32","v":{"$error":"#VALUE!"}},{"$f":"R32/F32","v":{"$error":"#VALUE!"}},{"$f":"N32/F32","v":0}]
[null,"Frozen, Whole grain rich 250-350 calories with no more than 7 g saturated fat and ","Conagra 12584",null,"96/4.65z",96,null,{"$f":"ROUND(G32*F32/F33,2)","v":0},"Cs",{"$nulls":5},{"v":1.6208,"d":"$1.6208"},7.5,{"$f":"ROUND(O33*P33,2)","v":{"v":12.16,"d":"$12.16"}},{"$f":"J33-Q33","v":{"v":-12.16,"d":"-$12.16"}},{"$f":"R33/F33","v":{"v":-0.12666666666666668,"d":"$(0.13)"}},0]
[null,"750 mg sodium per serving. CN Labeled for one portion to provide 2 M/MA, 2 OEG, and ","Nardones 961SWCM2",null,"96/4.90z",96,null,{"$f":"ROUND(G32*F32/F34,2)","v":0},"Cs",{"v":31.89,"d":"$31.89"},{"$f":"IF(OR(ISBLANK(J32),G32=0,ISBLANK(G32)),,ROUND(J34+$K$3,2))","v":0},{"$f":"ROUND(H34*K34,2)","v":0},{"$f":"ROUND(K34/F34,2)","v":0},{"v":19.73,"d":"$19.73"},{"v":1.6208,"d":"$1.6208"},7.5,{"$f":"ROUND(O34*P34,2)","v":{"v":12.16,"d":"$12.16"}},{"$f":"J34-Q34","v":{"v":19.73,"d":"$19.73"}},{"$f":"R34/F34","v":{"v":0.20552083333333335,"d":"$0.21"}},{"$f":"N34/F34","v":{"v":0.20552083333333335,"d":"$0.21"}}]
[null,"1/8 c Red/Orange Vegetable."," ",null," "," "," "," "," ",{"$nulls":5}," "," "," "," ","  "," "]
[null,"Possible Allergens:  Wheat, Milk, Soy"]
[7,"Pizza, 100% Mozzarella, Pork Pepperoni , 4 x 6, WG","Conagra Max 12585",null,"96/4.65z",96,0,{"$f":"ROUND(G37*$F$37/F37,2)","v":0},"Cs"," "," "," "," ",null,{"v":1.6208,"d":"$1.6208"},6,{"$f":"ROUND(O37*P37,2)","v":{"v":9.72,"d":"$9.72"}},{"v":0,"d":"$0.00"}," "," "]
[null,"Frozen, Whole grain rich 250-350 calories with no more than 8 g saturated fat and ","Schwanns 78698",null,"96/4.48z",96,null,{"$f":"ROUND(G37*$F$37/F38,2)","v":0},"Cs",{"$nulls":5},{"v":1.6208,"d":"$1.6208"},6.66,{"v":10.79,"d":"$10.79"},{"v":0,"d":"$0.00"}," "," "]
[null,"810 mg sodium per serving. CN Labeled for one portion to provide min. 2 M/MA, 2 OEG &","Nardones 961SWCMP2",null,"96/4.95z",96,null,{"$f":"ROUND(G37*$F$37/F39,2)","v":0},"Cs",{"v":31.04,"d":"$31.04"},{"$f":"IF(OR(ISBLANK(J39),G37=0,ISBLANK(G37)),,ROUND(J39+$K$3,2))","v":0},{"$f":"ROUND(H39*K39,2)","v":0},{"$f":"ROUND(K39/F39,2)","v":0},{"v":21.32,"d":"$21.32"},{"v":1.6208,"d":"$1.6208"},6,{"$f":"ROUND(O39*P39,2)","v":{"v":9.72,"d":"$9.72"}},{"$f":"J39-Q39","v":{"v":21.32,"d":"$21.32"}},{"$f":"R39/F39","v":{"v":0.22208333333333333,"d":"$0.22"}},{"$f":"N39/F39","v":{"v":0.22208333333333333,"d":"$0.22"}}]
[null,"1/8 c Red/Orange Vegetable."," ",null," "," "," "," "," "," "," "," "," "," "," "," "," "," "," ","  "]
[null,"Possible Allergens:  Wheat, Milk, Soy"]
[8,"Pizza, 100% Mozzarella, Pork Pepperoni, Rtg. Ang. Wedge, WG","Nardones 96SWWEDP2",null,"96/4.95z",96,0,{"$f":"ROUND(G42*$F$47/F42,2)","v":0},"Cs",{"v":34,"d":"$34.00"},{"$f":"IF(OR(ISBLANK(J42),G42=0,ISBLANK(G42)),,ROUND(J42+$K$3,2))","v":0},{"$f":"ROUND(H42*K42,2)","v":0},{"$f":"ROUND(K42/F42,2)","v":0},{"v":24.28,"d":"$24.28"},{"v":1.6208,"d":"$1.6208"},6,{"$f":"ROUND(O42*P42,2)","v":{"v":9.72,"d":"$9.72"}},{"$f":"J42-Q42","v":{"v":24.28,"d":"$24.28"}},{"$f":"R42/F42","v":{"v":0.2529166666666667,"d":"$0.25"}},{"$f":"N42/F42","v":{"v":0.2529166666666667,"d":"$0.25"}}]
[null,"Frozen, Whole grain rich 250-350 calories with no more than 6 g saturated fat and 810 mg ","Conagra Max 12686",null,"96/4.67z",96,null,{"$f":"ROUND(G42*$F$42/F43,2)","v":0},"Cs",{"$nulls":5},{"v":1.6208,"d":"$1.6208"},6.96,{"$f":"ROUND(O43*P43,2)","v":{"v":11.28,"d":"$11.28"}},{"$f":"K43-Q43","v":{"v":-11.28,"d":"-$11.28"}},{"$f":"R43/F43","v":{"v":-0.1175,"d":"$(0.12)"}},{"$f":"N43/F43","v":0}]
[null,"sodium per serving.  CN Labeled for one portion to provide 2 M/MA, 2 OEG, and 1/8 c"]
[null,"Red/Orange Vegetable."," "]
[null,"Possible Allergens:  Wheat, Milk, Soy"]
[9,"Pizza, 100% Mozz. Pork Pepperoni Stuffed Crust, Wedge WG","Nardone 72WWSCMP2",null,"70/4.95z",70,0,{"$f":"ROUND(G47*$F$47/F47,2)","v":0},"Cs",{"v":35,"d":"$35.00"},{"$f":"IF(OR(ISBLANK(J47),G47=0,ISBLANK(G47)),,ROUND(J47+$K$3,2))","v":0},{"$f":"ROUND(H47*K47,2)","v":0},{"$f":"ROUND(K47/F47,2)","v":0},{"v":24.37,"d":"$24.37"},{"v":1.6208,"d":"$1.6208"},6.56,{"$f":"ROUND(O47*P47,2)","v":{"v":10.63,"d":"$10.63"}},{"$f":"J47-Q47","v":{"v":24.369999999999997,"d":"$24.37"}},{"$f":"R47/F47","v":{"v":0.3481428571428571,"d":"$0.35"}},{"$f":"N47/F47","v":{"v":0.34814285714285714,"d":"$0.35"}}]
[null,"Frozen, Whole grain rich 300-400 calories with no more than 9 g saturated fat and 820 mg ","Conagra Max 12615",null,"72/5.00z",72,null,{"$f":"ROUND(G47*$F$47/F48,2)","v":0},"Cs",{"$nulls":4},0,{"v":1.6208,"d":"$1.6208"},8.14,{"v":13.19,"d":"$13.19"},{"v":0,"d":"$0.00"},{"$f":"R48/F48","v":0},{"$f":"N48/F48","v":0}]
[null,"sodium per svg, CN Labeled for one portion to provide 2 M/MA, 2 OEG, and 1/8 c ","Schwanns 78650",null,"96/5.32z",96,null,{"$f":"ROUND(G47*$F$47/F49,2)","v":0},"Cs",{"$nulls":5},{"v":1.6208,"d":"$1.6208"},10.74,{"$f":"ROUND(O49*P49,2)","v":{"v":17.41,"d":"$17.41"}}," "," ",{"$f":"N49/F49","v":0}]
[null,"Red/Orange Vegetable."," ",null," "," "," "," "," "," "," "," "," ",null,"  "," "," "," "," "," "]
[null,"Possible Allergens:  Wheat, Milk, Soy"]
[10,"Pizza, Beef Fiestada, WG","UNO HTWGCN16",null,"96/4.88z",96,0,{"$f":"ROUND(G52*$F$52/F52,2)","v":0},"Cs",{"$nulls":5},{"v":1.6208,"d":"$1.6208"},7.3,{"$f":"ROUND(O52*P52,2)","v":{"v":11.83,"d":"$11.83"}}," "," ",{"$f":"N52/F52","v":0}]
[null,"Frozen Whole grain rich Blend of cheddar, mozz/mozz sub 300-400 calories with no more ","Alpha Foods SP167RW",null,"72/7.23z",72,null,{"$f":"ROUND(G52*$F$52/F53,2)","v":0},"Cs",{"$nulls":5},{"v":1.6208,"d":"$1.6208"},8.44,{"v":13.68,"d":"$13.68"},"  "," ",0]
[null,"than 900 mg sodium per serving.  CN Labeled for one portion to provide min. 2 M/MA, ","Nardones 96WWMEX2",null,"96/5.20z",96,null,{"$f":"ROUND(G52*$F$52/F54,2)","v":0},"Cs",{"v":47.75,"d":"$47.75"},{"$f":"IF(OR(ISBLANK(J54),G52=0,ISBLANK(G52)),,ROUND(J54+$K$3,2))","v":0},{"$f":"ROUND(H54*K54,2)","v":0},{"$f":"ROUND(K54/F54,2)","v":0},{"v":44.83,"d":"$44.83"},{"v":1.6208,"d":"$1.6208"},1.8,{"v":2.92,"d":"$2.92"},{"$f":"J54-Q54","v":{"v":44.83,"d":"$44.83"}},{"$f":"R54/F54","v":{"v":0.46697916666666667,"d":"$0.47"}},{"v":0.46697916666666667,"d":"$0.47"}]
[null,"2 OEG , and 1/8 cup red/orange vegetable","Schwan's 68523",null,"72/5.44z",72,null,{"$f":"ROUND(G52*$F$52/F55,2)","v":0},"Cs"," ","  "," ","  ",null,{"v":1.6208,"d":"$1.6208"},3.42,{"v":5.54,"d":"$5.54"},{"v":32.75,"d":"$32.75"}," ",{"$f":"N55/F55","v":0}]
[null,"Possible Allergens:  Wheat, Milk, Soy"," "," "," "," "," "," "," "," "," ",null," ",null,"  "," "," "," "," "," "]
[11,"Pizza, French Bread Multi Cheese Garlic","Nardone's 60WGUMA2",null,"60/4.50z",60,0,{"$f":"ROUND($G$57*$F$57/F57,2)","v":0},"Cs",{"v":40,"d":"$40.00"},{"$f":"IF(OR(ISBLANK(J56),G56=0,ISBLANK(G56)),,ROUND(J57+$K$3,2))","v":{"v":40,"d":"$40.00"}},{"$f":"ROUND(H57*K57,2)","v":0},{"$f":"ROUND(K57/F57,2)","v":{"v":0.67,"d":"$0.67"}},{"v":33.92,"d":"$33.92"},{"v":1.6208,"d":"$1.6208"},3.75,{"$f":"ROUND(O57*P57,2)","v":{"v":6.08,"d":"$6.08"}},{"$f":"J57-Q57","v":{"v":33.92,"d":"$33.92"}},{"$f":"R57/F57","v":{"v":0.5653333333333334,"d":"$0.57"}},{"$f":"N57/F57","v":{"v":0.5653333333333334,"d":"$0.57"}}]
[null,"Frozen, 6\" whole grain rich french bread, blend of provolone, mozz/sub mozz ","Schwann's 78359",null,"60/4.29z",60,null,{"$f":"ROUND($G$57*$F$57/F58,2)","v":0},"Cs",0,{"$f":"IF(OR(ISBLANK(J57),G57=0,ISBLANK(G57)),,ROUND(J58+$K$3,2))","v":0},{"$f":"ROUND(H58*K58,2)","v":0},{"$f":"ROUND(K58/F58,2)","v":0},0,{"v":1.6208,"d":"$1.6208"},1.75,{"$f":"ROUND(O58*P58,2)","v":{"v":2.84,"d":"$2.84"}}," "," ",{"$f":"N58/F58","v":0}]
[null,"250-400 calories with no more than 7 g saturated fat and 710 mg sodium per serving."]
[null,"CN Labeled for one portion to provide min 2 M/MA and 2 OEG."]
[null,"Possible Allergens:  Wheat, Milk, Soy"]
[12,"Pizza, 100% Mozz. Turkey Meateaters 6\" Round, WG","Nardones 625WTME2",null,"60/5.57z",60,200,{"$f":"ROUND($G$62*$F$62/F62,2)","v":200},"Cs",{"v":45,"d":"$45.00"},{"$f":"IF(OR(ISBLANK(J62),G62=0,ISBLANK(G62)),,ROUND(J62+$K$3,2))","v":{"v":45,"d":"$45.00"}},{"$f":"ROUND(H62*K62,2)","v":{"v":9000,"d":"$9,000.00"}},{"$f":"ROUND(K62/F62,2)","v":{"v":0.75,"d":"$0.75"}},{"v":36.39,"d":"$36.39"},{"v":1.6208,"d":"$1.6208"},5.31,{"$f":"ROUND(O62*P62,2)","v":{"v":8.61,"d":"$8.61"}},{"$f":"J62-Q62","v":{"v":36.39,"d":"$36.39"}},{"$f":"R62/F62","v":{"v":0.6065,"d":"$0.61"}},{"$f":"N62/F62","v":{"v":0.6065,"d":"$0.61"}}]
[null,"Frozen, 6\" whole grain rich, 100% mozzarella, 250-400 calories with no more than 7 g sat ",{"$nulls":18}," "]
[null,"fat and 600 mg sodium per serving.  CN Labeled for one portion to proivde min. 2 M/MA,"]
[null,"2 OEG , and 1/8 cup red/orange vegetable"," ",null," "," ",null," "," "," "," "," "," ",null," "," "," ",null," "," "]
[null,"Possible Allergens:  Wheat, Milk, Soy"]
[13,"Pizza, Cheese, 5-6\" Round, WG","Schwan's 78368",null,"60/4.98z",60,0,{"$f":"ROUND(G67*F67/F67,2)","v":0},"Cs",{"$nulls":5},{"v":1.6208,"d":"$1.6208"},5.92,{"$f":"ROUND(O67*P67,2)","v":{"v":9.6,"d":"$9.60"}},{"$f":"K67-Q67","v":{"v":-9.6,"d":"-$9.60"}},{"$f":"R67/F67","v":{"v":-0.16,"d":"$(0.16)"}},{"$f":"N67/F67","v":0}]
[null,"Frozen, 6\" whole grain rich, 100% mozzarella, 250-400 calories with no more than 7 g sat ","S.A Piazza (Wild Mike's) 80550",null,"80/5.49z",80,null,{"$f":"ROUND(G67*F67/F68,2)","v":0},"Cs",{"$nulls":5},{"v":1.6208,"d":"$1.6208"},10.08,{"v":16.34,"d":"$16.34"},{"v":-16.34,"d":"-$16.34"},{"v":-0.20425,"d":"$(0.20)"},0]
[null,"fat and 700 mg sodium per serving.  CN Labeled for one portion to provide min. 2 M/MA, ","Nardones 625WRM2",null,"60/5.40z",60,null,{"$f":"ROUND(G67*F67/F69,2)","v":0},"Cs",{"v":36,"d":"$36.00"},{"$f":"IF(OR(ISBLANK(J69),G67=0,ISBLANK(G67)),,ROUND(J69+$K$3,2))","v":0},{"$f":"ROUND(H69*K69,2)","v":0},{"$f":"ROUND(K69/F69,2)","v":0},{"v":23.84,"d":"$23.84"},{"v":1.6208,"d":"$1.6208"},7.5,{"$f":"ROUND(O69*P69,2)","v":{"v":12.16,"d":"$12.16"}},{"$f":"J69-Q69","v":{"v":23.84,"d":"$23.84"}},{"$f":"R69/F69","v":{"v":0.3973333333333333,"d":"$0.40"}},{"$f":"N69/F69","v":{"v":0.3973333333333333,"d":"$0.40"}}]
[null,"2 OEG, and 1/8 c  Red//Orange Vegetable"," "," "," "," "," "," "," "," "," "," ",null,"  "," ","  "," "," "," "," "]
[null,"Possible Allergens:  Wheat, Milk, Soy"," ",null,null," ",null," "," "," "," "," "," ",null," "," "," "," "," "," "," "]
[14,"Pizza, Cheese, Turkey Pepperoni, 5-6\" Round","Schwan's 78369",null,"60/4.98z",60,500,{"$f":"ROUND(G72*F72/F72,2)","v":500},"Cs",{"$nulls":5},{"v":1.6208,"d":"$1.6208"},4.8,{"$f":"ROUND(O72*P72,2)","v":{"v":7.78,"d":"$7.78"}},{"$f":"K72-Q72","v":{"v":-7.78,"d":"-$7.78"}},{"$f":"R72/F72","v":{"v":-0.12966666666666668,"d":"$(0.13)"}},{"$f":"N72/F72","v":0}]
[null,"Frozen, Whole Grain 100% mozzarella 250-400 calories with no more than 7 g sat fat ","Nardone's 625WRMTP3",null,"60/5.40z",60,null,{"$f":"ROUND(G72*F72/F73,2)","v":500},"Cs",{"v":37,"d":"$37.00"},{"$f":"IF(OR(ISBLANK(J73),G72=0,ISBLANK(G72)),,ROUND(J73+$K$3,2))","v":{"v":37,"d":"$37.00"}},{"$f":"ROUND(H73*K73,2)","v":{"v":18500,"d":"$18,500.00"}},{"$f":"ROUND(K73/F73,2)","v":{"v":0.62,"d":"$0.62"}},{"v":27.28,"d":"$27.28"},{"v":1.6208,"d":"$1.6208"},6,{"v":9.72,"d":"$9.72"},{"$f":"J73-Q73","v":{"v":27.28,"d":"$27.28"}},{"v":0.45466666666666666,"d":"$0.45"},{"$f":"N73/F73","v":{"v":0.45466666666666666,"d":"$0.45"}}]
[null,"and 700 mg sodium per serving. CN Labeled for one portion to provide min. 2 M/MA, "]
[null,"2 OEG, and 1/8 c  Red//Orange Vegetable"]
[null,"Possible Allergens:  Wheat, Milk, Soy"," ",null," "," ",null," "," ",null," "," "," ",null," "," "," "," "," "," "]
[15,"Pizza, Cheese, Pepperoni, 5-6\" Round","Alpha Foods AS64W",null,"60/5.36z",60,0,{"$f":"ROUND(G77*F77/F77,2)","v":0},"Cs",{"v":51.8,"d":"$51.80"},{"$f":"IF(OR(ISBLANK(J77),G77=0,ISBLANK(G77)),,ROUND(J77+$K$3,2))","v":0},{"$f":"ROUND(H77*K77,2)","v":0},{"$f":"ROUND(K77/F77,2)","v":0},{"v":40.49,"d":"$40.49"},{"v":1.6208,"d":"$1.6208"},6.98,{"$f":"ROUND(O77*P77,2)","v":{"v":11.31,"d":"$11.31"}},{"$f":"J77-Q77","v":{"v":40.489999999999995,"d":"$40.49"}},{"$f":"R77/F77","v":{"v":0.6748333333333333,"d":"$0.67"}},{"$f":"N77/F77","v":{"v":0.6748333333333334,"d":"$0.67"}}]
[null,"Frozen, Whole Grain 100% mozzarella "," ",null," "," ",null," "," "," "," "," "," ",null," "," "," "," "," "," "]
[null,"One portion must provide 2 M/MA. 2 EOG, and 1/8 cup Red/Orange Vegetable"," ",null," "," ",null," "," ",null," "," "," ",null," "," "," ",null," "," "]
[null,"Possible Allergens:  Wheat, Milk, Soy"]
[16,"Pizza, Cheese, Supreme, 5-6\" Round","Nardone's 625WSUP2",null,"60/6.35z",60,150,{"$f":"ROUND(G81*F81/F81,2)","v":150},"Cs",{"v":45,"d":"$45.00"},{"$f":"IF(OR(ISBLANK(J81),G81=0,ISBLANK(G81)),,ROUND(J81+$K$3,2))","v":{"v":45,"d":"$45.00"}},{"$f":"ROUND(H81*K81,2)","v":{"v":6750,"d":"$6,750.00"}},{"$f":"ROUND(K81/F81,2)","v":{"v":0.75,"d":"$0.75"}},{"v":37.4,"d":"$37.40"},{"v":1.6208,"d":"$1.6208"},4.69,{"$f":"ROUND(O81*P81,2)","v":{"v":7.6,"d":"$7.60"}},{"$f":"J81-Q81","v":{"v":37.4,"d":"$37.40"}},{"$f":"R81/F81","v":{"v":0.6233333333333333,"d":"$0.62"}},{"$f":"N81/F81","v":{"v":0.6233333333333333,"d":"$0.62"}}]
[null,"Frozen, 5-6\" WGR, 100% mozzarella, 250-400 calories with no more than 7 g sat fat and "," ",null," "," ",null," "," ",null," "," "," ",null," "," ","  ",null," "," "]
[null,"700 mg sodium per serving. CN Labeled for one portion to provide min. 2 M/MA, 2 OEG "]
[null,"and 1/8 cup red/orange vegetable"]
[null,"  "," ",null," "," ",null," "," ",null," "," ","  ",null," "," "," ",null," "," "]
[null,"Possible Allergens:  Wheat, Milk, Soy"]
[17,"Pizza, Whole, 15-16\", Self Rising, Pepperoni","UNO MVPPCN16",null,"96/5.50z",96,0,{"$f":"ROUND(G87*F87/F87,2)","v":0},"Cs",{"$nulls":5},{"v":1.6208,"d":"$1.6208"},10.5,{"$f":"ROUND(O87*P87,2)","v":{"v":17.02,"d":"$17.02"}}," "," "," "]
[null,"Frozen, \"Pizza Pie Shape\" cut into slices or cutter provided, 100% mozzarella, Whole grain","Alpha Foods SP164RW",null,"72/6.38z",72,null,{"$f":"ROUND(G87*F87/F88,2)","v":0},"Cs",{"v":51.94,"d":"$51.94"},{"$f":"IF(OR(ISBLANK(J88),G87=0,ISBLANK(G87)),,ROUND(J88+$K$3,2))","v":0},{"$f":"ROUND(H88*K88,2)","v":0},{"$f":"ROUND(K88/F88,2)","v":0},{"v":39.17,"d":"$39.17"},{"v":1.6208,"d":"$1.6208"},7.88,{"$f":"ROUND(O88*P88,2)","v":{"v":12.77,"d":"$12.77"}},{"$f":"J88-Q88","v":{"v":39.17,"d":"$39.17"}},{"$f":"R88/F88","v":{"v":0.5440277777777778,"d":"$0.54"}},{"$f":"N88/F88","v":{"v":0.5440277777777778,"d":"$0.54"}}]
[null,"One portion must provide 2 M/MA. 2 EOG, and 1/8 cup Red/Orange Vegetable","Nardone's 16WRSRMP1",null,"64/6.9z",64,null,{"$f":"ROUND(G87*F87/F89,2)","v":0},"Cs",{"$nulls":5},{"v":1.6208,"d":"$1.6208"},5.92,{"$f":"ROUND(O89*P89,2)","v":{"v":9.6,"d":"$9.60"}}," "," "," "]
[null,"Possible Allergens:  Wheat, Milk, Soy"]
[18,"Pizza, Whole, 15-16\", Self Rising, Turkey/Beef Pepperoni","UNO SLMVPPCN16",null,"96/5.50z",96,0,{"$f":"ROUND($G$91*$F$91/F91,2)","v":0},"Cs",{"$nulls":5},{"v":1.6208,"d":"$1.6208"},10.5,{"$f":"ROUND(O91*P91,2)","v":{"v":17.02,"d":"$17.02"}},{"v":0,"d":"$0.00"},{"$f":"R91/F91","v":0},{"$f":"N91/F91","v":0}]
[null,"Frozen, \"Pizza Pie Shape\" cut into slices or cutter provided, 100% mozzarella, Whole grain","Nardone's 16WRSRMTP2",null,"64/6.90z",64,null,{"$f":"ROUND($G$91*$F$91/F92,2)","v":0},"Cs",{"v":53,"d":"$53.00"},{"$f":"IF(OR(ISBLANK(J92),G91=0,ISBLANK(G91)),,ROUND(J92+$K$3,2))","v":0},{"$f":"ROUND(H92*K92,2)","v":0},{"$f":"ROUND(K92/F92,2)","v":0},{"v":43.15,"d":"$43.15"},{"v":1.6208,"d":"$1.6208"},6.08,{"$f":"ROUND(O92*P92,2)","v":{"v":9.85,"d":"$9.85"}},{"$f":"J92-Q92","v":{"v":43.15,"d":"$43.15"}},{"v":0.67421875,"d":"$0.67"},{"v":0.67421875,"d":"$0.67"}]
[null,"One portion must provide 2 M/MA. 2 EOG, and 1/8 cup Red/Orange Vegetable"," ",null," "," "," "," "," "," "," "," "," ",null,"  "," "," ",null," "," "]
[null,"Possible Allergens:  Wheat, Milk, Soy"]
[19,"Pizza, Whole, 15-16\", Self Rising, Buffalo Chicken","Schwann's 78639",null,"72/5.21z",72,0,{"$f":"ROUND($G$95*$F$95/F95,2)","v":0},"Cs",{"v":62.13,"d":"$62.13"},{"$f":"IF(OR(ISBLANK(J95),G95=0,ISBLANK(G95)),,ROUND(J95+$K$3,2))","v":0},{"$f":"ROUND(H95*K95,2)","v":0},{"$f":"ROUND(K95/F95,2)","v":0},null,{"v":1.6208,"d":"$1.6208"},7.59,{"$f":"ROUND(O95*P95,2)","v":{"v":12.3,"d":"$12.30"}},{"$f":"J95-Q95","v":{"v":49.83,"d":"$49.83"}},{"$f":"R95/F95","v":{"v":0.6920833333333333,"d":"$0.69"}},{"$f":"N95/F95","v":0}]
[null,"Frozen, \"Pizza Pie Shape\" Chicken Buffalo cut into slices or cutter provided, 100% mozz.,"," ",null," "," ",null," "," ",null," "," "," ",null,"  "," "," ",null,"  "," "]
[null,"WG, One portion must provide 2 M/MA. 2 EOG, and 1/8 cup Red/Orange Vegetable"," ",null," "," ",null," "," ",null," "," "," ",null," "," "," ",null," "," "]
[null,"Possible Allergens:  Wheat, Milk, Soy"]
[20,"Pizza, Whole, 15-16\", Self Rising, Supreme","Alpha Foods SP1668RW",null,"72/7.19z",72,0,{"$f":"ROUND($G$99*$F$99/F99,2)","v":0},"Cs",{"v":59.32,"d":"$59.32"},{"$f":"IF(OR(ISBLANK(J99),G99=0,ISBLANK(G99)),,ROUND(J99+$K$3,2))","v":0},{"$f":"ROUND(H99*K99,2)","v":0},{"$f":"ROUND(K99/F99,2)","v":0},{"v":44.73,"d":"$44.73"},{"v":1.6208,"d":"$1.6208"},9,{"$f":"ROUND(O99*P99,2)","v":{"v":14.59,"d":"$14.59"}},{"$f":"J99-Q99","v":{"v":44.730000000000004,"d":"$44.73"}},{"$f":"R99/F99","v":{"v":0.6212500000000001,"d":"$0.62"}},{"$f":"N99/F99","v":{"v":0.62125,"d":"$0.62"}}]
[null,"Frozen, \"Pizza Pie Shape\" cut into slices or cutter provided, 100% mozzarella, Whole grain","Nardone's 16WSRSUP",null,"64/7.43z",64,null,{"$f":"ROUND($G$99*$F$99/F100,2)","v":0},"Cs",{"$nulls":5},{"v":1.6208,"d":"$1.6208"},5.75,{"$f":"ROUND(O100*P100,2)","v":{"v":9.32,"d":"$9.32"}},{"v":0,"d":"$0.00"},0,0]
[null,"One portion must provide 2 M/MA. 2 EOG, and 1/8 cup Red/Orange Vegetable"," ",null," "," "," "," "," "," "," "," "," ",null,"  "," "," ",null," "," "]
[null,"Possible Allergens:  Wheat, Milk, Soy",{"$nulls":17}," "]
[21,"Pizza, Whole, 15-16\" Self Rising, Four Cheese","Alpha Foods SP1622RW",null,"72/6.56z",72,0,{"$f":"ROUND($G$103*$F$103/F103,2)","v":0},"Cs",{"v":52.64,"d":"$52.64"},{"$f":"IF(OR(ISBLANK(J103),G103=0,ISBLANK(G103)),,ROUND(J103+$K$3,2))","v":0},{"$f":"ROUND(H103*K103,2)","v":0},{"$f":"ROUND(K103/F103,2)","v":0},{"v":38.96,"d":"$38.96"},{"v":1.6208,"d":"$1.6208"},8.44,{"$f":"ROUND(O103*P103,2)","v":{"v":13.68,"d":"$13.68"}},{"$f":"J103-Q103","v":{"v":38.96,"d":"$38.96"}},{"$f":"R103/F103","v":{"v":0.5411111111111111,"d":"$0.54"}},{"$f":"N103/F103","v":{"v":0.5411111111111111,"d":"$0.54"}}]
[null,"Frozen, \"Pizza Pie Shaped\" cut into slices or cutter provided 100% mozzarella, whole grain","Nardone's 16WSRFC2",null,"64/5.13z",64,null,{"$f":"ROUND($G$103*$F$103/F104,2)","v":0},"Cs",{"$nulls":5},{"v":1.6208,"d":"$1.6208"},8,{"$f":"ROUND(O104*P104,2)","v":{"v":12.97,"d":"$12.97"}},{"$f":"IF(ISBLANK(J104),0,J104-Q104)","v":{"v":0,"d":"$0.00"}},{"$f":"R104/F104","v":0},0]
[null,"One portion must provide 2 M/MA. 2 EOG, and 1/8 cup Red/Orange Vegetable","Schwann's 78637",null,"72/5.18z",72,null,{"$f":"ROUND($G$103*$F$103/F105,2)","v":0},"Cs",{"$nulls":5},{"v":1.6208,"d":"$1.6208"},9,{"$f":"ROUND(O105*P105,2)","v":{"v":14.59,"d":"$14.59"}},{"$f":"IF(ISBLANK(J105),0,J105-Q105)","v":{"v":0,"d":"$0.00"}},{"$f":"R105/F105","v":0},0]
[null,"Possible Allergens:  Wheat, Milk, Soy"]
[22,"Pizza, Presliced, 15-16\", Parbaked, Turkey or Beef Pepperoni","Nardone's 64WPSTP3",null,"64/5.0z",64,0,{"$f":"ROUND($G$107*$F$107/F107,2)","v":0},"Cs",{"v":51,"d":"$51.00"},{"$f":"IF(OR(ISBLANK(J107),G107=0,ISBLANK(G107)),,ROUND(J107+$K$3,2))","v":0},{"$f":"ROUND(H107*K107,2)","v":0},{"$f":"ROUND(K107/F107,2)","v":0},{"v":39.98,"d":"$39.98"},{"v":1.6208,"d":"$1.6208"},6.8,{"$f":"ROUND(O107*P107,2)","v":{"v":11.02,"d":"$11.02"}},{"$f":"IF(ISBLANK(J107),0,J107-Q107)","v":{"v":39.980000000000004,"d":"$39.98"}},{"$f":"R107/F107","v":{"v":0.6246875000000001,"d":"$0.62"}},{"$f":"N107/F107","v":{"v":0.6246875,"d":"$0.62"}}]
[null,"Frozen, \"Pizza Pie Shaped cut into slices, 100% mozzarella"," ",null," "," "," "," "," ",null," "," "," ",null,"  "," "," ",null," "," "]
[null,"One portion must provide 2 M/MA. 2 EOG, and 1/8 cup Red/Orange Vegetable"," ",null," "," "," "," "," "," "," "," "," ",null,"  "," "," ",null," "," "]
[null,"Possible Allergens:  Wheat, Milk, Soy",{"$nulls":17}," "]
[23,"Pizza, Presliced, 15-16\", Parbaked, Buffalo Chicken","Nardone's 64WPSBC",null,"64/4.60z",64,0,{"$f":"ROUND($G$111*$F$111/F111,2)","v":0},"Cs",{"v":54,"d":"$54.00"},{"$f":"IF(OR(ISBLANK(J111),G111=0,ISBLANK(G111)),,ROUND(J111+$K$3,2))","v":0},{"$f":"ROUND(H111*K111,2)","v":0},{"$f":"ROUND(K111/F111,2)","v":0},{"v":44.28,"d":"$44.28"},{"v":1.6208,"d":"$1.6208"},6,{"$f":"ROUND(O111*P111,2)","v":{"v":9.72,"d":"$9.72"}},{"$f":"J111-Q111","v":{"v":44.28,"d":"$44.28"}},{"$f":"R111/F111","v":{"v":0.691875,"d":"$0.69"}},{"$f":"N111/F111","v":{"v":0.691875,"d":"$0.69"}}]
[null,"Frozen, \"Pizza Pie Shaped cut into slices, 100% mozzarella"," ",null," "," ",null,null," ",null," "," "," ",null," "," "," ",null," "," "]
[null,"One portion must provide 2 M/MA. 2 EOG, and 1/8 cup Red/Orange Vegetable"," ",null," "," "," "," "," "," "," "," "," ",null,"  "," "," ",null," "," "]
[null,"Possible Allergens:  Wheat, Milk, Soy",{"$nulls":17}," "]
[24,"Pizza, Whole, 15-16\", 100% Mozz. Turkey Pepperoni, Four Cheese, WG","(18-19) Schwann's 78638",null,"72/5.18z",72,0,{"$f":"ROUND($G$115*$F$115/F115,2)","v":0},"Cs",{"v":61.55,"d":"$61.55"},{"$f":"IF(OR(ISBLANK(J115),G115=0,ISBLANK(G115)),,ROUND(J115+$K$3,2))","v":0},{"$f":"ROUND(H115*K115,2)","v":0},{"$f":"ROUND(K115/F115,2)","v":0},null,{"v":1.6208,"d":"$1.6208"},7.2,{"$f":"ROUND(O115*P115,2)","v":{"v":11.67,"d":"$11.67"}},{"$f":"J115-Q115","v":{"v":49.879999999999995,"d":"$49.88"}},{"$f":"R115/F115","v":{"v":0.6927777777777777,"d":"$0.69"}},{"$f":"N115/F115","v":0}]
[null,"Frozen, WGR, Made with mozzarella, provolone, cheddar and parmesan, Self Rising, "," ",null," "," ",null," "," ",null," "," "," ",null," "," "," ",null," "," "]
[null,"300-400 calories with no more than 8 g sat fat and 500 mg sodium per serving.  CN "]
[null,"Labeled for one 1/8 pizza to provide min. 2 M/MA, 2 OEG, and 1/8 c Red/Orange Vegetable"]
[null," "," ",null," "," "," "," "," "," "," "," "," ",null,"  "," "," ",null," "," "]
[null,"Possible Allergens:  Wheat, Milk, Soy",{"$nulls":17}," "]
[25,"Pizza, Whole, 15-16\", 100% Mozz, Four Meat, WG Self Rising","Schwann's 78640",null,"72/5.30z",72,0,{"$f":"ROUND($G$121*$F$121/F121,2)","v":0},"Cs",{"v":63.13,"d":"$63.13"},{"$f":"IF(OR(ISBLANK(J121),G121=0,ISBLANK(G121)),,ROUND(J121+$K$3,2))","v":0},{"$f":"ROUND(H121*K121,2)","v":0},{"$f":"ROUND(K121/F121,2)","v":0},0,{"v":1.6208,"d":"$1.6208"},6.46,{"$f":"ROUND(O121*P121,2)","v":{"v":10.47,"d":"$10.47"}},{"$f":"J121-Q121","v":{"v":52.660000000000004,"d":"$52.66"}},{"$f":"R121/F121","v":{"v":0.731388888888889,"d":"$0.73"}},{"$f":"N121/F121","v":0}]
[null,"Frozen, whole grain rich. 100% mozz, Topped with ham, sausage and pepperoni 300-400 "," ",null," "," ",null," "," ",null," "," "," ",null," "," "," ",null," "," "]
[null,"calories with no more than 8 g sat fat and 660 mg sodium per serving. CN labeled for one "]
[null,"1/8 pizza to provide min. 2 M/MA, 2 OEG, and 1/8 c Red/Orange Vegetable"]
[null,"Possible Allergens:  Wheat, Milk, Soy",{"$nulls":17}," "]
[26,"Pizza, Whole, 15-16\", 100% Mozz, Four Cheese, Pork Pepperoni, 10 Cut  Par Baked","SA Piazza (Wild  Mike's) 20210",null,"90/5.50z",90,0,{"$f":"ROUND($G$126*$F$126/F126,2)","v":0},"Cs",{"v":69.4,"d":"$69.40"},{"$f":"IF(OR(ISBLANK(J126),G126=0,ISBLANK(G126)),,ROUND(J126+$K$3,2))","v":0},{"$f":"ROUND(H126*K126,2)","v":0},{"$f":"ROUND(K126/F126,2)","v":0},{"v":53.34,"d":"$53.34"},{"v":1.6208,"d":"$1.6208"},9.95,{"$f":"ROUND(O126*P126,2)","v":{"v":16.13,"d":"$16.13"}},{"$f":"J126-Q126","v":{"v":53.27000000000001,"d":"$53.27"}},{"$f":"R126/F126","v":{"v":0.591888888888889,"d":"$0.59"}},{"$f":"N126/F126","v":{"v":0.5926666666666667,"d":"$0.59"}}]
[null,"Frozen, whole grain rich. 100% mozz, 300-400 calories with not nore than 10g  sat fat"," ",null," "," ",null," "," ",null," "," "," ",null," "," "," ",null," "," "]
[null,"and 600 mg sodium per serving.  CN Labeled for one 1/8 pizza to provide min. 2 M/MA and"]
[null,"2 OEG"]
[null,"Possible Allergens:  Wheat, Milk",{"$nulls":17}," "]
[27,"Pizza, Whole, 15-16\", 100% Mozz, Four Cheese, Parbaked WG","Schwann's 68591",null,"72/5.13z",72,0,{"$f":"ROUND($G$137*$F$137/F131,2)","v":0},"Cs",{"$nulls":5},{"v":1.6208,"d":"$1.6208"},9,{"$f":"ROUND(O131*P131,2)","v":{"v":14.59,"d":"$14.59"}},{"$f":"K131-Q131","v":{"v":-14.59,"d":"-$14.59"}},{"$f":"R131/F131","v":{"v":-0.2026388888888889,"d":"$(0.20)"}},{"$f":"N131/F131","v":0}]
[null,"Frozen, whole grain rich. Made with mozzarella, provolone, cheddar and parmesian ","Nardone's 16WFC",null,"64/5.13z",64,null,{"$f":"ROUND($G$137*$F$137/F132,2)","v":0},"Cs",{"v":45,"d":"$45.00"},{"$f":"IF(OR(ISBLANK(J132),G131=0,ISBLANK(G131)),,ROUND(J132+$K$3,2))","v":0},{"$f":"ROUND(H132*K132,2)","v":0},{"$f":"ROUND(K132/F132,2)","v":0},{"v":32.03,"d":"$32.03"},{"v":1.6208,"d":"$1.6208"},8,{"$f":"ROUND(O132*P132,2)","v":{"v":12.97,"d":"$12.97"}},{"$f":"J132-Q132","v":{"v":32.03,"d":"$32.03"}},{"$f":"R132/F132","v":{"v":0.50046875,"d":"$0.50"}},{"$f":"N132/F132","v":{"v":0.50046875,"d":"$0.50"}}]
[null,"300-400 calories with no more than 8 g sat fat and 500 mg sodium per serving.  CN "]
[null,"Labeled for one 1/8 pizza to provide min. 2 M/MA, 2 OEG, and 1/8 c Red/Orange Vegetable"]
[null," "," ",null," "," "," "," "," "," "," "," "," ",null,"  "," "," ",null," "," "]
[null,"Possible Allergens:  Wheat, Milk, Soy",{"$nulls":17}," "]
[28,"Pizza, Turkey Sausage and Textured Vegetable Protein Pizza","Schwann's 68534",null,"96/5.21z",96,0,{"$f":"ROUND($G$137*$F$137/F137,2)","v":0},"Cs",{"v":47.46,"d":"$47.46"},{"$f":"IF(OR(ISBLANK(J137),G137=0,ISBLANK(G137)),,ROUND(J137+$K$3,2))","v":0},{"$f":"ROUND(H137*K137,2)","v":0},{"$f":"ROUND(K137/F137,2)","v":0},null,{"v":1.6208,"d":"$1.6208"},8.77,{"v":14.22,"d":"$14.22"},{"$f":"J137-Q137","v":{"v":33.24,"d":"$33.24"}},{"$f":"R137/F137","v":{"v":0.34625,"d":"$0.35"}},{"$f":"N137/F137","v":0}]
[null,"Frozen, 300-400 calories with no more than 7 g sat fat and 550 mg sodium per serving."," "]
[null,"CN Labeled for one 1/8 pizza to provide min. 2 M/MA, 2 OEG, and 1/8 c Red/Orange"]
[null,"Vegetable"]
[null," "," ",null," "," "," "," "," "," "," "," "," ",null,"  "," "," ",null," "," "]
[null,"Possible Allergens:  Wheat, Milk, Soy"]
[null,"Breakfast",{"$nulls":17}," "]
[29,"Breakfast Bagel, Turkey Sausage","Tasty Brands 55202",null,"120/2.72z",120,0,{"$f":"ROUND($G$144*$F$144/F144,2)","v":0},"Cs",{"v":49.33,"d":"$49.33"},{"$f":"IF(OR(ISBLANK(J144),G144=0,ISBLANK(G144)),,ROUND(J144+$K$3,2))","v":0},{"$f":"ROUND(H144*K144,2)","v":0},{"$f":"ROUND(K144/F144,2)","v":0},{"v":46.28,"d":"$46.28"},{"v":1.6046,"d":"$1.6046"},1.9,{"$f":"ROUND(O144*P144,2)","v":{"v":3.05,"d":"$3.05"}},{"$f":"K144-Q144","v":{"v":-3.05,"d":"-$3.05"}},{"$f":"R144/F144","v":{"v":-0.025416666666666664,"d":"$(0.03)"}},{"$f":"N144/F144","v":{"v":0.38566666666666666,"d":"$0.39"}}]
[null,"Frozen, Cream style gravy topping","Nardone's M96WBTSG",null,"96/2.65z",96,null,{"$f":"ROUND($G$144*$F$144/F145,2)","v":0},"Cs",{"$nulls":5},{"v":1.6208,"d":"$1.6208"},4.2,{"$f":"ROUND(O145*P145,2)","v":{"v":6.81,"d":"$6.81"}}," "," "," "]
[null,"One serving must provide 1 M/MA and 1 EOG Whole grain"," ",null," "," "," "," "," "," "," "," "," ",null,"  "," "," ",null," "," "]
[null,"Possible Allergens:  Wheat, Milk, Soy",{"$nulls":17}," "]
[30,"Breakfast Bagel, 100% Mozz. Turkey Sausage, WG, IW","Nardone's M96WBTS1",null,"96/3.10z",96,0,{"$f":"ROUND($G$148*$F$148/F148,2)","v":0},"Cs",{"v":50,"d":"$50.00"},{"$f":"IF(OR(ISBLANK(J148),G148=0,ISBLANK(G148)),,ROUND(J148+$K$3,2))","v":0},{"$f":"ROUND(H148*K148,2)","v":0},{"$f":"ROUND(K148/F148,2)","v":0},{"v":43.19,"d":"$43.19"},{"v":1.6208,"d":"$1.6208"},4.2,{"$f":"ROUND(O148*P148,2)","v":{"v":6.81,"d":"$6.81"}},{"$f":"J148-Q148","v":{"v":43.19,"d":"$43.19"}},{"$f":"R148/F148","v":{"v":0.44989583333333333,"d":"$0.45"}},{"$f":"N148/F148","v":{"v":0.44989583333333333,"d":"$0.45"}}]
[null,"Frozen, whole grain rich, pizza sauce topping, 150-250 calories with no more than 3 g sat "]
[null,"fat per serving.  CN labeled for one serving to provide min. 1 M/MA, 1 OEG, and 1/8 c "]
[null,"Red/Orange Vegetable.  Individual Ovenable Wrap"," ",null," "," ",null," "," ",null," "," "," ",null," "," "," ",null," "," "]
[null,"Possible Allergens:  Wheat, Milk, Soy",{"$nulls":17}," "]
[31,"Breakfast Pizza, 100% Mozz. Pork Sausage, WG","Nardone 80WS100",null,"80/3.30z",80,0,{"$f":"ROUND($G$153*$F$153/F153,2)","v":0},"Cs",{"v":27,"d":"$27.00"},{"$f":"IF(OR(ISBLANK(J153),G153=0,ISBLANK(G153)),,ROUND(J153+$K$3,2))","v":0},{"$f":"ROUND(H153*K153,2)","v":0},{"$f":"ROUND(K153/F153,2)","v":0},{"v":20.92,"d":"$20.92"},{"v":1.6208,"d":"$1.6208"},3.75,{"$f":"ROUND(O153*P153,2)","v":{"v":6.08,"d":"$6.08"}},{"$f":"J153-Q153","v":{"v":20.92,"d":"$20.92"}},{"$f":"R153/F153","v":{"v":0.2615,"d":"$0.26"}},{"$f":"N153/F153","v":{"v":0.2615,"d":"$0.26"}}]
[null,"Frozen, WGR, 3\" x 5\" biscuit style crust with pizza sauce.  150-250 calories with no more "," ",null," "," ",null," "," ",null," "," "," ",null," "," "," ",null," "," "]
[null,"than 4 g sat fat and 350 mg sodium per serving. CN Labeled for one portion to provide "]
[null,"min. 1 M/MA, 1.5 OEG, and 1/8 c Red/Orange Vegetable"]
[null," "," ",null," "," "," "," "," "," "," "," "," ",null,"  "," "," ",null," "," "]
[null,"Possible Allergens:  Wheat, Milk",{"$nulls":17}," "]
[32,"Breakfast Pizza, Egg and Turkey Sausage, WG, IW","Conagra Max 12468",null,"96/3.21z",96,0,{"$f":"ROUND($G$159*$F$159/F159,2)","v":0},"Cs",{"v":47.5,"d":"$47.50"},{"$f":"IF(OR(ISBLANK(J159),G159=0,ISBLANK(G159)),,ROUND(J159+$K$3,2))","v":0},{"$f":"ROUND(H159*K159,2)","v":0},{"$f":"ROUND(K159/F159,2)","v":0},{"v":46.03,"d":"$46.03"},{"v":1.6208,"d":"$1.6208"},0.91,{"$f":"ROUND(O159*P159,2)","v":{"v":1.47,"d":"$1.47"}},{"$f":"J159-Q159","v":{"v":46.03,"d":"$46.03"}},{"$f":"R159/F159","v":{"v":0.4794791666666667,"d":"$0.48"}},{"$f":"N159/F159","v":{"v":0.4794791666666667,"d":"$0.48"}}]
[null,"Frozen, whole grain rich, turkey sausage, 150-250 calories with no more than 2 g sat fat "]
[null,"and 350 mg sodium per serving.  CN Labeled for one serving to provide 1 M/MA and 1.5 OEG"]
[null," "," "," "," "," ",null," ","  "," "," "," "," ",null," "," "," "," "," "," "]
[null,"Possible Allergens:  Wheat, Soy, Milk and Eggs",{"$nulls":17}," "]
[33,"Breakfast Pizza, 100% Mozz. Beef, Red Sauce, WG IW","SA Piazza (Wild Mike's) 90502",null,"160/2.80z",160,0,{"$f":"ROUND($G$164*$F$164/F164,2)","v":0},"Cs",{"v":75.06,"d":"$75.06"},{"$f":"IF(OR(ISBLANK(J164),G164=0,ISBLANK(G164)),,ROUND(J164+$K$3,2))","v":0},{"$f":"ROUND(H164*K164,2)","v":0},{"$f":"ROUND(K164/F164,2)","v":0},{"v":63.55,"d":"$63.55"},{"v":1.6208,"d":"$1.6208"},7.19,{"$f":"ROUND(O164*P164,2)","v":{"v":11.65,"d":"$11.65"}},{"$f":"K164-Q164","v":{"v":-11.65,"d":"-$11.65"}},{"$f":"R164/F164","v":{"v":-0.0728125,"d":"$(0.07)"}},{"$f":"N164/F164","v":{"v":0.39718749999999997,"d":"$0.40"}}]
[null,"Frozen, whole grain rich, beef topping, 150-250 calories with no more than 4 g sat fat "]
[null,"and 300 mg sodium per serving. One serving to provide 1 M/MA, 1 OEG and 1/8 c "]
[null,"Red/Orange Vegetable.  "," "," "," "," ",null," ","  "," "," "," "," ",null," "," "," "," "," "," "]
[null,"Possible Allergens:  Milk and Wheat",{"$nulls":17}," "]
[34,"Breakfast Pizza, Flatbread, Eggs, Sausage, Bacon, and Cheese Sauce","Nardone's 80WBF",null,"80/2.40z",80,0,{"$f":"ROUND($G$169*$F$169/F169,2)","v":0},"Cs",{"v":43,"d":"$43.00"},{"$f":"IF(OR(ISBLANK(J169),G169=0,ISBLANK(G169)),,ROUND(J169+$K$3,2))","v":0},{"$f":"ROUND(H169*K169,2)","v":0},{"$f":"ROUND(K169/F169,2)","v":0},{"v":38.95,"d":"$38.95"},{"v":1.6208,"d":"$1.6208"},2.5,{"v":4.06,"d":"$4.06"},{"$f":"J169-Q169","v":{"v":38.94,"d":"$38.94"}},{"$f":"R169/F169","v":{"v":0.48674999999999996,"d":"$0.49"}},{"$f":"N169/F169","v":{"v":0.48687500000000006,"d":"$0.49"}}]
[null,"Frozen, WGR, 100-200 calories with no more than 4 g sat fat and 500 mg sodium per "]
[null,"serving.  One serving to provide 1 M/MA and 1 OEG, 3 x 5"," ",null," "," "," "," "," "," "," "," "," ",null,"  "," "," ",null," "," "]
[null,"Possible Allergens:  Wheat, Milk, Wheat",{"$nulls":17}," "]
[]
[{"$nulls":6},0,null,"Page Total",null,null,{"$f":"SUMIF(L8:L172,\">0\")","v":{"v":34250,"d":"$34,250.00"}}]

{"sheet":"Frozen Entrees","index":8,"n_rows":103,"n_cols":20,"rows_kept":103,"merged":[[0,4,0,12],[0,14,0,19],[1,4,1,12],[2,5,2,9]]}
[null,{"$f":"'Recap Sheet'!A2","v":"School Food Authority:"},null,null,{"$f":"'Recap Sheet'!A3","v":"Offeror Name:"},{"$nulls":9},"Commodity"]
[null,{"$f":"'Recap Sheet'!B2","v":"Colleton County School District Office of Student Nutrition"},"Return to Recap Sheet",null,{"$f":"'Recap Sheet'!B3","v":{"v":0,"d":"0 "}}]
["Item","Description","Approved Brand Name / Manuf ID # ",null,null,"Firm Fixed Fee",{"$nulls":4},{"$f":"'Recap Sheet'!B4","v":{"v":0,"d":"$0.00"}},null,null,"Processing","Commodity","Pounds of",null,"NOI ","Net NOI","Total Cost"]
["#",null,null,"Distributor","Vendor","Svgs","Est.","Bid ","Bid","Unit","Unit Price","Total ","Cost per","Fee For","Value Per","DF Needed","Commodity","Net ","Cost Per","Processing Fee"]
[{"$nulls":3},"Code","Pack","per unit","Bid Qty","Qty","Unit","Price","plus Fee","Price","Unit","Service","Pound","Per Case","Value ","Price","Serving","Per Serving"]
[null,"Frozen Entrees",{"$nulls":12},"Commodity #'s 110244 and 110242"]
[]
[1,"Calzone, 100% Mozz. w/Pizza Sauce and Pepperoni, WG","Albie's 813",null,"48/4.50z",48,0,{"$f":"ROUND(G8*F8/F8,2)","v":0},"Cs",{"v":33.6,"d":"$33.60"},{"$f":"IF(OR(ISBLANK(J8),G8=0,ISBLANK(G8)),,ROUND(J8+$K$3,2))","v":0},{"$f":"ROUND(H8*K8,2)","v":0},{"$f":"ROUND(K8/F8,2)","v":0},{"v":31.14,"d":"$31.14"},{"v":1.6208,"d":"$1.6208"},3,{"$f":"ROUND(O8*P8,2)","v":{"v":4.86,"d":"$4.86"}},{"$f":"J8-Q8","v":{"v":28.740000000000002,"d":"$28.74"}},{"$f":"R8/F8","v":{"v":0.59875,"d":"$0.60"}},{"$f":"N8/F8","v":{"v":0.64875,"d":"$0.65"}}]
[null,"Frozen, 250-350 calories with no more than 6 g sat fat and 500 mg sodium per serving.  "," ",null," "]
[null,"One portion to provide a min. 2 M/MA and 2 OEG"," ",null," "]
[null,"Possible Allergens:  Wheat, Soy, Milk"]
[2,"Calzone, 3 Cheese w/Pizza Sauce, WG","Gilardi 20120",null,"60/4.69z",60,0,{"$f":"ROUND($G$12*$F$12/F12,2)","v":0},"Cs",{"v":41,"d":"$41.00"},{"$f":"IF(OR(ISBLANK(J12),G12=0,ISBLANK(G12)),,ROUND(J12+$K$3,2))","v":0},{"$f":"ROUND(H12*K12,2)","v":0},{"$f":"ROUND(K12/F12,2)","v":0},{"v":31.36,"d":"$31.36"},{"v":1.6208,"d":"$1.6208"},6.07,{"$f":"ROUND(O12*P12,2)","v":{"v":9.84,"d":"$9.84"}},{"$f":"J12-Q12","v":{"v":31.16,"d":"$31.16"}},{"$f":"R12/F12","v":{"v":0.5193333333333333,"d":"$0.52"}},{"$f":"N12/F12","v":{"v":0.5226666666666666,"d":"$0.52"}}]
[null,"Frozen, 200-300 calories with no more than 3 g sat fat and 500 mg sodium per serving."]
[null,"One portion to provide a min. 2 M/MA and 2 OEG 1/8 cup red/orange vegetable"]
[null,"Possible Allergens:  Wheat, Soy, Milk"]
[3,"Cheese Sticks, Mozzarella Filled Twisted Topped","Tasty Brands 62002",null,"90/3.10z",90,75,{"$f":"ROUND(G16*F16/F16,2)","v":75},"Cs",{"v":40.03,"d":"$40.03"},{"$f":"IF(OR(ISBLANK(J16),G16=0,ISBLANK(G16)),,ROUND(J16+$K$3,2))","v":{"v":40.03,"d":"$40.03"}},{"$f":"ROUND(H16*K16,2)","v":{"v":3002.25,"d":"$3,002.25"}},{"$f":"ROUND(K16/F16,2)","v":{"v":0.44,"d":"$0.44"}},{"v":31,"d":"$31.00"},{"v":1.6046,"d":"$1.6046"},5.625,{"$f":"ROUND(O16*P16,2)","v":{"v":9.03,"d":"$9.03"}},{"$f":"J16-Q16","v":{"v":31,"d":"$31.00"}},{"$f":"R16/F16","v":{"v":0.34444444444444444,"d":"$0.34"}},{"$f":"N16/F16","v":{"v":0.34444444444444444,"d":"$0.34"}}]
[null,"Frozen, low moisture, 200-300 calories with no more  than 8 g sat fat and 400 mg of sodium "," "]
[null,"per serving, 0 trans fats, One serving to provide 1 M/MA and 2 OEG"]
[null," "]
[null,"Possible Allergens: Wheat, Milk, Soy"]
[4,"Cheese Sticks, Breaded Mozzarella, Italian Style WG","High Liner Foods G1042DF",null,"83/4.20z",83,0,{"$f":"ROUND(G21*F21/F21,2)","v":0},"Cs",{"v":40.02,"d":"$40.02"},{"$f":"IF(OR(ISBLANK(J21),G21=0,ISBLANK(G21)),,ROUND(J21+$K$3,2))","v":0},{"$f":"ROUND(H21*K21,2)","v":0},{"$f":"ROUND(K21/F21,2)","v":0},{"v":23.08,"d":"$23.08"},{"v":1.6208,"d":"$1.6208"},10.45,{"$f":"ROUND(O21*P21,2)","v":{"v":16.94,"d":"$16.94"}},{"$f":"J21-Q21","v":{"v":23.080000000000002,"d":"$23.08"}},{"$f":"R21/F21","v":{"v":0.2780722891566265,"d":"$0.28"}},{"$f":"N21/F21","v":{"v":0.27807228915662646,"d":"$0.28"}}]
[null,"Frozen, low moisture part skim mozzarella cheese stick with WGR breading, may be "]
[null,"prepared in oven or fryer, 200-300 cal with no more than 8 g sat fat and 400 mg sodium  "]
[null,"per serving. 0 Trans Fats, CN Labeled for 5 stick portion to provide 2 M/MA and 1.5 OEG"]
[null,"Possible Allergens: Wheat, Milk"]
[5,"Egg Roll, Chicken, WG","Minh 69461",null,"60/3.oz",60,200,{"$f":"ROUND(G26*F26/F26,2)","v":200},"Cs",{"v":30.8,"d":"$30.80"},{"$f":"IF(OR(ISBLANK(J26),G26=0,ISBLANK(G26)),,ROUND(J26+$K$3,2))","v":{"v":30.8,"d":"$30.80"}},{"$f":"ROUND(H26*K26,2)","v":{"v":6160,"d":"$6,160.00"}},{"$f":"ROUND(K26/F26,2)","v":{"v":0.51,"d":"$0.51"}},{"v":21.45,"d":"$21.45"},{"v":0.1049,"d":"$0.1049"},18.75,{"$f":"ROUND(O26*P26,2)","v":{"v":1.97,"d":"$1.97"}},{"$f":"K26-Q26","v":{"v":28.830000000000002,"d":"$28.83"}},{"$f":"R26/F26","v":{"v":0.48050000000000004,"d":"$0.48"}},{"$f":"N26/F26","v":{"v":0.3575,"d":"$0.36"}}]
[null,"Frozen, chicken with vegetables in WG egg roll wrapper, 150-250 calories with no more "]
[null,"than 2 g sat fat and 450 mg sodium per serving.  CN Labeled for one portion to provide"]
[null,"min 1 M/MA, 1 OEG and 1/4 c vegetable"]
[null,"Possible Allergens: Milk, Wheat, Soy and Egg"]
[6,"Enchilada, Beef, WG","Fernandos/Foster Farm 5279",null,"112/2.5z",112,0,{"$f":"ROUND(G31*F31/F31,2)","v":0},"Cs",{"v":34.39,"d":"$34.39"},{"$f":"IF(OR(ISBLANK(J31),G31=0,ISBLANK(G31)),,ROUND(J31+$K$3,2))","v":0},{"$f":"ROUND(H31*K31,2)","v":0},{"$f":"ROUND(K31/F31,2)","v":0},{"v":21.45,"d":"$21.45"},{"v":0.1049,"d":"$0.1049"},18.75," "," ",{"$f":"R31/F31","v":{"$error":"#VALUE!"}},{"$f":"N31/F31","v":{"v":0.19151785714285713,"d":"$0.19"}}]
[null,"Frozen, 100-200 calories with no more than  3 g sat fat and 300 mg sodium per serving"]
[null,"CN Labeled for one portion to provide min 1 M/MA and 1 OEG"]
[null," "]
[null,"Possible Allergens: Soy"]
[7,"Turkey Frank Wrapped in WW Flour, IW","Superbakery 3397",null,"64/4z",64,0,{"$f":"ROUND(G36*F36/F36,2)","v":0},"Cs",{"v":43.2,"d":"$43.20"},{"$f":"IF(OR(ISBLANK(J36),G36=0,ISBLANK(G36)),,ROUND(J36+$K$3,2))","v":0},{"$f":"ROUND(H36*K36,2)","v":0},{"$f":"ROUND(K36/F36,2)","v":0},0," "," "," "," ",{"$f":"R36/F36","v":{"$error":"#VALUE!"}},{"$f":"N36/F36","v":0}]
[null,"Frozen, Fully cooked, heat and serve, No nitrites or nitrates added, 200-300 calories and "]
[null,"not more than 4 g sat fat and 400 mg of sodium per serving.  Must meet 2 M/MA and 2 OEG"]
[null," "]
[null,"Possible Allergens: Wheat, Milk "]
[8,"Macaroni and Cheese, Reduced Fat, WG","Land O Lakes 43277",null,"6/5 lbs",80,200,{"$f":"ROUND(G41*F41/F41,2)","v":200},"Cs",{"v":53.38,"d":"$53.38"},{"$f":"IF(OR(ISBLANK(J41),G41=0,ISBLANK(G41)),,ROUND(J41+$K$3,2))","v":{"v":53.38,"d":"$53.38"}},{"$f":"ROUND(H41*K41,2)","v":{"v":10676,"d":"$10,676.00"}},{"$f":"ROUND(K41/F41,2)","v":{"v":0.67,"d":"$0.67"}},{"v":43.35,"d":"$43.35"},{"v":1.6551,"d":"$1.6551"},6.25,{"$f":"ROUND(O41*P41,2)","v":{"v":10.34,"d":"$10.34"}},{"$f":"J41-Q41","v":{"v":43.040000000000006,"d":"$43.04"}},{"$f":"R41/F41","v":{"v":0.538,"d":"$0.54"}},{"$f":"N41/F41","v":{"v":0.541875,"d":"$0.54"}}]
[null,"Frozen, processed American cheese in boil or steam pouch, 250-350 calories with no  ",{"$nulls":17}," "]
[null,"more than 6 g sat fat and 1000 mg sodium per svg. One portion to provide 2 M/MA & 1 OEG ",{"$nulls":17}," "]
[null,"Possible Allergens: Milk, Wheat, Egg"]
[9,"Ravioli, Mini Cheese, WG","Tasty Brands 00834WG",null,"221/2.17z",221,0,{"$f":"ROUND(G45*F45/F45,2)","v":0},"Cs",{"v":68.76,"d":"$68.76"},{"$f":"IF(OR(ISBLANK(J45),G45=0,ISBLANK(G45)),,ROUND(J45+$K$3,2))","v":0},{"$f":"ROUND(H45*K45,2)","v":0},{"$f":"ROUND(K45/F45,2)","v":0},{"v":60.38,"d":"$60.38"},{"v":1.6551,"d":"$1.6551"},5.22,{"$f":"ROUND(O45*P45,2)","v":{"v":8.64,"d":"$8.64"}},{"$f":"J45-Q45","v":{"v":60.120000000000005,"d":"$60.12"}},{"$f":"R45/F45","v":{"v":0.27203619909502263,"d":"$0.27"}},{"$f":"N45/F45","v":{"v":0.2732126696832579,"d":"$0.27"}}]
[null,"Frozen, whole grain pasta,  filled with mozzarella and ricotta cheese, 100-200 calories with "]
[null,"no more than  2 g sat fat and 300 mg sodium per svg. One portion provides 1 M/MA &.5 OEG"]
[null,"Possible Allergens: Wheat, Milk, Egg"]
[10,"Sandwich, Turkey, Ham and Cheese on Hawaiian Bun, WG","(18-19) Integrated 130018",null,"100/3.10z",100,100,{"$f":"ROUND(G49*F49/F49,2)","v":100},"Cs",{"v":57.11,"d":"$57.11"},{"$f":"IF(OR(ISBLANK(J49),G49=0,ISBLANK(G49)),,ROUND(J49+$K$3,2))","v":{"v":57.11,"d":"$57.11"}},{"$f":"ROUND(H49*K49,2)","v":{"v":5711,"d":"$5,711.00"}},{"$f":"ROUND(K49/F49,2)","v":{"v":0.57,"d":"$0.57"}},{"v":53.09,"d":"$53.09"},{"v":1.6046,"d":"$1.6046"},2.5,{"$f":"ROUND(O49*P49,2)","v":{"v":4.01,"d":"$4.01"}},{"$f":"J49-Q49","v":{"v":53.1,"d":"$53.10"}},{"$f":"R49/F49","v":{"v":0.531,"d":"$0.53"}},{"$f":"N49/F49","v":{"v":0.5309,"d":"$0.53"}}]
[null,"Frozen, 150-250 calories with no more than 2 g sat fat and 650 mg sodium per serving."," ",null,"  "," ",null," "," "," "," "," "," "," "," "," "," "," "," "," "]
[null,"One portion to provide min. 1 M/MA and 2 OEG"]
[null,"Possible Allergens:  Wheat, Soy"]
[11,"Sandwich, Fiesta Egg and Cheese","Advanced Pierre 68096",null,"100/2.35z",100,100,{"$f":"ROUND(G53*F53/F53,2)","v":100},"Cs",{"v":42.42,"d":"$42.42"},{"$f":"IF(OR(ISBLANK(J53),G53=0,ISBLANK(G53)),,ROUND(J53+$K$3,2))","v":{"v":42.42,"d":"$42.42"}},{"$f":"ROUND(H53*K53,2)","v":{"v":4242,"d":"$4,242.00"}},{"$f":"ROUND(K53/F53,2)","v":{"v":0.42,"d":"$0.42"}},null,{"v":1.6046,"d":"$1.6046"},2.5,{"$f":"ROUND(O53*P53,2)","v":{"v":4.01,"d":"$4.01"}},{"$f":"K53-Q53","v":{"v":38.410000000000004,"d":"$38.41"}},{"$f":"R53/F53","v":{"v":0.38410000000000005,"d":"$0.38"}},{"$f":"N53/F53","v":0}]
[null,"Frozen,. WGR, 100-200 calories with not more than 3 g sat fat and 300 mg sodium per"," ",null,"  "," ",null," "," "," "," "," "," "," "," "," "," "," "," "," "]
[null,"serving.  Provides .75 M/MA and 1.25 OEG"]
[null,"Possible Allergens:  Wheat, Soy, Milk, and Egg"]
[12,"Sandwich, Turkey Bacon, Egg, and Cheese Croissant, WG","Bakecrafters 4708",null,"48/3.42z",48,50,{"$f":"ROUND(G57*F57/F57,2)","v":50},"Cs",{"v":44.47,"d":"$44.47"},{"$f":"IF(OR(ISBLANK(J57),G57=0,ISBLANK(G57)),,ROUND(J57+$K$3,2))","v":{"v":44.47,"d":"$44.47"}},{"$f":"ROUND(H57*K57,2)","v":{"v":2223.5,"d":"$2,223.50"}},{"$f":"ROUND(K57/F57,2)","v":{"v":0.93,"d":"$0.93"}},{"v":42.74,"d":"$42.74"},{"v":1.6046,"d":"$1.6046"},1.08,{"$f":"ROUND(O57*P57,2)","v":{"v":1.73,"d":"$1.73"}},{"$f":"J57-Q57","v":{"v":42.74,"d":"$42.74"}},{"$f":"R57/F57","v":{"v":0.8904166666666667,"d":"$0.89"}},{"$f":"N57/F57","v":{"v":0.8904166666666667,"d":"$0.89"}}]
[null,"Frozen, thaw and serve, 200-350 calories, no more than 4 g sat fat and 750 mg sodium per  "," "]
[null,"serving.  One portion povides 1 M/MA and 2 OEG"]
[null,"Possible Allergens:  Wheat, Soy, Milk and Egg"]
[13,"Tornados, Steak and Cheese, WG","Ruiz Foods 86585",null,"144/2.79z",144,100,{"$f":"ROUND(G61*F61/F61,2)","v":100},"Cs",{"v":78.9,"d":"$78.90"},{"$f":"IF(OR(ISBLANK(J61),G61=0,ISBLANK(G61)),,ROUND(J61+$K$3,2))","v":{"v":78.9,"d":"$78.90"}},{"$f":"ROUND(H61*K61,2)","v":{"v":7890,"d":"$7,890.00"}},{"$f":"ROUND(K61/F61,2)","v":{"v":0.55,"d":"$0.55"}},{"v":19.4,"d":"$19.40"},{"v":0.1049,"d":"$0.1049"},43.64,{"$f":"ROUND(O61*P61,2)","v":{"v":4.58,"d":"$4.58"}},{"$f":"K61-Q61","v":{"v":74.32000000000001,"d":"$74.32"}},{"$f":"R61/F61","v":{"v":0.5161111111111112,"d":"$0.52"}},{"$f":"N61/F61","v":{"v":0.13472222222222222,"d":"$0.13"}}]
[null,"Frozen, thaw and serve, 100-200 calories with no more than 2 g sat fat and 400 mg sodium "," "]
[null,"per serving. One portion to provide min. .5 M/MA and 1.25 OEG"," "]
[null,"Possible Allergens:  Wheat, Soy, Milk "]
[{"$nulls":14},"Commodity Peanuts, Raw Shelled 110700"]
[1,"Peanut Butter & Grape Jelly, No HFCS, Crustless, WG, IW","Smuckers 5150006960",null,"72/2.6z",72,0,{"$f":"ROUND(G66*F66/F66,2)","v":0},"Cs",{"v":35.33,"d":"$35.33"},{"$f":"IF(OR(ISBLANK(J66),G66=0,ISBLANK(G66)),,ROUND(J66+$K$3,2))","v":0},{"$f":"ROUND(H66*K66,2)","v":0},{"$f":"ROUND(K66/F66,2)","v":0},{"v":31.94,"d":"$31.94"},{"v":0.453,"d":"$0.4530"},4.46,{"$f":"ROUND(O66*P66,2)","v":{"v":2.02,"d":"$2.02"}},{"$f":"N66","v":{"v":31.94,"d":"$31.94"}},{"$f":"R66/F66","v":{"v":0.4436111111111111,"d":"$0.44"}},{"$f":"N66/F66","v":{"v":0.4436111111111111,"d":"$0.44"}}]
[null,"Frozen, smooth peanut butter and grape jelly, crustless, whole grain bread, crimped edges,  "]
[null,"250-350 calories with no more than 4 g sat fat and 350 mg sodium per serving. "]
[null,"One portion to provide min. 1 M/MA and 1 OEG, Individually wrapped"]
[null,"Possible Allergens:  Wheat, Peanuts"]
[2,"Peanut Butter & Grape Jelly, No HFCS, Crustless, WG, IW","Smuckers 5150021027",null,"72/5.30z",72,0,{"$f":"ROUND(G71*F71/F71,2)","v":0},"Cs",{"v":64.1,"d":"$64.10"},{"$f":"IF(OR(ISBLANK(J71),G71=0,ISBLANK(G71)),,ROUND(J71+$K$3,2))","v":0},{"$f":"ROUND(H71*K71,2)","v":0},{"$f":"ROUND(K71/F71,2)","v":0},{"v":58.29,"d":"$58.29"},{"v":0.453,"d":"$0.4530"},8.91,{"$f":"ROUND(O71*P71,2)","v":{"v":4.04,"d":"$4.04"}},{"$f":"N71","v":{"v":58.29,"d":"$58.29"}},{"$f":"R71/F71","v":{"v":0.8095833333333333,"d":"$0.81"}},{"$f":"N71/F71","v":{"v":0.8095833333333333,"d":"$0.81"}}]
[null,"Frozen, smooth peanut butter and grape jelly, crustless, whole grain bread, crimped edges, "]
[null,"550-650 calories with no more than 7 g sat fat and 650 mg sodium per serving. "]
[null,"One portion to provide min. 2 M/MA and 2 OEG, Individually wrapped"]
[null,"Possible Allergens:  Wheat, Peanuts"]
[3,"Peanut Butter & Strawberry Jelly, No HFCS, Crustless, WG, IW","Smuckers 5150006961",null,"72/2.60z",72,0,{"$f":"ROUND(G76*F76/F76,2)","v":0},"Cs",{"v":36.89,"d":"$36.89"},{"$f":"IF(OR(ISBLANK(J76),G76=0,ISBLANK(G76)),,ROUND(J76+$K$3,2))","v":0},{"$f":"ROUND(H76*K76,2)","v":0},{"$f":"ROUND(K76/F76,2)","v":0},{"v":33.5,"d":"$33.50"},{"v":0.453,"d":"$0.4530"},4.46,{"$f":"ROUND(O76*P76,2)","v":{"v":2.02,"d":"$2.02"}},{"$f":"N76","v":{"v":33.5,"d":"$33.50"}},{"$f":"R76/F76","v":{"v":0.4652777777777778,"d":"$0.47"}},{"$f":"N76/F76","v":{"v":0.4652777777777778,"d":"$0.47"}}]
[null,"Frozen, smooth peanut butter and strawberry jelly, crustless, whole grain bread, crimped "]
[null,"edges, with no more than 3 g sat fat and 350 mg sodium per serving.  One portion to provide"]
[null,"min. 1 M/MA and 1 OEG, Individually wrapped"]
[null,"Possible Allergens:  Wheat, Peanuts"]
[4,"Peanut Butter Cups, Creamy, IW","Smucker-JIF 5150092100",null,"120/1.0z",120,100,{"$f":"ROUND(G81*F81/F81,2)","v":100},"Cs",{"v":31.2,"d":"$31.20"},{"$f":"IF(OR(ISBLANK(J81),G81=0,ISBLANK(G81)),,ROUND(J81+$K$3,2))","v":{"v":31.2,"d":"$31.20"}},{"$f":"ROUND(H81*K81,2)","v":{"v":3120,"d":"$3,120.00"}},{"$f":"ROUND(K81/F81,2)","v":{"v":0.26,"d":"$0.26"}},{"v":22.24,"d":"$22.24"},{"v":0.453,"d":"$0.4530"},7.4,{"$f":"ROUND(O81*P81,2)","v":{"v":3.35,"d":"$3.35"}},{"$f":"N81","v":{"v":22.24,"d":"$22.24"}},{"$f":"R81/F81","v":{"v":0.18533333333333332,"d":"$0.19"}},{"$f":"N81/F81","v":{"v":0.18533333333333332,"d":"$0.19"}}]
[null,"Shelf stable, smooth peanut butter, 100-200 calories with no more than 3 g sat fat and "]
[null,"150 mg sodium per serving, One portion to provide min 1 M/MA Individually wrapped"," "]
[null," "]
[null,"Possible Allergens:  Peanuts"]
[{"$nulls":9},"Category:  Peanut Butter Drum 100397"]
[1,"Peanut Butter & Grape Jelly, No HFCS, Crustless, WG, IW","Advanced Pierre 92123",null,"72/2.80z",72,200,{"$f":"ROUND(G87*F87/F87,2)","v":200},"Cs",{"v":29.99,"d":"$29.99"},{"$f":"IF(OR(ISBLANK(J87),G87=0,ISBLANK(G87)),,ROUND(J87+$K$3,2))","v":{"v":29.99,"d":"$29.99"}},{"$f":"ROUND(H87*K87,2)","v":{"v":5998,"d":"$5,998.00"}},{"$f":"ROUND(K87/F87,2)","v":{"v":0.42,"d":"$0.42"}},{"v":25.81,"d":"$25.81"},{"v":0.8426,"d":"$0.8426"},4.71,{"$f":"ROUND(O87*P87,2)","v":{"v":3.97,"d":"$3.97"}},{"$f":"J87-Q87","v":{"v":26.02,"d":"$26.02"}},{"$f":"R87/F87","v":{"v":0.36138888888888887,"d":"$0.36"}},{"$f":"N87/F87","v":{"v":0.3584722222222222,"d":"$0.36"}}]
[null,"Frozen, smooth peanut butter and grape jelly, crustless, whole grain bread, crimped edges,  "]
[null,"250-350 calories with no more than 3 g sat fat and 300 mg sodium per serving. "]
[null,"Individually wrapped"]
[null,"Possible Allergens:  Wheat, Peanuts, Soy"]
[2,"Peanut Butter & Banana, No HFCS, Crustless, WG, IW","Advanced Pierre A1312",null,"72/2.80z",72,0,{"$f":"ROUND(G92*F92/F92,2)","v":0},"Cs",{"v":36.47,"d":"$36.47"},{"$f":"IF(OR(ISBLANK(J92),G92=0,ISBLANK(G92)),,ROUND(J92+$K$3,2))","v":0},{"$f":"ROUND(H92*K92,2)","v":0},{"$f":"ROUND(K92/F92,2)","v":0},{"v":32.29,"d":"$32.29"},{"v":0.8426,"d":"$0.8426"},4.95,{"$f":"ROUND(O92*P92,2)","v":{"v":4.17,"d":"$4.17"}},{"$f":"J92-Q92","v":{"v":32.3,"d":"$32.30"}},{"$f":"R92/F92","v":{"v":0.44861111111111107,"d":"$0.45"}},{"$f":"N92/F92","v":{"v":0.4484722222222222,"d":"$0.45"}}]
[null,"Frozen, smooth peanut butter with  banana spread, crustless, whole wheat bread, crimped"," "," "," "," ",null," "," "," "," "," "," ",null," "," "," ",null," "," "]
[null,"edges, 250-350 calories with no more than 3 g sat fat and 300 mg sodium per serving."]
[null,"One portion to provide a min. 1 M/MA and 1 OEG, Individually wrapped"]
[null,"Possible Allergens:  Wheat, Peanuts, Soy"]
[3,"Peanut Butter & Strawberry Jelly, No HFCS, Crustless, WG, Twin Pack","Advanced Pierre A1004",null,"36/5.60z",36,150,{"$f":"ROUND(G97*F97/F97,2)","v":150},"Cs",{"v":30.59,"d":"$30.59"},{"$f":"IF(OR(ISBLANK(J97),G97=0,ISBLANK(G97)),,ROUND(J97+$K$3,2))","v":{"v":30.59,"d":"$30.59"}},{"$f":"ROUND(H97*K97,2)","v":{"v":4588.5,"d":"$4,588.50"}},{"$f":"ROUND(K97/F97,2)","v":{"v":0.85,"d":"$0.85"}},{"v":26.41,"d":"$26.41"},{"v":0.8426,"d":"$0.8426"},4.95,{"$f":"ROUND(O97*P97,2)","v":{"v":4.17,"d":"$4.17"}},{"$f":"J97-Q97","v":{"v":26.42,"d":"$26.42"}},{"$f":"R97/F97","v":{"v":0.7338888888888889,"d":"$0.73"}},{"$f":"N97/F97","v":{"v":0.7336111111111111,"d":"$0.73"}}]
[null,"Frozen, smooth peanut butter and grape jelly, crustless, whole grain bread, crimped edges, "," ",null," "," ",0," "," "," "," "," "," ",null," "," "," ",null," "," "]
[null,"550-650 calories with no more than 5 g sat fat and 650 mg sodium per serving.  One portion"]
[null,"to provide min. 2 M/MA and 2 OEG, Individually wrapped"]
[null,"Possible Allergens:  Wheat, Peanuts, Soy"]
[]
[{"$nulls":8},"Page Total",null,null,{"$f":"SUMIF(L6:L101,\">0\")","v":{"v":53611.25,"d":"$53,611.25"}}]

{"sheet":"Franks & Corn Dogs","index":9,"n_rows":73,"n_cols":13,"rows_kept":73,"merged":[[0,4,0,12],[1,4,1,12],[2,5,2,9]]}
[null,{"$f":"'Recap Sheet'!A2","v":"School Food Authority:"},null,null,{"$f":"'Recap Sheet'!A3","v":"Offeror Name:"}]
[null,{"$f":"'Recap Sheet'!B2","v":"Colleton County School District Office of Student Nutrition"},"Return to Recap Sheet",null,{"$f":"'Recap Sheet'!B3","v":{"v":0,"d":"0 "}}]
["Item","Description","Approved Brand Name / Manuf ID # ",null,null,"Firm Fixed Fee",{"$nulls":4},{"$f":"'Recap Sheet'!B4","v":{"v":0,"d":"$0.00"}}]
["#",null,null,"Distributor","Vendor","Svgs","Est.","Bid ","Bid","Unit","Unit Price","Total ","Cost per"]
[{"$nulls":3},"Code","Pack","per unit","Bid Qty","Qty","Unit","Price","plus Fee","Price","Unit"]
[null,"Franks & Corn Dogs"]
[1,"Hot Dog, Beef","Bryan 16787CN",null,"2/5 lbs",80,0,{"$f":"ROUND($G$7*$F$7/F7,2)","v":0},"Cs"]
[null,"Frozen, fully cooked, all beef, Formula B, natural color, made from skeletal ","Carolina Pride 3143",null,"2/5 lbs",80,null,{"$f":"ROUND($G$7*$F$7/F8,2)","v":0},"Cs"]
[null,"cuts.  IMPS #800 8 per lbs 150-250 calories with no more than 8 g sat fat ","Harvestland/Perdue 56655",null,"2/5 lbs",80,null,{"$f":"ROUND($G$7*$F$7/F9,2)","v":0},"Cs"]
[null,"and 800 mg sodium per serving.  One portion provides 2 M/MA. May ","Farmland/Smithfield 810967",null,"10 lbs",80,null,{"$f":"ROUND($G$7*$F$7/F10,2)","v":0},"Cs"]
[null,"contain Sodium Nitrite","Kent Quality Foods 437",null,"4/5#",160,null,{"$f":"ROUND($G$7*$F$7/F11,2)","v":0},"Cs",{"v":40,"d":"$40.00"},{"$f":"IF(OR(ISBLANK(J11),G7=0,ISBLANK(G7)),,ROUND(J11+$K$3,2))","v":0},{"$f":"ROUND(H11*K11,2)","v":0},{"$f":"ROUND(K11/F11,2)","v":0}]
[null," Possible Allergens:  None Listed"," ",null," "," "," "," "," "," "," "," "," "]
[2,"Hot Dog, Beef/Pork","Kent Quality Foods 429CN",null,"160/2.0z",160,0,{"$f":"ROUND($G$13*$F$13/F13,2)","v":0},"Cs",{"v":32.8,"d":"$32.80"},{"$f":"IF(OR(ISBLANK(J13),G13=0,ISBLANK(G13)),,ROUND(J13+$K$3,2))","v":0},{"$f":"ROUND(H13*K13,2)","v":0},{"$f":"ROUND(K13/F13,2)","v":0}]
[null,"All beef and pork, Formula B, natural color, no offals.  IMPS #800."," ",null," "," ",null," "," "," "," "," "," "]
[null,"Made from all skeletal cuts.  8 ct. Skinless  No artificial color. Must provide "]
[null,"2 0 oz cooked meat/meat alternate for CN Meal Pattern Requirements"]
[null,"One 2 oz serving contains no more  than  85% of calories from fat."]
[null," Possible Allergens:  None Listed"]
[3,"Hot Dog, All Meat     ","Ball Park 16720CN  ",null,"80/2.0z",80,0,{"$f":"ROUND($G$19*$F$19/F19,2)","v":0},"Cs"," "," "," ","  "]
[null,"Frozen, fully cooked, made from skeletal cuts, IMPS #800, No artificial color,, ","Kent Quality Foods 304320 ",null,"160/2.0z",160,null,{"$f":"ROUND($G$19*$F$19/F20,2)","v":0},"Cs",{"v":26,"d":"$26.00"},{"$f":"IF(OR(ISBLANK(J20),G19=0,ISBLANK(G19)),,ROUND(J20+$K$3,2))","v":0},{"$f":"ROUND(H20*K20,2)","v":0},{"$f":"ROUND(K20/F20,2)","v":0}]
[null,"8 per lb, 150-250 calories with no more than 7 g sat fat and 700 mg ","Bryan 16668CN",null,"80/2.0z",80,null,0,"Cs"]
[null,"sodium per svg. One portion provides 2 M/MA. May contain Sodium Nitrite","Carolina Pride 3140CN",null,"80/2.0z",80,null,0,"Cs"]
[null," Possible Allergens:  None Listed","Farmland/Smithfield 811527CN",null,"80/2.0z",80,null,0,"Cs"]
[4,"Hot Dog, Turkey","Briar Street SL16751",null,"10Lb",80,150,{"$f":"ROUND($G$24*$F$24/F24,2)","v":150},"Cs"," "," "," ","  "]
[null,"Frozen, made form mechanically separated turkey meat blended with ","Butterball 22655-61886",null,"2/5Lb",80,null,{"$f":"ROUND($G$24*$F$24/F25,2)","v":150},"Cs",{"v":9.99,"d":"$9.99"},{"$f":"IF(OR(ISBLANK(J25),G24=0,ISBLANK(G24)),,ROUND(J25+$K$3,2))","v":{"v":9.99,"d":"$9.99"}},{"$f":"ROUND(H25*K25,2)","v":{"v":1498.5,"d":"$1,498.50"}},{"$f":"ROUND(K25/F25,2)","v":{"v":0.12,"d":"$0.12"}}]
[null,"natural flavoring/color and spices, 8 per lbs, 100-150 calories with no more ","Perdue 65669",null,"2/5Lb",80,null,150,"Cs"]
[null,"than 5 g sat fat and 750 mg sodium per serving.  One portion to provide"]
[null,"2 M/MA.  May contain Sodium Nitrite."]
[null," "]
[null,"Possible Allergens: None Listed"]
[5,"Hot Dog, Turkey/Beef Low Sodium and Reduced Fat","Kent Quality Foods 676421",null,"4/5 lbs",160,0,{"$f":"ROUND(G31*F31/F31,2)","v":0},"Cs",{"v":23,"d":"$23.00"},{"$f":"IF(OR(ISBLANK(J31),G31=0,ISBLANK(G31)),,ROUND(J31+$K$3,2))","v":0},{"$f":"ROUND(H31*K31,2)","v":0},{"$f":"ROUND(K31/F31,2)","v":0}]
[null,"Frozen made of mechanically separated turkey meat blended with natural"]
[null,"flavoring/color and spices and beef 100-150 calories with no more than "]
[null,"4 g sat fat and 350 mg sodium per serving.  One portion  to provide 2 M/MA"]
[null,"May contain sodium nitrite"]
[null,"Possible Allergens: None Listed"]
[6,"Hot Dog, Turkey Low Sodium and Reduced Fat","Kent Quality Foods 142676",null,"4/5 lbs",160,0,{"$f":"ROUND(G37*F37/F37,2)","v":0},"Cs",{"v":20,"d":"$20.00"},{"$f":"IF(OR(ISBLANK(J37),G37=0,ISBLANK(G37)),,ROUND(J37+$K$3,2))","v":0},{"$f":"ROUND(H37*K37,2)","v":0},{"$f":"ROUND(K37/F37,2)","v":0}]
[null,"Frozen made of mechanically separated turkey meat blended with natural"]
[null,"flavoring/color and spices 100-150 calories with no more than 4 g sat fat "]
[null," and 350 mg sodium per serving.  One portion  to provide 2 M/MA"]
[null,"May contain sodium nitrite"]
[null,"Possible Allergens: None Listed"]
[7,"Corn Dog, Chicken, WG","Foster Farms 95150",null,"72/4.0z",72,0,{"$f":"ROUND(G43*F43/F43,2)","v":0},"Cs",{"v":24.84,"d":"$24.84"},{"$f":"IF(OR(ISBLANK(J43),G43=0,ISBLANK(G43)),,ROUND(J43+$K$3,2))","v":0},{"$f":"ROUND(H43*K43,2)","v":0},{"$f":"ROUND(K43/F43,2)","v":0}]
[null,"Frozen, fully cooked, sweet batter dipped frankfurter, whole wheat flour "]
[null,"and cornmeal 200-300 calories with no more than 3 g sat fat and 400 mg "]
[null,"sodium per serving. One portion to provide 2 M/MA and 2 OEG May contain "]
[null,"Sodium Nitrite, SMART SNACK COMPLIANT"]
[null,"Possible Allergens: Wheat, Soy ,Eggs, Gluten"]
[8,"Corn Dog, Turkey, WG","State Fair  28322",null,"48/4.0z",48,0,{"$f":"ROUND($G$49*$F$49/F49,2)","v":0},"Cs",{"v":15.05,"d":"$15.05"},{"$f":"IF(OR(ISBLANK(J49),G49=0,ISBLANK(G49)),,ROUND(J49+$K$3,2))","v":0},{"$f":"ROUND(H49*K49,2)","v":0},{"$f":"ROUND(K49/F49,2)","v":0}]
[null,"Frozen, oven ready, sweet batter dipped frankfurter, whole wheat flour ","Don Lee Farms CN84072WG",null,"72/4.0z",48,null,{"$f":"ROUND($G$49*$F$49/F50,2)","v":0},"Cs"]
[null,"and cornmeal with stick. 200-300 calories with no more than 4 g sat fat "]
[null,"and 850 mg sodium per serving. One portion to provide 2 M/MA and 2 OEG"]
[null,"May contain sodium nitrite"]
[null,"Possible Allergens: Wheat, Soy, Eggs, Milk"," ",null," "," "," "," "," "," "," "," "," "]
[9,"Corn Dog, Turkey, WG Reduced Fat","State Fair 9988",null,"72/4z",72,50,{"$f":"ROUND(G55*F55/F55,2)","v":50},"Cs",{"v":25.85,"d":"$25.85"},{"$f":"IF(OR(ISBLANK(J55),G55=0,ISBLANK(G55)),,ROUND(J55+$K$3,2))","v":{"v":25.85,"d":"$25.85"}},{"v":1292.5,"d":"$1,292.50"},{"v":0.36,"d":"$0.36"}]
[null,"Frozen, oven ready, sweet batter dipped frankfurter, whole wheat flour "]
[null,"and cornmeal with stick 200-300 calories with no more than 1.5 g sat fat "]
[null,"with ≤ 30% calories from fat and 1.5 g sat fat per serving.  One portion"]
[null,"to provide 2 M/MA and 2 OEG May contain Sodium Nitrite"]
[null,"Possible Allergens: Wheat, Soy, Eggs, Milk"]
[10,"Corndog Nuggets, Chicken                             "," House of Raeford 20452  ",null,"2/5 lbs",40,0,{"$f":"ROUND($G$61*$F$61/F61,2)","v":0},"Cs",{"v":15.9,"d":"$15.90"},{"$f":"IF(OR(ISBLANK(J61),G61=0,ISBLANK(G61)),,ROUND(J61+$K$3,2))","v":0},{"$f":"ROUND(H61*K61,2)","v":0},{"$f":"ROUND(K61/F61,2)","v":0}]
[null,"Frozen, Oven Ready, sweet batter dipped frankfurter of mechanically ","Foster Farms 96086",null,"2/5 lbs",40,null,{"$f":"ROUND($G$61*$F$61/F62,2)","v":0},"Cs"]
[null,"separated chicken meat, WG flour and cornmeal, 200-300 calories with no "]
[null,"no more than 4 g sat fat and 450 mg sodium per serving. CN Labeled for 6  "]
[null,"to provide 2 M/MA and 2 OEG.  May contain Sodium Nitrite"]
[null,"Possible Allergens:  Wheat, Soy, Eggs, and Milk "]
[11,"Corndog Nuggets, Turkey                                   ","House of Raeford 20420",null,"240/.667z",40,0,{"$f":"ROUND($G$67*$F$67/F67,2)","v":0},"Cs",{"v":16.4,"d":"$16.40"},{"$f":"IF(OR(ISBLANK(J67),G67=0,ISBLANK(G67)),,ROUND(J67+$K$3,2))","v":0},{"$f":"ROUND(H67*K67,2)","v":0},{"$f":"ROUND(K67/F67,2)","v":0}]
[null,"Frozen, Oven Ready, sweet batter dipped frankfurter of mechanically "]
[null,"separated turkey meat, WG flour and cornmeal, 200-300 calories with no "]
[null,"more than 2 g sat fat and 450 mg sodium per serving. CN Labeled for 6 to "]
[null,"to provide 2 M/MA and 2 OEG.  May contain Sodium Nitrite"]
[null,"Possible Allergens:  Wheat, Soy, Eggs, and Milk "]
[{"$nulls":8},"Page Total",null,null,{"$f":"SUMIF(L13:L67,\">0\")","v":{"v":2791,"d":"$2,791.00"}}]

{"sheet":"Dairy&Yogurt","index":10,"n_rows":92,"n_cols":20,"rows_kept":92,"merged":[[0,4,0,12],[1,4,1,12],[2,5,2,9]]}
[null,{"$f":"'Recap Sheet'!A2","v":"School Food Authority:"},null,null,{"$f":"'Recap Sheet'!A3","v":"Offeror Name:"}]
[null,{"$f":"'Recap Sheet'!B2","v":"Colleton County School District Office of Student Nutrition"},"Return to Recap Sheet",null,{"$f":"'Recap Sheet'!B3","v":0},{"$nulls":9}," ","Commodity"]
["Item","Description","Approved Brand Name / Manuf ID # ",null,null,"Firm Fixed Fee",{"$nulls":4},{"$f":"'Recap Sheet'!B4","v":{"v":0,"d":"$0.00"}},null,null,"Processing ","Commodity","Pounds of",null,"NOI ","Net NOI","Total Cost"]
["#",null,null,"Distributor","Vendor","Svgs","Est.","Bid ","Bid","Unit","Unit Price","Total ","Cost per","Fee For","Value Per","DF Needed","Commodity","Net ","Cost Per","Processing Fee"]
[{"$nulls":3},"Code","Pack","per unit","Bid Qty","Qty","Unit","Price","plus Fee","Price","Unit","Service","Pound","Per Case","Value ","Price","Serving","Per Serving"]
[null,"Dairy and Yogurt",{"$nulls":12},"Cheese, 110242 NAT AMER FBD BARREL"]
[1,"Cheese, American, Reduced Fat, Shredded","Land O Lakes 41728",null,"4/5 lbs",640,25,{"$f":"ROUND($G$10*$F$10/F7,2)","v":0},"Cs",{"v":47.91,"d":"$47.91"},{"$f":"IF(OR(ISBLANK(J7),G7=0,ISBLANK(G7)),,ROUND(J7+$K$3,2))","v":{"v":47.91,"d":"$47.91"}},{"$f":"ROUND(H7*K7,2)","v":0},{"$f":"ROUND(K7/F7,2)","v":{"v":0.07,"d":"$0.07"}},{"v":23.3,"d":"$23.30"},{"v":1.6046,"d":"$1.6046"},15.34,{"$f":"ROUND(O7*P7,2)","v":{"v":24.61,"d":"$24.61"}},{"$f":"J7-Q7","v":{"v":23.299999999999997,"d":"$23.30"}},{"$f":"R7/F7","v":{"v":0.036406249999999994,"d":"$0.04"}},{"$f":"N7/F7","v":{"v":0.03640625,"d":"$0.04"}}]
[null,"Refregerated, 1/2 oz. serving"," ",null," "," ",null," "," ",null," "," "," ",null," "," "," "," ",null," "]
[null,"Possible Allergens:  Milk"," ",null," "," ",null," "," ",null," "," "," ",null," "," "," "," ",null," "]
[2,"Cheese, Cheddar Mild, Shredded","Land O Lakes 41749",null,"4/5 lbs",640,0,{"$f":"ROUND($G$13*$F$13/F10,2)","v":10},"Cs",{"v":42.49,"d":"$42.49"},{"$f":"IF(OR(ISBLANK(J10),G10=0,ISBLANK(G10)),,ROUND(J10+$K$3,2))","v":0},{"$f":"ROUND(H10*K10,2)","v":0},{"$f":"ROUND(K10/F10,2)","v":0},{"v":10.4,"d":"$10.40"},{"v":1.6046,"d":"$1.6046"},20,{"$f":"ROUND(O10*P10,2)","v":{"v":32.09,"d":"$32.09"}},{"$f":"J10-Q10","v":{"v":10.399999999999999,"d":"$10.40"}},{"$f":"R10/F10","v":{"v":0.016249999999999997,"d":"$0.02"}},{"$f":"N10/F10","v":{"v":0.01625,"d":"$0.02"}}]
[null,"Refrigerated, 1/2 oz. serving"," ",null," "," ",null," "," ",null," "," "," ",null," "," "," "," ",null," "]
[null,"Possible Allergens:  Milk"," ",null," "," ",null," "," ",null," "," "," ",null," "," "," "," ",null," "]
[3,"Cheese, Mozzarella, Shredded, 100% Mozzarella","Land O Lakes 41698",null,"4/5 lbs",640,10,{"$f":"ROUND($G$13*$F$13/F13,2)","v":10},"Cs"," ","  "," "," ",0,{"v":1.6046,"d":"$1.6046"},20,{"$f":"ROUND(O13*P13,2)","v":{"v":32.09,"d":"$32.09"}},{"$f":"J13-Q13","v":{"$error":"#VALUE!"}},{"$f":"R13/F13","v":{"$error":"#VALUE!"}},{"$f":"N13/F14","v":0}]
[null,"Refrigerated, Low moisture part skim 45-50% moisture 1/2 oz. serving","Bongard's 75507",null,"4/5 lbs",640," ",10,"Cs",{"v":42.19,"d":"$42.19"},{"$f":"IF(OR(ISBLANK(J14),G14=0,ISBLANK(G14)),,ROUND(J14+$K$3,2))","v":{"v":42.19,"d":"$42.19"}},{"$f":"ROUND(H14*K14,2)","v":{"v":421.9,"d":"$421.90"}},{"$f":"ROUND(K14/F14,2)","v":{"v":0.07,"d":"$0.07"}},{"v":10.1,"d":"$10.10"},{"v":1.6046,"d":"$1.6046"},20,{"$f":"ROUND(O14*P14,2)","v":{"v":32.09,"d":"$32.09"}},{"$f":"J14-Q14","v":{"v":10.099999999999994,"d":"$10.10"}},{"$f":"R14/F14","v":{"v":0.01578124999999999,"d":"$0.02"}},{"$f":"N14/F14","v":{"v":0.01578125,"d":"$0.02"}}]
[null,"Possible Allergens:  Milk",{"$nulls":3}," ",null," "," ",null," "," "," ",null," "," "," "," ",null," "]
[4,"Cheese, Mild Cheddar, Indv. Portions, Reduced Fat","Land O Lakes 44881",null,"168/1 oz.",168,25,{"$f":"ROUND($G$16*$F$16/F16,2)","v":25},"Cs",{"v":36.13,"d":"$36.13"},{"$f":"IF(OR(ISBLANK(J16),G16=0,ISBLANK(G16)),,ROUND(J16+$K$3,2))","v":{"v":36.13,"d":"$36.13"}},{"$f":"ROUND(H16*K16,2)","v":{"v":903.25,"d":"$903.25"}},{"$f":"ROUND(K16/F16,2)","v":{"v":0.22,"d":"$0.22"}},{"v":19.28,"d":"$19.28"},{"v":1.6046,"d":"$1.6046"},10.5,{"$f":"ROUND(O16*P16,2)","v":{"v":16.85,"d":"$16.85"}},{"$f":"J16-Q16","v":{"v":19.28,"d":"$19.28"}},{"$f":"R16/F16","v":{"v":0.11476190476190477,"d":"$0.11"}},{"$f":"N16/F16","v":{"v":0.11476190476190477,"d":"$0.11"}}]
[null,"Refrigerated, Natural mild cheddar, 1 0z. Portions"," ",null," "," ",null," "," ",null," "," "," ",null," "," "," "," ",null," "]
[null,"Possible Allergens:  Milk"," ",null," "," ",null," "," ",null," "," "," ",null," "," "," "," ",null," "]
[5,"Cheese, Mild Cheddar, Red, Fat Cube Portions","Land O Lakes 44113",null,"200/1.0z",200,50,{"$f":"ROUND($G$19*$F$19/F19,2)","v":50},"Cs",{"v":52.31,"d":"$52.31"},{"$f":"IF(OR(ISBLANK(J19),G19=0,ISBLANK(G19)),,ROUND(J19+$K$3,2))","v":{"v":52.31,"d":"$52.31"}},{"$f":"ROUND(H19*K19,2)","v":{"v":2615.5,"d":"$2,615.50"}},{"$f":"ROUND(K19/F19,2)","v":{"v":0.26,"d":"$0.26"}},{"v":32.25,"d":"$32.25"},{"v":1.6046,"d":"$1.6046"},12.5,{"$f":"ROUND(O19*P19,2)","v":{"v":20.06,"d":"$20.06"}},{"$f":"J19-Q19","v":{"v":32.25,"d":"$32.25"}},{"$f":"R19/F19","v":{"v":0.16125,"d":"$0.16"}},{"$f":"N19/F19","v":{"v":0.16125,"d":"$0.16"}}]
[null,"Refrigerated Natural mild cheddar 1 0z. Portions"," ",null," "," ",null," "," ",null," "," "," ",null," "," "," "," ",null," "]
[null,"Possible Allergens:  Milk"," ",null," "," ",null," "," ",null," "," "," ",null," "," "," "," ",null," "]
[6,"Cheese, Mozzarella, String Cheese, IW","Land O Lakes 59701",null,"168/1.0z",168,0,{"$f":"ROUND($G$22*$F$22/F22,2)","v":0},"Cs",{"v":28.53,"d":"$28.53"},{"$f":"IF(OR(ISBLANK(J22),G22=0,ISBLANK(G22)),,ROUND(J22+$K$3,2))","v":0},{"$f":"ROUND(H22*K22,2)","v":0},{"$f":"ROUND(K22/F22,2)","v":0},{"v":11.68,"d":"$11.68"},{"v":1.6046,"d":"$1.6046"},10.5,{"$f":"ROUND(O22*P22,2)","v":{"v":16.85,"d":"$16.85"}},{"$f":"J22-Q22","v":{"v":11.68,"d":"$11.68"}},{"$f":"R22/F22","v":{"v":0.06952380952380952,"d":"$0.07"}},{"$f":"N22/F22","v":{"v":0.06952380952380952,"d":"$0.07"}}]
[null,"Refrigerated, Part skim mozzarella, 1 oz. portions","Bongard's 40295",null,"168/1.0z",168," ",{"$f":"ROUND($G$22*$F$22/F23,2)","v":0},"Cs",{"$nulls":5},{"v":1.6046,"d":"$1.6046"},10.5,{"$f":"ROUND(O23*P23,2)","v":{"v":16.85,"d":"$16.85"}}," "," "," "]
[null,null,"Pauley 232901376",null,"160/1.0z",160," ",{"$f":"ROUND($G$22*$F$22/F24,2)","v":0},"Cs",{"$nulls":4},{"v":1.6929,"d":"$1.6929"},78," ",{"$f":"J24-P24","v":{"$error":"#VALUE!"}},null,{"$f":"Q24/E24","v":{"$error":"#VALUE!"}},{"$f":"R24/F24","v":0}]
[null,"Possible Allergens:  Milk","Schrieber 25616",null,"168/1.0z",168," ",{"$f":"ROUND($G$22*$F$22/F25,2)","v":0},"Cs",{"$nulls":4},{"v":1.6929,"d":"$1.6929"},20," ",{"$f":"J25-P25","v":{"$error":"#VALUE!"}},null,{"$f":"Q25/E25","v":{"$error":"#VALUE!"}},{"$f":"R25/F25","v":0}]
[7,"Cheese, Mozzarella, String Cheese, Light, IW","Land O Lakes 59703",null,"168/1.0z",168,25,{"$f":"ROUND($G$26*$F$26/F26,2)","v":25},"Cs",{"v":29.11,"d":"$29.11"},{"$f":"IF(OR(ISBLANK(J26),G25=0,ISBLANK(G25)),,ROUND(J26+$K$3,2))","v":{"v":29.11,"d":"$29.11"}},{"$f":"ROUND(H26*K26,2)","v":{"v":727.75,"d":"$727.75"}},{"$f":"ROUND(K26/F26,2)","v":{"v":0.17,"d":"$0.17"}},{"v":12.26,"d":"$12.26"},{"v":1.6046,"d":"$1.6046"},10.5,{"$f":"ROUND(O26*P26,2)","v":{"v":16.85,"d":"$16.85"}},{"$f":"J26-Q26","v":{"v":12.259999999999998,"d":"$12.26"}},{"$f":"R26/F26","v":{"v":0.07297619047619046,"d":"$0.07"}},{"$f":"N26/F26","v":{"v":0.07297619047619047,"d":"$0.07"}}]
[null,"Refrig., Part skim mozz., 50% red sodium, No more than 2g sat fat and 220 sodium ","Bongard's 40299-1",null,"168/1.0z",168,null,{"$f":"ROUND($G$26*$F$26/F27,2)","v":25},"Cs"," "," "," "," ",0,{"v":1.6046,"d":"$1.6046"},10.5,{"$f":"ROUND(O27*P27,2)","v":{"v":16.85,"d":"$16.85"}},{"$f":"J27-Q27","v":{"$error":"#VALUE!"}},{"$f":"R27/F27","v":{"$error":"#VALUE!"}},{"$f":"N27/F27","v":0}]
[null,"Possible Allergens:  Milk"," ",null," "," ",null," "," ",null," "," "," ",null," "," "," "," ",null," "]
[8,"Cheese, American 50% Red Fat, 50% Red Sodium, Sliced","Land O Lakes 46288",null,"6/5 lbs.",960,0,{"$f":"ROUND($G$29*$F$29/F29,2)","v":0},"Cs",{"$nulls":5},{"v":1.6046,"d":"$1.6046"},23.04,{"$f":"ROUND(O29*P29,2)","v":{"v":36.97,"d":"$36.97"}}," ","  "," "]
[null,"Refrigerated, No more than 2 g sar fat and 125 mg sodium per 1/2 oz. serving","Bongard's 10054",null,"4/5 lbs.",640,null,{"$f":"ROUND($G$29*$F$29/F30,2)","v":0},"Cs",{"v":35.42,"d":"$35.42"},{"$f":"IF(OR(ISBLANK(J30),G29=0,ISBLANK(G29)),,ROUND(J30+$K$3,2))","v":0},{"$f":"ROUND(H30*K30,2)","v":0},{"$f":"ROUND(K30/F30,2)","v":0},{"v":12.19,"d":"$12.19"},{"v":1.6046,"d":"$1.6046"},14.48,{"$f":"ROUND(O30*P30,2)","v":{"v":23.23,"d":"$23.23"}},{"$f":"J30-Q30","v":{"v":12.190000000000001,"d":"$12.19"}},{"$f":"R30/F30","v":{"v":0.019046875,"d":"$0.02"}},{"$f":"N30/F30","v":{"v":0.019046874999999998,"d":"$0.02"}}]
[null,"Possible Allergens:  Milk, Soy"," ",null," "," ",null," "," ",null," "," "," ",null," "," "," "," ",null," "]
[9,"Sauce, Cheese, Prepared, Pouch, Reduced Sodium","Land O Lakes 39940",null,"6/106z",212,100,{"$f":"ROUND($G$32*$F$32/F32,2)","v":100},"Cs",{"v":59.22,"d":"$59.22"},{"$f":"IF(OR(ISBLANK(J32),G32=0,ISBLANK(G32)),,ROUND(J32+$K$3,2))","v":{"v":59.22,"d":"$59.22"}},{"$f":"ROUND(H32*K32,2)","v":{"v":5922,"d":"$5,922.00"}},{"$f":"ROUND(K32/F32,2)","v":{"v":0.28,"d":"$0.28"}},{"v":37.56,"d":"$37.56"},{"v":1.6046,"d":"$1.6046"},13.5,{"$f":"ROUND(O32*P32,2)","v":{"v":21.66,"d":"$21.66"}},{"$f":"J32-Q32","v":{"v":37.56,"d":"$37.56"}},{"$f":"R32/F32","v":{"v":0.17716981132075474,"d":"$0.18"}},{"$f":"N32/F32","v":{"v":0.17716981132075474,"d":"$0.18"}}]
[null,"Shelf Stable, Aseptically produced, perservative-free, packaged 3oz.=1 M/MA"," ",null," "," ",null," "," ",null," "," "," ",null," "," "," "," ",null," "]
[null,"Possible Allergens:  Milk, Soy"," ",null," "," ",null," "," ",null," "," "," ",null," "," "," "," ",null," "]
[10,"Sauce, Cheese, Queso Blanco","JTM 5718",null,"240/2.0z",240,0,{"$f":"ROUND($G$35*$F$35/F35,2)","v":0},"Cs",{"v":54.07,"d":"$54.07"},{"$f":"IF(OR(ISBLANK(J35),G35=0,ISBLANK(G35)),,ROUND(J35+$K$3,2))","v":0},{"$f":"ROUND(H35*K35,2)","v":0},{"$f":"ROUND(K35/F35,2)","v":0},{"v":30,"d":"$30.00"},{"v":1.6046,"d":"$1.6046"},15,{"$f":"ROUND(O35*P35,2)","v":{"v":24.07,"d":"$24.07"}},{"$f":"J35-Q35","v":{"v":30,"d":"$30.00"}},{"$f":"R35/F35","v":{"v":0.125,"d":"$0.13"}},{"$f":"N35/F35","v":{"v":0.125,"d":"$0.13"}}]
[null,"Frozen, 100-200 calories and no more than 6g saturated fat and "]
[null,"500 mg of sodium per svg.  Each 2.0 oz. serving provides 1 oz. M/MA "]
[null,"Possible Allergens: Milk"]
[11,"Cheese, Sauce, Ultimate White Blend","(18-19) Land O Lakes 39944",null,"6/106 oz",212,150,{"$f":"ROUND($G$39*$F$39/F39,2)","v":150},"Cs",{"v":66.05,"d":"$66.05"},{"$f":"IF(OR(ISBLANK(J39),G39=0,ISBLANK(G39)),,ROUND(J39+$K$3,2))","v":{"v":66.05,"d":"$66.05"}},{"v":9907.5,"d":"$9,907.50"},{"v":0.31,"d":"$0.31"},{"v":42.65,"d":"$42.65"},{"v":1.6046,"d":"$1.6046"},14.58,{"$f":"ROUND(O39*P39,2)","v":{"v":23.4,"d":"$23.40"}},{"$f":"J39-Q39","v":{"v":42.65,"d":"$42.65"}},{"$f":"R39/F39","v":{"v":0.20117924528301886,"d":"$0.20"}},{"$f":"N39/F39","v":{"v":0.20117924528301886,"d":"$0.20"}}]
[null,"Shefl Stable, Aseptically produced, preservative-free, packaged in "]
[null,"pouch 3 oz = 1 M/MA "]
[null,"Possible Allergens:  Milk"]
[12,"Cheese, Cheddar Cups","Land O Lakes 39911",null,"140/3.0z",140,0,{"$f":"ROUND($G$43*$F$43/F43,2)","v":0},"Cs",{"v":64.98,"d":"$64.98"},{"$f":"IF(OR(ISBLANK(J43),G43=0,ISBLANK(G43)),,ROUND(J43+$K$3,2))","v":0},0,0,{"v":50.67,"d":"$50.67"},{"v":1.6046,"d":"$1.6046"},8.92,{"$f":"ROUND(O43*P43,2)","v":{"v":14.31,"d":"$14.31"}},{"$f":"J43-Q43","v":{"v":50.67,"d":"$50.67"}},{"$f":"R43/F43","v":{"v":0.36192857142857143,"d":"$0.36"}},{"$f":"N43/F43","v":{"v":0.36192857142857143,"d":"$0.36"}}]
[null,"Shelf Stable, Portion Pack, 3 oz. cup = 1 M/MA"," ",null," "," "," "," "," "," "," "," "," ",null," "," "," "," "," "," "]
[null,"Possbile Allergens:  Milk "," ",null," "," "," "," "," ",null,"  "," "," "]
[13,"Margarine Reddies","Distributor Choice",null,"720/.5 gm",720,0,{"$nulls":6},{"v":1.6929,"d":"$1.6929"},78,null,{"$f":"J46-P46","v":0},null,{"$f":"Q46/E46","v":{"$error":"#VALUE!"}},0]
[null,"Pure Vegetable.  Contains 0 Trans fat. ","Fillable txt box ",{"$nulls":4},{"$f":"ROUND(G46*F46/F47,2)","v":{"$error":"#DIV/0!"}},"Cs",null,{"$f":"IF(OR(ISBLANK(G46),G46=0,ISBLANK(F47)),,ROUND(J47+$K$3,2))","v":0},{"$f":"ROUND(H47*K47,2)","v":{"$error":"#DIV/0!"}},{"$f":"ROUND(K47/F47,2)","v":{"$error":"#DIV/0!"}},{"v":1.6929,"d":"$1.6929"},20,null,{"$f":"J47-P47","v":0},null,{"$error":"#DIV/0!"},{"$error":"#DIV/0!"}]
[14,"Margarine Solids","Distributor Choice",null,"30Lb",30,50,{"$nulls":6},{"v":1.6929,"d":"$1.6929"},78,null,{"$f":"J48-P48","v":0},null,{"$error":"#VALUE!"},0]
[null,"Pure Vegetable. Contains 0 Trans fat.","Fillable txt box ",{"$nulls":4},{"$f":"ROUND(G48*F48/F49,2)","v":{"$error":"#DIV/0!"}},"Cs",null,{"$f":"IF(OR(ISBLANK(G48),G48=0,ISBLANK(F49)),,ROUND(J49+$K$3,2))","v":0},{"$f":"ROUND(H49*K49,2)","v":{"$error":"#DIV/0!"}},{"$f":"ROUND(K49/F49,2)","v":{"$error":"#DIV/0!"}},{"v":1.6929,"d":"$1.6929"},20,null,{"$f":"J49-P49","v":0},null,{"$error":"#DIV/0!"},{"$error":"#DIV/0!"}]
[15,"Yogurt, Low Fat, 4 oz, Gluten Free   ","Yoplait/Trix (General Mills)",null,"48/4.0z",48,25,{"$f":"ROUND(G50*F50/F50,2)","v":25},"Cs",null," "," "," ",null," "," "," "," ",null," "]
[null,"Refrigerated, Lowfat, flavored, pasteurized, Grade A contains live and ","17725 Raspberry Rainbow ",{"$nulls":11}," "," "," "," ",null," "]
[null,"active yogurt cultures, No aspartame, Expiration date on container,  ","17726 Strawberry Banana",{"$nulls":11}," "," "," "," ",null," "]
[null,"coded and labeled in accordance with State and Federal Regulations","31077 Triple Cherry ",{"$nulls":11}," "," "," "," ",null," "]
[null,"No more than 2 g of fat per serving. 0 trans fat"," Dannon (Danimals) ",null,"48/4.0z",48,null,{"$f":"ROUND(G50*F50/F54,2)","v":25},"Cs",{"v":9.48,"d":"$9.48"},{"$f":"IF(OR(ISBLANK(J54),G50=0,ISBLANK(G50)),,ROUND(J54+$K$3,2))","v":{"v":9.48,"d":"$9.48"}},{"$f":"ROUND(H54*K54,2)","v":{"v":237,"d":"$237.00"}},{"$f":"ROUND(K54/F54,2)","v":{"v":0.2,"d":"$0.20"}},null," "," "," "," ",null," "]
[null,null,"2731 Strawberry Dianimals",{"$nulls":11}," "," "," "," ",null," "]
[null,null,"2732 Strawberry Banana Dianimals"]
[null,"Possible Allergens:  Milk  ","1014 Raspberry Dianimals",null,"48/4.0z",48,{"$nulls":3},{"v":9.6,"d":"$9.60"},{"$f":"IF(OR(ISBLANK(J57),G50=0,ISBLANK(G50)),,ROUND(J57+$K$3,2))","v":{"v":9.6,"d":"$9.60"}},{"$f":"ROUND(H57*K57,2)","v":0},{"$f":"ROUND(K57/F57,2)","v":{"v":0.2,"d":"$0.20"}},null," "," "," "," ",null," "]
[null,null,"2733 Vanilla Dianimals",null,"48/4.0z.",48,{"$nulls":3},{"v":9.6,"d":"$9.60"},{"$f":"IF(OR(ISBLANK(J58),G50=0,ISBLANK(G50)),,ROUND(J58+$K$3,2))","v":{"v":9.6,"d":"$9.60"}},{"$f":"ROUND(H58*K58,2)","v":0},{"$f":"ROUND(K58/F58,2)","v":{"v":0.2,"d":"$0.20"}},null," "," "," "," ",null," "]
[16,"Yogurt, Fat Free, 4 oz. Extended Shelf Life","Upstate",null,"48/4.0z",48,50,{"$f":"ROUND(G59*F59/F59,2)","v":50},"Cs",{"v":12.36,"d":"$12.36"},{"$f":"IF(OR(ISBLANK(J59),G59=0,ISBLANK(G59)),,ROUND(J59+$K$3,2))","v":{"v":12.36,"d":"$12.36"}},{"$f":"ROUND(H59*K59,2)","v":{"v":618,"d":"$618.00"}},{"$f":"ROUND(K59/F59,2)","v":{"v":0.26,"d":"$0.26"}},null," "," "," "," ",null," "]
[null,"Refrigerated, Lowfat, flavored, pasteurized, Grade A contains live and active yogurt ","Strawberry 9815",{"$nulls":11}," "," "," "," ",null," "]
[null,"active yogurt cultures, No aspartame, Expiration date on container,  ","Peach 9818",{"$nulls":11}," "," "," "," ",null," "]
[null,"coded, and labeled in accordance with State and Federal Regulations","Cherry Vanilla 9819",{"$nulls":11}," "," "," "," ",null," "]
[null,"No more than 0 g of fat per serving. 0 trans fat","Strawberry Banana 9820",null," "," ",null," "," "," "," "," "," ",null," "," "," "," ",null," "]
[null,null," ",{"$nulls":11}," "," "," "," ",null," "]
[null,"Possible Allergens:  Milk  "," "," ",{"$nulls":10}," "," "," "," ",null," "]
[17,"Yogurt, Fat Free, 8 oz. Extended Shelf Life","Upstate",null,"12/8.0z",12,0,{"$f":"ROUND(G66*F66/F66,2)","v":0},"Cs",{"v":6.43,"d":"$6.43"},{"$f":"IF(OR(ISBLANK(J66),G66=0,ISBLANK(G66)),,ROUND(J66+$K$3,2))","v":0},{"$f":"ROUND(H66*K66,2)","v":0},{"$f":"ROUND(K66/F66,2)","v":0},null," "," "," "," ",null," "]
[null,"Refrigerated, Lowfat, flavored, pasteurized, Grade A contains live and ","Strawberry 9834",{"$nulls":11}," "," "," "," ",null," "]
[null,"active yogurt cultures, No aspartame, Expiration date on container,  ","Peach 9835",{"$nulls":11}," "," "," "," ",null," "]
[null,"coded, and labeled in accordance with State and Federal Regulations","Cherry Vanilla 9819",{"$nulls":11}," "," "," "," ",null," "]
[null,"No more than 0 g of fat per serving. 0 trans fat","Strawberry Banana 9836",null," "," ",null," "," "," "," "," "," ",null," "," "," "," ",null," "]
[null,null," ",{"$nulls":11}," "," "," "," ",null," "]
[null,"Possible Allergens:  Milk  "," ",{"$nulls":11}," "," "," "," ",null," "]
[null,null," ",{"$nulls":11}," "," "," "," ",null," "]
[18,"Yogurt, Parfait Pro, Vanilla Pouch, Low fat","Yoplait/General Mills 16632",null,"96/4 oz.",96,300,{"$f":"ROUND(G74*F74/F74,2)","v":300},"Cs",{"v":21.71,"d":"$21.71"},{"$f":"IF(OR(ISBLANK(J74),G74=0,ISBLANK(G74)),,ROUND(J74+$K$3,2))","v":{"v":21.71,"d":"$21.71"}},{"$f":"ROUND(H74*K74,2)","v":{"v":6513,"d":"$6,513.00"}},{"$f":"ROUND(K74/F74,2)","v":{"v":0.23,"d":"$0.23"}},null," "," "," "," ",null," "]
[null,"Refrigerated, Lowfat, flavored, pasteurized, Grade A contains live and ","Dannon Pro 1932",null,"4/6 lbs",96,null,{"$f":"ROUND(G74*F74/F75,2)","v":300},"Cs"]
[null,"active live cultures, No aspartame, Expiration date on container, coded,  "]
[null,"and labeled in accordance with State and Federal Regulations"]
[null,"4 oz. serving equals 1 oz. protein",{"$nulls":12}," "," "," "," ",null," "]
[null,"Possible Allergens:  Milk, Gluten Free",{"$nulls":12}," "," "," "," ",null," "]
[19,"Yogurt, Parfait Pro, Strawberry Pouch, Low fat","Yoplait/General Mills 16631",null,"96/4.0z",96,100,{"$f":"ROUND(G80*F80/F80,2)","v":100},"Cs",{"v":21.71,"d":"$21.71"},{"$f":"IF(OR(ISBLANK(J80),G80=0,ISBLANK(G80)),,ROUND(J80+$K$3,2))","v":{"v":21.71,"d":"$21.71"}},{"$f":"ROUND(H80*K80,2)","v":{"v":2171,"d":"$2,171.00"}},{"$f":"ROUND(K80/F80,2)","v":{"v":0.23,"d":"$0.23"}},null," "," "," "," ",null," "]
[null,"Refrigerated, Lowfat, flavored, pasteurized, Grade A contains live and ","Dannon Pro 1932",null,"4/6 lbs",96,null,{"$f":"ROUND(G80*F80/F81,2)","v":100},"Cs"]
[null,"active yogurt cultures, No aspartame, Expiration date on container,  "]
[null,"coded, and labeled in accordance with State and Federal Regulations"]
[null,"4 oz. serving equals 1 oz. protein",{"$nulls":12}," "," "," "," ",null," "]
[null,"Possible Allergens:  Milk, Gluten Free",{"$nulls":12}," "," "," "," ",null," "]
[20,"Yogurt, Tube, All Flavors","Yoplait/General Mills",null,"48/4.0z",48,50,{"$f":"ROUND(G86*F86/F86,2)","v":50},"Cs",{"v":14.92,"d":"$14.92"},{"$f":"IF(OR(ISBLANK(J86),G86=0,ISBLANK(G86)),,ROUND(J86+$K$3,2))","v":{"v":14.92,"d":"$14.92"}},{"$f":"ROUND(H86*K86,2)","v":{"v":746,"d":"$746.00"}},{"$f":"ROUND(K86/F86,2)","v":{"v":0.31,"d":"$0.31"}},null," "," "," "," ",null," "]
[null,"Refrigerated, pasteurized, Grade A, contains live and active yogurt "]
[null,"cultures, No aspartame, 50-100 calories with 0 sat fat and no more "]
[null,"than 100 mg sodium.  Provides 1 M/MA for CN programs"]
[null," ",{"$nulls":12}," "," "," "," ",null," "]
[null,"Possbile Allergens: Milk, Gluten Free",{"$nulls":12}," "," "," "," ",null," "]
[{"$nulls":6},0,null,"Page Total",null,null,{"$f":"SUMIF(L6:L91,\">0\")","v":{"v":30782.9,"d":"$30,782.90"}}]

{"sheet":"Eggs","index":11,"n_rows":56,"n_cols":20,"rows_kept":56,"merged":[[0,4,0,12],[1,4,1,12],[2,5,2,9]]}
[null,{"$f":"'Recap Sheet'!A2","v":"School Food Authority:"},null,null,{"$f":"'Recap Sheet'!A3","v":"Offeror Name:"}]
[null,{"$f":"'Recap Sheet'!B2","v":"Colleton County School District Office of Student Nutrition"},"Return to Recap Sheet",null,{"$f":"'Recap Sheet'!B3","v":0},{"$nulls":9}," ","Commodity"]
["Item","Description","Approved Brand Name / Manuf ID # ",null,null,"Firm Fixed Fee",{"$nulls":4},{"$f":"'Recap Sheet'!B4","v":{"v":0,"d":"$0.00"}},null,null,"Processing ","Commodity","Pounds of",null,"NOI ","Net NOI","Total Cost"]
["#",null,null,"Distributor","Vendor","Svgs","Est.","Bid ","Bid","Unit","Unit Price","Total ","Cost per","Fee For","Value Per","DF Needed","Commodity","Net ","Cost Per","Processing Fee"]
[{"$nulls":3},"Code","Pack","per unit","Bid Qty","Qty","Unit","Price","plus Fee","Price","Unit","Service","Pound","Per Case","Value ","Price","Serving","Per Serving"]
[null,"Eggs",{"$nulls":12},"Eggs, Whole Liquid Bulk Tank 100047"]
[1,"Eggs, Liquid Whole with Citric Acid, Pasteurized","Michael Foods 46025-65123",null,"296/1.62z",296,0,{"$f":"ROUND($G$7*$F$7/F7,2)","v":0},"Cs"," "," ","  "," ",0,{"v":0.7227,"d":"$0.7227"},29.88,{"$f":"ROUND(O7*P7,2)","v":{"v":21.59,"d":"$21.59"}}," "," ",{"$f":"N7/F7","v":0}]
[null,"Frozen, homogenized, USDA Inspected","Sunny Fresh/Cargill 10080",null,"480/1.0z",480,null,{"$f":"ROUND($G$7*$F$7/F8,2)","v":0},"Cs",{"v":46,"d":"$46.00"},{"$f":"IF(OR(ISBLANK(J8),G7=0,ISBLANK(G7)),,ROUND(J8+$K$3,2))","v":0},{"$f":"ROUND(H8*K8,2)","v":0},{"$f":"ROUND(K8/F8,2)","v":0},{"v":24.35,"d":"$24.35"},{"v":0.7227,"d":"$0.7227"},29.95,{"$f":"ROUND(O8*P8,2)","v":{"v":21.64,"d":"$21.64"}},{"$f":"J8-Q8","v":{"v":24.36,"d":"$24.36"}},{"$f":"R8/F8","v":{"v":0.050749999999999997,"d":"$0.05"}},{"$f":"N8/F8","v":{"v":0.05072916666666667,"d":"$0.05"}}]
[null," "]
[null,"Possible Allergens:  Eggs"," ",null," "," ",null," "," ",null," "," "," ",null," "," "," "," ",null," "]
[2,"Egg Patty, Round","Michael Foods 85017",null,"300/1.25z",300,0,{"$f":"ROUND($G$11*$F$11/F11,2)","v":0},"Cs",{"v":36.64,"d":"$36.64"},{"$f":"IF(OR(ISBLANK(J11),G11=0,ISBLANK(G11)),,ROUND(J11+$K$3,2))","v":0},{"$f":"ROUND(H11*K11,2)","v":0},{"$f":"ROUND(K11/F11,2)","v":0},{"v":25.23,"d":"$25.23"},{"v":0.7227,"d":"$0.7227"},15.79,{"$f":"ROUND(O11*P11,2)","v":{"v":11.41,"d":"$11.41"}},{"$f":"J11-Q11","v":{"v":25.23,"d":"$25.23"}},{"$f":"R11/F11","v":{"v":0.08410000000000001,"d":"$0.08"}},{"$f":"N11/F11","v":{"v":0.08410000000000001,"d":"$0.08"}}]
[null,"Frozen, IQF, Fully cooked, USDA inspected pasteurized whole eggs,","Sunny Fresh/Cargill 40710",null,"369/1.25z",369,null,{"$f":"ROUND($G$11*$F$11/F12,2)","v":0},"Cs",{"$nulls":4}," ",{"v":0.7227,"d":"$0.7227"},21.49,{"$f":"ROUND(O12*P12,2)","v":{"v":15.53,"d":"$15.53"}}," "," "," "]
[null,"Approx. 3\" pattie 40-100 calories with no more than 2g sat fat and "]
[null,"125 mg sodium per serving. One portion to provide min 1 M/MA"]
[null,"Possible Allergens:  Egg, Milk, Soy"]
[{"$nulls":14}," "," "," "," ",null," "]
[3,"Eggs, Scrambled, Pre-Cooked Refrigerated","(18-19) Michael Foods 85877",null,"12/1.65z",165,0,{"$f":"ROUND($G$17*$F$17/F17,2)","v":0},"Cs",{"v":41.31,"d":"$41.31"},{"$f":"IF(OR(ISBLANK(J17),G17=0,ISBLANK(G17)),,ROUND(J17+$K$3,2))","v":0},{"$f":"ROUND(H17*K17,2)","v":0},{"$f":"ROUND(K17/F17,2)","v":0},{"v":30.35,"d":"$30.35"},{"v":0.7227,"d":"$0.7227"},15.17,{"$f":"ROUND(O17*P17,2)","v":{"v":10.96,"d":"$10.96"}},{"$f":"J17-Q17","v":{"v":30.35,"d":"$30.35"}},{"$f":"R17/F17","v":{"v":0.18393939393939396,"d":"$0.18"}},{"$f":"N17/F17","v":{"v":0.18393939393939396,"d":"$0.18"}}]
[null,"Frozen, IQF, Fully cooked, USDA inspected pasteurized whole eggs, "," ",null," "," ",null," "," ",null," "," "," ",null," "," "," "," ",null," "]
[null,"45-50 calories with no more than 2g sat fat and 150 mg sodium per "]
[null,"per 1 oz. portions.  A 1 oz. portion provides min. 1 M/MA"]
[null,"Possible Allergens:  Egg, Milk, Soy",{"$nulls":12}," "," "," "," ",null," "]
[4,"Eggs, Scrambled, Pre-Cooked, Frozen","Michael Foods 85019",null,"4/5 lbs",320,0,{"$f":"ROUND($G$22*$F$22/F22,2)","v":0},"Cs",{"$nulls":4},0,{"v":0.7227,"d":"$0.7227"},16.8,{"$f":"ROUND(O22*P22,2)","v":{"v":12.14,"d":"$12.14"}},{"$f":"J22-Q22","v":{"v":-12.14,"d":"$(12.14)"}},{"$f":"R22/F22","v":{"v":-0.0379375,"d":"-$0.04"}},{"$f":"N22/F22","v":0}]
[null,"Frozen, IQF, Fully cooked, USDA Inspected pasteurized whole eggs, ","Sunny Fresh/Cargill 40927",null,"4/5 lbs",320,null,{"$f":"ROUND($G$22*$F$22/F23,2)","v":0},"Cs",{"v":39.17,"d":"$39.17"},{"$f":"IF(OR(ISBLANK(J23),G22=0,ISBLANK(G22)),,ROUND(J23+$K$3,2))","v":0},{"$f":"ROUND(H23*K23,2)","v":0},{"$f":"ROUND(K23/F23,2)","v":0},{"v":25.88,"d":"$25.88"},{"v":0.7227,"d":"$0.7227"},18.93,{"$f":"ROUND(O23*P23,2)","v":{"v":13.68,"d":"$13.68"}},{"$f":"J23-Q23","v":{"v":25.490000000000002,"d":"$25.49"}},{"$f":"R23/F23","v":{"v":0.07965625000000001,"d":"$0.08"}},{"$f":"N23/F23","v":{"v":0.080875,"d":"$0.08"}}]
[null,"45-50 calories with no more than 2g saturated fat and 150 mg sodium  "]
[null,"per 1 oz. portions.  A 1 oz. portion provides min. 1 M/MA"]
[]
[null,"Possible Allergens:  Egg, Milk, Soy",{"$nulls":12}," "," "," "," ",null," "]
[5,"Egg Omelet Cheddar Cheese","Michael Foods 85037",null,"144/2.0z.",144,0,{"$f":"ROUND($G$28*$F$28/F28,2)","v":0},"Cs",{"v":45.02,"d":"$45.02"},{"$f":"IF(OR(ISBLANK(J28),G28=0,ISBLANK(G28)),,ROUND(J28+$K$3,2))","v":0},{"$f":"ROUND(H28*K28,2)","v":0},{"$f":"ROUND(K28/F28,2)","v":0},{"v":35.91,"d":"$35.91"},{"v":0.7227,"d":"$0.7227"},12.61,{"$f":"ROUND(O28*P28,2)","v":{"v":9.11,"d":"$9.11"}},{"$f":"J28-Q28","v":{"v":35.910000000000004,"d":"$35.91"}},{"$f":"R28/F28","v":{"v":0.249375,"d":"$0.25"}},{"$f":"N28/F28","v":{"v":0.24937499999999999,"d":"$0.25"}}]
[null,"Frozen, IQF, Fully cooked, USDA inspected pasteurized whole eggs "," ",null," "," ",null," "," ",null," "," "," ",null," "," "," "," ",null," "]
[null,"with cheddar cheese filling. Oven baked, 100-200 calories with no "]
[null,"more than 4 g saturated fat and 300 mg sodium per serving.  "]
[null,"CN Labled for one portion to provide min. 2 M/MA"]
[null,"Possible Allergens: Egg, Milk, Soy",{"$nulls":12}," "," "," "," ",null," "]
[6,"Skillet Frittata w/Egg, Cheese, Veg and Ham, IW","Sunny Fresh/Cargill 40263",null,"96/3.35z",96,0,{"$f":"ROUND($G$34*$F$34/F34,2)","v":0},"Cs",{"v":55.91,"d":"$55.91"},{"$f":"IF(OR(ISBLANK(J34),G34=0,ISBLANK(G34)),,ROUND(J34+$K$3,2))","v":0},{"$f":"ROUND(H34*K34,2)","v":0},{"$f":"ROUND(K34/F34,2)","v":0},{"v":48.84,"d":"$48.84"},{"v":0.7227,"d":"$0.7227"},9.77,{"$f":"ROUND(O34*P34,2)","v":{"v":7.06,"d":"$7.06"}},{"$f":"J34-Q34","v":{"v":48.849999999999994,"d":"$48.85"}},{"$f":"R34/F34","v":{"v":0.5088541666666666,"d":"$0.51"}},{"$f":"N34/F34","v":{"v":0.50875,"d":"$0.51"}}]
[null,"Frozen, IQF, Fully cooked, 50-200 calories with no more than 5g "," ",null," "," ",null," "," ",null," "," "," ",null," "," "," "," ",null," "]
[null,"sat fat and 550 mg sodium per serving.  One portion provides min. "]
[null,"2 M/MA and 1 OEG"]
[null,"Possible Allergens:  Egg, Milk, Soy",{"$nulls":12}," "," "," "," ",null," "]
[7,"Skillet Frittata w/Egg, Cheese, and Turkey Sausage Bulk","Sunny Fresh/Cargill 40184",null,"225/2.20z",225,0,{"$f":"ROUND($G$39*$F$39/F39,2)","v":0},"Cs",{"v":80.48,"d":"$80.48"},{"$f":"IF(OR(ISBLANK(J39),G39=0,ISBLANK(G39)),,ROUND(J39+$K$3,2))","v":0},{"$f":"ROUND(H39*K39,2)","v":0},{"$f":"ROUND(K39/F39,2)","v":0},{"v":64.32,"d":"$64.32"},{"v":0.7227,"d":"$0.7227"},22.36,{"$f":"ROUND(O39*P39,2)","v":{"v":16.16,"d":"$16.16"}},{"$f":"J39-Q39","v":{"v":64.32000000000001,"d":"$64.32"}},{"$f":"R39/F39","v":{"v":0.2858666666666667,"d":"$0.29"}},{"$f":"N39/F39","v":{"v":0.28586666666666666,"d":"$0.29"}}]
[null,"Frozen, IQF, Fully cooked, 50-150 calories with no more than 4g"," ",null," "," ",null," ","  ",null," "," "," ",null," "," "," "," ",null," "]
[null,"saturated fat and 350 mg sodium per serving.  One portion provides  "]
[null,"min 2 M/MA"]
[null,"Possible Allergens:  Egg, Milk, Soy"]
[{"$nulls":14}," "," "," "," ",null," "]
[8,"Eggs, Hard Cooked, Peeled, Pillow -Pak/Dry Packed","Michael Foods 85018",null,"12/12",144,0,{"$f":"ROUND($G$45*$F$45/F45,2)","v":0},"Cs",{"$nulls":4},{"v":14.55,"d":"$14.55"},{"v":0.7227,"d":"$0.7227"},15,{"$f":"ROUND(O45*P45,2)","v":{"v":10.84,"d":"$10.84"}},{"$f":"J45-Q45","v":{"v":-10.84,"d":"$(10.84)"}},{"v":0.1,"d":"$0.10"},{"$f":"N45/F45","v":{"v":0.10104166666666667,"d":"$0.10"}}]
[null,"Frozen, IQF, Fully cooked, 50-150 calories with no more than 4 g ","Sunny Fresh/Cargill 50038",null,"8/18",144,null,{"$f":"ROUND($G$45*$F$45/F46,2)","v":0},"Cs",{"$nulls":4},0,{"v":0.7227,"d":"$0.7227"},14.04,{"$f":"ROUND(O46*P46,2)","v":{"v":10.15,"d":"$10.15"}},{"$f":"J46-Q46","v":{"v":-10.15,"d":"$(10.15)"}},{"$f":"R46/F46","v":{"v":-0.07048611111111111,"d":"-$0.07"}},{"$f":"N46/F46","v":0}]
[null,"saturated fat and 350 mg sodium per serving.  One portion provides","Allmark 71212",null,"12/12",144,null,0,"Cs",{"v":19.44,"d":"$19.44"},{"$f":"IF(OR(ISBLANK(J47),G45=0,ISBLANK(G45)),,ROUND(J47+$K$3,2))","v":0},{"$f":"ROUND(H47*K47,2)","v":0},{"$f":"ROUND(K47/F47,2)","v":0}]
[null,"2 M/MA"]
[null,"Possible Allergens:  Egg, Milk, Soy"," ",null," "," ",null," "," ",null," "," "," ",null," "," "," "," ",null," "]
[9,"French Toast Sticks, WG Cinnamon IW","(18-19) Sunny Fresh/Cargill 40094",null,"110/2.90z",110,0,{"$f":"ROUND(G50*F50/F50,2)","v":0},"Cs",{"v":51.74,"d":"$51.74"},{"$f":"IF(OR(ISBLANK(J50),G50=0,ISBLANK(G50)),,ROUND(J50+$K3,2))","v":0},{"$f":"ROUND(H50*K50,2)","v":0},{"$f":"ROUND(K50/F50,2)","v":0},{"v":47.23,"d":"$47.23"},{"v":0.7227,"d":"$0.7227"},6.24,{"$f":"ROUND(O50*P50,2)","v":{"v":4.51,"d":"$4.51"}},{"$f":"J50-Q50","v":{"v":47.230000000000004,"d":"$47.23"}},{"$f":"R50/F50","v":{"v":0.4293636363636364,"d":"$0.43"}},{"$f":"N50/F50","v":{"v":0.42936363636363634,"d":"$0.43"}}]
[null,"Frozen, Heat and Serve, 150-250 calories with no more than 2 g sat ",{"$nulls":12}," "," "," "," ",null," "]
[null,"fat and 350 mg sodium per svg. CN Labeled for three (3) sticks to "]
[null,"provide min. 1 M/MA and 1.5 OEG"," ",{"$nulls":11}," "," "," "," ",null," "]
[null,"Possible Allergens: Milk, Soy, Wheat"," ",{"$nulls":11}," "," "," "," ",null," "]
[]
[{"$nulls":6},0,null,"Page Total",null,null,{"$f":"SUMIF(L8:L50,\">0\")","v":0}]

{"sheet":"Frozen Potato ","index":12,"n_rows":98,"n_cols":20,"rows_kept":98,"merged":[[0,4,0,12],[0,14,0,19],[1,4,1,12],[2,5,2,9]]}
[null,{"$f":"'Recap Sheet'!A2","v":"School Food Authority:"},null,null,{"$f":"'Recap Sheet'!A3","v":"Offeror Name:"},{"$nulls":9},"Commodity"]
[null,{"$f":"'Recap Sheet'!B2","v":"Colleton County School District Office of Student Nutrition"},"Return to Recap Sheet",null,{"$f":"'Recap Sheet'!B3","v":{"v":0,"d":"0 "}}]
["Item","Description","Approved Brand Name / Manuf ID # ",null,null,"Firm Fixed Fee",{"$nulls":4},{"$f":"'Recap Sheet'!B4","v":{"v":0,"d":"$0.00"}},null,null,"Processing","Commodity","Pounds of",null,"NOI ","Net NOI","Total Cost"]
["#",null,null,"Distributor","Vendor","Svgs","Est.","Bid ","Bid","Unit","Unit Price","Total ","Cost per","Fee For","Value Per","DF Needed","Commodity","Net ","Cost Per","Processing Fee"]
[{"$nulls":3},"Code","Pack","per unit","Bid Qty","Qty","Unit","Price","plus Fee","Price","Unit","Service","Pound","Per Case","Value ","Price","Serving","Per Serving"]
[null,"Potato Products, Frz",{"$nulls":12},"Commodity 100506"]
[]
[1,"French Fries, 3/8\"-1/2\", Crinkle Cut, Ovenable, Low Sodium  ","McCain OIF00055A",null,"6/5 Lb ",160,0,{"$f":"ROUND(G8*F8/F8,2)","v":0},"Cs",{"$nulls":4},0,{"v":0.1394,"d":"$0.1394"},54.55,{"$f":"ROUND(O8*P8,2)","v":{"v":7.6,"d":"$7.60"}}," ","  ",{"$f":"N8/F8","v":0}]
[null,"Frozen. Made from white, USDA Grade A potatoes. Extra Long or Long Fancy.   ","Lamb Weston R45",null,"6/5 Lb ",160,null,{"$f":"ROUND(G8*F8/F9,2)","v":0},"Cs",{"$nulls":4},0,{"v":0.1394,"d":"$0.1394"},54.55,{"$f":"ROUND(O9*P9,2)","v":{"v":7.6,"d":"$7.60"}}," "," ",0]
[null,"No tropical oils, 0 trans fat, 100-150 calories, no more than 1g sat fat and no more than ","Simplot 71179221227",null,"6/5 Lb ",160,null,{"$f":"ROUND(G8*F8/F10,2)","v":0},"Cs",{"v":19.4,"d":"$19.40"},{"$f":"IF(OR(ISBLANK(J10),G8=0,ISBLANK(G8)),,ROUND(J10+$K$3,2))","v":0},{"$f":"ROUND(H10*K10,2)","v":0},{"$f":"ROUND(K10/F10,2)","v":0},{"v":11.8,"d":"$11.80"},{"v":0.1394,"d":"$0.1394"},54.55,{"$f":"ROUND(O10*P10,2)","v":{"v":7.6,"d":"$7.60"}},{"$f":"J10-Q10","v":{"v":11.799999999999999,"d":"$11.80"}},{"$f":"R10/F10","v":{"v":0.07375,"d":"$0.07"}},{"$f":"N10/F10","v":{"v":0.07375000000000001,"d":"$0.07"}}]
[null,"50 mg sodium per 1/2c svg"]
[null,"Possible Allergens: None Listed "]
[2,"French Fries, 3/8\" Straight Cut, Ovenable, Low Sodium","Simplot 71179026709",null,"6/5 Lb",160,0,{"$f":"ROUND($G$13*$F$13/F13,2)","v":0},"Cs",{"v":24.2,"d":"$24.20"},{"$f":"IF(OR(ISBLANK(J13),G13=0,ISBLANK(G13)),,ROUND(J13+$K$3,2))","v":0},{"$f":"ROUND(H13*K13,2)","v":0},{"$f":"ROUND(K13/F13,2)","v":0},{"v":16.6,"d":"$16.60"},{"v":0.1394,"d":"$0.1394"},54.55,{"$f":"ROUND(O13*P13,2)","v":{"v":7.6,"d":"$7.60"}},{"$f":"J13-Q13","v":{"v":16.6,"d":"$16.60"}},{"$f":"R13/F13","v":{"v":0.10375000000000001,"d":"$0.10"}},{"$f":"N13/F13","v":{"v":0.10375000000000001,"d":"$0.10"}}]
[null,"Frozen, Made from white, USDA Grade A potatoes. Extra Long or Long Fancy."]
[null,"No tropical oils, 0 trans fat, 100-150 calories, no more than 1g sat fat and no more than"]
[null,"30 mg sodium per 1/2c svg"]
[null,"Possible Allergens: None Listed "]
[3,"French Fries, Shoestring 1/4-5/16\", Coated","Lamb Weston S34",null,"6/4.5 Lb",144,0,{"$f":"ROUND($G$18*$F$18/F18,2)","v":0},"Cs",{"$nulls":3}," ",0,{"v":0.1394,"d":"$0.1394"},49.09,{"$f":"ROUND(O18*P18,2)","v":{"v":6.84,"d":"$6.84"}}," "," "," "]
[null,"Frozen, USDA LF or XLF, Grade A, Low moisture, 100-150 than 1 g saturated fat  and ","Simplot 71179036357",null,"6/5 Lb",200,null,{"$f":"ROUND($G$18*$F$18/F19,2)","v":0},"Cs",{"$nulls":3}," ",0,{"v":0.1394,"d":"$0.1394"},54.55,{"$f":"ROUND(O19*P19,2)","v":{"v":7.6,"d":"$7.60"}},{"$f":"K19-Q19","v":{"v":-7.6,"d":"-$7.60"}},{"$f":"R19/F19","v":{"v":-0.038,"d":"$(0.04)"}},{"$f":"N19/F19","v":0}]
[null,"300 mg sodium per 1/2 cup veg serving","Cavendish 56210-05311-2",null,"6/4.5 lb",191,null,{"$f":"ROUND($G$18*$F$18/F20,2)","v":0},"Cs",{"v":20.79,"d":"$20.79"},{"$f":"IF(OR(ISBLANK(J20),G18=0,ISBLANK(G18)),,ROUND(J20+$K$3,2))","v":0},{"$f":"ROUND(H20*K20,2)","v":0},{"$f":"ROUND(K20/F20,2)","v":0},0,{"v":0.1394,"d":"$0.1394"},49.09,{"v":6.84,"d":"$6.84"},{"$f":"J20-Q20","v":{"v":13.95,"d":"$13.95"}},{"$f":"R20/F20","v":{"v":0.07303664921465969,"d":"$0.07"}},{"$f":"N20/F20","v":0}]
[null,"Possible Allergens:  None Listed "]
[4,"French Fries, 3/8\", Regular cut (Fried or Baked) Coated","Lamb Weston S57",null,"6/5 Lb",160,0,{"$f":"ROUND(G22*F22/F22,2)","v":0},"Cs",{"$nulls":4},0,{"v":0.1394,"d":"$0.1394"},54.55,{"$f":"ROUND(O22*P22,2)","v":{"v":7.6,"d":"$7.60"}}," "," ",{"$f":"N22/F22","v":0}]
[null,"Frozen. Made from white, USDA Grade A potatoes, Extra Long or Long Fancy. ","McCain MCF03788",null,"6/5 Lb",160,null,{"$f":"ROUND(G22*F22/F23,2)","v":0},"Cs",{"v":23.95,"d":"$23.95"},{"$f":"IF(OR(ISBLANK(J23),G22=0,ISBLANK(G22)),,ROUND(J23+$K$3,2))","v":0},{"$f":"ROUND(H23*K23,2)","v":0},{"$f":"ROUND(K23/F23,2)","v":0},0,{"v":0.1394,"d":"$0.1394"},54.55,{"$f":"ROUND(O23*P23,2)","v":{"v":7.6,"d":"$7.60"}},{"$f":"J23-Q23","v":{"v":16.35,"d":"$16.35"}},{"$f":"R23/F23","v":{"v":0.10218750000000001,"d":"$0.10"}},0]
[null,"No tropical oils, 0 trans fat, 50-150 calories, no more than 1g sat fat and no more than "]
[null,"400 mg sodium per 1/2c svg"]
[null,"Possible Allergens: None Listed "]
[5,"French Fries, 3/8\" Straight Cut, (ovenable), Reduced Sodium, Seasoned ","McCain MCX04717",null,"6/5 Lb",160,350,{"$f":"ROUND(G27*F27/F27,2)","v":350},"Cs",{"v":29.95,"d":"$29.95"},{"$f":"IF(OR(ISBLANK(J27),G27=0,ISBLANK(G27)),,ROUND(J27+$K$3,2))","v":{"v":29.95,"d":"$29.95"}},{"$f":"ROUND(H27*K27,2)","v":{"v":10482.5,"d":"$10,482.50"}},{"$f":"ROUND(K27/F27,2)","v":{"v":0.19,"d":"$0.19"}},0,{"v":0.1394,"d":"$0.1394"},54.55,{"$f":"ROUND(O27*P27,2)","v":{"v":7.6,"d":"$7.60"}},{"$f":"J27-Q27","v":{"v":22.35,"d":"$22.35"}},{"$f":"R27/F27","v":{"v":0.13968750000000002,"d":"$0.14"}},{"$f":"N27/F27","v":0}]
[null,"Frozen. Made from white, USDA Grade A potatoes, Extra Long or Long Fancy with a blend   "]
[null,"of  spices. 100-150 Calories with 1g Sat fat and 150 mg Sodium per 1/2 c serving"]
[null,"No tropical oils. 0 Trans Fat.  "]
[null,"Possible Allergens: None Listed "]
[6,"Potato Baby Bakers","Simplot 71179000488",null,"6/2.5 lbs",73,200,{"$f":"ROUND(G32*F32/F32,2)","v":200},"Cs",{"v":24.3,"d":"$24.30"},{"$f":"IF(OR(ISBLANK(J32),G32=0,ISBLANK(G32)),,ROUND(J32+$K$3,2))","v":{"v":24.3,"d":"$24.30"}},{"$f":"ROUND(H32*K32,2)","v":{"v":4860,"d":"$4,860.00"}},{"$f":"ROUND(K32/F32,2)","v":{"v":0.33,"d":"$0.33"}},{"v":21.69,"d":"$21.69"},{"v":0.1394,"d":"$0.1394"},18.75,{"$f":"ROUND(O32*P32,2)","v":{"v":2.61,"d":"$2.61"}},{"$f":"J32-Q32","v":{"v":21.69,"d":"$21.69"}},{"$f":"R32/F32","v":{"v":0.2971232876712329,"d":"$0.30"}},{"$f":"N32/F32","v":{"v":0.2971232876712329,"d":"$0.30"}}]
[null,"Frozen, whole miniature potatoes seasoned with garlic and black pepper, bake and serve, "]
[null,"80-150 cals with no more than 1 g sat fat and 200 mg sodium per 1/2 cup vegetable serving"]
[null,"Possible Allergens: None Listed "]
[7,"Potato Roasters","McCain MCF03927",null,"6/5 Lb",160,0,{"$f":"ROUND(G36*F36/F36,2)","v":0},"Cs",{"v":30.55,"d":"$30.55"},{"$f":"IF(OR(ISBLANK(J36),G36=0,ISBLANK(G36)),,ROUND(J36+$K$3,2))","v":0},{"$f":"ROUND(H36*K36,2)","v":0},{"$f":"ROUND(K36/F36,2)","v":0},0,{"v":0.1394,"d":"$0.1394"},54.55,{"$f":"ROUND(O36*P36,2)","v":{"v":7.6,"d":"$7.60"}},{"$f":"J36-Q36","v":{"v":22.950000000000003,"d":"$22.95"}},{"$f":"R36/F36","v":{"v":0.14343750000000002,"d":"$0.14"}},{"$f":"N36/F36","v":0}]
[null,"Frozen, diced, roasted potatoes seasoned with garlic, rosemary and herbs, bake and serve, "]
[null,"100-200 cals with no more than 1 g sat fat and 200 mg of sodium per 1/2 c vegetable svg"]
[null,"Possible Allergens: None Listed "]
[8,"Potato Rounds/Tots","Lamb Weston H30",null,"6/5 Lb",160,0,{"$f":"ROUND(G40*F40/F40,2)","v":0},"Cs",{"$nulls":5},{"v":0.1394,"d":"$0.1394"},54.55,{"$f":"ROUND(O40*P40,2)","v":{"v":7.6,"d":"$7.60"}}," "," "," "]
[null,"Frozen, Grade A, Crisp golden brown exterior, 100-200 calories with no more than 2 g ","McCain/Ore-Ida OIF00215A",null,"6/5 Lb",160,null,{"$f":"ROUND(G40*F40/F41,2)","v":0},"Cs",{"v":22.3,"d":"$22.30"},{"$f":"IF(OR(ISBLANK(J41),G40=0,ISBLANK(G40)),,ROUND(J41+$K$3,2))","v":0},{"$f":"ROUND(H41*K41,2)","v":0},{"$f":"ROUND(K41/F41,2)","v":0},null,{"v":0.1394,"d":"$0.1394"},54.55,{"$f":"ROUND(O41*P41,2)","v":{"v":7.6,"d":"$7.60"}},{"$f":"J41-Q41","v":{"v":14.700000000000001,"d":"$14.70"}},{"$f":"R41/F41","v":{"v":0.09187500000000001,"d":"$0.09"}},{"$f":"N41/F41","v":0}]
[null,"sat fat and 350 mg per 1/2 c vegetable serving","Simplot 71179004189",null,"6/5 Lb",160,null,{"$f":"ROUND(G40*F40/F42,2)","v":0},"Cs",{"$nulls":4},0,{"v":0.1394,"d":"$0.1394"},54.55,{"$f":"ROUND(O42*P42,2)","v":{"v":7.6,"d":"$7.60"}},{"$f":"K42-Q42","v":{"v":-7.6,"d":"-$7.60"}}," ",{"$f":"N42/F42","v":0}]
[null,"Possible Allergens: Soy"]
[9,"Potato Rounds/Tots, Low Sodium","(18-19) McCain/Ore-Ida 1000002789",null,"6/5 Lb",156,0,{"$f":"ROUND(G44*F44/F44,2)","v":0},"Cs",{"v":29.5,"d":"$29.50"},{"$f":"IF(OR(ISBLANK(J44),G44=0,ISBLANK(G44)),,ROUND(J44+$K$3,2))","v":0},{"$f":"ROUND(H44*K44,2)","v":0},{"$f":"ROUND(K44/F44,2)","v":0},0,{"v":0.1394,"d":"$0.1394"},54.55,{"$f":"ROUND(O44*P44,2)","v":{"v":7.6,"d":"$7.60"}},{"$f":"J44-Q44","v":{"v":21.9,"d":"$21.90"}},{"$f":"R44/F44","v":{"v":0.14038461538461539,"d":"$0.14"}},{"$f":"N44/F44","v":0}]
[null,"Frozen, Grade A, Crisp golden brown exterior, 90-200 calories with no more than 2 g sat fat "]
[null,"and 170 mg sodium per 1/2 c vegetable serving"]
[null,"Possible Allergens: None Listed "]
[10,"Potato, Shaped ","McCain/Ore-Ida OIF03456 ",null,"6/4 lb",128,0,{"$f":"ROUND(G48*F48/F48,2)","v":0},"Cs",{"$nulls":4},0,{"v":0.1394,"d":"$0.1394"},43.64,{"$f":"ROUND(O48*P48,2)","v":{"v":6.08,"d":"$6.08"}}," "," "," "]
[null,"Frozen, mashed and formed, 100-200 calories with no more than 1 g sat fat and 200 mg ","Lamb Weston S0026",null,"6/5 lb",160,null,{"$f":"ROUND(G48*F48/F49,2)","v":0},"Cs",{"v":31.19,"d":"$31.19"},{"$f":"IF(OR(ISBLANK(J49),G48=0,ISBLANK(G48)),,ROUND(J49+$K$3,2))","v":0},{"$f":"ROUND(H49*K49,2)","v":0},{"$f":"ROUND(K49/F49,2)","v":0},0,{"v":0.1394,"d":"$0.1394"},54.55,{"$f":"ROUND(O49*P49,2)","v":{"v":7.6,"d":"$7.60"}},{"$f":"J49-Q49","v":{"v":23.590000000000003,"d":"$23.59"}},{"$f":"R49/F49","v":{"v":0.14743750000000003,"d":"$0.15"}},{"$f":"N49/F49","v":0}]
[null,"sodium per 1/2 c vegetable serving"]
[null,"Possible Allergens:  None Listed "]
[11,"Potato, Emoticon Mashed Potato Shapes","McCain 1000006639",null,"6/4 lbs",128,250,{"$f":"ROUND(G52*F52/F52,2)","v":250},"Cs",{"v":26.16,"d":"$26.16"},{"$f":"IF(OR(ISBLANK(J52),G52=0,ISBLANK(G52)),,ROUND(J52+$K$3,2))","v":{"v":26.16,"d":"$26.16"}},{"$f":"ROUND(H52*K52,2)","v":{"v":6540,"d":"$6,540.00"}},{"$f":"ROUND(K52/F52,2)","v":{"v":0.2,"d":"$0.20"}},0,{"v":0.1394,"d":"$0.1394"},36.22,{"$f":"ROUND(O52*P52,2)","v":{"v":5.05,"d":"$5.05"}},{"$f":"J52-Q52","v":{"v":21.11,"d":"$21.11"}},{"$f":"R52/F52","v":{"v":0.164921875,"d":"$0.16"}},{"$f":"N52/F52","v":0}]
[null,"Frozen, mashed and formed, 100-200 calories with no more than 1 g sat fat and 200 mg "]
[null,"sodium per 1/2 c vegetable serving.  Four pieces is equal to 1/2 cup serving"]
[null,"Possible Allergens:  None Listed "]
[12,"French Fries, Spirals, Battered Red Sodium","(18-19) McCain/Ore-Ida 1000004108",null,"6/4 lbs",183,0,{"$f":"ROUND(G56*F56/F56,2)","v":0},"Cs",{"v":24.48,"d":"$24.48"},{"$f":"IF(OR(ISBLANK(J56),G56=0,ISBLANK(G56)),,ROUND(J56+$K$3,2))","v":0},{"$f":"ROUND(H56*K56,2)","v":0},{"$f":"ROUND(K56/F56,2)","v":0},0,{"v":0.1394,"d":"$0.1394"},43.64,{"$f":"ROUND(O56*P56,2)","v":{"v":6.08,"d":"$6.08"}},{"$f":"J56-Q56","v":{"v":18.4,"d":"$18.40"}},{"$f":"R56/F56","v":{"v":0.10054644808743168,"d":"$0.10"}},{"$f":"N56/F56","v":0}]
[null,"Frozen, USDA Grade A, 100-200 calories with no more thatn 1 g saturated fat and 200 mg "]
[null,"sodium per 1/2 c vegetable serving"]
[null,"Possible Allergens:  None Listed "]
[13,"Potato Sticks, Seasoned Reduced Sodium ","McCain MCX04717",null,"6/5 Lb",160,50,{"$f":"ROUND(G60*F60/F60,2)","v":50},"Cs",{"v":29.95,"d":"$29.95"},{"$f":"IF(OR(ISBLANK(J60),G60=0,ISBLANK(G60)),,ROUND(J60+$K$3,2))","v":{"v":29.95,"d":"$29.95"}},{"$f":"ROUND(H60*K60,2)","v":{"v":1497.5,"d":"$1,497.50"}},{"$f":"ROUND(K60/F60,2)","v":{"v":0.19,"d":"$0.19"}},0,{"v":0.1394,"d":"$0.1394"},54.55,{"$f":"ROUND(O60*P60,2)","v":{"v":7.6,"d":"$7.60"}},{"$f":"J60-Q60","v":{"v":22.35,"d":"$22.35"}},{"$f":"R60/F60","v":{"v":0.13968750000000002,"d":"$0.14"}},{"$f":"N60/F60","v":0}]
[null,"Frozen, USDA Grade A 100-200 calories with no more than 1 g sat fat and 150 mg sodium "]
[null,"per 1/2 c veg svg."]
[null,"Possible Allergens:  None Listed "]
[14,"Potato Waffle Cut","McCain/Ore-Ida MCL03623",null,"6/5 Lb",144,0,{"$f":"ROUND(G64*F64/F64,2)","v":0},"Cs",{"v":25.1,"d":"$25.10"},{"$f":"IF(OR(ISBLANK(J64),G64=0,ISBLANK(G64)),,ROUND(J64+$K$3,2))","v":0},{"$f":"ROUND(H64*K64,2)","v":0},{"$f":"ROUND(K64/F64,2)","v":0},0,{"v":0.1394,"d":"$0.1394"},49.09,{"$f":"ROUND(O64*P64,2)","v":{"v":6.84,"d":"$6.84"}},{"$f":"J64-Q64","v":{"v":18.26,"d":"$18.26"}},{"$f":"R64/F64","v":{"v":0.12680555555555556,"d":"$0.13"}},{"$f":"N64/F64","v":0}]
[null,"Frozen, USDA Grade A, 100-200 calories with no more than 2 g saturated fat and 600 mg  "]
[null,"sodium per 1/2 c vegetable serving"]
[null,"Possible Allergens:  None Listed "]
[15,"Potato Wedge, 8-10 Cut, (Bake or Fry)","McCain/Ore-Ida OIF0024A",null,"6/5 Lb",160,0,{"$f":"ROUND(G68*F68/F68,2)","v":0},"Cs",{"$nulls":4},0,{"v":0.1394,"d":"$0.1394"},54.55,{"$f":"ROUND(O68*P68,2)","v":{"v":7.6,"d":"$7.60"}}," "," "," "]
[null,"Frozen, USDA Grade A, 50-150 calories with no more than 1 g saturated fat and 50 mg ","Simplot 71179238010",null,"6/5 Lb",160,null,{"$f":"ROUND(G68*F68/F69,2)","v":0},"Cs",{"v":21.2,"d":"$21.20"},{"$f":"IF(OR(ISBLANK(J69),G68=0,ISBLANK(G68)),,ROUND(J69+$K$3,2))","v":0},{"$f":"ROUND(H69*K69,2)","v":0},{"$f":"ROUND(K69/F69,2)","v":0},{"v":13.6,"d":"$13.60"},{"v":0.1394,"d":"$0.1394"},54.55,{"$f":"ROUND(O69*P69,2)","v":{"v":7.6,"d":"$7.60"}},{"$f":"J69-Q69","v":{"v":13.6,"d":"$13.60"}},{"$f":"R69/F69","v":{"v":0.08499999999999999,"d":"$0.09"}},{"$f":"N69/F69","v":{"v":0.08499999999999999,"d":"$0.09"}}]
[null,"sodium per 1/2 c vegetable serving"]
[null,"Possible Allergens:  None Listed "]
[16,"Hash Brown Rounds ","(18-19_ McCain 1000006188",null,"6/5 Lb",160,100,{"$f":"ROUND(G72*F72/F72,2)","v":100},"Cs",{"v":31,"d":"$31.00"},{"$f":"IF(OR(ISBLANK(J72),G72=0,ISBLANK(G72)),,ROUND(J72+$K$3,2))","v":{"v":31,"d":"$31.00"}},{"$f":"ROUND(H72*K72,2)","v":{"v":3100,"d":"$3,100.00"}},{"$f":"ROUND(K72/F72,2)","v":{"v":0.19,"d":"$0.19"}},0,{"v":0.1394,"d":"$0.1394"},54.55,{"$f":"ROUND(O72*P72,2)","v":{"v":7.6,"d":"$7.60"}},{"$f":"K72-Q72","v":{"v":23.4,"d":"$23.40"}},{"$f":"R72/F72","v":{"v":0.14625,"d":"$0.15"}},{"$f":"N72/F72","v":0}]
[null,"Frozen, USDA Grade A, 50-150 calories with no more than 1 g saturated fat and 250 mg "]
[null,"sodium per 1/2c vegetable serving"]
[null,"Possible Allergens:  None Listed "]
[null,"Category:  Sweet Potatoes",{"$nulls":12},"Commodity","100980"]
[17,"Potato, Sweet Potato Fries, 3/8\" Crinkle Cut","Lamb Weston L0084",null,"5/3 Lb",80,0,{"$f":"ROUND(G77*F77/F77,2)","v":0},"Cs",{"$nulls":4},0,{"v":0.1575,"d":"$0.1575"},29.41,{"$f":"ROUND(O77*P77,2)","v":{"v":4.63,"d":"$4.63"}}," "," "," "]
[null,"Frozen, Grade A, 80-200 calories with no more than 1 g sat fat and 250 mg sodium per ","Simplot 71179020356",null,"6/2.5 Lb",80,null,{"$f":"ROUND(G77*F77/F78,2)","v":0},"Cs",{"v":21.2,"d":"$21.20"},{"$f":"IF(OR(ISBLANK(J78),G77=0,ISBLANK(G77)),,ROUND(J78+$K$3,2))","v":0},{"$f":"ROUND(H78*K78,2)","v":0},{"$f":"ROUND(K78/F78,2)","v":0},{"v":16.95,"d":"$16.95"},{"v":0.1575,"d":"$0.1575"},29.41,{"$f":"ROUND(O78*P78,2)","v":{"v":4.63,"d":"$4.63"}},{"$f":"J78-Q78","v":{"v":16.57,"d":"$16.57"}},{"$f":"R78/F78","v":{"v":0.207125,"d":"$0.21"}},{"$f":"N78/F78","v":{"v":0.21187499999999998,"d":"$0.21"}}]
[null,"1/2 c Red/Orange Veg serving "]
[null,"Possible Allergens:  None Listed "]
[18,"Potato, Sweet Potato Fries  3/8\" Straight Cut","Lamb Weston L8000",null,"5/3 Lb",80,0,{"$f":"ROUND(G81*F81/F81,2)","v":0},"Cs",{"v":21.36,"d":"$21.36"},{"$f":"IF(OR(ISBLANK(J81),G81=0,ISBLANK(G81)),,ROUND(J81+$K$3,2))","v":0},{"$f":"ROUND(H81*K81,2)","v":0},{"$f":"ROUND(K81/F81,2)","v":0},{"v":0.2231,"d":"$0.2231"},{"v":0.2231,"d":"$0.2231"},29.41,{"$f":"ROUND(O81*P81,2)","v":{"v":6.56,"d":"$6.56"}},null,{"$f":"K81-Q81","v":{"v":-6.56,"d":"$(6.56)"}},{"$f":"S81/F81","v":{"v":-0.08199999999999999,"d":"$(0.08)"}}]
[null,"Frozen, Grade A, 80-200 calories with no more than 1 g sat fat and 250 mg sodium per "]
[null,"1/2 c Red/Orange Veg serving "]
[null,"Possible Allergens:  None Listed "]
[19,"Potato, Sweet Potato, Waffle Cut ","Lamb Weston L0090",null,"5/3 Lb",80,0,{"$f":"ROUND(G85*F85/F85,2)","v":0},"Cs",{"$nulls":4},0,{"v":0.1575,"d":"$0.1575"},29.41,{"$f":"ROUND(O85*P85,2)","v":{"v":4.63,"d":"$4.63"}},{"$f":"K85-Q85","v":{"v":-4.63,"d":"-$4.63"}}," ",{"$f":"N85/F85","v":0}]
[null,"Frozen, Grade A. 50-200 calories with no more than 2 g sat fat and 250 mg sodium per","McCain MCF05074",null,"6/2.5 lbs",80,null,{"$f":"ROUND(G85*F85/F86,2)","v":0},"Cs",{"v":21.95,"d":"$21.95"},{"$f":"IF(OR(ISBLANK(J86),G85=0,ISBLANK(G85)),,ROUND(J86+$K$3,2))","v":0},{"$f":"ROUND(H86*K86,2)","v":0},{"$f":"ROUND(K86/F86,2)","v":0},0,{"v":0.1575,"d":"$0.1575"},29.41,{"$f":"ROUND(O86*P86,2)","v":{"v":4.63,"d":"$4.63"}},{"$f":"J86-Q86","v":{"v":17.32,"d":"$17.32"}},{"$f":"R86/F86","v":{"v":0.2165,"d":"$0.22"}},0]
[null,"1/2 c Red/Orange Veg serving "]
[null,"Possible Allergens:  None Listed "]
[20,"Sweet Potato Mini Puffs","Lamb Weston L0094",null,"6/2.5 lbs",80,0,{"$f":"ROUND(G89*F89/F89,2)","v":0},"Cs",{"v":25.09,"d":"$25.09"},{"$f":"IF(OR(ISBLANK(J89),G89=0,ISBLANK(G89)),,ROUND(J89+$K$3,2))","v":0},{"$f":"ROUND(H89*K89,2)","v":0},{"$f":"ROUND(K89/F89,2)","v":0},0,{"v":0.1575,"d":"$0.1575"},29.41,{"$f":"ROUND(O89*P89,2)","v":{"v":4.63,"d":"$4.63"}},{"$f":"J89-Q89","v":{"v":20.46,"d":"$20.46"}},{"$f":"R89/F89","v":{"v":0.25575000000000003,"d":"$0.26"}},{"$f":"N89/F89","v":0}]
[null,"Frozen. Grade A , 100-200 calories with no more than 1 g sat fat and 250 mg"," "," "," "," ",null," "," "," "," "," "," ",null," "," "," ",null," "," "]
[null,"and 250 mg sodium per 1/2 c Red/Orange Veg. "]
[null,"Possible Allergens:  None Listed "]
[21,"Sweet Potato Wedge, 10 cut","McCain MCF04712",null,"6/2.5 lbs",80,100,{"$f":"ROUND(G93*F93/F93,2)","v":100},"Cs",{"v":21.35,"d":"$21.35"},{"$f":"IF(OR(ISBLANK(J93),G93=0,ISBLANK(G93)),,ROUND(J93+$K$3,2))","v":{"v":21.35,"d":"$21.35"}},{"$f":"ROUND(H93*K93,2)","v":{"v":2135,"d":"$2,135.00"}},{"$f":"ROUND(K93/F93,2)","v":{"v":0.27,"d":"$0.27"}},0,{"v":0.1575,"d":"$0.1575"},29.41,{"$f":"ROUND(O93*P93,2)","v":{"v":4.63,"d":"$4.63"}},{"$f":"J93-Q93","v":{"v":16.720000000000002,"d":"$16.72"}},{"$f":"R93/F93","v":{"v":0.20900000000000002,"d":"$0.21"}},{"$f":"N93/F93","v":0}]
[null,"Frozen, Grade A 100-200 calories with no more than 1 g sat fat and 250 mg sodium per "," ",null," "," ",null," "," "," "," "," "," ",null," "," "," ",null," "," "]
[null,"1/2 c Red/Orange Veg serving "]
[null,"Possible Allergens:  None Listed "]
[]
[{"$nulls":8},"Page Total",null,null,{"$f":"SUMIF(L6:L96,\">0\")","v":{"v":28615,"d":"$28,615.00"}}]

{"sheet":"Shelf-stable Fruit& Juice","index":13,"n_rows":107,"n_cols":20,"rows_kept":107,"merged":[[0,4,0,12],[0,14,0,18],[1,4,1,12],[2,5,2,9]]}
[null,{"$f":"'Recap Sheet'!A2","v":"School Food Authority:"},null,null,{"$f":"'Recap Sheet'!A3","v":"Offeror Name:"},{"$nulls":9},"Commodity"]
[null,{"$f":"'Recap Sheet'!B2","v":"Colleton County School District Office of Student Nutrition"},"Return to Recap Sheet",null,{"$f":"'Recap Sheet'!B3","v":0}]
["Item","Description","Approved Brand Name / Manuf ID # ",null,null,"Firm Fixed Fee",{"$nulls":4},{"$f":"'Recap Sheet'!B4","v":{"v":0,"d":"$0.00"}},null,null,"Processing","Commodity","Pounds of",null,"Net ","Net NOI","Total Cost"]
["#","Federal Regulations require that all foods purchased for Child Nutrition Programs be of \"domestic origin\" to the ",null,"Distributor","Vendor","Svgs","Est.","Bid ","Bid","Unit","Unit Price","Total ","Cost per","Fee for ","Value Per","DF Needed","Commodity","NOI ","Cost Per ","Processing Fee"]
[null,"maximum extent possible with two exceptions. In addition, mandarin oranges & pineapple are exempt from requirement.",null,"Code","Pack","per unit","Bid Qty","Qty","Unit","Price","plus Fee","Price","Unit","Service","Pound","Per Case","Value ","Price","Serving","Per Serving"]
[null,"Shelf-stable Fruit ",{"$nulls":12},"Apples 110149 Apples for Further Processing"]
[1,"Applesauce, Cups, Sweetened","National Food Group A1500-282A",null,"96/4.5z",96,0,{"$f":"ROUND($G$7*$F$7/F7,2)","v":0},"Cs",{"v":19.98,"d":"$19.98"},{"$f":"IF(OR(ISBLANK(J7),G7=0,ISBLANK(G7)),,ROUND(J7+$K$3,2))","v":0},{"$f":"ROUND(H7*K7,2)","v":0},{"$f":"ROUND(K7/F7,2)","v":0},0,{"v":0.3956,"d":"$0.3956"},10,{"$f":"ROUND(O7*P7,2)","v":{"v":3.96,"d":"$3.96"}},{"$f":"J7-Q7","v":{"v":16.02,"d":"$16.02"}},{"$f":"R7/F7","v":{"v":0.166875,"d":"$0.17"}},{"$f":"N7/F7","v":0}]
[null,"Shelf Stable, Individual portion cup, color foil or mylar top","White House/Ntl Fruit 718-1884",null,"96/4.5z",96,null,{"$f":"ROUND($G$7*$F$7/F8,2)","v":0},"Cs",{"$nulls":10},{"$f":"N8/F8","v":0}]
[null,"One portion provides 1/2 c FV for CN programs No Imports",{"$nulls":17}," "]
[2,"Applesauce, Cups, Unsweetened","National Food Group A3500-282A",null,"96/4.5z",96,0,{"$f":"ROUND($G$10*$F$10/F10,2)","v":0},"Cs",{"$nulls":4},0,{"v":0.3956,"d":"$0.3956"},10,{"$f":"ROUND(O10*P10,2)","v":{"v":3.96,"d":"$3.96"}},{"v":16.02,"d":"$16.02"},{"v":0.17,"d":"$0.17"},{"$f":"N10/F10","v":0}]
[null,"Shelf Stable, Individual portion cup, color foil or mylar top","Motts 100065615",null,"72/4.5z",72,null,{"$f":"ROUND($G$10*$F$10/F11,2)","v":0},"Cs",{"v":13.68,"d":"$13.68"},{"$f":"IF(OR(ISBLANK(J11),G10=0,ISBLANK(G10)),,ROUND(J11+$K$3,2))","v":0},{"$f":"ROUND(H11*K11,2)","v":0},{"$f":"ROUND(K11/F11,2)","v":0},{"$nulls":6},{"$f":"N11/F11","v":0}]
[null,"One portion provides 1/2 c FV for CN programs No Imports","Knouse (Musselman) FASU1350",null,"96/4.5z",96,null,0,"Cs",{"$nulls":10},0]
[null," ","White House/Ntl Fruit 717-1884",null,"96/4.5z",96,null,0,"Cs",{"$nulls":10},0]
[3,"Applesauce, Strawberry Flavor, Shelf Stable Cup","National Food Group A1590-235A",null,"96/4.,5z",96,0,{"$f":"ROUND($G$14*$F$14/F14,2)","v":0},"Cs",{"$nulls":4},0,{"v":0.3956,"d":"$0.3956"},10,{"$f":"ROUND(O14*P14,2)","v":{"v":3.96,"d":"$3.96"}},{"v":16.02,"d":"$16.02"},{"v":0.17,"d":"$0.17"},0]
[null,"Shelf Stable, Individual portion cup, color foil or mylar top","Motts 10065614",null,"72/4.5z",72,null,{"$f":"ROUND($G$14*$F$14/F15,2)","v":0},"Cs",{"v":13.68,"d":"$13.68"},{"$f":"IF(OR(ISBLANK(J15),G14=0,ISBLANK(G14)),,ROUND(J15+$K$3,2))","v":0},{"$f":"ROUND(H15*K15,2)","v":0},{"$f":"ROUND(K15/F15,2)","v":0},{"$nulls":6},0]
[null,"One portion provides 1/2 c FV for CN programs No Imports","Knouse (Musselman) FASU1403",null,"96/4.5z",96,null,{"$f":"ROUND($G$14*$F$14/F16,2)","v":0},"Cs",{"$nulls":10},0]
[4,"Applesauce, Strawberry Banana Flavor, Shelf Stable Cup","National Food Group A3790-235A",null,"96/4.,5z",96,0,{"$f":"ROUND($G$17*$F$17/F17,2)","v":0},"Cs",{"v":23.25,"d":"$23.25"},{"$f":"IF(OR(ISBLANK(J17),G17=0,ISBLANK(G17)),,ROUND(J17+$K$3,2))","v":0},{"$f":"ROUND(H17*K17,2)","v":0},{"$f":"ROUND(K17/F17,2)","v":0},0,{"v":0.3956,"d":"$0.3956"},10,{"$f":"ROUND(O17*P17,2)","v":{"v":3.96,"d":"$3.96"}},{"$f":"J17-Q17","v":{"v":19.29,"d":"$19.29"}},{"$f":"R17/F17","v":{"v":0.2009375,"d":"$0.20"}},{"$f":"N17/F17","v":0}]
[null,"Shelf Stable, Individual portion cup, color foil or mylar top"," ",{"$nulls":16}," "]
[null,"One portion provides 1/2 c FV for CN programs No Imports",{"$nulls":17}," "]
[5,"Applesauce, Cinnamon, Shelf Stable Cup","National Food Group A1510-282A",null,"96/4.5z",96,0,{"$f":"ROUND($G$20*$F$20/F20,2)","v":0},"Cs",{"v":23.25,"d":"$23.25"},{"$f":"IF(OR(ISBLANK(J20),G20=0,ISBLANK(G20)),,ROUND(J20+$K$3,2))","v":0},{"$f":"ROUND(H20*K20,2)","v":0},{"$f":"ROUND(K20/F20,2)","v":0},0,{"v":0.3956,"d":"$0.3956"},10,{"$f":"ROUND(O20*P20,2)","v":{"v":3.96,"d":"$3.96"}},{"$f":"J20-Q20","v":{"v":19.29,"d":"$19.29"}},{"$f":"R20/F20","v":{"v":0.2009375,"d":"$0.20"}},{"$f":"N20/F20","v":0}]
[null,"Shelf Stable, Individual portion cup, color foil or mylar top"," ",{"$nulls":16}," "]
[null,"One portion provides 1/2 c FV for CN programs No Imports",{"$nulls":17}," "]
[6,"Applesauce, Blue Raspberry, Shelf Stable Cups","National Food Group A3530-282A",null,"96/4.5z",96,0,{"$f":"ROUND($G$23*$F$23/F23,2)","v":0},"Cs",{"v":23.25,"d":"$23.25"},{"$f":"IF(OR(ISBLANK(J23),G23=0,ISBLANK(G23)),,ROUND(J23+$K$3,2))","v":0},{"$f":"ROUND(H23*K23,2)","v":0},{"$f":"ROUND(K23/F23,2)","v":0},0,{"v":0.3956,"d":"$0.3956"},10,{"$f":"ROUND(O23*P23,2)","v":{"v":3.96,"d":"$3.96"}},{"$f":"J23-Q23","v":{"v":19.29,"d":"$19.29"}},{"$f":"R23/F23","v":{"v":0.2009375,"d":"$0.20"}},0]
[null,"Shelf Stable, Individual portion cup, color foil or mylar top"," ",{"$nulls":16}," "]
[null,"One portion provides 1/2 c FV for CN programs No Imports",{"$nulls":17}," "]
[7,"Apples, Sliced","Distributor Choice",null,"6/#10",6,0,{"$f":"ROUND(G26*F26/F26,2)","v":0},"Cs",{"$nulls":10}," "]
[null,"Grade A, Minimum score 90 or above, Fancy.  Solid pack, sliced, peeled, ","Fillable txt box or unprotected",{"$nulls":4},{"$f":"ROUND(G26*F26/F27,2)","v":{"$error":"#DIV/0!"}},"Cs",null,{"$f":"IF(OR(ISBLANK(J27),G26=0,ISBLANK(G26)),,ROUND(J27+$K$3,2))","v":0},{"$f":"ROUND(H27*K27,2)","v":{"$error":"#DIV/0!"}},{"$f":"ROUND(K27/F27,2)","v":{"$error":"#DIV/0!"}},{"$nulls":6}," "]
[null,"water pack.  Domestic origin. No imports. Minimum drained weight 7#  ",{"$nulls":17}," "]
[8,"Applesauce (No imports)","Distributor Choice",null,"6/#10",6,0,{"$f":"ROUND(G29*F29/F29,2)","v":0},"Cs",{"$nulls":10}," "]
[null,"Regular, sweetened, Grade A, Minimum Score 90 or above, natural flavored.","Fillable txt box or unprotected",{"$nulls":4},{"$f":"ROUND(G29*F29/F30,2)","v":{"$error":"#DIV/0!"}},"Cs",null,{"$f":"IF(OR(ISBLANK(J30),G29=0,ISBLANK(G29)),,ROUND(J30+$K$3,2))","v":0},{"$f":"ROUND(H30*K30,2)","v":{"$error":"#DIV/0!"}},{"$f":"ROUND(K30/F30,2)","v":{"$error":"#DIV/0!"}},{"$nulls":6}," "]
[9,"Applesauce (No imports)","Distributor Choice",null,"6/#10",6,0,{"$f":"ROUND(G31*F31/F31,2)","v":0},"Cs",{"$nulls":10}," "]
[null,"Unsweetened,  Grade A, Minimum Score 90 or above. (No Imports)","Fillable txt box or unprotected",{"$nulls":4},{"$f":"ROUND(G31*F31/F32,2)","v":{"$error":"#DIV/0!"}},"Cs",null,{"$f":"IF(OR(ISBLANK(J32),G31=0,ISBLANK(G31)),,ROUND(J32+$K$3,2))","v":0},{"$f":"ROUND(H32*K32,2)","v":{"$error":"#DIV/0!"}},{"$f":"ROUND(K32/F32,2)","v":{"$error":"#DIV/0!"}},{"$nulls":6}," "]
[10,"Cherries, Maraschino Halves","Distributor Choice",null,"1/2 gal",1,0,{"$f":"ROUND(G33*F33/F33,2)","v":0},"Each",{"$nulls":10}," "]
[null,"Without stems, Pitted, Grade A, Minimum Score 90 or above (No Imports) ","Fillable txt box or unprotected",{"$nulls":4},{"$f":"ROUND(G33*F33/F34,2)","v":{"$error":"#DIV/0!"}},"Cs",null,{"$f":"IF(OR(ISBLANK(J34),G33=0,ISBLANK(G33)),,ROUND(J34+$K$3,2))","v":0},{"$f":"ROUND(H34*K34,2)","v":{"$error":"#DIV/0!"}},{"$f":"ROUND(K34/F34,2)","v":{"$error":"#DIV/0!"}},{"$nulls":6}," "]
[11,"Cranberry Sauce (No Imports) ","Distributor Choice",null,"6/101 oz",6,5,{"$f":"ROUND(G35*F35/F35,2)","v":5},"Cs",{"$nulls":10}," "]
[null,"Jellied and strained.  US Grade A, Fancy. Minimum score 90 or above","Fillable txt box or unprotected",{"$nulls":4},{"$f":"ROUND(G35*F35/F36,2)","v":{"$error":"#DIV/0!"}},"Cs",null,{"$f":"IF(OR(ISBLANK(J36),G35=0,ISBLANK(G35)),,ROUND(J36+$K$3,2))","v":0},{"$f":"ROUND(H36*K36,2)","v":{"$error":"#DIV/0!"}},{"$f":"ROUND(K36/F36,2)","v":{"$error":"#DIV/0!"}},{"$nulls":6}," "]
[12,"Fruit Cocktail, US Grade Choice, Minimum Score 90 or above, ","Distributor Choice",null,"6/#10",6,0,{"$f":"ROUND(G37*F37/F37,2)","v":0},"Cs",{"$nulls":10}," "]
[null,"Light syrup mixture to contain in order of proportion:  peaches, pears, ","Fillable txt box or unprotected",{"$nulls":4},{"$f":"ROUND(G37*F37/F38,2)","v":{"$error":"#DIV/0!"}},"Cs",null,{"$f":"IF(OR(ISBLANK(J38),G37=0,ISBLANK(G37)),,ROUND(J38+$K$3,2))","v":0},{"$f":"ROUND(H38*K38,2)","v":{"$error":"#DIV/0!"}},{"$f":"ROUND(K38/F38,2)","v":{"$error":"#DIV/0!"}},{"$nulls":6}," "]
[null,"pineapples, grapes,cherries.  (If non domestic, insert country of origin)",{"$nulls":17}," "]
[13,"Fruit , Mixed (If non domestic, state country of  origin)","Distributor Choice",null,"6/#10",6,0,{"$f":"ROUND(G40*F40/F40,2)","v":0},"Cs",{"$nulls":10}," "]
[null,"US Grade Choice, Minimum Score 90 or above, Light syrup","Fillable txt box or unprotected",{"$nulls":4},{"$f":"ROUND(G40*F40/F41,2)","v":{"$error":"#DIV/0!"}},"Cs",null,{"$f":"IF(OR(ISBLANK(J41),G40=0,ISBLANK(G40)),,ROUND(J41+$K$3,2))","v":0},{"$f":"ROUND(H41*K41,2)","v":{"$error":"#DIV/0!"}},{"$f":"ROUND(K41/F41,2)","v":{"$error":"#DIV/0!"}},{"$nulls":6},"  "]
[null,"mixture to contain 30-50% peaches, 25-30% pears, 6-20% grapes.",{"$nulls":17}," "]
[14,"Fruit Salad, Tropical","Distributor Choice",null,"6/#10",6,100,{"$f":"ROUND(G43*F43/F43,2)","v":100},"Cs",{"$nulls":10}," "]
[null,"Diced, in 100% fruit Juice, No sugar added.  Pre-cut and ready to use.","Fillable txt box or unprotected",{"$nulls":4},{"$f":"ROUND(G43*F43/F44,2)","v":{"$error":"#DIV/0!"}},"Cs",null,{"$f":"IF(OR(ISBLANK(J44),G43=0,ISBLANK(G43)),,ROUND(J44+$K$3,2))","v":0},{"$f":"ROUND(H44*K44,2)","v":{"$error":"#DIV/0!"}},{"$f":"ROUND(K44/F44,2)","v":{"$error":"#DIV/0!"}},{"$nulls":6}," "]
[null,"(If non domestic, insert country of origin in text box)",{"$nulls":17}," "]
[15,"Mandarin Orange, Whole Segments","Distributor Choice",null,"6/#10",6,100,{"$f":"ROUND(G46*F46/F46,2)","v":100},"Cs",{"$nulls":3}," ",{"$nulls":6}," "]
[null,"Whole Segments in light syrup.  US Grade A   Minimum score 90 or above. .  ","Fillable txt box or unprotected",{"$nulls":4},{"$f":"ROUND(G46*F46/F47,2)","v":{"$error":"#DIV/0!"}},"Cs",null,{"$f":"IF(OR(ISBLANK(J47),G46=0,ISBLANK(G46)),,ROUND(J47+$K$3,2))","v":0},{"$f":"ROUND(H47*K47,2)","v":{"$error":"#DIV/0!"}},{"$f":"ROUND(K47/F47,2)","v":{"$error":"#DIV/0!"}},{"$nulls":6}," "]
[null,"No broken segments. (If non dom., insert country of origin in text box)"]
[null,"Peaches",{"$nulls":12},"Peaches 100220 Cling Diced Extra Light Can",{"$nulls":4}," "]
[16,"Peaches, Diced, Shelf Stable Cups","National Food Group A1740-235A",null,"72/4.5z",72,0,{"$f":"ROUND($G$50*$F$50/F50,2)","v":0},"Cs",{"v":38.86,"d":"$38.86"},{"$f":"IF(OR(ISBLANK(J50),G50=0,ISBLANK(G50)),,ROUND(J50+$K$3,2))","v":0},{"$f":"ROUND(H50*K50,2)","v":0},{"$f":"ROUND(K50/F50,2)","v":0},0,{"v":0.6668,"d":"$0.6668"},20.25,{"$f":"ROUND(O50*P50,2)","v":{"v":13.5,"d":"$13.50"}},{"$f":"J50-Q50","v":{"v":25.36,"d":"$25.36"}},{"$f":"R50/F50","v":{"v":0.3522222222222222,"d":"$0.35"}},{"$f":"N50/F50","v":0}]
[null,"Shelf Stable, Individual portion cup, color foil or mylar top"," ",{"$nulls":16}," "]
[null,"One portion provides 1/2 c FV for CN programs No Imports",{"$nulls":17}," "]
[null,"Pears ",{"$nulls":12},"Pears, 100225 Diced Extra Light Can",{"$nulls":4}," "]
[17,"Pears, Diced, Shelf Stable Cups","National Food Group A1780-235A",null,"72/4.5z",72,0,{"$f":"ROUND($G$54*$F$54/F54,2)","v":0},"Cs",{"v":38.86,"d":"$38.86"},{"$f":"IF(OR(ISBLANK(J54),G54=0,ISBLANK(G54)),,ROUND(J54+$K$3,2))","v":0},{"$f":"ROUND(H54*K54,2)","v":0},{"$f":"ROUND(K54/F54,2)","v":0},0,{"v":0.6327,"d":"$0.6327"},20.25,{"$f":"ROUND(O54*P54,2)","v":{"v":12.81,"d":"$12.81"}},{"$f":"J54-Q54","v":{"v":26.049999999999997,"d":"$26.05"}},{"$f":"R54/F54","v":{"v":0.3618055555555555,"d":"$0.36"}},{"$f":"N54/F54","v":0}]
[null,"Shelf Stable, Individual portion cup, color foil or mylar top"," ",{"$nulls":16}," "]
[null,"One portion provides 1/2 c FV for CN programs No Imports",{"$nulls":17}," "]
[18,"Peach Slices,  Minimum score 90 or above.   (No Imports). ","Distributor Choice",null,"6/#10",6,0,{"$f":"ROUND(G57*F57/F57,2)","v":0},"Cs",{"$nulls":10}," "]
[null,"Clingstone variety, packed in light syrup. Net Wt 108 oz. ","Fillable txt box or unprotected",{"$nulls":4},{"$f":"ROUND(G57*F57/F58,2)","v":{"$error":"#DIV/0!"}},"Cs",null,{"$f":"IF(OR(ISBLANK(J58),G57=0,ISBLANK(G57)),,ROUND(J58+$K$3,2))","v":0},{"$f":"ROUND(H58*K58,2)","v":{"$error":"#DIV/0!"}},{"$f":"ROUND(K58/F58,2)","v":{"$error":"#DIV/0!"}},{"$nulls":6}," "]
[null,"Minimum drained weight 66.5 oz. ",{"$nulls":17}," "]
[19,"Pear Halves, (No Imports)","Distributor Choice",null,"6/#10",6,0,{"$f":"ROUND(G60*F60/F60,2)","v":0},"Cs",{"$nulls":10}," "]
[null,"Bartlett.  Choice, Minimum score 90 or above. .   Light syrup, 30-35 count.","Fillable txt box or unprotected",{"$nulls":4},{"$f":"ROUND(G60*F60/F61,2)","v":{"$error":"#DIV/0!"}},"Cs",null,{"$f":"IF(OR(ISBLANK(J61),G60=0,ISBLANK(G60)),,ROUND(J61+$K$3,2))","v":0},{"$f":"ROUND(H61*K61,2)","v":{"$error":"#DIV/0!"}},{"$f":"ROUND(K61/F61,2)","v":{"$error":"#DIV/0!"}},{"$nulls":6}," "]
[null,"Minimum drained weight 65 oz.  (No Imports)",{"$nulls":17}," "]
[20,"Pear Slices, Barlett Choice (No Imports)","Distributor Choice",null,"6/#10",6,0,{"$f":"ROUND(G63*F63/F63,2)","v":0},"Cs",{"$nulls":10}," "]
[null,"Bartlett, Choice, Minimum score 90 or above. , light syrup. (No Imports)","Fillable txt box or unprotected",{"$nulls":4},{"$f":"ROUND(G63*F63/F64,2)","v":{"$error":"#DIV/0!"}},"Cs",null,{"$f":"IF(OR(ISBLANK(J64),G63=0,ISBLANK(G63)),,ROUND(J64+$K$3,2))","v":0},{"$f":"ROUND(H64*K64,2)","v":{"$error":"#DIV/0!"}},{"$f":"ROUND(K64/F64,2)","v":{"$error":"#DIV/0!"}},{"$nulls":6}," "]
[null,"Minimum drained weight 65.5 oz. ",{"$nulls":17}," "]
[21,"Pineapple Slices, US Grade A, Minimum score 90 or above. ","Distributor Choice",null,"6/#10",6,0,{"$f":"ROUND(G66*F66/F66,2)","v":0},"Cs",{"$nulls":10}," "]
[null,"Packed in juice.(If non domestic, insert country of origin in text box)","Fillable txt box or unprotected",{"$nulls":4},{"$f":"ROUND(G66*F66/F67,2)","v":{"$error":"#DIV/0!"}},"Cs",null,{"$f":"IF(OR(ISBLANK(J67),G66=0,ISBLANK(G66)),,ROUND(J67+$K$3,2))","v":0},{"$f":"ROUND(H67*K67,2)","v":{"$error":"#DIV/0!"}},{"$f":"ROUND(K67/F67,2)","v":{"$error":"#DIV/0!"}},{"$nulls":6},"  "]
[22,"Pineapple Tidbits (If non domestic, insert country of origin in ","Distributor Choice",null,"6/#10",6,150,{"$f":"ROUND(G68*F68/F68,2)","v":150},"Cs",{"$nulls":10}," "]
[null,"text box) US Grade A Minimum score 90 or above, Packed in Juice,  ","Fillable txt box or unprotected",{"$nulls":4},{"$f":"ROUND(G67*F67/F69,2)","v":{"$error":"#DIV/0!"}},"Cs",null,{"$f":"IF(OR(ISBLANK(J69),G67=0,ISBLANK(G67)),,ROUND(J69+$K$3,2))","v":0},{"$f":"ROUND(H69*K69,2)","v":{"$error":"#DIV/0!"}},{"$f":"ROUND(K69/F69,2)","v":{"$error":"#DIV/0!"}}]
[null,"Min. Drained Wt 69 oz. ",{"$nulls":17}," "]
[23,"Fruit Snack, Dried Cranberries, I/W                          Meets 1/2 c Fruit","Oceanspray  Craisins",null,"200/1.16z",200,0,{"$f":"ROUND(G71*F71/F71,2)","v":0},"Cs",null,{"$f":"IF(OR(ISBLANK(J71),G71=0,ISBLANK(G71)),,ROUND(J71+$K$3,2))","v":0},{"$f":"ROUND(H71*K71,2)","v":0},{"$f":"ROUND(K71/F71,2)","v":0},{"$nulls":6}," "]
[null,"Shelf Stable","     23446   Blueberry",{"$nulls":16}," "]
[null,null,"     23444  Cherry",{"$nulls":16}," "]
[null,null,"     23445  Strawberry",{"$nulls":16}," "]
[24,"Fruit Snack, Fruit Purees"," Welch's",null,"144/1.55z",144,100,{"$f":"ROUND(G75*F75/F75,2)","v":100},"Cs",null,{"$f":"IF(OR(ISBLANK(J75),G75=0,ISBLANK(G75)),,ROUND(J75+$K$3,2))","v":0},{"$f":"ROUND(H75*K75,2)","v":0},{"$f":"ROUND(K75/F75,2)","v":0},{"$nulls":6}," "]
[null,"Pouch pack, 1.55oz, 12% daily value of Fiber.","     14498   Mixed Fruit",{"$nulls":16}," "]
[null,"Meets USDA requirement for 10% of Daily Value of one of the following nutrients: ","     14492   Berries n Cherries",{"$nulls":16}," "]
[null,"Calcium, Potassium, Vitamin D, or Dietary fiber.",{"$nulls":17},"  "]
[25,"Raisins","Champion 070044-00415",null,"144/1.5z",144,0,{"$f":"ROUND(G79*F79/F79,2)","v":0},"Cs",null,{"$f":"IF(OR(ISBLANK(J79),G79=0,ISBLANK(G79)),,ROUND(J79+$K$3,2))","v":0},{"$f":"ROUND(H79*K79,2)","v":0},{"$f":"ROUND(K79/F79,2)","v":0},{"$nulls":6}," "]
[null,"Seedless, dark California, Individual 1.5 oz per package","Sun-maid 040-2010",null,"144/1.5z",144,null,{"$f":"ROUND($G$79*$F$79/F80,2)","v":0},"Cs",null,{"$f":"IF(OR(ISBLANK(J80),G79=0,ISBLANK(G79)),,ROUND(J80+$K$3,2))","v":0},{"$f":"ROUND(K80*H80,2)","v":0},{"$f":"ROUND(K80/F80,2)","v":0},{"$nulls":6}," "]
[26,"Raisins, flavored. Made from Golden Raisins","Champion Raisels (Various Flavors)",null,"200-1.5z",200,150,{"$f":"ROUND(G81*F81/F81,2)","v":150},"Cs",null,{"$f":"IF(OR(ISBLANK(J81),G81=0,ISBLANK(G81)),,ROUND(J81+$K$3,2))","v":0},{"$f":"ROUND(H81*K81,2)","v":0},{"$f":"ROUND(K81/F81,2)","v":0},{"$nulls":6}," "]
[null,"Individual, 1.5oz",{"$nulls":17}," "]
[null,"Sugar and Natural flavors added."," ",{"$nulls":16}," "]
[null,null,"  ",{"$nulls":16},"  "]
[null,null," ",{"$nulls":16}," "]
[27,"Juice, Apple, Aseptic Pack, Shelf Stable, 4.23 oz","Juicy Juice/Harvest Hill 00055",null,"40/4.23z",40,500,{"$f":"ROUND($G$86*$F$86/F86,2)","v":500},"Cs",{"$nulls":10}," "]
[null,"Shelf Stable, 100% juice, must have wrap straw, 1 serving = 1/2 cup fruit","Motts 10002383",null,"44/4.23z",44,null,{"$f":"ROUND($G$86*$F$86/F87,2)","v":454.55},"Cs",{"v":5.46,"d":"$5.46"},{"$f":"IF(OR(ISBLANK(J87),G86=0,ISBLANK(G86)),,ROUND(J87+$K$3,2))","v":{"v":5.46,"d":"$5.46"}},{"$f":"ROUND(H87*K87,2)","v":{"v":2481.84,"d":"$2,481.84"}},{"$f":"ROUND(J87/F87,2)","v":{"v":0.12,"d":"$0.12"}},{"$nulls":6}," "]
[null,null,"Apple & Eve  86000",null,"40/4.23z",40,null,{"$f":"ROUND($G$86*$F$86/F88,2)","v":500},"Cs"]
[null,"Country of Origin:  "," Suncup 400305",null,"40/4.23z",40,null,500,"Cs"," "," ","  "," "]
[null,null,"Ardmore Farms 62001",null,"44/4.23z",44,null,{"$f":"ROUND($G$86*$F$86/F90,2)","v":454.55},"Cs"]
[null,null,"Capri Sun 8768400921",null,"48/4.05z",48,null,{"$f":"ROUND($G$86*$F$86/F91,2)","v":416.67},"Cs"]
[null,null,"Tropicana 20209",null,"44/4.23z",44,null,{"$f":"ROUND($G$86*$F$86/F92,2)","v":454.55},"Cs",{"$nulls":10}," "]
[28,"Juice, Fruit Blend, Aseptic Pack, Shelf Stable, 4.23 oz","Juicy Juice/Harvest Hill 00059",null,"40/4.23z",40,500,{"$f":"ROUND(G93*F93/F93,2)","v":500},"Cs",{"$nulls":10}," "]
[null,"Shelf Stable, 100% juice, must have wrap straw, 1 serving = 1/2 cup fruit"," Motts 10002384",null,"44/4.23z",44,null,{"$f":"ROUND($G$93*$F$93/F94,2)","v":454.55},"Cs",{"v":5.46,"d":"$5.46"},{"$f":"IF(OR(ISBLANK(J94),G93=0,ISBLANK(G93)),,ROUND(J94+$K$3,2))","v":{"v":5.46,"d":"$5.46"}},{"$f":"ROUND(H94*K94,2)","v":{"v":2481.84,"d":"$2,481.84"}},{"$f":"ROUND(J94/F94,2)","v":{"v":0.12,"d":"$0.12"}}]
[null,null," Apple and Eve 86001",null,"40/4.23z",40,null,{"$f":"ROUND($G$93*$F$93/F95,2)","v":500},"Cs"," "]
[null,"Country of Origin:  "," Suncup 400805",null,"40/4.23z",40,null,500,"Cs"," "," "," ","  "]
[null,null,"Capri Sun 8768400923",null,"48/4.05z",48,null,{"$f":"ROUND($G$93*$F$93/F97,2)","v":416.67},"Cs"]
[null," "," Ardmore Farms 62008",null,"44/4.23z",44,null,{"$f":"ROUND($G$93*$F$93/F98,2)","v":454.55},"Cs",{"$nulls":10},"  "]
[29,"Juice, Grape, Aseptic Pack, Shelf Stable, 4.23 oz","Juicy Juice/Harvest Hill 00057",null,"40/4.23z",40,500,{"$f":"ROUND(G99*F99/F99,2)","v":500},"Cs"]
[null,"Shelf Stable, 100% juice, must have wrap straw, 1 serving = 1/2 cup fruit","Apple and Eve 86004",null,"40/4.23z",40,null,{"$f":"ROUND($G$99*$F$99/F100,2)","v":500},"Cs"]
[null,null,"Suncup 400505",null,"40/4.23z",40,null,{"$f":"ROUND($G$99*$F$99/F101,2)","v":500},"Cs",{"v":5.33,"d":"$5.33"},{"$f":"IF(OR(ISBLANK(J101),G99=0,ISBLANK(G99)),,ROUND(J101+$K$3,2))","v":{"v":5.33,"d":"$5.33"}},{"$f":"ROUND(H101*K101,2)","v":{"v":2665,"d":"$2,665.00"}},{"$f":"ROUND(J101/F101,2)","v":{"v":0.13,"d":"$0.13"}}]
[null,"Country of Origin:  "," Ardmore Farms 62002",null,"44/4.23z",44,null,{"$f":"ROUND($G$99*$F$99/F102,2)","v":454.55},"Cs",null," "," "," "]
[30,"Juice, Fruitables Aceptic Juice Box","Apple and Eve 76301-24025 ",null,"40/4.23z",40,500,{"$f":"ROUND(G103*F103/F103,2)","v":500},"Cs",0,{"$f":"IF(OR(ISBLANK(J103),G101=0,ISBLANK(G101)),,ROUND(J103+$K$3,2))","v":0},{"$f":"ROUND(H103*K103,2)","v":0},{"$f":"ROUND(K103/F103,2)","v":0},{"$nulls":6}," "]
[null,"100% Vegetable Juice, Meets 1/2 cup of red/orange vegetable, Shelf Stable"," ",null," "," ",null," "," "]
[null,"Meets USDA Smart Snack Guidelines"," ",null,"  "," ",null,"  "," "," "," "," "," "]
[null,"Country of Origin:  "," ",null," "," ",null," "," ",null," "," "," ",{"$nulls":6}," "]
[{"$nulls":8},"Page Total",null,null,{"$f":"SUMIF(L7:L106,\">0\")","v":{"v":7628.68,"d":"$7,628.68"}},{"$nulls":7}," "]

{"sheet":"Frozen Fruit & Juice","index":14,"n_rows":106,"n_cols":13,"rows_kept":106,"merged":[[0,4,0,12],[1,5,1,9]]}
[null,{"$f":"'Recap Sheet'!B2","v":"Colleton County School District Office of Student Nutrition"},"Return to Recap Sheet",null,{"$f":"'Recap Sheet'!B3","v":0}]
["Item","Description","Approved Brand Name / Manuf ID # ",null,null,"Firm Fixed Fee",{"$nulls":4},{"$f":"'Recap Sheet'!B4","v":{"v":0,"d":"$0.00"}}]
["#",null,null,"Distributor","Vendor","Svgs","Est.","Bid ","Bid","Unit","Unit Price","Total ","Cost per"]
[{"$nulls":3},"Code","Pack","per unit","Bid Qty","Qty","Unit","Price","plus Fee","Price","Unit"]
[null,"Frozen Fruit and Juice"]
[1,"Juice, Apple, Cartons, 4 oz","Ardmore Farms 42298     ",null,"70/4.0z",70,1500,{"$f":"ROUND($G$6*$F$6/F6,2)","v":1500},"Cs",0,{"$f":"IF(OR(ISBLANK(J6),G6=0,ISBLANK(G6)),,ROUND(J6+$K$2,2))","v":0},{"$f":"ROUND(H6*K6,2)","v":0},{"$f":"ROUND(K6/F6,2)","v":0}]
[null,"100% Apple Juice,  Unsweetened.  Deliver frozen only","Sun Cup 030301",null,"70/4.0z",70,null,{"$f":"ROUND($G$6*$F$6/F7,2)","v":1500},"Cs",0,{"$f":"IF(OR(ISBLANK(J7),G6=0,ISBLANK(G6)),,ROUND(J7+$K$2,2))","v":0},{"$f":"ROUND(H7*K7,2)","v":0},{"$f":"ROUND(K7/F7,2)","v":0}]
[null,"1 serving = 1/2 cup fruit","Mr. J. 2840",null,"70/4.0z",70,null,{"$f":"ROUND($G$6*$F$6/F8,2)","v":1500},"Cs",0,{"$f":"IF(OR(ISBLANK(J8),G6=0,ISBLANK(G6)),,ROUND(J8+$K$2,2))","v":0},{"$f":"ROUND(H8*K8,2)","v":0},{"$f":"ROUND(K8/F8,2)","v":0}]
[2,"Juice, Apple, Cartons, 6 oz"," Ardmore Farms 42212  ",null,"70/6.0z",70,150,{"$f":"ROUND(G9*F9/F9,2)","v":150},"Cs",0,{"$f":"IF(OR(ISBLANK(J9),G9=0,ISBLANK(G9)),,ROUND(J9+$K$2,2))","v":0},{"$f":"ROUND(H9*K9,2)","v":0},{"$f":"ROUND(K9/F9,2)","v":0}]
[null,"100% Apple Juice, unsweetened, deliver frozen only"," Sun Cup 50301",null,"70/6.0z",70,null,{"$f":"ROUND($G$9*$F$9/F10,2)","v":150},"Cs",0,{"$f":"IF(OR(ISBLANK(J10),G9=0,ISBLANK(G9)),,ROUND(J10+$K$2,2))","v":0},0,0]
[null,null," Mr. J  2850",null,"70/6.0z",70,null,{"$f":"ROUND($G$9*$F$9/F11,2)","v":150},"Cs",0,{"$f":"IF(OR(ISBLANK(J11),G9=0,ISBLANK(G9)),,ROUND(J11+$K$2,2))","v":0},0,0]
[3,"Juice, Apple-Cherry, Carton, 4oz"," Suncup 03200",null,"70/4.0z",70,500,{"$f":"ROUND(G12*F12/F12,2)","v":500},"Cs",0,{"$f":"IF(OR(ISBLANK(J12),G12=0,ISBLANK(G12)),,ROUND(J12+$K$2,2))","v":0},0,0]
[null,"100% Apple Cherry Juice, Frozen, Meets 1/2 c Fruit","Ardmore Farms 42292",null,"70/4.0z",70,null,{"$f":"ROUND(G12*F12/F13,2)","v":500},"Cs",0,{"$f":"IF(OR(ISBLANK(J12),G12=0,ISBLANK(G12)),,ROUND(J13+$K$2,2))","v":0},{"$f":"ROUND(H13*K13,2)","v":0},{"$f":"ROUND(K13/F13,2)","v":0}]
[null," ","Mr. J 3042",null,"70/4.0z",70,null,{"$f":"ROUND(G12*F12/F14,2)","v":500},"Cs",0,{"$f":"IF(OR(ISBLANK(J14),G12=0,ISBLANK(G12)),,ROUND(J14+$K$2,2))","v":0},0,0]
[4,"Juice, Fruit Blend, Carton, 4 oz","Ardmore Farms 42304  ",null,"70/4.0z",70,1500,{"$f":"ROUND(G15*F15/F15,2)","v":1500},"Cs",0,{"$f":"IF(OR(ISBLANK(J15),G12=0,ISBLANK(G12)),,ROUND(J15+$K$2,2))","v":0},0,0]
[null,"100% Blend Fruit Juice, Frozen, unsweetened","Sun Cup 030800",null,"70/4.0z ",70,null,{"$f":"ROUND($G$15*$F$15/F16,2)","v":1500},"Cs",0,{"$f":"IF(OR(ISBLANK(J16),G15=0,ISBLANK(G15)),,ROUND(J16+$K$2,2))","v":0},0,0]
[null,null,"Mr. J. 2340",null,"70/4.0z",70,null,{"$f":"ROUND($G$15*$F$15/F17,2)","v":1500},"Cs",0,0,0,0]
[5,"Juice, Fruit Blend, Cartons, 6 oz"," Ardmore Farms 42215  ",null,"70/6.0z",70,100,{"$f":"ROUND(G18*F18/F18,2)","v":100},"Cs",0,{"$f":"IF(OR(ISBLANK(J18),G18=0,ISBLANK(G18)),,ROUND(J18+$K$2,2))","v":0},0,0]
[null,"100% Blend Fruit Juice, Frozen, unsweetened","Sun Cup 50800",null,"70/6.0z",70,null,{"$f":"ROUND($G$18*$F$18/F19,2)","v":100},"Cs",0,{"$f":"IF(OR(ISBLANK(J19),G18=0,ISBLANK(G18)),,ROUND(J19+$K$2,2))","v":0},0,0]
[null,null,"Mr. J 2350",null,"70/6.0z",70,null,{"$f":"ROUND($G$18*$F$18/F20,2)","v":100},"Cs",0,0,0,0]
[6,"Juice, Grape, Cartons, 4 oz","Ardmore Farms 42301   ",null,"70/4.0z",70,750,{"$f":"ROUND($G$21*$F$21/F21,2)","v":750},"Cs",0,{"$f":"IF(OR(ISBLANK(J21),G21=0,ISBLANK(G21)),,ROUND(J21+$K$2,2))","v":0},0,0]
[null,"100% Grape Juice, frozen","Sun Cup 030501",null,"70/4.0z",70,null,{"$f":"ROUND($G$21*$F$21/F22,2)","v":750},"Cs",0,{"$f":"IF(OR(ISBLANK(J22),G21=0,ISBLANK(G21)),,ROUND(J22+$K$2,2))","v":0},0,0]
[null,null,"Mr. J. 2640",null,"70/4.0z",70,null,{"$f":"ROUND($G$21*$F$21/F23,2)","v":750},"Cs",0,0,0,0]
[7,"Juice, Grape, Cartons, 6 oz"," Ardmore Farms 42213 ",null,"70/6.0z",70,100,{"$f":"ROUND(G24*F24/F24,2)","v":100},"Cs",0,{"$f":"IF(OR(ISBLANK(J24),G24=0,ISBLANK(G24)),,ROUND(J24+$K$2,2))","v":0},0,0]
[null,"100% Grape Juice, frozen"," Sun Cup 50501",null,"70/6.0z",70,null,{"$f":"ROUND($G$24*$F$24/F25,2)","v":100},"Cs",0,{"$f":"IF(OR(ISBLANK(J25),G24=0,ISBLANK(G24)),,ROUND(J25+$K$2,2))","v":0},0,0]
[null,null,"Mr. J 2650",null,"70/6.0z",70,null,{"$f":"ROUND($G$24*$F$24/F26,2)","v":100},"Cs",0,0,0,0]
[8,"Juice, Orange, Cartons, 4 oz","Ardmore Farms 42297  ",null,"70/4.0z",70,1500,{"$f":"ROUND($G$27*$F$27/F27,2)","v":1500},"Cs",0,{"$f":"IF(OR(ISBLANK(J27),G27=0,ISBLANK(G27)),,ROUND(J27+$K$2,2))","v":0},{"$f":"ROUND(H27*K27,2)","v":0},0]
[null,"US Grade A, 100% Orange Juice, unsweetened, frozen","Sun Cup 030100 ",null,"70/4.0z",70,null,{"$f":"ROUND($G$27*$F$27/F28,2)","v":1500},"Cs",0,{"$f":"IF(OR(ISBLANK(J28),G27=0,ISBLANK(G27)),,ROUND(J28+$K$2,2))","v":0},0,0]
[null,null,"Mr. J. 2070",null,"70/4.0z",70,null,{"$f":"ROUND($G$27*$F$27/F29,2)","v":1500},"Cs",0,0,0,0]
[9,"Juice, Orange, Cartons, 6 oz"," Ardmore Farms 42210 ",null,"70/6.0z",70,100,{"$f":"ROUND(G30*F30/F30,2)","v":100},"Cs",0,{"$f":"IF(OR(ISBLANK(J30),G30=0,ISBLANK(G30)),,ROUND(J30+$K$2,2))","v":0},0,0]
[null,"US Grade A Orange Juice, unsweetened frozen","Sun Cup 50100",null,"70/6.0z",70,null,{"$f":"ROUND($G$30*$F$30/F31,2)","v":100},"Cs",0,{"$f":"IF(OR(ISBLANK(J31),G30=0,ISBLANK(G30)),,ROUND(J31+$K$2,2))","v":0},0,0]
[null,null,"Mr. J. 2080",null,"70/6.0z",70,null,{"$f":"ROUND($G$30*$F$30/F32,2)","v":100},"Cs",0,0,0,0]
[10,"Juice, Orange-Pineapple, Cartons, 4 oz","Ardmore Farms 42300  ",null,"70/4.0z",70,1800,{"$f":"ROUND($G$33*$F$33/F33,2)","v":1800},"Cs",0,{"$f":"IF(OR(ISBLANK(J33),G33=0,ISBLANK(G33)),,ROUND(J33+$K$2,2))","v":0},0,0]
[null,"Blend of Orange and Pineapple, unsweetened, Frozen","Sun Cup 031200 ",null,"70/4.0z",70,null,{"$f":"ROUND($G$33*$F$33/F34,2)","v":1800},"Cs",0,{"$f":"IF(OR(ISBLANK(J34),G33=0,ISBLANK(G33)),,ROUND(J34+$K$2,2))","v":0},0,0]
[null,null,"Mr. J. 2440",null,"70/4.0z",70,null,{"$f":"ROUND($G$33*$F$33/F35,2)","v":1800},"Cs",0,0,0,0]
[11,"Juice, Apple, Cartons, 4 oz, Calcium Fortified","Ardmore Farms 42289  ",null,"70/4.0z ",70,0,{"$f":"ROUND($G$36*$F$36/F36,2)","v":0},"Cs",0,{"$f":"IF(OR(ISBLANK(J36),G36=0,ISBLANK(G36)),,ROUND(J36+$K$2,2))","v":0},0,0]
[null,"100% Apple Juice with Calcium,  Unsweetened.","Sun Cup 030305",null,"70/4.0z",70,null,{"$f":"ROUND($G$36*$F$36/F37,2)","v":0},"Cs",0,{"$f":"IF(OR(ISBLANK(J37),G36=0,ISBLANK(G36)),,ROUND(J37+$K$2,2))","v":0},0,0]
[null,"Deliver frozen only  ","Mr. J 2842",null,"70/4.0z",70,null,0,"Cs",0,0,0,0]
[12,"Juice, Fruit Blend, Cartons, 4 oz, Ca Fortified"," Ardmore Farms 42291  ",null,"70/4.0z ",70,0,{"$f":"ROUND($G$39*$F$39/F39,2)","v":0},"Cs",0,{"$f":"IF(OR(ISBLANK(J39),G39=0,ISBLANK(G39)),,ROUND(J39+$K$2,2))","v":0},0,0]
[null,"100% Fruit Punch with Calcium,  Deliver  frozen only","Sun Cup 030805",null,"70/4.0z",70,null,{"$f":"ROUND($G$39*$F$39/F40,2)","v":0},"Cs",0,{"$f":"IF(OR(ISBLANK(J40),G39=0,ISBLANK(G39)),,ROUND(J40+$K$2,2))","v":0},0,0]
[null," ","Mr. J 2342",null,"70/4.0z",70,null,{"$f":"ROUND($G$39*$F$39/F41,2)","v":0},"Cs",0,0,0,0]
[13,"Juice, Grape, Cartons, 4 oz, Calcium Fortified"," Ardmore Farms 42290     ",null,"70/4.0z ",70,0,{"$f":"ROUND($G$42*$F$42/F42,2)","v":0},"Cs",0,{"$f":"IF(OR(ISBLANK(J42),G42=0,ISBLANK(G42)),,ROUND(J42+$K$2,2))","v":0},{"$f":"ROUND(H42*K42,2)","v":0},{"$f":"ROUND(K42/F42,2)","v":0}]
[null,"100% Grape Juice with Calcium,   Deliver frozen  only","Sun Cup 030505",null,"70/4.0z",70,null,{"$f":"ROUND($G$42*$F$42/F43,2)","v":0},"Cs",0,{"$f":"IF(OR(ISBLANK(J43),G42=0,ISBLANK(G42)),,ROUND(J43+$K$2,2))","v":0},0,0]
[null," ","Mr. J 2642",null,"70/4.0z",70,null,{"$f":"ROUND($G$42*$F$42/F44,2)","v":0},"Cs",0,0,0,0]
[14,"Juice, Orange, Cartons, Ca Fortified, 4 oz"," Ardmore Farms 42294     ",null,"70/4.0z",70,0,{"$f":"ROUND($G$45*$F$45/F45,2)","v":0},"Cs",0,{"$f":"IF(OR(ISBLANK(J45),G45=0,ISBLANK(G45)),,ROUND(J45+$K$2,2))","v":0},0,0]
[null,"US Grade A, 100% Orange Juice,  Calcium Fortified, Frozen","Mr. J 2162",null,"70/4.0z",70,null,{"$f":"ROUND($G$45*$F$45/F46,2)","v":0},"Cs",0,{"$f":"IF(OR(ISBLANK(J46),G45=0,ISBLANK(G45)),,ROUND(J46+$K$2,2))","v":0},0,0]
[null,null,"Sun Cup 030105",null,"70/4.0z",70,null,0,"Cs",0,0,0,0]
[15,"Juice, Apple,  Cup Pack, 4 oz","Ardmore Farms 41381",null,"96/4.0z",96,0,{"$f":"ROUND($G$48*$F$48/F48,2)","v":0},"Cs",0,{"$f":"IF(OR(ISBLANK(J48),G48=0,ISBLANK(G48)),,ROUND(J48+$K$2,2))","v":0},0,0]
[null,"100% Apple Juice, unsweetened, deliver frozen only","Sun Cup 090301",null,"72/4.0z",72,null,{"$f":"ROUND($G$48*$F$48/F49,2)","v":0},"Cs",0,{"$f":"IF(OR(ISBLANK(J49),G48=0,ISBLANK(G48)),,ROUND(J49+$K$2,2))","v":0},{"$f":"ROUND(H49*K49,2)","v":0},{"$f":"ROUND(K49/F49,2)","v":0}]
[null,null,"Mr. J 7897",null,"96/4.0z",96,null,0,"Cs",0,0,0,0]
[16,"Juice, Apple, Cup Pack, 6 oz","Ardmore Farms 41403",null,"48/6.0z",48,0,{"$f":"ROUND($G$51*$F$51/F51,2)","v":0},"Cs",0,{"$f":"IF(OR(ISBLANK(J51),G51=0,ISBLANK(G51)),,ROUND(J51+$K$2,2))","v":0},0,0]
[null,"100% Apple Juice, Frozen, unsweetened","Sun Cup 40301",null,"48/6.0z",48,null,{"$f":"ROUND($G$51*$F$51/F52,2)","v":0},"Cs",0,{"$f":"IF(OR(ISBLANK(J52),G51=0,ISBLANK(G51)),,ROUND(J52+$K$2,2))","v":0},0,0]
[null,null,"Mr. J 2855",null,"48/6.0z",48,null,0,"Cs",0,0,0,0]
[17,"Juice, Fruit Blend, Cup Pack, 4 oz","Ardmore Farms 41391",null,"96/4.0z",96,0,{"$f":"ROUND($G$54*$F$54/F54,2)","v":0},"Cs",0,{"$f":"IF(OR(ISBLANK(J54),G54=0,ISBLANK(G54)),,ROUND(J54+$K$2,2))","v":0},0,0]
[null,"100% Blend Fruit Juice, Frozen, unsweetened","Sun Cup 090800",null,"72/4.0z",72,null,{"$f":"ROUND($G$54*$F$54/F55,2)","v":0},"Cs",0,{"$f":"IF(OR(ISBLANK(J55),G54=0,ISBLANK(G54)),,ROUND(J55+$K$2,2))","v":0},0,0]
[null,null,"Mr. J. 7398",null,"96/4.0z",96,null,0,"Cs",0,0,0,0]
[18,"Juice, Fruit Blend, Cup Pack, 6 oz"," Ardmore Farms 41413",null,"48/6.0z",48,0,{"$f":"ROUND($G$57*$F$57/F57,2)","v":0},"Cs",0,{"$f":"IF(OR(ISBLANK(J57),G57=0,ISBLANK(G57)),,ROUND(J57+$K$2,2))","v":0},0,0]
[null,"100% Blend fruit juices, Frozen, unsweetened"," Sun Cup 040800",null,"48/6.0z",48,0,{"$f":"ROUND($G$57*$F$57/F58,2)","v":0},"Cs",0,{"$f":"IF(OR(ISBLANK(J58),G57=0,ISBLANK(G57)),,ROUND(J58+$K$2,2))","v":0},0,0]
[null,null," Mr. J  2355",null,"48/6.0z",48,null,0,"Cs",0,0,0,0]
[19,"Juice, Grape, Cup Pack, 4 oz","Ardmore Farms 41382",null,"96/4.0z",96,0,{"$f":"ROUND($G$60*$F$60/F60,2)","v":0},"Cs",0,{"$f":"IF(OR(ISBLANK(J60),G60=0,ISBLANK(G60)),,ROUND(J60+$K$2,2))","v":0},0,0]
[null,"100% Grape Juice, frozen","Sun Cup 090501",null,"72/4.0z",72,null,{"$f":"ROUND($G$60*$F$60/F61,2)","v":0},"Cs",0,{"$f":"IF(OR(ISBLANK(J61),G60=0,ISBLANK(G60)),,ROUND(J61+$K$2,2))","v":0},0,0]
[null,null,"Mr. J. 7698",null,"96/4.0z",96,null,0,"Cs",0,0,0,0]
[20,"Juice, Grape, Cup Pack, 6 oz","Ardmore Farms 41406",null,"48/6.0z",48,0,{"$f":"ROUND($G$63*$F$63/F63,2)","v":0},"Cs",0,{"$f":"IF(OR(ISBLANK(J63),G63=0,ISBLANK(G63)),,ROUND(J63+$K$2,2))","v":0},0,0]
[null,"100% Grape Juice, frozen, unsweetened","Sun Cup 40501",null,"48/6.0z",48,null,{"$f":"ROUND($G$63*$F$63/F64,2)","v":0},"Cs",0,{"$f":"IF(OR(ISBLANK(J64),G63=0,ISBLANK(G63)),,ROUND(J64+$K$2,2))","v":0},{"$f":"ROUND(H64*K64,2)","v":0},{"$f":"ROUND(K64/F64,2)","v":0}]
[null,null,"Mr. J 2655",null,"48/6.0z",48,null,0,"Cs",0,0,0,0]
[21,"Juice, Orange, Cup Pack, 4 oz","Ardmore Farms 41380",null,"96/4.0z",96,0,{"$f":"ROUND($G$66*$F$66/F66,2)","v":0},"Cs",0,{"$f":"IF(OR(ISBLANK(J66),G66=0,ISBLANK(G66)),,ROUND(J66+$K$2,2))","v":0},0,0]
[null,"US Grade A 100% Orange Juice, unsweetened, Frozen","Sun Cup 090100",null,"72/4.0z",72,null,{"$f":"ROUND($G$66*$F$66/F67,2)","v":0},"Cs",0,{"$f":"IF(OR(ISBLANK(J67),G66=0,ISBLANK(G66)),,ROUND(J67+$K$2,2))","v":0},0,0]
[null,null,"Mr. J. 7098",null,"96/4.0z",96,null,0,"Cs",0,0,0,0]
[22,"Juice, Orange, Cup Pack, 6 oz","Ardmore Farms 41400",null,"48/6.0z",48,0,{"$f":"ROUND($G$69*$F$69/F69,2)","v":0},"Cs",0,{"$f":"IF(OR(ISBLANK(J69),G69=0,ISBLANK(G69)),,ROUND(J69+$K$2,2))","v":0},0,0]
[null,"US Grade A 100% Orange Juice, unsweetened, Frozen","Sun Cup 040100",null,"48/6.0z",48,null,{"$f":"ROUND($G$69*$F$69/F70,2)","v":0},"Cs",0,{"$f":"IF(OR(ISBLANK(J70),G69=0,ISBLANK(G69)),,ROUND(J70+$K$2,2))","v":0},0,0]
[null,null,"Mr. J. ",null,"48/6.0z",48,null,{"$f":"ROUND($G$69*$F$69/F71,2)","v":0},"Cs",0,0,0,0]
[23,"Juice, Orange-Pineapple, Cup, 4 oz","Ardmore Farms 41389",null,"96/4.0z",96,0,{"$f":"ROUND($G$72*$F$72/F72,2)","v":0},"Cs",0,{"$f":"IF(OR(ISBLANK(J72),G72=0,ISBLANK(G72)),,ROUND(J72+$K$2,2))","v":0},{"$f":"ROUND(H72*K72,2)","v":0},{"$f":"ROUND(K72/F72,2)","v":0}]
[null,"100% Orange Juice and Pineapple Blend, unsweetened,","Sun Cup 091200",null,"72/4.0z",72,null,{"$f":"ROUND($G$72*$F$72/F73,2)","v":0},"Cs",0,{"$f":"IF(OR(ISBLANK(J73),G72=0,ISBLANK(G72)),,ROUND(J73+$K$2,2))","v":0},0,0]
[null,"Frozen","Mr. J. 7498",null,"96/4.0z",96,null,0,"Cs",0,{"$f":"IF(OR(ISBLANK(J74),G72=0,ISBLANK(G72)),,ROUND(J74+$K$2,2))","v":0},0,0]
[24,"Sidekicks Smooth Frozen Juice, 100 % Fruit Juice","Ridgefield Sidekicks",null,"84/4.4z",84,0,{"$f":"ROUND($G$75*$F$75/F75,2)","v":0},"Cs",{"v":26.61,"d":"$26.61"},{"$f":"IF(OR(ISBLANK(J75),G75=0,ISBLANK(G75)),,ROUND(J75+$K$2,2))","v":0},{"$f":"ROUND(H75*K75,2)","v":0},{"$f":"ROUND(K75/F75,2)","v":0}]
[null,"One serving provides 1/2 cup 100% Fruit Juice with no added Sugar.","2009 Blu-Raspberry Lemon",null,"84/4.4z",84]
[null,null,"2014 Kiwi-Strawberry",null,"84/4.4z",84]
[null,null,"2015 Strawberry Mango",null,"84/4.4.z",84]
[null,null,"2016 Cherry Lemon ",null,"84/4.4.z",84]
[25,"Sidekicks Smooth Frozen Juice, 100 % Fruit Juice","Cherry Smooth 2021",null,"84/4.4z",84,100,{"$f":"ROUND(G80*F80/F80,2)","v":100},"Cs",{"v":28.61,"d":"$28.61"},{"$f":"IF(OR(ISBLANK(J80),G80=0,ISBLANK(G80)),,ROUND(J80+$K$2,2))","v":{"v":28.61,"d":"$28.61"}},{"$f":"ROUND(H80*K80,2)","v":{"v":2861,"d":"$2,861.00"}},{"$f":"ROUND(K80/F80,2)","v":{"v":0.34,"d":"$0.34"}}]
[null,"One serving provides 1/2 cup additional vegetable and 1/2 cup red/orange"," ",{"$nulls":4}," "," "," "," "," "," "]
[26,"Sidekicks Smooth Frozen Juice, 100 % Fruit Juice","Sunbelievable 2020",null,"84/4.4z",84,100,{"$f":"ROUND(G82*F82/F82,2)","v":100},"Cs",{"v":29.61,"d":"$29.61"},{"$f":"IF(OR(ISBLANK(J82),G82=0,ISBLANK(G82)),,ROUND(J82+$K$2,2))","v":{"v":29.61,"d":"$29.61"}},{"$f":"ROUND(H82*K82,2)","v":{"v":2961,"d":"$2,961.00"}},{"$f":"ROUND(K82/F82,2)","v":{"v":0.35,"d":"$0.35"}}]
[null,"One serving provides 1/2 cup add veg. and 1/2 cup red/orange vegetable"," ",{"$nulls":4}," "," "," "," "," "," "]
[27,"Peaches, Frozen   ","Distributor Choice",null,"96/4.0z",96,0,{"$f":"ROUND(G84*F84/F84,2)","v":0},"Cs"]
[null,"US Grade A Choice, fzn diced peaches cups Each portion cup=1/2 cup svg","Fillable txt box ",{"$nulls":3}," ",{"$f":"ROUND(G84*F84/F85,2)","v":{"$error":"#DIV/0!"}},"Cs",null,{"$f":"IF(OR(ISBLANK(G84),G84=0,ISBLANK(F85)),,ROUND(J85+$K$2,2))","v":0},{"$f":"ROUND(H85*K85,2)","v":{"$error":"#DIV/0!"}},{"$f":"ROUND(K85/F85,2)","v":{"$error":"#DIV/0!"}}]
[28,"Strawberries, Sliced  ","Distributor Choice",null,"39Lb",39,25,{"$f":"ROUND(G86*F86/F86,2)","v":25},"Cs"]
[null,"Frozen. Grade A, Sweetened  ","Fillable txt box ",{"$nulls":4},{"$f":"ROUND(G86*F86/F87,2)","v":{"$error":"#DIV/0!"}},"Cs",null,{"$f":"IF(OR(ISBLANK(G86),G86=0,ISBLANK(F87)),,ROUND(J87+$K$2,2))","v":0},{"$f":"ROUND(H87*K87,2)","v":{"$error":"#DIV/0!"}},{"$f":"ROUND(K87/F87,2)","v":{"$error":"#DIV/0!"}}]
[29,"Fruit Pearls","Citripak",null,"48/1/2 cup",48,0,{"$f":"ROUND(G88*F88/F88,2)","v":0},"Cs",{"v":13.4,"d":"$13.40"},{"$f":"IF(OR(ISBLANK(J88),G88=0,ISBLANK(G88)),,ROUND(J88+$K$2,2))","v":0},{"$f":"ROUND(H88*K88,2)","v":0},{"$f":"ROUND(K88/F88,2)","v":0}]
[null,"Frozen, One portion to provide 1/2 cup fruit for CN program","882193005112 Strawberry"]
[null,null,"882193005129 Tropical"]
[null,null,"882193005136 Wildberry"]
[null,null,"882193005549 Lemon"]
[30,"Fruit Freeze Cup without Spoons, All Flavors","J&J Snape-Ups and Luigis",null,"96/4.4z",96,100,{"$f":"ROUND(G93*F93/F93,2)","v":100},"Cs",{"v":25.8,"d":"$25.80"},{"$f":"IF(OR(ISBLANK(J93),G93=0,ISBLANK(G93)),,ROUND(J93+$K$2,2))","v":{"v":25.8,"d":"$25.80"}},{"$f":"ROUND(H93*K93,2)","v":{"v":2580,"d":"$2,580.00"}},{"$f":"ROUND(K93/F93,2)","v":{"v":0.27,"d":"$0.27"}}]
[null,"Frozen, 100% fruit juice Provides min. 20% vitamin C No added sugar, "]
[null,"Provides 1/2 cup fruit juice for CN program"]
[]
[]
[]
[31,"Fruit Freeze Cup without Spoon, All Flavors","Cool Tropics ",null,"60/4.0z",60,50,{"$f":"ROUND(G99*F99/F99,2)","v":50},"Cs",{"v":18,"d":"$18.00"},{"$f":"IF(OR(ISBLANK(J99),G99=0,ISBLANK(G99)),,ROUND(J99+$K$2,2))","v":{"v":18,"d":"$18.00"}},{"$f":"ROUND(H99*K99,2)","v":{"v":900,"d":"$900.00"}},{"$f":"ROUND(K99/F99,2)","v":{"v":0.3,"d":"$0.30"}}]
[null,"Frozen, 100% fruit juice. Provides min 20% Vitamin C. No added sugar","Kiwi Strawberry 12002-R4"]
[null,"Provides 1/2 cup fruit juice for CN Program","Paradise Punch 12004-R4"]
[null,null,"Blue Raspberry 13001"]
[null,null,"Sour Apple 13006"]
[null,null,"Cherry Limeade 13007"]
[null,null," "]
[{"$nulls":8},"Page Total",null,null,{"$f":"SUMIF(L6:L101,\">0\")","v":{"v":9302,"d":"$9,302.00"}}]

{"sheet":"Frozen Vegetables","index":15,"n_rows":67,"n_cols":13,"rows_kept":67,"merged":[[0,4,0,12],[1,4,1,12],[2,5,2,9]]}
[null,{"$f":"'Recap Sheet'!A2","v":"School Food Authority:"},null,null,{"$f":"'Recap Sheet'!A3","v":"Offeror Name:"}]
[null,{"$f":"'Recap Sheet'!B2","v":"Colleton County School District Office of Student Nutrition"},"Return to Recap Sheet",null,{"$f":"'Recap Sheet'!B3","v":0}]
["Item","Description","Approved Brand Name / Manuf ID # ",null,null,"Firm Fixed Fee",{"$nulls":4},{"$f":"'Recap Sheet'!B4","v":{"v":0,"d":"$0.00"}}]
["#",null,null,"Distributor","Vendor","Svgs","Est.","Bid ","Bid","Unit","Unit Price","Total ","Cost per"]
[{"$nulls":3},"Code","Pack","per unit","Bid Qty","Qty","Unit","Price","plus Fee","Price","Unit"]
[null,"Frozen Vegetables"]
[1,"Beans, Green, IQF (No Imports)","Distributor Choice",null,"20Lb",20,50,{"$f":"ROUND($G$7*$F$7/F7,2)","v":50},"Cs"]
[null,"Grade A, Min. score 90 or above pieces to be 1\" in length and 4 sieve in dia","Fillable txt box or unprotected",{"$nulls":4},{"$f":"ROUND(G7*F7/F8,2)","v":{"$error":"#DIV/0!"}},"Cs",0,{"$f":"IF(OR(ISBLANK(J8),G7=0,ISBLANK(G7)),,ROUND(J8+$K$3,2))","v":0},{"$f":"ROUND(H8*K8,2)","v":{"$error":"#DIV/0!"}},{"$f":"ROUND(K8/F8,2)","v":{"$error":"#DIV/0!"}}]
[2,"Beans. Lima (No Imports)","Distributor Choice",null,"20Lb",20,50,{"$f":"ROUND(G9*F9/F9,2)","v":50},"Cs"]
[null,"Small Baby lima.  Grade A fancy.  Must be certified ","Fillable txt box or unprotected",{"$nulls":4},{"$f":"ROUND(G9*F9/F10,2)","v":{"$error":"#DIV/0!"}},"Cs",null,{"$f":"IF(OR(ISBLANK(J10),G9=0,ISBLANK(G9)),,ROUND(J10+$K$3,2))","v":0},{"$f":"ROUND(H10*K10,2)","v":{"$error":"#DIV/0!"}},{"$f":"ROUND(K10/F10,2)","v":{"$error":"#DIV/0!"}}]
[null,"Frozen. 20Lb IQF unit. Miinimum score 90 or above "]
[3,"Broccoli Florets (No Imports)","Distributor Choice",null,"12/2Lb",24,100,{"$f":"ROUND(G12*F12/F12,2)","v":100},"Cs"]
[null,"Grade A fancy.  Frozen.  Minimum score 90 or above. ","Fillable txt box or unprotected",{"$nulls":4},{"$f":"ROUND(G12*F12/F13,2)","v":{"$error":"#DIV/0!"}},"Cs",null,{"$f":"IF(OR(ISBLANK(J13),G12=0,ISBLANK(G12)),,ROUND(J13+$K$3,2))","v":0},{"$f":"ROUND(H13*K13,2)","v":{"$error":"#DIV/0!"}},{"$f":"ROUND(K13/F13,2)","v":{"$error":"#DIV/0!"}}]
[4,"Broccoli Medley,  Broccoli, Cauliflower and Carrots (No Imports) ","Distributor Choice",null,"24Lb",24,200,{"$f":"ROUND(G14*F14/F14,2)","v":200},"Cs"]
[null,"Grade A Fancy.  Minimum score 90 or above. ","Fillable txt box or unprotected",{"$nulls":4},{"$f":"ROUND(G14*F14/F15,2)","v":{"$error":"#DIV/0!"}},"Cs",null,{"$f":"IF(OR(ISBLANK(J15),G14=0,ISBLANK(G14)),,ROUND(J15+$K$3,2))","v":0},{"$f":"ROUND(H15*K15,2)","v":{"$error":"#DIV/0!"}},{"$f":"ROUND(K15/F15,2)","v":{"$error":"#DIV/0!"}}]
[5,"Broccoli Spears (No Imports)","Distributor Choice",null,"12/2Lb",24,0,{"$f":"ROUND(G16*F16/F16,2)","v":0},"Cs"]
[null,"US Grade A Fancy. Minimum score 90 or above.","Fillable txt box or unprotected",{"$nulls":4},{"$f":"ROUND(G16*F16/F17,2)","v":{"$error":"#DIV/0!"}},"Cs",null,{"$f":"IF(OR(ISBLANK(J17),G16=0,ISBLANK(G16)),,ROUND(J17+$K$3,2))","v":0},{"$f":"ROUND(H17*K17,2)","v":{"$error":"#DIV/0!"}},{"$f":"ROUND(K17/F17,2)","v":{"$error":"#DIV/0!"}}]
[null,"  Spears 5\" average length.    18-26 Spears per 2# bag."]
[6,"Carrots, Sliced (No Imports)","Distributor Choice",null,"20Lb",20,0,{"$f":"ROUND(G19*F19/F19,2)","v":0},"Cs"]
[null,"US Grade A Fancy.  Frozen.  Minimum score 90 or above.  ","Fillable txt box or unprotected",{"$nulls":4},{"$f":"ROUND(G19*F19/F20,2)","v":{"$error":"#DIV/0!"}},"Cs",null,{"$f":"IF(OR(ISBLANK(J20),G19=0,ISBLANK(G19)),,ROUND(J20+$K$3,2))","v":0},{"$f":"ROUND(H20*K20,2)","v":{"$error":"#DIV/0!"}},{"$f":"ROUND(K20/F20,2)","v":{"$error":"#DIV/0!"}}]
[7,"Corn, Cut (No Imports)","Distributor Choice",null,"20Lb",20,50,{"$f":"ROUND(G21*F21/F21,2)","v":50},"Cs"]
[null,"US Grade A Fancy.  Yellow Corn.  Minimum score 90 or above. (No Imports)","Fillable txt box or unprotected",{"$nulls":4},{"$f":"ROUND(G21*F21/F22,2)","v":{"$error":"#DIV/0!"}},"Cs",null,{"$f":"IF(OR(ISBLANK(J22),G21=0,ISBLANK(G21)),,ROUND(J22+$K$3,2))","v":0},{"$f":"ROUND(H22*K22,2)","v":{"$error":"#DIV/0!"}},{"$f":"ROUND(K22/F22,2)","v":{"$error":"#DIV/0!"}}]
[8,"Corn on the Cob (No Imports)","Distributor Choice",null,"96 Ct",96,0,{"$f":"ROUND(G23*F23/F23,2)","v":0},"Cs"]
[null,"Cobbett, Grade A, Fancy.  Minimum score 90 or above. .  Yellow whole","Fillable txt box or unprotected",{"$nulls":3},0,{"$f":"ROUND(G23*F23/F24,2)","v":{"$error":"#DIV/0!"}},"Cs",null,{"$f":"IF(OR(ISBLANK(J24),G23=0,ISBLANK(G23)),,ROUND(J24+$K$3,2))","v":0},{"$f":"ROUND(H24*K24,2)","v":{"$error":"#DIV/0!"}},{"$f":"ROUND(K24/F24,2)","v":{"$error":"#DIV/0!"}}]
[null,"kernel. Approximately 3 inches long, no ends. "]
[]
[9,"Okra, Breaded   Pre-cooked Oven Ready,   (No Imports)            WGR","Tasty Brand  33500",null,"6/5Lb",150,0,{"$f":"ROUND(G27*F27/F27,2)","v":0},"Cs",null,{"$f":"IF(OR(ISBLANK(J27),G27=0,ISBLANK(G27)),,ROUND(J27+$K$3,2))","v":0},{"$f":"ROUND(H27*K27,2)","v":0},{"$f":"ROUND(K27/F27,2)","v":0}]
[null,"US Grade A, Minimum score 90 or above. One serving (17) meets 1 oz OEG"]
[null,"and 1/4 c other vegetable for Child Nutrition Meal Pattern Requirements."]
[10,"Okra, Cut (No Imports)","Distributor Choice",null,"20Lb",20,0,{"$f":"ROUND(G30*F30/F30,2)","v":0},"Cs"]
[null,"Minimum score 90 or above.  IQF, Cut in 1/2\" slices ","Fillable txt box or unprotected",{"$nulls":4},{"$f":"ROUND(G30*F30/F31,2)","v":{"$error":"#DIV/0!"}},"Cs",null,{"$f":"IF(OR(ISBLANK(J31),G30=0,ISBLANK(G30)),,ROUND(J31+$K$3,2))","v":0},{"$f":"ROUND(H31*K31,2)","v":{"$error":"#DIV/0!"}},{"$f":"ROUND(K31/F31,2)","v":{"$error":"#DIV/0!"}}]
[11,"Onions, Diced (No Imports)","Distributor Choice",null,"6/2Lb",12,40,{"$f":"ROUND(G32*F32/F32,2)","v":40},"Cs"]
[null,"3/8\"x3/8\" dice ","Fillable txt box or unprotected",{"$nulls":4},{"$f":"ROUND(G32*F32/F33,2)","v":{"$error":"#DIV/0!"}},"Cs",null,{"$f":"IF(OR(ISBLANK(J33),G32=0,ISBLANK(G32)),,ROUND(J33+$K$3,2))","v":0},{"$f":"ROUND(H33*K33,2)","v":{"$error":"#DIV/0!"}},{"$f":"ROUND(K33/F33,2)","v":{"$error":"#DIV/0!"}}]
[12,"Peas, Black-eyed (No Imports)","Distributor Choice",null,"20Lb",20,50,{"$f":"ROUND($G$34*F34/F34,2)","v":50},"Cs"]
[null,"Minimum score 90 or above. , Frozen, IQF ","Fillable txt box or unprotected",{"$nulls":4},{"$f":"ROUND(G34*F34/F35,2)","v":{"$error":"#DIV/0!"}},"Cs",null,{"$f":"IF(OR(ISBLANK(J35),G34=0,ISBLANK(G34)),,ROUND(J35+$K$3,2))","v":0},{"$f":"ROUND(H35*K35,2)","v":{"$error":"#DIV/0!"}},{"$f":"ROUND(K35/F35,2)","v":{"$error":"#DIV/0!"}}]
[13,"Peas, Field (No Imports)","Distributor Choice",null,"36Lb",36,0,{"$f":"ROUND(G36*F36/F36,2)","v":0},"Cs"]
[null,"Minimum score 90 or above. , Frozen, IQF ","Fillable txt box or unprotected",{"$nulls":3},0,{"$f":"ROUND(G36*F36/F37,2)","v":{"$error":"#DIV/0!"}},"Cs",null,{"$f":"IF(OR(ISBLANK(J37),G36=0,ISBLANK(G36)),,ROUND(J37+$K$3,2))","v":0},{"$f":"ROUND(H37*K37,2)","v":{"$error":"#DIV/0!"}},{"$f":"ROUND(K37/F37,2)","v":{"$error":"#DIV/0!"}}]
[14,"Peas, Green (No Imports)","Distributor Choice",null,"20Lb",20,25,{"$f":"ROUND(G38*F38/F38,2)","v":25},"Cs"]
[null,"Minimum score 90 or above. , Frozen, IQF ","Fillable txt box or unprotected",{"$nulls":4},{"$f":"ROUND(G38*F38/F39,2)","v":{"$error":"#DIV/0!"}},"Cs",null,{"$f":"IF(OR(ISBLANK(J39),G38=0,ISBLANK(G38)),,ROUND(J39+$K$3,2))","v":0},{"$f":"ROUND(H39*K39,2)","v":{"$error":"#DIV/0!"}},{"$f":"ROUND(K39/F39,2)","v":{"$error":"#DIV/0!"}}]
[15,"Peas and Carrots, Grade A, Min. score 90 or above. (No Imports)","Distributor Choice",null,"20Lb",20,25,{"$f":"ROUND(G40*F40/F40,2)","v":25},"Cs"]
[null,"60% Peas and 40% carrots, Peas 2-4 sieve, carrots 3/8\" dice","Fillable txt box or unprotected",{"$nulls":4},{"$f":"ROUND(G40*F40/F41,2)","v":{"$error":"#DIV/0!"}},"Cs",null,{"$f":"IF(OR(ISBLANK(J41),G40=0,ISBLANK(G40)),,ROUND(J41+$K$3,2))","v":0},{"$f":"ROUND(H41*K41,2)","v":{"$error":"#DIV/0!"}},{"$f":"ROUND(K41/F41,2)","v":{"$error":"#DIV/0!"}}]
[16,"Pepper, Bell Diced (No Imports)","Distributor Choice",null,"12/2Lb",24,25,{"$f":"ROUND(G42*F42/F42,2)","v":25},"Cs"]
[null,"Minimum score 90 or above. Frozen. ","Fillable txt box or unprotected",{"$nulls":3},0,{"$f":"ROUND(G42*F42/F43,2)","v":{"$error":"#DIV/0!"}},"Cs",null,{"$f":"IF(OR(ISBLANK(J43),G42=0,ISBLANK(G42)),,ROUND(J43+$K$3,2))","v":0},{"$f":"ROUND(H43*K43,2)","v":{"$error":"#DIV/0!"}},{"$f":"ROUND(K43/F43,2)","v":{"$error":"#DIV/0!"}}]
[17,"Squash, Yellow, Sliced (No Imports) ","Distributor Choice",null,"20Lb",20,0,{"$f":"ROUND($G$44*$F$44/F44,2)","v":0},"Cs"]
[null,"Minimum score 90 or above. , Frozen, IQF ","Fillable txt box or unprotected",{"$nulls":4},{"$f":"ROUND(G44*F44/F45,2)","v":{"$error":"#DIV/0!"}},"Cs",null,{"$f":"IF(OR(ISBLANK(J45),G44=0,ISBLANK(G44)),,ROUND(J45+$K$3,2))","v":0},{"$f":"ROUND(H45*K45,2)","v":{"$error":"#DIV/0!"}},{"$f":"ROUND(K45/F45,2)","v":{"$error":"#DIV/0!"}}]
[18,"Sweet Potato Pattie (No Imports)","Distributor Choice",null,"224/1.5",224,40,{"$f":"ROUND(G46*F46/F46,2)","v":40},"Cs"]
[null,"Domestic sweet potatoes.  No peels or stems.  IQF. Fully cooked. ","Fillable txt box or unprotected",{"$nulls":3},0,{"$f":"ROUND(G46*F46/F47,2)","v":{"$error":"#DIV/0!"}},"Cs",null,{"$f":"IF(OR(ISBLANK(J47),G46=0,ISBLANK(G46)),,ROUND(J47+$K$3,2))","v":0},{"$f":"ROUND(H47*K47,2)","v":{"$error":"#DIV/0!"}},{"$f":"ROUND(K47/F47,2)","v":{"$error":"#DIV/0!"}}]
[19,"Turnip Greens, Chopped (No Imports)","Distributor Choice",null,"36Lb",36,0,{"$f":"ROUND($G$48*$F$48/F48,2)","v":0},"Cs"]
[null,"Minimum score 90 or above. , Grade A , Frozen ","Fillable txt box or unprotected",{"$nulls":4},{"$f":"ROUND(G48*F48/F49,2)","v":{"$error":"#DIV/0!"}},"Cs",null,{"$f":"IF(OR(ISBLANK(J49),G48=0,ISBLANK(G48)),,ROUND(J49+$K$3,2))","v":0},{"$f":"ROUND(H49*K49,2)","v":{"$error":"#DIV/0!"}},{"$f":"ROUND(K49/F49,2)","v":{"$error":"#DIV/0!"}}]
[20,"Collard Greens, Chopped (No Imports)","Distributor Choice",null,"36Lb",36,0,{"$f":"ROUND(G50*F50/F50,2)","v":0},"Cs"]
[null,"US Grade A , Frozen  Minimum score 90 or above ","Fillable txt box or unprotected",{"$nulls":4},{"$f":"ROUND(G50*F50/F51,2)","v":{"$error":"#DIV/0!"}},"Cs",null,{"$f":"IF(OR(ISBLANK(J51),G50=0,ISBLANK(G50)),,ROUND(J51+$K$3,2))","v":0},{"$f":"ROUND(H51*K51,2)","v":{"$error":"#DIV/0!"}},{"$f":"ROUND(K51/F51,2)","v":{"$error":"#DIV/0!"}}]
[21,"Kale Greens, Chopped (No Imports)","Distributor Choice",null,"20Lb",20,0,{"$f":"ROUND($G$52*$F$52/F52,2)","v":0},"Cs "]
[null,"US Grade A , Frozen  Minimum score 90 or above ","Fillable txt box or unprotected",{"$nulls":4},{"$f":"ROUND(G52*F52/F53,2)","v":{"$error":"#DIV/0!"}},"Cs",null,{"$f":"IF(OR(ISBLANK(J53),G52=0,ISBLANK(G52)),,ROUND(J53+$K$3,2))","v":0},{"$f":"ROUND(H53*K53,2)","v":{"$error":"#DIV/0!"}},{"$f":"ROUND(K53/F53,2)","v":{"$error":"#DIV/0!"}}]
[22,"Spinach, Chopped (No Imports)","Distributor Choice",null,"20Lb",20,0,{"$f":"ROUND($G$54*$F$54/F54,2)","v":0},"Cs"]
[null,"US Grade A , Frozen  Minimum score 90 or above ","Fillable txt box or unprotected",{"$nulls":4},{"$f":"ROUND(G54*F54/F55,2)","v":{"$error":"#DIV/0!"}},"Cs",null,{"$f":"IF(OR(ISBLANK(J55),G54=0,ISBLANK(G54)),,ROUND(J55+$K$3,2))","v":0},{"$f":"ROUND(H55*K55,2)","v":{"$error":"#DIV/0!"}},{"$f":"ROUND(K55/F55,2)","v":{"$error":"#DIV/0!"}}]
[23,"Vegetables, Mixed (No Imports)","Distributor Choice",null,"20Lb",20,25,{"$f":"ROUND(G56*F56/F56,2)","v":25},"Cs"]
[null,"US Grade A.  Fancy.  IQF      4 or 5 Vegetable Mix of:","Fillable txt box or unprotected",{"$nulls":4},{"$f":"ROUND(G56*F56/F57,2)","v":{"$error":"#DIV/0!"}},"Cs",null,{"$f":"IF(OR(ISBLANK(J57),G56=0,ISBLANK(G56)),,ROUND(J57+$K$3,2))","v":0},{"$f":"ROUND(H57*K57,2)","v":{"$error":"#DIV/0!"}},{"$f":"ROUND(K57/F57,2)","v":{"$error":"#DIV/0!"}}]
[null,"1.  Beans, Wax or Green, cut; 2.  Beans, Limas; 3.  Carrots, Diced"]
[null,"4.  Corn, Golden whole kernel; 5.  Peas, Early or Sweet"]
[null,"All vegetables should have good color for the variety and type used."]
[24,"Vegetables, Oriental (No Imports)","Distributor Choice",null,"12/2Lb",24,25,{"$f":"ROUND(G61*F61/F61,2)","v":25},"Cs"]
[null,"40% French cut beans;  18-20% onions; 5% mushrooms.   Grade A Fancy.  IQF ","Fillable txt box or unprotected",{"$nulls":4},{"$f":"ROUND(G61*F61/F62,2)","v":{"$error":"#DIV/0!"}},"Cs",null,{"$f":"IF(OR(ISBLANK(J62),G61=0,ISBLANK(G61)),,ROUND(J62+$K$3,2))","v":0},{"$f":"ROUND(H62*K62,2)","v":{"$error":"#DIV/0!"}},{"$f":"ROUND(K62/F62,2)","v":{"$error":"#DIV/0!"}}]
[25,"Vegetable Soup Mix (No Imports)","Distributor Choice",null,"20Lb",20,25,{"$f":"ROUND(G63*F63/F63,2)","v":25},"Cs"]
[null,"Grade A Fancy.  IQF Nine Vegetable mix of okra, lima beans, whole kernel ","Fillable txt box or unprotected",{"$nulls":4},{"$f":"ROUND(G63*F63/F64,2)","v":{"$error":"#DIV/0!"}},"Cs",null,{"$f":"IF(OR(ISBLANK(J64),G63=0,ISBLANK(G63)),,ROUND(J64+$K$3,2))","v":0},{"$f":"ROUND(H64*K64,2)","v":{"$error":"#DIV/0!"}},{"$f":"ROUND(K64/F64,2)","v":{"$error":"#DIV/0!"}}]
[null," corn, celery, onions, diced carrots, diced potatoes, green beans and "]
[null,"green peas."]
[{"$nulls":8},"Page Total",null,null,{"$f":"SUMIF(L6:L65,\">0\")","v":0}]

{"sheet":"Breakfast Products","index":16,"n_rows":303,"n_cols":20,"rows_kept":303,"merged":[[0,4,0,12],[1,4,1,12],[2,5,2,9]]}
[null,{"$f":"'Recap Sheet'!A2","v":"School Food Authority:"},null,null,{"$f":"'Recap Sheet'!A3","v":"Offeror Name:"},{"$nulls":9},"Commodity"]
[null,{"$f":"'Recap Sheet'!B2","v":"Colleton County School District Office of Student Nutrition"},"Return to Recap Sheet",null,{"$f":"'Recap Sheet'!B3","v":0}]
["Item","Description","Approved Brand Name / Manuf ID # ",null,null,"Firm Fixed Fee",{"$nulls":4},{"$f":"'Recap Sheet'!B4","v":{"v":0,"d":"$0.00"}},null,null,"Processing","Commodity","Pounds of",null,null,"NOI ","Net "]
["#",null,null,"Distributor","Vendor","Svgs","Est.","Bid ","Bid","Unit","Unit Price","Total ","Cost per","Fee for","Value Per","DF Needed","Commodity","NOI ","Price/","Cost Per"]
[{"$nulls":3},"Code","Pack","per unit","Bid Qty","Qty","Unit","Price","plus Fee","Price","Unit","Service","Pound","Per Case","Value ","Price","Serving","Serving"]
[null,"Breakfast Products",{"$nulls":12}," "]
[1,"Bar, Mini Breakfast Bar                                                                    ","J& J Snacks ",null,"96/1.25z",96,0,{"$f":"ROUND(G7*F7/F7,2)","v":0},"Cs",{"v":21.15,"d":"$21.15"},{"$f":"IF(OR(ISBLANK(J7),G7=0,ISBLANK(G7)),,ROUND(J7+$K$3,2))","v":0},{"$f":"ROUND(H7*K7,2)","v":0},{"$f":"ROUND(K7/F7,2)","v":0},null," "," "," "," "," "," "]
[null,"WGR, Thaw and serve, One serving provides 1 oz. OEG","Maple Brown Sugar 40452",{"$nulls":11}," "," "," "," "," "," "]
[null," ","Oatmeal Chocolate Chip 40454",{"$nulls":11}," "," "," "," "," "," "]
[null,null,"Brownie 40455"]
[null,"Possible Allergens:  Wheat, Soy, Milk and Eggs","Banana Chocolate Chunk 40456"]
[2,"Bar, Whole Grain Oat Bar, Fruit Filled","NutriGrain Bar",null,"96/1.55z",96,25,{"$f":"ROUND(G12*F12/F12,2)","v":25},"Cs",{"v":24.29,"d":"$24.29"},{"$f":"IF(OR(ISBLANK(J12),G12=0,ISBLANK(G12)),,ROUND(J12+$K$3,2))","v":{"v":24.29,"d":"$24.29"}},{"$f":"ROUND(H12*K12,2)","v":{"v":607.25,"d":"$607.25"}},{"$f":"ROUND(K12/F12,2)","v":{"v":0.25,"d":"$0.25"}},null," "," "," "," "," ","  "]
[null,"WGR, IW, Single Serve, Made w/ real fruit puree. One bar provides 1 OEG","38000-59772   Strawberry ",{"$nulls":11}," "," "," "," "," "," "]
[null,"SMART SNACKS COMPLIANT ","38000-90819    Blueberry  ",{"$nulls":11}," "," "," "," "," "," "]
[null,"Possible Allergens:  Milk, Soy,Wheat, and Eggs,","38000-59779    Apple Cinnamon   ",{"$nulls":11}," "," "," "," "," "," "]
[3,"Biscuit, Chicken, IW.                                        WGR","Grand Strand Sandwich Co.  4009",null,"90/3.6z",90,0,{"$f":"ROUND($G$16*$F$16/F16,2)","v":0},"Cs",{"$nulls":5}," "," "," "," "," "," "]
[null,"Breaded chicken patty with alternate protein and or egg additives.  ","Snak Time STF9645NL/72",null,"100/2.85z",100,null,{"$f":"ROUND($G$16*$F$16/F17,2)","v":0},"Cs",{"v":39,"d":"$39.00"},{"$f":"IF(OR(ISBLANK(J17),G16=0,ISBLANK(G16)),,ROUND(J17+$K$3,2))","v":0},{"$f":"ROUND(H17*K17,2)","v":0},{"$f":"ROUND(K17/F17,2)","v":0},null," "," "," "," "," "," "]
[null,"Contains 0 Trans Fat "," ",null," "," "," "," "," "," "," ","  "," ",null," "," "," "," "," "," "]
[4,"Biscuit, Yeast Raised Potato Sausage (twin pack) WGR","(18-19) Snak Time STF9420NL/60",null,"100/2.60z",100,0,{"$f":"ROUND($G$19*$F$19/F19,2)","v":0},"Cs",{"v":41.85,"d":"$41.85"},{"$f":"IF(OR(ISBLANK(J19),G19=0,ISBLANK(G19)),,ROUND(J19+$K$3,2))","v":0},{"$f":"ROUND(H19*K19,2)","v":0},{"$f":"ROUND(K19/F19,2)","v":0},null," "," "," "," "," "," "]
[null,"Fully cooked, each portion provides 1 M/MA and 1.75 OEG"," ",{"$nulls":4}," "," ",null," "," "," ",null," "," "," "," "," "," "]
[null,"Contains 0 Trans Fat "," ",{"$nulls":4}," "," ",null," "," "," ",null," "," "," "," "," "," "]
[5,"Biscuit, Peach Cobbler","Tasty Brands 22020IW",null,"100/2.8z",100,25,{"$f":"ROUND($G$22*$F$22/F22,2)","v":25},"Cs",{"v":51,"d":"$51.00"},{"$f":"IF(OR(ISBLANK(J22),G22=0,ISBLANK(G22)),,ROUND(J22+$K$3,2))","v":{"v":51,"d":"$51.00"}},{"$f":"ROUND(H22*K22,2)","v":{"v":1275,"d":"$1,275.00"}},{"$f":"ROUND(K22/F22,2)","v":{"v":0.51,"d":"$0.51"}},null," "," "," "," "," "," "]
[null,"0 Trans fat. One serving provides 2 equivalent grains "," ",null," "," ",null," "," ",null," "," "," ",null," "," "," "," "," "," "]
[null," "," ",null," "," ",null," "," ",null," "," "," ",null," "," "," "," "," "," "]
[6,"Biscuits, Pre-formed Dough,  ","Richs     09315",null,"216/2.1z",216,0,{"$f":"ROUND($G$25*$F$25/F25,2)","v":0},"Cs",{"v":24.52,"d":"$24.52"},{"$f":"IF(OR(ISBLANK(J25),G25=0,ISBLANK(G25)),,ROUND(J25+$K$3,2))","v":0},0,0,null," "," "," "," "," "," "]
[null,"Frozen, WGR, 0 Trans fat. Provides not more than 2oz  equivalent grains  ","Mary B's 87000",null,"220/2.2z",220,null,{"$f":"ROUND($G$25*$F$25/F26,2)","v":0},"Cs",{"$nulls":5}," "," "," "," "," "," "]
[null,"based on 16 g =1 oz, at a minimum.  ","Pillsbury 132267",null,"216/2.51z",216,null,{"$f":"ROUND($G$25*$F$25/F27,2)","v":0},"Cs",{"$nulls":5}," "," "," "," "," "," "]
[7,"Biscuits, Dough, w/Easy Split Enriched Flour","Rich's 06063",null,"240/2.2z",240,150,{"$f":"ROUND($G$28*$F$28/F28,2)","v":150},"Cs",{"v":24,"d":"$24.00"},{"$f":"IF(OR(ISBLANK(J28),G28=0,ISBLANK(G28)),,ROUND(J28+$K$3,2))","v":{"v":24,"d":"$24.00"}},{"$f":"ROUND(H28*K28,2)","v":{"v":3600,"d":"$3,600.00"}},{"$f":"ROUND(K28/F28,2)","v":{"v":0.1,"d":"$0.10"}}]
[null,"Frozen, Made with buttermillk, 150-250 calories with not more than 6 g ","Pillsbury 31524",null,"216/2.0z",216,null,{"$f":"ROUND($G$28*$F$28/F29,2)","v":166.67},"Cs"]
[null,"sat fat and 660 mg of sodium per serving.  One portion to provide 1.75 "]
[null,"OEG for CN Programs"]
[null,"Possible Allergens:  Wheat and Milk"]
[8," Biscuit, WGR, Easy Split"," Pillsbury  132268",null,"216/2.51z",216,0,{"$f":"ROUND($G$33*$F$33/F33,2)","v":0},"Cs",{"v":26.84,"d":"$26.84"},{"$f":"IF(OR(ISBLANK(J33),G33=0,ISBLANK(G33)),,ROUND(J33+$K$3,2))","v":0},0,0,null," "," "," "," "," "," "]
[null,"Frozen, Ready to bake, 200-300 calories with not more than 5 g sat fat &","CACFP Eligible",{"$nulls":11}," "," "," "," "," "," "]
[null,"350 mg sodium  per serving, One serving must provide 2 OEG",{"$nulls":12}," "," "," "," "," "," "]
[9,"Biscuits,Mini Pre-formed Dough,  Frozen                          ","Pillsbury 132269",null,"210/1.25z",210,0,{"$f":"ROUND($G$36*$F$36/F36,2)","v":0},"Cs",{"v":20.2,"d":"$20.20"},{"$f":"IF(OR(ISBLANK(J36),G36=0,ISBLANK(G36)),,ROUND(J36+$K$3,2))","v":0},{"$f":"ROUND(H36*K36,2)","v":0},{"$f":"ROUND(K36/F36,2)","v":0},null," "," "," "," "," "," "]
[null,"One serving provides 1.0 z equivalent grain.   0 Trans fat ",{"$nulls":12}," "," "," "," "," "," "]
[null," ",{"$nulls":12}," "," "," "," "," "," "]
[10,"Bread, Slice Whole Wheat                                                         ","Super Bakery",null,"70/3.4z",70,200,{"$f":"ROUND(G39*F39/F39,2)","v":200},"Cs",{"v":31.58,"d":"$31.58"},{"$f":"IF(OR(ISBLANK(J39),G39=0,ISBLANK(G39)),,ROUND(J39+$K$3,2))","v":{"v":31.58,"d":"$31.58"}},{"$f":"ROUND(H39*K39,2)","v":{"v":6316,"d":"$6,316.00"}},{"$f":"ROUND(K39/F39,2)","v":{"v":0.45,"d":"$0.45"}},null," "," "," "," "," "," "]
[null,"Frozen, IW, Thaw and serve.  Product meets a minimum of 1.5 OEG","          6073   Ultra Wild Forest Berry  Slice     ",null,"70/3.4z",70,{"$nulls":8}," "," "," "," "," "," "]
[null,"220-280 calories with 2g of Sat fat or less, 0 trans fat, 220 mg of Sodium ","          6071    Ultra Banana Slice    ",null,"70/3.4z",70,{"$nulls":8}," "," "," "," "," "," "]
[null,"or less, WGR","          6075   Ultra  Pumpkin",null,"70/3.4z",70,{"$nulls":8}," "," "," "," "," "," "]
[{"$nulls":14}," "," "," "," "," "," "]
[11,"Breakfast Bites,WG Pancake and Pork                                ","Jimmy Dean 19011",null,"180/.85z",63,0,{"$f":"ROUND(G44*F44/F44,2)","v":0},"Cs",{"v":22,"d":"$22.00"},{"$f":"IF(OR(ISBLANK(J44),G44=0,ISBLANK(G44)),,ROUND(J44+$K$3,2))","v":0},{"$f":"ROUND(H44*K44,2)","v":0},{"$f":"ROUND(K44/F44,2)","v":0},null," "," "," "," "," "," "]
[null,"WGR, Frozen, Heat and Serve.  Whole Grain batter around a pre-cooked ",{"$nulls":12}," "," "," "," "," "," "]
[null,"ground pork sausage link w/TV.  3 g sat fat or less, 0 trans fat, 500 mg"]
[null,"sodiium of less.  Three (3) bites = one serving",{"$nulls":12}," "," "," "," "," "," "]
[{"$nulls":14}," "," "," "," "," "," "]
[12,"Breakfast Item, Whole Grain Grahams","Kelloggs Crunchmania  ",null,"100/1.76z",100,50,{"$f":"ROUND(G49*F49/F49,2)","v":50},"Cs",{"v":28,"d":"$28.00"},{"$f":"IF(OR(ISBLANK(J49),G49=0,ISBLANK(G49)),,ROUND(J49+$K$3,2))","v":{"v":28,"d":"$28.00"}},{"$f":"ROUND(H49*K49,2)","v":{"v":1400,"d":"$1,400.00"}},{"$f":"ROUND(K49/F49,2)","v":{"v":0.28,"d":"$0.28"}},null," "," "," "," "," "," "]
[null,"Bite size whole grain grahams.  Meets 2.0 OEG"," 38000- 24518 Cinnamon Bun ",{"$nulls":11}," "," "," "," "," "," "]
[null,null," 38000- 24520 French Toast  ",{"$nulls":11}," "," "," "," "," "," "]
[13,"Breakfast Kits, Kelloggs & ES Breaks         WGR  2.0 OEG"," Kelloggs (Morning Jump Starts) ",null,"44Ct",44,"NO #"," ","  ",{"$nulls":5}," "," "," "," "," "," "]
[null,"Each kit provides: 2oz equivalent  grain, 1/2 cup fruit serving, ","     38000-51091 Blue Frosted Flaked R/ S",{"$nulls":11}," "," "," "," "," "," "]
[null,"plus a spoon/napkin kit, each master case  includes trash bag.","     38000-78792 Froot Loops R/S",{"$nulls":11}," "," "," "," "," "," "]
[null,"Contains 3 Ct Keebler Graham Cracker, 1.0 oz Cereal Bowl","     38000-78791 Green Apple Jacks R/S",{"$nulls":11}," "," "," "," "," "," "]
[null,"and 100% Fruit juice",{"$nulls":12}," "," "," "," "," "," "]
[null,null,"ES Breaks",null,"60Ct",60,1200,{"$f":"ROUND(G57*F57/F57,2)","v":1200},"Cs",{"v":41.04,"d":"$41.04"},{"$f":"IF(OR(ISBLANK(J57),G57=0,ISBLANK(G57)),,ROUND(J57+$K$3,2))","v":{"v":41.04,"d":"$41.04"}},{"$f":"ROUND(H57*K57,2)","v":{"v":49248,"d":"$49,248.00"}},{"$f":"ROUND(K57/F57,2)","v":{"v":0.68,"d":"$0.68"}},null," "," "," "," "," "," "]
[null,null,"61106 Frosted Flakes RS",{"$nulls":11}," "," "," "," "," "," "]
[null,null,"61119 Cinnamon Toast Crunch RS",null,"72 Ct",72,{"$nulls":3},{"v":49.25,"d":"$49.25"},{"$f":"IF(OR(ISBLANK(J59),G57=0,ISBLANK(G57)),,ROUND(J59+$K$3,2))","v":{"v":49.25,"d":"$49.25"}}," ",{"$f":"ROUND(K59/F59,2)","v":{"v":0.68,"d":"$0.68"}},{"$nulls":6}," "]
[null,null,"61105 Honey Nut Cherrios",null,"72 Ct",72,{"$nulls":3},{"v":49.25,"d":"$49.25"},{"$f":"IF(OR(ISBLANK(J60),G57=0,ISBLANK(G57)),,ROUND(J60+$K$3,2))","v":{"v":49.25,"d":"$49.25"}},"  ",{"$f":"ROUND(K60/F60,2)","v":{"v":0.68,"d":"$0.68"}},null," "," "," "," "," "," "]
[null,null,"61123 Fruit Loops RS",null,"72 Ct",72,{"$nulls":3},{"v":49.25,"d":"$49.25"},{"$f":"IF(OR(ISBLANK(J61),G57=0,ISBLANK(G57)),,ROUND(J61+$K$3,2))","v":{"v":49.25,"d":"$49.25"}}," ",{"v":0.68,"d":"$0.68"}]
[null,null,"61118 Apple Cinnamon Cherrios"]
[null,null,"61114 Trix RS"]
[null,null,"61103 Cocoa Puffs RS"]
[null,null,"61123 Fruit Loops RS",{"$nulls":11}," "," "," "," "," "," "]
[null,null,"61103 Lucky Charms",{"$nulls":11}," "," "," "," "," "," "]
[14,"Cereal, General Mills, Assorted Flavors,                                     WGR               ","General Mills ",null,"96 Ct",96,0,{"$f":"ROUND(G67*F67/F67,2)","v":0},"Cs",{"v":18.46,"d":"$18.46"},{"$f":"IF(OR(ISBLANK(J67),G67=0,ISBLANK(G67)),,ROUND(J67+$K$3,2))","v":0},{"$f":"ROUND(H67*K67,2)","v":0},{"$f":"ROUND(K67/F67,2)","v":0},null," "," "," "," "," "," "]
[null," Made from whole grain.  Prepackaged,  Bowl pack.  ","31879 Apple Cinnamon Cheerios WG",{"$nulls":11}," "," "," "," "," "," "]
[null,"1 oz Cereal = 1oz Equivalent Grain ","32262 Cheerios Whole Grain",{"$nulls":11}," "," "," "," "," "," "]
[null,null,"11815 Cinnamon Toast Crunch Whole Grain",{"$nulls":11}," "," "," "," "," "," "]
[null,null,"11943 Golden Grahams Whole Grain",{"$nulls":11}," "," "," "," "," "," "]
[null,null,"11918 Honey Nut Cheerios Whole Grain",{"$nulls":11}," "," "," "," "," ","  "]
[null,null,"11866 Honey Nut Chex Whole Grain",{"$nulls":11}," "," "," "," "," "," "]
[null,null,"31917 Lucky Charms Whole Grain",{"$nulls":11}," "," "," "," "," "," "]
[null,null,"32263 Multigrain Cheerios",{"$nulls":11}," "," "," "," "," "," "]
[null,null,"31919 Reese's Puffs Whole Grain",{"$nulls":11}," "," "," "," "," "," "]
[null,null,"12392 Total Raisin Bran Whole Grain",{"$nulls":11}," "," "," "," "," "," "]
[null,null,"31916 Fruity Cheerios Whole Grain",{"$nulls":11}," "," "," "," "," "," "]
[null,null,"11768 Frosted Corn Flakes Whole Grain",{"$nulls":11}," "," "," "," "," "," "]
[null,null," ",{"$nulls":11}," "," "," "," "," "," "]
[null," "," ",{"$nulls":11}," "," "," "," "," "," "]
[null," ",{"$nulls":12}," "," "," "," "," "," "]
[15,"Cereal, General Mills, Reduced Sugar, Assorted Flavors   WGR"," General Mills",null,"96 Ct",96,0,{"$f":"ROUND(G83*F83/F83,2)","v":0},"Cs",{"v":18.46,"d":"$18.46"},{"$f":"IF(OR(ISBLANK(J83),G83=0,ISBLANK(G83)),,ROUND(J83+$K$3,2))","v":0},{"$f":"ROUND(H83*K83,2)","v":0},{"$f":"ROUND(K83/F83,2)","v":0},null," "," "," "," "," "," "]
[null,"Made from whole grain.  Prepackaged, Bowl Pack.  ","29444 Redu Sugar Cinnamon Toast Crunch",{"$nulls":11}," "," "," "," "," "," "]
[null,"1oz Cereal provides  1 oz Grain Equivalent","31922 Reduced Sugar Trix",{"$nulls":11}," "," "," "," "," "," "]
[null,null,"31888 Reduced Sugar Cocoa Puffs",{"$nulls":11}," "," "," "," "," "," "]
[16,"Cereal, Kelloggs, Assorted Flavors, WGR","Kelloggs  ",null,"96 Ct",96,0,{"$f":"ROUND(G87*F87/F87,2)","v":0},"Cs",{"v":22,"d":"$22.00"},{"$f":"IF(OR(ISBLANK(J87),G87=0,ISBLANK(G87)),,ROUND(J87+$K$3,2))","v":0},{"$f":"ROUND(H87*K87,2)","v":0},{"$f":"ROUND(K87/F87,2)","v":0},null," "," "," "," "," "," "]
[null,"Prepackaged, bowl pack  1oz Cereal provides  1oz Equivalent Grain","38000-00896 Raisin Bran ",{"$nulls":11}," "," "," "," "," "," "]
[null,null,"38000-04996  Frosted Mini Wheats. Bite Size",null,"CACFP APPROVED",{"$nulls":9}," "," "," "," "," "," "]
[null,null,"38000-45861 Choc Frsted Mini Whts Bite-size",null,"CACFP APPROVED",{"$nulls":9}," "," "," "," "," "," "]
[null,null,"38000-78789 Rice Krispies, WG-Gluten Free ",null,"CACFP APPROVED",{"$nulls":9}," "," "," "," "," "," "]
[{"$nulls":14}," "," "," "," "," "," "]
[17,"Cereal, Kelloggs, Reduced Sugar, WGR"," Kelloggs  ",null,"96 Ct",96,0,{"$f":"ROUND(G93*F93/F93,2)","v":0},"Cs",{"v":19.5,"d":"$19.50"},{"$f":"IF(OR(ISBLANK(J93),G93=0,ISBLANK(G93)),,ROUND(J93+$K$3,2))","v":0},{"$f":"ROUND(H93*K93,2)","v":0},{"$f":"ROUND(K93/F93,2)","v":0},null," "," "," "," "," "," "]
[null,"Prepackaged, bowl pack  1oz Cereal provides  1oz Equivalent Grain","38000-78788 Reduced Sugar, Froot Loops",{"$nulls":11}," "," "," "," "," "," "]
[null,null,"38000-78787 Reduced Sugar, Apple Jacks",{"$nulls":11}," "," "," "," "," "," "]
[null,null,"38000-54998 Red Sugar,Frosted Flakes, MG",{"$nulls":11}," "," "," "," "," "," "]
[null,null,"38000-78786 Cinnamon Flakes MultiGrain",null,"CACFP APPROVED",{"$nulls":9}," "," "," "," "," "," "]
[null,null,"38000-10992 Chocolate Zucaritas Frosted Flakes",{"$nulls":11}," "," "," "," "," "," "]
[{"$nulls":14}," "," "," "," "," "," "]
[18,"Cereal, Post Consumer Brands, Assorted Flavors, WGR","Post Consumer Brands",null,"96 Ct",96,0,{"$f":"ROUND(G100*F100/F100,2)","v":0},"Cs",{"v":15.5,"d":"$15.50"},{"$f":"IF(OR(ISBLANK(J100),G100=0,ISBLANK(G100)),,ROUND(J100+$K$3,2))","v":0},{"$f":"ROUND(H100*K100,2)","v":0},{"$f":"ROUND(K100/F100,2)","v":0},null," "," "," "," "," "," "]
[null,"Prepackaged, Bowl Pack.  ","03915 Cinnamon Toasters",null,"96/1z",96,{"$nulls":8}," "," "," "," "," "," "]
[null,"1 oz Cereal = 1oz Equivalent Grain ","27597 Honey Scooter  ",null,"96/1z",96,{"$nulls":8}," "," "," "," "," "," "]
[null,null,"27596 Marshmallow Mateys (RS)",null,"96/1z",96,{"$nulls":8}," "," "," "," "," "," "]
[null,null,"04515 Honey Graham Squares  ",null,"96/1z",96,{"$nulls":8}," "," "," "," "," "," "]
[null,null,"O715 Raisin Bran  ",null,"96/1.25z",96,{"$nulls":8}," "," "," "," "," "," "]
[null,null,"27164 Scooter (RS)",null,"96/1z",96,"CACFP APPROVED",{"$nulls":7}," "," "," "," "," "," "]
[null,null," ",null," "," ",{"$nulls":8}," "," "," "," "," "," "]
[{"$nulls":14}," "," "," "," "," "," "]
[19,"Cereal, Single Serve Pouch","Kellogg's ",null,"96/1.0z",96,0,{"$f":"ROUND(G109*F109/F109,2)","v":0},"Cs",{"v":19.64,"d":"$19.64"},{"$f":"IF(OR(ISBLANK(J109),G109=0,ISBLANK(G109)),,ROUND(J109+$K$3,2))","v":0},{"$f":"ROUND(H109*K109,2)","v":0},{"$f":"ROUND(K109/F109,2)","v":0},null," "," "," "," "," "," "]
[null,"No high fructose corn syrup","38000-11465 Frosted Flakes Multi-Grain RS",null," ",{"$nulls":9}," "," "," "," "," "," "]
[null,"One serving equals 1 OEG","38000-11467  Fruit Loops RS",{"$nulls":11}," "," "," "," "," "," "]
[null,"Possible Allergens:  Wheat, Soy, and Milk","38000-11469  Apple Jacks RS",{"$nulls":11}," "," "," "," "," "," "]
[null,null," ",{"$nulls":11}," "," "," "," "," "," "]
[20,"Cereal, Single Serve Pouch","General Mills",null,"96/1.0z",96,0,{"$f":"ROUND(G114*F114/F114,2)","v":0},"Cs",{"v":24.95,"d":"$24.95"},{"$f":"IF(OR(ISBLANK(J114),G114=0,ISBLANK(G114)),,ROUND(J114+$K$3,2))","v":0},{"$f":"ROUND(H114*K114,2)","v":0},{"$f":"ROUND(K114/F114,2)","v":0},null," "," "," "," "," "," "]
[null,"No high fructose corn syrup","17733 Cinnamon Crunch",null," ",{"$nulls":9}," "," "," "," "," "," "]
[null,"One serving equals 1 OEG","41574 Golden Grahams",{"$nulls":11}," "," "," "," "," "," "]
[null,"Possible Allergens:  Wheat, Soy, and Milk"," ",{"$nulls":11}," "," "," "," "," "," "]
[null,null," ",{"$nulls":11}," "," "," "," "," "," "]
[21,"Cereal Bar, WGR","General Mills",null,"96/1.42z",96,0,{"$f":"ROUND($G$119*$F$119/F119,2)","v":0},"Cs",{"v":22.94,"d":"$22.94"},{"$f":"IF(OR(ISBLANK(J119),G119=0,ISBLANK(G119)),,ROUND(J119+$K$3,2))","v":0},{"$f":"ROUND(H119*K119,2)","v":0},{"$f":"ROUND(K119/F119,2)","v":0},null," "," "," "," "," "," "]
[null,"Contains 0-150 calories and not more than 1 gm saturated fat and ","     45576 Cinnamon Toast Crunch  ",{"$nulls":11}," "," "," "," "," "," "]
[null,"0-150 mg sodium per serving","     45577 Cocoa Puffs   ",{"$nulls":11}," "," "," "," "," "," "]
[null," ","     31912 Fruity Cheerios  ",{"$nulls":11}," "," "," "," "," "," "]
[null,null,"     31914 Team Cherrios  ",{"$nulls":11}," "," "," "," "," "," "]
[null,"Smart Snacks Compliant ","     31915 Trix",{"$nulls":11}," "," "," "," "," "," "]
[22,"Cereal Bar, WGR","Kellogg",null,"96/1.34z",96,0,{"$f":"ROUND($G$125*$F$125/F125,2)","v":0},"Cs",{"v":22.85,"d":"$22.85"},{"$f":"IF(OR(ISBLANK(J125),G125=0,ISBLANK(G125)),,ROUND(J125+$K$3,2))","v":0},{"$f":"ROUND(H125*K125,2)","v":0},{"$f":"ROUND(K125/F125,2)","v":0},null," "," "," "," "," "," "]
[null,"made from Whole Grain Oats","     38000-91612 Chocolate",{"$nulls":11}," "," "," "," "," "," "]
[null,"Calories 150 or less, 0 Trans fat; Saturated Fat 1g or less;  ","     38000-48396 Apple Cinnamon",{"$nulls":11}," "," "," "," "," "," "]
[null,"90- 140mg Sodium  per serving.","     38000-54937 Berry   ",{"$nulls":11}," "," "," "," "," "," "]
[null,null," ",{"$nulls":11}," "," "," "," "," "," "]
[null,"SMART SNACK COMPLIANT"," ",{"$nulls":11}," "," "," "," "," "," "]
[{"$nulls":14}," "," "," "," "," "," "]
[23,"Cinnamon Rolls, IW","Pillsbury Mini Cinnis  133686000",null,"72/2.29z",72,150,{"$f":"ROUND(G132*F132/F132,2)","v":150},"Cs",{"$nulls":5}," "," "," "," "," "," "]
[null,"Thaw /Heat/ Serve, One serving provides 2 oz Equivalent Grains ","Hadley Farms  1377IW",null,"144/2.7z",144,null,{"$f":"ROUND(G132*F132/F133,2)","v":75},"Cs",{"v":41.76,"d":"$41.76"},{"$f":"IF(OR(ISBLANK(J133),G132=0,ISBLANK(G132)),,ROUND(J133+$K$3,2))","v":{"v":41.76,"d":"$41.76"}},{"$f":"ROUND(H133*K133,2)","v":{"v":3132,"d":"$3,132.00"}},{"$f":"ROUND(K133/F133,2)","v":{"v":0.29,"d":"$0.29"}},null," "," "," "," "," "," "]
[{"$nulls":14}," "," "," "," "," "," "]
[24,"Cinnamon Rolls,  Whole Wheat                            WGR","Bridgford 6718 ",null,"160/2.25z",160,0,{"$f":"ROUND(G135*F135/F135,2)","v":0},"Cs",{"v":28.4,"d":"$28.40"},{"$f":"IF(OR(ISBLANK(J135),G135=0,ISBLANK(G135)),,ROUND(J135+$K$3,2))","v":0},{"$f":"ROUND(H135*K135,2)","v":0},{"$f":"ROUND(K135/F135,2)","v":0},null," "," "," "," "," "," "]
[null,"Pre-sliced cinnamon roll dough, IQF. 0 trans fat, 1 g sat fat",{"$nulls":12}," "," "," "," "," "," "]
[null,"One serving provides not more than 2oz Equivalent grains",{"$nulls":12}," "," "," "," "," "," "]
[25,"Dough, Whole Wheat , \"Ranch Style Roll\" , Proof and Bake ","Distributor Choice",null,"240/1.5z",240,0,{"$f":"ROUND(G138*F138/F138,2)","v":0},"Cs",null,{"$f":"IF(OR(ISBLANK(J138),G138=0,ISBLANK(G138)),,ROUND(J138+$K$3,2))","v":0},{"$f":"ROUND(H138*K138,2)","v":0},{"$f":"ROUND(K138/F138,2)","v":0},null," "," "," "," "," "," "]
[null,"Contains a minimum 51% Whole wheat flour, enriched","Fillable txt box ",{"$nulls":11}," "," "," "," "," "," "]
[null,"One  serving equals 1.5 grain/bread servings ",{"$nulls":12}," "," "," "," "," "," "]
[{"$nulls":14}," "," "," "," "," "," "]
[26,"Doughnut Holes,  IW WGR","Super Bakery ",null,"160/1.3z",160,0,{"$f":"ROUND(G142*F142/F142,2)","v":0},"Cs",{"v":27.44,"d":"$27.44"},{"$f":"IF(OR(ISBLANK(J142),G142=0,ISBLANK(G142)),,ROUND(J142+$K$3,2))","v":0},{"$f":"ROUND(H142*K142,2)","v":0},{"$f":"ROUND(K142/F142,2)","v":0},null," "," "," "," "," "," "]
[null,"One serving provides 1oz OEG","     9202 Powdered",{"$nulls":11}," "," "," "," "," "," "]
[null,"Frozen. Thaw and serve.    ",{"$nulls":12}," "," "," "," "," "," "]
[null,"SMART SNACK COMPLIANT"," ",{"$nulls":11}," "," "," "," "," "," "]
[27,"Doughnut Holes, Bulk ","(18-19) Rich's 2725",null,"384/.41z",128,100,{"$f":"ROUND(G146*F146/F146,2)","v":100},"Cs",{"v":25.58,"d":"$25.58"},{"$f":"IF(OR(ISBLANK(J146),G146=0,ISBLANK(G146)),,ROUND(J146+$K$3,2))","v":{"v":25.58,"d":"$25.58"}},{"$f":"ROUND(H146*K146,2)","v":{"v":2558,"d":"$2,558.00"}},{"$f":"ROUND(K146/F146,2)","v":{"v":0.2,"d":"$0.20"}},null," "," "," "," "," "," "]
[null,"Frozen, thaw, heat and serve 100-200 calories with no more than 4 g ",{"$nulls":12}," "," "," "," "," "," "]
[null,"sat fat and 200 mg of sodium per serving. One portion to provide min"]
[null,"1 OEG",{"$nulls":12}," "," "," "," "," "," "]
[null,"Possible Allergens: Wheat, Soy, Milk",{"$nulls":12}," "," "," "," "," "," "]
[28,"Doughnut, Yeast Raised Donut, WG","(18-19) Rich's 14839",null,"84/2.45z",84,0,{"$f":"ROUND(G151*F151/F151,2)","v":0},"Cs",{"v":28.31,"d":"$28.31"},{"$f":"IF(OR(ISBLANK(J151),G151=0,ISBLANK(G151)),,ROUND(J151+$K$3,2))","v":0},{"$f":"ROUND(H151*K151,2)","v":0},{"$f":"ROUND(K151/F151,2)","v":0},null," "," "," "," "," "," "]
[null,"Frozen, thaw, heat and serve 200-300 calories with no more than 7 g sat ",{"$nulls":12}," "," "," "," "," "," "]
[null,"fat and 350 mg of sodium per svg. One portion provides min. 2 OEG",{"$nulls":12}," "," "," "," "," "," "]
[null,"Possible Allergens: Wheat, Soy, Milk, and Eggs",{"$nulls":12}," "," "," "," "," "," "]
[29,"Dunkin Stick, WGR","Super Bakery 7010",null,"100/1.9z",100,100,{"$f":"ROUND(G155*F155/F155,2)","v":100},"Cs",{"v":30,"d":"$30.00"},{"$f":"IF(OR(ISBLANK(J155),G155=0,ISBLANK(G155)),,ROUND(J155+$K$3,2))","v":{"v":30,"d":"$30.00"}},{"$f":"ROUND(H155*K155,2)","v":{"v":3000,"d":"$3,000.00"}},{"$f":"ROUND(K155/F155,2)","v":{"v":0.3,"d":"$0.30"}},null," "," "," "," "," "," "]
[null,"One 1.9 oz. serving equals one EOG",{"$nulls":12}," "," "," "," "," "," "]
[{"$nulls":14}," "," "," "," "," "," "]
[null," ",{"$nulls":12}," "," "," "," "," "," "]
[30,"French Toast Sticks","Farm Rich 37722 (4)  ",null,"480/cs",119,100,{"$f":"ROUND(G159*F159/F159,2)","v":100},"Cs",{"v":32.5,"d":"$32.50"},{"$f":"IF(OR(ISBLANK(J159),G159=0,ISBLANK(G159)),,ROUND(J159+$K$3,2))","v":{"v":32.5,"d":"$32.50"}},{"$f":"ROUND(H159*K159,2)","v":{"v":3250,"d":"$3,250.00"}},{"$f":"ROUND(K159/F159,2)","v":{"v":0.27,"d":"$0.27"}},null," "," "," "," "," "," "]
[null,"Frozen, heat and serve, 150-250 calories with no more than 2 g sat fat ","Krusteaz 068615160346 ",null,"176/.78z",44,null,{"$f":"ROUND(G159*F159/F160,2)","v":270.45},"Cs",{"$nulls":5}," "," "," "," "," "," "]
[null,"and 350 mg sodium, CN labeled for 4 (four) sticks to provide min. 2 OEG","Right Start RS8627 ",null,"85/3.0",85,null,{"$f":"ROUND(G159*F159/F161,2)","v":140},"Cs",{"$nulls":5}," "," "," "," "," "," "]
[null,"Possible Allergens:  Egg, Soy, Milk and Wheat"," "," "," "," "," "," "," ",{"$nulls":5}," "," "," "," "," "," "]
[31,"French Toast, Mini, WGR IW","Eggo Mini French Toast Bites",null,"72/3.03z",72,0,{"$f":"ROUND($G$163*$F$163/F163,2)","v":0},"Cs",{"v":24.5,"d":"$24.50"},{"$f":"IF(OR(ISBLANK(J163),G163=0,ISBLANK(G163)),,ROUND(J163+$K$3,2))","v":0},{"$f":"ROUND(H163*K163,2)","v":0},{"$f":"ROUND(K163/F163,2)","v":0},null," "," "," "," "," "," "]
[null,"Frozen, heat and serve, No HFCS, Contains not more than 200 mg sodium","38000-80801  Chocolate Chip",{"$nulls":11}," "," "," "," "," "," "]
[null,"and O trans fat.  One package equals 2 OEG","38000-80693  Original Maple",{"$nulls":11}," "," "," "," "," "," "]
[null,null," "," "," "," "," "," "," "," "," "," "," ",null," "," "," "," "," "," "]
[32,"French Toast, Mini, WGR IW","Pillsbury",null,"72/2.64z",72,100,{"$f":"ROUND($G$167*$F$167/F167,2)","v":100},"Cs",{"v":24.53,"d":"$24.53"},{"$f":"IF(OR(ISBLANK(J167),G167=0,ISBLANK(G167)),,ROUND(J167+$K$3,2))","v":{"v":24.53,"d":"$24.53"}},{"$f":"ROUND(H167*K167,2)","v":{"v":2453,"d":"$2,453.00"}},{"$f":"ROUND(K167/F167,2)","v":{"v":0.34,"d":"$0.34"}},null," "," "," "," "," "," "]
[null,"Frozen, heat and serve, No HFCS, Contains not more than 200 mg sodium","Cinnamon Rush 137309",{"$nulls":11}," "," "," "," "," "," "]
[null,"and O trans fat.  One package equals 2 OEG"," "," "," "," ",{"$nulls":8}," "," "," "," "," "," "]
[null,null," "," "," "," "," "," "," "," "," "," "," ",null," "," "," "," "," "," "]
[33,"Strudel Stick, Fruit Filled","Pillsbury ",null,"72/2.29z",72,0,{"$f":"ROUND(G171*F171/F171,2)","v":0},"Cs",{"v":29.1,"d":"$29.10"},{"$f":"IF(OR(ISBLANK(J171),G171=0,ISBLANK(G171)),,ROUND(J171+$K$3,2))","v":0},{"$f":"ROUND(H171*K171,2)","v":0},{"$f":"ROUND(K171/F171,2)","v":0},null," "," "," "," "," "," "]
[null,"Frozen. Heat and serve. Whole grain rich. No more than 6 g","Frudel Apple Strudel",{"$nulls":11}," "," "," "," "," "," "]
[null,"fat and 280 mg sodium per serving. 0 trans fat. One serving",{"$nulls":12}," "," "," "," "," "," "]
[null,"provides  2 oz Equivalent Grains",{"$nulls":12}," "," "," "," "," "," "]
[{"$nulls":14}," "," "," "," "," "," "]
[34,"Grits, Whole Grain Enriched","Distributor Choice",null,"8/5#",40,0,{"$f":"ROUND($G$176*$F$176/F176,2)","v":0},"Cs",null,{"$f":"IF(OR(ISBLANK(J176),G176=0,ISBLANK(G176)),,ROUND(J176+$K$3,2))","v":0},{"$f":"ROUND(H176*K176,2)","v":0},{"$f":"ROUND(K176/F176,2)","v":0},null," "," "," "," "," "," "]
[null,"Shelf Stable","Fillable txt box ",{"$nulls":4}," ",{"$nulls":6}," "," "," "," "," "," "]
[35,"Grits, Regular ","Distributor Choice",null,"8/5#",40,25,{"$f":"ROUND($G$178*$F$178/F178,2)","v":25},"Cs",null,{"$f":"IF(OR(ISBLANK(J178),G178=0,ISBLANK(G178)),,ROUND(J178+$K$3,2))","v":0},{"$f":"ROUND(H178*K178,2)","v":0},{"$f":"ROUND(K178/F178,2)","v":0},null," "," "," "," "," "," "]
[null,"Shelf Stable. Quick cooking","Fillable txt box ",{"$nulls":11}," "," "," "," "," "," "]
[36,"Oats, Rolled ","Distributor Choice",null,"12/42 oz ",504,0,{"$f":"ROUND($G$180*$F$180/F180,2)","v":0},"Cs",null,{"$f":"IF(OR(ISBLANK(J180),G180=0,ISBLANK(G180)),,ROUND(J180+$K$3,2))","v":0},{"$f":"ROUND(H180*K180,2)","v":0},{"$f":"ROUND(K180/F180,2)","v":0},null," "," "," "," "," "," "]
[null,"100% Natural ","Fillable txt box ",{"$nulls":11}," "," "," "," "," "," "]
[37,"Honey Bun, IW","Super Bakery ",null,"80/2.75z",80,100,{"$f":"ROUND(G182*F182/F182,2)","v":100},"Cs",{"v":24.52,"d":"$24.52"},{"$f":"IF(OR(ISBLANK(J182),G182=0,ISBLANK(G182)),,ROUND(J182+$K$3,2))","v":{"v":24.52,"d":"$24.52"}},{"$f":"ROUND(H182*K182,2)","v":{"v":2452,"d":"$2,452.00"}},{"$f":"ROUND(K182/F182,2)","v":{"v":0.31,"d":"$0.31"}},null," "," "," "," "," "," "]
[null,"Frozen, thaw and serve, WGR, One serving provides 2 OEG","        6060 Goody Bun",{"$nulls":11}," "," "," "," "," "," "]
[{"$nulls":14}," "," "," "," "," "," "]
[38,"Loaf, Mini, IW,                                                                       ","Super Bakery ",null,"120/2.0z",120,0,{"$f":"ROUND(G185*F185/F185,2)","v":0},"Cs",{"v":31.24,"d":"$31.24"},{"$f":"IF(OR(ISBLANK(J185),G185=0,ISBLANK(G185)),,ROUND(J185+$K$3,2))","v":0},{"$f":"ROUND(H185*K185,2)","v":0},{"$f":"ROUND(K185/F185,2)","v":0},null," "," "," "," "," "," "]
[null,"Frozen, thaw and serve, WGR, One serving provides 1 OEG","  7055 Blueberry",{"$nulls":11}," "," "," "," "," "," "]
[null,"1 serving  provides 1 oz equivalent grain","  7056 Banana",{"$nulls":11}," "," "," "," "," "," "]
[null,null,"  7057 Apple Cinnamon ",{"$nulls":11}," "," "," "," "," "," "]
[39,"Muffins, IW"," COOL MUFFINS ",null,"96/1.8z",96,null,"  "," ",{"$nulls":5}," "," "," "," "," "," "]
[null,"Frozen, thaw and serve, One serving provides 1 OEG","            30921   Cinnamon",{"$nulls":11}," "," "," "," "," "," "]
[null," ","            30727  Blueberry ",{"$nulls":11}," "," "," "," "," "," "]
[null,null,"            30720   Apple",{"$nulls":11}," "," "," "," "," "," "]
[null,null,"            30723  Banana",{"$nulls":11}," "," "," "," "," "," "]
[null,null,"Super Bakery",null,"72/2.0z",72,null,{"$f":"ROUND($G$189*$F$189/F194,2)","v":0},"Cs",{"v":16.2,"d":"$16.20"},{"$f":"IF(OR(ISBLANK(J194),G189=0,ISBLANK(G189)),,ROUND(J194+$K$3,2))","v":0},{"$f":"ROUND(H194*K194,2)","v":0},{"$f":"ROUND(K194/F194,2)","v":0},null," "," "," "," "," "," "]
[null,null,"            9050  Blueberry",{"$nulls":11}," "," "," "," "," "," "]
[null,null,"            9052  Banana",{"$nulls":11}," "," "," "," "," "," "]
[null,null," ",{"$nulls":11}," "," "," "," "," "," "]
[40,"Muffins, Reduced Fat","Otis Spunkmeyer",null,"72/2.0z",72,200,{"$f":"ROUND(G198*F198/F198,2)","v":200},"Cs",{"v":16.92,"d":"$16.92"},{"$f":"IF(OR(ISBLANK(J198),G198=0,ISBLANK(G198)),,ROUND(J198+$K$3,2))","v":{"v":16.92,"d":"$16.92"}},{"$f":"ROUND(H198*K198,2)","v":{"v":3384,"d":"$3,384.00"}},{"$f":"ROUND(K198/F198,2)","v":{"v":0.24,"d":"$0.24"}},null," "," "," "," "," "," "]
[null,"30% or less of calories from fat, 30% or less by weight of added sugar.","   10143 Wild Blueberry   ",{"$nulls":11}," "," "," "," "," "," "]
[null,"Individually Wrapped","   10144 Banana    ",{"$nulls":11}," "," "," "," "," "," "]
[null,"One muffin provides 1.0 oz Equivalent grain","   10145  Chocolate Chocolate Chip",{"$nulls":11}," "," "," "," "," "," "]
[null,null,"   10146 Apple Cinnamon",{"$nulls":11}," "," "," "," "," "," "]
[null,null,"Smart Choice",null,"96/2.0z",96,null,{"$f":"ROUND(G198*F198/F203,2)","v":150},"Cs",{"$nulls":5}," "," "," "," "," "," "]
[null,null,"    2661 Blueberry",{"$nulls":11}," "," "," "," "," "," "]
[null,null,"    2666 Apple Cinnamon",{"$nulls":11}," "," "," "," "," "," "]
[null,null,"    2670 Chocolate Chip",{"$nulls":11}," "," "," "," "," "," "]
[null,null,"    2675 Banana",{"$nulls":11}," "," "," "," "," "," "]
[41,"Muffins, Reduced Fat","Chef Pierre WG",null,"48/2oz",48,0,{"$f":"ROUND(G208*F208/F208,2)","v":0},"Cs",0,{"$f":"IF(OR(ISBLANK(J208),G208=0,ISBLANK(G208)),,ROUND(J208+$K$3,2))","v":0},{"$f":"ROUND(H208*K208,2)","v":0},{"$f":"ROUND(K208/F208,2)","v":0},null," "," "," "," "," "," "]
[null,"30% or less of calories from fat, 30% or less by weight of added sugar.","       8860 Blueberry",{"$nulls":11}," "," "," "," "," "," "]
[null,"Individually Wrapped, Muffin provides 1.0 OEG","       8861 Banana ",{"$nulls":11}," "," "," "," "," "," "]
[42,"Muffin, Egg and Cheese on a WG English ","Advanced Pierre 68243",null,"96/3.30z",96,25,{"$f":"ROUND(G211*F211/F211,2)","v":25},"Cs",{"v":47.47,"d":"$47.47"},{"$f":"IF(OR(ISBLANK(J211),G211=0,ISBLANK(G211)),,ROUND(J211+$K$3,2))","v":{"v":47.47,"d":"$47.47"}},{"$f":"ROUND(H211*K211,2)","v":{"v":1186.75,"d":"$1,186.75"}},{"$f":"ROUND(K211/F211,2)","v":{"v":0.49,"d":"$0.49"}},null," "," "," "," "," "," "]
[null,"Frozen, WGR, 200-300 calories and not more than 4 g saturated fat",{"$nulls":8}," "]
[null,"and 400 mg sodium per svg.  One portion to provide 1 oz. M/MA and 2 OEG"," ",{"$nulls":11}," "," "," "," "," "," "]
[null," Possible Allergens:  Egg, Wheat, Milk and Soy"," ",{"$nulls":11}," "," "," "," "," "," "]
[43,"Pancake Bowl with Fruit, IW","Buena Vista ",null,"72/3.8z",72,25,{"$f":"ROUND(G215*F215/F215,2)","v":25},"Cs",{"v":51.25,"d":"$51.25"},{"$f":"IF(OR(ISBLANK(J215),G215=0,ISBLANK(G215)),,ROUND(J215+$K$3,2))","v":{"v":51.25,"d":"$51.25"}},{"$f":"ROUND(H215*K215,2)","v":{"v":1281.25,"d":"$1,281.25"}},{"$f":"ROUND(K215/F215,2)","v":{"v":0.71,"d":"$0.71"}},null," "," "," "," "," "," "]
[null,"Frozen, 200-300 caories and not mot more than 3 gm saturated fat and 400 mg of ","Apple 94010",{"$nulls":11}," "," "," "," "," "," "]
[null,"sodium per serving.  One portion to provide 2 OEG and 1/2 cup fruit, WGR","Blueberry 94020"]
[null,null,"Peach 94030"]
[null,null,"Strawberry 94040"]
[null,"Possible Allergens:  Egg, Milk, Wheat, and Soy"," ",{"$nulls":11}," "," "," "," "," "," "]
[44,"Pancake and Sausage on a Stick","Jimmy Dean 19010  WG  ",null,"60/2.51z",60,0,{"$f":"ROUND(G221*F221/F221,2)","v":0},"Cs",{"v":17.8,"d":"$17.80"},{"$f":"IF(OR(ISBLANK(J221),G221=0,ISBLANK(G221)),,ROUND(J221+$K$3,2))","v":0},{"$f":"ROUND(H221*K221,2)","v":0},{"$f":"ROUND(K221/F221,2)","v":0},null," "," "," "," "," "," "]
[null,"Frozen, fully, cooked, shall provide 1 M/MA and 1 OEG"]
[null," "," ",{"$nulls":11}," "," "," "," "," "," "]
[null,"Possible Allergens:  Milk, Eggs, Wheat and Soy"," ",{"$nulls":11}," "," "," "," "," "," "]
[45,"Pancake Wrap, Maple Flavored (IW) WG","Foster Farms 95127",null,"68/2.85z",68,300,{"$f":"ROUND(G225*F225/F225,2)","v":300},"Cs",{"v":26.16,"d":"$26.16"},{"$f":"IF(OR(ISBLANK(J225),G225=0,ISBLANK(G225)),,ROUND(J225+$K$3,2))","v":{"v":26.16,"d":"$26.16"}},{"$f":"ROUND(H225*K225,2)","v":{"v":7848,"d":"$7,848.00"}},{"$f":"ROUND(K225/F225,2)","v":{"v":0.38,"d":"$0.38"}},null," "," "," "," "," "," "]
[" ","Frozen, WGR, 150-250 calories with no more than 3 gm saturated fat and ",{"$nulls":12}," "," "," "," "," "," "]
[null,"350 mg sodium per svg.  Three(3) .85 oz. links provides 1 M/MA and ",{"$nulls":12}," "," "," "," "," "," "]
[null,"1 OEG"]
[null,"Possible Allergens:  Wheat, Milk and Eggs",{"$nulls":12}," "," "," "," "," "," "]
[46,"Pancake and Turkey Sausage on a Stick, Maple flavored","Foster Farms 97169",null,"63/2.55z",63,0,{"$f":"ROUND(G230*F230/F230,2)","v":0},"Cs",{"v":29.48,"d":"$29.48"},{"$f":"IF(OR(ISBLANK(J230),G230=0,ISBLANK(G230)),,ROUND(J230+$K$3,2))","v":0},{"$f":"ROUND(H230*K230,2)","v":0},{"$f":"ROUND(K230/F230,2)","v":0},null," "," "," "," "," "," "]
[null,"Frozen, heat and serve, 100-250 calories with not more than 3 g sat",{"$nulls":12}," "," "," "," "," "," "]
[null,"fat and 550 mg sodium per svg.  One svg to provide 1 M/MA and 1 OEG",{"$nulls":12}," "," "," "," "," "," "]
[null,"Possible Allergens:  Wheat, Milk, and Eggs",{"$nulls":12}," "," "," "," "," "," "]
[47,"Pancakes, Frozen","Right Start (1)  RS 7245",null,"144/1.4z",144,100,{"$f":"ROUND(G234*F234/F234,2)","v":100},"Cs",{"v":16.98,"d":"$16.98"},{"$f":"IF(OR(ISBLANK(J234),G234=0,ISBLANK(G234)),,ROUND(J234+$K$3,2))","v":{"v":16.98,"d":"$16.98"}},{"$f":"ROUND(H234*K234,2)","v":{"v":1698,"d":"$1,698.00"}},{"$f":"ROUND(K234/F234,2)","v":{"v":0.12,"d":"$0.12"}},null," "," "," "," "," "," "]
[null,"Bulk pack, 4\" Pancake, WGR"," ",null," "," ",null," "," "," "," "," "," ",null," "," "," "," "," "," "]
[null,"Indicate # of pancakes to equal 1 oz equivalent grain",{"$nulls":12}," "," "," "," "," "," "]
[{"$nulls":14}," "," "," "," "," "," "]
[48,"Pancakes, Frozen, Flavored, IW","Con Agra",null,"80/3.0z",80,0,{"$f":"ROUND($G$238*$F$238/F238,2)","v":0},"Cs",{"v":26.5,"d":"$26.50"},{"$f":"IF(OR(ISBLANK(J238),G238=0,ISBLANK(G238)),,ROUND(J238+$K$3,2))","v":0},{"$f":"ROUND(H238*K238,2)","v":0},{"$f":"ROUND(K238/F238,2)","v":0},null," "," "," "," "," "," "]
[null,"Frozen, heat and serve, WGR, One serving to provide 2 OEG","       04442 WG, Cinnamon  ",{"$nulls":11}," "," "," "," "," "," "]
[null," ","       04443 WG, Blueberry  ",{"$nulls":11}," "," "," "," "," "," "]
[null,null,"ES Foods",null,"80/3.0z",80,null,{"$f":"ROUND($G$238*$F$238/F241,2)","v":0},"Cs",{"$nulls":5}," "," "," "," "," "," "]
[null,null,"      16151 Maple Cinnamon Glaze Sandwich",{"$nulls":11}," "," "," "," "," "," "]
[null,null," ",{"$nulls":11}," "," "," "," "," "," "]
[49,"Pancakes, Mini, Flavored    IW                                WGR   2.0 OEG","Pillsbury",null,"72/3.17z",72,100,{"$f":"ROUND($G$244*$F$244/F244,2)","v":100},"Cs",{"$nulls":5}," "," "," "," "," "," "]
[null,"Frozen, heat and serve, ovenable packages, Less than 30% fat","13773200 Pillsbury Maple Burst'n",null,"CACFP Eligible ",{"$nulls":9}," "," "," "," "," "," "]
[null,"Not more than 1 g sat fat and 350 mg sodium per serving","137731000 Pillsbury Strawberry Splash",null,"CACFP Eligible ",{"$nulls":9}," "," "," "," "," "," "]
[null,null,"Kelloggs",null,"72/3.03z",72,null,{"$f":"ROUND($G$244*$F$244/F247,2)","v":100},"Cs",{"v":23.75,"d":"$23.75"},{"$f":"IF(OR(ISBLANK(J247),G244=0,ISBLANK(G244)),,ROUND(J247+$K$3,2))","v":{"v":23.75,"d":"$23.75"}},{"$f":"ROUND(H247*K247,2)","v":{"v":2375,"d":"$2,375.00"}},{"$f":"ROUND(K247/F247,2)","v":{"v":0.33,"d":"$0.33"}}]
[null," ","38000-92560 Blueberry",{"$nulls":11}," "," "," "," "," "," "]
[null,null,"38000-92562 Maple "]
[null,null,"38000-18574  Vanilla Confetti "]
[null,null,"DeWafflebakkers",null,"72/3.0z",72,null,{"$f":"ROUND($G$244*$F$244/F251,2)","v":100},"Cs",{"$nulls":5}," "," "," "," "," "," "]
[null,null,"     628 Cinnamon"]
[null,null,"     626 Blueberry"]
[null,null,"     625 Maple"]
[null,null,"     629 Banana"]
[null,null,"     631 Strawberry"]
[null,null,"     633 Chocolate Chip",{"$nulls":11}," "," "," "," "," "," "]
[null,null,"Right Start ",null,"52/3.1z",52,null,{"$f":"ROUND($G$244*$F$244/F258,2)","v":138.46},"Cs",{"$nulls":5}," "," "," "," "," "," "]
[null,null,"        RS7155  Maple Mini WG",{"$nulls":11}," "," "," "," "," "," "]
[50,"Pancakes, Buttermilk, Frozen,                                 ","Krusteaz S80349 ",null,"144/1.4z",144,0,{"$f":"ROUND(G260*F260/F260,2)","v":0},"Cs",{"v":26.1,"d":"$26.10"},{"$f":"IF(OR(ISBLANK(J260),G260=0,ISBLANK(G260)),,ROUND(J260+$K$3,2))","v":0},{"$f":"ROUND(H260*K260,2)","v":0},{"$f":"ROUND(K260/F260,2)","v":0},null," "," "," "," "," "," "]
[null,"Frozen, Heat and serve, 140--250 calories with no more than 2 g sat fat &"," ",null," "," ",null," "," "," "," ","  "," ",null," "," "," "," "," "," "]
[null,"600 mg sodium per serving.  Three pancakes provide min 2 OEG.  ",{"$nulls":12}," "," "," "," "," "," "]
[null,"Possible Allergens:  Wheat and Milk",{"$nulls":12}," "," "," "," "," "," "]
[51,"Pastry, Cinnamon Toast Crunch Filled","General Mills 1800-10978",null,"72/2.36z",72,100,{"$f":"ROUND(G264*F264/F264,2)","v":100},"Cs",{"v":28.2,"d":"$28.20"},{"$f":"IF(OR(ISBLANK(J264),G264=0,ISBLANK(G264)),,ROUND(J264+$K$3,2))","v":{"v":28.2,"d":"$28.20"}},{"$f":"ROUND(H264*K264,2)","v":{"v":2820,"d":"$2,820.00"}},{"$f":"ROUND(K264/F264,2)","v":{"v":0.39,"d":"$0.39"}},null," "," "," "," "," "," "]
[null,"Frozen, Heat and serve WGR Meets 2 OEG per serving, 200-300 calories",{"$nulls":12}," "," "," "," "," "," "]
[null,"with no more than 3 g saturated fat and 300 mg of sodium per serving",{"$nulls":12}," "," "," "," "," "," "]
[null,"Possible Allergens:  Wheat and Milk",{"$nulls":12}," "," "," "," "," "," "]
[52,"Pastry, Crescent Grape Filled ","General Mills 1800-49978",null,"72/2.9z",72,100,{"$f":"ROUND(G268*F268/F268,2)","v":100},"Cs",{"v":28.2,"d":"$28.20"},{"$f":"IF(OR(ISBLANK(J268),G268=0,ISBLANK(G268)),,ROUND(J268+$K$3,2))","v":{"v":28.2,"d":"$28.20"}},{"$f":"ROUND(H268*K268,2)","v":{"v":2820,"d":"$2,820.00"}},{"$f":"ROUND(K268/F268,2)","v":{"v":0.39,"d":"$0.39"}},null," "," "," "," "," "," "]
[null,"Frozen, Heat and serve WGR Meets 2 OEG per serving, 200-300 calories   ",{"$nulls":12}," "," "," "," "," "," "]
[null,"no more than 2 g saturated fat and 300 mg of sodium per serving",{"$nulls":12}," "," "," "," "," "," "]
[null,"Possible Allergens:  Wheat and Milk",{"$nulls":12}," "," "," "," "," "," "]
[53,"Stick, Chorizo Seasoned Beef and Cheese ","Integrated 180021",null,"100/2.4z",100,0,{"$f":"ROUND(G272*F272/F272,2)","v":0},"Cs",{"v":50.17,"d":"$50.17"},{"$f":"IF(OR(ISBLANK(J272),G272=0,ISBLANK(G272)),,ROUND(J272+$K$3,2))","v":0},{"$f":"ROUND(H272*K272,2)","v":0},{"$f":"ROUND(K272/F272,2)","v":0},{"v":48.09,"d":"$48.09"},{"v":2.2248,"d":"$2.2248"},6.8,{"v":15.13,"d":"$15.13"},{"v":48.09,"d":"$48.09"},{"v":0.48,"d":"$0.48"},{"v":0.48,"d":"$0.48"}]
[null,"Frozen, Heat and serve WGR Meets 1 OEG & 1 M/MA per serving,100-200   ",{"$nulls":12}," "," "," "," "," "," "]
[null,"cal with not more than 4 g sat fat and 300 mg of sodium per serving",{"$nulls":12}," "," "," "," "," "," "]
[null,"Possible Allergens:  Wheat, Milk and Soy",{"$nulls":12}," "," "," "," "," "," "]
[54,"Toaster Pastry"," Kelloggs Pop Tarts ",null,"72/3.53z",72,0,{"$f":"ROUND($G$276*$F$276/F276,2)","v":0},"Cs",{"v":28.7,"d":"$28.70"},{"$f":"IF(OR(ISBLANK(J276),G276=0,ISBLANK(G276)),,ROUND(J276+$K$3,2))","v":0},{"$f":"ROUND(K276*H276,2)","v":0},{"$f":"ROUND(K276/F276,2)","v":0},null," "," "," "," "," "," "]
[null,"Product meets WGR.  One serving provides 2oz equivalent grain.","38000-55125 Frosted  Cinnamon WG  ",{"$nulls":11}," "," "," "," "," "," "]
[null,null,"38000-55133 Frosted Strawberry WG",{"$nulls":11}," "," "," "," "," "," "]
[null,null,"38000-12073 Frosted Fudge WG",{"$nulls":11}," "," "," "," "," "," "]
[null,null,"38000-17199 Blueberry WG",{"$nulls":11}," "," "," "," "," "," "]
[55,"Toaster Pastry, Single Serve"," Kelloggs Pop Tarts  ",null,"120/1.76z",120,{"v":500,"d":"500 "},{"$f":"ROUND($G$281*$F$281/F281,2)","v":500},"Cs",{"v":30.65,"d":"$30.65"},{"$f":"IF(OR(ISBLANK(J281),G281=0,ISBLANK(G281)),,ROUND(J281+$K$3,2))","v":{"v":30.65,"d":"$30.65"}},{"$f":"ROUND(K281*H281,2)","v":{"v":15325,"d":"$15,325.00"}},{"$f":"ROUND(K281/F281,2)","v":{"v":0.26,"d":"$0.26"}},null," "," "," "," "," "," "]
[null,"Product meets WGR.  One serving provides 1 oz equivalent grain. ","38000-55130 Frosted Strawberry, WG",{"$nulls":11}," "," "," "," "," "," "]
[null,null,"38000-55122 Frosted  Cinnamon WG",{"$nulls":11}," "," "," "," "," "," "]
[null,"Smart Snacks Compliant","38000-17196 Blueberry WG",{"$nulls":11}," "," "," "," "," "," "]
[52,"Tornados, Egg, Turkey Sausage, and Cheese WG","Ruiz Foods 86969",null,"188/2.79z",188,50,{"$f":"ROUND($G$285*$F$285/F285,2)","v":50},"Cs",{"v":78.9,"d":"$78.90"},{"$f":"IF(OR(ISBLANK(J285),G285=0,ISBLANK(G285)),,ROUND(J285+$K$3,2))","v":{"v":78.9,"d":"$78.90"}},{"$f":"ROUND(H285*K285,2)","v":{"v":3945,"d":"$3,945.00"}},{"$f":"ROUND(K285/F285,2)","v":{"v":0.42,"d":"$0.42"}},null," "," "," "," "," "," "]
[null,"One serving provides .75 oz. M/MA and 1 1/4 equivalent grains"," ",null," "," ",null," "," "," "," "," "," ",null," "," "," "," "," "," "]
[null,"Possible Allergens:  Milk, Eggs, Soy, and Wheat",{"$nulls":12}," "," "," "," "," "," "]
[53,"Waffles, Bulk.  Frozen                                                   ","Bakecrafters 1453",null,"144/1.30z",144,50,{"$f":"ROUND($G$288*$F$288/F288,2)","v":50},"Cs",{"v":14.98,"d":"$14.98"},{"$f":"IF(OR(ISBLANK(J288),G288=0,ISBLANK(G288)),,ROUND(J288+$K$3,2))","v":{"v":14.98,"d":"$14.98"}},{"$f":"ROUND(H288*K288,2)","v":{"v":749,"d":"$749.00"}},{"$f":"ROUND(K288/F288,2)","v":{"v":0.1,"d":"$0.10"}},null," "," "," "," "," "," "]
[null,"Frozen, WGR, Each waffle provides 1 OEG per serving"," ",null," "," ",null," "," "," "," "," "," ",null," "," "," "," "," "," "]
[null," ",{"$nulls":12}," "," "," "," "," "," "]
[54,"Waffle, Dutch  WGR","J&J Snacks 4521",null,"48/2.9z",48,0,{"$f":"ROUND($G$291*$F$291/F291,2)","v":0},"Cs",{"v":19.05,"d":"$19.05"},{"$f":"IF(OR(ISBLANK(J291),G291=0,ISBLANK(G291)),,ROUND(J291+$K$3,2))","v":0},{"$f":"ROUND(H291*K291,2)","v":0},{"$f":"ROUND(K291/F291,2)","v":0},null," "," "," "," "," "," "]
[null,"Frozen, WGR, Provides 2 OEG per serving"," ",null," "," "," "," "," "," "," ","  "," ",null," "," "," "," "," "," "]
[null,null," ",null," "," ",null," "," ",null," "," "," ",null," "," "," "," "," "," "]
[55,"Waffles, IW,                                                                     WGR     ","Right Start",null,"72/2.6z",72,25,{"$f":"ROUND(G294*F294/F294,2)","v":25},"Cs",{"v":19.95,"d":"$19.95"},{"$f":"IF(OR(ISBLANK(J294),G294=0,ISBLANK(G294)),,ROUND(J294+$K$3,2))","v":{"v":19.95,"d":"$19.95"}},{"$f":"ROUND(H294*K294,2)","v":{"v":498.75,"d":"$498.75"}},{"$f":"ROUND(K294/F294,2)","v":{"v":0.28,"d":"$0.28"}},null," "," "," "," "," "," "]
[null,"Frozen, thaw and serve, Provides 2 OEG  per serving","   RS 9011-OV",{"$nulls":11}," "," "," "," "," "," "]
[null,null," ",{"$nulls":11}," "," "," "," "," "," "]
[null,null,"Pillsbury ",null,"72/2.47z",72,null,{"$f":"ROUND(G294*F294/F297,2)","v":25},"Cs",{"$nulls":5}," "," "," "," "," "," "]
[null," ","               Maple Madness  132265",{"$nulls":11}," "," "," "," "," "," "]
[56,"Wraps, Cheese, Turkey Sausage and Egg Tortilla including Wrap","Fernandos 5264 ",null,"108/2.81z",108,0,{"$f":"ROUND(G299*F299/F299,2)","v":0},"Cs",{"v":43.29,"d":"$43.29"},{"$f":"IF(OR(ISBLANK(J299),G299=0,ISBLANK(G299)),,ROUND(J299+$K$3,2))","v":0},{"$f":"ROUND(H299*K299,2)","v":0},{"$f":"ROUND(K299/F299,2)","v":0},null," "," "," "," "," "," "]
[null,"Frozen, each wrap provides 1 oz. M/MA and 1 OEG 150-250 calories","Ruiz Foods 41525",null,"50/2.50z",50,null,500,"Cs",{"$nulls":5}," "," "," "," "," "," "]
[null,"with not more than 5 sat fat and 375 mg sodium "]
[null,"Possible Allergens:  Wheat, Milk, Egg and Soy"]
[{"$nulls":8},"Page Total",null,null,{"$f":"SUMIF(L6:L302,\">0\")","v":{"v":123222,"d":"$123,222.00"}}]

{"sheet":"Shelf-stable Vegetables","index":17,"n_rows":120,"n_cols":20,"rows_kept":120,"merged":[[0,4,0,12],[1,4,1,12],[2,5,2,9]]}
[null,{"$f":"'Recap Sheet'!A2","v":"School Food Authority:"},null,null,{"$f":"'Recap Sheet'!A3","v":"Offeror Name:"},{"$nulls":9},"Commodity"]
[null,{"$f":"'Recap Sheet'!B2","v":"Colleton County School District Office of Student Nutrition"},"Return to Recap Sheet",null,{"$f":"'Recap Sheet'!B3","v":0}]
["Item","Description","Approved Brand Name / Manuf ID # ",null,null,"Firm Fixed Fee",{"$nulls":4},{"$f":"'Recap Sheet'!B4","v":{"v":0,"d":"$0.00"}},null,null,"Processing","Commodity","Pounds of",null,null,"NOI ","Net "]
["#",null,null,"Distributor","Vendor","Svgs","Est.","Bid ","Bid","Unit","Unit Price","Total ","Cost per","Fee for","Value Per","DF Needed","Commodity","NOI ","Price/","Cost Per"]
[{"$nulls":3},"Code","Pack","per unit","Bid Qty","Qty","Unit","Price","plus Fee","Price","Unit","Service","Pound","Per Case","Value ","Price","Serving","Serving"]
[null,"Shelf-stable / Canned Vegetables",{"$nulls":12},"Potatoes, Dehydrated 100506/110227"]
[1,"Beans, Green (No Imports)","Distributor Choice",null,"6/#10",6,0,{"$f":"ROUND(G7*F7/F7,2)","v":0},"Cs",{"$nulls":5}," "," "," "," "," "," "]
[null,"Sieve 3 or 4; variety Blue Lake; Style cut, no strings; ","Fillable txt box or unprotected",{"$nulls":4},{"$f":"ROUND(G7*F7/F8,2)","v":{"$error":"#DIV/0!"}},"Cs",null,{"$f":"IF(OR(ISBLANK(J8),G7=0,ISBLANK(G7)),,ROUND(J8+$K$3,2))","v":0},{"$f":"ROUND(H8*K8,2)","v":{"$error":"#DIV/0!"}},{"$f":"ROUND(K8/F8,2)","v":{"$error":"#DIV/0!"}},null," "," "," "," "," "," "]
[null,"Drained weight 63 oz.  Grade A Fancy ",{"$nulls":12}," "," "," "," "," "," "]
[2,"Beans, Lima, Green (No Imports)","Distributor Choice",null,"6/#10",6,0,{"$f":"ROUND(G10*F10/F10,2)","v":0},"Cs",{"$nulls":5}," "," "," "," "," "," "]
[null,"Grade A, minimum drained weight 71 oz ","Fillable txt box or unprotected",{"$nulls":4},{"$f":"ROUND(G10*F10/F11,2)","v":{"$error":"#DIV/0!"}},"Cs",null,{"$f":"IF(OR(ISBLANK(J11),G10=0,ISBLANK(G10)),,ROUND(J11+$K$3,2))","v":0},{"$f":"ROUND(H11*K11,2)","v":{"$error":"#DIV/0!"}},{"$f":"ROUND(K11/F11,2)","v":{"$error":"#DIV/0!"}},null," "," "," "," "," "," "]
[3,"Beans, Pintos (No Imports)","Distributor Choice",null,"6/#10",6,0,{"$f":"ROUND($G$14*$F$14/F12,2)","v":0},"Cs"]
[null,"USDA Grade A ","Fillable txt box or unprotected",{"$nulls":4},{"$f":"ROUND(G12*F12/F13,2)","v":{"$error":"#DIV/0!"}},"Cs",null,{"$f":"IF(OR(ISBLANK(J13),G12=0,ISBLANK(G12)),,ROUND(J13+$K$3,2))","v":0},{"$f":"ROUND(H13*K13,2)","v":{"$error":"#DIV/0!"}},{"$f":"ROUND(K13/F13,2)","v":{"$error":"#DIV/0!"}}]
[4,"Beans, Pinto (Southwest)","Bush's 39400-01071",null,"6/#10",138,0,{"$f":"ROUND($G$46*$F$46/F14,2)","v":365.22},"Cs",0,{"$f":"IF(OR(ISBLANK(J14),G14=0,ISBLANK(G14)),,ROUND(J14+$K$3,2))","v":0},{"$f":"ROUND(H14*K14,2)","v":0},{"$f":"ROUND(K14/F14,2)","v":0},null," "," "," "," "," "," "]
[null,"USDA Grade A 1/2 cup serving meets 2 oz. M/MA and 1/2 cup vegetable",{"$nulls":12}," "," "," "," "," "," "]
[5,"Beans, Black, Fancy  (No Imports)","Distributor Choice",null,"6/#10",6,0,{"$f":"ROUND($G$16*$F$16/F16,2)","v":0},"Cs",{"$nulls":5}," "," "," "," "," "," "]
[null,"USDA Grade A ","Fillable txt box or unprotected",{"$nulls":4},{"$f":"ROUND(G16*F16/F17,2)","v":{"$error":"#DIV/0!"}},"Cs",null,{"$f":"IF(OR(ISBLANK(J17),G16=0,ISBLANK(G16)),,ROUND(J17+$K$3,2))","v":0},{"$f":"ROUND(H17*K17,2)","v":{"$error":"#DIV/0!"}},{"$f":"ROUND(K17/F17,2)","v":{"$error":"#DIV/0!"}},null," "," "," "," "," ","  "]
[6,"Beans with Pork (No Imports)","Distributor Choice",null,"6/#10",6,0,{"$f":"ROUND(G18*F18/F18,2)","v":0},"Cs",{"$nulls":5}," "," "," "," "," "," "]
[null,"First Quality Grade A,    Small White beans, in tomato sauce pack, with pork.  ","Fillable txt box or unprotected",{"$nulls":4},{"$f":"ROUND(G18*F18/F19,2)","v":{"$error":"#DIV/0!"}},"Cs",null,{"$f":"IF(OR(ISBLANK(J19),G18=0,ISBLANK(G18)),,ROUND(J19+$K$3,2))","v":0},{"$f":"ROUND(H19*K19,2)","v":{"$error":"#DIV/0!"}},{"$f":"ROUND(K19/F19,2)","v":{"$error":"#DIV/0!"}},null," "," "," "," "," "," "]
[null,"Drained weight 85 oz.  Minimum score 90 or above;  (No Imports)",{"$nulls":12}," "," "," "," "," "," "]
[7,"Beans, Baked (No Imports)","Distributor Choice",null,"6/#10",6,150,{"$f":"ROUND(G21*F21/F21,2)","v":150},"Cs",{"$nulls":5}," "," "," "," "," "," "]
[null,"Dry mature beans,  baked in brown sugar, molasses","Fillable txt box or unprotected",{"$nulls":4},{"$f":"ROUND(G21*F21/F22,2)","v":{"$error":"#DIV/0!"}},"Cs",null,{"$f":"IF(OR(ISBLANK(J22),G21=0,ISBLANK(G21)),,ROUND(J22+$K$3,2))","v":0},{"$f":"ROUND(H22*K22,2)","v":{"$error":"#DIV/0!"}},{"$f":"ROUND(K22/F22,2)","v":{"$error":"#DIV/0!"}},null," "," "," "," "," "," "]
[null,"or New England sauce. (No soy beans.)  Min.score 90 or above; Grade A",{"$nulls":12}," "," "," "," "," "," "]
[8,"Vegetarian Beans, Small White beans, in tomato sauce pack. ","Distributor Choice",null,"6/#10",6,0,{"$f":"ROUND($G$24*$F$24/F24,2)","v":0},"Cs",{"$nulls":5}," "," "," "," "," "," "]
[null,"(No Imports) Drained weight 85 oz.  Minimum score 90 or above; Grade A","Fillable txt box or unprotected",{"$nulls":4},{"$f":"ROUND(G24*F24/F25,2)","v":{"$error":"#DIV/0!"}},"Cs",null,{"$f":"IF(OR(ISBLANK(J25),G24=0,ISBLANK(G24)),,ROUND(J25+$K$3,2))","v":0},{"$f":"ROUND(H25*K25,2)","v":{"$error":"#DIV/0!"}},{"$f":"ROUND(K25/F25,2)","v":{"$error":"#DIV/0!"}},null," "," "," "," "," "," "]
[9,"Bean, Kidney, Light (No Imports)","Distributor Choice",null,"6/#10",6,0,{"$f":"ROUND($G$26*$F$26/F26,2)","v":0},"Cs",{"$nulls":5}," "," "," "," "," "," "]
[null,null,"Fillable txt box or unprotected",{"$nulls":4},{"$f":"ROUND(G26*F26/F27,2)","v":{"$error":"#DIV/0!"}},"Cs",null,{"$f":"IF(OR(ISBLANK(J27),G26=0,ISBLANK(G26)),,ROUND(J27+$K$3,2))","v":0},{"$f":"ROUND(H27*K27,2)","v":{"$error":"#DIV/0!"}},{"$f":"ROUND(K27/F27,2)","v":{"$error":"#DIV/0!"}},null," "," "," "," "," "," "]
[10,"Carrots, Sliced (No Imports)","Distributor Choice",null,"6/#10",6,0,{"$f":"ROUND($G$28*$F$28/F28,2)","v":0},"Cs",{"$nulls":5}," "," "," "," "," "," "]
[null,"Medium Fancy, 3/15-5/16 inch cut ","Fillable txt box or unprotected",{"$nulls":4},{"$f":"ROUND(G28*F28/F29,2)","v":{"$error":"#DIV/0!"}},"Cs",null,{"$f":"IF(OR(ISBLANK(J29),G28=0,ISBLANK(G28)),,ROUND(J29+$K$3,2))","v":0},{"$f":"ROUND(H29*K29,2)","v":{"$error":"#DIV/0!"}},{"$f":"ROUND(K29/F29,2)","v":{"$error":"#DIV/0!"}},null," "," "," "," "," "," "]
[11,"Corn, Whole Kernel (No Imports)","Distributor Choice",null,"6/#10",6,0,{"$f":"ROUND(G30*F30/F30,2)","v":0},"Cs",{"$nulls":5}," "," "," "," "," "," "]
[null,"Golden; drained net weight per #10 can 72 oz.  Grade A, Fancy","Fillable txt box or unprotected",{"$nulls":4},{"$f":"ROUND(G30*F30/F31,2)","v":{"$error":"#DIV/0!"}},"Cs",null,{"$f":"IF(OR(ISBLANK(J31),G30=0,ISBLANK(G30)),,ROUND(J31+$K$3,2))","v":0},{"$f":"ROUND(H31*K31,2)","v":{"$error":"#DIV/0!"}},{"$f":"ROUND(K31/F31,2)","v":{"$error":"#DIV/0!"}},null," "," "," "," "," "," "]
[null,"Minimum score 90; must be packed in enamel lined tins ",{"$nulls":12}," "," "," "," "," "," "]
[12,"Mixed Vegetables (No Imports)","Distributor Choice",null,"6/#10 ",6,0,{"$f":"ROUND(G33*F33/F33,2)","v":0},"Cs",{"$nulls":5}," "," "," "," "," "," "]
[null,"US Grade A Fancy, Mix to inc. carrots, pots, celery, peas,corn,& lima beans","Fillable txt box or unprotected",{"$nulls":4},{"$f":"ROUND(G33*F33/F34,2)","v":{"$error":"#DIV/0!"}},"Cs",null,{"$f":"IF(OR(ISBLANK(J34),G33=0,ISBLANK(G33)),,ROUND(J34+$K$3,2))","v":0},{"$f":"ROUND(H34*K34,2)","v":{"$error":"#DIV/0!"}},{"$f":"ROUND(K34/F34,2)","v":{"$error":"#DIV/0!"}},null," "," "," "," "," "," "]
[13,"Onions, Chopped, Dehydrated (No Imports)","Distributor Choice",null,"6/2Lb",12,0,{"$f":"ROUND(G35*F35/F35,2)","v":0},"Cs",{"$nulls":5}," "," "," "," "," "," "]
[null,"White.  Yield 1# dehydrated equals 5# fresh.  US Grade A   ","Fillable txt box or unprotected",{"$nulls":4},{"$f":"ROUND(G35*F35/F36,2)","v":{"$error":"#DIV/0!"}},"Cs",null,{"$f":"IF(OR(ISBLANK(J36),G35=0,ISBLANK(G35)),,ROUND(J36+$K$3,2))","v":0},{"$f":"ROUND(H36*K36,2)","v":{"$error":"#DIV/0!"}},{"$f":"ROUND(K36/F36,2)","v":{"$error":"#DIV/0!"}},null," "," "," "," "," "," "]
[14,"Peas and Carrots (No Imports)","Distributor Choice",null,"6/#10",6,0,{"$f":"ROUND(G37*F37/F37,2)","v":0},"Cs",{"$nulls":5}," "," "," "," "," "," "]
[null,"June peas and diced carrots.  Carrots equal to Grade A, Fancy, Peas Grade 5  ","Fillable txt box or unprotected",{"$nulls":4},{"$f":"ROUND(G37*F37/F38,2)","v":{"$error":"#DIV/0!"}},"Cs",null,{"$f":"IF(OR(ISBLANK(J38),G37=0,ISBLANK(G37)),,ROUND(J38+$K$3,2))","v":0},{"$f":"ROUND(H38*K38,2)","v":{"$error":"#DIV/0!"}},{"$f":"ROUND(K38/F38,2)","v":{"$error":"#DIV/0!"}},null," "," "," "," "," "," "]
[15,"Peas, Black-eyed (No Imports) ","Distributor Choice",null,"6/#10",6,0,{"$f":"ROUND(G39*F39/F39,2)","v":0},"Cs",{"$nulls":5}," "," "," "," "," "," "]
[null,"Grade A, Fancy.  Green, fresh peas, 3 sieve.  Minimum drained weight 72 oz ","Fillable txt box or unprotected",{"$nulls":3},0,{"$f":"ROUND(G39*F39/F40,2)","v":{"$error":"#DIV/0!"}},"Cs",null,{"$f":"IF(OR(ISBLANK(J40),G39=0,ISBLANK(G39)),,ROUND(J40+$K$3,2))","v":0},{"$f":"ROUND(H40*K40,2)","v":{"$error":"#DIV/0!"}},{"$f":"ROUND(K40/F40,2)","v":{"$error":"#DIV/0!"}},null," "," "," "," "," "," "]
[16,"Peas, Field (No Imports)","Distributor Choice",null,"6/#10",6,0,{"$f":"ROUND(G41*F41/F41,2)","v":0},"Cs",{"$nulls":5}," "," "," "," "," "," "]
[null,"Grade A, Fancy.  May include snaps.  Minimum drained weight 73 oz.  ","Fillable txt box or unprotected",{"$nulls":3}," ",{"$f":"ROUND(G41*F41/F42,2)","v":{"$error":"#DIV/0!"}},"Cs",null,{"$f":"IF(OR(ISBLANK(J42),G41=0,ISBLANK(G41)),,ROUND(J42+$K$3,2))","v":0},{"$f":"ROUND(H42*K42,2)","v":{"$error":"#DIV/0!"}},{"$f":"ROUND(K42/F42,2)","v":{"$error":"#DIV/0!"}},null," "," "," "," "," "," "]
[17,"Peas, Green (No Imports) ","Distributor Choice",null,"6/#10",6,0,{"$f":"ROUND(G43*F43/F43,2)","v":0},"Cs",{"$nulls":5}," "," "," "," "," "," "]
[null,"Grade A, Fancy.  Sieve No. 3 or smaller either sweet or","Fillable txt box or unprotected",{"$nulls":4},{"$f":"ROUND(G43*F43/F44,2)","v":{"$error":"#DIV/0!"}},"Cs",null,{"$f":"IF(OR(ISBLANK(J44),G43=0,ISBLANK(G43)),,ROUND(J44+$K$3,2))","v":0},{"$f":"ROUND(H44*K44,2)","v":{"$error":"#DIV/0!"}},{"$f":"ROUND(K44/F44,2)","v":{"$error":"#DIV/0!"}},null," "," "," "," "," "," "]
[null,"early variety.  Score 90 or higher.  Minimum drained weight 72 oz  ",{"$nulls":12}," "," "," "," "," "," "]
[18,"Potatoes, Mashed, Complete","Basic American 76468",null,"12/28z",504,100,{"$f":"ROUND($G$46*$F$46/F46,2)","v":100},"Cs",{"v":43.87,"d":"$43.87"},{"$f":"IF(OR(ISBLANK(J46),G46=0,ISBLANK(G46)),,ROUND(J46+$K$3,2))","v":{"v":43.87,"d":"$43.87"}},{"$f":"ROUND(H46*K46,2)","v":{"v":4387,"d":"$4,387.00"}},{"$f":"ROUND(K46/F46,2)","v":{"v":0.09,"d":"$0.09"}},null,{"v":0.0915,"d":"$0.0915"},105,{"$f":"ROUND(O46*P46,2)","v":{"v":9.61,"d":"$9.61"}},{"$f":"K46-Q46","v":{"v":34.26,"d":"$34.26"}},{"$f":"R46/F46","v":{"v":0.06797619047619047,"d":"$0.07"}},{"$f":"N46/F46","v":0}]
[null,"Shelf stable, add water only, mix, rest, and serve preparation, Fully ","Excel Potato Pearls"]
[null,"seasoned, No soy, No imports, Serving size 1/2 c prepared"," ",{"$nulls":11}," "," "," "," "," "," "]
[null,"Possible Allergens:  Milk, Sulfites",{"$nulls":12}," "," "," "," "," "," "]
[19,"Potatoes, Mashed, Complete","Idahoan 2970000313",null,"12/26z",480,0,{"$f":"ROUND(G50*F50/F50,2)","v":0},"Cs",{"v":39.78,"d":"$39.78"},{"$f":"IF(OR(ISBLANK(J50),G50=0,ISBLANK(G50)),,ROUND(J50+$K$3,2))","v":0},{"$f":"ROUND(H50*K50,2)","v":0},{"$f":"ROUND(K50/F50,2)","v":0},null,{"v":0.0915,"d":"$0.0915"},97.5,{"$f":"ROUND(O50*P50,2)","v":{"v":8.92,"d":"$8.92"}},{"$f":"J50-Q50","v":{"v":30.86,"d":"$30.86"}},{"$f":"R50/F50","v":{"v":0.06429166666666666,"d":"$0.06"}},0]
[null,"Shelf Stable, Add  water only, mix, rest, and serve preparation Fully "]
[null,"seasoned, No imports, Serving size 1/2 c ÷ 1 teaspoon prepared ",{"$nulls":12}," "," "," "," "," "," "]
[null,"Possible Allergens:  Milk, Sulfites",{"$nulls":12}," "," "," "," "," "," "]
[20,"Potatoes, White Diced (No Imports)","Distributor Choice",null,"6/#10",6,0,{"$f":"ROUND(G54*F54/F54,2)","v":0},"Cs",{"$nulls":5}," "," "," "," "," "," "]
[null,"Grade A, Fancy, First Quality.  White Irish Pack: 6/#10 ","Fillable txt box or unprotected",{"$nulls":4},{"$f":"ROUND(G54*F54/F55,2)","v":{"$error":"#DIV/0!"}},"Cs",null,{"$f":"IF(OR(ISBLANK(J55),G54=0,ISBLANK(G54)),,ROUND(J55+$K$3,2))","v":0},{"$f":"ROUND(H55*K55,2)","v":{"$error":"#DIV/0!"}},{"$f":"ROUND(K55/F55,2)","v":{"$error":"#DIV/0!"}},null," "," "," "," "," "," "]
[21,"Potatoes, White, Whole (No Imports)","Distributor Choice",null,"6/#10",6,0,{"$f":"ROUND(G56*F56/F56,2)","v":0},"Cs",{"$nulls":5}," "," "," "," "," "," "]
[null,"Small whole size 2.  100 count per #10 can. First Quality (No Imports)","Fillable txt box or unprotected",{"$nulls":4},{"$f":"ROUND(G56*F56/F57,2)","v":{"$error":"#DIV/0!"}},"Cs",null,{"$f":"IF(OR(ISBLANK(J57),G56=0,ISBLANK(G56)),,ROUND(J57+$K$3,2))","v":0},{"$f":"ROUND(H57*K57,2)","v":{"$error":"#DIV/0!"}},{"$f":"ROUND(K57/F57,2)","v":{"$error":"#DIV/0!"}},{"$nulls":6}," "]
[{"$nulls":14},"Tomato Paste for Bulk Processing 100332"]
[22,"Salsa, Mild, Thick and Chunky, Nutritionally Enhanced","Red Gold 72940-11005",null,"6/#10",210,0,{"$f":"ROUND(G59*F59/F59,2)","v":0},"Cs",{"v":25.9,"d":"$25.90"},{"$f":"IF(OR(ISBLANK(J59),G59=0,ISBLANK(G59)),,ROUND(J59+$K$3,2))","v":0},{"$f":"ROUND(H59*K59,2)","v":0},{"$f":"ROUND(K59/F59,2)","v":0},{"v":23.47,"d":"$23.47"},{"v":0.4125,"d":"$0.4125"},5.9,{"$f":"ROUND(O59*P59,2)","v":{"v":2.43,"d":"$2.43"}},{"$f":"J59-Q59","v":{"v":23.47,"d":"$23.47"}},{"$f":"R59/F59","v":{"v":0.11176190476190476,"d":"$0.11"}},{"v":0.11176190476190476,"d":"$0.11"}]
[null,"Canned, Grade A 3 oz. = 1/2 c Red/Orange Vegetable","Commodity #: REDSC99",null," "," ",null," "," ",{"$nulls":5}," "," "," "," "," "," "]
[23,"Salsa, Mild, Dipping Cup","Red Gold 72940-11139-5 Comm#: REDSC2ZC84",null,"84/3.0z",84,125,{"$f":"ROUND(G61*F61/F61,2)","v":125},"Cs",{"v":27.21,"d":"$27.21"},{"$f":"IF(OR(ISBLANK(J61),G61=0,ISBLANK(G61)),,ROUND(J61+$K$3,2))","v":{"v":27.21,"d":"$27.21"}},{"$f":"ROUND(H61*K61,2)","v":{"v":3401.25,"d":"$3,401.25"}},{"$f":"ROUND(K61/F61,2)","v":{"v":0.32,"d":"$0.32"}},{"v":26.24,"d":"$26.24"},{"v":0.4125,"d":"$0.4125"},2.36,{"$f":"ROUND(O61*P61,2)","v":{"v":0.97,"d":"$0.97"}},{"$f":"J61-Q61","v":{"v":26.240000000000002,"d":"$26.24"}},{"$f":"R61/F61","v":{"v":0.3123809523809524,"d":"$0.31"}},{"$f":"N61/F61","v":{"v":0.31238095238095237,"d":"$0.31"}}]
[null,"Canned Grade A 3 oz. serving = 1/2 c Red/Orange Vegetable","Red Gold 72940-11139-7 Comm#: REDSC2Z168",null,"168/3.0z",168," ",{"$f":"ROUND(G61*F61/F62,2)","v":62.5},"Cs",{"v":52.7,"d":"$52.70"},{"$f":"IF(OR(ISBLANK(J62),G62=0,ISBLANK(G62)),,ROUND(J62+$K$3,2))","v":{"v":52.7,"d":"$52.70"}},{"$f":"ROUND(H62*K62,2)","v":{"v":3293.75,"d":"$3,293.75"}},{"$f":"ROUND(K62/F62,2)","v":{"v":0.31,"d":"$0.31"}},{"v":50.75,"d":"$50.75"},{"v":0.4125,"d":"$0.4125"},4.72,{"$f":"ROUND(O62*P62,2)","v":{"v":1.95,"d":"$1.95"}},{"$f":"J62-Q62","v":{"v":50.75,"d":"$50.75"}},{"$f":"R62/F62","v":{"v":0.3020833333333333,"d":"$0.30"}},{"$f":"N62/F62","v":{"v":0.3020833333333333,"d":"$0.30"}}]
[24,"Squash, Sliced (No Imports)","Distributor Choice",null,"6/#10",6,0,{"$f":"ROUND(G63*F63/F63,2)","v":0},"Cs",{"$nulls":5}," "," "," "," "," "," "]
[null,"Grade A, Minimum drained weight 61 oz ","Fillable txt box or unprotected",{"$nulls":4},{"$f":"ROUND(G63*F63/F64,2)","v":{"$error":"#DIV/0!"}},"Cs",null,{"$f":"IF(OR(ISBLANK(J64),G63=0,ISBLANK(G63)),,ROUND(J64+$K$3,2))","v":0},{"$f":"ROUND(H64*K64,2)","v":{"$error":"#DIV/0!"}},{"$f":"ROUND(K64/F64,2)","v":{"$error":"#DIV/0!"}},{"$nulls":6}," "]
[25,"Sweet Potatoes, Cut (No Imports) ","Distributor Choice",null,"6/#10",6,0,{"$f":"ROUND(G65*F65/F65,2)","v":0},"Cs",{"$nulls":5}," "," "," "," "," "," "]
[null,"Grade A, Fancy.  Packed in syrup.  Minimum drained weight 73 oz.  First Quality","Fillable txt box or unprotected",{"$nulls":4},{"$f":"ROUND(G65*F65/F66,2)","v":{"$error":"#DIV/0!"}},"Cs",null,{"$f":"IF(OR(ISBLANK(J66),G65=0,ISBLANK(G65)),,ROUND(J66+$K$3,2))","v":0},{"$f":"ROUND(H66*K66,2)","v":{"$error":"#DIV/0!"}},{"$f":"ROUND(K66/F66,2)","v":{"$error":"#DIV/0!"}},{"$nulls":6}," "]
[26,"Tomatoes, Crushed","Red Gold 72940-81400 Comm#:RPKDX99",null,"6/#10",286,0,{"$f":"ROUND(G67*F67/F67,2)","v":0},"Cs",{"v":19.73,"d":"$19.73"},{"$f":"IF(OR(ISBLANK(J67),G67=0,ISBLANK(G67)),,ROUND(J67+$K$3,2))","v":0},{"$f":"ROUND(K67*H67,2)","v":0},{"$f":"ROUND(K67/F67,2)","v":0},{"v":12.67,"d":"$12.67"},{"v":0.4125,"d":"$0.4125"},17.41,{"$f":"ROUND(O67*P67,2)","v":{"v":7.18,"d":"$7.18"}},{"$f":"J67-Q67","v":{"v":12.55,"d":"$12.55"}},{"$f":"R67/F67","v":{"v":0.04388111888111888,"d":"$0.04"}},{"$f":"N67/F67","v":{"v":0.0443006993006993,"d":"$0.04"}}]
[null,"Grade B, Extra Standard, Packed in tomato juice.  Drained weight 64 oz.  "," ",null," "," ",null," "," "," "," "," "," "," ",{"$nulls":5}," "]
[null,"2 oz. = 1/2 cup Red/Orange Vegetable"," ",null," ",{"$nulls":14}," "]
[27,"Tomato Paste","Red Gold 72940-82300 Comm#: RPKUA99",null,"6/#10",666,0,{"$f":"ROUND(G70*F70/F70,2)","v":0},"Cs",{"v":28.37,"d":"$28.37"},{"$f":"IF(OR(ISBLANK(J70),G70=0,ISBLANK(G70)),,ROUND(J70+$K$3,2))","v":0},{"$f":"ROUND(K70*H70,2)","v":0},{"$f":"ROUND(K70/F70,2)","v":0},{"v":15.6,"d":"$15.60"},{"v":0.4125,"d":"$0.4125"},30.97,{"$f":"ROUND(O70*P70,2)","v":{"v":12.78,"d":"$12.78"}},{"$f":"J70-Q70","v":{"v":15.590000000000002,"d":"$15.59"}},{"$f":"R70/F70","v":{"v":0.02340840840840841,"d":"$0.02"}},{"$f":"N70/F70","v":{"v":0.023423423423423424,"d":"$0.02"}}]
[null,"Minimum 24% solids, Grade A.  1 oz. = 1/2 c Red/Orange Vegetable  ","Hunt's 27000-38835",null,"6/111z",564,null,{"$f":"ROUND($G$70*$F$70/F71,2)","v":0},"Cs",{"$nulls":5}," ",null," "," "," ",0]
[null," ","Heinz 130005731000",null,"6/#10",555,null,{"$f":"ROUND($G$70*$F$70/F72,2)","v":0},"Cs"," "," ","  "," ",null,{"v":0.4105,"d":"$0.4105"},32.11,{"$f":"ROUND(O72*P72,2)","v":{"v":13.18,"d":"$13.18"}},{"$f":"K72-Q72","v":{"$error":"#VALUE!"}},{"$f":"R72/F72","v":{"$error":"#VALUE!"}},0]
[28,"Tomato Sauce","Red Gold 72940-81800 Comm#: RPKHA99",null,"6/#10",265,0,{"$f":"ROUND(G73*F73/F73,2)","v":0},"Cs",{"$nulls":5},{"v":0.4125,"d":"$0.4125"},9.72,{"$f":"ROUND(O73*P73,2)","v":{"v":4.01,"d":"$4.01"}}," "," "," "]
[null,"US Grade A.  Canned, 3 oz. = 1/2 c Red/Orange Vegetable","Heinz 130005724000",null,"6/#10",295,null,{"$f":"ROUND(G73*F73/F74,2)","v":0},"Cs",{"v":19.88,"d":"$19.88"},{"$f":"IF(OR(ISBLANK(J74),G73=0,ISBLANK(G73)),,ROUND(J74+$K$3,2))","v":0},{"$f":"ROUND(K74*H74,2)","v":0},{"$f":"ROUND(K74/F74,2)","v":0},null,{"v":0.4105,"d":"$0.4105"},9.57,{"v":3.93,"d":"$3.93"},{"$f":"J74-Q74","v":{"v":15.95,"d":"$15.95"}},{"$f":"R74/F74","v":{"v":0.054067796610169486,"d":"$0.05"}},{"$f":"N74/F74","v":0}]
[{"$nulls":19}," "]
[29,"Catsup, Tomato, Portion Control","Red Gold 72940-11581 Comm#: REDY59G",null,"1000/9gm",1000,200,{"$f":"ROUND(G76*F76/F76,2)","v":200},"Cs",{"$nulls":5},{"v":0.4125,"d":"$0.4125"},4.21,{"$f":"ROUND(O76*P76,2)","v":{"v":1.74,"d":"$1.74"}}," "," ",{"$f":"N76/F76","v":0}]
[null,"33% solids, Grade A 9 gm foil packets","Hunts 27000-38287",null,"1000/9gm",1000,null,{"$f":"ROUND(G76*F76/F77,2)","v":200},"Cs",{"$nulls":4}," ",null," "," "," ",{"$f":"M77/E77","v":{"$error":"#VALUE!"}},{"$error":"#VALUE!"}]
[null," ","Heinz 130009848000",null,"1000/9gm",1000,null,{"$f":"ROUND(G76*F76/F78,2)","v":200},"Cs",{"v":11.33,"d":"$11.33"},{"$f":"IF(OR(ISBLANK(J78),G76=0,ISBLANK(G76)),,ROUND(J78+$K$3,2))","v":{"v":11.33,"d":"$11.33"}},{"$f":"ROUND(K78*H78,2)","v":{"v":2266,"d":"$2,266.00"}},{"$f":"ROUND(K78/F78,2)","v":{"v":0.01,"d":"$0.01"}},null,{"v":0.4125,"d":"$0.4125"},4.32,{"$f":"ROUND(O78*P78,2)","v":{"v":1.78,"d":"$1.78"}},{"$f":"J78-Q78","v":{"v":9.55,"d":"$9.55"}},{"$f":"R78/F78","v":{"v":0.009550000000000001,"d":"$0.01"}},0]
[{"$nulls":19}," "]
[30,"Catsup, 100% Natural made w/sugar, low sodium, PC","Red Gold 72940-11584 Comm#: REDYL9G",null,"1000/9gm",1000,0,{"$f":"ROUND(G80*F80/F80,2)","v":0},"Cs",{"v":14.36,"d":"$14.36"},{"$f":"IF(OR(ISBLANK(J80),G80=0,ISBLANK(G80)),,ROUND(J80+$K$3,2))","v":0},{"$f":"ROUND(K80*H80,2)","v":0},{"$f":"ROUND(K80/F80,2)","v":0},{"v":12.38,"d":"$12.38"},{"v":0.4125,"d":"$0.4125"},4.81,{"$f":"ROUND(O80*P80,2)","v":{"v":1.98,"d":"$1.98"}},{"$f":"J80-Q80","v":{"v":12.379999999999999,"d":"$12.38"}},{"$f":"R80/F80","v":{"v":0.012379999999999999,"d":"$0.01"}},{"$f":"N80/F80","v":{"v":0.01238,"d":"$0.01"}}]
[null,"US Grade A, 9 gm foil packets"," ",null," "," ",null," "," "," "," "," "," ",null," "," "," "," "," "," "]
[{"$nulls":19}," "]
[31,"Catsup, Tomato","Red Gold 72940-11002 Comm#: REDY599",null,"6/#10",1151,0,{"$f":"ROUND(G83*F83/F83,2)","v":0},"Cs"," "," ","  "," ",{"$nulls":6}," "]
[null,"Canned, Grade A, Fancy, 33% solid","Hunt's 27000-38251",null,"6/114z",1140,null,{"$f":"ROUND(G83*F83/F84,2)","v":0},"Cs"]
[null,null,"Kraft/Heinz 130005129000",null,"6#10",1140,null,{"$f":"ROUND(G83*F83/F85,2)","v":0},"Cs",{"v":18.03,"d":"$18.03"},{"$f":"IF(OR(ISBLANK(J85),G83=0,ISBLANK(G83)),,ROUND(J85+$K$3,2))","v":0},{"$f":"ROUND(K85*H85,2)","v":0},{"$f":"ROUND(K85/F85,2)","v":0},null,{"v":0.4125,"d":"$0.4125"},9.3,{"$f":"ROUND(O85*P85,2)","v":{"v":3.84,"d":"$3.84"}},{"$f":"J85-Q85","v":{"v":14.190000000000001,"d":"$14.19"}},{"$f":"R85/F85","v":{"v":0.012447368421052632,"d":"$0.01"}},{"$f":"N85/F85","v":0}]
[null," ",{"$nulls":17}," "]
[32,"Catsup, Tomato","Kraft/Heinz 13000030800",null,"500/27g",500,0,{"$f":"ROUND(G87*F87/F87,2)","v":0},"Cs",{"v":32.5,"d":"$32.50"},{"$f":"IF(OR(ISBLANK(J87),G87=0,ISBLANK(G87)),,ROUND(J87+$K$3,2))","v":0},{"$f":"ROUND(K87*H87,2)","v":0},{"$f":"ROUND(K87/F87,2)","v":0},null,{"v":0.4125,"d":"$0.4125"},6.47,{"$f":"ROUND(O87*P87,2)","v":{"v":2.67,"d":"$2.67"}},{"$f":"J87-Q87","v":{"v":29.83,"d":"$29.83"}},{"$f":"R87/F87","v":{"v":0.05966,"d":"$0.06"}},{"$f":"N87/F87","v":0}]
[null,"Grade A Fancy, Single serving cups"]
[null," "," ",null," "," ",null," "," "," "," "," "," ",null," "," ","  "," "," "," "]
[null," ",{"$nulls":17}," "]
[33,"Sauce, Marinara","Red Gold 72940-82200 Comm#: RPKNA99",null,"6/#10",225,100,{"$f":"ROUND(G91*F91/F91,2)","v":100},"Cs",{"v":26.15,"d":"$26.15"},{"$f":"IF(OR(ISBLANK(J91),G91=0,ISBLANK(G91)),,ROUND(J91+$K$3,2))","v":{"v":26.15,"d":"$26.15"}},{"$f":"ROUND(K91*H91,2)","v":{"v":2615,"d":"$2,615.00"}},{"$f":"ROUND(K91/F91,2)","v":{"v":0.12,"d":"$0.12"}},{"v":23.05,"d":"$23.05"},{"v":0.4125,"d":"$0.4125"},7.52,{"$f":"ROUND(O91*P91,2)","v":{"v":3.1,"d":"$3.10"}},{"$f":"J91-Q91","v":{"v":23.049999999999997,"d":"$23.05"}},{"$f":"R91/F91","v":{"v":0.10244444444444444,"d":"$0.10"}},{"$f":"N91/F91","v":{"v":0.10244444444444445,"d":"$0.10"}}]
[null,"Canned, Grade ! Fancy,  2.8 oz = 1/2 c Red/Orange Vegetable"," ",null," "," ",null," "," "," "," "," "," ",null," "," ","  "," "," "," "]
[null," ",{"$nulls":17}," "]
[34,"Sauce, Marinara, Portion Control","Red Gold 72940-82207-9 Comm#: REDNA2ZC84",null,"84/2.5z",84,50,{"$f":"ROUND(G94*F94/F94,2)","v":50},"Cs",{"v":21.46,"d":"$21.46"},{"$f":"IF(OR(ISBLANK(J94),G94=0,ISBLANK(G94)),,ROUND(J94+$K$3,2))","v":{"v":21.46,"d":"$21.46"}},{"$f":"ROUND(K94*H94,2)","v":{"v":1073,"d":"$1,073.00"}},{"$f":"ROUND(K94/F94,2)","v":{"v":0.26,"d":"$0.26"}},{"v":19.95,"d":"$19.95"},{"v":0.4125,"d":"$0.4125"},3.67,{"$f":"ROUND(O94*P94,2)","v":{"v":1.51,"d":"$1.51"}},{"$f":"J94-Q94","v":{"v":19.95,"d":"$19.95"}},{"$f":"R94/F94","v":{"v":0.2375,"d":"$0.24"}},{"$f":"N94/F94","v":{"v":0.2375,"d":"$0.24"}}]
[null,"Shelf Stable, US Grade A, Ready to serve","Red Gold 72940-82207-3 Comm#: REDNA2ZC168",null,"168/2,5z",168," ",{"$f":"ROUND(G94*F94/F94,2)","v":50},"Cs",{"v":41.35,"d":"$41.35"},{"$f":"IF(OR(ISBLANK(J95),G93=0,ISBLANK(G93)),,ROUND(J95+$K$3,2))","v":0},{"$f":"ROUND(K95*H95,2)","v":0},{"$f":"ROUND(K95/F95,2)","v":0},{"v":38.33,"d":"$38.33"},{"v":0.4125,"d":"$0.4125"},7.33,{"$f":"ROUND(O95*P95,2)","v":{"v":3.02,"d":"$3.02"}},{"$f":"J95-Q95","v":{"v":38.33,"d":"$38.33"}},{"$f":"R95/F95","v":{"v":0.2281547619047619,"d":"$0.23"}},{"$f":"N95/F95","v":{"v":0.2281547619047619,"d":"$0.23"}}]
[null,"2 oz. = 1/2 cup Red/Orange Vegetable",{"$nulls":17}," "]
[35,"Sauce, Spaghetti Smooth","Red Gold 72940-82100 Comm#: RPKMA9C",null,"6/#10",265,0,{"$f":"ROUND(G97*F97/F97,2)","v":0},"Cs",{"v":23.05,"d":"$23.05"},{"$f":"IF(OR(ISBLANK(J97),G97=0,ISBLANK(G97)),,ROUND(J97+$K$3,2))","v":0},{"$f":"ROUND(H97*K97,2)","v":0},{"$f":"ROUND(K97/F97,2)","v":0},{"v":18.65,"d":"$18.65"},{"v":0.4125,"d":"$0.4125"},10.67,{"$f":"ROUND(O97*P97,2)","v":{"v":4.4,"d":"$4.40"}},{"$f":"J97-Q97","v":{"v":18.65,"d":"$18.65"}},{"$f":"R97/F97","v":{"v":0.07037735849056603,"d":"$0.07"}},{"$f":"N97/F97","v":{"v":0.07037735849056603,"d":"$0.07"}}]
[null,"Canned, US Grade A, Crediting statement with amount to provide 1/2c ","Heinz 130005880000",null,"6/#10",141,null,{"$f":"ROUND(G97*F97/F98,2)","v":0},"Cs",{"$nulls":5},{"v":0.4105,"d":"$0.4105"},11.9,{"v":4.88,"d":"$4.88"}," "," ",{"$f":"N98/F98","v":0}]
[null,"Red/Orange Vegetable",null,null," "," ",null," "," "," "," "," "," ",{"$nulls":6}," "]
[36,"Sauce, Spaghetti, Nutritionally Balanced","Red Gold 72940-82107 Comm#: RPKMA9E",null,"6/#10",265,0,{"$f":"ROUND(G100*F100/F100,2)","v":0},"Cs",{"v":24.53,"d":"$24.53"},{"$f":"IF(OR(ISBLANK(J100),G100=0,ISBLANK(G100)),,ROUND(J100+$K$3,2))","v":0},{"$f":"ROUND(H100*K100,2)","v":0},{"$f":"ROUND(K100/F100,2)","v":0},{"v":20.09,"d":"$20.09"},{"v":0.4125,"d":"$0.4125"},10.32,{"$f":"ROUND(O100*P100,2)","v":{"v":4.26,"d":"$4.26"}},{"$f":"J100-Q100","v":{"v":20.270000000000003,"d":"$20.27"}},{"$f":"R100/F100","v":{"v":0.07649056603773587,"d":"$0.08"}},{"v":0.07581132075471698,"d":"$0.08"}]
[null,"Canned, US Grade A, 3 oz. = 1/2 c Red/Orange Vegetable","Heinz 130005880000",null,"6/#10",141,null,{"$f":"ROUND(G100*F100/F101,2)","v":0},"Cs",{"$nulls":5},{"v":0.4105,"d":"$0.4105"},11.9,{"v":4.88,"d":"$4.88"}," "," "," "]
[null," "," ",null," "," ",null," "," "," "," "," "," ",{"$nulls":6}," "]
[37,"Ketchup, Sriracha, Hot Chili","Red Gold 72940-11204 Comm#: HUYYW8G",null,"1000/8gm",1000,0,{"$f":"ROUND($G$103*$F$103/F103,2)","v":0},"Cs",{"v":21.27,"d":"$21.27"},{"$f":"IF(OR(ISBLANK(J103),G103=0,ISBLANK(G103)),,ROUND(J103+$K$3,2))","v":0},{"$f":"ROUND(H103*K103,2)","v":0},{"$f":"ROUND(K103/F103,2)","v":0},{"v":19.67,"d":"$19.67"},{"v":0.4125,"d":"$0.4125"},3.89,{"$f":"ROUND(O103*P103,2)","v":{"v":1.6,"d":"$1.60"}},{"$f":"J103-Q103","v":{"v":19.669999999999998,"d":"$19.67"}},{"$f":"R103/F103","v":{"v":0.019669999999999997,"d":"$0.02"}},{"$f":"N103/F103","v":{"v":0.01967,"d":"$0.02"}}]
[null,"8 gram foil packages"," ",null," "," ",null," "," "," "," "," "," ",null," "," "," "," "," "," "]
[]
[38,"Sauce, Barbecue, 12 gram","Heinz/Kraft 130005338000",null,"200/12 gm",200,50,{"$f":"ROUND($G$106*$F$106/F106,2)","v":50},"Cs"," "," ","  "," ",null,{"v":0.4105,"d":"$0.4105"},1.01,{"$f":"ROUND(O106*P106,2)","v":{"v":0.41,"d":"$0.41"}},{"v":5.5,"d":"$5.50"},{"$f":"R106/F106","v":{"v":0.0275,"d":"$0.03"}},{"$f":"N106/F106","v":0}]
[null,"Shelf Stable, 12 grams per packet","PPI 7160372781000",null,"200/12 gm",200,null,{"$f":"ROUND($G$106*$F$106/F107,2)","v":50},"Cs",{"v":4.45,"d":"$4.45"},{"$f":"IF(OR(ISBLANK(J106),G106=0,ISBLANK(G106)),,ROUND(J107+$K$3,2))","v":{"v":4.45,"d":"$4.45"}},{"$f":"ROUND(H107*K107,2)","v":{"v":222.5,"d":"$222.50"}},{"$f":"ROUND(K107/F107,2)","v":{"v":0.02,"d":"$0.02"}}," ",null," "," "," ",{"$f":"M107/E107","v":{"$error":"#VALUE!"}},{"$error":"#VALUE!"}]
[null," ","CF Sauer 06858",null,"200/12 gm",200,null,{"$f":"ROUND($G$106*$F$106/F108,2)","v":50},"Cs",{"$nulls":4}," ",null," "," "," ",{"$error":"#VALUE!"},{"$error":"#VALUE!"}]
[null,"Allergens:  Wheat, Soy","Diamond/Flavor Fresh 76009",null,"200/12 gm",200,null,{"$f":"ROUND($G$106*$F$106/F109,2)","v":50},"Cs",{"$nulls":4}," ",null," "," "," ",{"$error":"#VALUE!"},{"$error":"#VALUE!"}]
[39,"Sauce, Taco","Heinz/Kraft 130005324000",null,"200/9 gm",200,100,{"$f":"ROUND($G$110*$F$110/F110,2)","v":100},"Cs"," ","  "," "," ",null,{"v":0.4105,"d":"$0.4105"},0.75,{"$f":"ROUND(O110*P110,2)","v":{"v":0.31,"d":"$0.31"}},{"$f":"K110-Q110","v":{"$error":"#VALUE!"}},{"$f":"R110/F110","v":{"$error":"#VALUE!"}},{"$f":"N110/F110","v":0}]
[null,"Shelf Stable, 9 grams per packet","Sauer's",null,"200/9 gm",200,null,{"$f":"ROUND($G$110*$F$110/F111,2)","v":100},"Cs",{"v":3.75,"d":"$3.75"},{"$f":"IF(OR(ISBLANK(J111),G110=0,ISBLANK(G110)),,ROUND(J111+$K$3,2))","v":{"v":3.75,"d":"$3.75"}},{"$f":"ROUND(H111*K111,2)","v":{"v":375,"d":"$375.00"}},{"$f":"ROUND(K111/F111,2)","v":{"v":0.02,"d":"$0.02"}}," ",null," "," "," ",{"$f":"M111/E111","v":{"$error":"#VALUE!"}},{"$error":"#VALUE!"}]
[null,null,"Rosarita",null,"200/9 gm",200,null,100,"Cs",{"$nulls":4}," ",null," "," "," ",{"$error":"#VALUE!"},{"$error":"#VALUE!"}]
[null," "," ",null," "," "," "," "," "," "," "," "," "," ",null," "," "," ",{"$error":"#VALUE!"},{"$error":"#VALUE!"}]
[40,"Sauce, Barbecue 1 oz Dipping Cup, Low Sodium","(18-19) Red Gold 72940-115805",null,"250/1.0z",250,25,{"$f":"ROUND($G$114*$F$114/F114,2)","v":25},{"$nulls":6}," ","  "," "," ","  "," "]
[null,"1 oz. cup pack contains 75 mg or less sodium per 1 oz. serving","(18-19) Kraft/Heinz 130007146000",null,"100/1 oz",100,null,{"$f":"ROUND($G$114*$F$114/F115,2)","v":62.5},"Cs",{"v":8.24,"d":"$8.24"},{"$f":"IF(OR(ISBLANK(J115),G114=0,ISBLANK(G114)),,ROUND(J115+$K$3,2))","v":{"v":8.24,"d":"$8.24"}},{"$f":"ROUND(H115*K115,2)","v":{"v":515,"d":"$515.00"}},{"$f":"ROUND(K115/F115,2)","v":{"v":0.08,"d":"$0.08"}},null,{"v":0.4125,"d":"$0.4125"},1.19,{"$f":"ROUND(O115*P115,2)","v":{"v":0.49,"d":"$0.49"}},{"$f":"J115-Q115","v":{"v":7.75,"d":"$7.75"}},{"$f":"R115/F115","v":{"v":0.0775,"d":"$0.08"}},{"$f":"N115/F115","v":0}]
[null,"Allergens:  None Listed "]
[41,"Turnip Greens, chopped","Distributor Choice",null,"6/#10",6,0,{"$f":"ROUND(G117*F117/F117,2)","v":0},"Cs",{"$nulls":10}," "]
[null,"Fancy, Minimum drained weight 58 oz (No Imports) ","Fillable txt box or unprotected",{"$nulls":4},{"$f":"ROUND(G117*F117/F118,2)","v":{"$error":"#DIV/0!"}},"Cs",null,{"$f":"IF(OR(ISBLANK(J118),G117=0,ISBLANK(G117)),,ROUND(J118+$K$3,2))","v":0},{"$f":"ROUND(H118*K118,2)","v":{"$error":"#DIV/0!"}},{"$f":"ROUND(K118/F118,2)","v":{"$error":"#DIV/0!"}},{"$nulls":6}," "]
[{"$nulls":19}," "]
[{"$nulls":8},"Page Total",null,null,{"$f":"SUMIF(L6:L119,\">0\")","v":{"v":18148.5,"d":"$18,148.50"}}]

{"sheet":"Groceries","index":18,"n_rows":225,"n_cols":13,"rows_kept":225,"merged":[[0,4,0,12],[1,4,1,12],[2,5,2,9]]}
[null,"School Food Authority",null,null,{"$f":"'Recap Sheet'!A3","v":"Offeror Name:"}]
[null,{"$f":"'Recap Sheet'!B2","v":"Colleton County School District Office of Student Nutrition"},"Return to Recap Sheet",null,{"$f":"'Recap Sheet'!B3","v":0}]
["Item","Description","Approved Brand Name / Manuf ID # ",null,null,"Firm Fixed Fee",{"$nulls":4},{"$f":"'Recap Sheet'!B4","v":{"v":0,"d":"$0.00"}}," "]
["#",null,null,"Distributor","Vendor","Svgs","Est.","Bid ","Bid","Unit","Unit Price","Total ","Cost per"]
[{"$nulls":3},"Code","Pack","per unit","Bid Qty","Qty","Unit","Price","plus Fee","Price","Unit"]
[null,"Groceries"]
[1,"Bacon Bits","Distributor Choice",null,"25Lb",25,20,{"$f":"ROUND(G7*F7/F7,2)","v":20},"Cs"]
[null,"Imitation.  For use on salad bar.  ","Fillable txt box or unprotected",{"$nulls":4},{"$f":"ROUND(G7*F7/F8,2)","v":{"$error":"#DIV/0!"}},"Cs",null,{"$f":"IF(OR(ISBLANK(J8),G7=0,ISBLANK(G7)),,ROUND(J8+$K$3,2))","v":0},{"$f":"ROUND(H8*K8,2)","v":{"$error":"#DIV/0!"}},{"$f":"ROUND(K8/F8,2)","v":{"$error":"#DIV/0!"}}]
[2,"Baking Powder","Distributor Choice",null,"40Lb",40,0,{"$f":"ROUND(G9*F9/F9,2)","v":0},"Cs"]
[null,"Must meet Fed/ Spec #EE-B-86B.  Double Acting.  ","Fillable txt box or unprotected",{"$nulls":4},{"$f":"ROUND(G9*F9/F10,2)","v":{"$error":"#DIV/0!"}},"Cs",null,{"$f":"IF(OR(ISBLANK(J10),G9=0,ISBLANK(G9)),,ROUND(J10+$K$3,2))","v":0},{"$f":"ROUND(H10*K10,2)","v":{"$error":"#DIV/0!"}},{"$f":"ROUND(K10/F10,2)","v":{"$error":"#DIV/0!"}}]
[3,"Baking Soda","Distributor Choice",null,"24/1 lb",24,0]
[null,"Shelf Stable","Fillable txt box or unprotected",{"$nulls":4},{"$f":"ROUND(G11*F11/F12,2)","v":{"$error":"#DIV/0!"}},"Cs",null,{"$f":"IF(OR(ISBLANK(J12),G11=0,ISBLANK(G11)),,ROUND(J12+$K$3,2))","v":0},{"$f":"ROUND(H12*K12,2)","v":{"$error":"#DIV/0!"}},{"$f":"ROUND(K12/F12,2)","v":{"$error":"#DIV/0!"}}]
[4,"Bases, Soup, Beef Flavor","Distributor Choice",null,"12/1Lb",12,5,{"$f":"ROUND(G13*F13/F13,2)","v":5},"Cs"]
[null,"First ingredient, meat, 1 lb reconstituted yields 5 gallons broth.   No MSG","Fillable txt box or unprotected",{"$nulls":4},{"$f":"ROUND(G13*F13/F14,2)","v":{"$error":"#DIV/0!"}},"Cs",null,{"$f":"IF(OR(ISBLANK(J14),G13=0,ISBLANK(G13)),,ROUND(J14+$K$3,2))","v":0},{"$f":"ROUND(H14*K14,2)","v":{"$error":"#DIV/0!"}},{"$f":"ROUND(K14/F14,2)","v":{"$error":"#DIV/0!"}}]
[]
[5,"Bases, Soup, Chicken Flavor","Distributor Choice",null,"12/1Lb",12,10,{"$f":"ROUND(G16*F16/F16,2)","v":10},"Cs"]
[null,"First ingredient, meat, 1 lb reconstituted yields 5 gallons broth.   No MSG","Fillable txt box or unprotected",{"$nulls":4},{"$f":"ROUND(G16*F16/F17,2)","v":{"$error":"#DIV/0!"}},"Cs",null,{"$f":"IF(OR(ISBLANK(J17),G16=0,ISBLANK(G16)),,ROUND(J17+$K$3,2))","v":0},{"$f":"ROUND(H17*K17,2)","v":{"$error":"#DIV/0!"}},{"$f":"ROUND(K17/F17,2)","v":{"$error":"#DIV/0!"}}]
[6,"Bases, Soup, Ham Flavor","Distributor Choice",null,"12/1Lb",12,5,{"$f":"ROUND(G18*F18/F18,2)","v":5},"Cs"]
[null,"First ingredient, meat,1 lb reconstituted yields 5 gallons broth.   No MSG","Fillable txt box or unprotected",{"$nulls":4},{"$f":"ROUND(G18*F18/F19,2)","v":{"$error":"#DIV/0!"}},"Cs",null,{"$f":"IF(OR(ISBLANK(J19),G18=0,ISBLANK(G18)),,ROUND(J19+$K$3,2))","v":0},{"$f":"ROUND(H19*K19,2)","v":{"$error":"#DIV/0!"}},{"$f":"ROUND(K19/F19,2)","v":{"$error":"#DIV/0!"}}]
[7,"Bases, Soup, Vegetarian Classic Cream","Campbells 22878",null,"4/4ib",512,0,{"$f":"ROUND(G20*F20/F20,2)","v":0},"CS",null,{"$f":"IF(OR(ISBLANK(J20),G20=0,ISBLANK(G20)),,ROUND(J20+$K$3,2))","v":0},{"$f":"ROUND(H20*K20,2)","v":0},{"$f":"ROUND(K20/F20,2)","v":0}]
[null,"No HFCS, MFG, or partially hydrogenerated oil"]
[8,"Bread Sticks, Frozen Dough.  WGR  ","Rich's 12194",null,"250/1.0z ",250,150,{"$f":"ROUND(G22*F22/F22,2)","v":150},"Cs",null,{"$f":"IF(OR(ISBLANK(J22),G22=0,ISBLANK(G22)),,ROUND(J22+$K$3,2))","v":0},{"$f":"ROUND(H22*K22,2)","v":0},{"$f":"ROUND(K22/F22,2)","v":0}]
[null,"Pre-cut frozen bread dough.  Bake and Serve  1breadstick = 1.0 OEG"]
[9,"Breadsticks, Frozen, Fully Baked,  WGR","Adv-Pierre 133908  ",null,"144/1g.5z",144,0,{"$f":"ROUND(G24*F24/F24,2)","v":0},"CS",null,{"$f":"IF(OR(ISBLANK(J24),G24=0,ISBLANK(G24)),,ROUND(J24+$K$3,2))","v":0},{"$f":"ROUND(H24*K24,2)","v":0},{"$f":"ROUND(K24/F24,2)","v":0}]
[null,"1 breadstick provides  1.5 oz Equivalent Grain, Thaw and Serve"]
[10,"Breadsticks, Frozen, Fully Baked Garlic Cheese","Cole's 832",null,"54/2.0z",54,150,{"$f":"ROUND(G26*F26/F26,2)","v":150},"CS",null,{"$f":"IF(OR(ISBLANK(J26),G26=0,ISBLANK(G26)),,ROUND(J26+$K$3,2))","v":0},{"$f":"ROUND(H26*K26,2)","v":0},{"$f":"ROUND(K26/F26,2)","v":0}]
[null,"Frozen, 100-200 calories and not more than 2 g sat fat and 200 mg"]
[null,"of sodium per svg. One breadstick provides 2 OEG Smart Snack Compl"]
[null,"Possible Allergens:  Wheat, Soy and Milk"]
[11,"Chips, Nachos , Bulk          ","62399 Tostitos Crispy  Rounds",null,"8/1Lb",8,0,{"$f":"ROUND($G$30*$F$30/F30,2)","v":0},null,null,{"$f":"IF(OR(ISBLANK(J30),G30=0,ISBLANK(G30)),,ROUND(J30+$K$3,2))","v":0},{"$f":"ROUND(H30*K30,2)","v":0},{"$f":"ROUND(K30/F30,2)","v":0}]
[null," Must  meet Whole Grain Rich"]
[12,"Cookie Dough, Frozen, Red. Fat  WGR","Otis Spunkmeyer",null,"240/1.5z",240,225,{"$f":"ROUND(G32*F32/F32,2)","v":225},"Cs",null,{"$f":"IF(OR(ISBLANK(J32),G32=0,ISBLANK(G32)),,ROUND(J32+$K$3,2))","v":0},{"$f":"ROUND(H32*K32,2)","v":0},{"$f":"ROUND(K32/F32,2)","v":0}]
[null,null,"  55680 Chocolate Chip   .5 OEG"]
[null,"1 cookie provides no more than 30% calories from total fat, ","  55683 Oatmeal Raisin   .5  OEG"]
[null,"10% calories from saturated, 35% sugar by weight","  55684 Butter Sugar         1.0 OEG"]
[null,null,"  55688  Carnival                 .5  OEG"]
[null,null,"  55689 Chocolate Brownie   .75 OEG"]
[13,"Cookies, Mini, Whole Grain, Indv. WGR  ","Chortles               ",null,"100/1z",100,50,{"$f":"ROUND($G$38*$F$38/F38,2)","v":50},"Cs",null,{"$f":"IF(OR(ISBLANK(J38),G38=0,ISBLANK(G38)),,ROUND(J38+$K$3,2))","v":0},{"$f":"ROUND(H38*K38,2)","v":0},{"$f":"ROUND(K38/F38,2)","v":0}]
[null,"0 transfat, low in sugar and calories, No HFCS     ","     09535-00005  Graham "]
[null,"1 package = 1 oz eq grain.  ","     09535- 00004  Chocolate"]
[null,null,"Kelloggs Gripz, Cookie, Mini",null,"150/.95z",150,null,{"$f":"ROUND($G$38*$F$38/F41,2)","v":33.33},"Cs",null,{"$f":"IF(OR(ISBLANK(J41),G38=0,ISBLANK(G38)),,ROUND(J41+$K$3,2))","v":0},{"$f":"ROUND(H41*K41,2)","v":0},{"$f":"ROUND(K41/F41,2)","v":0}]
[null,"Chortles and Kelloggs products are SMART SNACK COMPLAINT","   30100-45682  Cinnamon Graham Bites"]
[null,null,"   30100-80741   Chocolate Chip Graham"]
[14,"Cornmeal, Yellow, Enriched.   ","Distributor Choice",null,"25Lb",25,0,{"$f":"ROUND(G44*F44/F44,2)","v":0},"Cs"]
[null,"First Quality","Fillable txt box ",{"$nulls":4},{"$f":"ROUND(G44*F44/F45,2)","v":{"$error":"#DIV/0!"}},"Cs",null,{"$f":"IF(OR(ISBLANK(J45),G44=0,ISBLANK(G44)),,ROUND(J45+$K$3,2))","v":0},{"$f":"ROUND(H45*K45,2)","v":{"$error":"#DIV/0!"}},{"$f":"ROUND(K45/F45,2)","v":{"$error":"#DIV/0!"}}]
[null,"This is not a Whole Grain Rich product. "]
[15,"Cornstarch","Distributor Choice",null,"24/1gLb",24,0,{"$f":"ROUND(G47*F47/F47,2)","v":0},"Cs"]
[" ","Must meet Federal spec #N-C-541E","Fillable txt box ",{"$nulls":4},{"$f":"ROUND(G47*F47/F48,2)","v":{"$error":"#DIV/0!"}},"Cs",null,{"$f":"IF(OR(ISBLANK(J48),G47=0,ISBLANK(G47)),,ROUND(J48+$K$3,2))","v":0},{"$f":"ROUND(H48*K48,2)","v":{"$error":"#DIV/0!"}},{"$f":"ROUND(K48/F48,2)","v":{"$error":"#DIV/0!"}}]
[16,"Crackers, Animal, Baked WGR ","Pepperidge Farms -Giant Goldfish",null,"300/.9z",300,25,{"$f":"ROUND(G49*F49/F49,2)","v":25},"Cs",null,{"$f":"IF(OR(ISBLANK(J49),G49=0,ISBLANK(G49)),,ROUND(J49+$K$3,2))","v":0},{"$f":"ROUND(H49*K49,2)","v":0},{"$f":"ROUND(K49/F49,2)","v":0}]
[null,"<30% calories from fat,  <10% from Saturated Fat, 0 Trans Fat,","15094 Cinnamon Grahams"]
[null,"Made from whole-grain flour, 1 package = 1 grain/bread serving","15263 Chocolate Grahams"]
[null,null,"18432 Honey Oats Graham"]
[null,"SMART SNACK COMPLIANT","19246 Vanilla Grahams"]
[17,"Crackers, Cheddar Cheese, Goldfish Shape, Whole Grain "," Pepperidge Farms 18105 ",null,"300/.75z",300,25,{"$f":"ROUND(G54*F54/F54,2)","v":25},"Cs",null,{"$f":"IF(OR(ISBLANK(J54),G54=0,ISBLANK(G54)),,ROUND(J54+$K$3,2))","v":0},{"$f":"ROUND(H54*K54,2)","v":0},{"$f":"ROUND(K54/F54,2)","v":0}]
[null,"One package meets one grain/bread serving"]
[null,"SMART SNACK COMPLIANT"]
[18,"Crackers, Saltines, Whole Grain,IW WGR"," Keebler-  Zesta Minis 30100 10088",null,"300/.39z",300,100,{"$f":"IF(F57>0,ROUND(G57*F57/F57,2),)","v":100},"Cs",null,{"$f":"IF(OR(ISBLANK(J57),G57=0,ISBLANK(G57)),,ROUND(J57+$K$3,2))","v":0},{"$f":"ROUND(H57*K57,2)","v":0},{"$f":"ROUND(K57/F57,2)","v":0}]
[null,"Mini saltine crackers made with whole grain, provides .5 OEG","   "]
[null,"per serving"]
[19,"Crackers, Saltines, Whole Grain IW","Distributor Choice",null,"500/2 Ct",500,0,{"$f":"ROUND($G$60*$F$60/F60,2)","v":0},"Cs"]
[null,"Individually wrapped","Fillable txt box ",{"$nulls":4},{"$f":"ROUND(G60*F60/F61,2)","v":{"$error":"#DIV/0!"}},"Cs",null,{"$f":"IF(OR(ISBLANK(J61),G60=0,ISBLANK(G60)),,ROUND(J61+$K$3,2))","v":0},{"$f":"ROUND(H61*K61,2)","v":{"$error":"#DIV/0!"}},{"$f":"ROUND(K61/F61,2)","v":{"$error":"#DIV/0!"}}]
[null," 2 Packages (4 crackers) provides .5 oz Equivalent Grain"]
[" "]
[20,"Croissants, Whole Grain, O Trans Fat, Pre-sliced , Thaw & Serve"," Hadley Farms 139TF  WG  ",null,"144/2.2z",144,20,{"$f":"ROUND(G64*F64/F64,2)","v":20},"Cs",null,{"$f":"IF(OR(ISBLANK(J64),G64=0,ISBLANK(G64)),,ROUND(J64+$K$3,2))","v":0},{"$f":"ROUND(H64*K64,2)","v":0},{"$f":"ROUND(K64/F64,2)","v":0}]
[null,"1 serving = 2 grain/bread servings"]
[21,"Dressings, Regular, Honey Mustard","Naturally Fresh 85016875061",null,"4/1g",4,0,{"$f":"ROUND(G66*F66/F66,2)","v":0},"Cs",null,{"$f":"IF(OR(ISBLANK(J66),G66=0,ISBLANK(G66)),,ROUND(J66+$K$3,2))","v":0},{"$f":"ROUND(H66*K66,2)","v":0},{"$f":"ROUND(K66/F66,2)","v":0}]
[null,"Does not require refrigeration until after opened.  ","Hellmans 83023501",null,"4/1g",4,null,{"$f":"ROUND($G$66*$F$66/F67,2)","v":0},"Cs",0,{"$f":"IF(OR(ISBLANK(J67),G66=0,ISBLANK(G66)),,ROUND(J67+$K$3,2))","v":0},{"$f":"ROUND(K67*H67,2)","v":0},0]
[null,null,"CF Sauer Dukes 06148",null,"4/1g",4,null,{"$f":"ROUND($G$66*$F$66/F68,2)","v":0},"Cs",0,{"$f":"IF(OR(ISBLANK(J68),G66=0,ISBLANK(G66)),,ROUND(J68+$K$3,2))","v":0},{"$f":"ROUND(K68*H68,2)","v":0},0]
[null,null,"Southern Classic 17107410",null,"4/1g",4,null,{"$f":"ROUND($G$66*$F$66/F69,2)","v":0},"Cs",0,{"$f":"IF(OR(ISBLANK(J69),G66=0,ISBLANK(G66)),,ROUND(J69+$K$3,2))","v":0},{"$f":"ROUND(K69*H69,2)","v":0},{"$f":"ROUND(K69/F69,2)","v":0}]
[null,null,"Kraft 210007052400",null,"4/1g",4,null,{"$f":"ROUND($G$66*$F$66/F70,2)","v":0},"Cs",0,{"$f":"IF(OR(ISBLANK(J70),G66=0,ISBLANK(G66)),,ROUND(J70+$K$3,2))","v":0},{"$f":"ROUND(K70*H70,2)","v":0},0]
[22,"Dressings, Reduced Calorie, Italian","Southern Classics 13007310",null,"4/1g",4,4,{"$f":"ROUND($G$71*$F$71/F71,2)","v":4},"Cs",0,{"$f":"IF(OR(ISBLANK(J71),G71=0,ISBLANK(G71)),,ROUND(J71+$K$3,2))","v":0},{"$f":"ROUND(H71*K71,2)","v":0},0]
[null,"Does not require refrigeration until after opened.  ","CFSauer Dukes 06156",null,"4/1g",4,null,{"$f":"ROUND($G$71*$F$71/F72,2)","v":4},"Cs",0,{"$f":"IF(OR(ISBLANK(J72),G71=0,ISBLANK(G71)),,ROUND(J72+$K$3,2))","v":0},{"$f":"ROUND(H72*K72,2)","v":0},0]
[null,null,"Kraft 210006438900",null,"4/1g",4,null,{"$f":"ROUND($G$71*$F$71/F73,2)","v":4},"Cs",0,{"$f":"IF(OR(ISBLANK(J73),G71=0,ISBLANK(G71)),,ROUND(J73+$K$3,2))","v":0},{"$f":"ROUND(H73*K73,2)","v":0},{"$f":"ROUND(K73/F73,2)","v":0}]
[23,"Dressings, Regular, Ranch","Marzetti 837966",null,"4/1g",4,4,{"$f":"ROUND(G74*F74/F74,2)","v":4},"Cs",null,{"$f":"IF(OR(ISBLANK(J74),G74=0,ISBLANK(G74)),,ROUND(J74+$K$3,2))","v":0},{"$f":"ROUND(H74*K74,2)","v":0},{"$f":"ROUND(K74/F74,2)","v":0}]
[null,"Does not require refrigeration until after opened.","Hellmann's 25711",null,"4/1g",4,null,{"$f":"ROUND($G$74*$F$74/F75,2)","v":4},"Cs",null,{"$f":"IF(OR(ISBLANK(J75),G74=0,ISBLANK(G74)),,ROUND(J75+$K$3,2))","v":0},{"$f":"ROUND(K75*H75,2)","v":0},0]
[null,null,"Kens KE0789 ",null,"4/1g",4,null,4,"Cs",null,{"$f":"IF(OR(ISBLANK(J76),G74=0,ISBLANK(G74)),,ROUND(J76+$K$3,2))","v":0},0,0]
[null,null,"Hidden Valley 85620",null,"4/1g",4,null,4,"Cs",null,{"$f":"IF(OR(ISBLANK(J77),G74=0,ISBLANK(G74)),,ROUND(J77+$K$3,2))","v":0},0,0]
[null,null,"Naturally Fresh 85016645061",null,"4/1g",4,null,4,"Cs",0,{"$f":"IF(OR(ISBLANK(J78),G74=0,ISBLANK(G74)),,ROUND(J78+$K$3,2))","v":0},0,0]
[null,null,"Southern Classics 21107410",null,"4/1g",4,null,4,"Cs",0,{"$f":"IF(OR(ISBLANK(J79),G74=0,ISBLANK(G74)),,ROUND(J79+$K$3,2))","v":0},0,0]
[null,null,"CF Sauer Dukes 06198",null,"4/1g",4,null,4,"Cs",0,{"$f":"IF(OR(ISBLANK(J80),G74=0,ISBLANK(G74)),,ROUND(J80+$K$3,2))","v":0},0,0]
[null,null,"Kraft 210006439900",null,"4/1g",4,null,{"$f":"ROUND($G$74*$F$74/F81,2)","v":4},"Cs",0,{"$f":"IF(OR(ISBLANK(J81),G74=0,ISBLANK(G74)),,ROUND(J81+$K$3,2))","v":0},{"$f":"ROUND(K81*H81,2)","v":0},{"$f":"ROUND(K81/F81,2)","v":0}]
[24,"Dressings, Regular, Thousand Island","Marzetti 83000",null,"4/1g",4,0,{"$f":"ROUND(G82*F82/F82,2)","v":0},"Cs",null,{"$f":"IF(OR(ISBLANK(J82),G82=0,ISBLANK(G82)),,ROUND(J82+$K$3,2))","v":0},{"$f":"ROUND(H82*K82,2)","v":0},{"$f":"ROUND(K82/F82,2)","v":0}]
[null,"Does not require refrigeration until after opened.  ","Hellmann's 25714",null,"4/1g",4,null,{"$f":"ROUND($G$82*$F$82/F83,2)","v":0},"Cs",null,{"$f":"IF(OR(ISBLANK(J83),G82=0,ISBLANK(G82)),,ROUND(J83+$K$3,2))","v":0},{"$f":"ROUND(K83*H83,2)","v":0},0]
[null,null,"Kens 0816 ",null,"4/1g",4,null,0,"Cs",null,{"$f":"IF(OR(ISBLANK(J84),G82=0,ISBLANK(G82)),,ROUND(J84+$K$3,2))","v":0},0,0]
[null,null,"Hidden Valley 85648",null,"4/1g",4,null,0,"Cs",null,{"$f":"IF(OR(ISBLANK(J85),G82=0,ISBLANK(G82)),,ROUND(J85+$K$3,2))","v":0},0,0]
[null,null,"Southern Classic 34107410",null,"4/1g",4,null,0,"Cs",null,{"$f":"IF(OR(ISBLANK(J86),G82=0,ISBLANK(G82)),,ROUND(J86+$K$3,2))","v":0},0,0]
[null,null,"CF Sauer Dukes 06188",null,"4/1g",4,null,0,"Cs",0,{"$f":"IF(OR(ISBLANK(J87),G82=0,ISBLANK(G82)),,ROUND(J87+$K$3,2))","v":0},0,{"$f":"ROUND(K87/F87,2)","v":0}]
[null,null,"Kraft 210006430200",null,"4/1g",4,null,0,"Cs",null,{"$f":"IF(OR(ISBLANK(J88),G82=0,ISBLANK(G82)),,ROUND(J88+$K$3,2))","v":0},0,0]
[25,"Flour, Plain, All Purpose","Distributor Choice",null,"25Lb",25,0,{"$f":"ROUND(G89*F89/F89,2)","v":0},"Cs"]
[null,"Enriched","Fillable txt box ",{"$nulls":4},{"$f":"ROUND(G89*F89/F90,2)","v":{"$error":"#DIV/0!"}},"Cs",null,{"$f":"IF(OR(ISBLANK(J90),G89=0,ISBLANK(G89)),,ROUND(J90+$K$3,2))","v":0},{"$f":"ROUND(H90*K90,2)","v":{"$error":"#DIV/0!"}},{"$f":"ROUND(K90/F90,2)","v":{"$error":"#DIV/0!"}}]
[]
[26,"Flour, Whole Wheat","Distributor Choice",null,"50Lb",50,0,{"$f":"ROUND(G92*F92/F92,2)","v":0},"Cs"]
[null,null,"Fillable txt box ",{"$nulls":4},{"$f":"ROUND(G92*F92/F93,2)","v":{"$error":"#DIV/0!"}},"Cs",null,{"$f":"IF(OR(ISBLANK(J93),G92=0,ISBLANK(G92)),,ROUND(J93+$K$3,2))","v":0},{"$f":"ROUND(H93*K93,2)","v":{"$error":"#DIV/0!"}},{"$f":"ROUND(K93/F93,2)","v":{"$error":"#DIV/0!"}}]
[27,"Food Release","Pam (ConAgra) 63111",null,"6/17 z",102,20,{"$f":"ROUND(G94*F94/F94,2)","v":20},"Cs",null,{"$f":"IF(OR(ISBLANK(J94),G94=0,ISBLANK(G94)),,ROUND(J94+$K$3,2))","v":0},{"$f":"ROUND(H94*K94,2)","v":0},{"$f":"ROUND(K94/F94,2)","v":0}]
[null,"Processed soybean oil, no water added.  Statement ","Wescoat 62067",null,"6/17z",102,null,{"$f":"ROUND($G$94*$F$94/F95,2)","v":20},"Cs",null,{"$f":"IF(OR(ISBLANK(J95),G94=0,ISBLANK(G94)),,ROUND(J95+$K$3,2))","v":0},{"$f":"ROUND(K95*H95,2)","v":0},{"$f":"ROUND(K95/F95,2)","v":0}]
[null,"required if Distributor Choice is bid","Benton Lane 63081",null,"6/16.5z",99,null,{"$f":"ROUND($G$94*$F$94/F96,2)","v":{"v":20.61,"d":"21"}},"Cs",null,{"$f":"IF(OR(ISBLANK(J96),G94=0,ISBLANK(G94)),,ROUND(J96+$K$3,2))","v":0},{"$f":"ROUND(K96*H96,2)","v":0},{"$f":"ROUND(K96/F96,2)","v":0}]
[null,null,"Pan Coating Cargill 100087293",null,"6/14z",84,null,{"$f":"ROUND($G$94*$F$94/F97,2)","v":{"v":24.29,"d":"24"}},"Cs",null,{"$f":"IF(OR(ISBLANK(J97),G94=0,ISBLANK(G94)),,ROUND(J97+$K$3,2))","v":0},{"$f":"ROUND(K97*H97,2)","v":0},{"$f":"ROUND(K97/F97,2)","v":0}]
[]
[28,"Food Release, Butter Flavor ","Buttery Delite, 17120",null,"6/17z",84,20,{"$f":"ROUND(G99*F99/F99,2)","v":20},"Cs",null,{"$f":"IF(OR(ISBLANK(J99),G99=0,ISBLANK(G99)),,ROUND(J99+$K$3,2))","v":0},{"$f":"ROUND(H99*K99,2)","v":0},{"$f":"ROUND(K99/F99,2)","v":0}]
[null,"Blend of canola oil with sunflower lecithin, salt and natural flavoring."]
[null,"Statement required if Distributor Choice is bid"]
[29,"Gelatin Dessert Mix, Orange","Distributor Choice",null,"12/24z",420,10,{"$f":"ROUND(G102*F102/F102,2)","v":10},"Cs"]
[null,"Sugar added","Fillable txt box ",{"$nulls":4},{"$f":"ROUND(G102*F102/F103,2)","v":{"$error":"#DIV/0!"}},"Cs",null,{"$f":"IF(OR(ISBLANK(J103),G102=0,ISBLANK(G102)),,ROUND(J103+$K$3,2))","v":0},{"$f":"ROUND(H103*K103,2)","v":{"$error":"#DIV/0!"}},{"$f":"ROUND(K103/F103,2)","v":{"$error":"#DIV/0!"}}]
[30,"Gelatin Dessert Mix, Strawberry","Distributor Choice",null,"12/24 z",288,10,{"$f":"ROUND(G104*F104/F104,2)","v":10},"Cs"]
[null,"Sugar added","Fillable txt box ",{"$nulls":4},{"$f":"ROUND(G104*F104/F105,2)","v":{"$error":"#DIV/0!"}},"Cs",null,{"$f":"IF(OR(ISBLANK(J105),G104=0,ISBLANK(G104)),,ROUND(J105+$K$3,2))","v":0},{"$f":"ROUND(H105*K105,2)","v":{"$error":"#DIV/0!"}},{"$f":"ROUND(K105/F105,2)","v":{"$error":"#DIV/0!"}}]
[31,"Gravy Mix, Beef or Brown","Legout 75001",null,"8/16 z",128,50,{"$f":"ROUND(G106*F106/F106,2)","v":50},"Cs",null,{"$f":"IF(OR(ISBLANK(J106),G106=0,ISBLANK(G106)),,ROUND(J106+$K$3,2))","v":0},{"$f":"ROUND(H106*K106,2)","v":0},{"$f":"ROUND(K106/F106,2)","v":0}]
[null,null,"Foothill Farms G405-F6700",null,"8/14.10z",552,null,{"$f":"ROUND($G$106*$F$106/F107,2)","v":11.59},"Cs",null,{"$f":"IF(OR(ISBLANK(J107),G106=0,ISBLANK(G106)),,ROUND(J107+$K$3,2))","v":0},{"$f":"ROUND(K107*H107,2)","v":0},0]
[null,null,"Chef's Companion 57232",null,"8/14z",112,null,{"$f":"ROUND($G$106*$F$106/F108,2)","v":{"v":57.14,"d":"57"}},"Cs",null,{"$f":"IF(OR(ISBLANK(J108),G106=0,ISBLANK(G106)),,ROUND(J108+$K$3,2))","v":0},{"$f":"ROUND(K108*H108,2)","v":0},0]
[null,null,"Trio 38273",null,"8/13.37z",107,null,{"$f":"ROUND($G$106*$F$106/F109,2)","v":{"v":59.81,"d":"60"}},"Cs",null,{"$f":"IF(OR(ISBLANK(J109),G106=0,ISBLANK(G106)),,ROUND(J109+$K$3,2))","v":0},{"$f":"ROUND(K109*H109,2)","v":0},0]
[null,null,"Custom Culinary 17649",null,"8/12.0z",96,null,{"$f":"ROUND($G$106*$F$106/F110,2)","v":{"v":66.67,"d":"67"}},"Cs",null,{"$f":"IF(OR(ISBLANK(J110),G106=0,ISBLANK(G106)),,ROUND(J110+$K$3,2))","v":0},{"$f":"ROUND(K110*H110,2)","v":0},0]
[32,"Gravy Mix, Chicken","Trio 38282",null,"8/22.6 z",181,25,{"$f":"ROUND(G111*F111/F111,2)","v":25},"Cs",null,{"$f":"IF(OR(ISBLANK(J111),G111=0,ISBLANK(G111)),,ROUND(J111+$K$3,2))","v":0},{"$f":"ROUND(H111*K111,2)","v":0},0]
[null,null,"Legout 75004",null,"8/16 z",128,null,{"$f":"ROUND($G$111*$F$111/F112,2)","v":35.35},"Cs",null,{"$f":"IF(OR(ISBLANK(J112),G111=0,ISBLANK(G111)),,ROUND(J112+$K$3,2))","v":0},{"$f":"ROUND(K112*H112,2)","v":0},0]
[null,null,"Custom Culinary17839",null,"8/12z",96,null,{"$f":"ROUND($G$111*$F$111/F113,2)","v":47.14},"Cs",null,{"$f":"IF(OR(ISBLANK(J113),G111=0,ISBLANK(G111)),,ROUND(J113+$K$3,2))","v":0},{"$f":"ROUND(K113*H113,2)","v":0},0]
[33,"Macaroni, Elbow                                                                                      WGR","Distributor Choice",null,"20Lb",20,50,{"$f":"ROUND(G114*F114/F114,2)","v":50},"Cs"]
[null,"First Quality.  ","Fillable txt box ",{"$nulls":4},{"$f":"ROUND(G114*F114/F115,2)","v":{"$error":"#DIV/0!"}},"Cs",null,{"$f":"IF(OR(ISBLANK(J115),G114=0,ISBLANK(G114)),,ROUND(J115+$K$3,2))","v":0},{"$f":"ROUND(H115*K115,2)","v":{"$error":"#DIV/0!"}},{"$f":"ROUND(K115/F115,2)","v":{"$error":"#DIV/0!"}}]
[37,"Macaroni , Elbow, Whole Grain ","Distributor Choice",null,"2/10Lb",20,0,{"$f":"ROUND(G116*F116/F116,2)","v":0},"Cs"]
[null,"Made from 51% Durum whole wheat flour, contains 28g whole grain","Fillable txt box ",{"$nulls":4},{"$f":"ROUND(G116*F116/F117,2)","v":{"$error":"#DIV/0!"}},"Cs",null,{"$f":"IF(OR(ISBLANK(J117),G116=0,ISBLANK(G116)),,ROUND(J117+$K$3,2))","v":0},{"$f":"ROUND(H117*K117,2)","v":{"$error":"#DIV/0!"}},{"$f":"ROUND(K117/F117,2)","v":{"$error":"#DIV/0!"}}]
[null,"per 2oz serving (1/2 c).    First Quality"]
[38,"Mayonnaise, Reduced Calorie","Kens KE0892",null,"4/1g",4,25,{"$f":"ROUND(G119*F119/F119,2)","v":25},"Cs",null,{"$f":"IF(OR(ISBLANK(J119),G119=0,ISBLANK(G119)),,ROUND(J119+$K$3,2))","v":0},{"$f":"ROUND(H119*K119,2)","v":0},{"$f":"ROUND(K119/F119,2)","v":0}]
[null,"Does not require refrigeration until opened. ","Hellmann's 26730 ",null,"4/1g",4,null,{"$f":"ROUND($G$119*$F$119/F120,2)","v":25},"Cs",null,{"$f":"IF(OR(ISBLANK(J120),G119=0,ISBLANK(G119)),,ROUND(J120+$K$3,2))","v":0},{"$f":"ROUND(K120*H120,2)","v":0},0]
[null,null,"Dukes 06073",null,"4/1g",4,null,{"$f":"ROUND($G$119*$F$119/F121,2)","v":25},"Cs",null,{"$f":"IF(OR(ISBLANK(J121),G119=0,ISBLANK(G119)),,ROUND(J121+$K$3,2))","v":0},{"$f":"ROUND(K121*H121,2)","v":0},0]
[null,null,"Southern Classic 89007410",null,"4/1g",4,null,{"$f":"ROUND($G$119*$F$119/F122,2)","v":25},"Cs",0,{"$f":"IF(OR(ISBLANK(J122),G119=0,ISBLANK(G119)),,ROUND(J122+$K$3,2))","v":0},{"$f":"ROUND(K122*H122,2)","v":0},{"$f":"ROUND(K122/F122,2)","v":0}]
[null,null,"Kraft 210006430100",null,"4/1g",4,null,{"$f":"ROUND($G$119*$F$119/F123,2)","v":25},"Cs",null,{"$f":"IF(OR(ISBLANK(J123),G119=0,ISBLANK(G119)),,ROUND(J123+$K$3,2))","v":0},{"$f":"ROUND(K123*H123,2)","v":0},0]
[39,"Mayonnaise, Regular","Kens KE0911",null,"4/1g",4,0,{"$f":"ROUND(G124*F124/F124,2)","v":0},"Cs",null,{"$f":"IF(OR(ISBLANK(J124),G124=0,ISBLANK(G124)),,ROUND(J124+$K$3,2))","v":0},{"$f":"ROUND(H124*K124,2)","v":0},0]
[null,"First Quality.  Does not require refrigeration until after opening ","Hellmann's 26530 ",null,"4/1g",4,null,{"$f":"ROUND($G$124*$F$124/F125,2)","v":0},"Cs",null,{"$f":"IF(OR(ISBLANK(J125),G124=0,ISBLANK(G124)),,ROUND(J125+$K$3,2))","v":0},{"$f":"ROUND(K125*H125,2)","v":0},0]
[null,null,"Southern Classic  91107410",null,"4/1g",4,null,{"$f":"ROUND($G$124*$F$124/F126,2)","v":0},"Cs",null,{"$f":"IF(OR(ISBLANK(J126),G124=0,ISBLANK(G124)),,ROUND(J126+$K$3,2))","v":0},{"$f":"ROUND(K126*H126,2)","v":0},0]
[null,null,"CF Sauer Dukes 06003",null,"4/1g",4,null,{"$f":"ROUND($G$124*$F$124/F127,2)","v":0},"Cs",0,{"$f":"IF(OR(ISBLANK(J127),G124=0,ISBLANK(G124)),,ROUND(J127+$K$3,2))","v":0},{"$f":"ROUND(K127*H127,2)","v":0},0]
[null,null,"Kraft 210006421900"," ","4/1g",4,null,{"$f":"ROUND($G$124*$F$124/F128,2)","v":0},"Cs",0,{"$f":"IF(OR(ISBLANK(J128),G124=0,ISBLANK(G124)),,ROUND(J128+$K$3,2))","v":0},{"$f":"ROUND(K128*H128,2)","v":0},{"$f":"ROUND(K128/F128,2)","v":0}]
[40,"Milk, Non Fat Dry Powder","Distributor Choice",null,"6/5 Lb",6,0,{"$f":"ROUND(G129*F129/F129,2)","v":0},"Cs"]
[null,"4lbs/2 oz dry milk to 4 3/4 gal water= 5 gallons fluid milk  ","Fillable txt box ",{"$nulls":4},{"$f":"ROUND(G129*F129/F130,2)","v":{"$error":"#DIV/0!"}},"Cs",null,{"$f":"IF(OR(ISBLANK(J130),G129=0,ISBLANK(G129)),,ROUND(J130+$K$3,2))","v":0},{"$f":"ROUND(H130*K130,2)","v":{"$error":"#DIV/0!"}},{"$f":"ROUND(K130/F130,2)","v":{"$error":"#DIV/0!"}}]
[41,"Mustard, Prepared","Distributor Choice",null,"4/1g",4,0,{"$f":"ROUND($G$131*$F$131/F131,2)","v":0},"Cs"]
[null,"Pure, net weight 8#.  Grade A.  USDA extra standard.","Fillable txt box ",{"$nulls":4},{"$f":"ROUND(G131*F131/F132,2)","v":{"$error":"#DIV/0!"}},"Cs",null,{"$f":"IF(OR(ISBLANK(J132),G131=0,ISBLANK(G131)),,ROUND(J132+$K$3,2))","v":0},{"$f":"ROUND(H132*K132,2)","v":{"$error":"#DIV/0!"}},{"$f":"ROUND(K132/F132,2)","v":{"$error":"#DIV/0!"}}]
[42,"Noodles, Egg, WGR","Distributor Choice",null,"10Lb",10,0,{"$f":"ROUND(G133*F133/F133,2)","v":0},"Cs"]
[null,"Basic ingredients shall be Semolina Durum wheat flour,","Fillable txt box ",{"$nulls":4},{"$f":"ROUND(G133*F133/F134,2)","v":{"$error":"#DIV/0!"}},"Cs",null,{"$f":"IF(OR(ISBLANK(J134),G133=0,ISBLANK(G133)),,ROUND(J134+$K$3,2))","v":0},{"$f":"ROUND(H134*K134,2)","v":{"$error":"#DIV/0!"}},{"$f":"ROUND(K134/F134,2)","v":{"$error":"#DIV/0!"}}]
[null,"farina or hard wheat flour, fine or medium.  ",{"$nulls":4},0]
[43,"Noodles. Egg","Distributor Choice",null,"10Lb",10,25,{"$f":"ROUND(G136*F136/F136,2)","v":25},"Cs"]
[null,"First quality, homestyle","Fillable txt box ",{"$nulls":4},{"$f":"ROUND(G136*F136/F137,2)","v":{"$error":"#DIV/0!"}},"Cs",null,{"$f":"IF(OR(ISBLANK(J137),G136=0,ISBLANK(G136)),,ROUND(J137+$K$3,2))","v":0},{"$f":"ROUND(H137*K137,2)","v":{"$error":"#DIV/0!"}},{"$f":"ROUND(K137/F137,2)","v":{"$error":"#DIV/0!"}}]
[null," ",{"$nulls":4},0]
[44,"Noodles, Lasagna, WGR","Distributor Choice",null,"10Lb",10,0,{"$f":"ROUND(G139*F139/F139,2)","v":0},"Cs"]
[null,"durum wheat, dry, first quality","Fillable txt box ",{"$nulls":4},{"$f":"ROUND(G139*F139/F140,2)","v":{"$error":"#DIV/0!"}},"Cs",null,{"$f":"IF(OR(ISBLANK(J140),G139=0,ISBLANK(G139)),,ROUND(J140+$K$3,2))","v":0},{"$f":"ROUND(H140*K140,2)","v":{"$error":"#DIV/0!"}},{"$f":"ROUND(K140/F140,2)","v":{"$error":"#DIV/0!"}}]
[45,"Noodles, Lasagna, ","Distributor Choice",null,"10Lb",10,0,{"$f":"ROUND(G141*F141/F141,2)","v":0},"Cs"]
[null,"First Qualty","Fillable txt box ",{"$nulls":4},{"$f":"ROUND(G141*F141/F142,2)","v":{"$error":"#DIV/0!"}},"Cs",null,{"$f":"IF(OR(ISBLANK(J142),G141=0,ISBLANK(G141)),,ROUND(J142+$K$3,2))","v":0},{"$f":"ROUND(H142*K142,2)","v":{"$error":"#DIV/0!"}},{"$f":"ROUND(K142/F142,2)","v":{"$error":"#DIV/0!"}}]
[46,"Noodles, Spaghetti, Whole Wheat","Distributor Choice",null,"2/5Lb",10,0,{"$f":"ROUND(G143*F143/F143,2)","v":0},"Cs"]
[null,"100% whole wheat durum flour, 10\", first quality","Fillable txt box ",{"$nulls":4},{"$f":"ROUND(G143*F143/F144,2)","v":{"$error":"#DIV/0!"}},"Cs",null,{"$f":"IF(OR(ISBLANK(J144),G143=0,ISBLANK(G143)),,ROUND(J144+$K$3,2))","v":0},{"$f":"ROUND(H144*K144,2)","v":{"$error":"#DIV/0!"}},{"$f":"ROUND(K144/F144,2)","v":{"$error":"#DIV/0!"}}]
[47,"Noodles, Spaghetti, Enriched","Distributor Choice",null,"2/5Lb",10,50,{"$f":"ROUND(G145*F145/F145,2)","v":50},"Cs"]
[null,"Semolina (Wheat), First Quality","Fillable txt box ",{"$nulls":4},{"$f":"ROUND(G145*F145/F146,2)","v":{"$error":"#DIV/0!"}},"Cs",null,{"$f":"IF(OR(ISBLANK(J146),G145=0,ISBLANK(G145)),,ROUND(J146+$K$3,2))","v":0},{"$f":"ROUND(H146*K146,2)","v":{"$error":"#DIV/0!"}},{"$f":"ROUND(K146/F146,2)","v":{"$error":"#DIV/0!"}}]
[48,"Noodles, Spaghetti, Wholegrain","Distributor Choice",null,"2/10Lb",20,0,{"$f":"ROUND(G147*F147/F147,2)","v":0},"Cs"]
[null,"First Quality , 1 cup cooked = 1 Grain serving","Fillable txt box ",{"$nulls":4},{"$f":"ROUND(G147*F147/F148,2)","v":{"$error":"#DIV/0!"}},"Cs",null,{"$f":"IF(OR(ISBLANK(J148),G147=0,ISBLANK(G147)),,ROUND(J148+$K$3,2))","v":0},{"$f":"ROUND(H148*K148,2)","v":{"$error":"#DIV/0!"}},{"$f":"ROUND(K148/F148,2)","v":{"$error":"#DIV/0!"}}]
[49,"Oats, WG Topping Mix","Foothill Farms P212-D6190",null,"6/1.5#",126,0,{"$f":"ROUND(G149*F149/F149,2)","v":0},"Cs",null,{"$f":"IF(OR(ISBLANK(J149),G148=0,ISBLANK(G148)),,ROUND(J149+$K$3,2))","v":0},{"$f":"ROUND(H149*K149,2)","v":0},{"$f":"ROUND(K149/F149,2)","v":0}]
[null,"1/4 cup dried product provides .75 OEG "]
[]
[null,"Possible Allergens:  Wheat or Wheat Derivative"," ",{"$nulls":4}," "," "," "," ","  "," "]
[50,"Peanut Butter","Distributor Choice",null,"6/5Lb",30,0,{"$f":"ROUND(G153*F153/F153,2)","v":0},"Cs"]
[null,"Smooth, US Grade A.  Should have color that is medium","Fillable txt box ",{"$nulls":3},0,{"$f":"ROUND(G153*F153/F154,2)","v":{"$error":"#DIV/0!"}},"Cs",null,{"$f":"IF(OR(ISBLANK(J154),G153=0,ISBLANK(G153)),,ROUND(J154+$K$3,2))","v":0},{"$f":"ROUND(H154*K154,2)","v":{"$error":"#DIV/0!"}},{"$f":"ROUND(K154/F154,2)","v":{"$error":"#DIV/0!"}}]
[null,"brown to brown color roast.  Peanut butter should be  "]
[null,"firm set, smooth pliable, have a good spreadibility.  "]
[]
[51,"Pickle Relish","Distributor Choice",null,"4/1g",4,10,{"$f":"ROUND(G158*F158/F158,2)","v":10},"Cs"]
[null,"First Quality, Sweet cucumbers, timely chopped, Grade A","Fillable txt box ",{"$nulls":4},{"$f":"ROUND(G158*F158/F159,2)","v":{"$error":"#DIV/0!"}},"Cs",null,{"$f":"IF(OR(ISBLANK(J159),G158=0,ISBLANK(G158)),,ROUND(J159+$K$3,2))","v":0},{"$f":"ROUND(H159*K159,2)","v":{"$error":"#DIV/0!"}},{"$f":"ROUND(K159/F159,2)","v":{"$error":"#DIV/0!"}}]
[52,"Pickles, Dill Chips, 4/1g gallon","Bay Valley (Cates) 1282247 (430-485 chips/gal)",null,"4/1g",4,0,{"$f":"ROUND(G160*F160/F160,2)","v":0},"Cs",null,{"$f":"IF(OR(ISBLANK(J160),G160=0,ISBLANK(G160)),,ROUND(J160+$K$3,2))","v":0},{"$f":"ROUND(H160*K160,2)","v":0},{"$f":"ROUND(K160/F160,2)","v":0}]
[null,"US Grade A, fancy, thin slices, First Quality ","Mt Olive 12814 (640 chips/gal)",null,"4/1g",4,null,{"$f":"ROUND($G$160*$F$160/F161,2)","v":0},"Cs",null,{"$f":"IF(OR(ISBLANK(J161),G160=0,ISBLANK(G160)),,ROUND(J161+$K$3,2))","v":0},{"$f":"ROUND(K161*H161,2)","v":0},{"$f":"ROUND(K161/F161,2)","v":0}]
[null,null,"Heinz 1300000658 2000 Crinkle Cut (535/pouch)",null,"6/5.75 lb",6,null,{"$f":"ROUND($G$160*$F$160/F162,2)","v":0},"Cs",null,{"$f":"IF(OR(ISBLANK(J162),G160=0,ISBLANK(G160)),,ROUND(J162+$K$3,2))","v":0},{"$f":"ROUND(K162*H162,2)","v":0},{"$f":"ROUND(K162/F162,2)","v":0}]
[]
[53,"Pickles, Dill Chips, 5 gallon","Bay Valley (Schwartz) 2965823 (2850-3150 chips/5 gal)",null,"1/5g",5,25,{"$f":"ROUND(G164*F164/F164,2)","v":25},"Cs",null,{"$f":"IF(OR(ISBLANK(J164),G164=0,ISBLANK(G164)),,ROUND(J164+$K$3,2))","v":0},{"$f":"ROUND(H164*K164,2)","v":0},{"$f":"ROUND(K164/F164,2)","v":0}]
[null,"Thin, dill hamburger slices:  3000 count.  First Quality.","Mt Olive 55506 (3072)",null,"1/5g",5,null,{"$f":"ROUND($G$164*$F$164/F165,2)","v":25},"Cs",null,{"$f":"IF(OR(ISBLANK(J165),G164=0,ISBLANK(G164)),,ROUND(J165+$K$3,2))","v":0},{"$f":"ROUND(K165*H165,2)","v":0},{"$f":"ROUND(K165/F165,2)","v":0}]
[null,null,"Bay Valley Foods (Cates) 0952278 (1420-1780 chips/5 gal)",null,"1/5g",5,null,{"$f":"ROUND($G$164*$F$164/F166,2)","v":25},"Cs",null,{"$f":"IF(OR(ISBLANK(J166),G164=0,ISBLANK(G164)),,ROUND(J166+$K$3,2))","v":0},{"$f":"ROUND(K166*H166,2)","v":0},{"$f":"ROUND(K166/F166,2)","v":0}]
[]
[54,"Pickles, Dill Strips, 6/#10","Vlasic 40800",null,"6/#10",6,0,{"$f":"ROUND(G168*F168/F168,2)","v":0},"Cs",null,{"$f":"IF(OR(ISBLANK(J168),G168=0,ISBLANK(G168)),,ROUND(J168+$K$3,2))","v":0},{"$f":"ROUND(H168*K168,2)","v":0},{"$f":"ROUND(K168/F168,2)","v":0}]
[null,"US Grade A, Fancy, Kosher Style, First Quality","Bay Valley (74-100) 0981495",null,"6/#10",6,null,{"$f":"ROUND($G$168*$F$168/F169,2)","v":0},"Cs",null,{"$f":"IF(OR(ISBLANK(J169),G168=0,ISBLANK(G168)),,ROUND(J169+$K$3,2))","v":0},{"$f":"ROUND(K169*H169,2)","v":0},{"$f":"ROUND(K169/F169,2)","v":0}]
[null,null,"Heinz (70-78) 130006383000",null,"6/#10",6,null,{"$f":"ROUND($G$168*$F$168/F170,2)","v":0},"Cs",null,{"$f":"IF(OR(ISBLANK(J170),G168=0,ISBLANK(G168)),,ROUND(J170+$K$3,2))","v":0},{"$f":"ROUND(K170*H170,2)","v":0},{"$f":"ROUND(K170/F170,2)","v":0}]
[]
[55,"Pickles, Dill Strips, 5 gallon, Refrigerated ","Big Valley (Schwartz) 2965501 (375-425/gal)",null,"1/5g",5,40,{"$f":"ROUND(G172*F172/F172,2)","v":40},"Cs",null,{"$f":"IF(OR(ISBLANK(J172),G172=0,ISBLANK(G172)),,ROUND(J172+$K$3,2))","v":0},{"$f":"ROUND(H172*K172,2)","v":0},{"$f":"ROUND(K172/F172,2)","v":0}]
[null,"US Grade A, Fancy, Kosher style.  First Quality ","Bay Valley Foods (Cates) 0961521 (275-325/gal)",null,"1/5g",5,null,{"$f":"ROUND($G$172*$F$172/F173,2)","v":40},"Cs",null,{"$f":"IF(OR(ISBLANK(J173),G172=0,ISBLANK(G172)),,ROUND(J173+$K$3,2))","v":0},{"$f":"ROUND(K173*H173,2)","v":0},{"$f":"ROUND(K173/F173,2)","v":0}]
[]
[56,"Rice, Parboiled, long grain, enriched, fancy grade. ","Distributor Choice",null,"25Lb",25,30,{"$f":"ROUND(G175*F175/F175,2)","v":30},"Cs"]
[null,"Must meet Federal Standards, Specification SSD-S-315 ","Fillable txt box ",{"$nulls":4},{"$f":"ROUND(G175*F175/F176,2)","v":{"$error":"#DIV/0!"}},"Cs",null,{"$f":"IF(OR(ISBLANK(J176),G175=0,ISBLANK(G175)),,ROUND(J176+$K$3,2))","v":0},{"$f":"ROUND(H176*K176,2)","v":{"$error":"#DIV/0!"}},{"$f":"ROUND(K176/F176,2)","v":{"$error":"#DIV/0!"}}]
[57,"Rice, Brown"," Uncle Ben's 12111",null,"25Lb",25,30,{"$f":"ROUND(G177*F177/F177,2)","v":30},"Cs",null,{"$f":"IF(OR(ISBLANK(J177),G177=0,ISBLANK(G177)),,ROUND(J177+$K$3,2))","v":0},{"$f":"ROUND(H177*K177,2)","v":0},{"$f":"ROUND(K177/F177,2)","v":0}]
[null,"Long grain, parboiled.   US#1"]
[]
[58,"Sauce, Barbecue, Tomato Base","Cattleman's (St. Louis Original) 5316",null,"4/1g",4,10,{"$f":"ROUND(G180*F180/F180,2)","v":10},"Cs",null,{"$f":"IF(OR(ISBLANK(J180),G180=0,ISBLANK(G180)),,ROUND(J180+$K$3,2))","v":0},{"$f":"ROUND(H180*K180,2)","v":0},{"$f":"ROUND(K180/F180,2)","v":0}]
[null,"Full strength, salt, tomato puree, vinegar, sugar,","Heinz 130005371000",null,"4/1g",4,null,{"$f":"ROUND($G$180*$F$180/F181,2)","v":10},"Cs",null,{"$f":"IF(OR(ISBLANK(J181),G180=0,ISBLANK(G180)),,ROUND(J181+$K$3,2))","v":0},{"$f":"ROUND(K181*H181,2)","v":0},0]
[null,"mustard bran, spices, natural flavors.","Southern Classic 78207310",null,"4/1g",4,null,10,"Cs",null,{"$f":"IF(OR(ISBLANK(J182),G180=0,ISBLANK(G180)),,ROUND(J182+$K$3,2))","v":0},{"$f":"ROUND(K182*H182,2)","v":0},0]
[null,"Must meet Federal Standards ","CF Sauer Dukes 06498",null,"4/1g",4,null,10,"Cs",null,{"$f":"IF(OR(ISBLANK(J183),G180=0,ISBLANK(G180)),,ROUND(J183+$K$3,2))","v":0},{"$f":"ROUND(K183*H183,2)","v":0},0]
[59,"Sauce, Cheese Prepared","Chef Mate (Nestles) 05048",null,"6/106z",636,0,{"$f":"ROUND(G184*F184/F184,2)","v":0},"Cs",null,{"$f":"IF(OR(ISBLANK(J184),G184=0,ISBLANK(G184)),,ROUND(J184+$K$3,2))","v":0},{"$f":"ROUND(H184*K184,2)","v":0},0]
[null,null,"Gehl's 05101",null,"4/140z",256,null,{"$f":"ROUND($G$184*$F$184/F185,2)","v":0},"Cs",null,{"$f":"IF(OR(ISBLANK(J185),G184=0,ISBLANK(G184)),,ROUND(J185+$K$3,2))","v":0},{"$f":"ROUND(K185*H185,2)","v":0},0]
[null,null,"Bay Valley 78370591170",null,"6/107z",642,null,{"$f":"ROUND($G$184*$F$184/F186,2)","v":0},"Cs",null,{"$f":"IF(OR(ISBLANK(J186),G184=0,ISBLANK(G184)),,ROUND(J186+$K$3,2))","v":0},{"$f":"ROUND(K186*H186,2)","v":0},0]
[60,"Sauce, Worcestershire","Distributor Choice",null,"4/1g",4,1,{"$f":"ROUND(G187*F187/F187,2)","v":1},"Cs"]
[null,"First Quality.  Must meet federal standards","Fillable txt box ",{"$nulls":3}," ",{"$f":"ROUND(G187*F187/F188,2)","v":{"$error":"#DIV/0!"}},"Cs",null,{"$f":"IF(OR(ISBLANK(J188),G187=0,ISBLANK(G187)),,ROUND(J188+$K$3,2))","v":0},{"$f":"ROUND(H188*K188,2)","v":{"$error":"#DIV/0!"}},{"$f":"ROUND(K188/F188,2)","v":{"$error":"#DIV/0!"}}]
[61,"Sauce, Soy","Distributor Choice",null,"4/1g",4,1,{"$f":"ROUND(G189*F189/F189,2)","v":1},"Cs"]
[null,"First Quality.  Must meet federal standards","Fillable txt box ",{"$nulls":4},{"$f":"ROUND(G189*F189/F190,2)","v":{"$error":"#DIV/0!"}},"Cs",null,{"$f":"IF(OR(ISBLANK(J190),G189=0,ISBLANK(G189)),,ROUND(J190+$K$3,2))","v":0},{"$f":"ROUND(H190*K190,2)","v":{"$error":"#DIV/0!"}},{"$f":"ROUND(K190/F190,2)","v":{"$error":"#DIV/0!"}}]
[62,"Sauce, Teriyaki","Distributor Choice",null,"4/1g",4,4,{"$f":"ROUND($G$191*$F$191/F191,2)","v":4},"Cs"]
[null,"First Quality.  Must meet federal standards","Fillable txt box ",{"$nulls":4},{"$f":"ROUND(G191*F191/F192,2)","v":{"$error":"#DIV/0!"}},"Cs",null,{"$f":"IF(OR(ISBLANK(J192),G191=0,ISBLANK(G191)),,ROUND(J192+$K$3,2))","v":0},{"$f":"ROUND(H192*K192,2)","v":{"$error":"#DIV/0!"}},{"$f":"ROUND(K192/F192,2)","v":{"$error":"#DIV/0!"}}]
[63,"Shortening, Liquid","Distributor Choice",null,"35 Lb",35,0,{"$f":"ROUND(G193*F193/F193,2)","v":0},"Cs"]
[null,"Deep Fry.  100% vegetable oil, anti-foam, agent added.  ","Fillable txt box ",{"$nulls":4},{"$f":"ROUND(G193*F193/F194,2)","v":{"$error":"#DIV/0!"}},"Cs",null,{"$f":"IF(OR(ISBLANK(J194),G193=0,ISBLANK(G193)),,ROUND(J194+$K$3,2))","v":0},{"$f":"ROUND(H194*K194,2)","v":{"$error":"#DIV/0!"}},{"$f":"ROUND(K194/F194,2)","v":{"$error":"#DIV/0!"}}]
[null,"Maximum fat content .05% "]
[64,"Soup, Condensed, Cream of Chicken","Campbells 01036",null,"12/50 z",12,0,{"$f":"ROUND(G196*F196/F196,2)","v":0},"Cs",null,{"$f":"IF(OR(ISBLANK(J196),G196=0,ISBLANK(G196)),,ROUND(J196+$K$3,2))","v":0},{"$f":"ROUND(H196*K196,2)","v":0},{"$f":"ROUND(K196/F196,2)","v":0}]
[null," "," "]
[]
[65,"Sugar, Confectioners, 10X","Distributor Choice",null,"24/1Lb",24,0,{"$f":"ROUND(G199*F199/F199,2)","v":0},"Cs"]
[null,null,"Fillable txt box ",{"$nulls":4},{"$f":"ROUND(G199*F199/F200,2)","v":{"$error":"#DIV/0!"}},"Cs",null,{"$f":"IF(OR(ISBLANK(J200),G199=0,ISBLANK(G199)),,ROUND(J200+$K$3,2))","v":0},{"$f":"ROUND(H200*K200,2)","v":{"$error":"#DIV/0!"}},{"$f":"ROUND(K200/F200,2)","v":{"$error":"#DIV/0!"}}]
[66,"Sugar, Granulated","Distributor Choice",null,"50Lb",50,50,{"$f":"ROUND(G201*F201/F201,2)","v":50},"Cs"]
[" ","Pure Cane, Extra fine, White ","Fillable txt box ",{"$nulls":4},{"$f":"ROUND(G201*F201/F202,2)","v":{"$error":"#DIV/0!"}},"Cs",null,{"$f":"IF(OR(ISBLANK(J202),G201=0,ISBLANK(G201)),,ROUND(J202+$K$3,2))","v":0},{"$f":"ROUND(H202*K202,2)","v":{"$error":"#DIV/0!"}},{"$f":"ROUND(K202/F202,2)","v":{"$error":"#DIV/0!"}}]
[67,"Sugar, Light Brown","Distributor Choice",null,"24/1Lb",24,2,{"$f":"ROUND(G203*F203/F203,2)","v":2},"Cs"]
[" ",null,"Fillable txt box ",{"$nulls":4},{"$f":"ROUND(G203*F203/F204,2)","v":{"$error":"#DIV/0!"}},"Cs",null,{"$f":"IF(OR(ISBLANK(J204),G203=0,ISBLANK(G203)),,ROUND(J204+$K$3,2))","v":0},{"$f":"ROUND(H204*K204,2)","v":{"$error":"#DIV/0!"}},{"$f":"ROUND(K204/F204,2)","v":{"$error":"#DIV/0!"}}]
[68,"Taco Shells, Large Yellow, WGR","Mission 10115  (17.5 gm each) 2=1.25 GB",null,"200/17.5",100,50,{"$f":"ROUND(G205*F205/F205,2)","v":50},"Cs",null,{"$f":"IF(OR(ISBLANK(J205),G205=0,ISBLANK(G205)),,ROUND(J205+$K$3,2))","v":0},{"$f":"ROUND(H205*K205,2)","v":0},{"$f":"ROUND(K205/F205,2)","v":0}]
[null,"6 to 7 inches, 2 shells = 1.25  OEG"]
[null,"Domestic in origin"]
[]
[69,"Tortilla, Flour 8\", WGR","Mission Foods 33824",null,"12/12 ct",144,200,{"$f":"ROUND(G209*F209/F209,2)","v":200},"Cs",null,{"$f":"IF(OR(ISBLANK(J209),G209=0,ISBLANK(G209)),,ROUND(J209+$K$3,2))","v":0},{"$f":"ROUND(H209*K209,2)","v":0},{"$f":"ROUND(K209/F209,2)","v":0}]
[null,"One serving (one tortilla) provides 1.75 oz equivalent grains. "]
[null,"Made from Whole Grain Wheat flour.  Domestic in Origin"]
[70,"Tea Bags, Caffeinated","Distributor Choice",null,"24/3z",24,35,{"$f":"ROUND(G212*F212/F212,2)","v":35},"Cs"]
[null,"1 tea bag makes 3 gallon of tea","Fillable txt box ",null,null,0,null,{"$f":"ROUND(G212*F212/F213,2)","v":{"$error":"#DIV/0!"}},"Cs",null,{"$f":"IF(OR(ISBLANK(J213),G212=0,ISBLANK(G212)),,ROUND(J213+$K$3,2))","v":0},{"$f":"ROUND(H213*K213,2)","v":{"$error":"#DIV/0!"}},{"$f":"ROUND(K213/F213,2)","v":{"$error":"#DIV/0!"}}]
[null,"`"]
[71,"Vanilla Wafers, Made from enriched flour","Nabisco 193200071800",null,"2/32z",4,0,{"$f":"ROUND(G215*F215/F215,2)","v":0},"Cs",null,{"$f":"IF(OR(ISBLANK(J215),G215=0,ISBLANK(G215)),,ROUND(J215+$K$3,2))","v":0},{"$f":"ROUND(H215*K215,2)","v":0},{"$f":"ROUND(K215/F215,2)","v":0}]
[]
[null,"Whole wafers","Keebler 40865",null,"6/13.3z",5,null,{"$f":"ROUND($G$215*$F$215/F217,2)","v":0},"Cs",null,{"$f":"IF(OR(ISBLANK(J217),G215=0,ISBLANK(G215)),,ROUND(J217+$K$3,2))","v":0},{"$f":"ROUND(K217*H217,2)","v":0},0]
[72,"Vinegar","Distributor Choice",null,"4/1g",4,2,{"$f":"ROUND(G218*F218/F218,2)","v":2},"Cs"]
[null,"Distilled white. 40 grains per gallon.  USDA extra standard","Fillable txt box ",{"$nulls":4},{"$f":"ROUND(G218*F218/F219,2)","v":{"$error":"#DIV/0!"}},"Cs",null,{"$f":"IF(OR(ISBLANK(J219),G218=0,ISBLANK(G218)),,ROUND(J219+$K$3,2))","v":0},{"$f":"ROUND(H219*K219,2)","v":{"$error":"#DIV/0!"}},{"$f":"ROUND(K219/F219,2)","v":{"$error":"#DIV/0!"}}]
[73,"Whipped Topping, non-dairy product, frozen, RTU ","(06-07) Rich's 2559 \"On Top\" ",null,"12/1 Lb",12,0,{"$f":"ROUND(G220*F220/F220,2)","v":0},"Cs",null,{"$f":"IF(OR(ISBLANK(J220),G220=0,ISBLANK(G220)),,ROUND(J220+$K$3,2))","v":0},{"$f":"ROUND(H220*K220,2)","v":0},{"$f":"ROUND(K220/F220,2)","v":0}]
[null,"Packaged in disposable \"pastry bags\" for easy application"]
[74,"Yeast, Instant","SAF 15909",null,"20/1 lb",20,0,{"$f":"ROUND(G222*F222/F222,2)","v":0},"Cs",null,{"$f":"IF(OR(ISBLANK(J222),G222=0,ISBLANK(G222)),,ROUND(J222+$K$3,2))","v":0},{"$f":"ROUND(H222*K222,2)","v":0},{"$f":"ROUND(K222/F222,2)","v":0}]
[null,"Must be vaccum packed, dry","Fleishman's 2139",null,"20/1 lb",20,null,{"$f":"ROUND(G222*F222/F223,2)","v":0},"Cs",null,{"$f":"IF(OR(ISBLANK(J223),G223=0,ISBLANK(G223)),,ROUND(J223+$K$3,2))","v":0},{"$f":"ROUND(H223*K223,2)","v":0},{"$f":"ROUND(K223/F223,2)","v":0}]
[]
[{"$nulls":8},"Page Total",null,null,{"$f":"SUMIF(L4:L223,\">0\")","v":0}]

{"sheet":"Beverages","index":19,"n_rows":64,"n_cols":13,"rows_kept":64,"merged":[[0,4,0,12],[1,4,1,12],[2,5,2,9]]}
[null,{"$f":"'Recap Sheet'!A2","v":"School Food Authority:"},null,null,{"$f":"'Recap Sheet'!A3","v":"Offeror Name:"}]
[null,{"$f":"'Recap Sheet'!B2","v":"Colleton County School District Office of Student Nutrition"},"Return to Recap Sheet",null,{"$f":"'Recap Sheet'!B3","v":0}]
["Item","Description","Approved Brand Name / Manuf ID # ",null,null,"Firm Fixed Fee",{"$nulls":4},{"$f":"'Recap Sheet'!B4","v":{"v":0,"d":"$0.00"}}]
["#",null,null,"Distributor","Vendor","Svgs","Est.","Bid ","Bid","Unit","Unit Price","Total ","Cost per"]
[{"$nulls":3},"Code","Pack","per unit","Bid Qty","Qty","Unit","Price","plus Fee","Price","Unit"]
[null,"Beverages"]
[1,"Beverages, Non-Carbonated, Reduced Calorie","Gatorade,G-2",null,"24/12z",24,50,{"$f":"ROUND(G7*F7/F7,2)","v":50},"Cs",{"v":10.86,"d":"$10.86"},{"$f":"IF(OR(ISBLANK(J7),G7=0,ISBLANK(G7)),,ROUND(J7+$K$3,2))","v":{"v":10.86,"d":"$10.86"}},{"$f":"ROUND(H7*K7,2)","v":{"v":543,"d":"$543.00"}},{"$f":"ROUND(K7/F7,2)","v":{"v":0.45,"d":"$0.45"}}]
[null,"Assorted Flavors.  Plastic Bottles","12204 Orange "]
[null,"Sports Drink with Electrolytes","12462 Lemon Lime "]
[null,null,"12203 Grape"]
[null,"SMART SNACK COMPLIANT","12007 Glacier Freeze"]
[null,null,"12202 Fruit Punch"]
[null,null," "]
[2,"Water, Plain, Non-carbonated","Distributors Choice",null,"24/.5 liter",24,100,{"$f":"ROUND(G14*F14/F14,2)","v":100},"Cs"]
[null,"Plastic bottles, 16.9z","Fillable txt box ",{"$nulls":4},{"$f":"ROUND(G14*F14/F15,2)","v":{"$error":"#DIV/0!"}},"Cs",null,{"$f":"IF(OR(ISBLANK(J15),G14=0,ISBLANK(G14)),,ROUND(J15+$K$3,2))","v":0},{"$f":"ROUND(H15*K15,2)","v":{"$error":"#DIV/0!"}},{"$f":"ROUND(K15/F15,2)","v":{"$error":"#DIV/0!"}}]
[]
[]
[3,"Water, Plain Non-Carb, 8oz","Distributors Choice",null,"28/8z ",28,0,{"$f":"ROUND(G18*F18/F18,2)","v":0},"Cs"]
[null,null,"Fillable txt box ",{"$nulls":4},{"$f":"ROUND(G18*F18/F19,2)","v":{"$error":"#DIV/0!"}},"Cs",null,{"$f":"IF(OR(ISBLANK(J19),G18=0,ISBLANK(G18)),,ROUND(J19+$K$3,2))","v":0},{"$f":"ROUND(H19*K19,2)","v":{"$error":"#DIV/0!"}},{"$f":"ROUND(K19/F19,2)","v":{"$error":"#DIV/0!"}}]
[]
[]
[4,"Juice, 100% , 10 oz plastic bottles","Welchs",null,"24/10z",24,25,{"$f":"ROUND(G22*F22/F22,2)","v":25},"Cs",null,{"$f":"IF(OR(ISBLANK(J22),G22=0,ISBLANK(G22)),,ROUND(J22+$K$3,2))","v":0},{"$f":"ROUND(H22*K22,2)","v":0},{"$f":"ROUND(K22/F22,2)","v":0}]
[null,null,"  316-00 Apple Juice"]
[null,null,"  344-00 Orange Juice"]
[null,null,"  354-00 Grape Juice"]
[5,"Juice, 100%, 11.5 oz cans","Welchs",null,"24/11.5z",24,0,{"$f":"ROUND(G26*F26/F26,2)","v":0},"Cs",null,{"$f":"IF(OR(ISBLANK(J26),G26=0,ISBLANK(G26)),,ROUND(J26+$K$3,2))","v":0},{"$f":"ROUND(H26*K26,2)","v":0},{"$f":"ROUND(K26/F26,2)","v":0}]
[null,null,"  379-00 Orange Juice"]
[null,null,"  380-00 Grape Juice"]
[null,null,"  382-00 Apple Juice "]
[]
[6,"Juice, V Blend, Frozen"," V Blend",null,"70/4 z",70,600,{"$f":"ROUND($G$31*$F$31/F31,2)","v":600},"Cs",{"v":11.53,"d":"$11.53"},{"$f":"IF(OR(ISBLANK(J31),G31=0,ISBLANK(G31)),,ROUND(J31+$K$3,2))","v":{"v":11.53,"d":"$11.53"}},{"$f":"ROUND(H31*K31,2)","v":{"v":6918,"d":"$6,918.00"}},{"$f":"ROUND(K31/F31,2)","v":{"v":0.16,"d":"$0.16"}}]
[null,"Eco Carton, 100% juice","Dragon Punch 45710"]
[null,"Meets 1/2 c Veg","Cherry Star 45712"]
[null,"SMART SNACK COMPLIANT","Wango Mango 45711"]
[null,"ELEMENTARY APPROVED"," "]
[7,"Juice, 100%, from Concentrate, Frozen","Juice4U Frozen",null,"70/4 z",70,500,{"$f":"ROUND(G36*F36/F36,2)","v":500},"Cs",{"v":8.98,"d":"$8.98"},{"$f":"IF(OR(ISBLANK(J36),G36=0,ISBLANK(G36)),,ROUND(J36+$K$3,2))","v":{"v":8.98,"d":"$8.98"}},{"$f":"ROUND(H36*K36,2)","v":{"v":4490,"d":"$4,490.00"}},{"$f":"ROUND(K36/F36,2)","v":{"v":0.13,"d":"$0.13"}}]
[null,null,"Apple  45715"]
[null,"Eco Carton, Meets 1/2 c Fruit","Blue Razz   45716"]
[null,null,"Merry Cherry   45717"]
[null,null,"Purplelicious   45718"]
[null,"SMART SNACK COMPLIANT","Citrus Blast  45719"]
[null,"ELEMENTARY APPROVED","Twisted Melon  45720"]
[8,"Juice, 100% Sparkling Juice, 8oz","The Switch",null,"24/8z",24,200,{"$f":"ROUND(G43*F43/F43,2)","v":200},"Cs",{"v":11,"d":"$11.00"},{"$f":"IF(OR(ISBLANK(J43),G43=0,ISBLANK(G43)),,ROUND(J43+$K$3,2))","v":{"v":11,"d":"$11.00"}},{"$f":"ROUND(H43*K43,2)","v":{"v":2200,"d":"$2,200.00"}},{"$f":"ROUND(K43/F43,2)","v":{"v":0.46,"d":"$0.46"}}]
[null,"Canned, No sugar added, No HFCS","     00321 Apple"]
[null,"8oz provides 2 servings fruit.","     00312 Black Cherry"]
[null,null,"     00315 Fruit Punch"]
[null,null,"     00313 Grape"]
[null,null,"     00317 Kiwi Berry"]
[null,null,"     00319 Tropical Pineapple"]
[null,null,"     00314 Orange Tangerine"]
[null,null,"     00316 Watermelon Strawberry"]
[9,"Juice, 100% , 10oz","Naked Juice",null,"8/10z",8,0,{"$f":"ROUND(G52*F52/F52,2)","v":0},"Cs",{"v":9.12,"d":"$9.12"},{"$f":"IF(OR(ISBLANK(J52),G52=0,ISBLANK(G52)),,ROUND(J52+$K$3,2))","v":0},{"$f":"ROUND(H52*K52,2)","v":0},{"$f":"ROUND(K52/F52,2)","v":0}]
[null,"No Sugar Added.  Contains fruit and/or vegetable juice, puree, ","63117 Berry Blast"]
[null,null,"63076 Green Machine"]
[null,null,"63072 Mighty Mango"]
[null,null,"63071 Strawberry Banana"]
[]
[10,"Water, Sparkling","Sparkling Ice",null,"12/17z",12,200,{"$f":"ROUND(G58*F58/F58,2)","v":200},"Cs",{"v":8.4,"d":"$8.40"},{"$f":"IF(OR(ISBLANK(J58),G58=0,ISBLANK(G58)),,ROUND(J58+$K$3,2))","v":{"v":8.4,"d":"$8.40"}},{"$f":"ROUND(H58*K58,2)","v":{"v":1680,"d":"$1,680.00"}},{"$f":"ROUND(K58/F58,2)","v":{"v":0.7,"d":"$0.70"}}]
[null,"Assorted flavors, bottled, One can contains 20% Vitamin A and D"," "]
[null,"No sugar or calories","  "]
[null,null," "]
[]
[]
[{"$nulls":8},"Page Total",null,null,{"$f":"SUMIF(L6:L63,\">0\")","v":{"v":15831,"d":"$15,831.00"}}]

{"sheet":"Spices- Flavorings","index":20,"n_rows":148,"n_cols":13,"rows_kept":148,"merged":[[0,4,0,12],[1,4,1,12],[2,5,2,9]]}
[null,{"$f":"'Recap Sheet'!A2","v":"School Food Authority:"},null,null,{"$f":"'Recap Sheet'!A3","v":"Offeror Name:"}]
[null,{"$f":"'Recap Sheet'!B2","v":"Colleton County School District Office of Student Nutrition"},"Return to Recap Sheet",null,{"$f":"'Recap Sheet'!B3","v":0}]
["Item","Description","Approved Brand Name / Manuf ID # ",null,null,"Firm Fixed Fee",{"$nulls":4},{"$f":"'Recap Sheet'!B4","v":{"v":0,"d":"$0.00"}}]
["#",null,null,"Distributor","Vendor","Svgs","Est.","Bid ","Bid","Unit","Unit Price","Total ","Cost per"]
[{"$nulls":3},"Code","Pack","per unit","Bid Qty","Qty","Unit","Price","plus Fee","Price","Unit"]
[null,"Spices and Flavorings"]
[null,"Spices should be made from the true aromatic vegetable substance, from which no portion of any volatile or other flavoring principles has"]
[null," been removed and shall be free from artificial coloring, exhausted spices, adulterates, and impurities.  The aroma and characteristic "]
[null," qualities shall be true to the name."]
[]
[1,"Chili Powder","McCormick 932408 ",null,"18z",18,0,{"$f":"ROUND(G11*F11/F11,2)","v":0},"ea",null,{"$f":"IF(OR(ISBLANK(J11),G11=0,ISBLANK(G11)),,ROUND(J11+$K$3,2))","v":0},{"$f":"ROUND(H11*K11,2)","v":0},{"$f":"ROUND(K11/F11,2)","v":0}]
[null,"Grade A ","Sauers 01046",null,"16z",16,null,{"$f":"ROUND($G$11*$F$11/F12,2)","v":0},"ea",null,{"$f":"IF(OR(ISBLANK(J12),G11=0,ISBLANK(G11)),,ROUND(J12+$K$3,2))","v":0},{"$f":"ROUND(K12*H12,2)","v":0},0]
[null,null,"Durkee 54170",null,"16z",16,null,{"$f":"ROUND($G$11*$F$11/F13,2)","v":0},"ea",null,{"$f":"IF(OR(ISBLANK(J13),G11=0,ISBLANK(G11)),,ROUND(J13+$K$3,2))","v":0},{"$f":"ROUND(K13*H13,2)","v":0},0]
[null,null,"Tones 91037",null,"18z",18,null,{"$f":"ROUND($G$11*$F$11/F14,2)","v":0},"ea",null,{"$f":"IF(OR(ISBLANK(J14),G11=0,ISBLANK(G11)),,ROUND(J14+$K$3,2))","v":0},{"$f":"ROUND(K14*H14,2)","v":0},0]
[2,"Cinnamon","McCormick  900223208",null,"18z",18,8,{"$f":"ROUND(G15*F15/F15,2)","v":8},"ea",null,{"$f":"IF(OR(ISBLANK(J15),G15=0,ISBLANK(G15)),,ROUND(J15+$K$3,2))","v":0},{"$f":"ROUND(H15*K15,2)","v":0},0]
[null,"Ground, Grade A","Sauers 01051",null,"16 z",16,null,{"$f":"ROUND($G$15*$F$15/F16,2)","v":9},"ea",null,{"$f":"IF(OR(ISBLANK(J16),G15=0,ISBLANK(G15)),,ROUND(J16+$K$3,2))","v":0},{"$f":"ROUND(K16*H16,2)","v":0},0]
[null,null,"Durkee 54963",null,"15z",15,null,{"$f":"ROUND($G$15*$F$15/F17,2)","v":{"v":9.6,"d":"10"}},"ea",null,{"$f":"IF(OR(ISBLANK(J17),G15=0,ISBLANK(G15)),,ROUND(J17+$K$3,2))","v":0},{"$f":"ROUND(K17*H17,2)","v":0},0]
[null,null,"Tones 91356",null,"16z",16,null,{"$f":"ROUND($G$15*$F$15/F18,2)","v":9},"ea",null,{"$f":"IF(OR(ISBLANK(J18),G15=0,ISBLANK(G15)),,ROUND(J18+$K$3,2))","v":0},{"$f":"ROUND(K18*H18,2)","v":0},0]
[3,"Cloves, Ground","McCormick    932411",null,"16z",16,0,{"$f":"ROUND(G19*F19/F19,2)","v":0},"ea",null,{"$f":"IF(OR(ISBLANK(J19),G19=0,ISBLANK(G19)),,ROUND(J19+$K$3,2))","v":0},{"$f":"ROUND(H19*K19,2)","v":0},0]
[null,"Grade A","Sauers 01086",null,"16z",16,null,{"$f":"ROUND($G$19*$F$19/F20,2)","v":0},"ea",null,{"$f":"IF(OR(ISBLANK(J20),G19=0,ISBLANK(G19)),,ROUND(J20+$K$3,2))","v":0},{"$f":"ROUND(K20*H20,2)","v":0},0]
[null,null,"Durkee 54240",null,"16z",16,null,{"$f":"ROUND($G$19*$F$19/F21,2)","v":0},"ea",null,{"$f":"IF(OR(ISBLANK(J21),G19=0,ISBLANK(G19)),,ROUND(J21+$K$3,2))","v":0},{"$f":"ROUND(K21*H21,2)","v":0},0]
[null,null,"Tones 913594",null,"16z",16,null,{"$f":"ROUND($G$19*$F$19/F22,2)","v":0},"ea",null,{"$f":"IF(OR(ISBLANK(J22),G19=0,ISBLANK(G19)),,ROUND(J22+$K$3,2))","v":0},{"$f":"ROUND(K22*H22,2)","v":0},0]
[4,"Cumin, Ground","McCormick   900223190",null,"14z",14,0,{"$f":"ROUND(G23*F23/F23,2)","v":0},"ea",null,{"$f":"IF(OR(ISBLANK(J23),G23=0,ISBLANK(G23)),,ROUND(J23+$K$3,2))","v":0},{"$f":"ROUND(H23*K23,2)","v":0},0]
[null,"Grade A","Sauers 01106",null,"16z",16,null,{"$f":"ROUND($G$23*$F$23/F24,2)","v":0},"ea",null,{"$f":"IF(OR(ISBLANK(J24),G23=0,ISBLANK(G23)),,ROUND(J24+$K$3,2))","v":0},{"$f":"ROUND(K24*H24,2)","v":0},0]
[null,null,"Durkee 54280",null,"15z",15,null,{"$f":"ROUND($G$23*$F$23/F25,2)","v":0},"ea",null,{"$f":"IF(OR(ISBLANK(J25),G23=0,ISBLANK(G23)),,ROUND(J25+$K$3,2))","v":0},{"$f":"ROUND(K25*H25,2)","v":0},0]
[null,null,"Tones 91364",null,"15z",15,null,{"$f":"ROUND($G$23*$F$23/F26,2)","v":0},"ea",null,{"$f":"IF(OR(ISBLANK(J26),G23=0,ISBLANK(G23)),,ROUND(J26+$K$3,2))","v":0},{"$f":"ROUND(K26*H26,2)","v":0},0]
[5,"Extract, Almond, Imitation","McCormick    900023555",null,"32z",32,0,{"$f":"ROUND(G27*F27/F27,2)","v":0},"ea",null,{"$f":"IF(OR(ISBLANK(J27),G27=0,ISBLANK(G27)),,ROUND(J27+$K$3,2))","v":0},{"$f":"ROUND(H27*K27,2)","v":0},0]
[null,null,"Durkees 34481",null,"32z",32,null,{"$f":"ROUND($G$27*$F$27/F28,2)","v":0},"ea",null,{"$f":"IF(OR(ISBLANK(J28),G27=0,ISBLANK(G27)),,ROUND(J28+$K$3,2))","v":0},{"$f":"ROUND(K28*H28,2)","v":0},0]
[null,null,"Sauers 04406",null,"32z",32,null,{"$f":"ROUND($G$27*$F$27/F29,2)","v":0},"ea",null,{"$f":"IF(OR(ISBLANK(J29),G27=0,ISBLANK(G27)),,ROUND(J29+$K$3,2))","v":0},{"$f":"ROUND(K29*H29,2)","v":0},0]
[]
[6,"Extract, Lemon, Imitation","McCormick   900023548",null,"16z",16,0,{"$f":"ROUND(G31*F31/F31,2)","v":0},"ea",null,{"$f":"IF(OR(ISBLANK(J31),G31=0,ISBLANK(G31)),,ROUND(J31+$K$3,2))","v":0},{"$f":"ROUND(H31*K31,2)","v":0},{"$f":"ROUND(K31/F31,2)","v":0}]
[null,null,"Sauers 04591",null,"32z",32,null,{"$f":"ROUND($G$31*$F$31/F32,2)","v":0},"ea",null,{"$f":"IF(OR(ISBLANK(J32),G31=0,ISBLANK(G31)),,ROUND(J32+$K$3,2))","v":0},{"$f":"ROUND(K32*H32,2)","v":0},{"$f":"ROUND(K32/F32,2)","v":0}]
[null,null,"Durkee 59029",null,"16z",16,null,{"$f":"ROUND($G$31*$F$31/F33,2)","v":0},"ea",null,{"$f":"IF(OR(ISBLANK(J33),G31=0,ISBLANK(G31)),,ROUND(J33+$K$3,2))","v":0},{"$f":"ROUND(K33*H33,2)","v":0},{"$f":"ROUND(K33/F33,2)","v":0}]
[7,"Lemon Juice Concentrate","Distributor Choice",null,"8/48z",1,1,{"$f":"ROUND(G34*F34/F34,2)","v":1},"ea",null,{"$f":"IF(OR(ISBLANK(J34),G34=0,ISBLANK(G34)),,ROUND(J34+$K$3,2))","v":0},{"$f":"ROUND(H34*K34,2)","v":0},{"$f":"ROUND(K34/F34,2)","v":0}]
[]
[8,"Extract, Vanilla, Imitation","McCormick     930619",null,"1 gal",1,0,{"$f":"ROUND(G36*F36/F36,2)","v":0},"ea",null,{"$f":"IF(OR(ISBLANK(J36),G36=0,ISBLANK(G36)),,ROUND(J36+$K$3,2))","v":0},{"$f":"ROUND(H36*K36,2)","v":0},{"$f":"ROUND(K36/F36,2)","v":0}]
[null,"Imitation","Gold Medal 04223 (CF Sauers)",null,"1 gal",1,null,{"$f":"ROUND($G$36*$F$36/F37,2)","v":0},"ea",null,{"$f":"IF(OR(ISBLANK(J37),G36=0,ISBLANK(G36)),,ROUND(J37+$K$3,2))","v":0},{"$f":"ROUND(K37*H37,2)","v":0},0]
[null,null,"Durkee 34450",null,"1 gal",1,null,{"$f":"ROUND($G$36*$F$36/F38,2)","v":0},"ea",null,{"$f":"IF(OR(ISBLANK(J38),G36=0,ISBLANK(G36)),,ROUND(J38+$K$3,2))","v":0},{"$f":"ROUND(K38*H38,2)","v":0},0]
[null,null,"Tones 92096",null,"1/2 gal",0.5,null,{"$f":"ROUND($G$36*$F$36/F39,2)","v":0},"ea",null,{"$f":"IF(OR(ISBLANK(J39),G36=0,ISBLANK(G36)),,ROUND(J39+$K$3,2))","v":0},{"$f":"ROUND(K39*H39,2)","v":0},0]
[9,"Ginger, Ground","McCormick      900223230",null,"16z",16,0,{"$f":"ROUND(G40*F40/F40,2)","v":0},"ea",null,{"$f":"IF(OR(ISBLANK(J40),G40=0,ISBLANK(G40)),,ROUND(J40+$K$3,2))","v":0},{"$f":"ROUND(H40*K40,2)","v":0},0]
[null,"Grade A","Sauers 01126",null,"16z",16,null,{"$f":"ROUND($G$40*$F$40/F41,2)","v":0},"ea",null,{"$f":"IF(OR(ISBLANK(J41),G40=0,ISBLANK(G40)),,ROUND(J41+$K$3,2))","v":0},{"$f":"ROUND(K41*H41,2)","v":0},0]
[null,null,"Durkee 54380",null,"16z",16,null,{"$f":"ROUND($G$40*$F$40/F42,2)","v":0},"ea",null,{"$f":"IF(OR(ISBLANK(J42),G40=0,ISBLANK(G40)),,ROUND(J42+$K$3,2))","v":0},{"$f":"ROUND(K42*H42,2)","v":0},0]
[null,null,"Tones 913768",null,"15z",15,null,{"$f":"ROUND($G$40*$F$40/F43,2)","v":0},"ea",null,{"$f":"IF(OR(ISBLANK(J43),G40=0,ISBLANK(G40)),,ROUND(J43+$K$3,2))","v":0},{"$f":"ROUND(K43*H43,2)","v":0},0]
[10,"Nutmeg","McCormick    900223191",null,"16z",16,0,{"$f":"ROUND(G44*F44/F44,2)","v":0},"ea",null,{"$f":"IF(OR(ISBLANK(J44),G44=0,ISBLANK(G44)),,ROUND(J44+$K$3,2))","v":0},{"$f":"ROUND(H44*K44,2)","v":0},0]
[null,"Grade A","Sauers 01171",null,"16z",16,null,{"$f":"ROUND($G$44*$F$44/F45,2)","v":0},"ea",null,{"$f":"IF(OR(ISBLANK(J45),G44=0,ISBLANK(G44)),,ROUND(J45+$K$3,2))","v":0},{"$f":"ROUND(K45*H45,2)","v":0},0]
[null,null,"Durkee 54530",null,"16z",16,null,{"$f":"ROUND($G$44*$F$44/F46,2)","v":0},"ea",null,{"$f":"IF(OR(ISBLANK(J46),G44=0,ISBLANK(G44)),,ROUND(J46+$K$3,2))","v":0},{"$f":"ROUND(K46*H46,2)","v":0},0]
[null,null,"Tones 913925",null,"16z",16,null,{"$f":"ROUND($G$44*$F$44/F47,2)","v":0},"ea",null,{"$f":"IF(OR(ISBLANK(J47),G44=0,ISBLANK(G44)),,ROUND(J47+$K$3,2))","v":0},{"$f":"ROUND(K47*H47,2)","v":0},0]
[11,"Oregano, Ground","McCormick     932466",null,"13z",13,0,{"$f":"ROUND(G48*F48/F48,2)","v":0},"ea",null,{"$f":"IF(OR(ISBLANK(J48),G48=0,ISBLANK(G48)),,ROUND(J48+$K$3,2))","v":0},{"$f":"ROUND(H48*K48,2)","v":0},0]
[null,"Grade A","Sauers 01186",null,"12z",12,null,{"$f":"ROUND($G$48*$F$48/F49,2)","v":0},"ea",null,{"$f":"IF(OR(ISBLANK(J49),G48=0,ISBLANK(G48)),,ROUND(J49+$K$3,2))","v":0},{"$f":"ROUND(K49*H49,2)","v":0},0]
[null,null,"Durkee 54600",null,"12z",12,null,{"$f":"ROUND($G$48*$F$48/F50,2)","v":0},"ea",null,{"$f":"IF(OR(ISBLANK(J50),G48=0,ISBLANK(G48)),,ROUND(J50+$K$3,2))","v":0},{"$f":"ROUND(K50*H50,2)","v":0},0]
[null,null,"Tones 914006",null,"11z",11,null,{"$f":"ROUND($G$48*$F$48/F51,2)","v":0},"ea",null,{"$f":"IF(OR(ISBLANK(J51),G48=0,ISBLANK(G48)),,ROUND(J51+$K$3,2))","v":0},{"$f":"ROUND(K51*H51,2)","v":0},0]
[12,"Paprika, Ground","McCormick      900210218",null,"18z",18,0,{"$f":"ROUND(G52*F52/F52,2)","v":0},"ea",null,{"$f":"IF(OR(ISBLANK(J52),G52=0,ISBLANK(G52)),,ROUND(J52+$K$3,2))","v":0},{"$f":"ROUND(H52*K52,2)","v":0},0]
[null,"Grade A","Sauers 01191",null,"16z",16,null,{"$f":"ROUND($G$52*$F$52/F53,2)","v":0},"ea",null,{"$f":"IF(OR(ISBLANK(J53),G52=0,ISBLANK(G52)),,ROUND(J53+$K$3,2))","v":0},{"$f":"ROUND(K53*H53,2)","v":0},0]
[null,null,"Durkee 54620",null,"16z",16,null,{"$f":"ROUND($G$52*$F$52/F54,2)","v":0},"ea",null,{"$f":"IF(OR(ISBLANK(J54),G52=0,ISBLANK(G52)),,ROUND(J54+$K$3,2))","v":0},{"$f":"ROUND(K54*H54,2)","v":0},0]
[null,null,"Tones 91403",null,"18z",18,null,{"$f":"ROUND($G$52*$F$52/F55,2)","v":0},"ea",null,{"$f":"IF(OR(ISBLANK(J55),G52=0,ISBLANK(G52)),,ROUND(J55+$K$3,2))","v":0},{"$f":"ROUND(K55*H55,2)","v":0},0]
[13,"Parsley Flakes","McCormick    932478",null,"10z",10,0,{"$f":"ROUND(G56*F56/F56,2)","v":0},"ea",null,{"$f":"IF(OR(ISBLANK(J56),G56=0,ISBLANK(G56)),,ROUND(J56+$K$3,2))","v":0},{"$f":"ROUND(H56*K56,2)","v":0},0]
[null,"Grade A","Sauers 01202",null,"10z",10,null,{"$f":"ROUND($G$56*$F$56/F57,2)","v":0},"ea",null,{"$f":"IF(OR(ISBLANK(J57),G56=0,ISBLANK(G56)),,ROUND(J57+$K$3,2))","v":0},{"$f":"ROUND(K57*H57,2)","v":0},0]
[null,null,"Durkee 55650",null,"11z",11,null,{"$f":"ROUND($G$56*$F$56/F58,2)","v":0},"ea",null,{"$f":"IF(OR(ISBLANK(J58),G56=0,ISBLANK(G56)),,ROUND(J58+$K$3,2))","v":0},{"$f":"ROUND(K58*H58,2)","v":0},0]
[null,null,"Tones 91549",null,"11z",11,null,{"$f":"ROUND($G$56*$F$56/F59,2)","v":0},"ea",null,{"$f":"IF(OR(ISBLANK(J59),G56=0,ISBLANK(G56)),,ROUND(J59+$K$3,2))","v":0},{"$f":"ROUND(K59*H59,2)","v":0},0]
[14,"Pepper, Black, Ground, 16-18 oz.","McCormick       900223221",null,"18z",18,15,{"$f":"ROUND(G60*F60/F60,2)","v":15},"ea",null,{"$f":"IF(OR(ISBLANK(J60),G60=0,ISBLANK(G60)),,ROUND(J60+$K$3,2))","v":0},{"$f":"ROUND(H60*K60,2)","v":0},0]
[null,"Grade A","Sauers 00936",null,"16z",16,null,{"$f":"ROUND($G$60*$F$60/F61,2)","v":16.88},"ea",null,{"$f":"IF(OR(ISBLANK(J61),G60=0,ISBLANK(G60)),,ROUND(J61+$K$3,2))","v":0},{"$f":"ROUND(K61*H61,2)","v":0},0]
[null,null,"Durkee 54961",null,"18z",18,null,{"$f":"ROUND($G$60*$F$60/F62,2)","v":15},"ea",null,{"$f":"IF(OR(ISBLANK(J62),G60=0,ISBLANK(G60)),,ROUND(J62+$K$3,2))","v":0},{"$f":"ROUND(K62*H62,2)","v":0},0]
[null,null,"Tones 91463",null,"18z",18,null,{"$f":"ROUND($G$60*$F$60/F63,2)","v":15},"ea",null,{"$f":"IF(OR(ISBLANK(J63),G60=0,ISBLANK(G60)),,ROUND(J63+$K$3,2))","v":0},{"$f":"ROUND(K63*H63,2)","v":0},0]
[15,"Pepper, Black, Ground, 5#","McCormick       932456",null,"5Lb",5,0,{"$f":"ROUND(G64*F64/F64,2)","v":0},"ea",null,{"$f":"IF(OR(ISBLANK(J64),G64=0,ISBLANK(G64)),,ROUND(J64+$K$3,2))","v":0},{"$f":"ROUND(H64*K64,2)","v":0},0]
[null,"Grade A","Sauers 00937",null,"5Lb",5,null,{"$f":"ROUND($G$64*$F$64/F65,2)","v":0},"ea",null,{"$f":"IF(OR(ISBLANK(J65),G64=0,ISBLANK(G64)),,ROUND(J65+$K$3,2))","v":0},{"$f":"ROUND(K65*H65,2)","v":0},0]
[null,null,"Durkee 55660",null,"5Lb",5,null,{"$f":"ROUND($G$64*$F$64/F66,2)","v":0},"ea",null,{"$f":"IF(OR(ISBLANK(J66),G64=0,ISBLANK(G64)),,ROUND(J66+$K$3,2))","v":0},{"$f":"ROUND(K66*H66,2)","v":0},0]
[null,null,"Tones 51844",null,"5Lb",5,null,{"$f":"ROUND($G$64*$F$64/F67,2)","v":0},"ea",null,{"$f":"IF(OR(ISBLANK(J67),G64=0,ISBLANK(G64)),,ROUND(J67+$K$3,2))","v":0},{"$f":"ROUND(K67*H67,2)","v":0},0]
[16,"Pepper, Lemon, Seasoning","McCormick 2150080350",null,"20.5z",20.5,0,{"$f":"ROUND(G68*F68/F68,2)","v":0},"ea",null,{"$f":"IF(OR(ISBLANK(J68),G68=0,ISBLANK(G68)),,ROUND(J68+$K$3,2))","v":0},{"$f":"ROUND(H68*K68,2)","v":0},{"$f":"ROUND(K68/F68,2)","v":0}]
[null,"Grade A","Durkee 54966",null,"28z",28,null,{"$f":"ROUND($G$68*$F$68/F69,2)","v":0},"ea",null,{"$f":"IF(OR(ISBLANK(J69),G68=0,ISBLANK(G68)),,ROUND(J69+$K$3,2))","v":0},{"$f":"ROUND(K69*H69,2)","v":0},0]
[null,null,"Sauers 01137",null,"23z",23,null,{"$f":"ROUND($G$68*$F$68/F70,2)","v":0},"ea",null,{"$f":"IF(OR(ISBLANK(J70),G68=0,ISBLANK(G68)),,ROUND(J70+$K$3,2))","v":0},{"$f":"ROUND(K70*H70,2)","v":0},0]
[null,null,"Tones 91461",null,"28z",28,null,{"$f":"ROUND($G$68*$F$68/F71,2)","v":0},"ea",null,{"$f":"IF(OR(ISBLANK(J71),G68=0,ISBLANK(G68)),,ROUND(J71+$K$3,2))","v":0},{"$f":"ROUND(K71*H71,2)","v":0},0]
[17,"Pepper, Lemon and Cracked Pepper","Magic Seasoning LCRP2066PK",null,"19.2z",19.2,0,{"$f":"ROUND(G72*F72/F72,2)","v":0},"ea",null,{"$f":"IF(OR(ISBLANK(J72),G72=0,ISBLANK(G72)),,ROUND(J72+$K$3,2))","v":0},{"$f":"ROUND(H72*K72,2)","v":0},{"$f":"ROUND(K72/F72,2)","v":0}]
[null,"No MSG"]
[18,"Pepper, Lemon, Seasoning SALT FREE","Mrs. Dash, J060-S6900 ",null,"21z ",21,25,{"$f":"ROUND(G74*F74/F74,2)","v":25},"ea",null,{"$f":"IF(OR(ISBLANK(J74),G74=0,ISBLANK(G74)),,ROUND(J74+$K$3,2))","v":0},{"$f":"ROUND(H74*K74,2)","v":0},0]
[null,"No MSG","Lawry's 900513940",null,"19z",19,null,{"$f":"ROUND($G$74*$F$74/F75,2)","v":27.63},"ea",null,{"$f":"IF(OR(ISBLANK(J75),G74=0,ISBLANK(G74)),,ROUND(J75+$K$3,2))","v":0},{"$f":"ROUND(K75*H75,2)","v":0},0]
[19,"Pepper, White, Ground","McCormick    900223212",null,"18z",18,0,{"$f":"ROUND(G76*F76/F76,2)","v":0},"ea",null,{"$f":"IF(OR(ISBLANK(J76),G76=0,ISBLANK(G76)),,ROUND(J76+$K$3,2))","v":0},{"$f":"ROUND(H76*K76,2)","v":0},0]
[null,"Grade A","Sauers 01231",null,"16z",16,null,{"$f":"ROUND($G$76*$F$76/F77,2)","v":0},"ea",null,{"$f":"IF(OR(ISBLANK(J77),G76=0,ISBLANK(G76)),,ROUND(J77+$K$3,2))","v":0},{"$f":"ROUND(K77*H77,2)","v":0},0]
[null,null,"Durkee 54750",null,"17z",17,null,{"$f":"ROUND($G$76*$F$76/F78,2)","v":0},"ea",null,{"$f":"IF(OR(ISBLANK(J78),G76=0,ISBLANK(G76)),,ROUND(J78+$K$3,2))","v":0},{"$f":"ROUND(K78*H78,2)","v":0},0]
[null,null,"Tones 91416",null,"18z",18,null,{"$f":"ROUND($G$76*$F$76/F79,2)","v":0},"ea",null,{"$f":"IF(OR(ISBLANK(J79),G76=0,ISBLANK(G76)),,ROUND(J79+$K$3,2))","v":0},{"$f":"ROUND(K79*H79,2)","v":0},0]
[20,"Powder, Garlic","McCormick       900223224",null,"21z",21,8,{"$f":"ROUND(G80*F80/F80,2)","v":8},"ea",null,{"$f":"IF(OR(ISBLANK(J80),G80=0,ISBLANK(G80)),,ROUND(J80+$K$3,2))","v":0},{"$f":"ROUND(H80*K80,2)","v":0},0]
[null,"Ground, Powder Grade A","Sauers 01805",null,"19z",19,null,{"$f":"ROUND($G$80*$F$80/F81,2)","v":8.84},"ea",null,{"$f":"IF(OR(ISBLANK(J81),G80=0,ISBLANK(G80)),,ROUND(J81+$K$3,2))","v":0},{"$f":"ROUND(K81*H81,2)","v":0},0]
[null,null,"Durkee 54360",null,"21z",21,null,{"$f":"ROUND($G$80*$F$80/F82,2)","v":8},"ea",null,{"$f":"IF(OR(ISBLANK(J82),G80=0,ISBLANK(G80)),,ROUND(J82+$K$3,2))","v":0},{"$f":"ROUND(K82*H82,2)","v":0},0]
[null,null,"Tones 91374",null,"21z",21,null,{"$f":"ROUND($G$80*$F$80/F83,2)","v":8},"ea",null,{"$f":"IF(OR(ISBLANK(J83),G80=0,ISBLANK(G80)),,ROUND(J83+$K$3,2))","v":0},{"$f":"ROUND(K83*H83,2)","v":0},0]
[21,"Garlic and Herb Seasoning , SALT FREE ","Mrs. Dash J058-S6900 ",null,"21z ",21,25,{"$f":"ROUND(G84*F84/F84,2)","v":25},"ea",null,{"$f":"IF(OR(ISBLANK(J84),G84=0,ISBLANK(G84)),,ROUND(J84+$K$3,2))","v":0},{"$f":"ROUND(H84*K84,2)","v":0},{"$f":"ROUND(K84/F84,2)","v":0}]
[null,"No MSG","Lawry's 900498766",null,"20z",20,null,{"$f":"ROUND($G$84*$F$84/F85,2)","v":26.25},"ea",null,{"$f":"IF(OR(ISBLANK(J85),G84=0,ISBLANK(G84)),,ROUND(J85+$K$3,2))","v":0},{"$f":"ROUND(K85*H85,2)","v":0},0]
[null,null,"Durkee 59282",null,"18z ",18,null,{"$f":"ROUND($G$84*$F$84/F86,2)","v":29.17},"ea",null,{"$f":"IF(OR(ISBLANK(J86),G84=0,ISBLANK(G84)),,ROUND(J86+$K$3,2))","v":0},{"$f":"ROUND(K86*H86,2)","v":0},0]
[null,null,"Sauers 01874",null,"21z",21,null,{"$f":"ROUND($G$84*$F$84/F87,2)","v":25},"ea",null,{"$f":"IF(OR(ISBLANK(J87),G84=0,ISBLANK(G84)),,ROUND(J87+$K$3,2))","v":0},{"$f":"ROUND(K87*H87,2)","v":0},0]
[22,"Garlic, Roasted ","Minor's 74826142060USL",null,"6/1 lb",480,0,{"$f":"ROUND(G88*F88/F88,2)","v":0},"ea",null,{"$f":"IF(OR(ISBLANK(J88),G88=0,ISBLANK(G88)),,ROUND(J88+$K$3,2))","v":0},{"$f":"ROUND(H88*K88,2)","v":0},0]
[null,"Concentrate, Gluten Free, 0 Trans Fat, 0 Saturated Fat, "," "]
[null,null," "]
[null,null," "]
[22,"Sage, Ground","McCormick     932373",null,"11z",11,0,{"$f":"ROUND(G92*F92/F92,2)","v":0},"ea",null,{"$f":"IF(OR(ISBLANK(J92),G92=0,ISBLANK(G92)),,ROUND(J92+$K$3,2))","v":0},{"$f":"ROUND(H92*K92,2)","v":0},0]
[null,"Grade A","Sauers 01250",null,"8z",8,null,{"$f":"ROUND($G$92*$F$92/F93,2)","v":0},"ea",null,{"$f":"IF(OR(ISBLANK(J93),G92=0,ISBLANK(G92)),,ROUND(J93+$K$3,2))","v":0},{"$f":"ROUND(K93*H93,2)","v":0},0]
[null,null,"Durkee 54800",null,"6z",6,null,{"$f":"ROUND($G$92*$F$92/F94,2)","v":0},"ea",null,{"$f":"IF(OR(ISBLANK(J94),G92=0,ISBLANK(G92)),,ROUND(J94+$K$3,2))","v":0},{"$f":"ROUND(K94*H94,2)","v":0},0]
[null,null,"Tones 914295",null,"6z",6,null,{"$f":"ROUND($G$92*$F$92/F95,2)","v":0},"ea",null,{"$f":"IF(OR(ISBLANK(J95),G92=0,ISBLANK(G92)),,ROUND(J95+$K$3,2))","v":0},{"$f":"ROUND(K95*H95,2)","v":0},0]
[23,"Salt, Celery","McCormick       932437",null,"30z",30,0,{"$f":"ROUND(G96*F96/F96,2)","v":0},"ea",null,{"$f":"IF(OR(ISBLANK(J96),G96=0,ISBLANK(G96)),,ROUND(J96+$K$3,2))","v":0},{"$f":"ROUND(H96*K96,2)","v":0},0]
[null,"Grade A ","Sauers 01036",null,"36z",36,null,{"$f":"ROUND($G$96*$F$96/F97,2)","v":0},"ea",null,{"$f":"IF(OR(ISBLANK(J97),G96=0,ISBLANK(G96)),,ROUND(J97+$K$3,2))","v":0},{"$f":"ROUND(K97*H97,2)","v":0},0]
[null,null,"Durkee 54110",null,"32z",32,null,{"$f":"ROUND($G$96*$F$96/F98,2)","v":0},"ea",null,{"$f":"IF(OR(ISBLANK(J98),G96=0,ISBLANK(G96)),,ROUND(J98+$K$3,2))","v":0},{"$f":"ROUND(K98*H98,2)","v":0},0]
[null,null,"Tones 913438",null,"35z",35,null,{"$f":"ROUND($G$96*$F$96/F99,2)","v":0},"ea",null,{"$f":"IF(OR(ISBLANK(J99),G96=0,ISBLANK(G96)),,ROUND(J99+$K$3,2))","v":0},{"$f":"ROUND(K99*H99,2)","v":0},0]
[24,"Salt, Garlic","McCormick      900210227",null,"41.25 z",41.25,0,{"$f":"ROUND(G100*F100/F100,2)","v":0},"ea",null,{"$f":"IF(OR(ISBLANK(J100),G100=0,ISBLANK(G100)),,ROUND(J100+$K$3,2))","v":0},{"$f":"ROUND(H100*K100,2)","v":0},0]
[null,"Grade A","Sauers 01121",null,"40 z",40,null,{"$f":"ROUND($G$100*$F$100/F101,2)","v":0},"ea",null,{"$f":"IF(OR(ISBLANK(J101),G100=0,ISBLANK(G100)),,ROUND(J101+$K$3,2))","v":0},{"$f":"ROUND(K101*H101,2)","v":0},0]
[null,null,"Durkee 54965",null,"40 z",40,null,{"$f":"ROUND($G$100*$F$100/F102,2)","v":0},"ea",null,{"$f":"IF(OR(ISBLANK(J102),G100=0,ISBLANK(G100)),,ROUND(J102+$K$3,2))","v":0},{"$f":"ROUND(K102*H102,2)","v":0},0]
[null,null,"Tones 91375",null,"40 z",40,null,{"$f":"ROUND($G$100*$F$100/F103,2)","v":0},"ea",null,{"$f":"IF(OR(ISBLANK(J103),G100=0,ISBLANK(G100)),,ROUND(J103+$K$3,2))","v":0},{"$f":"ROUND(K103*H103,2)","v":0},0]
[25,"Salt, Iodized","Distributor Choice",null,"24/26z",624,4,{"$f":"ROUND(G104*F104/F104,2)","v":4},"ea"]
[null,"Fine, Grade A","Fillable txt box ",{"$nulls":4},{"$f":"ROUND(G104*F104/F105,2)","v":{"$error":"#DIV/0!"}},"ea",null,{"$f":"IF(OR(ISBLANK(J105),G104=0,ISBLANK(G104)),,ROUND(J105+$K$3,2))","v":0},{"$f":"ROUND(H105*K105,2)","v":{"$error":"#DIV/0!"}},{"$error":"#DIV/0!"}]
[26,"Salt, Onion","McCormick      932440",null,"36 z",36,0,{"$f":"ROUND(G106*F106/F106,2)","v":0},"ea",null,{"$f":"IF(OR(ISBLANK(J106),G106=0,ISBLANK(G106)),,ROUND(J106+$K$3,2))","v":0},{"$f":"ROUND(H106*K106,2)","v":0},{"$f":"ROUND(K106/F106,2)","v":0}]
[null,"Grade A, Granulated","Sauers 01176",null,"36 z",36,0,{"$f":"ROUND($G$106*$F$106/F107,2)","v":0},"ea",null,{"$f":"IF(OR(ISBLANK(J107),G106=0,ISBLANK(G106)),,ROUND(J107+$K$3,2))","v":0},{"$f":"ROUND(K107*H107,2)","v":0},0]
[null,null,"Durkee 54580",null,"36 z",36,null,{"$f":"ROUND($G$106*$F$106/F108,2)","v":0},"ea",null,{"$f":"IF(OR(ISBLANK(J108),G106=0,ISBLANK(G106)),,ROUND(J108+$K$3,2))","v":0},{"$f":"ROUND(K108*H108,2)","v":0},0]
[null,null,"Tones 913982",null,"36 z",36,null,{"$f":"ROUND($G$106*$F$106/F109,2)","v":0},"ea",null,{"$f":"IF(OR(ISBLANK(J109),G106=0,ISBLANK(G106)),,ROUND(J109+$K$3,2))","v":0},{"$f":"ROUND(K109*H109,2)","v":0},0]
[27,"Salt, Season","McCormick      900018589",null,"4.5Lb",72,0,{"$f":"ROUND(G110*F110/F110,2)","v":0},"ea",null,{"$f":"IF(OR(ISBLANK(J110),G110=0,ISBLANK(G110)),,ROUND(J110+$K$3,2))","v":0},{"$f":"ROUND(H110*K110,2)","v":0},0]
[null,"Grade A","Sauers 01267",null,"9Lb",144,null,{"$f":"ROUND($G$110*$F$110/F111,2)","v":0},"ea",null,{"$f":"IF(OR(ISBLANK(J111),G110=0,ISBLANK(G110)),,ROUND(J111+$K$3,2))","v":0},{"$f":"ROUND(K111*H111,2)","v":0},0]
[null,null,"Durkee 54830",null,"37 z",37,null,{"$f":"ROUND($G$110*$F$110/F112,2)","v":0},"ea",null,{"$f":"IF(OR(ISBLANK(J112),G110=0,ISBLANK(G110)),,ROUND(J112+$K$3,2))","v":0},{"$f":"ROUND(K112*H112,2)","v":0},0]
[null,null,"Tones 914345",null,"33 z",33,null,{"$f":"ROUND($G$110*$F$110/F113,2)","v":0},"ea",null,{"$f":"IF(OR(ISBLANK(J113),G110=0,ISBLANK(G110)),,ROUND(J113+$K$3,2))","v":0},{"$f":"ROUND(K113*H113,2)","v":0},0]
[null,null,"Lawry's 2150080623",null,"40 z",40,null,{"$f":"ROUND($G$110*$F$110/F114,2)","v":0},"ea",null,{"$f":"IF(OR(ISBLANK(J114),G110=0,ISBLANK(G110)),,ROUND(J114+$K$3,2))","v":0},{"$f":"ROUND(K114*H114,2)","v":0},0]
[null,null,"(04-05) Stax 6001",null,"38 z",38,null,{"$f":"ROUND($G$110*$F$110/F115,2)","v":0},"ea",null,{"$f":"IF(OR(ISBLANK(J115),G110=0,ISBLANK(G110)),,ROUND(J115+$K$3,2))","v":0},{"$f":"ROUND(K115*H115,2)","v":0},0]
[28,"SALT FREE Seasoning ","Mrs Dash J017 S696900",null,"21 z ",21,8,{"$f":"ROUND(G116*F116/F116,2)","v":8},"ea",null,{"$f":"IF(OR(ISBLANK(J116),G116=0,ISBLANK(G116)),,ROUND(J116+$K$3,2))","v":0},{"$f":"ROUND(H116*K116,2)","v":0},0]
[null,"All Purpose Ingredient, No MSG","Lawry's SaltFree 17 2150080606",null,"20 z",20,null,{"$f":"ROUND($G$116*$F$116/F117,2)","v":8.4},"ea",null,{"$f":"IF(OR(ISBLANK(J117),G116=0,ISBLANK(G116)),,ROUND(J117+$K$3,2))","v":0},{"$f":"ROUND(K117*H117,2)","v":0},0]
[null,null,"Sauer, Chef Shake 01003",null,"18 oz",18,null,{"$f":"ROUND($G$116*$F$116/F118,2)","v":9.33},"ea",null,{"$f":"IF(OR(ISBLANK(J118),G116=0,ISBLANK(G116)),,ROUND(J118+$K$3,2))","v":0},{"$f":"ROUND(K118*H118,2)","v":0},0]
[29,"Seasoning Mix, Spaghetti","Spatini, Lawry's 900276804  ",null,"12/15 z",180,50,{"$f":"ROUND(G119*F119/F119,2)","v":50},"Cs",null,{"$f":"IF(OR(ISBLANK(J119),G119=0,ISBLANK(G119)),,ROUND(J119+$K$3,2))","v":0},{"$f":"ROUND(H119*K119,2)","v":0},0]
[null,null,"Atlantic Seasonings 06404",null,"12/15 z",180,null,{"$f":"ROUND($G$119*$F$119/F120,2)","v":50},"Cs",null,{"$f":"IF(OR(ISBLANK(J120),G119=0,ISBLANK(G119)),,ROUND(J120+$K$3,2))","v":0},{"$f":"ROUND(K120*H120,2)","v":0},0]
[null," ","Precision Foods V415-AN190, Red Sodium",null,"6/11.2z",67.5,null,{"$f":"ROUND($G$119*$F$119/F121,2)","v":133.33},"Cs",null,{"$f":"IF(OR(ISBLANK(J121),G119=0,ISBLANK(G119)),,ROUND(J121+$K$3,2))","v":0},{"$f":"ROUND(K121*H121,2)","v":0},0]
[null,null,"CF Sauer 09093",null,"6/14 z",84,null,{"$f":"ROUND($G$119*$F$119/F122,2)","v":107.14},"CS",null,{"$f":"IF(OR(ISBLANK(J122),G119=0,ISBLANK(G119)),,ROUND(J122+$K$3,2))","v":0},{"$f":"ROUND(K122*H122,2)","v":0},0]
[]
[30,"Seasoning Mix, Stir-Fry Rice, Asian","Foothill Farms,S140-G1190",null,"10/6.82z",460,25,{"$f":"ROUND(G124*F124/F124,2)","v":25},"Cs",null,{"$f":"IF(OR(ISBLANK(J124),G124=0,ISBLANK(G124)),,ROUND(J124+$K$3,2))","v":0},{"$f":"ROUND(H124*K124,2)","v":0},{"$f":"ROUND(K124/F124,2)","v":0}]
[null,"460/4 oz per case,  No preservatives, no artificial flavors."]
[]
[31,"Seasoning Mix, Taco","Lawry (Unilever) 2150080110",null,"6/9z",54,10,{"$f":"ROUND(G127*F127/F127,2)","v":10},"Cs",null,{"$f":"IF(OR(ISBLANK(J127),G127=0,ISBLANK(G127)),,ROUND(J127+$K$3,2))","v":0},{"$f":"ROUND(H127*K127,2)","v":0},{"$f":"ROUND(K127/F127,2)","v":0}]
[null,null,"Rosarita 10381 ",null,"6/9z",54,null,{"$f":"ROUND($G$127*$F$127/F128,2)","v":10},"Cs",null,{"$f":"IF(OR(ISBLANK(J128),G127=0,ISBLANK(G127)),,ROUND(J128+$K$3,2))","v":0},{"$f":"ROUND(K128*H128,2)","v":0},0]
[null,null,"Atlantic Seasonings 06301",null,"6/9z",54,null,10,"Cs",null,{"$f":"IF(OR(ISBLANK(J129),G127=0,ISBLANK(G127)),,ROUND(J129+$K$3,2))","v":0},0,0]
[null,null,"Casa Fiesta 01828",null,"6/9z",54,null,10,"Cs",null,{"$f":"IF(OR(ISBLANK(J130),G127=0,ISBLANK(G127)),,ROUND(J130+$K$3,2))","v":0},0,0]
[null,null,"PrecisionFoods V413-D9190,Red Sodium",null,"6/6.6z",39.6,null,{"$f":"ROUND($G$127*$F$127/F131,2)","v":{"v":13.64,"d":"14"}},"Cs",null,{"$f":"IF(OR(ISBLANK(J131),G126=0,ISBLANK(G126)),,ROUND(J131+$K$3,2))","v":0},{"$f":"ROUND(K131*H131,2)","v":0},{"$f":"ROUND(K131/F131,2)","v":0}]
[null,null,"CF Sauer 09094",null,"6/14 z",84,null,{"v":6.43,"d":"6"},"Cs",null,{"$f":"IF(OR(ISBLANK(J132),G126=0,ISBLANK(G126)),,ROUND(J132+$K$3,2))","v":0},0,0]
[null,null," ",null," "," ",null," "," "," "," "," "," "]
[]
[32,"Seasoning, French Fry","Sauers 01271",null,"36 z",36,0,{"$f":"ROUND(G135*F135/F135,2)","v":0},"ea",null,{"$f":"IF(OR(ISBLANK(J135),G135=0,ISBLANK(G135)),,ROUND(J135+$K$3,2))","v":0},{"$f":"ROUND(H135*K135,2)","v":0},{"$f":"ROUND(K135/F135,2)","v":0}]
[null,"Grade A","Lawry's 2150080621",null,"6/16z",96,null,{"$f":"ROUND($G$135*$F$135/F136,2)","v":0},"ea",null,{"$f":"IF(OR(ISBLANK(J136),G135=0,ISBLANK(G135)),,ROUND(J136+$K$3,2))","v":0},{"$f":"ROUND(K136*H136,2)","v":0},{"$f":"ROUND(K136/F136,2)","v":0}]
[null,null," ",null," "," ",null," "," "," "," ","  "," "]
[]
[33,"Seasoning, Poultry","McCormick 932422",null,"12 z",12,4,{"$f":"ROUND(G139*F139/F139,2)","v":4},"ea",null,{"$f":"IF(OR(ISBLANK(J139),G139=0,ISBLANK(G139)),,ROUND(J139+$K$3,2))","v":0},{"$f":"ROUND(H139*K139,2)","v":0},{"$f":"ROUND(K139/F139,2)","v":0}]
[null,"Grade A","Durkee 54775",null,"10 z",10,null,{"$f":"ROUND($G$139*$F$139/F140,2)","v":4.8},"ea",null,{"$f":"IF(OR(ISBLANK(J140),G139=0,ISBLANK(G139)),,ROUND(J140+$K$3,2))","v":0},{"$f":"ROUND(K140*H140,2)","v":0},0]
[null,null,"Sauers 1236",null,"12 z",12,null,{"$f":"ROUND($G$139*$F$139/F141,2)","v":4},"ea",null,{"$f":"IF(OR(ISBLANK(J141),G139=0,ISBLANK(G139)),,ROUND(J141+$K$3,2))","v":0},{"$f":"ROUND(K141*H141,2)","v":0},0]
[null,null,"Tones 914246",null,"10 z",10,null,{"$f":"ROUND($G$139*$F$139/F142,2)","v":4.8},"ea",null,{"$f":"IF(OR(ISBLANK(J142),G139=0,ISBLANK(G139)),,ROUND(J142+$K$3,2))","v":0},{"$f":"ROUND(K142*H142,2)","v":0},0]
[34,"Thyme, Dried leaf","Distributor Choice",null,"7z",7,0,{"$f":"ROUND(G143*F143/F143,2)","v":0},"ea"]
[null,"Grade A","Fillable txt box ",{"$nulls":4},{"$f":"ROUND(G143*F143/F144,2)","v":{"$error":"#DIV/0!"}},"ea",null,{"$f":"IF(OR(ISBLANK(J144),G143=0,ISBLANK(G143)),,ROUND(J144+$K$3,2))","v":0},{"$f":"ROUND(H144*K144,2)","v":{"$error":"#DIV/0!"}},{"$error":"#DIV/0!"}]
[35,"Onion Powder ","Distributor Choice",null,"21 z ",21,8,{"$f":"ROUND(G145*F145/F145,2)","v":8},"ea"]
[null,"Grade A ","Fillable txt box ",{"$nulls":4},{"$f":"ROUND(G145*F145/F146,2)","v":{"$error":"#DIV/0!"}},"ea",null,{"$f":"IF(OR(ISBLANK(J146),G145=0,ISBLANK(G145)),,ROUND(J146+$K$3,2))","v":0},{"$f":"ROUND(H146*K146,2)","v":{"$error":"#DIV/0!"}},{"$error":"#DIV/0!"}]
[]
[{"$nulls":8},"Page Total",null,null,{"$f":"SUMIF(L6:L147,\">0\")","v":0}]

{"sheet":"Condiments Portion Control","index":21,"n_rows":129,"n_cols":14,"rows_kept":129,"merged":[[0,4,0,12],[1,4,1,12],[2,5,2,9]]}
[null,{"$f":"'Recap Sheet'!A2","v":"School Food Authority:"},null,null,{"$f":"'Recap Sheet'!A3","v":"Offeror Name:"}]
[null,{"$f":"'Recap Sheet'!B2","v":"Colleton County School District Office of Student Nutrition"},"Return to Recap Sheet",null,{"$f":"'Recap Sheet'!B3","v":0}]
["Item","Description","Approved Brand Name / Manuf ID # ",null,null,"Firm Fixed Fee",{"$nulls":4},{"$f":"'Recap Sheet'!B4","v":{"v":0,"d":"$0.00"}}]
["#",null,null,"Distributor","Vendor","Svgs","Est.","Bid ","Bid","Unit","Unit Price","Total ","Cost per"]
[{"$nulls":3},"Code","Pack","per unit","Bid Qty","Qty","Unit","Price","plus Fee","Price","Unit"]
[null,"Condiments/Portion Control"]
[1,"Dressings, Single Serving Cup Light Ranch","Naturally Fresh 85119775061",null,"100/1.0z",100,500,{"$f":"ROUND($G$7*$F$7/F7,2)","v":500},"Cs",{"v":9.71,"d":"$9.71"},{"$f":"IF(OR(ISBLANK(J7),G7=0,ISBLANK(G7)),,ROUND(J7+$K$3,2))","v":{"v":9.71,"d":"$9.71"}},{"$f":"ROUND(H7*K7,2)","v":{"v":4855,"d":"$4,855.00"}},{"$f":"ROUND(K7/F7,2)","v":{"v":0.1,"d":"$0.10"}}]
[]
[2,"Dressings, Single Serving Light Ranch","Ken's KE0708A5",null,"100/1.5z",100,0,{"$f":"ROUND($G$9*$F$9/F9,2)","v":0},"Cs"," "," ","  "," "]
[" ","1.5 oz. Does not require refrigeration","Heinz 130005343500",null,"100/1.5z",100," ",{"$f":"ROUND($G$9*$F$9/F10,2)","v":0},"Cs",{"v":6.54,"d":"$6.54"},{"$f":"IF(OR(ISBLANK(J10),G10=0,ISBLANK(G10)),,ROUND(J10+$K$3,2))","v":{"v":6.54,"d":"$6.54"}},{"$f":"ROUND(H10*K10,2)","v":0},{"$f":"ROUND(K10/F10,2)","v":{"v":0.07,"d":"$0.07"}}]
[3,"Dressings, Salad, Fat Free, Italian, 1.5 oz","Marzetti 81975  Reduced Sodium ",null,"60/1.5z ",60,0,{"$f":"ROUND(G11*F11/F11,2)","v":0},"Cs"," "," "," "," "]
[null,"Does not require refrigeration","Taste Pleasers 7160370009500",null,"100/1.5 z",100,null,{"$f":"ROUND($G$11*$F$11/F12,2)","v":0},"Cs"," "," ","  "," "]
[null,null,"Kens KE0807B3 ",null,"60/1.5z ",60,null,0,"Cs"," ","  "," ","  "]
[null,null,"Hellmann's 26329",null,"102/1.5z",102,null,0,"Cs"," "," "," "," "]
[null,null,"Hidden Valley 85640",null,"84/1.5 z",84,null,0,"Cs"," ","  "," "," "]
[null,null,"Naturally Fresh, 85716475061",null,"100/1.5z",100,null,0,"Cs",{"v":7.23,"d":"$7.23"},{"$f":"IF(OR(ISBLANK(J16),G11=0,ISBLANK(G11)),,ROUND(J16+$K$3,2))","v":0},{"$f":"ROUND(K16*H16,2)","v":0},{"$f":"ROUND(K16/F16,2)","v":0}]
[null," ","Wishbone 26100",null,"60/1.5z",60,null,0,"Cs"," "," "," "," "]
[]
[4,"Dressings, Salad, Fat Free, Ranch, 1.5 oz","Marzetti 81976 Reduced Sodium ",null,"60/1.5 z",60,0,{"$f":"ROUND(G19*F19/F19,2)","v":0},"Cs"," "," "," ","  "]
[null,"Does not require refrigeration","Taste Pleasers 7160370007500",null,"100/1.5 z",100,null,{"$f":"ROUND($G$19*$F$19/F20,2)","v":0},"Cs",{"v":11.54,"d":"$11.54"},{"$f":"IF(OR(ISBLANK(J20),G19=0,ISBLANK(G19)),,ROUND(J20+$K$3,2))","v":0},{"$f":"ROUND(K20*H20,2)","v":0},{"$f":"ROUND(K20/F20,2)","v":0}]
[null,null,"Naturally Fresh, 30004470  ",null,"100/1.5z",100,null,0,"Cs"]
[null,null,"Kens KE0026B3 ",null,"60/1.5 z",60,null,0,"Cs"]
[null,null,"Hellmann's 26331",null,"102/1.5z",102,null,0,"Cs"]
[null,null,"Hidden Valley 85629",null,"84/1.5z ",84,null,0,"Cs"]
[null,null,"Wishbone 26108",null,"60/1.5 z",60,null,0,"Cs"]
[5,"Dressings, Salad, Fat Free, Thousand Island, 1.5 oz","Marzetti 81974",null,"60/1.5 z",60,0,{"$f":"ROUND(G26*F26/F26,2)","v":0},"Cs"]
[null,"Does not require refrigeration","Taste Pleasers 7160370011500",null,"100/1.5 z",100,null,{"$f":"ROUND($G$26*$F$26/F27,2)","v":0},"Cs",{"v":14.21,"d":"$14.21"},{"$f":"IF(OR(ISBLANK(J27),G26=0,ISBLANK(G26)),,ROUND(J27+$K$3,2))","v":0},{"$f":"ROUND(K27*H27,2)","v":0},0]
[null,null,"Hellmann's 26334",null,"102/1.5z",102,null,{"$f":"ROUND($G$26*$F$26/F28,2)","v":0},"Cs"," ","  ","  "," "]
[null,null,"Hidden Valley 85642",null,"84/1.5 z",84,null,{"$f":"ROUND($G$26*$F$26/F29,2)","v":0},"Cs"," "," "," "," "]
[6,"Dressings, Salad, Light, Ranch, 1.5 oz","Heinz 130005343500",null,"60/1.5z",60,250,{"$f":"ROUND(G30*F30/F30,2)","v":250},"Cs",{"v":6.54,"d":"$6.54"},{"$f":"IF(OR(ISBLANK(J30),G30=0,ISBLANK(G30)),,ROUND(J30+$K$3,2))","v":{"v":6.54,"d":"$6.54"}},{"$f":"ROUND(H30*K30,2)","v":{"v":1635,"d":"$1,635.00"}},{"v":0.11,"d":"$0.11"}]
[null,"Does not require refrigeration","Ken's KE2131A5  ",null,"100/1.5z",100,null,{"$f":"ROUND(G30*F30/F31,2)","v":150},"Cs"]
[null,"0 transfat, 3 grams of fat per 1.5 oz serving","Kraft 1154",null,"60/1.5z",60,null,{"$f":"ROUND(G30*F30/F32,2)","v":250},"Cs"]
[null,null,"House Blend 75121",null,"60/1.5z",60,null,{"$f":"ROUND(G30*F30/F33,2)","v":250},"Cs"]
[7,"Dressing, Salad, Ranch,  FF, 12 Gram","Kraft 210006496200",null,"200/.43z",200,0,{"$f":"ROUND(G34*F34/F34,2)","v":0},"Cs",{"v":8.14,"d":"$8.14"},{"$f":"IF(OR(ISBLANK(J34),G34=0,ISBLANK(G34)),,ROUND(J34+$K$3,2))","v":0},{"$f":"ROUND(H34*K34,2)","v":0},{"$f":"IF(F34>0,ROUND(K34/F34,2),)","v":0}]
[null,null,"Sauers 06504",null,"200/12g",200,0,{"$f":"ROUND(G34*F34/F35,2)","v":0},"Cs"]
[8,"Dressing, Salad, Reg, French, 12 gram","Heinz 130005328000",null,"200/.43z",200,0,{"$f":"ROUND(G36*F36/F36,2)","v":0},"Cs"," "," ","  "," "]
[null,null,"Sauers 06387",null,"200/12g",200,null,{"$f":"ROUND(G36*F36/F37,2)","v":0},"Cs",{"v":7.21,"d":"$7.21"},{"$f":"IF(OR(ISBLANK(J37),G36=0,ISBLANK(G36)),,ROUND(J37+$K$3,2))","v":0},{"$f":"ROUND(H37*K37,2)","v":0},{"$f":"IF(F37>0,ROUND(K37/F37,2),)","v":0}]
[9,"Dressing, Salad, Reg, Italian, 12 gram","Heinz 130005326000",null,"200/12z",200,0,{"$f":"ROUND(G38*F38/F38,2)","v":0},"Cs"," "," ","  "," "]
[null,null,"Sauers 06392",null,"200/.43z",200,null,{"$f":"ROUND($G$38*$F$38/F39,2)","v":0},"Cs",{"v":5.84,"d":"$5.84"},{"$f":"IF(OR(ISBLANK(J39),G38=0,ISBLANK(G38)),,ROUND(J39+$K$3,2))","v":0},{"$f":"ROUND(K39*H39,2)","v":0},{"$f":"ROUND(K39/F39,2)","v":0}]
[10,"Dressings, Salad, Reg, Ranch, 12 gm","Heinz 130005331000",null,"200/12gm",200,0,{"$f":"ROUND(G40*F40/F40,2)","v":0},"Cs"," "," ","  "," "]
[null,"Does not require refrigeration","Kraft 2100064900",null,"200/.43z",200,null,{"$f":"ROUND($G$40*$F$40/F41,2)","v":0},"Cs"," "," "," "," "]
[null,null,"CF Sauers 06863",null,"200/12gm",200,null,{"$f":"ROUND($G$40*$F$40/F42,2)","v":0},"Cs",{"v":8.12,"d":"$8.12"},{"$f":"IF(OR(ISBLANK(J42),G40=0,ISBLANK(G40)),,ROUND(J42+$K$3,2))","v":0},{"$f":"ROUND(K42*H42,2)","v":0},0]
[11,"Dressings, Salad, Regular, French, 1.5 oz","Marzetti 81919",null,"120/1.5z",120,0,{"$f":"ROUND(G43*F43/F43,2)","v":0},"Cs"]
[null,"Does not require refrigeration","Taste Pleasers 7160370001500",null,"100/1.5 z",100,null,{"$f":"ROUND($G$43*$F$43/F44,2)","v":0},"Cs"]
[null,null,"Kens KE0033B3 ",null,"60/1.5 z",60,null,0,"Cs"]
[null,null,"Hellmann's 26324",null,"102/1.5z",102,null,0,"Cs"]
[null,null,"Wishbone 26115",null,"60/1.5 z",60,null,0,"Cs"]
[null,null,"Heinz 78000832",null,"60/1.5 z",60,null,0,"Cs",{"v":7.11,"d":"$7.11"},{"$f":"IF(OR(ISBLANK(J48),G43=0,ISBLANK(G43)),,ROUND(J48+$K$3,2))","v":0},0,0]
[null,null,"Hidden Valley 85636",null,"84/1.5 z",84,null,0,"Cs"," ","  "," "," "]
[null,null,"House Blend 75103",null,"60/1.5z",60,null,{"$f":"ROUND($G$43*$F$43/F50,2)","v":0},"Cs"," "," "," "," "]
[12,"Dressings, Salad, Regular, Italian, 1.5 oz","Marzetti 81998 ",null,"60/1.5 z",60,100,{"$f":"ROUND(G51*F51/F51,2)","v":100},"Cs"]
[null,"Does not require refrigeration","Taste Pleasers 7150371998400",null,"100/1.5 z",100,null,{"$f":"ROUND($G$51*$F$51/F52,2)","v":60},"Cs",{"v":10.3,"d":"$10.30"},{"$f":"IF(OR(ISBLANK(J52),G51=0,ISBLANK(G51)),,ROUND(J52+$K$3,2))","v":{"v":10.3,"d":"$10.30"}},{"$f":"ROUND(K52*H52,2)","v":{"v":618,"d":"$618.00"}},{"v":0.1,"d":"$0.10"}]
[null,null,"Kens KE0020B3 ",null,"60/1.5 z",60,null,100,"Cs"]
[null,null,"Hellmann's 26321",null,"102/1.5z",102,null,58.82,"Cs"]
[null,null,"Wishbone 26103",null,"60/1.5 z",60,null,100,"Cs"]
[null,null,"Heinz 78000830",null,"60/1.5 z",60,null,100,"Cs"]
[null,null,"Hidden Valley 85637",null,"84/1.5 z",84,null,{"v":71.43,"d":"71"},"Cs"]
[13,"Dressings, Salad, Regular, Honey Mustard, 1.5 oz, Individual ","Naturally Fresh 857168705061",null,"100/1.5z",100,250,{"$f":"ROUND(G58*F58/F58,2)","v":250},"Cs"," "," ","  "," "]
[null,"Does not require refrigeration","Hellmans 4800126319",null,"102/1.5 z",102,null,{"$f":"ROUND($G$58*$F$58/F59,2)","v":{"v":245.1,"d":"245"}},"Cs"," "," ","  "," "]
[null,null,"Kraft 210000115200",null,"60/1.5z",60,null,{"$f":"ROUND($G$58*$F$58/F60,2)","v":{"v":416.67,"d":"417"}},"Cs",{"v":7.57,"d":"$7.57"},{"$f":"IF(OR(ISBLANK(J60),G58=0,ISBLANK(G58)),,ROUND(J60+$K$3,2))","v":{"v":7.57,"d":"$7.57"}},{"v":3154.19,"d":"$3,154.19"},{"v":0.13,"d":"$0.13"}]
[null,null,"Heinz 130005342900",null,"60/1.5z",60,null,{"$f":"ROUND($G$58*$F$58/F61,2)","v":{"v":416.67,"d":"417"}},"Cs"," "," "," "," "]
[14,"Dressings, Salad, Regular, Ranch. 1.5 oz, Individual","Marzetti 81992",null,"120/1.5z",120,0,{"$f":"ROUND(G62*F62/F62,2)","v":0},"Cs"]
[null,"Does not require refrigeration","Taste Pleasers 7160372298400",null,"100/1.5 z",100,null,{"$f":"ROUND($G$62*$F$62/F63,2)","v":0},"Cs"]
[null,null,"Kens KE0789B3",null,"60/1.5 z",60,null,0,"Cs"]
[null,null,"Hellmann's 26320",null,"102/1.5z",102,null,0,"Cs"]
[null,null,"Wishbone 26105",null,"60/1.5 z",60,null,0,"Cs"]
[null,null,"Heinz 130007505000",null,"60/1.5 z",60,null,0,"Cs",{"v":7.16,"d":"$7.16"},{"$f":"IF(OR(ISBLANK(J67),G62=0,ISBLANK(G62)),,ROUND(J67+$K$3,2))","v":0},0,{"$f":"ROUND(K67/F67,2)","v":0}]
[null,null,"Hidden Valley 85625",null,"84/1.5 z",84,null,0,"Cs"]
[null,null,"Naturally Fresh 134161DO194",null,"100/1.5z",100,null,0,"Cs"]
[null,null,"Salad Bistro (Ventura) 15170 ",null,"102/1.5z",100,null,0,"Cs"]
[null,null,"CF Sauers 06870",null,"60/1.5z",60,null,{"$f":"ROUND($G$62*$F$62/F71,2)","v":0},"Cs"]
[null,null,"Diamond Crystal  75100",null,"60/1.5z",60,null,{"$f":"ROUND($G$62*$F$62/F72,2)","v":0},"Cs"]
[15,"Dressings, Salad, Regular, Thousand Island, 1.5 oz, Individual","Marzetti 81987 ",null,"60/1.5 z",60,100,{"$f":"ROUND(G73*F73/F73,2)","v":100},"Cs"]
[null,"Does not require refrigeration","Taste Pleasers 7160372598400",null,"100/1.5 z",100,null,{"$f":"ROUND($G$73*$F$73/F74,2)","v":60},"Cs"]
[null,null,"Kens KE0816B3",null,"60/1.5 z",60,null,100,"Cs",{"v":11.35,"d":"$11.35"},{"$f":"IF(OR(ISBLANK(J75),G73=0,ISBLANK(G73)),,ROUND(J75+$K$3,2))","v":{"v":11.35,"d":"$11.35"}},{"v":1135,"d":"$1,135.00"},{"v":0.19,"d":"$0.19"}]
[null,null,"Hellmann's 26322",null,"102/1.5z",102,null,58.82,"Cs"]
[null,null,"Wishbone 26110",null,"60/1.5z ",60,null,100,"Cs"]
[null,null,"Heinz 130007502000",null,"60/1.5 z",60,null,100,"Cs"]
[null,null,"Hidden Valley 85638",null,"84/1.5 z",84,null,{"v":71.43,"d":"71"},"Cs"]
[null,null," ",null," "," ",null," "," "," "," "," "," ","  "]
[16,"Jelly, Assorted, Individual","PPI 7160376185000",null,"200/.5 z",200,25,{"$f":"ROUND(G81*F81/F81,2)","v":25},"Cs",{"v":7.06,"d":"$7.06"},{"$f":"IF(OR(ISBLANK(J81),G81=0,ISBLANK(G81)),,ROUND(J81+$K$3,2))","v":{"v":7.06,"d":"$7.06"}},{"v":176.5,"d":"$176.50"},{"v":0.04,"d":"$0.04"}]
[null," Grape, Apple, Strawberry 1/2 oz","Smuckers 5150001696",null,"200/.5 z",200,null,{"$f":"ROUND($G$81*$F$81/F82,2)","v":25},"Cs"," "," ","  "," "]
[null,null,"CF Sauers 06371",null,"200/.5z",200,null,{"$f":"ROUND($G$81*$F$81/F83,2)","v":25},"Cs"," "," "," "," "]
[17,"Jelly, Grape, Individual","PPI 7160374685000",null,"200/.5 z",200,25,{"$f":"ROUND(G84*F84/F84,2)","v":25},"Cs",{"v":6.18,"d":"$6.18"},{"$f":"IF(OR(ISBLANK(J84),G84=0,ISBLANK(G84)),,ROUND(J84+$K$3,2))","v":{"v":6.18,"d":"$6.18"}},{"$f":"ROUND(H84*K84,2)","v":{"v":154.5,"d":"$154.50"}},{"v":0.03,"d":"$0.03"}]
[null,"1/2 oz","Smuckers 5150000764",null,"200/.5 z",200,null,{"$f":"ROUND($G$84*$F$84/F85,2)","v":25},"Cs"]
[null,null,"(15-16)  CF Sauers 06860",null,"200/.5z",200,null,{"$f":"ROUND($G$84*$F$84/F86,2)","v":25},"Cs"]
[18,"Mayonnaise, Fat Free, 12 gm, Individual","Heinz 130005433000",null,"200/12 gm",200,0,{"$f":"ROUND(G87*F87/F87,2)","v":0},"Cs"," "," "," "," "]
[null,null,"Kraft 210006499200",null,"200/12 gm",200,0,{"$f":"ROUND($G$87*$F$87/F88,2)","v":0},"Cs",{"v":8.76,"d":"$8.76"},{"$f":"IF(OR(ISBLANK(J88),G87=0,ISBLANK(G87)),,ROUND(J88+$K$3,2))","v":0},{"$f":"ROUND(K88*H88,2)","v":0},0]
[19,"Mayonnaise, Regular, 12 gm, Individual","Heinz 130005317000",null,"200/12 gm",200,0,{"$f":"ROUND(G89*F89/F89,2)","v":0},"Cs",{"v":6.39,"d":"$6.39"},{"$f":"IF(OR(ISBLANK(J89),G89=0,ISBLANK(G89)),,ROUND(J89+$K$3,2))","v":0},{"$f":"ROUND(H89*K89,2)","v":0},0]
[null,null,"Hellmann's 26537",null,"200/12gm",204,null,{"$f":"ROUND($G$89*$F$89/F90,2)","v":0},"Cs"]
[null,null,"Kraft 210006648500",null,"200/12gm",200,null,{"$f":"ROUND($G$89*$F$89/F91,2)","v":0},"Cs"]
[null,null,"CF Sauers 06399",null,"200/12gm",200,null,{"$f":"ROUND($G$89*$F$89/F92,2)","v":0},"Cs"]
[20,"Mayonnaise, Light,  12gram"," Duke's 06346",null,"200/12gm",200,300,{"$f":"ROUND(G93*F93/F93,2)","v":300},"Cs"," "," "," "," "]
[null,"0 trans fat"," Kraft 210006653300",null,"200/12gm",200,null,{"$f":"ROUND(G93*F93/F94,2)","v":300},"Cs",{"v":7.88,"d":"$7.88"},{"$f":"IF(OR(ISBLANK(J94),G93=0,ISBLANK(G93)),,ROUND(J94+$K$3,2))","v":{"v":7.88,"d":"$7.88"}},{"$f":"ROUND(H94*K94,2)","v":{"v":2364,"d":"$2,364.00"}},{"$f":"ROUND(K94/F94,2)","v":{"v":0.04,"d":"$0.04"}}]
[21,"Mustard, Individual ","Heinz 130005305000",null,"500/.5 z",500,100,{"$f":"ROUND(G95*F95/F95,2)","v":100},"Cs"," "," ","  "," "]
[null,"4.5 minimum grams per packet.  Grade A","PPI 7160370539000",null,"500/5.5 z",500,null,{"$f":"ROUND($G$95*$F$95/F96,2)","v":100},"Cs",{"v":4.89,"d":"$4.89"},{"$f":"IF(OR(ISBLANK(J96),G95=0,ISBLANK(G95)),,ROUND(J96+$K$3,2))","v":{"v":4.89,"d":"$4.89"}},{"$f":"ROUND(K96*H96,2)","v":{"v":489,"d":"$489.00"}},{"$f":"ROUND(K96/F96,2)","v":{"v":0.01,"d":"$0.01"}}]
[null,null,"CF Sauers 06501",null,"500/5.5 z",500,null,{"$f":"ROUND($G$95*$F$95/F97,2)","v":100},"Cs"," "," "," "," "]
[22,"Honey Mustard, Individual, 12gr","Heinz 130005312000",null,"200/12 gm",200,0,{"$f":"ROUND(G98*F98/F98,2)","v":0},"Cs",{"v":11.95,"d":"$11.95"},{"$f":"IF(OR(ISBLANK(J98),G98=0,ISBLANK(G98)),,ROUND(J98+$K$3,2))","v":0},{"$f":"ROUND(H98*K98,2)","v":0},{"$f":"ROUND(K98/F98,2)","v":0}]
[null,"Sweet, mild mustard sauce with honey"]
[23,"Pepper, Black, Individual ","Distributor Choice",null,"6/1000 z",6000,1,{"$f":"ROUND(G100*F100/F100,2)","v":1},"Cs"]
[null,"Flat Pack","Fillable txt box ",{"$nulls":3},0,{"$f":"ROUND(G100*F100/F101,2)","v":{"$error":"#DIV/0!"}},"Cs",0,{"$f":"IF(OR(ISBLANK(J101),G100=0,ISBLANK(G100)),,ROUND(J101+$K$3,2))","v":0},{"$f":"ROUND(H101*K101,2)","v":{"$error":"#DIV/0!"}},{"$f":"ROUND(K101/F101,2)","v":{"$error":"#DIV/0!"}}]
[24,"Salt Packet, Individual ","Distributor Choice",null,"6/1000 z",6000,1,{"$f":"ROUND(G102*F102/F102,2)","v":1},"Cs"]
[null,"Flat Pack","Fillable txt box ",{"$nulls":4},{"$f":"ROUND(G102*F102/F103,2)","v":{"$error":"#DIV/0!"}},"Cs",0,{"$f":"IF(OR(ISBLANK(J103),G102=0,ISBLANK(G102)),,ROUND(J103+$K$3,2))","v":0},{"$f":"ROUND(H103*K103,2)","v":{"$error":"#DIV/0!"}},{"$f":"ROUND(K103/F103,2)","v":{"$error":"#DIV/0!"}}]
[25,"Sauce, Honey Mustard 1 oz. Low Sodium","Naturally Fresh 85116875061",null,"100/1z",100,100,{"$f":"ROUND(G104*F104/F104,2)","v":100},"Cs",{"v":10.03,"d":"$10.03"},{"$f":"IF(OR(ISBLANK(J104),G104=0,ISBLANK(G104)),,ROUND(J104+$K$3,2))","v":{"v":10.03,"d":"$10.03"}},{"$f":"ROUND(H104*K104,2)","v":{"v":1003,"d":"$1,003.00"}},{"$f":"ROUND(K104/F104,2)","v":{"v":0.1,"d":"$0.10"}}]
[null,"Shelf Stable, does not need refrigeration, Not more than 125 mg"]
[null,"of sodium per serving."]
[null,"Possible Allergens:  Eggs"]
[26,"Sauce, Hot","Texas Pete 1000003",null,"200/7 gm",200,50,{"$f":"ROUND(G108*F108/F108,2)","v":50},"Cs"]
[null,"Shelf Stable","Kraft/Heinz 130007142000",null,"200/7 gm",200,null,{"$f":"ROUND(G108*F108/F109,2)","v":50},"Cs"]
[null,null,"Sauers 06317",null,"200/7 gm",200,null,{"$f":"ROUND(G108*F108/F110,2)","v":50},"Cs",{"v":4.89,"d":"$4.89"},{"$f":"IF(OR(ISBLANK(J110),G108=0,ISBLANK(G108)),,ROUND(J110+$K$3,2))","v":{"v":4.89,"d":"$4.89"}},{"$f":"ROUND(K110*H110,2)","v":{"v":244.5,"d":"$244.50"}},{"v":0.02,"d":"$0.02"}]
[27,"Sauce, Sweet and Sour , Individual portion ","Heinz 130007138000",null,"100/1z",100,100,{"$f":"ROUND(G111*F111/F111,2)","v":100},"Cs",{"v":6.68,"d":"$6.68"},{"$f":"IF(OR(ISBLANK(J111),G111=0,ISBLANK(G111)),,ROUND(J111+$K$3,2))","v":{"v":6.68,"d":"$6.68"}},{"$f":"ROUND(H111*K111,2)","v":{"v":668,"d":"$668.00"}},{"$f":"ROUND(K111/F111,2)","v":{"v":0.07,"d":"$0.07"}}]
[null,"Cup pack.  1 oz per packet","Naturally Fresh 85111605061",null,"100/1z",100,null,{"$f":"ROUND($G$111*$F$111/F112,2)","v":100},"Cs"," "," "," ","  "]
[null,null,"CF Sauers 06385",null,"100/1z",100,null,{"$f":"ROUND($G$111*$F$111/F113,2)","v":100},"Cs"," "," "," "," "]
[28,"Sauce, Yum Yum ","Terry Ho 250",null,"100/1z",100,50,{"$f":"ROUND(G114*F114/F114,2)","v":50},"Cs",{"v":14.18,"d":"$14.18"},{"$f":"IF(OR(ISBLANK(J114),G114=0,ISBLANK(G114)),,ROUND(J114+$K$3,2))","v":{"v":14.18,"d":"$14.18"}},{"$f":"ROUND(H114*K114,2)","v":{"v":709,"d":"$709.00"}},{"$f":"ROUND(K114/F114,2)","v":{"v":0.14,"d":"$0.14"}}]
[null,"Shelf Stable, 0-100 calories with not more than 2 g saturated fat and 20 mg "]
[null,"sodium per 1 oz. cup.  "]
[null,"Possible Allergens:  Egg and Soy"]
[29,"Sauce, Tartar, Individual portion ","PPI 7160374381000",null,"200/12 gm",200,75,{"$f":"ROUND(G118*F118/F118,2)","v":75},"Cs",{"v":6.59,"d":"$6.59"},{"$f":"IF(OR(ISBLANK(J118),G118=0,ISBLANK(G118)),,ROUND(J118+$K$3,2))","v":{"v":6.59,"d":"$6.59"}},{"$f":"ROUND(H118*K118,2)","v":{"v":494.25,"d":"$494.25"}},{"$f":"ROUND(K118/F118,2)","v":{"v":0.03,"d":"$0.03"}}]
[null,"12 grams per packet","CF Sauers 06509",null,"200/12 gm",200,null,{"$f":"ROUND($G$118*$F$118/F119,2)","v":75},"Cs"," "," "," ","  "]
[{"$nulls":4},"200/12gm",200,null,{"$f":"ROUND($G$118*$F$118/F120,2)","v":75},"Cs"," "," "," "," "]
[30,"Syrup, Maple Flavored, Individual ","Heinz 130005335000",null,"100/1.5 z",100,75,{"$f":"ROUND(G121*F121/F121,2)","v":75},"Cs",{"v":6.95,"d":"$6.95"},{"$f":"IF(OR(ISBLANK(J121),G121=0,ISBLANK(G121)),,ROUND(J121+$K$3,2))","v":{"v":6.95,"d":"$6.95"}},{"$f":"ROUND(K121*H121,2)","v":{"v":521.25,"d":"$521.25"}},{"v":0.07,"d":"$0.07"}]
[null,"Individual 1.5 oz per cup.","Diamond Crystal 75901",null,"100/1.5 z",100,null,{"$f":"ROUND(G121*F121/F122,2)","v":75},"Cs"," "," "," ","  "]
[null,null,"Naturally Fresh 85219815061",null,"100/1.5 z",100,null,{"$f":"ROUND($G$121*$F$121/F123,2)","v":75},"Cs","  "," "," "," "]
[null,null,"CF Sauers 06383",null,"100/1.5 z",100,null,{"$f":"ROUND($G$121*$F$121/F124,2)","v":75},"Cs"," "," "," ","  "]
[{"$nulls":4},"100/1.5 z",100,null,{"$f":"ROUND($G$121*$F$121/F125,2)","v":75},"Cs"," "," "," "," "]
[31,"Syrup, Sugar Free, Maple Flavored, Individual, 100/1 oz  ","Distributor Choice",null,"100/1z",100,75,{"$f":"ROUND(G126*F126/F126,2)","v":75},"Cs"," "," "," "," "]
[null,null,"Fillable txt box ",{"$nulls":4},{"$f":"ROUND(G126*F126/F127,2)","v":{"$error":"#DIV/0!"}},"Cs",0,{"$f":"IF(OR(ISBLANK(J127),G126=0,ISBLANK(G126)),,ROUND(J127+$K$3,2))","v":0},{"$f":"ROUND(H127*K127,2)","v":{"$error":"#DIV/0!"}},{"$f":"ROUND(K127/F127,2)","v":{"$error":"#DIV/0!"}}]
[]
[{"$nulls":8},"Page Total",null,null,{"$f":"SUMIF(L8:L128,\">0\")","v":{"v":13366.19,"d":"$13,366.19"}}]

{"sheet":"Smart Snacks","index":22,"n_rows":133,"n_cols":13,"rows_kept":133,"merged":[[0,4,0,12],[1,4,1,12],[2,5,2,9]]}
[null,{"$f":"'Recap Sheet'!A2","v":"School Food Authority:"},null,null,{"$f":"'Recap Sheet'!A3","v":"Offeror Name:"}]
[null,{"$f":"'Recap Sheet'!B2","v":"Colleton County School District Office of Student Nutrition"},"Return to Recap Sheet",null,{"$f":"'Recap Sheet'!B3","v":0}]
["Item","Description","Approved Brand Name / Manuf ID # ",null,null,"Firm Fixed Fee",{"$nulls":4},{"$f":"'Recap Sheet'!B4","v":{"v":0,"d":"$0.00"}}]
["#",null,null,"Distributor","Vendor","Svgs","Est.","Bid ","Bid","Unit","Unit Price","Total ","Cost per"]
[{"$nulls":3},"Code","Pack","per unit","Bid Qty","Qty","Unit","Price","plus Fee","Price","Unit"]
[null,"Smart Snack Items"]
[1,"Chips Snacks, Single Serve. IW","Frito Lay",null,"104/.875z",104,50,{"$f":"ROUND(G7*F7/F7,2)","v":50},"Cs",{"v":25.51,"d":"$25.51"},{"$f":"IF(OR(ISBLANK(J7),G7=0,ISBLANK(G7)),,ROUND(J7+$K$3,2))","v":{"v":25.51,"d":"$25.51"}},{"$f":"ROUND(H7*K7,2)","v":{"v":1275.5,"d":"$1,275.50"}},{"$f":"ROUND(K7/F7,2)","v":{"v":0.25,"d":"$0.25"}}]
[null,"0 trans fat, WGR","62933 Baked Cheetos  1.25OEG",null,"104/.875z",104]
[null,null," 36098 Cheetos Chili Cheese  1.25 OEG",null,"104/1z",104]
[null,"SMART SNACK COMPLIANT"," 36308 Kid's Mix  1.0 OEG",null,"104/.875z",104]
[null,null," 43578 Fantastix Flamin Hot  1.25 OEG",null,"104/1z",104]
[2,"Chips/Snacks, Single Serve, IW,     ","Frito-Lay",null,"72/.875z",72,0,{"$f":"ROUND(G12*F12/F12,2)","v":0},"Cs",{"v":17.65,"d":"$17.65"},{"$f":"IF(OR(ISBLANK(J12),G12=0,ISBLANK(G12)),,ROUND(J12+$K$3,2))","v":0},{"$f":"ROUND(H12*K12,2)","v":0},{"$f":"ROUND(K12/F12,2)","v":0}]
[null,"0 Trans fat, Gluten free, Reduced Fat WGR","42537 Baked Tostitos Scoops"]
[null,"SMART SNACK COMPLIANT"]
[3,"Chips/Snacks , Single Serve, IW                                    ","Frito Lay",null,"104/.875z",104,300,{"$f":"ROUND(G15*F15/F15,2)","v":300},"Cs",{"v":25.51,"d":"$25.51"},{"$f":"IF(OR(ISBLANK(J15),G15=0,ISBLANK(G15)),,ROUND(J15+$K$3,2))","v":{"v":25.51,"d":"$25.51"}},{"$f":"ROUND(H15*K15,2)","v":{"v":7653,"d":"$7,653.00"}},{"$f":"ROUND(K15/F15,2)","v":{"v":0.25,"d":"$0.25"}}]
[null,"Gluten Free, Reduced Fat, Low Sodium, WGR","    18792  RF Tostitos Crispy Rounds"]
[null,"SMART SNACK COMPLIANT"]
[4,"Chips/Snacks, Single Serve, IW, Heartzel Pretzels  WGR  ","Frito Lay",null,"104/.7z",104,25,{"$f":"ROUND(G18*F18/F18,2)","v":25},"Cs",{"v":25.51,"d":"$25.51"},{"$f":"IF(OR(ISBLANK(J18),G18=0,ISBLANK(G18)),,ROUND(J18+$K$3,2))","v":{"v":25.51,"d":"$25.51"}},{"$f":"ROUND(H18*K18,2)","v":{"v":637.75,"d":"$637.75"}},{"$f":"ROUND(K18/F18,2)","v":{"v":0.25,"d":"$0.25"}}]
[null,"SMART SNACK COMPLIANT","     15940  Heartzel Pretzel"]
[5,"Chips/Snacks, Single Serve, IW, Reduced Fat           "," Frito Lay ",null,"72/1z",72,125,{"$f":"ROUND(G20*F20/F20,2)","v":125},"Cs",{"v":17.65,"d":"$17.65"},{"$f":"IF(OR(ISBLANK(J20),G20=0,ISBLANK(G20)),,ROUND(J20+$K$3,2))","v":{"v":17.65,"d":"$17.65"}},{"$f":"ROUND(H20*K20,2)","v":{"v":2206.25,"d":"$2,206.25"}},{"$f":"ROUND(K20/F20,2)","v":{"v":0.25,"d":"$0.25"}}]
[null,"0 trans fat, WGR"," 31748 Doritos Nacho Cheesier, Red Fat"]
[null,"SMART SNACK COMPLIANT"," 36096 Doritos Cooler Ranch, Red Fat"]
[null,null,"49093 Doritos Spicy/Swt Nacho, Red Fat "]
[null,null,"62829 Doritos Flamas "]
[6,"Chips/Snacks, Large Single Serve, Baked, IW  ","Baked Lays ",null,"64/1.125z",64,0,{"$f":"ROUND(G25*F25/F25,2)","v":0},"Cs",{"v":23.58,"d":"$23.58"},{"$f":"IF(OR(ISBLANK(J25),G25=0,ISBLANK(G25)),,ROUND(J25+$K$3,2))","v":0},{"$f":"ROUND(H25*K25,2)","v":0},{"$f":"ROUND(K25/F25,2)","v":0}]
[null,null," 44396  Baked Lays Regular Flavor (GF)"]
[null,"0 trans fat "," 44395  Baked Lays BBQ"]
[null,"SMART SNACK COMPLIANT","  44398 Baked Lays Sour Cream & Onion"]
[7,"Chips/Snacks, Single Serve, Baked, IW","Baked Lays",null,"60/.875z",60,200,{"$f":"ROUND(G29*F29/F29,2)","v":200},"Cs",{"v":13.99,"d":"$13.99"},{"$f":"IF(OR(ISBLANK(J29),G29=0,ISBLANK(G29)),,ROUND(J29+$K$3,2))","v":{"v":13.99,"d":"$13.99"}},{"$f":"ROUND(H29*K29,2)","v":{"v":2798,"d":"$2,798.00"}},{"$f":"ROUND(K29/F29,2)","v":{"v":0.23,"d":"$0.23"}}]
[null,"0 trans fat","33625 Baked Lays Regular Flavor (GF)"]
[null,"SMART SNACK COMPLIANT","32078 Baked BBQ"]
[null,null,"33627 Baked Sour Cream and Onion"]
[8,"Chips/Snacks, Tortilla Chips, Single Serve, IW, White Nacho WGR","(18-19) Doritos 67609",null,"72/1.oz",72,25,{"$f":"ROUND(G33*F33/F33,2)","v":25},"Cs",{"v":18.82,"d":"$18.82"},{"$f":"IF(OR(ISBLANK(J33),G33=0,ISBLANK(G33)),,ROUND(J33+$K$3,2))","v":{"v":18.82,"d":"$18.82"}},{"$f":"ROUND(H33*K33,2)","v":{"v":470.5,"d":"$470.50"}},{"$f":"ROUND(K33/F33,2)","v":{"v":0.26,"d":"$0.26"}}]
[null,"Contains 100-150 calories and no more than  5 gm of fat and 1 gm sat fat "," "]
[null,"per serving SMART SNACK COMPLIANT"]
[null,"Possible Allergens:  Milk"]
[9,"Chips, Snacks, Single Serve IW, Onion Ring, Baked","Funyuns 66689",null,"104/.75z",104,25,{"$f":"ROUND(G37*F37/F37,2)","v":25},"Cs",{"v":25.51,"d":"$25.51"},{"$f":"IF(OR(ISBLANK(J37),G37=0,ISBLANK(G37)),,ROUND(J37+$K$3,2))","v":{"v":25.51,"d":"$25.51"}},{"$f":"ROUND(H37*K37,2)","v":{"v":637.75,"d":"$637.75"}},{"$f":"ROUND(K37/F37,2)","v":{"v":0.25,"d":"$0.25"}}]
[null,"Contains 100-150 calories and no more than  4 gm of fat and 1 gm sat fat "," "]
[null,"Meets 1 OEG   SMART SNACK COMPLIANT"]
[null," "]
[10,"Chips/Snacks, Single Serve, IW Kettle  RF  Salt and Vinegar","(18-19) Lay's 25113",null,"64/1.375z",64,25,{"$f":"ROUND(G41*F41/F41,2)","v":25},"Cs",{"v":23.31,"d":"$23.31"},{"$f":"IF(OR(ISBLANK(J41),G41=0,ISBLANK(G41)),,ROUND(J41+$K$3,2))","v":{"v":23.31,"d":"$23.31"}},{"$f":"ROUND(H41*K41,2)","v":{"v":582.75,"d":"$582.75"}},{"$f":"ROUND(K41/F41,2)","v":{"v":0.36,"d":"$0.36"}}]
[null,"Contains 2 gm  or less of sat fat and 200 mg sodium per serving"," "]
[null,"SMART SNACK COMPLIANT"]
[null,"Possible Allergens:  None Listed"]
[11,"Crackers, WG  Cheese Cracker                             ","Sunshine",null,"175/.75z",175,50,{"$f":"ROUND($G$45*$F$45/F45,2)","v":50},"Cs",{"v":26.5,"d":"$26.50"},{"$f":"IF(OR(ISBLANK(J45),G45=0,ISBLANK(G45)),,ROUND(J45+$K$3,2))","v":{"v":26.5,"d":"$26.50"}},{"$f":"ROUND(H45*K45,2)","v":{"v":1325,"d":"$1,325.00"}},{"$f":"ROUND(K45/F45,2)","v":{"v":0.15,"d":"$0.15"}}]
[null,"One serving provides 1 oz. OEG","Original Cheez-It 24100-79263",null," "]
[null,"Contains: Milk Wheat and Soy","Atomic Cheddar 24100-10238",null," "]
[12,"Cookie, Whole Grain, IW                                                  ","MJM Marketing",null,"300/1.0z",300,0,{"$f":"ROUND(G48*F48/F48,2)","v":0},"Cs",{"v":36,"d":"$36.00"},{"$f":"IF(OR(ISBLANK(J48),G48=0,ISBLANK(G48)),,ROUND(J48+$K$3,2))","v":0},{"$f":"ROUND(H48*K48,2)","v":0},{"$f":"ROUND(K48/F48,2)","v":0}]
[null,"0 trans fat, HUSSC Gold Approved, No peanuts or tree nuts","Chocolate 402001"]
[null,"Assorted flavors, Ready to eat","Apple Cinnamon 403001"]
[null,null,"Vanilla 4040001"]
[null,null,"Strawberry Waffle 405001"]
[null,null,"Berry 401001"]
[null,"Contains: Wheat","Maple Waffle 408001"]
[null,null,"Apple Cinnamon Waffle 423001"]
[13,"Crackers, Graham, 3 Count,                                      ","MJM Marketing",null,"150/3ct",150,0,{"$f":"ROUND(G56*F56/F56,2)","v":0},"Cs",{"v":15.9,"d":"$15.90"},{"$f":"IF(OR(ISBLANK(J56),G56=0,ISBLANK(G56)),,ROUND(J56+$K$3,2))","v":0},{"$f":"ROUND(H56*K56,2)","v":0},{"$f":"ROUND(K56/F56,2)","v":0}]
[null,"No Nuts/Peanuts, Meets 1 OEG","     300151  Honey Graham"]
[null," ","     308151  Cinnamon Graham"]
[null,"Possible Allergens:  Wheat"]
[14,"Crackers, Graham, 3 Count, Single Serve                                ","Keebler",null,"150/3ct",150,0,{"$f":"ROUND(G60*F60/F60,2)","v":0},"Cs",{"v":15.45,"d":"$15.45"},{"$f":"IF(OR(ISBLANK(J60),G60=0,ISBLANK(G60)),,ROUND(J60+$K$3,2))","v":0},{"$f":"ROUND(H60*K60,2)","v":0},{"$f":"ROUND(K60/F60,2)","v":0}]
[null,"No Nuts/Peanuts, Meets 1 OEG","Graham 30100-91822"]
[null," "," "]
[null,"Possible Allergens:  Wheat"]
[15,"Crackers, Graham, Bug Shaped","Keebler",null,"210/1.0z",210,75,{"$f":"ROUND(G64*F64/F64,2)","v":75},"Cs",{"v":38.2,"d":"$38.20"},{"$f":"IF(OR(ISBLANK(J64),G64=0,ISBLANK(G64)),,ROUND(J64+$K$3,2))","v":{"v":38.2,"d":"$38.20"}},{"$f":"ROUND(H64*K64,2)","v":{"v":2865,"d":"$2,865.00"}},{"$f":"ROUND(K64/F64,2)","v":{"v":0.18,"d":"$0.18"}}]
[null,"No Nuts/Peanuts, Meets 1 OEG","Graham 30100-55644"]
[null," "," "," "]
[null,"Possible Allergens:  Wheat"," "]
[16,"Crackers, Graham, 3 Count,                                      ","Keebler",null,"150/3ct",150,0,{"$f":"ROUND(G68*F68/F68,2)","v":0},"Cs",{"v":22.79,"d":"$22.79"},{"$f":"IF(OR(ISBLANK(J68),G68=0,ISBLANK(G68)),,ROUND(J68+$K$3,2))","v":0},{"$f":"ROUND(H68*K68,2)","v":0},{"$f":"ROUND(K68/F68,2)","v":0}]
[null,"No Nuts/Peanuts, Meets 1 OEG","Original 30100-40213"]
[null," ","Cinnamon 30100-40221"]
[null,"Possible Allergens:  Wheat","Chocolate 30100-40239"]
[17,"Crackers, Animal","Keebler",null,"150/1.0z",150,15,{"$f":"ROUND(G72*F72/F72,2)","v":15},"Cs",{"v":20,"d":"$20.00"},{"$f":"IF(OR(ISBLANK(J72),G72=0,ISBLANK(G72)),,ROUND(J72+$K$3,2))","v":{"v":20,"d":"$20.00"}},{"$f":"ROUND(H72*K72,2)","v":{"v":300,"d":"$300.00"}},{"$f":"ROUND(K72/F72,2)","v":{"v":0.13,"d":"$0.13"}}]
[null,"Meets 1 OEG   SMART SNACK COMPLIANT"," "]
[null," "," "]
[null,"Possible Allergens:  Wheat and Soy"]
[18,"Cupcake, IW, 1.5oz                              ","Super Bakery",null,"72/1.5z",72,100,{"$f":"ROUND(G76*F76/F76,2)","v":100},"Cs",{"v":21.88,"d":"$21.88"},{"$f":"IF(OR(ISBLANK(J76),G76=0,ISBLANK(G76)),,ROUND(J76+$K$3,2))","v":{"v":21.88,"d":"$21.88"}},{"$f":"ROUND(H76*K76,2)","v":{"v":2188,"d":"$2,188.00"}},{"$f":"ROUND(K76/F76,2)","v":{"v":0.3,"d":"$0.30"}}]
[null,"Frozen, Whole Grain rich Muffin wrapped in printed film.","    9478 Happy Birthday Chocolate"]
[null,"Thaw and Serve","    9479  Happy Birthday Vanilla"]
[null,"Possible  Allergens:  Wheat, Eggs, Milk, Soy","    9488  Let's Celebrate Choclate"]
[null,"Peanuts present in facility","    9489  Let's Celebrate  Vanilla"]
[19,"Roll, Sweet Roll, Whole Grain, IW                   "," Hadley Farms",null,"60/1.5z",60,25,{"$f":"ROUND(G81*F81/F81,2)","v":25},"Cs",{"v":11.59,"d":"$11.59"},{"$f":"IF(OR(ISBLANK(J81),G81=0,ISBLANK(G81)),,ROUND(J81+$K$3,2))","v":{"v":11.59,"d":"$11.59"}},{"$f":"ROUND(H81*K81,2)","v":{"v":289.75,"d":"$289.75"}},{"$f":"ROUND(K81/F81,2)","v":{"v":0.19,"d":"$0.19"}}]
[null,"Frozen, Meet 1 OEG","Cinnamon Roll Un-Iced 0670IW"]
[null,null,"Iced Cinnamon Roll 1670IW"]
[null,null,"Sweet Potato Swirl Un-Iced 0370IW"]
[null,null,"Sweet Potato Iced Swirl 1370IW"]
[null," ","Pumpkin Un-Iced 0673IW"]
[null,"Contains: Milk, Soy, Wheat","Pumpkin Iced 1373IW"]
[20,"Fruit Bar","Outshine (Nestles)",null,"6/9 each",54,0,{"$f":"ROUND(G88*F88/F88,2)","v":0},"Cs",{"v":25.13,"d":"$25.13"},{"$f":"IF(OR(ISBLANK(J88),G88=0,ISBLANK(G88)),,ROUND(J88+$K$3,2))","v":0},{"$f":"ROUND(H88*K88,2)","v":0},{"$f":"ROUND(K88/F88,2)","v":0}]
[null,"Frozen, No GMO, No artificial flavors, No HFCS, 0 sodium, less than 100","Strawberry 61004"]
[null,"calories per serving, fat free","Mango 75150"]
[null,null," "]
[null," "," "]
[21,"Marshmallow Rice Treat , IW                      ","Kellogg's",null,"80/1.4z",80,125,{"$f":"ROUND(G93*F93/F93,2)","v":125},"Cs",{"v":28,"d":"$28.00"},{"$f":"IF(OR(ISBLANK(J93),G93=0,ISBLANK(G93)),,ROUND(J93+$K$3,2))","v":{"v":28,"d":"$28.00"}},{"$f":"ROUND(H93*K93,2)","v":{"v":3500,"d":"$3,500.00"}},{"$f":"ROUND(K93/F93,2)","v":{"v":0.35,"d":"$0.35"}}]
[null,"Made from Whole Grain Rice Cereal Meets 1 OEG","   38000-11052  Rice Crispie Treat Gluten Free"]
[null,"Contains:  Milk and Soy","   38000-14567  Rice Crispie Treat-Choc Chip",{"$nulls":3},0]
[22,"Marshmallow Rice Treat, IW                      ","(18-19) Kellogg's ",null,"600/.42z",600,75,{"$f":"ROUND(G96*F96/F96,2)","v":75},"Cs",{"v":74.4,"d":"$74.40"},{"$f":"IF(OR(ISBLANK(J96),G96=0,ISBLANK(G96)),,ROUND(J96+$K$3,2))","v":{"v":74.4,"d":"$74.40"}},{"$f":"ROUND(H96*K96,2)","v":{"v":5580,"d":"$5,580.00"}},{"$f":"ROUND(K96/F96,2)","v":{"v":0.12,"d":"$0.12"}}]
[null,"Made from Whole Grain Brown Rice Cereal, Meets .25 OEG","Original 38000-14540",{"$nulls":3},0]
[null,"Contains: Milk, Soy","Cocoa 38000-18461"]
[23,"Muffin, Mini, Birthday Cake, WGR, IW","Hostess 701890",null,"72/1.61z",72,0,{"$f":"ROUND(G99*F99/F99,2)","v":0},"Cs",{"v":33.12,"d":"$33.12"},{"$f":"IF(OR(ISBLANK(J99),G99=0,ISBLANK(G99)),,ROUND(J99+$K$3,2))","v":0},{"$f":"ROUND(H99*K99,2)","v":0},{"$f":"ROUND(K99/F99,2)","v":0}]
[null,"Frozen, 100-200 calories with not more than 2 g saturated fat and"]
[null,"200 mg sodium per serving.  Meets 1 OEG per serving"," "]
[null,null," "]
[null,"Contains:  Wheat, Eggs, Soy, and Milk"]
[24,"Snack, Breakfast Snack, Whole Grain Rich                       "," Super Bakery",null,"80/1.9z",80,0,{"$f":"ROUND(G104*F104/F104,2)","v":0},"Cs",{"v":24.33,"d":"$24.33"},{"$f":"IF(OR(ISBLANK(J104),G104=0,ISBLANK(G104)),,ROUND(J104+$K$3,2))","v":0},{"$f":"ROUND(H104*K104,2)","v":0},{"$f":"ROUND(K104/F104,2)","v":0}]
[null,"Frozen, I/W, thaw and serve, meets 1 OEG","     18200 Ultra Power Cocoa"]
[null,null,"      18300  MVP"]
[null,null,"      18350  WG Super donut"]
[null,null," "]
[25,"Snack, Breakfast, Cream cheese/Jelly filled","Super Bakery",null,"60/2.5oz",60,0,{"$f":"ROUND(G109*F109/F109,2)","v":0},"Cs",{"v":25.2,"d":"$25.20"},{"$f":"IF(OR(ISBLANK(J109),G109=0,ISBLANK(G109)),,ROUND(J109+$K$3,2))","v":0},{"$f":"ROUND(H109*K109,2)","v":0},{"$f":"ROUND(K109/F109,2)","v":0}]
[null,"Frozen,  I/W, Thaw & Serve Meets 1 OEG","     3334 Cream Cheese & Strawberry Jelly"]
[]
[26,"Snack, Popcorn Puff"," Pirates Booty",null,"24/.75z",24,0,{"$f":"ROUND(G112*F112/F112,2)","v":0},"Cs",{"v":10.08,"d":"$10.08"},{"$f":"IF(OR(ISBLANK(J112),G112=0,ISBLANK(G112)),,ROUND(J112+$K$3,2))","v":0},{"$f":"ROUND(H112*K112,2)","v":0},{"$f":"ROUND(K112/F112,2)","v":0}]
[null,"made from rice and Corn, gluten-free, Nut free","          Aged White Cheddar    81662407"]
[null,"Contains 10% DV Vitamin D"]
[null,"Possible Allergens:  Milk"]
[27,"Snack, Sunflower Seeds with Honey Roasted","Sunrich 1231780",null,"150/1.2z",150,25,{"$f":"ROUND(G116*F116/F116,2)","v":25},"Cs",{"v":24.61,"d":"$24.61"},{"$f":"IF(OR(ISBLANK(J116),G116=0,ISBLANK(G116)),,ROUND(J116+$K$3,2))","v":{"v":24.61,"d":"$24.61"}},{"$f":"ROUND(H116*K116,2)","v":{"v":615.25,"d":"$615.25"}},{"$f":"ROUND(K116/F116,2)","v":{"v":0.16,"d":"$0.16"}}]
[null,"Meets `1 M/MA 100-200 calories with no more than 2 g saturated fat and "," "]
[null,"75 mg sodium per serving"]
[null,"Possible Allergens:  None Listed"]
[28,"Snack, Graham Sticks, Cinnamon, Baked, IW               ","Keebler Cinnamon 30100-50689 Scoobydoo",null,"210/1.0z",210,25,{"$f":"ROUND(G120*F120/F120,2)","v":25},"Cs",{"v":38.2,"d":"$38.20"},{"$f":"IF(OR(ISBLANK(J120),G120=0,ISBLANK(G120)),,ROUND(J120+$K$3,2))","v":{"v":38.2,"d":"$38.20"}},{"$f":"ROUND(H120*K120,2)","v":{"v":955,"d":"$955.00"}},{"$f":"ROUND(K120/F120,2)","v":{"v":0.18,"d":"$0.18"}}]
[null,"Meets 1 OEG, 0 trans fats, less than 35% added sugar by weight"," "]
[null," "]
[null," "]
[29,"Rice, Vegetable Fried Rice"," Minh  ",null,"84/5.9z",84,250,{"$f":"ROUND(G124*F124/F124,2)","v":250},"Cs",{"v":47.53,"d":"$47.53"},{"$f":"IF(OR(ISBLANK(J124),G124=0,ISBLANK(G124)),,ROUND(J124+$K$3,2))","v":{"v":47.53,"d":"$47.53"}},{"$f":"ROUND(H124*K124,2)","v":{"v":11882.5,"d":"$11,882.50"}},{"$f":"ROUND(K124/F124,2)","v":{"v":0.57,"d":"$0.57"}}]
[null,"Brown rice, vegetables.  No MSG, No preservatives.","     69074    WG Vegetable Fried Rice"]
[null,"Frozen, 6/5lb bag."]
[null,"Possible Allergens: Wheat or its deirvatives, Soy or its derivatives."]
[30,"Beef Jerky, Low Sodium","Jack Links",null,"48/.085z",48,50,{"$f":"ROUND(G128*F128/F128,2)","v":50},"Cs",{"v":52.8,"d":"$52.80"},{"$f":"IF(OR(ISBLANK(J128),G128=0,ISBLANK(G128)),,ROUND(J128+$K$3,2))","v":{"v":52.8,"d":"$52.80"}},{"$f":"ROUND(H128*K128,2)","v":{"v":2640,"d":"$2,640.00"}},{"$f":"ROUND(K128/F128,2)","v":{"v":1.1,"d":"$1.10"}}]
[null,"Low in fat, Meets Smart Snacks","10000007721 Original"]
[null,"0 Trans Fat","10000007717 Teriyaki"]
[null,null,"10000007719 Peppered"]
[]
[{"$nulls":8},"Lot A Snack total",null,null,{"$f":"SUMIF(L7:L132,\">0\")","v":{"v":48402,"d":"$48,402.00"}}]

{"sheet":"Bread Products, Frozen","index":23,"n_rows":30,"n_cols":13,"rows_kept":30,"merged":[[0,4,0,12],[1,4,1,12],[2,5,2,9]]}
[null,{"$f":"'Recap Sheet'!A2","v":"School Food Authority:"},null,null,{"$f":"'Recap Sheet'!A3","v":"Offeror Name:"}]
[null,{"$f":"'Recap Sheet'!B2","v":"Colleton County School District Office of Student Nutrition"},"Return to Recap Sheet",null,{"$f":"'Recap Sheet'!B3","v":0}]
["Item","Description","Approved Brand Name / Manuf ID # ",null,null,"Firm Fixed Fee",{"$nulls":4},{"$f":"'Recap Sheet'!B4","v":{"v":0,"d":"$0.00"}}]
["#",null,null,"Distributor","Vendor","Svgs","Est.","Bid ","Bid","Unit","Unit Price","Total ","Cost per"]
[{"$nulls":3},"Code","Pack","per unit","Bid Qty","Qty","Unit","Price","plus Fee","Price","Unit"]
[null,"Category: Bread Products, Frozen"]
[1,"Bread,Texas Toast WGR","Distributor Choice",null,"10/24 oz.",10,0," "," "," "," "," "," "]
[null,"Frozen Must provide minimum 1.0 OEG","Fillable txt box ",null,null,0,null,{"$f":"ROUND(G7*F7/F8,2)","v":{"$error":"#DIV/0!"}},"Cs",null,{"$f":"IF(OR(ISBLANK(J8),G7=0,ISBLANK(G7)),,ROUND(J8+$K$3,2))","v":0},{"$f":"ROUND(H8*K8,2)","v":{"$error":"#DIV/0!"}},{"$f":"ROUND(K8/F8,2)","v":{"$error":"#DIV/0!"}}]
[2,"Bread, Whole Wheat ","Distributor Choice",null,"10/24 oz.",10,0," "," ",null," "," "," "]
[null,"Frozen, 24 slices per loaf  Must provide min.1 OEG","Fillable txt box ",{"$nulls":4},{"$f":"ROUND(G9*F9/F10,2)","v":{"$error":"#DIV/0!"}},"Cs",null,{"$f":"IF(OR(ISBLANK(J10),G9=0,ISBLANK(G9)),,ROUND(J10+$K$3,2))","v":0},{"$f":"ROUND(H10*K10,2)","v":{"$error":"#DIV/0!"}},{"$f":"ROUND(K10/F10,2)","v":{"$error":"#DIV/0!"}}]
[3,"Bread, Whole Wheat White ","Distributor Choice",null,"10/24 oz.",10,0," "," ",null," "," "," "]
[null,"Frozen, 24 slices per loaf  ","Fillable txt box ",{"$nulls":4},{"$f":"ROUND(G11*F11/F12,2)","v":{"$error":"#DIV/0!"}},"Cs",null,{"$f":"IF(OR(ISBLANK(J12),G11=0,ISBLANK(G11)),,ROUND(J12+$K$3,2))","v":0},{"$f":"ROUND(H12*K12,2)","v":{"$error":"#DIV/0!"}},{"$f":"ROUND(K12/F12,2)","v":{"$error":"#DIV/0!"}}]
[null,"Must provide minimum 1 OEG"," ",{"$nulls":4}," "," "," "," ","  "," "]
[4,"Bun, Hamburger WGR 4\"","Distributor Choice",null,"8/12 pk",96,{"v":1500,"d":"1,500"}," "," "," "," "," "," "]
[null,"Frozen ","Fillable txt box ",{"$nulls":4},{"$f":"ROUND(G14*F14/F15,2)","v":{"$error":"#DIV/0!"}},"Cs",null,{"$f":"IF(OR(ISBLANK(J15),G14=0,ISBLANK(G14)),,ROUND(J15+$K$3,2))","v":0},{"$f":"ROUND(H15*K15,2)","v":{"$error":"#DIV/0!"}},{"$f":"ROUND(K15/F15,2)","v":{"$error":"#DIV/0!"}}]
[null,"Must provide minimum 2 OEG"," ",{"$nulls":3}," ","  "," "," "," ","  "," "]
[5,"Bun, Hot Dog WGR 6\"","Distributor Choice",null,"12/12 ea",144,100," "," ",null," "," "," "]
[null,"Frozen","Fillable txt box ",{"$nulls":4},{"$f":"ROUND(G17*F17/F18,2)","v":{"$error":"#DIV/0!"}},"Cs",null,{"$f":"IF(OR(ISBLANK(J18),G17=0,ISBLANK(G17)),,ROUND(J18+$K$3,2))","v":0},{"$f":"ROUND(H18*K18,2)","v":{"$error":"#DIV/0!"}},{"$f":"ROUND(K18/F18,2)","v":{"$error":"#DIV/0!"}}]
[null,"Must  provide minimum 2 OEG"," ",{"$nulls":4}," "," "," "," "," "," "]
[6,"Bun, Slider WGR  2.5\"","Distributor Choice",null,"18/8 oz.",18,25," "," ",null," "," "," "]
[null,"Frozen Must provide minimum 1.0 OEG","Fillable txt box ",{"$nulls":4},{"$f":"ROUND(G20*F20/F21,2)","v":{"$error":"#DIV/0!"}},"Cs",null,{"$f":"IF(OR(ISBLANK(J21),G20=0,ISBLANK(G20)),,ROUND(J21+$K$3,2))","v":0},{"$f":"ROUND(H21*K21,2)","v":{"$error":"#DIV/0!"}},{"$f":"ROUND(K21/F21,2)","v":{"$error":"#DIV/0!"}}]
[7,"Roll, Sub Roll WGR","Bakecrafters 4062",null,"96/2.0z",96,{"v":200,"d":"200 "},{"$f":"ROUND(G22*F22/F22,2)","v":200},"Cs",null,{"$f":"IF(OR(ISBLANK(G22),G22=0,ISBLANK(J22),),,ROUND(J22+$K$3,2))","v":0},{"$f":"ROUND(K22*H22,2)","v":0},{"$f":"ROUND(K22/F22,4)","v":0}]
[" ","Thaw and serve, One roll provides 2 oz. EOG","Flowers B45 99809400",null,"96/2.0z",96,null,{"$f":"ROUND(G22*F22/F23,2)","v":200},"Cs",null,{"$f":"IF(OR(ISBLANK(G23),G23=0,ISBLANK(J23),),,ROUND(J23+$K$3,2))","v":0},{"$f":"ROUND(K23*H23,2)","v":0},{"$f":"ROUND(K23/F23,4)","v":0}]
[null,"No more than 2 g fat and 280 mg sodium"," "]
[8,"Flabread, WGR","Father's Table 0188 Ultra Loco",null,"144/1.96z",144,{"v":50,"d":"50 "},{"$f":"ROUND(G25*F25/F25,2)","v":50},"Cs",null,{"$f":"IF(OR(ISBLANK(G25),G25=0,ISBLANK(J25),),,ROUND(J25+$K$3,2))","v":0},{"$f":"ROUND(K25*H25,2)","v":0},{"$f":"ROUND(K25/F25,4)","v":0}]
[null,"Frozen, Ready to Thaw, 170-200 cal and ","Rich's 14010",null,"192/2.02z",192,null,{"$f":"ROUND(G25*F25/F26,2)","v":37.5},"Cs",null,{"$f":"IF(OR(ISBLANK(G25),G25=0,ISBLANK(J26),),,ROUND(J26+$K$3,2))","v":0},0,0]
[null,"no more than 2 g fat and 290 mg sodium 2.0z OEG"," ",null,null," "," ",{"$nulls":5}," "]
[9,"Roll, Cibat, WGR","Pillsbury 94562-3778",null,"96/1.8 oz",96,{"v":25,"d":"25 "},{"$f":"ROUND(G28*F28/F28,2)","v":25},"Cs",null,{"$f":"IF(OR(ISBLANK(G28),G28=0,ISBLANK(J28),),,ROUND(J28+$K$3,2))","v":0},{"$f":"ROUND(K28*H28,2)","v":0},{"$f":"ROUND(K28/F28,4)","v":0}]
[null,"One roll provides 2 OEG"," "]
[{"$nulls":9},"Lot A Bread",null,{"$f":"SUMIF(L7:L29,\">0\")","v":0}]

{"sheet":"Special Diet Foods","index":24,"n_rows":61,"n_cols":13,"rows_kept":61,"merged":[[0,4,0,12],[1,4,1,12],[2,5,2,9]]}
[null,{"$f":"'Recap Sheet'!A2","v":"School Food Authority:"},null,null,{"$f":"'Recap Sheet'!A3","v":"Offeror Name:"}]
[null,{"$f":"'Recap Sheet'!B2","v":"Colleton County School District Office of Student Nutrition"},"Return to Recap Sheet",null,{"$f":"'Recap Sheet'!B3","v":0}]
["Item","Description","Approved Brand Name / Manuf ID # ",null,null,"Firm Fixed Fee",{"$nulls":4},{"$f":"'Recap Sheet'!B4","v":{"v":0,"d":"$0.00"}}]
["#",null,null,"Distributor","Vendor","Svgs","Est.","Bid ","Bid","Unit","Unit Price","Total ","Cost per"]
[{"$nulls":3},"Code","Pack","per unit","Bid Qty","Qty","Unit","Price","plus Fee","Price","Unit"]
[null,"Category: Special Diet Foods"]
[1,"Beef Puree Roast Sliced Frozen ","Thick and Easy",null,"24/3.0z",24,{"v":1,"d":"1 "},{"$f":"ROUND(G7*F7/F7,2)","v":1},"Cs",null,{"$f":"IF(OR(ISBLANK(G7),G7=0,ISBLANK(J7)),,ROUND(J7+$K$3,2))","v":0},{"$f":"ROUND(K7*H7,2)","v":0},{"$f":"ROUND(K7/F7,4)","v":0}]
[null," ","Hormel Labs #10837",null," "," ",null," "," ",null," "," "," "]
[null," "," ",null," "," ",null," "," ",null," "," "," "]
[2,"Berry Mix, Puree Frozen ","Thick and Easy",null,"24/2.50z",24,{"v":1,"d":"1 "},{"$f":"ROUND(G10*F10/F10,2)","v":1},"Cs",null,{"$f":"IF(OR(ISBLANK(G10),G10=0,ISBLANK(J10)),,ROUND(J10+$K$3,2))","v":0},{"$f":"ROUND(K10*H10,2)","v":0},{"$f":"ROUND(K10/F10,4)","v":0}]
[null," ","Hormel Labs #13883",null," "," "]
[3,"Broccoli Puree Frozen","Thick and Easy",null,"24/3.0z",24,{"v":1,"d":"1 "},{"$f":"ROUND(G12*F12/F12,2)","v":1},"Cs",null,{"$f":"IF(OR(ISBLANK(G12),G12=0,ISBLANK(J12),),,ROUND(J12+$K$3,2))","v":0},{"$f":"ROUND(K12*H12,2)","v":0},{"$f":"ROUND(K12/F12,4)","v":0}]
[null," ","Hormel Labs #26522"]
[null,null," ",{"$nulls":4}," "," ",null," "," "," "]
[4,"Carrot, Puree Frozen","Thick and Easy",null,"24/3.0z",24,{"v":1,"d":"1 "},{"$f":"ROUND(G15*F15/F15,2)","v":1},"Cs",null,{"$f":"IF(OR(ISBLANK(G15),G15=0,ISBLANK(J15)),,ROUND(J15+$K$3,2))","v":0},{"$f":"ROUND(K15*H15,2)","v":0},{"$f":"ROUND(K15/F15,4)","v":0}]
[null," ","Hormel Labs #39312",null," "]
[5,"Chicken Puree, White ","Thick and Easy",null,"24/3.0z",24,{"v":1,"d":"1 "},{"$f":"ROUND(G17*F17/F17,2)","v":1},"Cs",null,{"$f":"IF(OR(ISBLANK(G17),G17=0,ISBLANK(J17)),,ROUND(J17+$K$3,2))","v":0},{"$f":"ROUND(K17*H17,2)","v":0},{"$f":"ROUND(K17/F17,4)","v":0}]
[null," ","Hormel Labs #37954"]
[6,"Corn, Puree Frozen","Thick and Easy",null,"24/3.0z",24,{"v":1,"d":"1 "},{"$f":"ROUND(G19*F19/F19,2)","v":1},"Cs",null,{"$f":"IF(OR(ISBLANK(G19),G19=0,ISBLANK(J19)),,ROUND(J19+$K$3,2))","v":0},{"$f":"ROUND(K19*H19,2)","v":0},{"$f":"ROUND(K19/F19,4)","v":0}]
[null," ","Hormel Labs #27074"]
[7,"Egg, Puree, Omlet Frozen Breakfast","Thick and Easy",null,"24/2.50z",24,{"v":1,"d":"1 "},{"$f":"ROUND(G21*F21/F21,2)","v":1},"Cs",null,{"$f":"IF(OR(ISBLANK(G21),G21=0,ISBLANK(J21)),,ROUND(J21+$K$3,2))","v":0},{"$f":"ROUND(K21*H21,2)","v":0},{"$f":"ROUND(K21/F21,4)","v":0}]
[null," ","Hormel Labs #72475"]
[8,"Supplement, Boost Breeze Assorted","Boost Breeze Assorted",null,"27/237 ML",27,{"v":1,"d":"1 "},{"$f":"ROUND(G23*F23/F23,2)","v":1},"Cs",null,{"$f":"IF(OR(ISBLANK(G23),G23=0,ISBLANK(J23)),,ROUND(J23+$K$3,2))","v":0},{"$f":"ROUND(K23*H23,2)","v":0},{"$f":"ROUND(K23/F23,4)","v":0}]
[null,null,"#043900186006270",null," "," ",null," "," ",null," "," "," "]
[9,"Supplement, Ensure and Vinyl Liquid RTU","Ensure Plus",null,"24/8.0z",24,{"v":1,"d":"1 "},{"$f":"ROUND(G25*F25/F25,2)","v":1},"Cs",null,{"$f":"IF(OR(ISBLANK(G25),G25=0,ISBLANK(J25)),,ROUND(J25+$K$3,2))","v":0},{"$f":"ROUND(K25*H25,2)","v":0},{"$f":"ROUND(K25/F25,4)","v":0}]
[null,null,"#50464",null," "," "," "," "," "," "," "," "," "]
[10,"Supplement, Pediasure Vinyl Carton","Pediasure",null,"24/8.0z",24,{"v":1,"d":"1 "},{"$f":"ROUND(G27*F27/F27,2)","v":1},"Cs",null,{"$f":"IF(OR(ISBLANK(G27),G27=0,ISBLANK(J27)),,ROUND(J27+$K$3,2))","v":0},{"$f":"ROUND(K27*H27,2)","v":0},{"$f":"ROUND(K27/F27,4)","v":0}]
[null,null,"#51804",null," "," "," "," "," "," "," "," "," "]
[11,"Soy Milk, Vanilla","Distributor Choice",null,"18/8 oz.",18,1,18,"Cs",null,{"$f":"IF(OR(ISBLANK(G29),G29=0,ISBLANK(J29)),,ROUND(J29+$K$3,2))","v":0},{"$f":"ROUND(K29*H29,2)","v":0},{"$f":"ROUND(K29/F29,4)","v":0}]
[null,"All natural fluid product, Self-serve container, calcium","Fillable txt box ",{"$nulls":4},{"$f":"ROUND(G29*F29/F30,2)","v":{"$error":"#DIV/0!"}},"Cs"," ",{"$f":"IF(OR(ISBLANK(J30),G29=0,ISBLANK(G29)),,ROUND(J30+$K$3,2))","v":{"$error":"#VALUE!"}},{"$f":"ROUND(H30*K30,2)","v":{"$error":"#DIV/0!"}},{"$f":"ROUND(K30/F30,2)","v":{"$error":"#VALUE!"}}]
[null,"enriched Aseptic Package Preferred"]
[12,"Soy Milk, Chocolate","Distributor Choice",null,"18/8 oz.",18,1,18,"Cs",null,{"$f":"IF(OR(ISBLANK(G32),G32=0,ISBLANK(J32)),,ROUND(J32+$K$3,2))","v":0},{"$f":"ROUND(K32*H32,2)","v":0},{"$f":"ROUND(K32/F32,4)","v":0}]
[null,"All natural fluid product, Self-serve container, calcium","Fillable txt box ",{"$nulls":4},{"$f":"ROUND(G32*F32/F33,2)","v":{"$error":"#DIV/0!"}},"Cs"," ",{"$f":"IF(OR(ISBLANK(J33),G32=0,ISBLANK(G32)),,ROUND(J33+$K$3,2))","v":{"$error":"#VALUE!"}},{"$f":"ROUND(H33*K33,2)","v":{"$error":"#DIV/0!"}},{"$f":"ROUND(K33/F33,2)","v":{"$error":"#VALUE!"}}]
[null,"enriched Aseptic Package Preferred"]
[13,"Almond Milk, Vanilla","Distributor Choice",null,"18/8 oz.",18,1,18,"Cs",null,{"$f":"IF(OR(ISBLANK(G35),G35=0,ISBLANK(J35)),,ROUND(J35+$K$3,2))","v":0},{"$f":"ROUND(K35*H35,2)","v":0},{"$f":"ROUND(K35/F35,4)","v":0}]
[null,"All natural fluid product, Self-serve container, calcium","Fillable txt box ",{"$nulls":4},{"$f":"ROUND(G35*F35/F36,2)","v":{"$error":"#DIV/0!"}},"Cs"," ",{"$f":"IF(OR(ISBLANK(J36),G35=0,ISBLANK(G35)),,ROUND(J36+$K$3,2))","v":{"$error":"#VALUE!"}},{"$f":"ROUND(H36*K36,2)","v":{"$error":"#DIV/0!"}},{"$f":"ROUND(K36/F36,2)","v":{"$error":"#VALUE!"}}]
[null,"enriched Aseptic Package Preferred"]
[14,"Almond Milk, Chocolate","Distributor Choice",null,"18/8 oz.",18,1,18,"Cs",null,{"$f":"IF(OR(ISBLANK(G38),G38=0,ISBLANK(J38)),,ROUND(J38+$K$3,2))","v":0},{"$f":"ROUND(K38*H38,2)","v":0},{"$f":"ROUND(K38/F38,4)","v":0}]
[null,"All natural fluid product, Self-serve container, ","Fillable txt box ",{"$nulls":4},{"$f":"ROUND(G38*F38/F39,2)","v":{"$error":"#DIV/0!"}},"Cs"," ",{"$f":"IF(OR(ISBLANK(J39),G38=0,ISBLANK(G38)),,ROUND(J39+$K$3,2))","v":{"$error":"#VALUE!"}},{"$f":"ROUND(H39*K39,2)","v":{"$error":"#DIV/0!"}},{"$f":"ROUND(K39/F39,2)","v":{"$error":"#VALUE!"}}]
[null,"calcium enriched Aseptic Package Preferred"]
[15,"Milk, Lactose-Free 1% milk fat, Vit A&D fort.","Distributor Choice",null,"18/8 oz.",18,1,18,"Cs",null,{"$f":"IF(OR(ISBLANK(G41),G41=0,ISBLANK(J41)),,ROUND(J41+$K$3,2))","v":0},{"$f":"ROUND(K41*H41,2)","v":0},{"$f":"ROUND(K41/F41,4)","v":0}]
[null,"fluid milk product, self serve container","Fillable txt box ",{"$nulls":4},{"$f":"ROUND(G41*F41/F42,2)","v":{"$error":"#DIV/0!"}},"Cs"," ",{"$f":"IF(OR(ISBLANK(J42),G41=0,ISBLANK(G41)),,ROUND(J42+$K$3,2))","v":{"$error":"#VALUE!"}},{"$f":"ROUND(H42*K42,2)","v":{"$error":"#DIV/0!"}},{"$f":"ROUND(K42/F42,2)","v":{"$error":"#VALUE!"}}]
[null,"Asceptic Package  Preferred "]
[16,"Taco Tubs, WGR Gluten Free","Smokewood RR01011",null,"200/1 ea.",200,{"v":1,"d":"1 "},{"$f":"ROUND(G44*F44/F44,2)","v":1},"Cs",null,{"$f":"IF(OR(ISBLANK(G44),G44=0,ISBLANK(J44)),,ROUND(J44+$K$3,2))","v":0},{"$f":"ROUND(K44*H44,2)","v":0},{"$f":"ROUND(K44/F44,4)","v":0}]
[null,"No sodium, 0 trans fats, "]
[null,"One tub meets 1 0z. OEG "]
[17,"Cooking Pan Spray (Buttery Flavor)","Vegalene 17260",null,"6/17 oz.",6,{"v":1,"d":"1 "},{"$f":"ROUND(G47*F47/F47,2)","v":1},"Cs",null,{"$f":"IF(OR(ISBLANK(G47),G47=0,ISBLANK(J47)),,ROUND(J47+$K$3,2))","v":0},{"$f":"ROUND(K47*H47,2)","v":0},{"$f":"ROUND(K47/F47,4)","v":0}]
[null,"Contains no soy, dairy, trans fats and is "]
[null,"Gluten Free"]
[]
[18,"Buns, Hamburger, Gluten Free","Distributor Choice",null,"30/3.5z",30,{"v":1,"d":"1 "},30,"Cs"]
[" ","Frozen","Fillable txt box or unprotected",{"$nulls":4},{"$f":"ROUND(G51*F51/F52,2)","v":{"$error":"#DIV/0!"}},"Cs",null,{"$f":"IF(OR(ISBLANK(J52),G51=0,ISBLANK(G51)),,ROUND(J52+$K$3,2))","v":0},{"$f":"ROUND(H52*K52,2)","v":{"$error":"#DIV/0!"}},{"$f":"ROUND(K52/F52,2)","v":{"$error":"#DIV/0!"}}]
[19,"Buns, Hot Dog, Gluten Free","Distributor Choice",null,"30/3.5z",30,{"v":0,"d":"0 "},30,"Cs"]
[null,"Frozen","Fillable txt box or unprotected",{"$nulls":4},{"$f":"ROUND(G53*F53/F54,2)","v":{"$error":"#DIV/0!"}},"Cs",null,{"$f":"IF(OR(ISBLANK(J54),G53=0,ISBLANK(G53)),,ROUND(J54+$K$3,2))","v":0},{"$f":"ROUND(H54*K54,2)","v":{"$error":"#DIV/0!"}},{"$f":"ROUND(K54/F54,2)","v":{"$error":"#DIV/0!"}}]
[]
[20,"Bread, White Gluten Free","Distributor Choice",null,"32/3.0z",30,{"v":0,"d":"0 "},30,"Cs"]
[null,"Frozen","Fillable txt box or unprotected",{"$nulls":4},{"$f":"ROUND(G56*F56/F57,2)","v":{"$error":"#DIV/0!"}},"Cs",null,{"$f":"IF(OR(ISBLANK(J57),G56=0,ISBLANK(G56)),,ROUND(J57+$K$3,2))","v":0},{"$f":"ROUND(H57*K57,2)","v":{"$error":"#DIV/0!"}},{"$f":"ROUND(K57/F57,2)","v":{"$error":"#DIV/0!"}}]
[" "," "]
[]
[]
[{"$nulls":9},"Lot A SP Diet",null,{"$f":"SUMIF(L7:L60,\">0\")","v":0}]

{"sheet":"Disposables","index":25,"n_rows":231,"n_cols":13,"rows_kept":231,"merged":[[0,4,0,12],[1,4,1,12],[2,5,2,9]]}
[null,{"$f":"'Recap Sheet'!A2","v":"School Food Authority:"},null,null,{"$f":"'Recap Sheet'!A3","v":"Offeror Name:"}]
[null,{"$f":"'Recap Sheet'!B2","v":"Colleton County School District Office of Student Nutrition"},"Return to Recap Sheet",null,{"$f":"'Recap Sheet'!B3","v":0}]
["Item","Description","Approved Brand Name / Manuf ID # ",null,null,"Firm Fixed Fee",{"$nulls":4},{"$f":"'Recap Sheet'!B4","v":{"v":0,"d":"$0.00"}}]
["#",null,null,"Distributor","Vendor","Svgs","Est.","Bid ","Bid","Unit","Unit Price","Total ","Cost per"]
[{"$nulls":3},"Code","Pack","per unit","Bid Qty","Qty","Unit","Price","plus Fee","Price","Unit"]
[null,"Category: Disposables/Paper"]
[1,"Aluminum Foil  (FOIL)","Distributor Choice",null,"18x1000",1000,{"v":25,"d":"25 "}," "," "]
[null,"18 inches wide x 1000 ft roll with metal cutting edge. ","Fillable txt box ",{"$nulls":4},{"$f":"ROUND(G7*F7/F8,2)","v":{"$error":"#DIV/0!"}},"Cs",null,{"$f":"IF(OR(ISBLANK(J8),G7=0,ISBLANK(G7)),,ROUND(J8+$K$3,2))","v":0},{"$f":"ROUND(H8*K8,2)","v":{"$error":"#DIV/0!"}},{"$f":"ROUND(K8/F8,4)","v":{"$error":"#DIV/0!"}}]
[null,"Support ends.  10% roll dispenser carton.  Heavy Duty.   "]
[null,"3 gauge .001 weight"]
[2,"Aprons, Disposable","Handgard EME",null,"100 ct",100,{"v":15,"d":"15 "},{"$f":"ROUND(G11*F11/F11,2)","v":15},"Cs",null,{"$f":"IF(OR(ISBLANK(G11),G11=0,ISBLANK(J11)),,ROUND(J11+$K$3,2))","v":0},{"$f":"ROUND(K11*H11,2)","v":0},{"$f":"ROUND(K11/F11,4)","v":0}]
[null,"Plastic, size 28\"x46\", 3 gauge dispenser box.  Full size bib"]
[3,"Bags, Food Storage, 10 x 14","Handgard FB-14 RM",null,"1000 Ct",1000,{"v":250,"d":"250 "},{"$f":"ROUND(G13*F13/F13,2)","v":250},"Cs",null,{"$f":"IF(OR(ISBLANK(G13),G13=0,ISBLANK(J13)),,ROUND(J13+$K$3,2))","v":0},{"$f":"ROUND(K13*H13,2)","v":0},{"$f":"ROUND(K13/F13,4)","v":0}]
[null,null,"Distributor Choice"]
[null,null,"Fillable txt box ",{"$nulls":4},{"$f":"ROUND(G13*F13/F15,2)","v":{"$error":"#DIV/0!"}},"Cs",null,{"$f":"IF(OR(ISBLANK(G13),G13=0,ISBLANK(F15)),,ROUND(J15+$K$3,2))","v":0},{"$f":"ROUND(H15*K15,2)","v":{"$error":"#DIV/0!"}},{"$f":"ROUND(K15/F15,4)","v":{"$error":"#DIV/0!"}}]
[4,"Bags, Food Storage, 18 x 24","Handgard FB-24 RM",null,"250 Ct",250,{"v":50,"d":"50 "},{"$f":"ROUND(G16*F16/F16,2)","v":50},"Cs",null,{"$f":"IF(OR(ISBLANK(G16),G16=0,ISBLANK(J16)),,ROUND(J16+$K$3,2))","v":0},{"$f":"ROUND(K16*H16,2)","v":0},{"$f":"ROUND(K16/F16,4)","v":0}]
[null,null,"Distributor Choice"]
[null,null,"Fillable txt box ",{"$nulls":4},{"$f":"ROUND(G16*F16/F18,2)","v":{"$error":"#DIV/0!"}},"Cs",null,{"$f":"IF(OR(ISBLANK(G16),G16=0,ISBLANK(F18)),,ROUND(J18+$K$3,2))","v":0},{"$f":"ROUND(H18*K18,2)","v":{"$error":"#DIV/0!"}},{"$f":"ROUND(K18/F18,4)","v":{"$error":"#DIV/0!"}}]
[5,"Bags, Sandwich","Handguard SB 8.5",null,2000,2000,{"v":100,"d":"100 "},{"$f":"ROUND(G19*F19/F19,2)","v":100},"Cs",null,{"$f":"IF(OR(ISBLANK(G19),G19=0,ISBLANK(J19),),,ROUND(J19+$K$3,2))","v":0},{"$f":"ROUND(K19*H19,2)","v":0},{"$f":"ROUND(K19/F19,4)","v":0}]
[null,null,"Distributor Choice"]
[null,"Flip-lock, double saddle pack.  6\" x 7\"","Fillable txt box ",{"$nulls":4},{"$f":"ROUND(G19*F19/F21,2)","v":{"$error":"#DIV/0!"}},"Cs",null,{"$f":"IF(OR(ISBLANK(G19),G19=0,ISBLANK(F21)),,ROUND(J21+$K$3,2))","v":0},{"$f":"ROUND(H21*K21,2)","v":{"$error":"#DIV/0!"}},{"$f":"ROUND(K21/F21,4)","v":{"$error":"#DIV/0!"}}]
[6,"Bowl, 5 oz. , with flared lip","GenPak 80500",null,"1000 Ct",1000,{"v":0,"d":"0 "},{"$f":"ROUND(G22*F22/F22,2)","v":0},"Cs",null,{"$f":"IF(OR(ISBLANK(G22),G22=0,ISBLANK(J22)),,ROUND(J22+$K$3,2))","v":0},{"$f":"ROUND(K22*H22,2)","v":0},{"$f":"ROUND(K22/F22,4)","v":0}]
[null,"Styrofoam, Must not contain CFC's"," "]
[7,"Bowl, 5 oz, without flared lip","Dart 5B20",null,"1000 ct",1000,{"v":0,"d":"0 "},{"$f":"ROUND(G24*F24/F24,2)","v":0},"Cs",null,{"$f":"IF(OR(ISBLANK(G24),G24=0,ISBLANK(J24)),,ROUND(J24+$K$3,2))","v":0},{"$f":"ROUND(K24*H24,2)","v":0},{"$f":"ROUND(K24/F24,4)","v":0}]
[null,"Styrofoam, Must not contain CFC's"]
[8,"Bowl, Styrofoam, 8 oz, without flared lip","Dart 8B20",null,"1000 Ct",1000,{"v":0,"d":"0 "},{"$f":"ROUND(G26*F26/F26,2)","v":0},"Cs",null,{"$f":"IF(OR(ISBLANK(G26),G26=0,ISBLANK(J26)),,ROUND(J26+$K$3,2))","v":0},{"$f":"ROUND(K26*H26,2)","v":0},{"$f":"ROUND(K26/F26,4)","v":0}]
[null,"Must not contain CFC's "]
[9,"Bowl, Styrofoam, 12 oz, with flared lip","GenPak82100",null,1000,1000,{"v":0,"d":"0 "},{"$f":"ROUND(G28*F28/F28,2)","v":0},"Cs",null,{"$f":"IF(OR(ISBLANK(G28),G28=0,ISBLANK(J28)),,ROUND(J28+$K$3,2))","v":0},{"$f":"ROUND(K28*H28,2)","v":0},{"$f":"ROUND(K28/F28,4)","v":0}]
[null,"Must not contain CFC's ",null,null," "," "]
[10,"Bowl, Styrofoam, 12 oz, without flared lip","Dart 12B32",null,1000,1000,{"v":0,"d":"0 "},{"$f":"ROUND(G30*F30/F30,2)","v":0},"Cs",null,{"$f":"IF(OR(ISBLANK(G30),G30=0,ISBLANK(J30)),,ROUND(J30+$K$3,2))","v":0},{"$f":"ROUND(K30*H30,2)","v":0},{"$f":"ROUND(K30/F30,4)","v":0}]
[null,"Must not contain CFC's ",null,null," "," "]
[11,"Brooms","Distributor Choice",null,1,{"v":1,"d":"1.0"},{"v":50,"d":"50 "},{"$f":"ROUND(G32*F32/F32,2)","v":50},"Cs"]
[null,"Warehouse.  32% corn, lightweight, heavy duty","Fillable txt box ",{"$nulls":4},{"$f":"ROUND(G32*F32/F33,2)","v":{"$error":"#DIV/0!"}},"Cs",null,{"$f":"IF(OR(ISBLANK(G32),G32=0,ISBLANK(F33)),,ROUND(J33+$K$3,2))","v":0},{"$f":"ROUND(H33*K33,2)","v":{"$error":"#DIV/0!"}},{"$f":"ROUND(K33/F33,4)","v":{"$error":"#DIV/0!"}}]
[12,"Container, FM 8 oz Squat","Dart 8SJ20",null,1000,1000,{"v":25,"d":"25 "},{"$f":"ROUND(G34*F34/F34,2)","v":25},"Cs",null,{"$f":"IF(OR(ISBLANK(G34),G34=0,ISBLANK(J34)),,ROUND(J34+$K$3,2))","v":0},{"$f":"ROUND(K34*H34,2)","v":0},{"$f":"ROUND(K34/F34,4)","v":0}]
[null,"Must not contain CFC's "," "]
[13,"Container, FM 12 oz Squat","(15) Dart 12SJ20",null,500,500,{"v":25,"d":"25 "},{"$f":"ROUND(G36*F36/F36,2)","v":25},"Cs",null,{"$f":"IF(OR(ISBLANK(G36),G36=0,ISBLANK(J36)),,ROUND(J36+$K$3,2))","v":0},{"$f":"ROUND(K36*H36,2)","v":0},{"$f":"ROUND(K36/F36,4)","v":0}]
[null,"Must not contain CFC's "," ",null,500,500]
[14,"Container, w/Hinged Lid, Styro foam","Pactiv YTD 19903",null,150,150,{"v":50,"d":"50 "},{"$f":"ROUND(G38*F38/F38,2)","v":50},"Cs",null,{"$f":"IF(OR(ISBLANK(G38),G38=0,ISBLANK(J38)),,ROUND(J38+$K$3,2))","v":0},{"$f":"ROUND(K38*H38,2)","v":0},{"$f":"ROUND(K38/F38,4)","v":0}]
[null,"3 compartment, white, carryout tray","Gen Pak 20310",null,200,200,null,{"$f":"ROUND($G$38*$F$38/F39,2)","v":37.5},"Cs",null,{"$f":"IF(OR(ISBLANK(G38),G38=0,ISBLANK(J39)),,ROUND(J39+$K$3,2))","v":0},{"$f":"ROUND(K39*H39,2)","v":0},{"$f":"ROUND(K39/F39,4)","v":0}]
[null,"Must not contain CFC's ","Dart 90HTPF3",null,200,200,null,{"$f":"ROUND($G$38*$F$38/F40,2)","v":37.5},"Cs",null,{"$f":"IF(OR(ISBLANK(G38),G38=0,ISBLANK(J40)),,ROUND(J40+$K$3,2))","v":0},{"$f":"ROUND(K40*H40,2)","v":0},{"$f":"ROUND(K40/F40,4)","v":0}]
[15,"Container, w/Hinged Lid, Clear","Dart C90PST1",null,"2/125",250,{"v":75,"d":"75 "},{"$f":"ROUND(G41*F41/F41,2)","v":75},"Cs",null,{"$f":"IF(OR(ISBLANK(G41),G41=0,ISBLANK(J41)),,ROUND(J41+$K$3,2))","v":0},{"$f":"ROUND(K41*H41,2)","v":0},{"$f":"ROUND(K41/F41,4)","v":0}]
[null,"1 section.  8.25\" x 8.25\" x 3\"","Distributor Choice"]
[null," ","Fillable txt box ",{"$nulls":4},{"$f":"ROUND(G41*F41/F43,2)","v":{"$error":"#DIV/0!"}},"Cs",null,{"$f":"IF(OR(ISBLANK(G41),G41=0,ISBLANK(F43)),,ROUND(J43+$K$3,2))","v":0},{"$f":"ROUND(K43*H43,2)","v":{"$error":"#DIV/0!"}},{"$f":"ROUND(K43/F43,4)","v":{"$error":"#DIV/0!"}}]
[16,"Container w/Hinged Lid, Plastic, Clear","Dart C57PST1",null,"4/125",500,{"v":50,"d":"50 "},{"$f":"ROUND(G44*F44/F44,2)","v":50},"Cs",null,{"$f":"IF(OR(ISBLANK(G44),G44=0,ISBLANK(J44),),,ROUND(J44+$K$3,2))","v":0},{"$f":"ROUND(K44*H44,2)","v":0},{"$f":"ROUND(K44/F44,4)","v":0}]
[null,"1 section.  6\" x 5.75\" x 3\"","Distributor Choice"]
[null,null,"Fillable txt box ",{"$nulls":4},{"$f":"ROUND(G44*F44/F46,2)","v":{"$error":"#DIV/0!"}},"Cs",null,{"$f":"IF(OR(ISBLANK(G44),G44=0,ISBLANK(F46)),,ROUND(J46+$K$3,2))","v":0},{"$f":"ROUND(K46*H46,2)","v":{"$error":"#DIV/0!"}},{"$f":"ROUND(K46/F46,4)","v":{"$error":"#DIV/0!"}}]
[17,"Container, 4 oz w/Hinged Lid, Clear, ","Par-Pak 21959",null,"1500",1500,{"v":50,"d":"50 "},{"$f":"ROUND(G47*F47/F47,2)","v":50},"Cs",null,{"$f":"IF(OR(ISBLANK(G47),G47=0,ISBLANK(J47)),,ROUND(J47+$K$3,2))","v":0},{"$f":"ROUND(K47*H47,2)","v":0},{"$f":"ROUND(K47/F47,4)","v":0}]
[null,"can be used for hot or cold offer versus serve ","Distributor Choice",{"$nulls":3}," "]
[null," ","Fillable txt box ",{"$nulls":4},{"$f":"ROUND(G47*F47/F49,2)","v":{"$error":"#DIV/0!"}},"Cs",null,{"$f":"IF(OR(ISBLANK(G47),G47=0,ISBLANK(F49)),,ROUND(J49+$K$3,2))","v":0},{"$f":"ROUND(K49*H49,2)","v":{"$error":"#DIV/0!"}},{"$f":"ROUND(K49/F49,4)","v":{"$error":"#DIV/0!"}}]
[18,"Container, 6 oz w/Hinged Lid, Clear, ","Par-Pak 21961",null,"1500",1500,{"v":50,"d":"50 "},{"$f":"ROUND(G50*F50/F50,2)","v":50},"Cs",null,{"$f":"IF(OR(ISBLANK(G50),G50=0,ISBLANK(J50)),,ROUND(J50+$K$3,2))","v":0},{"$f":"ROUND(K50*H50,2)","v":0},{"$f":"ROUND(K50/F50,4)","v":0}]
[null,"can be used for hot or cold offer versus serve ","Distributor Choice"]
[null," ","Fillable txt box ",{"$nulls":4},{"$f":"ROUND(G50*F50/F52,2)","v":{"$error":"#DIV/0!"}},"Cs",null,{"$f":"IF(OR(ISBLANK(G50),G50=0,ISBLANK(F52)),,ROUND(J52+$K$3,2))","v":0},{"$f":"ROUND(K52*H52,2)","v":{"$error":"#DIV/0!"}},{"$f":"ROUND(K52/F52,4)","v":{"$error":"#DIV/0!"}}]
[19,"Cups, Portion, 1 oz, paper","Sweetheart 100",null,5000,5000,{"v":0,"d":"0 "},{"$f":"ROUND(G53*F53/F53,2)","v":0},"Cs",null,{"$f":"IF(OR(ISBLANK(G53),G53=0,ISBLANK(J53)),,ROUND(J53+$K$3,2))","v":0},{"$f":"ROUND(K53*H53,2)","v":0},{"$f":"ROUND(K53/F53,4)","v":0}]
[null,null,"Solo 45",null,5000,5000,null,{"$f":"ROUND($G$53*$F$53/F54,2)","v":0},"Cs",null,{"$f":"IF(OR(ISBLANK(G53),G53=0,ISBLANK(J54)),,ROUND(J54+$K$3,2))","v":0},{"$f":"ROUND(K54*H54,2)","v":0},{"$f":"ROUND(K54/F54,4)","v":0}]
[null,null,"Distributor Choice"]
[null," ","Fillable txt box ",null,null," ",null,{"$f":"ROUND(G53*F53/F56,2)","v":{"$error":"#VALUE!"}},"Cs",null,{"$f":"IF(OR(ISBLANK(G53),G53=0,ISBLANK(J56)),,ROUND(J56+$K$3,2))","v":0},{"$f":"ROUND(H56*K56,2)","v":{"$error":"#VALUE!"}},{"$f":"ROUND(K56/F56,4)","v":{"$error":"#VALUE!"}}]
[20,"Cups, Portion, 2 oz. Paper","Sweetheart 200",null,5000,5000,{"v":0,"d":"0 "},{"$f":"ROUND(G57*F57/F57,2)","v":0},"Cs",null,{"$f":"IF(OR(ISBLANK(G57),G57=0,ISBLANK(J57)),,ROUND(J57+$K$3,2))","v":0},{"$f":"ROUND(K57*H57,2)","v":0},{"$f":"ROUND(K57/F57,4)","v":0}]
[null,null,"Solo 48",null,5000,5000,null,{"$f":"ROUND(G57*F57/F58,2)","v":0},"Cs",null,{"$f":"IF(OR(ISBLANK(G57),G57=0,ISBLANK(J58)),,ROUND(J58+$K$3,2))","v":0},{"$f":"ROUND(K58*H58,2)","v":0},{"$f":"ROUND(K58/F58,4)","v":0}]
[null,null,"Distributor Choice"]
[null,null,"Fillable txt box ",{"$nulls":4},{"$f":"ROUND(G57*F57/F60,2)","v":{"$error":"#DIV/0!"}},"Cs",null,{"$f":"IF(OR(ISBLANK(G57),G57=0,ISBLANK(J60)),,ROUND(J60+$K$3,2))","v":0},{"$f":"ROUND(H60*K60,2)","v":{"$error":"#DIV/0!"}},{"$f":"ROUND(K60/F60,4)","v":{"$error":"#DIV/0!"}}]
[21,"Cups, Portion, 4 oz, Paper","Sweetheart 400",null,5000,5000,{"v":0,"d":"0 "},{"$f":"ROUND(G61*F61/F61,2)","v":0},"Cs",null,{"$f":"IF(OR(ISBLANK(G61),G61=0,ISBLANK(J61)),,ROUND(J61+$K$3,2))","v":0},{"$f":"ROUND(K61*H61,2)","v":0},{"$f":"ROUND(K61/F61,4)","v":0}]
[null,null,"Solo 51",null,5000,5000,null,{"$f":"ROUND($G$61*$F$61/F62,2)","v":0},"Cs",null,{"$f":"IF(OR(ISBLANK(G61),G61=0,ISBLANK(J62)),,ROUND(J62+$K$3,2))","v":0},{"$f":"ROUND(K62*H62,2)","v":0},{"$f":"ROUND(K62/F62,4)","v":0}]
[null,null,"Distributor Choice"]
[null,null,"Fillable txt box ",{"$nulls":4},{"$f":"ROUND(G61*F61/F64,2)","v":{"$error":"#DIV/0!"}},"Cs",null,{"$f":"IF(OR(ISBLANK(G61),G61=0,ISBLANK(J64)),,ROUND(J64+$K$3,2))","v":0},{"$f":"ROUND(H64*K64,2)","v":{"$error":"#DIV/0!"}},{"$f":"ROUND(K64/F64,4)","v":{"$error":"#DIV/0!"}}]
[22,"Cups, Portion, 2 oz. Plastic","Sweetheart UR2H",null,2500,2500,{"v":25,"d":"25 "},{"$f":"ROUND(G65*F65/F65,2)","v":25},"Cs",null,{"$f":"IF(OR(ISBLANK(G65),G65=0,ISBLANK(J65)),,ROUND(J65+$K$3,2))","v":0},{"$f":"ROUND(K65*H65,2)","v":0},{"$f":"ROUND(K65/F65,4)","v":0}]
[null,null,"Solo B200",null,2500,2500,null,{"$f":"ROUND($G$65*$F$65/F66,2)","v":25},"Cs",null,{"$f":"IF(OR(ISBLANK(J66),G65=0,ISBLANK(G65)),,ROUND(J66+$K$3,2))","v":0},{"$f":"ROUND(K66*H66,2)","v":0},{"$f":"ROUND(K66/F66,4)","v":0}]
[null,null,"Dart 200PC",null,2500,2500,null,{"$f":"ROUND($G$65*$F$65/F67,2)","v":25},"Cs",null,{"$f":"IF(OR(ISBLANK(J67),G65=0,ISBLANK(G65)),,ROUND(J67+$K$3,2))","v":0},0,{"$f":"ROUND(K67/F67,4)","v":0}]
[null,null,"Dixie PO20xx translucent",null,2400,2400,null,{"$f":"ROUND($G$65*$F$65/F68,2)","v":26.04},"Cs",null,{"$f":"IF(OR(ISBLANK(J68),G65=0,ISBLANK(G65)),,ROUND(J68+$K$3,2))","v":0},0,{"$f":"ROUND(K68/F68,4)","v":0}]
[23,"Cups, Portion, 4 oz., Plastic","Sweetheart UR4",null,2500,2500,{"v":0,"d":"0 "},{"$f":"ROUND(G69*F69/F69,2)","v":0},"Cs",null,{"$f":"IF(OR(ISBLANK(G69),G69=0,ISBLANK(J69)),,ROUND(J69+$K$3,2))","v":0},{"$f":"ROUND(K69*H69,2)","v":0},0]
[null,null,"Dixie PO40 translucent",null,2400,2400,null,{"$f":"ROUND($G$69*$F$69/F70,2)","v":0},"Cs",null,{"$f":"IF(OR(ISBLANK(J70),G69=0,ISBLANK(G69)),,ROUND(J70+$K$3,2))","v":0},{"$f":"ROUND(K70*H70,2)","v":0},0]
[null,null,"Solo P400",null,2500,2500,null,{"$f":"ROUND($G$69*$F$69/F71,2)","v":0},"Cs",null,{"$f":"IF(OR(ISBLANK(J71),G69=0,ISBLANK(G69)),,ROUND(J71+$K$3,2))","v":0},0,0]
[null,null,"Dart 400PC",null,2500,2500,null,{"$f":"ROUND($G$69*$F$69/F72,2)","v":0},"Cs",null,{"$f":"IF(OR(ISBLANK(J72),G69=0,ISBLANK(G69)),,ROUND(J72+$K$3,2))","v":0},0,0]
[24,"Cups, Portion, 5.5 oz., Plastic","Dixie PO55 translucent",null,2400,2400,{"v":50,"d":"50 "},{"$f":"ROUND(G73*F73/F73,2)","v":50},"Cs",null,{"$f":"IF(OR(ISBLANK(G73),G73=0,ISBLANK(J73)),,ROUND(J73+$K$3,2))","v":0},{"$f":"ROUND(K73*H73,2)","v":0},0]
[null,null,"Solo P550",null,2500,2500,null,{"$f":"ROUND($G$73*$F$73/F74,2)","v":48},"Cs",null,{"$f":"IF(OR(ISBLANK(J74),G73=0,ISBLANK(G73)),,ROUND(J74+$K$3,2))","v":0},{"$f":"ROUND(K74*H74,2)","v":0},0]
[null,null,"Dart 550PC",null,2500,2500,null,{"$f":"ROUND($G$73*$F$73/F75,2)","v":48},"Cs",null,{"$f":"IF(OR(ISBLANK(J75),G73=0,ISBLANK(G73)),,ROUND(J75+$K$3,2))","v":0},0,0]
[25,"Cups, Drinking, Styrofoam, 8 oz","Dart 8J8",null,"40/25",1000,{"v":25,"d":"25 "},{"$f":"ROUND(G76*F76/F76,2)","v":25},"Cs",null,{"$f":"IF(OR(ISBLANK(G76),G76=0,ISBLANK(J76)),,ROUND(J76+$K$3,2))","v":0},{"$f":"ROUND(K76*H76,2)","v":0},0]
[null,"Must not contain CFC's ","Distributor Choice"]
[null,null,"Fillable txt box ",{"$nulls":4},{"$f":"ROUND(G76*F76/F78,2)","v":{"$error":"#DIV/0!"}},"Cs",null,{"$f":"IF(OR(ISBLANK(G76),G76=0,ISBLANK(F78)),,ROUND(J78+$K$3,2))","v":0},{"$f":"ROUND(H78*K78,2)","v":{"$error":"#DIV/0!"}},{"$f":"ROUND(K78/F78,4)","v":{"$error":"#DIV/0!"}}]
[26,"Cups, Drinking, Styrofoam, 12 oz","Dart 12J12",null,"40/25",1000,{"v":25,"d":"25 "},{"$f":"ROUND(G79*F79/F79,2)","v":25},"Cs",null,{"$f":"IF(OR(ISBLANK(G79),G79=0,ISBLANK(J79)),,ROUND(J79+$K$3,2))","v":0},{"$f":"ROUND(K79*H79,2)","v":0},0]
[null,null,"Distributor Choice"]
[null,"Must not contain CFC's ","Fillable txt box ",{"$nulls":4},{"$f":"ROUND(G79*F79/F81,2)","v":{"$error":"#DIV/0!"}},"Cs",null,{"$f":"IF(OR(ISBLANK(G79),G79=0,ISBLANK(F81)),,ROUND(J81+$K$3,2))","v":0},{"$f":"ROUND(H81*K81,2)","v":{"$error":"#DIV/0!"}},{"$f":"ROUND(K81/F81,4)","v":{"$error":"#DIV/0!"}}]
[27,"Forks, Plastic","D&W Finepack Senate P1001",null,1000,1000,{"v":0,"d":"0 "},{"$f":"ROUND(G82*F82/F82,2)","v":0},"Cs",null,{"$f":"IF(OR(ISBLANK(J82),G82=0,ISBLANK(G82)),,ROUND(J82+$K$3,2))","v":0},{"$f":"ROUND(K82*H82,2)","v":0},0]
[null,"Medium weight","Dixie PFM 22",null,2000,2000,null,{"$f":"ROUND($G$82*$F$82/F83,2)","v":0},"Cs",null,{"$f":"IF(OR(ISBLANK(J83),G82=0,ISBLANK(G82)),,ROUND(J83+$K$3,2))","v":0},{"$f":"ROUND(K83*H83,2)","v":0},0]
[null,null,"Dart F6BW",null,1000,1000,null,{"$f":"ROUND($G$82*$F$82/F84,2)","v":0},"Cs",null,{"$f":"IF(OR(ISBLANK(J84),G82=0,ISBLANK(G82)),,ROUND(J84+$K$3,2))","v":0},0,0]
[null,null,"Distributor Choice"]
[null,null,"Fillable txt box ",{"$nulls":4},{"$f":"ROUND(G84*F84/F86,2)","v":{"$error":"#DIV/0!"}},"Cs",null,{"$f":"IF(OR(ISBLANK(G84),G84=0,ISBLANK(F86)),,ROUND(J86+$K$3,2))","v":0},{"$f":"ROUND(H86*K86,2)","v":{"$error":"#DIV/0!"}},{"$f":"ROUND(K86/F86,4)","v":{"$error":"#DIV/0!"}}]
[null,null,"Max Packaging",null,1000,1000,null,{"$f":"ROUND($G$82*$F$82/F87,2)","v":0},"CS",null,{"$f":"IF(OR(ISBLANK(J87),G82=0,ISBLANK(G82)),,ROUND(J87+$K$3,2))","v":0},0,0]
[28,"Forks, MW Black Plastic, Disposable, Dispen Type","Smart Stack SSF51",null,960,960,{"v":0,"d":"0 "},{"$f":"ROUND(G88*F88/F88,2)","v":0},"Cs",null,{"$f":"IF(OR(ISBLANK(G88),G88=0,ISBLANK(J88)),,ROUND(J88+$K$3,2))","v":0},{"$f":"ROUND(K88*H88,2)","v":0},{"$f":"ROUND(K88/F88,4)","v":0}]
[" "]
[29,"Gloves, Lined","Handgards LTX ",null,{"v":144,"d":"144.0"},144,{"v":0,"d":"0 "},{"$f":"ROUND(G90*F90/F90,2)","v":0},"Cs",null,{"$f":"IF(OR(ISBLANK(G90),G90=0,ISBLANK(J90)),,ROUND(J90+$K$3,2))","v":0},{"$f":"ROUND(K90*H90,2)","v":0},0]
[null,"One Pair.  Latex, medium weight.  Size:  Large","Distributor Choice",{"$nulls":3}," "]
[null,null,"Fillable txt box ",{"$nulls":4},{"$f":"ROUND(G90*F90/F92,2)","v":{"$error":"#DIV/0!"}},"Cs",null,{"$f":"IF(OR(ISBLANK(G90),G90=0,ISBLANK(F92)),,ROUND(J92+$K$3,2))","v":0},{"$f":"ROUND(H92*K92,2)","v":{"$error":"#DIV/0!"}},{"$f":"ROUND(K92/F92,4)","v":{"$error":"#DIV/0!"}}]
[30,"Gloves, Plastic","Distributor Choice",null,"10/100",1000,{"v":125,"d":"125 "},{"$f":"ROUND(G93*F93/F93,2)","v":125},"Cs"]
[null,"Cuff Length.  Dispenser Box.  Embossed.","Fillable txt box ",{"$nulls":4},{"$f":"ROUND(G93*F93/F94,2)","v":{"$error":"#DIV/0!"}},"Cs",null,{"$f":"IF(OR(ISBLANK(G93),G93=0,ISBLANK(F94)),,ROUND(J94+$K$3,2))","v":0},{"$f":"ROUND(H94*K94,2)","v":{"$error":"#DIV/0!"}},{"$f":"ROUND(K94/F94,4)","v":{"$error":"#DIV/0!"}}]
[31,"Kit, Spork with Napkin Kit","D&W Finepack Senate P1005Kit",null,1000,1000,{"v":300,"d":"300 "},{"$f":"ROUND(G95*F95/F95,2)","v":300},"Cs",null,{"$f":"IF(OR(ISBLANK(G95),G95=0,ISBLANK(J95)),,ROUND(J95+$K$3,2))","v":0},{"$f":"ROUND(K95*H95,2)","v":0},0]
[null,"Medium Weight White Spork with  ","Distributor Choice",{"$nulls":3}," "]
[null,"10x10 1-ply Napkin, wrapped","Fillable txt box ",{"$nulls":4},{"$f":"ROUND(G95*F95/F97,2)","v":{"$error":"#DIV/0!"}},"Cs",null,{"$f":"IF(OR(ISBLANK(G95),G95=0,ISBLANK(F97)),,ROUND(J97+$K$3,2))","v":0},{"$f":"ROUND(H97*K97,2)","v":{"$error":"#DIV/0!"}},{"$f":"ROUND(K97/F97,4)","v":{"$error":"#DIV/0!"}}]
[32,"Kit, Fork MW, with Napkin (No Straw)","Distributor Choice",null,"1000",1000,{"v":300,"d":"300 "},{"$f":"ROUND(G98*F98/F98,2)","v":300},"Cs"]
[null,null,"Fillable txt box ",{"$nulls":4},{"$f":"ROUND(G98*F98/F99,2)","v":{"$error":"#DIV/0!"}},"Cs",null,{"$f":"IF(OR(ISBLANK(G98),G98=0,ISBLANK(F99)),,ROUND(J99+$K$3,2))","v":0},{"$f":"ROUND(H99*K99,2)","v":{"$error":"#DIV/0!"}},{"$f":"ROUND(K99/F99,4)","v":{"$error":"#DIV/0!"}}]
[null,"Medium Weight White Fork "]
[33,"Kit, Fork MW, Milk Straw with Napkin","D&W Finepack Senate P1001MSKIT",null,1000,1000,{"v":0,"d":"0 "},{"$f":"ROUND(G101*F101/F101,2)","v":0},"Cs",null,{"$f":"IF(OR(ISBLANK(G101),G101=0,ISBLANK(J101)),,ROUND(J101+$K$3,2))","v":0},{"$f":"ROUND(K101*H101,2)","v":0},0]
[null,null,"Distributor Choice"]
[null,"Medium Weight White Fork ","Fillable txt box ",{"$nulls":4},{"$f":"ROUND(G101*F101/F103,2)","v":{"$error":"#DIV/0!"}},"Cs",null,{"$f":"IF(OR(ISBLANK(G101),G101=0,ISBLANK(F103)),,ROUND(J103+$K$3,2))","v":0},{"$f":"ROUND(H103*K103,2)","v":{"$error":"#DIV/0!"}},{"$f":"ROUND(K103/F103,4)","v":{"$error":"#DIV/0!"}}]
[34,"Lids, 2 oz ","Dart",null,"20/125",2500,{"v":25,"d":"25 "},{"$f":"ROUND(G104*F104/F104,2)","v":25},"Cs",null,{"$f":"IF(OR(ISBLANK(G104),G104=0,ISBLANK(J104)),,ROUND(J104+$K$3,2))","v":0},{"$f":"ROUND(K104*H104,2)","v":0},0]
[null,null,"Distributor Choice"]
[null,"Fits 2 oz plastic portion cup , see Line 22","Fillable txt box ",{"$nulls":4},{"$f":"ROUND(G104*F104/F106,2)","v":{"$error":"#DIV/0!"}},"Cs",null,{"$f":"IF(OR(ISBLANK(G104),G104=0,ISBLANK(F106)),,ROUND(J106+$K$3,2))","v":0},{"$f":"ROUND(H106*K106,2)","v":{"$error":"#DIV/0!"}},{"$f":"ROUND(K106/F106,4)","v":{"$error":"#DIV/0!"}}]
[35,"Lids, 4 oz","Dixie PL4C",null,2400,2400,{"v":0,"d":"0 "},{"$f":"ROUND(G107*F107/F107,2)","v":0},"Cs",null,{"$f":"IF(OR(ISBLANK(J107),G107=0,ISBLANK(G107)),,ROUND(J107+$K$3,2))","v":0},{"$f":"ROUND(K107*H107,2)","v":0},0]
[null,"Fits 4 oz. plastic portion cup, see line 23","Dart 400 PCL",null,2500,2500,null,{"$f":"ROUND($G$107*$F$107/F108,2)","v":0},"Cs",null,{"$f":"IF(OR(ISBLANK(J108),G107=0,ISBLANK(G107)),,ROUND(J108+$K$3,2))","v":0},{"$f":"ROUND(K108*H108,2)","v":0},0]
[null,null,"Solo PL4",null,2500,2500,null,{"$f":"ROUND($G$107*$F$107/F109,2)","v":0},"Cs",null,{"$f":"IF(OR(ISBLANK(J109),G107=0,ISBLANK(G107)),,ROUND(J109+$K$3,2))","v":0},0,0]
[36,"Lids, 5 oz","Dart 400PCl",null,2500,2500,{"v":50,"d":"50 "},{"$f":"ROUND(G110*F110/F110,2)","v":50},"Cs",null,{"$f":"IF(OR(ISBLANK(G110),G110=0,ISBLANK(J110)),,ROUND(J110+$K$3,2))","v":0},{"$f":"ROUND(K110*H110,2)","v":0},0]
[null,null,"Distributor Choice"]
[null,"Fits 5.5 oz. plastic portion cup see line 24","Fillable txt box ",{"$nulls":4},{"$f":"ROUND(G110*F110/F112,2)","v":{"$error":"#DIV/0!"}},"Cs",null,{"$f":"IF(OR(ISBLANK(G110),G110=0,ISBLANK(F112)),,ROUND(J112+$K$3,2))","v":0},{"$f":"ROUND(H112*K112,2)","v":{"$error":"#DIV/0!"}},{"$f":"ROUND(K112/F112,4)","v":{"$error":"#DIV/0!"}}]
[37,"Lids, 5 oz bowl with flared lip","Genpak",null,500,500,{"v":0,"d":"0 "},{"$f":"ROUND(G113*F113/F113,2)","v":0},"Cs",null,{"$f":"IF(OR(ISBLANK(G113),G113=0,ISBLANK(J113)),,ROUND(J113+$K$3,2))","v":0},{"$f":"ROUND(K113*H113,2)","v":0},0]
[null,"see line 7"]
[38,"Lids, 12 oz bowl with flared lip","Genpak 94012",null,500,500,{"v":0,"d":"0 "},{"$f":"ROUND(G115*F115/F115,2)","v":0},"Cs",null,{"$f":"IF(OR(ISBLANK(G115),G115=0,ISBLANK(J115)),,ROUND(J115+$K$3,2))","v":0},{"$f":"ROUND(K115*H115,2)","v":0},{"$f":"ROUND(K115/F115,4)","v":0}]
[null,"OPS dome fits all 12 oz bows, clear, with .88 lid height"]
[39,"Lid, Container, 8-32 oz Non Vented Plastic","Dart 20JLNV",null,"10/100",1000,{"v":0,"d":"0 "},{"$f":"ROUND(G117*F117/F117,2)","v":0},"Cs",null,{"$f":"IF(OR(ISBLANK(G117),G117=0,ISBLANK(J117)),,ROUND(J117+$K$3,2))","v":0},{"$f":"ROUND(K117*H117,2)","v":0},{"$f":"ROUND(K117/F117,4)","v":0}]
[null,null,"Distributor Choice"]
[null,"Fits 8SJ20, 12SJ20, 5B20, 8B20 see line 26, 27","Fillable txt box ",{"$nulls":4},{"$f":"ROUND(G117*F117/F119,2)","v":{"$error":"#DIV/0!"}},"Cs",null,{"$f":"IF(OR(ISBLANK(G117),G117=0,ISBLANK(F119)),,ROUND(J119+$K$3,2))","v":0},{"$f":"ROUND(H119*K119,2)","v":{"$error":"#DIV/0!"}},{"$f":"ROUND(K119/F119,4)","v":{"$error":"#DIV/0!"}}]
[40,"Lid, Container, 6-14 oz Vented Plastic, White","Dart 12JL",null,"10/100",1000,{"v":25,"d":"25 "},{"$f":"ROUND(G120*F120/F120,2)","v":25},"Cs",null,{"$f":"IF(OR(ISBLANK(G120),G120=0,ISBLANK(J120)),,ROUND(J120+$K$3,2))","v":0},{"$f":"ROUND(K120*H120,2)","v":0},0]
[null,null,"Distributor Choice"]
[null,"see line 27","Fillable txt box ",{"$nulls":4},{"$f":"ROUND(G120*F120/F122,2)","v":{"$error":"#DIV/0!"}},"Cs",null,{"$f":"IF(OR(ISBLANK(G120),G120=0,ISBLANK(F122)),,ROUND(J122+$K$3,2))","v":0},{"$f":"ROUND(H122*K122,2)","v":{"$error":"#DIV/0!"}},{"$f":"ROUND(K122/F122,4)","v":{"$error":"#DIV/0!"}}]
[41,"Lid, Container, 8-20 oz Vented Plastic, Translucent","Dart 20JL ",null,"10/100",1000,{"v":25,"d":"25 "},{"$f":"ROUND(G123*F123/F123,2)","v":25},"Cs",null,{"$f":"IF(OR(ISBLANK(G123),G123=0,ISBLANK(J123)),,ROUND(J123+$K$3,2))","v":0},{"$f":"ROUND(K123*H123,2)","v":0},0]
[null,null,"Distributor Choice"]
[null,"see line 8,9,14,15","Fillable txt box ",{"$nulls":4},{"$f":"ROUND(G123*F123/F125,2)","v":{"$error":"#DIV/0!"}},"Cs",null,{"$f":"IF(OR(ISBLANK(G123),G123=0,ISBLANK(F125)),,ROUND(J125+$K$3,2))","v":0},{"$f":"ROUND(H125*K125,2)","v":{"$error":"#DIV/0!"}},{"$f":"ROUND(K125/F125,4)","v":{"$error":"#DIV/0!"}}]
[42,"Lid, Plate, 10.25\", fits all plates.  10.25\" x 1.38\", clear,","Distributor Choice",null,200,200,{"v":25,"d":"25 "},{"$f":"ROUND(G126*F126/F126,2)","v":25},"Cs"]
[null,"vented see ln 50","Fillable txt box ",{"$nulls":4},{"$f":"ROUND(G126*F126/F127,2)","v":{"$error":"#DIV/0!"}},"Cs",null,{"$f":"IF(OR(ISBLANK(G126),G126=0,ISBLANK(F127)),,ROUND(J127+$K$3,2))","v":0},{"$f":"ROUND(H127*K127,2)","v":{"$error":"#DIV/0!"}},{"$f":"ROUND(K127/F127,4)","v":{"$error":"#DIV/0!"}}]
[43,"Liners, Pan","Dixie LO10",null,1000,1000,{"v":75,"d":"75 "},{"$f":"ROUND(G128*F128/F128,2)","v":75},"Cs",null,{"$f":"IF(OR(ISBLANK(G128),G128=0,ISBLANK(J128)),,ROUND(J128+$K$3,2))","v":0},{"$f":"ROUND(K128*H128,2)","v":0},0]
[null,null,"Distributor Choice"]
[null,"Silicon sheets 16.5\" x 24.5\" standard","Fillable txt box ",{"$nulls":4},{"$f":"ROUND(G128*F128/F130,2)","v":{"$error":"#DIV/0!"}},"Cs",null,{"$f":"IF(OR(ISBLANK(G128),G128=0,ISBLANK(F130)),,ROUND(J130+$K$3,2))","v":0},{"$f":"ROUND(K130*H130,2)","v":{"$error":"#DIV/0!"}},{"$f":"ROUND(K130/F130,4)","v":{"$error":"#DIV/0!"}}]
[44,"Liners, Pan, Unbleached Natural","EcoCraft 030025",null,1000,1000,null,{"$f":"ROUND(G131*F131/F131,2)","v":0},"Cs",null,{"$f":"IF(OR(ISBLANK(G131),G131=0,ISBLANK(J131)),,ROUND(J131+$K$3,2))","v":0},{"$f":"ROUND(K131*H131,2)","v":0},0]
[null,"Eco-friendly"," "]
[null,"16 3/8\" x 24 3/8 \""]
[45,"Liners, Trash Cans","Distributor Choice",null,100,100,{"v":300,"d":"300 "},{"$f":"ROUND(G134*F134/F134,2)","v":300},"Cs"]
[null,"60 gallon trash liners.Linear Low Density Resin 38\" ","Fillable txt box ",{"$nulls":4},{"$f":"ROUND(G134*F134/F135,2)","v":{"$error":"#DIV/0!"}},"Cs",null,{"$f":"IF(OR(ISBLANK(G134),G134=0,ISBLANK(F135)),,ROUND(J135+$K$3,2))","v":0},{"$f":"ROUND(H135*K135,2)","v":{"$error":"#DIV/0!"}},{"$f":"ROUND(K135/F135,4)","v":{"$error":"#DIV/0!"}}]
[null,"x 58\" 9 mil, New poly weight 13.2 pounds (minus 0).  ",null,null," "," "]
[null,"Minimum tear. 240 grams/md/td.   ",null,null," "," "]
[null,"Minimum dart drop 150 gms.  No reprocessed resins",null,null," "," "]
[46,"Napkins, White, 8\" x 13.5\"","Georgia Pacific 332-01",null,10000,10000,{"v":50,"d":"50 "},{"$f":"ROUND(G139*F139/F139,2)","v":50},"Cs",null,{"$f":"IF(OR(ISBLANK(J139),G139=0,ISBLANK(G139)),,ROUND(J139+$K$3,2))","v":0},{"$f":"ROUND(K139*H139,2)","v":0},{"$f":"ROUND(K139/F139,4)","v":0}]
[null,null,"Distributor Choice",null,null," "]
[null,null,"Fillable txt box ",null," "," ",null,{"$f":"ROUND(G139*F139/F141,2)","v":{"$error":"#VALUE!"}},"Cs",null,{"$f":"IF(OR(ISBLANK(G139),G139=0,ISBLANK(F139)),,ROUND(J141+$K$3,2))","v":0},{"$f":"ROUND(H141*K141,2)","v":{"$error":"#VALUE!"}},{"$f":"ROUND(K141/F141,4)","v":{"$error":"#VALUE!"}}]
[null,"Double fold, tail dispenser","Papercraft, Inc",null,10000,10000,null,{"$f":"ROUND(G139*F139/F142,2)","v":50},"Cs",null,{"$f":"IF(OR(ISBLANK(J142),G139=0,ISBLANK(G139)),,ROUND(J142+$K$3,2))","v":0},0,0]
[47,"Napkins, White, 12\" x 13\"","Georgia Pacific 370-00",null,6000,6000,{"v":0,"d":"0 "},{"$f":"ROUND(G143*F143/F143,2)","v":0},"Cs",null,{"$f":"IF(OR(ISBLANK(J143),G143=0,ISBLANK(G143)),,ROUND(J143+$K$3,2))","v":0},0,0]
[null,null,"Distributor Choice",null,null," "]
[null,null,"Fillable txt box ",null," "," ",null,{"$f":"ROUND(G143*F143/F145,2)","v":{"$error":"#VALUE!"}},"Cs",null,{"$f":"IF(OR(ISBLANK(G143),G143=0,ISBLANK(F143)),,ROUND(J145+$K$3,2))","v":0},{"$f":"ROUND(H145*K145,2)","v":{"$error":"#VALUE!"}},{"$f":"ROUND(K145/F145,4)","v":{"$error":"#VALUE!"}}]
[null,"1 ply.  Dispenser ID 51302","SCA D780",null,6000,6000,null,{"$f":"ROUND(G143*F143/F146,2)","v":0},"Cs",null,{"$f":"IF(OR(ISBLANK(J146),G143=0,ISBLANK(G143)),,ROUND(J146+$K$3,2))","v":0},0,0]
[48,"Napkins, White, 13\" x 8.5\", Dispenser","Tork Expressnap DX900",null,1,1,{"v":0,"d":"0 "},{"$f":"ROUND(G147*F147/F147,2)","v":0},"Cs",null,{"$f":"IF(OR(ISBLANK(G147),G147=0,ISBLANK(J147)),,ROUND(J147+$K$3,2))","v":0},0,0]
[49,"Panhandlers/Pan Holder (hot)","Panhandler PG-1",null,1,1,{"v":100,"d":"100 "},{"$f":"ROUND(G148*F148/F148,2)","v":100},"Cs",null,{"$f":"IF(OR(ISBLANK(G148),G148=0,ISBLANK(J148)),,ROUND(J148+$K$3,2))","v":0},0,0]
[null,null,"Distributor Choice",{"$nulls":3},"  "]
[null,"Insulated 11.5\" x 8.5\"","Fillable txt box ",{"$nulls":4},{"$f":"ROUND(G148*F148/F150,2)","v":{"$error":"#DIV/0!"}},"Cs",null,{"$f":"IF(OR(ISBLANK(G148),G148=0,ISBLANK(F150)),,ROUND(J150+$K$3,2))","v":0},{"$f":"ROUND(H150*K150,2)","v":{"$error":"#DIV/0!"}},{"$f":"ROUND(K150/F150,4)","v":{"$error":"#DIV/0!"}}]
[50,"Plate","Pactiv TK1-0044",null,500,500,{"v":50,"d":"50 "},{"$f":"ROUND(G151*F151/F151,2)","v":50},"Cs",null,{"$f":"IF(OR(ISBLANK(J151),G151=0,ISBLANK(G151)),,ROUND(J151+$K$3,2))","v":0},{"$f":"ROUND(K151*H151,2)","v":0},0]
[null,"Divided, foam laminated 10.25\"","Dart 10CPWQ",null,500,500,null,{"$f":"ROUND($G$151*$F$151/F152,2)","v":50},"Cs",null,{"$f":"IF(OR(ISBLANK(J152),G151=0,ISBLANK(G151)),,ROUND(J152+$K$3,2))","v":0},{"$f":"ROUND(K152*H152,2)","v":0},0]
[null,null,"Distributor Choice"]
[null," ","Fillable txt box ",{"$nulls":4},{"$f":"ROUND(G151*F151/F154,2)","v":{"$error":"#DIV/0!"}},"Cs",null,{"$f":"IF(OR(ISBLANK(G151),G151=0,ISBLANK(F154)),,ROUND(J154+$K$3,2))","v":0},{"$f":"ROUND(H154*K154,2)","v":{"$error":"#DIV/0!"}},{"$f":"ROUND(K154/F154,4)","v":{"$error":"#DIV/0!"}}]
[51,"Plate, FM, 6 inch (snack size)","GenPak 80600",null,1000,1000,{"v":0,"d":"0 "},{"$f":"ROUND(G155*F155/F155,2)","v":0},"Cs",null,{"$f":"IF(OR(ISBLANK(G155),G155=0,ISBLANK(J155)),,ROUND(J155+$K$3,2))","v":0},{"$f":"ROUND(K155*H155,2)","v":0},0]
[null,null,"Distributor Choice"]
[null,null,"Fillable txt box ",{"$nulls":4},{"$f":"ROUND(G155*F155/F157,2)","v":{"$error":"#DIV/0!"}},"Cs",null,{"$f":"IF(OR(ISBLANK(G155),G155=0,ISBLANK(F157)),,ROUND(J157+$K$3,2))","v":0},{"$f":"ROUND(H157*K157,2)","v":{"$error":"#DIV/0!"}},{"$f":"ROUND(K157/F157,4)","v":{"$error":"#DIV/0!"}}]
[52,"Sponges, Metal","Distributor Choice",null,12,12,{"v":25,"d":"25 "},{"$f":"ROUND(G158*F158/F158,2)","v":25},"Cs"]
[null,"Stainless steel, commercial 300 series. Type 1.5 oz","Fillable txt box ",{"$nulls":4},{"$f":"ROUND(G158*F158/F159,2)","v":{"$error":"#DIV/0!"}},"Cs",null,{"$f":"IF(OR(ISBLANK(G158),G158=0,ISBLANK(F159)),,ROUND(J159+$K$3,2))","v":0},{"$f":"ROUND(H159*K159,2)","v":{"$error":"#DIV/0!"}},{"$error":"#DIV/0!"}]
[53,"Spoons, Plastic","D&W Finepack Senate P1003",null,1000,1000,{"v":0,"d":"0 "},{"$f":"ROUND(G160*F160/F160,2)","v":0},"Cs",null,{"$f":"IF(OR(ISBLANK(J160),G160=0,ISBLANK(G160)),,ROUND(J160+$K$3,2))","v":0},{"$f":"ROUND(K160*H160,2)","v":0},0]
[null,"Medium weight","Dixie PTM 22",null,2000,2000,null,{"$f":"ROUND($G$160*$F$160/F161,2)","v":0},"Cs",null,{"$f":"IF(OR(ISBLANK(J161),G160=0,ISBLANK(G160)),,ROUND(J161+$K$3,2))","v":0},{"$f":"ROUND(K161*H161,2)","v":0},0]
[null,null,"Distributor Choice",null," "," ",null,{"$f":"ROUND(G160*F160/F160,2)","v":0},"Cs"]
[null,null,"Fillable txt box ",{"$nulls":4},{"$f":"ROUND(G162*F162/F163,2)","v":{"$error":"#VALUE!"}},"Cs",null,{"$f":"IF(OR(ISBLANK(G162),G162=0,ISBLANK(F163)),,ROUND(J163+$K$3,2))","v":0},{"$f":"ROUND(H163*K163,2)","v":{"$error":"#VALUE!"}},{"$f":"ROUND(K163/F163,4)","v":{"$error":"#DIV/0!"}}]
[null,null,"Dart S6BW",null,1000,1000,null,{"$f":"ROUND($G$160*$F$160/F164,2)","v":0},"Cs",null,{"$f":"IF(OR(ISBLANK(J164),G160=0,ISBLANK(G160)),,ROUND(J164+$K$3,2))","v":0},0,0]
[54,"Spoons, MW, Black Plastic, Dispenser","Smart Stack SSS51",null,960,960,{"v":0,"d":"0 "},{"$f":"ROUND(G165*F165/F165,2)","v":0},"Cs",null,{"$f":"IF(OR(ISBLANK(G165),G165=0,ISBLANK(J165)),,ROUND(J165+$K$3,2))","v":0},{"$f":"ROUND(K165*H165,2)","v":0},0]
[55,"Spoons, Soup, MW, Plastic","Max Packaging",null,1000,1000,{"v":0,"d":"0 "},{"$f":"ROUND(G166*F166/F166,2)","v":0},"Cs",null,{"$f":"IF(OR(ISBLANK(G166),G166=0,ISBLANK(J166)),,ROUND(J166+$K$3,2))","v":0},{"$f":"ROUND(K166*H166,2)","v":0},{"$f":"ROUND(K166/F166,4)","v":0}]
[null,null,"Distributor Choice",{"$nulls":3}," "]
[null,null,"Fillable txt box ",{"$nulls":4},{"$f":"ROUND(G166*F166/F168,2)","v":{"$error":"#DIV/0!"}},"Cs",null,{"$f":"IF(OR(ISBLANK(G166),G166=0,ISBLANK(F168)),,ROUND(J168+$K$3,2))","v":0},{"$f":"ROUND(H168*K168,2)","v":{"$error":"#DIV/0!"}},{"$f":"ROUND(K168/F168,4)","v":{"$error":"#DIV/0!"}}]
[56,"Sporks","Distributor Choice",null,1000,1000,{"v":0,"d":"0 "},{"$f":"ROUND(G169*F169/F169,2)","v":0},"Cs"]
[null,"Combination of spoon and fork. medium weight","Fillable txt box ",{"$nulls":4},{"$f":"ROUND(G169*F169/F170,2)","v":{"$error":"#DIV/0!"}},"Cs",null,{"$f":"IF(OR(ISBLANK(G169),G169=0,ISBLANK(F170)),,ROUND(J170+$K$3,2))","v":0},{"$f":"ROUND(H170*K170,2)","v":{"$error":"#DIV/0!"}},{"$error":"#DIV/0!"}]
[57,"Straws","Monogram 718462",null,"10/500",5000,{"v":5,"d":"5 "},{"$f":"ROUND(G171*F171/F171,2)","v":5},"Cs",null,{"$f":"IF(OR(ISBLANK(J171),G171=0,ISBLANK(G171)),,ROUND(J171+$K$3,2))","v":0},{"$f":"ROUND(K171*H171,2)","v":0},0]
[null,"Individually wrapped.  Plastic.  7.75\" to 8\"","Sweetheart 822TH",null,"12/500",6000,null,{"$f":"ROUND($G$171*$F$171/F172,2)","v":4.17},"Cs",null,{"$f":"IF(OR(ISBLANK(J172),G171=0,ISBLANK(G171)),,ROUND(J172+$K$3,2))","v":0},{"$f":"ROUND(K172*H172,2)","v":0},0]
[null,null,"Distributor Choice"]
[null,null,"Fillable txt box ",{"$nulls":4},{"$f":"ROUND(G171*F171/F174,2)","v":{"$error":"#DIV/0!"}},"Cs",null,{"$f":"IF(OR(ISBLANK(G171),G171=0,ISBLANK(F174)),,ROUND(J174+$K$3,2))","v":0},{"$f":"ROUND(H174*K174,2)","v":{"$error":"#DIV/0!"}},{"$f":"ROUND(K174/F174,4)","v":{"$error":"#DIV/0!"}}]
[58,"Towel, Paper 11 x 8.8, Roll, Perforated, White","Distributor Choice",null,1,30,{"v":0,"d":"0 "},{"$f":"ROUND(G175*F175/F175,2)","v":0},"Cs"]
[null,null,"Fillable txt box ",{"$nulls":4},{"$f":"ROUND(G175*F175/F176,2)","v":{"$error":"#DIV/0!"}},"Cs",null,{"$f":"IF(OR(ISBLANK(G175),G175=0,ISBLANK(F176)),,ROUND(J176+$K$3,2))","v":0},{"$f":"ROUND(H176*K176,2)","v":{"$error":"#DIV/0!"}},{"$f":"ROUND(K176/F176,4)","v":{"$error":"#DIV/0!"}}]
[59,"Towel, Brown or Natural Hardwood Roll Paper","Distributor Choice",null,1,6,{"v":0,"d":"0 "},{"$f":"ROUND(G177*F177/F177,2)","v":0},"Cs"]
[null,"8\" x 800'","Fillable txt box ",{"$nulls":4},{"$f":"ROUND(G177*F177/F178,2)","v":{"$error":"#DIV/0!"}},"Cs",null,{"$f":"IF(OR(ISBLANK(G177),G177=0,ISBLANK(F178)),,ROUND(J178+$K$3,2))","v":0},{"$f":"ROUND(H178*K178,2)","v":{"$error":"#DIV/0!"}},{"$f":"ROUND(K178/F178,4)","v":{"$error":"#DIV/0!"}}]
[60,"Towel, Paper Multifold Brown 9.2\" x 9.5\"","Distributor Choice",null,4000,4000,{"v":50,"d":"50 "},{"$f":"ROUND(G179*F179/F179,2)","v":50},"Cs"]
[null,"800'","Fillable txt box ",{"$nulls":3}," ",{"$f":"ROUND(G179*F179/F180,2)","v":{"$error":"#DIV/0!"}},"Cs",null,{"$f":"IF(OR(ISBLANK(G179),G179=0,ISBLANK(F180)),,ROUND(J180+$K$3,2))","v":0},{"$f":"ROUND(H180*K180,2)","v":{"$error":"#DIV/0!"}},{"$f":"ROUND(K180/F180,4)","v":{"$error":"#DIV/0!"}}]
[61,"Tissue, Jumbo Toilet Tissue","Distributor Choice",null,12,12,{"v":10,"d":"10 "},{"$f":"ROUND(G181*F181/F181,2)","v":10},"Cs"]
[null,"2 ply, ","Fillable txt box ",{"$nulls":4},{"$f":"ROUND(G181*F181/F182,2)","v":{"$error":"#DIV/0!"}},"Cs",null,{"$f":"IF(OR(ISBLANK(G181),G181=0,ISBLANK(F182)),,ROUND(J182+$K$3,2))","v":0},{"$f":"ROUND(H182*K182,2)","v":{"$error":"#DIV/0!"}},{"$error":"#DIV/0!"}]
[62,"Towels, Terry Cloth","Intedge 313SP-22306 ",null,12,12,{"v":40,"d":"40 "},{"$f":"ROUND(G183*F183/F183,2)","v":40},"Cs",null,{"$f":"IF(OR(ISBLANK(J183),G183=0,ISBLANK(G183)),,ROUND(J183+$K$3,2))","v":0},{"$f":"ROUND(K183*H183,2)","v":0},0]
[null,"20\" x 17\" per cloth.  White.  Bar Mop","Benhar 003945",null,12,12,null,{"$f":"ROUND(G183*F183/F184,2)","v":40},"Cs",null,{"$f":"IF(OR(ISBLANK(J184),G183=0,ISBLANK(G183)),,ROUND(J184+$K$3,2))","v":0},0,0]
[63,"Trays, Food, #25","Dixie RP 25",null,1000,1000,{"v":25,"d":"25 "},{"$f":"ROUND(G185*F185/F185,2)","v":25},"Cs",null,{"$f":"IF(OR(ISBLANK(J185),G185=0,ISBLANK(G185)),,ROUND(J185+$K$3,2))","v":0},{"$f":"ROUND(K185*H185,2)","v":0},0]
[null,null,"Southern Champion 0401",null,1000,1000,null,{"$f":"ROUND($G$185*$F$185/F186,2)","v":25},"CS",null,{"$f":"IF(OR(ISBLANK(J186),G185=0,ISBLANK(G185)),,ROUND(J186+$K$3,2))","v":0},{"$f":"ROUND(K186*H186,2)","v":0},0]
[null,null,"Distributor Choice"]
[null,null,"Fillable txt box ",null,null,100,null,{"$f":"ROUND(G185*F185/F188,2)","v":250},"Cs",null,{"$f":"IF(OR(ISBLANK(G185),G185=0,ISBLANK(J188),ISBLANK(F188)),,ROUND(J188+$K$3,2))","v":0},{"$f":"ROUND(H188*K188,2)","v":0},{"$f":"ROUND(K188/F188,4)","v":0}]
[64,"Trays, Food, 6 oz /#40","Dixie RP 40",null,1000,1000,{"v":0,"d":"0 "},{"$f":"ROUND(G189*F189/F189,2)","v":0},"Cs",null,{"$f":"IF(OR(ISBLANK(J189),G189=0,ISBLANK(G189)),,ROUND(J189+$K$3,2))","v":0},{"$f":"ROUND(K189*H189,2)","v":0},0]
[null,null,"Southern Champion 0405",null,1000,1000,null,{"$f":"ROUND($G$189*$F$189/F190,2)","v":0},"Cs",null,{"$f":"IF(OR(ISBLANK(J190),G189=0,ISBLANK(G189)),,ROUND(J190+$K$3,2))","v":0},{"$f":"ROUND(K190*H190,2)","v":0},0]
[null,null,"Distributor Choice"]
[null,null,"Fillable txt box ",{"$nulls":4},{"$f":"ROUND(G189*F189/F192,2)","v":{"$error":"#DIV/0!"}},"Cs",null,{"$f":"IF(OR(ISBLANK(G189),G189=0,ISBLANK(J192),ISBLANK(F192)),,ROUND(J192+$K$3,2))","v":0},{"$f":"ROUND(H192*K192,2)","v":{"$error":"#DIV/0!"}},{"$f":"ROUND(K192/F192,4)","v":{"$error":"#DIV/0!"}}]
[65,"Trays, Food, 1/2lb /#50","Dixie RP 50",null,1000,1000,{"v":10,"d":"10 "},{"$f":"ROUND(G193*F193/F193,2)","v":10},"Cs",null,{"$f":"IF(OR(ISBLANK(J193),G193=0,ISBLANK(G193)),,ROUND(J193+$K$3,2))","v":0},{"$f":"ROUND(K193*H193,2)","v":0},0]
[null,null,"Southern Champion 0409",null,1000,1000,null,{"$f":"ROUND(G193*F193/F194,2)","v":10},"Cs",null,{"$f":"IF(OR(ISBLANK(J194),G193=0,ISBLANK(G193)),,ROUND(J194+$K$3,2))","v":0},{"$f":"ROUND(K194*H194,2)","v":0},0]
[null,null,"Distributor Choice"]
[null,null,"Fillable txt box ",{"$nulls":4},{"$f":"ROUND(G193*F193/F196,2)","v":{"$error":"#DIV/0!"}},"Cs",null,{"$f":"IF(OR(ISBLANK(G193),G193=0,ISBLANK(J196),ISBLANK(F196)),,ROUND(J196+$K$3,2))","v":0},{"$f":"ROUND(H196*K196,2)","v":{"$error":"#DIV/0!"}},{"$f":"ROUND(K196/F196,4)","v":{"$error":"#DIV/0!"}}]
[66,"Trays, Food, 1/2 lb/#50","EcoCraft 300695",null,1000,1000,{"v":0,"d":"0 "},{"$f":"ROUND(G197*F197/F197,2)","v":0},"Cs",null,{"$f":"IF(OR(ISBLANK(J197),G197=0,ISBLANK(G197)),,ROUND(J197+$K$3,2))","v":0},{"$f":"ROUND(K197*H197,2)","v":0},0]
[null,"Eco-friendly","Southern Champion 0509",null,1000,1000,null,{"$f":"ROUND(G197*F197/F198,2)","v":0},"Cs",null,{"$f":"IF(OR(ISBLANK(J198),G197=0,ISBLANK(G197)),,ROUND(J198+$K$3,2))","v":0},{"$f":"ROUND(K198*H198,2)","v":0},0]
[null,"Unbleached paper"]
[67,"Tray, Food, 3lb, Red Pld","Dixie RP 3008",null,"2/250",500,{"v":50,"d":"50 "},{"$f":"ROUND(G200*F200/F200,2)","v":50},"Cs",null,{"$f":"IF(OR(ISBLANK(J200),G200=0,ISBLANK(G200)),,ROUND(J200+$K$3,2))","v":0},{"$f":"ROUND(K200*H200,2)","v":0},{"$f":"ROUND(K200/F200,4)","v":0}]
[null,null,"Distributor Choice"]
[null,null,"Fillable txt box ",{"$nulls":4},{"$f":"ROUND($G$200*$F$200/F202,2)","v":{"$error":"#DIV/0!"}},"Cs",null,{"$f":"IF(OR(ISBLANK(G200),G200=0,ISBLANK(F202)),,ROUND(J202+$K$3,2))","v":0},{"$f":"ROUND(K202*H202,2)","v":{"$error":"#DIV/0!"}},{"$f":"ROUND(K202/F202,4)","v":{"$error":"#DIV/0!"}}]
[68,"Trays, Plastic, Clear","Ivex 4296",null,2500,2500,{"v":0,"d":"0 "},{"$f":"ROUND(G203*F203/F203,2)","v":0},"Cs",null,{"$f":"IF(OR(ISBLANK(G203),G203=0,ISBLANK(J203)),,ROUND(J203+$K$3,2))","v":0},{"$f":"ROUND(K203*H203,2)","v":0},0]
[null,"Plastic square 3.5\" x 3.5\""," ",null," "," "]
[69,"Tray, Plastic, Black, Square Extra Deep","ParPak 21935",null,2000,2000,{"v":0,"d":"0 "},{"$f":"ROUND(G205*F205/F205,2)","v":0},"Cs",null,{"$f":"IF(OR(ISBLANK(G205),G205=0,ISBLANK(J205)),,ROUND(J205+$K$3,2))","v":0},{"$f":"ROUND(K205*H205,2)","v":0},{"$f":"ROUND(K205/F205,4)","v":0}]
[null,"Plastic square 3.5\" x 3.5\" x 1.5\""]
[70,"Trays, School Styrofoam","Pactiv TH1-0500",null,500,500,{"v":0,"d":"0 "},{"$f":"ROUND(G207*F207/F207,2)","v":0},"Cs",null,{"$f":"IF(OR(ISBLANK(J207),G207=0,ISBLANK(G207)),,ROUND(J207+$K$3,2))","v":0},{"$f":"ROUND(K207*H207,2)","v":0},{"$f":"ROUND(K207/F207,4)","v":0}]
[null,"8 1/2\" x 10 3/4\".  Laminated, white, 5 compartment","Gen Pak 10500",null,500,500,null,{"$f":"ROUND($G$207*$F$207/F208,2)","v":0},"Cs",null,{"$f":"IF(OR(ISBLANK(J208),G207=0,ISBLANK(G207)),,ROUND(J208+$K$3,2))","v":0},{"$f":"ROUND(K208*H208,2)","v":0},0]
[null,null,"D&W Finepack FTS500-CMP",null,"4/125",500,null,{"$f":"ROUND($G$207*$F$207/F209,2)","v":0},"Cs",null,{"$f":"IF(OR(ISBLANK(J209),G207=0,ISBLANK(G207)),,ROUND(J209+$K$3,2))","v":0},0,0]
[null,null,"Republic Plastics-98015",null,500,500,null,{"$f":"ROUND($G$207*$F$207/F210,2)","v":0},"Cs",null,{"$f":"IF(OR(ISBLANK(J210),G207=0,ISBLANK(G207)),,ROUND(J210+$K$3,2))","v":0},0,0]
[71,"Trays, School Styrofoam","Pactiv YTHBO500SGBX",null,"500",500,{"v":750,"d":"750 "},{"$f":"ROUND(G211*F211/F211,2)","v":750},"Cs",null,{"$f":"IF(OR(ISBLANK(J211),G211=0,ISBLANK(G211)),,ROUND(J211+$K$3,2))","v":0},{"$f":"ROUND(K211*H211,2)","v":0},{"$f":"ROUND(K211/F211,4)","v":0}]
[null,"8 1/2\" x 10 3/4\".  Laminated, Black, 5 compartment"," ",null," ",null,null," "," "," "," "," "," "]
[72,"Wax Paper","110 Ponyroll",null,"12/750",9000,{"v":0,"d":"0 "},{"$f":"ROUND(G213*F213/F213,2)","v":0},"Cs",null,{"$f":"IF(OR(ISBLANK(J213),G213=0,ISBLANK(G213)),,ROUND(J213+$K$3,2))","v":0},{"$f":"ROUND(K213*H213,2)","v":0},{"$f":"ROUND(K213/F213,4)","v":0}]
[null,null,"Marcel 5093 ",null,"12/250",3000,null,{"$f":"ROUND($G$213*$F$213/F214,2)","v":0},"Cs",null,{"$f":"IF(OR(ISBLANK(J214),G213=0,ISBLANK(G213)),,ROUND(J214+$K$3,2))","v":0},{"$f":"ROUND(K214*H214,2)","v":0},0]
[null,null,"Distributor Choice"]
[null,null,"Fillable txt box ",null,null," ",null,{"$f":"ROUND(G213*F213/F216,2)","v":{"$error":"#VALUE!"}},"Cs",null,{"$f":"IF(OR(ISBLANK(G214),G214=0,ISBLANK(F216)),,ROUND(J216+$K$3,2))","v":0},{"$f":"ROUND(H216*K216,2)","v":{"$error":"#VALUE!"}},{"$f":"ROUND(K216/F216,4)","v":{"$error":"#VALUE!"}}]
[73,"Wipes, Foodservice, 13 x 21","Brawny Max 29416",null,150,150,{"v":75,"d":"75 "},{"$f":"ROUND(G217*F217/F217,2)","v":75},"Cs",null,{"$f":"IF(OR(ISBLANK(J217),G217=0,ISBLANK(G217)),,ROUND(J217+$K$3,2))","v":0},{"$f":"ROUND(K217*H217,2)","v":0},{"$f":"ROUND(K217/F217,4)","v":0}]
[null,null,"Distributor Choice"]
[null,null,"Fillable txt box ",{"$nulls":4},{"$f":"ROUND(G217*F217/F219,2)","v":{"$error":"#DIV/0!"}},"Cs",null,{"$f":"IF(OR(ISBLANK(G217),G217=0,ISBLANK(F219)),,ROUND(J219+$K$3,2))","v":0},{"$f":"ROUND(H219*K219,2)","v":{"$error":"#DIV/0!"}},{"$f":"ROUND(K219/F219,4)","v":{"$error":"#DIV/0!"}}]
[74,"Wrap, Clear, Plastic, Film, 12x2000","Distributor Choice",null,"1 each",150,{"v":0,"d":"0 "},{"$f":"ROUND(G220*F220/F220,2)","v":0},"Cs"]
[null,null,"Fillable txt box ",{"$nulls":4},{"$f":"ROUND(G220*F220/F221,2)","v":{"$error":"#DIV/0!"}},"Cs",null,{"$f":"IF(OR(ISBLANK(G220),G220=0,ISBLANK(J221)),,ROUND(J221+$K$3,2))","v":0},{"$f":"ROUND(H221*K221,2)","v":{"$error":"#DIV/0!"}},{"$error":"#DIV/0!"}]
[75,"Wrap, Clear, Plastic, Film 18x2000","Distributor Choice",null,"1 each",2000,{"v":0,"d":"0 "},{"$f":"ROUND(G222*F222/F222,2)","v":0},"Cs"]
[null,null,"Fillable txt box ",{"$nulls":4},{"$f":"ROUND(G222*F222/F223,2)","v":{"$error":"#DIV/0!"}},"Cs",null,{"$f":"IF(OR(ISBLANK(G222),G222=0,ISBLANK(J223)),,ROUND(J223+$K$3,2))","v":0},{"$f":"ROUND(H223*K223,2)","v":{"$error":"#DIV/0!"}},{"$error":"#DIV/0!"}]
[76,"Wrap, Clear, Plastic, Film 24x2000","Distributor Choice",null,"1 each",2000,{"v":50,"d":"50 "},{"$f":"ROUND(G224*F224/F224,2)","v":50},"Cs"]
[null,null,"Fillable txt box ",{"$nulls":4},{"$f":"ROUND(G224*F224/F225,2)","v":{"$error":"#DIV/0!"}},"Cs",null,{"$f":"IF(OR(ISBLANK(G224),G224=0,ISBLANK(J225)),,ROUND(J225+$K$3,2))","v":0},{"$f":"ROUND(H225*K225,2)","v":{"$error":"#DIV/0!"}},{"$error":"#DIV/0!"}]
[77,"Wrap, Deli, Waxed paper, 6 x 10.75","Distributor Choice",null,"1 each",500,{"v":25,"d":"25 "},{"$f":"ROUND(G226*F226/F226,2)","v":25},"Cs"]
[null,null,"Fillable txt box ",{"$nulls":4},{"$f":"ROUND(G226*F226/F227,2)","v":{"$error":"#DIV/0!"}},"Cs",null,{"$f":"IF(OR(ISBLANK(G226),G226=0,ISBLANK(J227)),,ROUND(J227+$K$3,2))","v":0},{"$f":"ROUND(H227*K227,2)","v":{"$error":"#DIV/0!"}},{"$error":"#DIV/0!"}]
[78,"Wrap, Foil,  Potato, ","Pactiv W72",null,"6/500",3000,{"v":25,"d":"25 "},{"$f":"ROUND(G228*F228/F228,2)","v":25},"Cs",null,{"$f":"IF(OR(ISBLANK(J228),G228=0,ISBLANK(G228)),,ROUND(J228+$K$3,2))","v":0},{"$f":"ROUND(K228*H228,2)","v":0},0]
[null,"9\" x 10.75\", Aluminum Foil","Distributor Choice"]
[null,null,"Fillable txt box ",{"$nulls":4},{"$f":"ROUND(G228*F228/F230,2)","v":{"$error":"#DIV/0!"}},"Cs",null,{"$f":"IF(OR(ISBLANK(G228),G228=0,ISBLANK(F230)),,ROUND(J230+$K$3,2))","v":0},{"$f":"ROUND(H230*K230,2)","v":{"$error":"#DIV/0!"}},{"$f":"ROUND(K230/F230,4)","v":{"$error":"#DIV/0!"}}]
[{"$nulls":9},"Lot A Paper & Paper Supplies",null,{"$f":"SUMIF(L7:L230,\">0\")","v":0}]

{"sheet":"Chemicals","index":26,"n_rows":15,"n_cols":13,"rows_kept":15,"merged":[[0,4,0,12],[1,4,1,12],[2,5,2,9]]}
[null,{"$f":"'Recap Sheet'!A2","v":"School Food Authority:"},null,null,{"$f":"'Recap Sheet'!A3","v":"Offeror Name:"}]
[null,{"$f":"'Recap Sheet'!B2","v":"Colleton County School District Office of Student Nutrition"},"Return to Recap Sheet",null,{"$f":"'Recap Sheet'!B3","v":0}]
["Item","Description","Approved Brand Name / Manuf ID # ",null,null,"Firm Fixed Fee",{"$nulls":4},{"$f":"'Recap Sheet'!B4","v":{"v":0,"d":"$0.00"}}]
["#",null,null,"Distributor","Vendor","Svgs","Est.","Bid ","Bid","Unit","Unit Price","Total ","Cost per"]
[{"$nulls":3},"Code","Pack","per unit","Bid Qty","Qty","Unit","Price","plus Fee","Price","Unit"]
[null,"Chemicals"]
[1,"Bleach","Distributor Choice",null,"6/96 z",576,0,{"$f":"ROUND(G7*F7/F7,2)","v":0},"Cs"]
[null,"Must be EPA approved and have MSDS information.","Fillable txt box ",{"$nulls":4},{"$f":"ROUND(G7*F7/F8,2)","v":{"$error":"#DIV/0!"}},null,null,{"$f":"IF(OR(ISBLANK(J8),G7=0,ISBLANK(G7)),,ROUND(J8+$K$3,2))","v":0},{"$f":"ROUND(H8*K8,2)","v":{"$error":"#DIV/0!"}},{"$f":"ROUND(K8/F8,2)","v":{"$error":"#DIV/0!"}}]
[2,"Cleaner","Distributor Choice",null,"24/21 z",504,0,{"$f":"ROUND(G9*F9/F9,2)","v":0},"Cs"]
[null,"Scouring Powder, Must have MSDS information","Fillable txt box ",{"$nulls":4},{"$f":"ROUND(G9*F9/F10,2)","v":{"$error":"#DIV/0!"}},null,null,{"$f":"IF(OR(ISBLANK(J10),G9=0,ISBLANK(G9)),,ROUND(J10+$K$3,2))","v":0},{"$f":"ROUND(H10*K10,2)","v":{"$error":"#DIV/0!"}},{"$f":"ROUND(K10/F10,2)","v":{"$error":"#DIV/0!"}}]
[3,"Liquid Detergent","Distributor Choice",null,"5 gal",5,0,{"$f":"ROUND($G$11*$F$11/F11,2)","v":0},"Cs"]
[null,"Must have MSDS information","Fillable txt box ",{"$nulls":4},{"$f":"ROUND(G11*F11/F12,2)","v":{"$error":"#DIV/0!"}},null,null,{"$f":"IF(OR(ISBLANK(J12),G11=0,ISBLANK(G11)),,ROUND(J12+$K$3,2))","v":0},{"$f":"ROUND(H12*K12,2)","v":{"$error":"#DIV/0!"}},{"$f":"ROUND(K12/F12,2)","v":{"$error":"#DIV/0!"}}]
[]
[]
[{"$nulls":6},0,null,"Page Total",null,null,{"$f":"SUMIF(L7:L13,\">0\")","v":0}]

{"sheet":"Sheet1","index":27,"n_rows":0,"n_cols":0,"rows_kept":0}