{"text_format":"3","workbook":"xlsx","n_sheets":2,"sheets":["Sheet 1","Sheet 2"],"not_rendered":{"defined_names":2},"read":"whole","date_system":"1900"}

{"sheet":"Sheet 1","index":0,"n_rows":123,"n_cols":6,"rows_kept":123,"merged":[[0,0,0,5],[1,0,1,5],[2,0,2,5],[3,0,3,5],[4,0,4,5],[5,0,5,5],[6,0,6,5],[7,0,7,5],[8,0,8,5],[9,0,9,5],[10,0,10,5],[11,0,11,5],[12,0,12,5],[13,0,13,5],[14,0,14,5],[15,0,15,5],[16,0,16,5],[17,0,17,5],[19,1,19,4],[20,1,20,4],[21,1,21,4],[22,0,25,0],[26,1,26,4],[27,0,28,0],[29,1,29,4],[30,0,31,0],[32,1,32,4],[33,0,34,0],[35,1,35,4],[36,0,38,0],[39,1,39,4],[40,0,41,0],[42,1,42,4],[43,0,44,0],[45,1,45,4],[46,0,47,0],[48,1,48,4],[49,0,51,0],[52,1,52,4],[53,0,58,0],[59,1,59,4],[60,0,63,0],[65,0,66,0],[68,0,69,0],[71,0,72,0],[74,0,75,0],[77,0,78,0],[80,0,81,0],[83,0,86,0],[88,0,89,0],[91,0,92,0],[94,0,98,0],[100,0,114,0],[117,0,118,0],[121,0,122,0]]}
[]
["Sheet 1"]
["Rosslyn Highlands Park Playground -  Schedule of Values"]
["21-DPR-ITB-304"]
["FURNISHING ALL LABOR, MATERIALS AND EQUIPMENT FOR THE "]
["CONSTRUCTION OF A NEW PARK AT 1615 18TH STREET NORTH IN ARLINGTON, VIRGINIA"]
["Instructions:"]
["1. Bidders shall complete PINK cells ONLY."]
["2. Bidders are responsible for completing Sheet 1 and Sheet 2 in it's entirety. "]
["\n3. Bidders shall read and check off each of the statements below to indicate that they have read and fully understand the instructions and what is required. \n"]
["Statements:"]
["This shall be a LUMP SUM contract. "]
["The lowest responsible bidder shall be identified based on LUMP SUM GRAND TOTAL price shown at the end of the PRICE column on Sheet 2."]
["Bidders are fully responsible for ensuring that PRICE for each section covers all the work necessary to complete the work as described and shown on the drawings and specifications."]
["The PRICE for Mobilization, Specification Section 012000, shall not exceed 3% of the SUBTOTAL PRICE. Contractor shall enter a LUMP SUM PRICE no greater than 3% of the SUBTOTAL PRICE. Price shall be entered in Sheet 2."]
["Bidder may, at their discretion, use the blank rows in Sheet 1 to identify items not listed below but shown on the specifications and the drawings. Any and all information for the blank row shall be entered as a lump sum in Sheet 1."]
["Unless specified, all sections include, but are not limited to, all materials and installation, per drawings and specifications."]
["Shall any information not be clear, it is the responsibility of the Bidder to request clarification during the allowed time/period."]
["SPECIFICATION SECTION NO.","ITEM DESCRIPTION","UNIT MEASURE","UNIT COST","Quantity","PRICE"]
["011000","PERMITS - Include but not limited to permits such as electrical, plumbing and all other trades necessary to complete the work. Building, LDA and VSMP shall be provided by Arlington County. These shall be excluded.",{"$nulls":3},{"v":0,"d":"$0.00"}]
["012000","MOBILIZATION - Shall not to exceed three percent (3%) of the SUBTOTAL PRICE.",{"$nulls":3},"See \nSheet 2"]
["015000","TEMPORARY EROSION AND SEDIMENT CONTROL",{"$nulls":3},"See \nSheet 2"]
[null,"(Temporary) Stabilized Construction Entrance with Concrete Washout Structure","LS",{"v":0,"d":"$0.00"},1,{"$f":"D23*E23","v":{"v":0,"d":"$0.00"}}]
[null,"(Temporary) Site Construction Fence","LF",{"v":0,"d":"$0.00"},0,{"$f":"D24*E24","v":{"v":0,"d":"$0.00"}}]
[null,"(Temporary) Inlet Protection","EA",{"v":0,"d":"$0.00"},0,{"$f":"D25*E25","v":{"v":0,"d":"$0.00"}}]
[null,null,"LS",{"v":0,"d":"$0.00"},1,{"$f":"D26*E26","v":{"v":0,"d":"$0.00"}}]
["022300","SITE CLEARING, DEMOLITION AND REMOVALS",{"$nulls":3},"See \nSheet 2"]
[null,"Site Clearing, Demolition and Removals","LS",{"v":0,"d":"$0.00"},1,{"$f":"D28*E28","v":{"v":0,"d":"$0.00"}}]
[null,null,"LS",{"v":0,"d":"$0.00"},1,{"v":0,"d":"$0.00"}]
["022310","TREE PROTECTION AND ROOT PRUNING",{"$nulls":3},"See \nSheet 2"]
[null,"6' Plywood Tree Protection Fence","LF",{"v":0,"d":"$0.00"},0,{"$f":"D31*E31","v":{"v":0,"d":"$0.00"}}]
[null,null,"LS",{"v":0,"d":"$0.00"},1,{"v":0,"d":"$0.00"}]
["023150","EARTHWORK",{"$nulls":3},"See \nSheet 2"]
[null,"Earth Moving","LS",{"v":0,"d":"$0.00"},1,{"$f":"D34*E34","v":{"v":0,"d":"$0.00"}}]
[null,null,"LS",{"v":0,"d":"$0.00"},1,{"$f":"D35*E35","v":{"v":0,"d":"$0.00"}}]
["033000","CAST IN PLACE CONCRETE",{"$nulls":3},"See \nSheet 2"]
[null,"Cast in Place Concrete","CY",{"v":0,"d":"$0.00"},0,{"$f":"D37*E37","v":{"v":0,"d":"$0.00"}}]
[null,"Curb","LF",{"v":0,"d":"$0.00"},0,{"v":0,"d":"$0.00"}]
[null,null,"LS",{"v":0,"d":"$0.00"},1,{"v":0,"d":"$0.00"}]
["051210","STRUCTURAL STEEL",{"$nulls":3},"See \nSheet 2"]
[null,"Structural Steel","LS",{"v":0,"d":"$0.00"},1,{"$f":"D41*E41","v":{"v":0,"d":"$0.00"}}]
[null,null,"LS",{"v":0,"d":"$0.00"},1,{"$f":"D42*E42","v":{"v":0,"d":"$0.00"}}]
["055000","METAL FABRICATIONS",{"$nulls":3},"See \nSheet 2"]
[null,"Bar Grating Bridge","LS",{"v":0,"d":"$0.00"},1,{"$f":"D44*E44","v":{"v":0,"d":"$0.00"}}]
[null,null,"LS",{"v":0,"d":"$0.00"},1,{"$f":"D45*E45","v":{"v":0,"d":"$0.00"}}]
["099600","HIGH PERFORMANCE COATINGS",{"$nulls":3},"See \nSheet 2"]
[null,"Coating Systems for Site Metals","LS",{"v":0,"d":"$0.00"},1,{"$f":"D47*E47","v":{"v":0,"d":"$0.00"}}]
[null,null,"LS",{"v":0,"d":"$0.00"},1,{"v":0,"d":"$0.00"}]
["101400","SIGNAGE",{"$nulls":3},"See \nSheet 2"]
[null,"Park Entrance Sign","EA",{"v":0,"d":"$0.00"},0,{"$f":"D50*E50","v":{"v":0,"d":"$0.00"}}]
[null,"Park Rules Sign","EA",{"v":0,"d":"$0.00"},0,{"v":0,"d":"$0.00"}]
[null,null,"LS",{"v":0,"d":"$0.00"},1,{"v":0,"d":"$0.00"}]
["116800","PLAYGROUND AND ATHLETIC EQUIPMENT",{"$nulls":3},"See \nSheet 2"]
[null,"Weevos Structure","EA",{"v":0,"d":"$0.00"},0,{"$f":"D54*E54","v":{"v":0,"d":"$0.00"}}]
[null,"Evos Structure","EA",{"v":0,"d":"$0.00"},0,{"v":0,"d":"$0.00"}]
[null,"DNA Tower L.04","EA",{"v":0,"d":"$0.00"},0,{"v":0,"d":"$0.00"}]
[null,"Double Cloud Nine","EA",{"v":0,"d":"$0.00"},0,{"v":0,"d":"$0.00"}]
[null,"Bucket Swings","EA",{"v":0,"d":"$0.00"},0,{"v":0,"d":"$0.00"}]
[null,null,"LS",{"v":0,"d":"$0.00"},1,{"v":0,"d":"$0.00"}]
["129300","SITE FURNISHINGS",{"$nulls":3},"See \nSheet 2"]
[null,"Benches","EA",{"v":0,"d":"$0.00"},0,{"$f":"D61*E61","v":{"v":0,"d":"$0.00"}}]
[null,"Trash Receptacles","EA",{"v":0,"d":"$0.00"},0,{"$f":"D62*E62","v":{"v":0,"d":"$0.00"}}]
[null,"Recycling Receptacles","EA",{"v":0,"d":"$0.00"},0,{"$f":"D63*E63","v":{"v":0,"d":"$0.00"}}]
[null,null,"LS",{"v":0,"d":"$0.00"},1,{"$f":"D64*E64","v":{"v":0,"d":"$0.00"}}]
["260519","LOW VOLTAGE ELECTRICAL POWER CONDUCTORS AND CABLES",{"$nulls":3},"See \nSheet 2"]
[null,"Shall include ALL related materials and work for the installation of the Street Lights only. Work related to the wall lights shall be included in Add Alternate 1","LS",{"v":0,"d":"$0.00"},1,{"$f":"D66*E66","v":{"v":0,"d":"$0.00"}}]
[null,null,"LS",{"v":0,"d":"$0.00"},1,{"$f":"D67*E67","v":{"v":0,"d":"$0.00"}}]
["260526","GROUNDING & BONDING FOR ELECTRICAL SYSTEMS",{"$nulls":3},"See \nSheet 2"]
[null,"Shall include ALL related materials and work for the installation of the Street Lights only. Work related to the wall lights shall be included in Add Alternate 1","LS",{"v":0,"d":"$0.00"},1,{"$f":"D69*E69","v":{"v":0,"d":"$0.00"}}]
[null,null,"LS",{"v":0,"d":"$0.00"},1,{"v":0,"d":"$0.00"}]
["260533","RACEWAYS & BOXES FOR ELECTRICAL SYSTEMS",{"$nulls":3},"See \nAttachment B"]
[null,"Shall include ALL related materials and work for the installation of the Street Lights only. Work related to the wall lights shall be included in Add Alternate 1","LS",{"v":0,"d":"$0.00"},1,{"$f":"D72*E72","v":{"v":0,"d":"$0.00"}}]
[null,null,"LS",{"v":0,"d":"$0.00"},1,{"$f":"D73*E73","v":{"v":0,"d":"$0.00"}}]
["265600","EXTERIOR LIGHTING",{"$nulls":3},"See \nSheet 2"]
[null,"Shall include ALL related materials and work for the installation of the Street Lights only. Work related to the wall lights shall be included in Add Alternate 1","LS",{"v":0,"d":"$0.00"},1,{"$f":"D75*E75","v":{"v":0,"d":"$0.00"}}]
[null,null,"LS",{"v":0,"d":"$0.00"},1,{"v":0,"d":"$0.00"}]
[321313,"CONCRETE PAVING",{"$nulls":3},"See \nSheet 2"]
[null,"Reinforced Concrete Pavement Including Turn-Down Edge (where present) and Aggregate Base","SF",{"v":0,"d":"$0.00"},0,{"$f":"D78*E78","v":{"v":0,"d":"$0.00"}}]
[null,null,"LS",{"v":0,"d":"$0.00"},1,{"v":0,"d":"$0.00"}]
["321816.13","PLAYGROUND PROTECTIVE SURFACING ",{"$nulls":3},"See \nSheet 2"]
[null,"Poured-in-Place Rubber Unitary, seamless surfacing","SF",{"v":0,"d":"$0.00"},0,{"$f":"D81*E81","v":{"v":0,"d":"$0.00"}}]
[null,null,"LS",{"v":0,"d":"$0.00"},1,{"v":0,"d":"$0.00"}]
["323119","DECORATIVE METAL FENCES AND GATES",{"$nulls":3},"See \nSheet 2"]
[null,"Decorative Steel Metal Picket Fence","LF",{"v":0,"d":"$0.00"},0,{"$f":"D84*E84","v":{"v":0,"d":"$0.00"}}]
[null,"Decorative Steel Metal Swing Gates","EA",{"v":0,"d":"$0.00"},0,{"$f":"D85*E85","v":{"v":0,"d":"$0.00"}}]
[null,"Steel Tree Pit Fence","LF",{"v":0,"d":"$0.00"},0,{"$f":"D86*E86","v":{"v":0,"d":"$0.00"}}]
[null,null,"LS",{"v":0,"d":"$0.00"},1,{"$f":"D87*E87","v":{"v":0,"d":"$0.00"}}]
["329100","PLANTING PREPARATION",{"$nulls":3},"See \nSheet 2"]
[null,"Shall include all labor, materials, tools and equipment as required to have topsoil, planting soil mix, soil stabilization, amendments, and mulch applied per the specifications on all areas disturbed by construction to receive plant materials as indicated in the approved plans.","LS",{"v":0,"d":"$0.00"},1,{"$f":"D89*E89","v":{"v":0,"d":"$0.00"}}]
[null,null,"LS",{"v":0,"d":"$0.00"},1,{"$f":"D90*E90","v":{"v":0,"d":"$0.00"}}]
["329113","SOIL PREPARATION (STRUCTURAL SOILS)",{"$nulls":3},"See \nAttachment B"]
[null,"Soil Preparation - Structural Soils for Continuous Soil Panels","CY",{"v":0,"d":"$0.00"},0,{"$f":"D92*E92","v":{"v":0,"d":"$0.00"}}]
[null,null,"LS",{"v":0,"d":"$0.00"},1,{"$f":"D93*E93","v":{"v":0,"d":"$0.00"}}]
["329300","EXTERIOR PLANTING",{"$nulls":3},"See \nSheet 2"]
[null,"Double Shredded Hardwood Mulch","CY",{"v":0,"d":"$0.00"},0,{"$f":"D95*E95","v":{"v":0,"d":"$0.00"}}]
[null,"Canopy and Understory Tree","EA",{"v":0,"d":"$0.00"},0,{"$f":"D96*E96","v":{"v":0,"d":"$0.00"}}]
[null,"Shrubs","EA",{"v":0,"d":"$0.00"},0,{"v":0,"d":"$0.00"}]
[null,"Herbaceous Perennials","EA",{"v":0,"d":"$0.00"},0,{"v":0,"d":"$0.00"}]
[null,null,"LS",{"v":0,"d":"$0.00"},1,{"$f":"D99*E99","v":{"v":0,"d":"$0.00"}}]
["334000","STORM DRAINAGE",{"$nulls":3},"See \nSheet 2"]
[null,"Solid Schedule 40 PVC","LF",{"v":0,"d":"$0.00"},0,{"$f":"D101*E101","v":{"v":0,"d":"$0.00"}}]
[null,"Underdrain","LF",{"v":0,"d":"$0.00"},0,{"$f":"D102*E102","v":{"v":0,"d":"$0.00"}}]
[null,"Solid Schedule 40 PVC Elbow","EA",{"v":0,"d":"$0.00"},0,{"$f":"D103*E103","v":{"v":0,"d":"$0.00"}}]
[null,"Observation Wells","EA",{"v":0,"d":"$0.00"},0,{"$f":"D104*E104","v":{"v":0,"d":"$0.00"}}]
[null,"4\" Trench Drain at Playground","LF",{"v":0,"d":"$0.00"},0,{"$f":"D105*E105","v":{"v":0,"d":"$0.00"}}]
[null,"#8 Choker Stone","CY",{"v":0,"d":"$0.00"},0,{"$f":"D106*E106","v":{"v":0,"d":"$0.00"}}]
[null,"Washed Graded #57 Aggregate","CY",{"v":0,"d":"$0.00"},0,{"$f":"D107*E107","v":{"v":0,"d":"$0.00"}}]
[null,"PVC Geomembrane Liner","SF",{"v":0,"d":"$0.00"},0,{"$f":"D108*E108","v":{"v":0,"d":"$0.00"}}]
[null,"Drain Basin","EA",{"v":0,"d":"$0.00"},0,{"$f":"D109*E109","v":{"v":0,"d":"$0.00"}}]
[null,"Solid Trench Cover & Perimeter Frame","LF",{"v":0,"d":"$0.00"},0,{"$f":"D110*E110","v":{"v":0,"d":"$0.00"}}]
[null,"Filter Media","CY",{"v":0,"d":"$0.00"},0,{"$f":"D111*E111","v":{"v":0,"d":"$0.00"}}]
[null,"Splash Block Rip Rap","TON",{"v":0,"d":"$0.00"},0,{"$f":"D112*E112","v":{"v":0,"d":"$0.00"}}]
[null,"Pipe Connectors","EA",{"v":0,"d":"$0.00"},0,{"$f":"D113*E113","v":{"v":0,"d":"$0.00"}}]
[null,"Field Connection to Existing Storm Drain","LS",{"v":0,"d":"$0.00"},1,{"$f":"D114*E114","v":{"v":0,"d":"$0.00"}}]
[null,null,"LS",{"v":0,"d":"$0.00"},1,{"v":0,"d":"$0.00"}]
["SPECIFICATION SECTION NO.","ITEM DESCRIPTION (ADD-ON ITEM NUMBER 1)","UNIT MEASURE","UNIT COST","Quantity","PRICE"]
["265600","Exterior Lighting",{"$nulls":3},"See \nSheet 2"]
[null,"Shall include ALL related materials and work for the installation of the Wall Lights (L1) within the playground only. Base Bid shall assume no wall lights to be installed.","LS",{"v":0,"d":"$0.00"},1,{"$f":"D118*E118","v":{"v":0,"d":"$0.00"}}]
[null,null,"LS",{"v":0,"d":"$0.00"},1,{"v":0,"d":"$0.00"}]
["SPECIFICATION SECTION NO.","ITEM DESCRIPTION (ADD-ON ITEM NUMBER 2)","UNIT MEASURE","UNIT COST","Quantity","PRICE"]
["131105","EPS Geofoam",{"$nulls":3},"See \nSheet 2"]
[null,"Shall include ALL related materials and work for the installation of the EPS Geofoam above the structural building slab as indicated on the plans. Base Bid shall assume standard fill.","LS",{"v":0,"d":"$0.00"},1,{"$f":"D122*E122","v":{"v":0,"d":"$0.00"}}]
[null,null,"LS",{"v":0,"d":"$0.00"},1,{"v":0,"d":"$0.00"}]

{"sheet":"Sheet 2","index":1,"n_rows":37,"n_cols":6,"rows_kept":37,"merged":[[0,0,0,5],[1,0,1,5],[2,0,2,5],[3,0,3,5],[4,0,4,5],[5,0,5,5],[6,0,6,5],[7,1,7,4],[8,1,8,4],[9,1,9,4],[10,1,10,4],[11,1,11,4],[12,1,12,4],[13,1,13,4],[14,1,14,4],[15,1,15,4],[16,1,16,4],[17,1,17,4],[18,1,18,4],[19,1,19,4],[31,0,31,4],[32,0,32,4],[33,1,33,4],[36,0,36,4]]}
[]
["Sheet 2"]
["Rosslyn Highlands Park Playground -  Schedule of Values"]
["21-DPR-ITB-304"]
["FURNISHING ALL LABOR, MATERIALS AND EQUIPMENT FOR THE "]
["CONSTRUCTION OF A NEW PARK AT 1615 18TH STREET NORTH IN ARLINGTON, VIRGINIA"]
[]
["SPECIFICATION SECTION NO.","ITEM DESCRIPTION",{"$nulls":3},"PRICE"]
["011000","PERMITS - Include but not limited to permits such as electrical, plumbing and all other trades necessary to complete the work. Building, LDA and VSMP shall be provided by Arlington County. These shall be excluded.",{"$nulls":3},{"$f":"'Sheet 1'!F20","v":{"v":0,"d":"$0.00"}}]
[{"$f":"'Sheet 1'!A22","v":"015000"},{"$f":"'Sheet 1'!B22","v":"TEMPORARY EROSION AND SEDIMENT CONTROL"},{"$nulls":3},{"$f":"SUM('Sheet 1'!F23:F26)","v":{"v":0,"d":"$0.00"}}]
["022300","SITE CLEARING, DEMOLITION AND REMOVALS",{"$nulls":3},{"$f":"SUM('Sheet 1'!F28:F29)","v":{"v":0,"d":"$0.00"}}]
["022310","TREE PROTECTION AND ROOT PRUNING",{"$nulls":3},{"$f":"SUM('Sheet 1'!F31:F32)","v":{"v":0,"d":"$0.00"}}]
["023150","EARTHWORK",{"$nulls":3},{"$f":"SUM('Sheet 1'!F34:F35)","v":{"v":0,"d":"$0.00"}}]
["033000","CAST IN PLACE CONCRETE",{"$nulls":3},{"$f":"SUM('Sheet 1'!F37:F39)","v":{"v":0,"d":"$0.00"}}]
["051210","STRUCTURAL STEEL",{"$nulls":3},{"$f":"SUM('Sheet 1'!F41:F42)","v":{"v":0,"d":"$0.00"}}]
["055000","METAL FABRICATIONS",{"$nulls":3},{"$f":"SUM('Sheet 1'!F44:F45)","v":{"v":0,"d":"$0.00"}}]
["099600","HIGH PERFORMANCE COATINGS",{"$nulls":3},{"$f":"SUM('Sheet 1'!F47:F48)","v":{"v":0,"d":"$0.00"}}]
["101400","SIGNAGE",{"$nulls":3},{"$f":"SUM('Sheet 1'!F50:F52)","v":{"v":0,"d":"$0.00"}}]
["116800","PLAYGROUND AND ATHLETIC EQUIPMENT",{"$nulls":3},{"$f":"SUM('Sheet 1'!F54:F59)","v":{"v":0,"d":"$0.00"}}]
["129300","SITE FURNISHINGS",{"$nulls":3},{"$f":"SUM('Sheet 1'!F61:F64)","v":{"v":0,"d":"$0.00"}}]
["260519","LOW VOLTAGE ELECTRICAL POWER CONDUCTORS AND CABLES",{"$nulls":3},{"$f":"SUM('Sheet 1'!F66:F67)","v":{"v":0,"d":"$0.00"}}]
["260526","GROUNDING & BONDING FOR ELECTRICAL SYSTEMS",{"$nulls":3},{"$f":"SUM('Sheet 1'!F69:F70)","v":{"v":0,"d":"$0.00"}}]
["260533","RACEWAYS & BOXES FOR ELECTRICAL SYSTEMS",{"$nulls":3},{"$f":"SUM('Sheet 1'!F72:F73)","v":{"v":0,"d":"$0.00"}}]
["265600","EXTERIOR LIGHTING",{"$nulls":3},{"$f":"SUM('Sheet 1'!F75:F76)","v":{"v":0,"d":"$0.00"}}]
[321313,"CONCRETE PAVING",{"$nulls":3},{"$f":"SUM('Sheet 1'!F78:F79)","v":{"v":0,"d":"$0.00"}}]
["321816.13","PLAYGROUND PROTECTIVE SURFACING ",{"$nulls":3},{"$f":"SUM('Sheet 1'!F81:F82)","v":{"v":0,"d":"$0.00"}}]
["323119","DECORATIVE METAL FENCES AND GATES",{"$nulls":3},{"$f":"SUM('Sheet 1'!F84:F87)","v":{"v":0,"d":"$0.00"}}]
["329100","PLANTING PREPARATION",{"$nulls":3},{"$f":"SUM('Sheet 1'!F89:F90)","v":{"v":0,"d":"$0.00"}}]
["329113","SOIL PREPARATION (STRUCTURAL SOILS)",{"$nulls":3},{"$f":"SUM('Sheet 1'!F92:F93)","v":{"v":0,"d":"$0.00"}}]
["329300","EXTERIOR PLANTING",{"$nulls":3},{"$f":"SUM('Sheet 1'!F95:F99)","v":{"v":0,"d":"$0.00"}}]
["334000","STORM DRAINAGE",{"$nulls":3},{"$f":"SUM('Sheet 1'!F101:F115)","v":{"v":0,"d":"$0.00"}}]
["SUBTOTAL  PRICE (DOES NOT INCLUDE MOBILIZATION):",{"$nulls":4},{"$f":"SUM(F9:F31)","v":0}]
["Three percent (3%) OF SUBTOTAL PRICE:",{"$nulls":4},{"$f":"F32*0.03","v":{"v":0,"d":"$0.00"}}]
["012000","MOBILIZATION - Shall not to exceed three percent (3%) of the SUBTOTAL PRICE.",{"$nulls":3},{"$f":"F33","v":{"v":0,"d":"$0.00"}}]
["265600","Exterior Lighting",{"$nulls":3},{"$f":"SUM('Sheet 1'!F118:F119)","v":{"v":0,"d":"$0.00"}}]
["131105","EPS Geofoam",{"$nulls":3},{"$f":"SUM('Sheet 1'!F122:F123)","v":{"v":0,"d":"$0.00"}}]
["LUMP SUM GRAND TOTAL:",{"$nulls":4},{"$f":"F32+F34+F35+F36","v":0}]