{"text_format":"3","workbook":"xlsx","n_sheets":2,"sheets":["Form 1","Form 2"],"not_rendered":{"defined_names":1},"read":"whole","date_system":"1900"}

{"sheet":"Form 1","index":0,"n_rows":121,"n_cols":6,"rows_kept":121,"merged":[[0,0,0,5],[1,0,1,5],[2,0,2,5],[3,0,3,5],[4,0,4,5],[5,0,5,5],[6,0,6,5],[7,0,7,5],[8,0,8,5],[9,0,9,5],[10,0,10,5],[11,0,11,5],[12,0,12,5],[13,1,13,5],[14,1,14,5],[15,1,15,5],[16,1,16,5],[17,1,17,5],[18,1,18,5],[19,1,19,5],[20,0,20,5],[23,1,23,4],[24,1,24,4],[25,0,26,0],[27,1,27,4],[28,0,29,0],[30,1,30,4],[31,0,32,0],[33,1,33,4],[34,0,37,0],[38,1,38,4],[39,0,44,0],[45,1,45,4],[46,0,47,0],[48,1,48,4],[49,0,50,0],[51,1,51,4],[52,0,55,0],[56,1,56,4],[57,0,60,0],[61,1,61,4],[62,0,66,0],[68,0,69,0],[71,0,72,0],[74,0,75,0],[77,0,79,0],[81,0,82,0],[84,0,87,0],[89,0,90,0],[92,0,93,0],[100,0,105,0],[107,0,120,0]]}
[]
["FORM 1"]
["Towers Park Playground Renovations - Bid Pricing Sheet"]
["21-DPR-ITB-467"]
["FURNISHING ALL LABOR, MATERIALS AND EQUIPMENT FOR THE "]
["PARK IMPROVEMENTS AT TOWERS PARK LOCATED AT 801 S SCOTT ST. IN ARLINGTON, VIRGINIA\t\t\t\t\t"]
["INSTRUCTIONS:"]
["1. Bidders shall complete PINK cells ONLY.  Modifications to any NON-PINK cells void the bid."]
["2. Bidders shall complete QUANTITY for the ITEM listed under each section as applicable.  Bidders shall NOT use the additional line at the end of each section to cover any ITEM already listed. Failure to complete the applicable UNIT COST and the associated QUANTITY voids the bid."]
["3. Bidders are responsible for completing Form 1 and Form 2 in it's entirety."]
["\n4. Bidders shall read and check off each of the statements below to indicate that they have read and fully understand the instructions and what is required. \n"]
[]
["STATEMENTS:"]
[null,"This shall be a LUMP SUM contract. "]
[null,"The lowest responsible bidder shall be identified based on LUMP SUM GRAND TOTAL price shown at the end of the PRICE column on Form 2."]
[null,"Bidders are fully responsible for ensuring that PRICE for each section covers all the work necessary to complete the work as described and shown on the drawings and specifications."]
[null,"The PRICE for Mobilization, Specification Section 012000, shall not exceed 3% of the SUBTOTAL PRICE. Contractor shall enter a LUMP SUM PRICE no greater than 3% of the SUBTOTAL PRICE. Price shall be entered in Form 2."]
[null,"Bidder may, at their discretion, use the blank rows in Form 1 to identify items not listed below but shown on the specifications and the drawings. Any and all information for the blank row shall be entered as a lump sum in Form 1."]
[null,"Unless specified, all sections include, but are not limited to, all materials and installation, per drawings and specifications."]
[null,"Shall any information not be clear, it is the responsibility of the Bidder to request clarification during the allowed time/period."]
[]
["SPECIFICATION SECTION NO.","ITEM DESCRIPTION","UNIT MEASURE","UNIT COST","QUANTITY","PRICE"]
["011000","GENERAL CONDITIONS / PERMITS - Include but not limited to permits such as electrical, plumbing and all other trades necessary to complete the work. Building, LDA and VSMP shall be provided by Arlington County. These shall be excluded.",{"$nulls":3},{"v":0,"d":"$0.00"}]
["012000","MOBILIZATION - Shall not to exceed three percent (3%) of the SUBTOTAL PRICE.",{"$nulls":3},"See \nForm 2"]
["033000","CAST IN PLACE CONCRETE",{"$nulls":3},"See \nForm 2"]
[null,"Cast in Place Concrete","CY",{"v":0,"d":"$0.00"},0,{"$f":"D26*E26","v":{"v":0,"d":"$0.00"}}]
[null,null,"LS",{"v":0,"d":"$0.00"},1,{"v":0,"d":"$0.00"}]
["034819","PRECAST CONCRETE TREADS AND RISERS",{"$nulls":3},"See \nForm 2"]
[null,"Precast Concrete Stair Treads","LF",{"v":0,"d":"$0.00"},0,{"$f":"D29*E29","v":{"v":0,"d":"$0.00"}}]
[null,null,"LS",{"v":0,"d":"$0.00"},1,{"$f":"D30*E30","v":{"v":0,"d":"$0.00"}}]
["055200","METAL FABRICATIONS",{"$nulls":3},"See \nForm 2"]
[null,"Metal Handrail","LF",{"v":0,"d":"$0.00"},0,{"$f":"D32*E32","v":{"v":0,"d":"$0.00"}}]
[null,null,"LS",{"v":0,"d":"$0.00"},1,{"$f":"D33*E33","v":{"v":0,"d":"$0.00"}}]
["101400","SIGNAGE",{"$nulls":3},"See \nForm 2"]
[null,"Rules Sign - Double-sided","EA",{"v":0,"d":"$0.00"},0,{"$f":"D35*E35","v":{"v":0,"d":"$0.00"}}]
[null,"Playground Age-appropriate Signage - double sided","EA",{"v":0,"d":"$0.00"},0,{"v":0,"d":"$0.00"}]
[null,"Reforestation Signage - single sided","EA",{"v":0,"d":"$0.00"},0,{"v":0,"d":"$0.00"}]
[null,null,"LS",{"v":0,"d":"$0.00"},1,{"$f":"D38*E38","v":{"v":0,"d":"$0.00"}}]
["116800","PLAYGROUND EQUIPMENT & STRUCTURES (BRAND NAMES - NO SUBSTITUTIONS ALLOWED)",{"$nulls":3},"See \nForm 2"]
[null,"Jellyfish","EA",{"v":0,"d":"$0.00"},0,{"$f":"D40*E40","v":{"v":0,"d":"$0.00"}}]
[null,"Woodville","EA",{"v":0,"d":"$0.00"},0,{"v":0,"d":"$0.00"}]
[null,"Net Twister","EA",{"v":0,"d":"$0.00"},0,{"v":0,"d":"$0.00"}]
[null,"Swings","EA",{"v":0,"d":"$0.00"},0,{"v":0,"d":"$0.00"}]
[null,"GFRC Rock Climber","EA",{"v":0,"d":"$0.00"},0,{"v":0,"d":"$0.00"}]
[null,null,"LS",{"v":0,"d":"$0.00"},1,{"$f":"D45*E45","v":{"v":0,"d":"$0.00"}}]
["129300","SITE FURNISHINGS",{"$nulls":3},"See \nForm 2"]
[null,"Benches","EA",{"v":0,"d":"$0.00"},0,{"$f":"D47*E47","v":{"v":0,"d":"$0.00"}}]
[null,null,"LS",{"v":0,"d":"$0.00"},1,{"$f":"D48*E48","v":{"v":0,"d":"$0.00"}}]
["311000","SITE CLEARING, PREPARATION, DEMOLITION AND REMOVALS ",{"$nulls":3},"See \nForm 2"]
[null,"Site Clearing, Demolition, and Removals - Includes, but not limited to: mulch playground area, sand box, play equipment, wooden timber walls, benches, asphalt pavement, concrete pavement, asphalt pavement, turf, signage and fencing.","LS",{"v":0,"d":"$0.00"},1,{"$f":"D50*E50","v":{"v":0,"d":"$0.00"}}]
[null,null,"LS",{"v":0,"d":"$0.00"},1,{"$f":"D51*E51","v":{"v":0,"d":"$0.00"}}]
["311300","TREE PROTECTION AND ROOT PRUNING",{"$nulls":3},"See \nForm 2"]
[null,"Trunk/limb protection wrap","EA",{"v":0,"d":"$0.00"},0,{"$f":"D53*E53","v":{"v":0,"d":"$0.00"}}]
[null,"Root Pruning","LF",{"v":0,"d":"$0.00"},0,{"v":0,"d":"$0.00"}]
[null,"Root Protection Matting","SF",{"v":0,"d":"$0.00"},0,{"v":0,"d":"$0.00"}]
[null,null,"LS",{"v":0,"d":"$0.00"},1,{"$f":"D56*E56","v":{"v":0,"d":"$0.00"}}]
["312000","EARTHWORK",{"$nulls":3},"See \nForm 2"]
[null,"Cut to Fill ","CY",{"v":0,"d":"$0.00"},0,{"$f":"D58*E58","v":{"v":0,"d":"$0.00"}}]
[null,"Fill Brought to Site","CY",{"v":0,"d":"$0.00"},0,{"v":0,"d":"$0.00"}]
[null,"Fine Grading ","SF",{"v":0,"d":"$0.00"},0,{"v":0,"d":"$0.00"}]
[null,null,"LS",{"v":0,"d":"$0.00"},1,{"v":0,"d":"$0.00"}]
["312500","TEMPORARY EROSION AND SEDIMENT CONTROL",{"$nulls":3},"See \nForm 2"]
[null,"Stabilized Construction Entrance (Phase 1 & 2)","LS",{"v":0,"d":"$0.00"},1,{"$f":"D63*E63","v":{"v":0,"d":"$0.00"}}]
[null,"Tree/Protection Fence (Phase 1 & 2)","LF",{"v":0,"d":"$0.00"},0,{"v":0,"d":"$0.00"}]
[null,"Inlet Protection (Phase 1 & 2)","EA",{"v":0,"d":"$0.00"},0,{"$f":"D65*E65","v":{"v":0,"d":"$0.00"}}]
[null,"Silt Fence (Phase 1 & 2)","LF",{"v":0,"d":"$0.00"},0,{"v":0,"d":"$0.00"}]
[null,null,"LS",{"v":0,"d":"$0.00"},1,{"v":0,"d":"$0.00"}]
[321313,"CONCRETE PAVEMENT",{"$nulls":3},"See \nForm 2"]
[null,"Reinforced Concrete Pavement Including Turn-Down Edge (where present) and Aggregate Base","SF",{"v":0,"d":"$0.00"},0,{"$f":"D69*E69","v":{"v":0,"d":"$0.00"}}]
[null,null,"LS",{"v":0,"d":"$0.00"},1,{"v":0,"d":"$0.00"}]
["321816","ENGINEERED WOOD FIBER SURFACING",{"$nulls":3},"See \nForm 2"]
[null,"Engineered Wood Fiber Surface System  ","SF",{"v":0,"d":"$0.00"},0,{"$f":"D72*E72","v":{"v":0,"d":"$0.00"}}]
[null,null,"LS",{"v":0,"d":"$0.00"},1,{"v":0,"d":"$0.00"}]
["321817","POURED-IN-PLACE PLAYGROUND SAFETY SURFACING",{"$nulls":3},"See \nForm 2"]
[null,"Poured In Place Playground Surface System ","SF",{"v":0,"d":"$0.00"},0,{"$f":"D75*E75","v":{"v":0,"d":"$0.00"}}]
[null,null,"LS",{"v":0,"d":"$0.00"},1,{"$f":"D76*E76","v":{"v":0,"d":"$0.00"}}]
["321819","FIELDSTONE BOULDERS",{"$nulls":3},"See \nForm 2"]
[null,"Boulders","TON",{"v":0,"d":"$0.00"},0,{"$f":"D78*E78","v":{"v":0,"d":"$0.00"}}]
[null,"Small 10-12\" Boulders for Outlet and Swale","TON",{"v":0,"d":"$0.00"},0,{"$f":"D79*E79","v":{"v":0,"d":"$0.00"}}]
[null,null,"LS",{"v":0,"d":"$0.00"},1,{"$f":"D80*E80","v":{"v":0,"d":"$0.00"}}]
[323113,"CHAIN LINK FENCES & GATES",{"$nulls":3},"See \nForm 2"]
[null,"Chain Link Court Fence (Approx. 6-9 Ft high, match existing)","LF",{"v":0,"d":"$0.00"},0,{"$f":"D82*E82","v":{"v":0,"d":"$0.00"}}]
[null,null,"LS",{"v":0,"d":"$0.00"},1,{"$f":"D83*E83","v":{"v":0,"d":"$0.00"}}]
["323223","SEGMENTAL BLOCK RETAINING WALL",{"$nulls":3},"See \nForm 2"]
[null,"Perimeter Retaining Wall","FACE SF",{"v":0,"d":"$0.00"},0,{"$f":"D85*E85","v":{"v":0,"d":"$0.00"}}]
[null,"Bioretention Wall","FACE SF",{"v":0,"d":"$0.00"},0,{"$f":"D86*E86","v":{"v":0,"d":"$0.00"}}]
[null,"Planter Wall","FACE SF",{"v":0,"d":"$0.00"},0,{"$f":"D87*E87","v":{"v":0,"d":"$0.00"}}]
[null,null,"LS",{"v":0,"d":"$0.00"},1,{"$f":"D88*E88","v":{"v":0,"d":"$0.00"}}]
["329100","PLANTING PREPARATION",{"$nulls":3},"See \nForm 2"]
[null,"Shall include all labor, materials, tools and equipment as required to have topsoil, planting soil mix, soil stabilization, amendments, and mulch applied per the specifications on all areas disturbed by construction to receive plant materials as indicated in the approved plans.","LS",{"v":0,"d":"$0.00"},1,{"$f":"D90*E90","v":{"v":0,"d":"$0.00"}}]
[null,null,"LS",{"v":0,"d":"$0.00"},1,{"$f":"D91*E91","v":{"v":0,"d":"$0.00"}}]
["329113","SOIL PREPARATION (STRUCTURAL SOILS)",{"$nulls":3},"See \nForm 2"]
[null,"Soil Preparation - Structural Soils for Continuous Soil Panels","CY",{"v":0,"d":"$0.00"},0,{"$f":"D93*E93","v":{"v":0,"d":"$0.00"}}]
[null,null,"LS",{"v":0,"d":"$0.00"},1,{"$f":"D94*E94","v":{"v":0,"d":"$0.00"}}]
["329200","SEEDING & SODDING",{"$nulls":3},"See \nForm 2"]
[null,"Seeding & Topsoil for disturbed areas not in reforestation","SF",{"v":0,"d":"$0.00"},0,{"$f":"D96*E96","v":{"v":0,"d":"$0.00"}}]
[null,"Sodding & Topsoil for areas directly adjacent to playground and along street planting only - not to exceed","SF",{"v":0,"d":"$0.00"},0,{"$f":"D97*E97","v":{"v":0,"d":"$0.00"}}]
[null,"Composted Mulch for Tree Preservation Areas and Reforestation ","CY",{"v":0,"d":"$0.00"},0,{"v":0,"d":"$0.00"}]
[null,null,"LS",{"v":0,"d":"$0.00"},1,{"v":0,"d":"$0.00"}]
["329300","EXTERIOR PLANTS",{"$nulls":3},"See \nForm 2"]
[null,"Shrubs - 3 GAL","EA",{"v":0,"d":"$0.00"},0,{"$f":"D101*E101","v":{"v":0,"d":"$0.00"}}]
[null,"Perennials/Groundcovers/Grasses - 1 QT","EA",{"v":0,"d":"$0.00"},0,{"$f":"D102*E102","v":{"v":0,"d":"$0.00"}}]
[null,"Meadow Seed Mix - Reforestation Only","LS",{"v":0,"d":"$0.00"},1,{"v":0,"d":"$0.00"}]
[null,"Trees - Ornamental (7-8', 2\" CAL)","EA",{"v":0,"d":"$0.00"},0,{"v":0,"d":"$0.00"}]
[null,"Trees - Overstory (2-2.5\" CAL)","EA",{"v":0,"d":"$0.00"},0,{"v":0,"d":"$0.00"}]
[null,null,"LS",{"v":0,"d":"$0.00"},1,{"$f":"D106*E106","v":{"v":0,"d":"$0.00"}}]
["334000","STORM DRAINAGE",{"$nulls":3},"See \nForm 2"]
[null,"2\" Deep Mulch Layer","CY",{"v":0,"d":"$0.00"},0,{"$f":"D108*E108","v":{"v":0,"d":"$0.00"}}]
[null,"4\" Perforated Sch. 40 PVC","LF",{"v":0,"d":"$0.00"},0,{"$f":"D109*E109","v":{"v":0,"d":"$0.00"}}]
[null,"4\" Solid Sch. 40 PVC","LF",{"v":0,"d":"$0.00"},0,{"$f":"D110*E110","v":{"v":0,"d":"$0.00"}}]
[null,"4\" Sch. 40 PVC Tee","EA",{"v":0,"d":"$0.00"},0,{"$f":"D111*E111","v":{"v":0,"d":"$0.00"}}]
[null,"4\" Sch. 40 PVC Wye","EA",{"v":0,"d":"$0.00"},0,{"$f":"D112*E112","v":{"v":0,"d":"$0.00"}}]
[null,"4\" Sch. 40 PVC Coupler","EA",{"v":0,"d":"$0.00"},0,{"$f":"D113*E113","v":{"v":0,"d":"$0.00"}}]
[null,"4\" Sch. 40 PVC End Cap","EA",{"v":0,"d":"$0.00"},0,{"$f":"D114*E114","v":{"v":0,"d":"$0.00"}}]
[null,"Cleanouts in soil","EA",{"v":0,"d":"$0.00"},0,{"$f":"D115*E115","v":{"v":0,"d":"$0.00"}}]
[null,"#8 Choker Stone","CY",{"v":0,"d":"$0.00"},0,{"$f":"D116*E116","v":{"v":0,"d":"$0.00"}}]
[null,"Washed Graded #57 Aggregate","CY",{"v":0,"d":"$0.00"},0,{"$f":"D117*E117","v":{"v":0,"d":"$0.00"}}]
[null,"Filter Media","CY",{"v":0,"d":"$0.00"},0,{"$f":"D118*E118","v":{"v":0,"d":"$0.00"}}]
[null,"River Gravel (Flow Protection)","TON",{"v":0,"d":"$0.00"},0,{"$f":"D119*E119","v":{"v":0,"d":"$0.00"}}]
[null,"PVC Geomembrane Liner (Sides and above underdrain 2' to each side)","SF",{"v":0,"d":"$0.00"},0,{"$f":"D120*E120","v":{"v":0,"d":"$0.00"}}]
[null,null,"LS",{"v":0,"d":"$0.00"},1,{"$f":"D121*E121","v":{"v":0,"d":"$0.00"}}]

{"sheet":"Form 2","index":1,"n_rows":36,"n_cols":3,"rows_kept":36,"merged":[[0,0,0,2],[1,0,1,2],[2,0,2,2],[3,0,3,2],[4,0,4,2],[5,0,5,2],[6,0,6,2]]}
[]
["Form 2"]
[{"$f":"'Form 1'!A3:F3","v":"Towers Park Playground Renovations - Bid Pricing Sheet"}]
[{"$f":"'Form 1'!A4:F4","v":"21-DPR-ITB-467"}]
[{"$f":"'Form 1'!A5:F5","v":"FURNISHING ALL LABOR, MATERIALS AND EQUIPMENT FOR THE "}]
[{"$f":"'Form 1'!A6:F6","v":"PARK IMPROVEMENTS AT TOWERS PARK LOCATED AT 801 S SCOTT ST. IN ARLINGTON, VIRGINIA\t\t\t\t\t"}]
[]
[{"$f":"'Form 1'!A22","v":"SPECIFICATION SECTION NO."},{"$f":"'Form 1'!B22","v":"ITEM DESCRIPTION"},{"$f":"'Form 1'!F22","v":"PRICE"}]
[{"$f":"'Form 1'!A23","v":"011000"},{"$f":"'Form 1'!B23","v":"GENERAL CONDITIONS / PERMITS - Include but not limited to permits such as electrical, plumbing and all other trades necessary to complete the work. Building, LDA and VSMP shall be provided by Arlington County. These shall be excluded."},{"$f":"'Form 1'!F23","v":{"v":0,"d":"$0.00"}}]
[{"$f":"'Form 1'!A24","v":"012000"},{"$f":"'Form 1'!B24","v":"MOBILIZATION - Shall not to exceed three percent (3%) of the SUBTOTAL PRICE."},"See Below"]
[{"$f":"'Form 1'!A25","v":"033000"},{"$f":"'Form 1'!B25","v":"CAST IN PLACE CONCRETE"},{"$f":"SUM('Form 1'!F26:F27)","v":{"v":0,"d":"$0.00"}}]
[{"$f":"'Form 1'!A28","v":"034819"},{"$f":"'Form 1'!B28","v":"PRECAST CONCRETE TREADS AND RISERS"},{"$f":"SUM('Form 1'!F29:F30)","v":{"v":0,"d":"$0.00"}}]
[{"$f":"'Form 1'!A31","v":"055200"},{"$f":"'Form 1'!B31","v":"METAL FABRICATIONS"},{"$f":"SUM('Form 1'!F32:F33)","v":{"v":0,"d":"$0.00"}}]
[{"$f":"'Form 1'!A34","v":"101400"},{"$f":"'Form 1'!B34","v":"SIGNAGE"},{"$f":"SUM('Form 1'!F35:F38)","v":{"v":0,"d":"$0.00"}}]
[{"$f":"'Form 1'!A39","v":"116800"},{"$f":"'Form 1'!B39","v":"PLAYGROUND EQUIPMENT & STRUCTURES (BRAND NAMES - NO SUBSTITUTIONS ALLOWED)"},{"$f":"SUM('Form 1'!F40:F45)","v":{"v":0,"d":"$0.00"}}]
[{"$f":"'Form 1'!A46","v":"129300"},{"$f":"'Form 1'!B46","v":"SITE FURNISHINGS"},{"$f":"SUM('Form 1'!F47:F48)","v":{"v":0,"d":"$0.00"}}]
[{"$f":"'Form 1'!A49","v":"311000"},{"$f":"'Form 1'!B49","v":"SITE CLEARING, PREPARATION, DEMOLITION AND REMOVALS "},{"$f":"SUM('Form 1'!F50:F51)","v":{"v":0,"d":"$0.00"}}]
[{"$f":"'Form 1'!A52","v":"311300"},{"$f":"'Form 1'!B52","v":"TREE PROTECTION AND ROOT PRUNING"},{"$f":"SUM('Form 1'!F53:F56)","v":{"v":0,"d":"$0.00"}}]
[{"$f":"'Form 1'!A57","v":"312000"},{"$f":"'Form 1'!B57","v":"EARTHWORK"},{"$f":"SUM('Form 1'!F58:F61)","v":{"v":0,"d":"$0.00"}}]
[{"$f":"'Form 1'!A62","v":"312500"},{"$f":"'Form 1'!B62","v":"TEMPORARY EROSION AND SEDIMENT CONTROL"},{"$f":"SUM('Form 1'!F63:F67)","v":{"v":0,"d":"$0.00"}}]
[{"$f":"'Form 1'!A68","v":321313},{"$f":"'Form 1'!B68","v":"CONCRETE PAVEMENT"},{"$f":"SUM('Form 1'!F69:F70)","v":{"v":0,"d":"$0.00"}}]
[{"$f":"'Form 1'!A71","v":"321816"},{"$f":"'Form 1'!B71","v":"ENGINEERED WOOD FIBER SURFACING"},{"$f":"SUM('Form 1'!F72:F73)","v":{"v":0,"d":"$0.00"}}]
[{"$f":"'Form 1'!A74","v":"321817"},{"$f":"'Form 1'!B74","v":"POURED-IN-PLACE PLAYGROUND SAFETY SURFACING"},{"$f":"SUM('Form 1'!F75:F76)","v":{"v":0,"d":"$0.00"}}]
[{"$f":"'Form 1'!A77","v":"321819"},{"$f":"'Form 1'!B77","v":"FIELDSTONE BOULDERS"},{"$f":"SUM('Form 1'!F78:F80)","v":{"v":0,"d":"$0.00"}}]
[{"$f":"'Form 1'!A81","v":323113},{"$f":"'Form 1'!B81","v":"CHAIN LINK FENCES & GATES"},{"$f":"SUM('Form 1'!F82:F83)","v":{"v":0,"d":"$0.00"}}]
[{"$f":"'Form 1'!A84","v":"323223"},{"$f":"'Form 1'!B84","v":"SEGMENTAL BLOCK RETAINING WALL"},{"$f":"SUM('Form 1'!F85:F88)","v":{"v":0,"d":"$0.00"}}]
[{"$f":"'Form 1'!A89","v":"329100"},{"$f":"'Form 1'!B89","v":"PLANTING PREPARATION"},{"$f":"SUM('Form 1'!F90:F91)","v":{"v":0,"d":"$0.00"}}]
[{"$f":"'Form 1'!A92","v":"329113"},{"$f":"'Form 1'!B92","v":"SOIL PREPARATION (STRUCTURAL SOILS)"},{"$f":"SUM('Form 1'!F93:F94)","v":{"v":0,"d":"$0.00"}}]
[{"$f":"'Form 1'!A95","v":"329200"},{"$f":"'Form 1'!B95","v":"SEEDING & SODDING"},{"$f":"SUM('Form 1'!F96:F99)","v":{"v":0,"d":"$0.00"}}]
[{"$f":"'Form 1'!A100","v":"329300"},{"$f":"'Form 1'!B100","v":"EXTERIOR PLANTS"},{"$f":"SUM('Form 1'!F101:F106)","v":{"v":0,"d":"$0.00"}}]
[{"$f":"'Form 1'!A107","v":"334000"},{"$f":"'Form 1'!B107","v":"STORM DRAINAGE"},{"$f":"SUM('Form 1'!F108:F121)","v":{"v":0,"d":"$0.00"}}]
[]
[null,"SUBTOTAL  PRICE (DOES NOT INCLUDE MOBILIZATION)",{"$f":"SUM(C9,C11,C12,C13,C14,C15,C16,C17,C18,C19,C20,C21,C22,C23,C24,C25,C26,C27,C28,C29,C30,C31)","v":{"v":0,"d":"$0.00"}}]
[{"$f":"'Form 1'!A24","v":"012000"},{"$f":"'Form 1'!B24:E24","v":"MOBILIZATION - Shall not to exceed three percent (3%) of the SUBTOTAL PRICE."},{"v":0,"d":"$0.00"}]
[]
[null,"BASE LUMP SUM GRAND TOTAL:",{"$f":"SUM(C33:C34)","v":{"v":0,"d":"$0.00"}}]